{"text_format":"1","workbook":"xlsx","n_sheets":13,"sheets":["Formato","Glosario","Ayuda CIIU","Ayuda Material","Ayuda GEO","Preguntas Frecuentes","TipoBien","Lista_Ubigeo","Matriz_Ubi","Matriz_Mat","Matriz_Pisos","Lista","DatosInfo"],"not_rendered":{"charts":0,"images":16,"macros":1,"external_links":1,"defined_names":306,"comments":1,"pivot_tables":0},"unopened":[],"bounds":{"document_bytes":16777216,"sheet_cells":100000,"rows_first":2000,"rows_last":500,"rows_between":2000,"halvings":0,"cell_chars":16384,"cell_head_chars":4096},"cells_cut":0,"cells_raw":0,"read":"whole","date_system":"1900"}

{"sheet":"Formato","index":0,"n_rows":14,"n_cols":53,"rows_kept":14,"cut":false,"hidden":false,"merged":[[2,36,2,48],[4,3,4,4],[7,47,8,47],[11,36,11,49],[11,25,11,35],[3,3,3,13],[11,2,11,23]]}
[]
[null,null,null,null,null,null,false,null,null,null,null,null,null,null,null,null,null,null,null,"Versión 2.0"]
[null,null,null,null,"Resolución S.B.S N° 3661-2021",null,null,null,null,null,null,null,null,null,null,null,null,null,null,null,null,null,null,null,null,null,null,null,null,null,null,null,null,null,null,null,"Total General Valor declarado"]
[null,null,null,"Detalle de Ubicaciones de Bienes Asegurables por Inmueble (DUBAI)",null,null,null,null,null,null,null,null,null,null,null,null,null,null,null,null,null,null,null,null,null,null,null,null,null,null,null,null,null,null,null,null,{"$f":"Formato!$AK$13","v":"Edificación\n(excluyendo el valor del terreno)"},{"$f":"Formato!$AL$13","v":"SELECCIONAR OTRO (OPCIONAL)"},{"$f":"Formato!$AM$13","v":"Total Edificación"},{"$f":"Formato!$AN$13","v":"Existencias"},{"$f":"Formato!$AO$13","v":"Equipos Electrónicos"},{"$f":"Formato!$AP$13","v":"Maquinaria Fija"},{"$f":"Formato!$AQ$13","v":"Maquinaria y equipo móvil"},{"$f":"Formato!$AR$13","v":"Contenido en general"},{"$f":"Formato!$AS$13","v":"SELECCIONAR OTRO (OPCIONAL)"},{"$f":"Formato!$AT$13","v":"Total Contenido"},{"$f":"Formato!$AU$13","v":"Beneficio Bruto (margen de contribución)"},{"$f":"Formato!$AV$13","v":"Total Lucro Cesante"},{"$f":"Formato!$AW$13","v":"VALOR DECLARADO TOTAL\n(Edificación + Contenido + Lucro Cesante)"}]
[null,null,null,null,null,null,null,null,null,null,null,null,null,null,null,null,null,null,null,null,null,null,null,null,null,null,null,null,null,null,null,null,null,null,null,null,{"$f":"SUM(Formato!AK14:AK14)","v":0},{"$f":"SUM(Formato!AL14:AL14)","v":0},{"$f":"SUM(Formato!AM14:AM14)","v":0},{"$f":"SUM(Formato!AN14:AN14)","v":0},{"$f":"SUM(Formato!AO14:AO14)","v":0},{"$f":"SUM(Formato!AP14:AP14)","v":0},{"$f":"SUM(Formato!AQ14:AQ14)","v":0},{"$f":"SUM(Formato!AR14:AR14)","v":0},{"$f":"SUM(Formato!AS14:AS14)","v":0},{"$f":"SUM(Formato!AT14:AT14)","v":0},{"$f":"SUM(Formato!AU14:AU14)","v":0},{"$f":"SUM(Formato!AV14:AV14)","v":0},{"$f":"SUM(Formato!AW14:AW14)","v":0}]
[]
[null,null,null,"Tipo de documento:",null,"S"]
[null,null,null,"Número de Documento:",null,null,null,null,null,null,null,null,null,null,null,null,null,null,null,null,null,null,null,null,null,null,null,null,null,null,null,null,null,null,null,null,null,null,null,null,null,null,null,null,null,null,null,"Período  correspondiente al valor declarado de Lucro"]
[null,null,null,"Nombre/ Razón Social:"]
[null,null,null,"Moneda:",null,null,"nro de locales:",1]
[null,null,null,null,null,null,null,null,null,null,null,null,null,null,null,null,null,null,null,null,null,null,null,null,null,{"$f":"SEARCH(\"Otros Otros\",#REF!,1)","v":{"$error":"#REF!"}}]
[null,null,"Dirección del riesgo",null,null,null,null,null,null,null,null,null,null,null,null,null,null,null,null,null,null,null,null,null,null,"Características del Inmueble asegurado",null,null,null,null,null,null,null,null,null,null,"Valores declarados"]
[null,null,"N°","Tipo de calle/vía","Nombre de calle/vía","Número","Tipo Interior","Interior","Mz","Lote","KM","Tipo Conjunto Habitacional","Nombre del Conjunto Habitacional","Subdivisión del Conjunto Habitacional","Nombre de Subdivisión del Conjunto Habitacional","Referencia","País","Departamento/Región","Provincia","Distrito","Ubigeo","Latitud (x)","Longitud (y)","Registro Válido","Año de construcción","Año de reforzamiento estructural","Tipo de material de construcción predominante \n(TEP)","Tipo de Estructura Especial \n(TEE)","Número de Pisos de la edificación","Número de Sotanos de la edificación","Tipo de Bien asegurado","Tipo de uso\n(USO)","Giro del inmueble","Cód. CIIU\nde la Empresa o Actividad","Descripción CIIU","Registro Válido","Edificación\n(excluyendo el valor del terreno)","SELECCIONAR OTRO (OPCIONAL)","Total Edificación","Existencias","Equipos Electrónicos","Maquinaria Fija","Maquinaria y equipo móvil","Contenido en general","SELECCIONAR OTRO (OPCIONAL)","Total Contenido","Beneficio Bruto (margen de contribución)","Total Lucro Cesante","VALOR DECLARADO TOTAL\n(Edificación + Contenido + Lucro Cesante)","Registro Válido VD","Observaciones Adicionales"]
[null,null,1,null,null,null,null,null,null,null,null,null,null,null,null,null,"PERU",null,null,null,{"$f":"IF(Q14=\"\",\"\",(IF(Q14<>\"PERU\",\"No Aplica\", IF(Formato!$R14<>\"\",IFERROR(VLOOKUP(Q14&R14&S14&T14,Lista_Ubigeo!L:M,2,0),\" \"),\"\"))))","v":""},{"$f":"IFERROR(IF(AND(BA14<>\"\",IFERROR(SEARCH(\"Otros Otros\",BA14,1),0)=0),ROUND(busquedalats(BA14),12),\"\"),\"No Aplica\")","v":""},{"$f":"IFERROR( IF(AND(BA14<>\"\",IFERROR(SEARCH(\"Otros Otros\",BA14,1),0)=0),ROUND(busquedalons(BA14),12),\"\"),\"No Aplica\")","v":""},{"$f":"IF(COUNTA(Formato!$D14:$W14)>3,IF(Formato!$U14=\" \",0,1)+IF(Formato!$D14<>\"\",1,0)+IF(Formato!$Q14<>\"\",1,0)+IF(Formato!$R14<>\"\",1,0)+IF(Formato!$S14<>\"\",1,0)+IF(Formato!$T14<>\"\",1,0)+IF(AND(D14<>\"Sin Tipo\",E14=\"\"),-1,0)+IF(AND(G14<>\"\",H14=\"\"),-1,0)+IF(AND(G14=\"\",H14<>\"\"),-1,0)+IF(AND(L14=\"\",M14<>\"\"),-1,0)+IF(AND(L14<>\"\",M14=\"\"),-1,0)+IF(AND(N14=\"\",O14<>\"\"),-1,0)+IF(AND(N14<>\"\",O14=\"\"),-1,0),\"\")","v":1},null,null,null,null,null,null,null,null,null,null,{"$f":"IFERROR(VLOOKUP(AH14,Lista!H:I,2,0),\"\")","v":""},{"$f":"IF(COUNTA(Formato!$Y14:$AI14)>2,IF(Formato!$Y14<>\"\",1,0)+IF(Formato!$AA14<>\"\",1,0)+IF(Formato!$AC14<>\"\",1,0)+IF(Formato!$AD14<>\"\",1,0)+IF(Formato!$AF14<>\"\",1,0)\n+IF(Formato!$AH14<>\"\",1,0)+IF(Formato!$AE14<>\"\",1,0)+IFERROR(VLOOKUP(Formato!$AA14&Formato!$AC14,Matriz_Pisos!U:V,2,0)+VLOOKUP(Formato!$AA14&Formato!$AD14,Matriz_Pisos!Z:AA,2,0)+VLOOKUP(Formato!$AA14&MID(Formato!$AF14,4,LEN(Formato!$AF14)-3),Matriz_Pisos!AD:AE,2,0),0),\"\")","v":""},null,null,{"$f":"SUM(Formato!$AK14:$AL14)","v":0},0,0,0,0,0,null,{"$f":"SUM(Formato!$AN14:$AS14)","v":0},0,{"$f":"Formato!$AU14","v":0},{"$f":"AM14+AT14+Formato!$AV14","v":0},{"$f":"IF(AJ14=0,\"\",IF(AND(Formato!$AW14>0,Formato!$AW14>Formato!$AV14),1,-1)+IF(AND($AL$13=\"SELECCIONAR OTRO (OPCIONAL)\",AL14<>0),-2,0)+IF(AND($AS$13=\"SELECCIONAR OTRO (OPCIONAL)\",AS14<>0),-2,0))","v":-1},null,null,{"$f":"IF(AND(Formato!$T14<>\"\",Formato!$R14<>\"\",Formato!$S14<>\"\",Formato!$Q14<>\"\"),TRIM(CONCATENATE(Formato!$E14,\" \",Formato!$F14,\" \",Formato!$L14,\" \",Formato!$M14,\" \",Formato!$N14,\" \",Formato!$O14,\" \",IF(Formato!$I14<>\"\",\"Mz \"&Formato!$I14,\"\"),\" \",IF(Formato!$J14<>\"\",\"Lote \"&Formato!$J14,\"\"),\" \",IF(Formato!$K14<>\"\",\"Km \"&Formato!$K14,\"\"),\" \",Formato!$T14,\" \",Formato!$S14,\" \",Formato!$R14,\" \",Formato!$Q14)),\"\")","v":""}]

{"sheet":"Glosario","index":1,"n_rows":51,"n_cols":7,"rows_kept":51,"cut":false,"hidden":false,"merged":[[2,1,22,1],[23,1,34,1],[35,1,49,1]]}
[]
[null,"Sección ","Nombre de Campo","#","Tipo de Campo","Llenado de Campo","Descripción de campo"]
[null,"Dirección de riesgo","Tipo de calle/vía",1,"Obligatorio","Elegir opciones del desglosable","Elegir el tipo de calle/vía en el desglosable de opciones, si no tuviera un tipo de calle/vía marcar \"sin tipo\" y completar los demás campos de dirección."]
[null,null,"Nombre de calle/vía",2,"Obligatorio","Alfanumérico (digitación)","Escribir el nombre del tipo de calle/vía elegido, si no tuviera un tipo de calle/vía escribir el nombre de la zona referencial y completar los demás campos de dirección de tener la información."]
[null,null,"Número",3,"Opcional","Numérico (digitación)","Escribir el número de calle/vía elegido. Si no tuviera, dejar en blanco."]
[null,null,"Tipo Interior",4,"Opcional","Elegir opciones del desglosable","Elegir un tipo de interior en el desglosable de opciones, de no tenerlo puede quedar en blanco."]
[null,null,"Interior",5,"Opcional","Alfanumérico (digitación)","Si se eligió un tipo de interior, escribir el tipo o número de interior que corresponda. Puede quedar en blanco si no se eligió algún tipo de interior."]
[null,null,"Mz",6,"Opcional","Alfanumérico (digitación)","Escribir el número/letra de la manzana de la dirección, de no tenerlo puede quedar en blanco."]
[null,null,"Lote",7,"Opcional","Alfanumérico (digitación)","Escribir el número/letra del lote de la dirección, de no tenerlo puede quedar en blanco."]
[null,null,"KM",8,"Opcional","Numérico (digitación)","Escribir el número del kilómetro de la dirección, de no tenerlo puede quedar en blanco."]
[null,null,"Tipo Conjunto Habitacional",9,"Opcional","Elegir opciones del desglosable","Elegir un tipo de conjunto habitacional en el desglosable de opciones, de no tenerlo puede quedar en blanco."]
[null,null,"Nombre del Conjunto Habitacional",10,"Opcional","Alfanumérico (digitación)","Si se eligió un tipo de conjunto habitacional, escribir el nombre que corresponda. Puede quedar en blanco si no se eligió algún tipo de conjunto habitacional."]
[null,null,"Subdivisión del Conjunto Habitacional",11,"Opcional","Elegir opciones del desglosable","Elegir un tipo de subdivisión de conjunto habitacional en el desglosable de opciones, de no tenerlo puede quedar en blanco."]
[null,null,"Nombre de Subdivisión del Conjunto Habitacional",12,"Opcional","Alfanumérico (digitación)","Si se eligió un tipo de subdivisión de conjunto habitacional, escribir el nombre de la subdivisión que corresponda. Puede quedar en blanco si no se eligió algún tipo de subdivisión."]
[null,null,"Referencia",13,"Opcional","Alfanumérico (digitación)","Escribir una referencia para llegar a la dirección indicada. De no tener una referencia puede quedar en blanco."]
[null,null,"País",14,"Obligatorio","Elegir opciones del desglosable","Elegir el país de la dirección. Perú aparecerá como primera opción."]
[null,null,"Departamento",15,"Obligatorio","Elegir opciones del desglosable","Elegir el departamento del Perú donde se ubica dirección según el desglosable de opciones. Si se eligió un país diferente a Perú, el campo se autocompletará con \"No aplica\"."]
[null,null,"Provincia",16,"Obligatorio","Elegir opciones del desglosable","Elegir la provincia del departamento elegido, donde se ubica dirección registrada, según el desglosable de opciones. Si se eligió un país diferente a Perú, el campo se autocompletará con \"No aplica\"."]
[null,null,"Distrito",17,"Obligatorio","Elegir opciones del desglosable","Elegir el distrito de la provincia elegida, donde se ubica dirección registrada, según el desglosable de opciones. Si se eligió un país diferente a Perú, el campo se autocompletará con \"No aplica\"."]
[null,null,"Ubigeo",18,"-","No editable","Este campo se autocompleta una vez se selecciona el país / departamento / provincia / distrito de la dirección. Si se marca en rojo deben corregirse los campos antes mencionados. Si se eligió un país diferente a Perú, el campo se autocompletará con \"No aplica\"."]
[null,null,"Latitud (x)",19,"-","No editable","Este campo se autocompleta una vez ingresada la dirección / país: Perú / departamento / provincia / distrito de la ubicación declarada. Es un número negativo (inicia con el signo menos \"-\") entre 0 y -20 según mapa Perú. Si se eligió un país diferente a Perú, el campo se autocompletará con \"No aplica\"."]
[null,null,"Longitud (y)",20,"-","No editable","Este campo se autocompleta una vez ingresada la dirección / país: Perú / departamento / provincia / distrito de la ubicación declarada. Es un número negativo (inicia con el signo menos \"-\") entre 0 y -20 según mapa Perú. Si se eligió un país diferente a Perú, el campo se autocompletará con \"No aplica\"."]
[null,null,"Registro Válido",21,"-","No editable","Mostrará un check (✓) verde al haber completado  y al ser consistente la información de la primera sección: \"Detalle de dirección de riesgo\", caso contrario mostrará una equis (X) y debe ser revisada."]
[null,"Características del Inmueble asegurado","Año de construcción de la edificación",22,"Obligatorio","Numérico (digitación)","Digitar el año de construcción del inmueble con cuatro dígitos \"xxxx\" desde 1500 a la fecha."]
[null,null,"Año de reforzamiento estructural",23,"Opcional","Numérico (digitación)","Digitar el año de reforzamiento estructural del inmueble en cuatro dígitos \"xxxx\" y remitir una copia del informe a la aseguradora."]
[null,null,"Tipo de material de construcción predominante (TEP)",24,"Obligatorio","Elegir opciones del desglosable","Elegir el tipo de material predominante de la construcción del inmueble, elegir solo uno. Revisar la Tabla Material de construcción para un buen llenado.\nSi corresponde a una estructura especial, seleccionar la opción 12 y luego especificar tipo de estructura en el campo N°24 del glosario)"]
[null,null,"Tipo de Estructura Especial (TEE)",25,"Obligatorio","Elegir opciones del desglosable","Seleccionar el tipo de estructura especial del desglosable de opciones siempre y cuando se haya marcado la opción 12.0EE como material de construcción predominante. De no se el caso, este campo se autocompletará con \"No aplica\"."]
[null,null,"Número de pisos de la edificación",26,"Obligatorio","Elegir opciones del desglosable","Elegir el número de pisos total de la edificación del inmueble en las opciones del desglosable. Las opciones disponibles varían según el material de construcción predominante."]
[null,null,"Número de sótanos de la edificación",27,"Obligatorio","Elegir opciones del desglosable","Elegir el número de sótanos total de la edificación del inmueble en las opciones del desglosable. Las opciones disponibles varían según el material de construcción predominante."]
[null,null,"Tipo de bien asegurado",28,"Obligatorio","Elegir opciones del desglosable","Elegir el tipo de propiedad del inmueble, si es de propiedad pública o privada (dos opciones)."]
[null,null,"Tipo de uso\n(USO)",29,"Obligatorio","Elegir opciones del desglosable","Elegir el tipo de uso que mejor se adapte al uso del inmueble entre las opciones del desglosable."]
[null,null,"Giro del inmueble",30,"Obligatorio","Elegir opciones del desglosable","Seleccionar el giro de inmueble que mejor se adapte, las opciones varían según el tipo de uso seleccionado en el campo N°28 del glosario."]
[null,null,"Cód. CIIU",31,"Obligatorio","Elegir opciones del desglosable","Digitar o elegir entre las opciones del desglosable el código CIIU del inmueble declarado. Para saber cual es el código a elegir, revisar la tabla CIIU con el detalle de las actividades económicas SUNAT."]
[null,null,"Descripción CIIU",32,"-","No editable","Este campo se autocompleta una vez se selecciona el código CIIU."]
[null,null,"Registro Válido",33,"-","No editable","Mostrará un check (✓) verde al haber completado  y al ser consistente la información de la segunda sección: \"Características del Inmueble asegurado\", caso contrario mostrará una equis (X) y debe ser revisada."]
[null,"Valores Declarados","Edificación\n(excluyendo el valor del terreno)",34,"Obligatorio","Numérico (digitación)","Digitar el valor declarado de la edificación, de no asegurar edificación dejar en blanco."]
[null,null,"Seleccionar otro valor de edificación (opcional)",35,"Opcional \n(oculto)","Numérico (digitación)","Campo disponible para ingresar mayor detalle del valor de edificación solo de ser necesario. Se activa con el (+) en la parte superior de la columna de edificación. No activarlo de no ser necesario e ingresar toda la información de edificación en el campo N°33 del glosario."]
[null,null,"Total Edificación",36,"-","No editable","Se autocompleta con el campo N° 33  + 34 (Valor edificación + \"otro valor edificación\" de ser el caso)."]
[null,null,"Existencias",37,"Opcional","Numérico (digitación)","Digitar el valor declarado de las existencias. De no asegurar existencias dejar en blanco."]
[null,null,"Equipos Electrónicos",38,"Opcional","Numérico (digitación)","Digitar el valor declarado de equipos electrónicos. De no asegurar equipos electrónicos dejar en blanco."]
[null,null,"Maquinaria Fija",39,"Opcional","Numérico (digitación)","Digitar el valor declarado de la maquinaria fija. De no asegurar maquinaria fija dejar en blanco."]
[null,null,"Maquinaria móvil y equipos",40,"Opcional","Numérico (digitación)","Digitar el valor declarado de la maquinaria móvil y equipos. De no asegurar maquinaria móvil y equipos dejar en blanco."]
[null,null,"Contenido en general",41,"Opcional","Numérico (digitación)","Digitar el valor declarado de contenido el general. De no asegurar contenido en general dejar en blanco."]
[null,null,"Seleccionar otro valor de contenido (opcional)",42,"Opcional \n(oculto)","Numérico (digitación)","Campo disponible para ingresar mayor detalle del valor de contenido solo de ser necesario. Se activa con el (+) en la parte superior de la columna de edificación. No activarlo de no ser necesario e ingresar toda la información de edificación en el campo N°33 del glosario."]
[null,null,"Total Contenido",43,"-","No editable","Se autocompleta Con la suma de los campos N° 36 + 37 + 38 + 39 + 40 +41 (Existencias + equipo electrónico + Maquinaria fija + maquinaria móvil y equipos + contenido en general + \"otro valor contenido\" de ser el caso )"]
[null,null,"Gastos estables / beneficio bruto",44,"Opcional","Numérico (digitación)","Digitar el valor declarado de Lucro Cesante. Se puede elegir entre \"gastos estables\" o \"beneficio bruto\" en título de la columna (desglosable de opciones)."]
[null,null,"Periodo correspondiente al valor declarado de lucro al final",45,null,"Elegir opciones del desglosable.","Seleccionar el periodo al que corresponde el valor declarado de lucro cesante, puede ser 12, 18 o 24 meses según sea el caso."]
[null,null,"Total Lucro Cesante",46,"-","No editable","Se autocompleta con el campo N° 43 (Lucro Cesante)."]
[null,null,"VALOR DECLARADO TOTAL\n(Edificación + Contenido + Lucro Cesante)",47,"-","No editable","Se autocompleta Con la suma de los campos N° 35 + 42 + 44 (Total Edificación + Total Contenido + Total Lucro Cesante)"]
[null,null,"Registro Válido VD",48,"-","No editable","Mostrará un check (✓) verde al haber completado  y al ser consistente la información de la tercera sección: \"Detalle de dirección de riesgo\", caso contrario mostrará una equis (X) y debe ser revisada."]
[null,null,"Observaciones adicionales",49,"Opcional","Alfanumérico (digitación)","Campo disponible para ingresar información adicional relevante de la ubicación (Por ejemplo: Nombre de empresa, sucursal, etc.)."]

{"sheet":"Ayuda CIIU","index":2,"n_rows":421,"n_cols":3,"rows_kept":421,"cut":false,"hidden":false,"merged":[[1,1,1,2]]}
[]
[null,"TABLA DE ACTIVIDADES ECONOMICAS CON LA CIIU REV. 4.0"]
[]
[null,"CIIU Rev.4","DESCRIPCION"]
[null,111,"CULTIVO DE CEREALES (EXCEPTO ARROZ), LEGUMBRES Y SEMILLAS OLEAGINOSAS"]
[null,112,"CULTIVO DE ARROZ"]
[null,113,"CULTIVO DE HORTALIZAS Y MELONES, RAÍCES Y TUBÉRCULOS."]
[null,114,"CULTIVO DE CAÑA DE AZÚCAR"]
[null,115,"CULTIVO DE TABACO"]
[null,116,"CULTIVO DE PLANTAS DE FIBRA"]
[null,119,"CULTIVO DE OTRAS PLANTAS NO PERENNES"]
[null,121,"CULTIVO DE UVA"]
[null,122,"CULTIVO DE FRUTAS TROPICALES Y SUBTROPICALES"]
[null,123,"CULTIVO DE  CÍTRICOS"]
[null,124,"CULTIVO DE FRUTAS DE PEPITA Y DE HUESO"]
[null,125,"CULTIVO DE OTROS FRUTOS Y NUECES DE ÁRBOLES Y ARBUSTOS "]
[null,126,"CULTIVO DE FRUTOS OLEAGINOSOS"]
[null,127,"CULTIVO DE PLANTAS CON LAS QUE SE PREPARAN BEBIDAS"]
[null,128,"CULTIVO DE ESPECIAS Y DE PLANTAS AROMÁTICAS, MEDICINALES Y FARMACEUTICAS"]
[null,129,"CULTIVO DE OTRAS PLANTAS NO PERENNES"]
[null,130,"PROPAGACIÓN DE PLANTAS"]
[null,141,"CRÍA DE GANADO BOVINO Y BÚFALOS"]
[null,142,"CRÍA DE CABALLOS Y OTROS EQUINOS"]
[null,143,"CRÍA DE CAMELLOS Y OTROS CAMÉLIDOS"]
[null,144,"CRÍA DE OVEJAS Y CABRAS"]
[null,145,"CRÍA DE CERDOS"]
[null,146,"CRÍA DE AVES DE CORRAL"]
[null,149,"CRÍA DE OTROS ANIMALES"]
[null,150,"CULTIVO DE PRODUCTOS AGRÌCOLAS EN COMBINACIÒN CON LA CRÌA DE ANIMALES"]
[null,161,"ACTIVIDADES DE APOYO A LA AGRICULTURA"]
[null,162,"ACTIVIDADES DE APOYO A LA GANADERÍA"]
[null,163,"ACTIVIDADES POSCOSECHA"]
[null,164,"TRATAMIENTO DE SEMILLAS PARA PROPAGACIÓN"]
[null,170,"CAZA ORDINARIA Y MEDIANTE TRAMPAS Y ACTIVIDADES DE SERVICIOS CONEXAS"]
[null,210,"SILVICULTURA Y OTRAS ACTIVIDADES FORESTALES"]
[null,220,"EXTRACCIÓN DE MADERA"]
[null,230,"RECOLECCIÓN DE PRODUCTOS FORESTALES DISTINTOS DE LA MADERA"]
[null,240,"SERVICIOS DE APOYO A LA SILVICULTURA"]
[null,311,"PESCA MARÍTIMA"]
[null,312,"PESCA DE AGUA DULCE"]
[null,321,"ACUICULTURA MARÍTIMA"]
[null,322,"ACUICULTURA DE AGUA DULCE"]
[null,510,"EXTRACCIÓN DE CARBÓN DE PIEDRA"]
[null,520,"EXTRACCIÓN DE LIGNITO"]
[null,610,"EXTRACCIÓN DE PETRÓLEO CRUDO"]
[null,620,"EXTRACCIÓN DE GAS NATURAL"]
[null,710,"EXTRACCIÓN DE MINERALES DE HIERRO"]
[null,721,"EXTRACCIÓN DE MINERALES DE URANIO Y TORIO"]
[null,729,"EXTRACCIÓN DE OTROS MINERALES METALÍFEROS NO FERROSOS"]
[null,810,"EXTRACCIÓN DE PIEDRA, ARENA Y ARCILLA"]
[null,891,"EXTRACCIÓN DE MINERALES PARA LA FABRICACIÓN DE ABONOS Y PRODUCTOS QUÍMICOS"]
[null,892,"EXTRACCIÓN DE TURBA"]
[null,893,"EXTRACCIÓN DE SAL"]
[null,899,"EXPLOTACIÓN DE OTRAS MINAS Y CANTERAS N.C.P."]
[null,910,"ACTIVIDADES DE APOYO PARA LA EXTRACCIÓN DE PETRÓLEO Y GAS NATURAL"]
[null,990,"ACTIVIDADES DE APOYO PARA OTRAS ACTIVIDADES DE EXPLOTACIÓN DE MINAS Y CANTERAS"]
[null,1010,"ELABORACIÒN Y CONSERVACIÓN DE CARNE"]
[null,1020,"ELABORACIÒN Y CONSERVACIÓN DE PESCADOS, CRUSTÁCEOS Y MOLUSCOS"]
[null,1030,"ELABORACIÒN Y CONSERVACIÓN DE FRUTAS,LEGUMBRES Y HORTALIZAS"]
[null,1040,"ELABORACIÓN DE ACEITES Y GRASAS DE ORIGEN VEGETAL Y ANIMAL"]
[null,1050,"ELABORACIÓN DE PRODUCTOS LÁCTEOS"]
[null,1061,"ELABORACIÓN DE PRODUCTOS DE MOLINERÍA."]
[null,1062,"ELABORACIÓN DE ALMIDONES Y PRODUCTOS DERIVADOS DEL ALMIDÓN."]
[null,1071,"ELABORACIÓN DE PRODUCTOS DE PANADERÍA"]
[null,1072,"ELABORACIÓN DE AZÚCAR"]
[null,1073,"ELABORACIÓN DE CACAO Y CHOCOLATE Y DE PRODUCTOS DE CONFITERÍA"]
[null,1074,"ELABORACIÓN DE MACARRONES, FIDEOS, ALCUZCUS Y PRODUCTOS FARINÁCEOS SIMILARES"]
[null,1075,"ELABORACIÓN DE COMIDAS Y PLATOS PREPARADOS"]
[null,1079,"ELABORACIÓN DE OTROS PRODUCTOS ALIMENTICIOS N.C.P."]
[null,1080,"ELABORACIÓN DE PIENSOS PREPARADOS PARA ANIMALES"]
[null,1101,"DESTILACIÓN, RECTIFICACIÓN Y MEZCLA DE BEBIDAS ALCOHÓLICAS"]
[null,1102,"ELABORACIÓN DE VINOS"]
[null,1103,"ELABORACIÓN DE BEBIDAS MALTEADAS Y DE MALTA"]
[null,1104,"ELABORACIÓN DE BEBIDAS NO ALCOHÓLICAS; PRODUCCIÓN DE AGUAS MINERALES Y OTRAS AGUAS EMBOTELLADAS"]
[null,1200,"ELABORACIÓN DE PRODUCTOS DE TABACO"]
[null,1311,"PREPARACIÓN E HILATURA DE FIBRAS TEXTILES"]
[null,1312,"TEJEDURA DE PRODUCTOS TEXTILES"]
[null,1313,"ACABADO DE PRODUCTOS TEXTILES"]
[null,1391,"FABRICACIÓN DE TEJIDOS DE PUNTO Y GANCHILLO"]
[null,1392,"FABRICACIÓN DE ARTÍCULOS CONFECCIONADOS DE MATERIALES TEXTILES, EXCEPTO PRENDAS DE VESTIR"]
[null,1393,"FABRICACIÓN DE TAPICES Y ALFOMBRAS"]
[null,1394,"FABRICACIÓN DE CUERDAS, CORDELES, BRAMANTES Y REDES"]
[null,1399,"FABRICACIÓN DE OTROS PRODUCTOS TEXTILES N.C.P."]
[null,1410,"FABRICACIÓN DE PRENDAS DE VESTIR, EXCEPTO PRENDAS DE PIEL"]
[null,1420,"FABRICACIÓN DE ARTÍCULOS DE PIEL"]
[null,1430,"FABRICACIÓN DE ARTICULOS DE PUNTO Y GANCHILLO"]
[null,1511,"CURTIDO Y ADOBO DE CUEROS; ADOBO Y TEÑIDO DE PIELES"]
[null,1512,"FABRICACIÓN DE MALETAS, BOLSOS DE MANO, Y ARTÍCULOS SIMILARES,Y DE ARTICULOS DE TALABARTERÍA Y GUARNICIONERÍA"]
[null,1520,"FABRICACIÓN DE CALZADO"]
[null,1610,"ASERRADOS Y ACEPILLADURA DE MADERA"]
[null,1621,"FABRICACIÓN DE HOJAS DE MADERA PARA ENCHAPADO Y TABLEROS A BASE DE MADERA"]
[null,1622,"FABRICACIÓN DE PARTES Y PIEZAS DE CARPINTERÍA PARA EDIFICIOS Y CONSTRUCCIONES"]
[null,1623,"FABRICACIÓN DE RECIPIENTES DE MADERA"]
[null,1629,"FABRICACIÓN DE OTROS PRODUCTOS DE MADERA; FABRICACIÓN DE ARTÍCULOS DE CORCHO, PAJA Y MATERIALES TRENZABLES."]
[null,1701,"FABRICACIÓN DE PASTA DE MADERA, PAPEL Y CARTÓN"]
[null,1702,"FABRICACIÓN DEL PAPEL Y CARTÓN ONDULADO Y DE ENVASES DE PAPEL Y CARTÓN"]
[null,1709,"FABRICACIÓN DE OTROS ARTÍCULOS DEL PAPEL Y CARTÓN"]
[null,1811,"IMPRESIÓN"]
[null,1812,"ACTIVIDADES DE SERVICIOS RELACIONADAS CON LA IMPRESIÓN"]
[null,1820,"REPRODUCCIÓN DE GRABACIONES"]
[null,1910,"FABRICACIÓN DE PRODUCTOS DE HORNOS DE COQUE"]
[null,1920,"FABRICACIÓN DE PRODUCTOS DE LA REFINACIÓN DEL PETRÓLEO"]
[null,2011,"FABRICACIÓN DE SUSTANCIAS QUÍMICAS BÁSICAS"]
[null,2012,"FABRICACIÓN ABONOS Y COMPUESTOS DE NITRÓGENO"]
[null,2013,"FABRICACIÓN DE PLÁSTICOS Y DE CAUCHO SINTÉTICO EN FORMAS PRIMARIAS"]
[null,2021,"FABRICACIÓN DE PLAGUICIDAS Y OTROS PRODUCTOS QUÍMICOS DE USO AGROPECUARIO"]
[null,2022,"FABRICACIÓN DE PINTURAS, BARNICES Y PRODUCTOS DE REVESTIMIENTO SIMILARES, TINTAS DE IMPRENTA Y MASILLAS"]
[null,2023,"FABRICACIÓN DE JABONES Y DETERGENTES, PREPARADOS PARA LIMPIAR Y PULIR, PERFUMES Y PREPARADOS DE TOCADOR."]
[null,2029,"FABRICACIÓN DE OTROS PRODUCTOS QUÍMICOS N.C.P."]
[null,2030,"FABRICACIÓN DE FIBRAS ARTIFICIALES"]
[null,2100,"FABRICACIÓN DE PRODUCTOS FARMACÉUTICOS, SUSTANCIAS QUÍMICAS MEDICINALES Y PRODUCTOS BOTÁNICOS DE USO FARMACÉUTICO"]
[null,2211,"FABRICACIÓN DE CUBIERTAS Y CÁMARAS DE CAUCHO; RECAUCHUTADO Y RENOVACIÓN DE CUBIERTAS DE CAUCHO"]
[null,2219,"FABRICACIÓN DE OTROS PRODUCTOS DE CAUCHO"]
[null,2220,"FABRICACIÓN DE PRODUCTOS DE PLÁSTICO"]
[null,2310,"FABRICACIÓN DE VIDRIO Y DE PRODUCTOS DE VIDRIO"]
[null,2391,"FABRICACIÓN DE PRODUCTOS REFRACTARIOS"]
[null,2392,"FABRICACIÓN DE MATERIALES DE CONSTRUCCIÓN DE ARCILLA"]
[null,2393,"FABRICACIÓN DE OTROS PRODUCTOS DE PORCELANA Y DE CERÁMICA"]
[null,2394,"FABRICACIÓN DE CEMENTO, CAL Y YESO"]
[null,2395,"FABRICACIÓN DE ARTÍCULOS DE HORMIGÓN, DE CEMENTO Y DE YESO"]
[null,2396,"CORTE, TALLA Y ACABADO DE LA PIEDRA"]
[null,2399,"FABRICACIÓN DE OTROS PRODUCTOS MINERALES NO METÁLICOS N.C.P."]
[null,2410,"INDUSTRIAS BÁSICAS DE HIERRO Y ACERO "]
[null,2420,"FABRICACIÓN DE PRODUCTOS PRIMARIOS DE METALES PRECIOSOS Y OTROS METALES NO FERROSOS"]
[null,2431,"FUNDICIÓN DE HIERRO Y ACERO"]
[null,2432,"FUNDICIÓN DE METALES NO FERROSOS"]
[null,2511,"FABRICACIÓN DE PRODUCTOS METÁLICOS PARA USO ESTRUCTURAL"]
[null,2512,"FABRICACIÓN DE TANQUES, DEPÓSITOS Y RECIPIENTES DE METAL"]
[null,2513,"FABRICACIÓN DE LOS GENERADORES DEL VAPOR, EXCEPTO CALDERAS DE AGUA CALIENTE PARA CALEFACCIÓN CENTRAL"]
[null,2520,"FABRICACIÓN DE ARMAS Y MUNICIONES"]
[null,2591,"FORJA, PRENSADO, ESTAMPADO Y LAMINADO DE METALES; PULVIMETALURGIA"]
[null,2592,"TRATAMIENTO Y REVESTIMIENTO DE METALES; MAQUINADO"]
[null,2593,"FABRICACIÓN DE ARTÍCULOS DE CUCHILLERÍA, HERRAMIENTAS DE MANO Y ARTÍCULOS DE FERRETERÍA"]
[null,2599,"FABRICACIÓN DE OTROS PRODUCTOS ELABORADOS DE METAL N.C.P."]
[null,2610,"FABRICACIÓN DE COMPONENTES Y TABLEROS ELECTRÓNICOS"]
[null,2620,"FABRICACIÓN DE ORDENADORES Y EQUIPO PERIFÉRICO"]
[null,2630,"FABRICACIÓN DE EQUIPOS DE COMUNICACIONES"]
[null,2640,"FABRICACIÓN DE APARATOS ELECTRÓNICOS DE CONSUMO"]
[null,2651,"FABRICACIÓN DE EQUIPO DE MEDICIÓN, PRUEBA, NAVEGACIÓN Y CONTROL"]
[null,2652,"FABRICACIÓN DE RELOJES"]
[null,2660,"FABRICACIÓN DE EQUIPO DE IRRADIACIÓN Y EQUIPO ELECTRÓNICO DE USO MÉDICO Y TERAPÉUTICO"]
[null,2670,"FABRICACIÓN DE INSTRUMENTOS ÓPTICOS Y EQUIPO FOTOGRÁFICO"]
[null,2680,"FABRICACIÓN DE SOPORTES MAGNÉTICOS Y ÓPTICOS"]
[null,2710,"FABRICACIÓN DE MOTORES, GENERADORES Y TRANSFORMADORES ELÉCTRICOS Y APARATOS DE DISTRIBUCIÓN Y CONTROL DE LA ENERGÍA ELÉCTRICA"]
[null,2720,"FABRICACIÓN DE PILAS, BATERÍAS Y ACUMULADORES"]
[null,2731,"FABRICACIÓN DE CABLES DE FIBRA ÓPTICA"]
[null,2732,"FABRICACIÓN DE OTROS HILOS Y CABLES ELÉCTRICOS"]
[null,2733,"FABRICACIÓN DE DISPOSITIVOS DE CABLEADO"]
[null,2740,"FABRICACIÓN DE EQUIPO ELÉCTRICO DE ILUMINACIÓN"]
[null,2750,"FABRICACIÓN DE APARATOS DE USO DOMÉSTICO"]
[null,2790,"FABRICACIÓN DE OTROS TIPOS DE EQUIPO ELÉCTRICO"]
[null,2811,"FABRICACIÓN DE MOTORES Y TURBINAS, EXCEPTO MOTORES PARA AERONAVES, VEHÍCULOS AUTOMOTORES Y MOTOCICLETAS"]
[null,2812,"FABRICACIÓN DE EQUIPO DE PROPULSIÓN DE FLUIDOS"]
[null,2813,"FABRICACIÓN DE BOMBAS, COMPRESORES, GRIFOS Y VÁLVULAS"]
[null,2814,"FABRICACIÓN DE COJINETES, ENGRANAJES, TRENES DE ENGRANAJES Y PIEZAS DE TRANSMISIÓN"]
[null,2815,"FABRICACIÓN DE HORNOS, HOGARES Y QUEMADORES"]
[null,2816,"FABRICACIÓN DE EQUIPO DE ELEVACIÓN Y MANIPULACIÓN"]
[null,2817,"FABRICACIÓN DE MAQUINARIA Y EQUIPO DE OFICINA (EXCEPTO ORDENADORES Y EQUIPO PERIFÉRICO)"]
[null,2818,"FABRICACIÓN DE HERRAMIENTAS DE MANO MOTORIZADAS"]
[null,2819,"FABRICACIÓN DE OTROS TIPOS DE MAQUINARIA DE USO GENERAL"]
[null,2821,"FABRICACIÓN DE MAQUINARIA AGROPECUARIA Y FORESTAL"]
[null,2822,"FABRICACIÓN DE MAQUINARIA PARA LA CONFORMACIÓN DE METALES Y DE MÁQUINAS HERRAMIENTA"]
[null,2823,"FABRICACIÓN DE MAQUINARIA METALÚRGICA"]
[null,2824,"FABRICACIÓN DE MAQUINARIA PARA EXPLOTACIÓN DE MINAS Y CANTERAS Y PARA OBRAS DE CONSTRUCCIÓN"]
[null,2825,"FABRICACIÓN DE MAQUINARIA PARA LA ELABORACIÓN DE ALIMENTOS, BEBIDAS Y TABACO"]
[null,2826,"FABRICACIÓN DE MAQUINARIA PARA LA ELABORACIÓN DE PRODUCTOS TEXTILES, PRENDAS DE VESTIR Y CUEROS"]
[null,2829,"FABRICACIÓN DE OTROS TIPOS DE MAQUINARIA DE USO ESPECIAL"]
[null,2910,"FABRICACIÓN DE VEHÍCULOS AUTOMOTORES"]
[null,2920,"FABRICACIÓN DE CARROCERÍAS PARA VEHÍCULOS AUTOMOTORES; FABRICACIÓN DE REMOLQUES Y SEMIRREMOLQUES"]
[null,2930,"FABRICACIÓN DE PARTES, PIEZAS Y ACCESORIOS PARA VEHÍCULOS DE AUTOMOTORES"]
[null,3011,"CONSTRUCCIÓN DE BUQUES Y ESTRUCTURAS FLOTANTES"]
[null,3012,"CONSTRUCCIÓN DE EMBARCACIONES DE RECREO Y DEPORTE"]
[null,3020,"FABRICACIÓN DE LOCOMOTORAS Y DE MATERIAL RODANTE"]
[null,3030,"FABRICACIÓN DE AERONAVES Y  NAVES ESPACIALES Y MAQUINARIA CONEXA"]
[null,3040,"FABRICACIÓN DE VEHÍCULOS MILITARES DE COMBATE"]
[null,3091,"FABRICACIÓN DE MOTOCICLETAS"]
[null,3092,"FABRICACIÓN DE BICICLETAS Y DE SILLONES DE RUEDAS PARA INVÁLIDOS"]
[null,3099,"FABRICACIÓN DE OTROS TIPOS DE EQUIPO DE TRANSPORTE N.C.P."]
[null,3100,"FABRICACIÓN DE MUEBLES"]
[null,3211,"FABRICACIÓN DE JOYAS Y ARTÍCULOS CONEXOS"]
[null,3212,"FABRICACIÓN DE BISUTERÍA Y ARTÍCULOS CONEXOS"]
[null,3220,"FABRICACIÓN DE INSTRUMENTOS DE MÚSICA"]
[null,3230,"FABRICACIÓN DE ARTÍCULOS DE DEPORTE"]
[null,3240,"FABRICACIÓN DE JUEGOS Y JUGUETES"]
[null,3250,"FABRICACIÓN DE INSTRUMENTOS Y MATERIALES MÉDICOS Y ODONTOLÓGICOS"]
[null,3290,"OTRAS INDUSTRIAS MANUFACTURERAS N.C.P."]
[null,3311,"REPARACIÓN DE PRODUCTOS ELABORADOS DE METAL"]
[null,3312,"REPARACIÓN DE MAQUINARIA"]
[null,3313,"REPARACIÓN DE EQUIPO ELECTRÓNICO Y ÓPTICO"]
[null,3314,"REPARACIÓN DE EQUIPO ELÉCTRICO"]
[null,3315,"REPARACIÓN DE EQUIPO DE TRANSPORTE, EXCEPTO VEHÍCULOS AUTOMOTORES"]
[null,3319,"REPARACIÓN DE OTROS TIPOS DE EQUIPO"]
[null,3320,"INSTALACIÓN DE MAQUINARIA Y EQUIPO INDUSTRIALES"]
[null,3510,"GENERACIÓN, TRANSMISIÓN Y DISTRIBUCIÓN DE ENERGÍA ELÉCTRICA"]
[null,3520,"FABRICACIÓN DEL GAS; DISTRIBUCIÓN DE COMBUSTIBLES GASEOSOS POR TUBERÍAS"]
[null,3530,"SUMINISTRO DE VAPOR Y AIRE ACONDICIONADO"]
[null,3600,"CAPTACIÓN, TRATAMIENTO Y DISTRIBUCIÓN DE AGUA"]
[null,3700,"EVACUACIÓN DE AGUAS RESIDUALES"]
[null,3811,"RECOGIDA DE DESECHOS NO PELIGROSOS"]
[null,3812,"RECOGIDA DE DESECHOS PELIGROSOS"]
[null,3821,"TRATAMIENTO Y ELIMINACIÓN DE DESECHOS NO PELIGROSOS"]
[null,3822,"TRATAMIENTO Y ELIMINACIÓN DE DESECHOS PELIGROSOS"]
[null,3830,"RECUPERACIÓN DE MATERIALES"]
[null,3900,"ACTIVIDADES DE DESCONTAMINACIÓN Y OTROS SERVICIOS DE GESTIÓN DE DESECHOS"]
[null,4100,"CONSTRUCCIÓN DE EDIFICIOS"]
[null,4210,"CONSTRUCCIÓN DE CARRETERAS Y LÍNEAS DE FERROCARRIL"]
[null,4220,"CONSTRUCCIÓN DE PROYECTOS DE SERVICIO PÚBLICO"]
[null,4290,"CONSTRUCCIÓN DE OTRAS OBRAS DE INGENIERÍA CIVIL"]
[null,4311,"DEMOLICIÓN"]
[null,4312,"PREPARACIÓN DEL TERRENO"]
[null,4321,"INSTALACIONES ELÉCTRICAS"]
[null,4322,"INSTALACIONES DE FONTANERÍA, CALEFACCIÓN Y AIRE ACONDICIONADO"]
[null,4329,"OTRAS INSTALACIONES PARA OBRAS DE CONSTRUCCIÓN"]
[null,4330,"TERMINACIÓN Y ACABADO DE EDIFICIOS"]
[null,4390,"OTRAS ACTIVIDADES ESPECIALIZADAS DE LA CONSTRUCCIÓN"]
[null,4510,"VENTA DE VEHÍCULOS AUTOMOTORES"]
[null,4520,"MANTENIMIENTO Y REPARACIÓN DE VEHÍCULOS AUTOMOTORES"]
[null,4530,"VENTAS DE PARTES, PIEZAS Y ACCESORIOS PARA VEHÍCULOS AUTOMOTORES"]
[null,4540,"VENTA, MANTENIMIENTO Y REPARACIÓN DE MOTOCICLETAS Y DE SUS PARTES, PIEZAS Y ACCESORIOS."]
[null,4610,"VENTA AL POR MAYOR A CAMBIO DE UNA RETRIBUCIÓN O POR CONTRATA"]
[null,4620,"VENTA AL POR MAYOR DE MATERIAS PRIMAS AGROPECUARIAS Y ANIMALES VIVOS."]
[null,4630,"VENTA AL POR MAYOR DE ALIMENTOS, BEBIDAS Y TABACO."]
[null,4641,"VENTA AL POR MAYOR DE PRODUCTOS TEXTILES, PRENDAS DE VESTIR Y CALZADO"]
[null,4649,"VENTA AL POR MAYOR DE OTROS ENSERES DOMÉSTICOS"]
[null,4651,"VENTA AL POR MAYOR DE ORDENADORES, EQUIPO PERIFÉRICO Y PROGRAMAS DE INFORMÁTICA"]
[null,4652,"VENTA AL POR MAYOR DE EQUIPO, PARTES Y PIEZAS ELECTRÓNICOS Y DE TELECOMUNICACIONES"]
[null,4653,"VENTA AL POR MAYOR DE MAQUINARIA, EQUIPO Y MATERIALES AGROPECUARIOS "]
[null,4659,"VENTA AL POR MAYOR DE OTROS TIPOS DE MAQUINARIA Y EQUIPO"]
[null,4661,"VENTA AL POR MAYOR DE COMBUSTIBLES SÓLIDOS, LÍQUIDOS Y GASEOSOS Y  PRODUCTOS CONEXOS"]
[null,4662,"VENTA AL POR MAYOR DE METALES Y MINERALES METALÍFEROS"]
[null,4663,"VENTA AL POR MAYOR DE MATERIALES DE CONSTRUCCIÓN, ARTÍCULOS DE FERRETERÍA Y EQUIPO Y MATERIALES DE FONTANERÍA Y CALEFACCIÓN."]
[null,4669,"VENTA AL POR MAYOR DE DESPERDICIOS, DESECHOS, CHATARRA Y OTROS PRODUCTOS N.C.P "]
[null,4690,"VENTA AL POR MAYOR NO ESPECIALIZADA "]
[null,4711,"VENTA AL POR MENOR EN COMERCIOS NO ESPECIALIZADOS CON PREDOMINIO DE LA VENTA DE ALIMENTOS, BEBIDAS O TABACO"]
[null,4719,"OTRAS ACTIVIDADES DE VENTA AL POR MENOR EN COMERCIOS NO ESPECIALIZADOS"]
[null,4721,"VENTA AL POR MENOR DE ALIMENTOS EN COMERCIOS ESPECIALIZADOS"]
[null,4722,"VENTA AL POR MENOR DE BEBIDAS EN COMERCIOS ESPECIALIZADOS"]
[null,4723,"VENTA AL POR MENOR DE PRODUCTOS DE TABACO EN COMERCIOS ESPECIALIZADOS"]
[null,4730,"VENTA AL POR MENOR DE COMBUSTIBLES PARA VEHÍCULOS AUTOMOTORES EN COMERCIOS ESPECIALIZADOS"]
[null,4741,"VENTA AL POR MENOR DE ORDENADORES, EQUIPO PERIFÉRICO, PROGRAMAS INFORMÁTICOS Y EQUIPO DE TELECOMUNICACIONES EN COMERCIOS ESPECIALIZADOS"]
[null,4742,"VENTA AL POR MENOR DE EQUIPO DE SONIDO Y DE VÍDEO EN COMERCIOS ESPECIALIZADOS"]
[null,4751,"VENTA AL POR MENOR DE PRODUCTOS TEXTILES EN COMERCIOS ESPECIALIZADOS"]
[null,4752,"VENTA AL POR MENOR DE ARTÍCULOS DE FERRETERÍA, PINTURAS Y PRODUCTOS DE VIDRIO EN COMERCIOS ESPECIALIZADOS"]
[null,4753,"VENTA AL POR MENOR DE TAPICES, ALFOMBRAS Y CUBRIMIENTOS PARA PAREDES Y PISOS EN COMERCIOS ESPECIALIZADOS"]
[null,4759,"VENTA AL POR MENOR DE APARATOS ELÉCTRICOS DE USO DOMÉSTICO,  MUEBLES, EQUIPO DE ILUMINACIÓN Y OTROS ENSERES DOMÉSTICOS EN COMERCIOS ESPECIALIZADOS"]
[null,4761,"VENTA AL POR MENOR DE LIBROS, PERIÓDICOS Y ARTÍCULOS DE PAPELERÍA EN COMERCIOS ESPECIALIZADOS"]
[null,4762,"VENTA AL POR MENOR DE GRABACIONES DE MÚSICA Y DE VÍDEO EN COMERCIOS ESPECIALIZADOS"]
[null,4763,"VENTA AL POR MENOR DE EQUIPO DE DEPORTE EN COMERCIOS ESPECIALIZADOS"]
[null,4764,"VENTA AL POR MENOR DE JUEGOS Y  JUGUETES EN COMERCIOS ESPECIALIZADOS"]
[null,4771,"VENTA AL POR MENOR DE PRENDAS DE VESTIR, CALZADO Y ARTÍCULOS DE CUERO EN COMERCIOS ESPECIALIZADOS"]
[null,4772,"VENTA AL POR MENOR DE PRODUCTOS FARMACÉUTICOS Y MEDICINALES, COSMÉTICOS Y ARTÍCULOS DE TOCADOR EN COMERCIOS ESPECIALIZADOS   "]
[null,4773,"VENTA AL POR MENOR DE OTROS PRODUCTOS NUEVOS EN COMERCIOS ESPECIALIZADOS"]
[null,4774,"VENTA AL POR MENOR DE ARTÍCULOS DE SEGUNDA MANO"]
[null,4781,"VENTA AL POR MENOR DE ALIMENTOS, BEBIDAS Y TABACO EN PUESTOS DE VENTA Y MERCADOS "]
[null,4782,"VENTA AL POR MENOR DE PRODUCTOS TEXTILES, PRENDAS DE VESTIR Y CALZADO EN PUESTOS DE VENTA Y MERCADOS"]
[null,4789,"VENTA AL POR MENOR DE OTROS PRODUCTOS EN PUESTOS DE VENTA Y MERCADOS"]
[null,4791,"VENTA AL POR MENOR POR CORREO Y POR INTERNET"]
[null,4799,"OTRAS ACTIVIDADES DE VENTA AL POR MENOR NO REALIZADAS EN COMERCIOS, PUESTOS DE VENTA O MERCADOS"]
[null,4911,"TRANSPORTE INTERURBANO DE PASAJEROS POR FERROCARRIL"]
[null,4912,"TRANSPORTE DE CARGA POR FERROCARRIL"]
[null,4921,"TRANSPORTE URBANO Y SUBURBANO DE PASAJEROS POR VÍA TERRESTRE "]
[null,4922,"OTRAS ACTIVIDADES DE TRANSPORTE POR VÍA TERRESTRE"]
[null,4923,"TRANSPORTE DE CARGA POR CARRETERA"]
[null,4930,"TRANSPORTE POR TUBERÍAS"]
[null,5011,"TRANSPORTE DE PASAJEROS MARÍTIMO Y DE CABOTAJE"]
[null,5012,"TRANSPORTE DE CARGA MARÍTIMO Y DE CABOTAJE"]
[null,5021,"TRANSPORTE DE PASAJEROS POR VÍAS DE NAVEGACIÓN INTERIORES"]
[null,5022,"TRANSPORTE DE CARGA, POR VÍAS DE NAVEGACIÓN INTERIORES"]
[null,5110,"TRANSPORTE DE PASAJEROS POR VÍA AÉREA"]
[null,5120,"TRANSPORTE DE CARGA POR VÍA AÉREA"]
[null,5210,"ALMACENAMIENTO Y DEPÓSITO"]
[null,5221,"ACTIVIDADES DE SERVICIOS VINCULADAS AL TRANSPORTE TERRESTRE"]
[null,5222,"ACTIVIDADES DE SERVICIOS VINCULADAS AL TRANSPORTE ACUÁTICO"]
[null,5223,"ACTIVIDADES DE SERVICIOS VINCULADAS AL TRANSPORTE AÉREO"]
[null,5224,"MANIPULACIÓN DE CARGA"]
[null,5229,"OTRAS ACTIVIDADES DE APOYO AL TRANSPORTE"]
[null,5310,"ACTIVIDADES POSTALES"]
[null,5320,"ACTIVIDADES DE MENSAJERÍA"]
[null,5510,"ACTIVIDADES DE ALOJAMIENTO PARA ESTANCIAS CORTAS"]
[null,5520,"ACTIVIDADES DE CAMPAMENTOS, PARQUES DE VEHÍCULOS RECREATIVOS Y PARQUES DE CARAVANAS"]
[null,5590,"OTRAS ACTIVIDADES DE ALOJAMIENTO"]
[null,5610,"ACTIVIDADES DE RESTAURANTES Y DE SERVICIO MÓVIL DE COMIDAS"]
[null,5621,"SUMINISTRO DE COMIDAS POR ENCARGO"]
[null,5629,"OTRAS ACTIVIDADES DE SERVICIO DE COMIDAS"]
[null,5630,"ACTIVIDADES DE SERVICIO DE BEBIDAS"]
[null,5811,"EDICIÓN DE LIBROS"]
[null,5812,"EDICIÓN DE DIRECTORIOS Y LISTAS DE CORREO"]
[null,5813,"EDICIÓN DE PERIÓDICOS, REVISTAS Y OTRAS PUBLICACIONES PERIÓDICAS"]
[null,5819,"OTRAS ACTIVIDADES DE EDICIÓN"]
[null,5820,"EDICIÓN DE PROGRAMAS DE INFORMÁTICOS"]
[null,5911,"ACTIVIDADES DE PRODUCCIÓN DE PELÍCULAS CINEMATOGRÁFICAS, VÍDEOS Y PROGRAMAS DE TELEVISIÓN"]
[null,5912,"ACTIVIDADES DE POSTPRODUCCIÓN DE PELÍCULAS CINEMATOGRÁFICAS, VÍDEOS Y PROGRAMAS DE TELEVISIÓN"]
[null,5913,"ACTIVIDADES DE DISTRIBUCIÓN DE PELÍCULAS CINEMATOGRÁFICAS, VÍDEOS Y PROGRAMAS DE TELEVISIÓN"]
[null,5914,"ACTIVIDADES DE EXHIBICIÓN DE PELÍCULAS CINEMATOGRÁFICAS Y CINTAS DE VÍDEO "]
[null,5920,"ACTIVIDADES DE GRABACIÓN DE SONIDO Y EDICIÓN DE MÚSICA"]
[null,6010,"TRANSMISIONES DE RADIO"]
[null,6020,"PROGRAMACIÓN Y TRANSMISIONES DE TELEVISIÓN"]
[null,6110,"ACTIVIDADES DE TELECOMUNICACIONES ALÁMBRICAS"]
[null,6120,"ACTIVIDADES DE TELECOMUNICACIONES INALÁMBRICAS"]
[null,6130,"ACTIVIDADES DE TELECOMUNICACIONES POR SATÉLITE."]
[null,6190,"OTRAS ACTIVIDADES DE TELECOMUNICACIÓN."]
[null,6201,"PROGRAMACIÓN INFORMÁTICA"]
[null,6202,"CONSULTORÍA DE INFORMÁTICA Y DE GESTIÓN DE INSTALACIONES INFORMÁTICAS"]
[null,6209,"OTRAS ACTIVIDADES DE TECNOLOGÍA DE LA INFORMACIÓN Y DE SERVICIOS INFORMÁTICOS"]
[null,6311,"PROCESAMIENTO DE DATOS, HOSPEDAJE Y ACTIVIDADES CONEXAS"]
[null,6312,"PORTALES WEB"]
[null,6391,"ACTIVIDADES DE AGENCIAS DE NOTICIAS"]
[null,6399,"OTRAS ACTIVIDADES DE SERVICIOS DE INFORMACIÓN N.C.P."]
[null,6411,"BANCA CENTRAL"]
[null,6419,"OTROS TIPOS DE INTERMEDIACIÓN MONETARIA."]
[null,6420,"ACTIVIDADES DE SOCIEDADES DE CARTERA"]
[null,6430,"FONDOS Y SOCIEDADES DE INVERSIÓN Y ENTIDADES FINANCIERAS SIMILARES"]
[null,6491,"ARRENDAMIENTO FINANCIERO"]
[null,6492,"OTRAS ACTIVIDADES DE CONCESIÓN DE CRÉDITO"]
[null,6499,"OTRAS ACTIVIDADES DE SERVICIOS FINANCIEROS, EXCEPTO LAS DE SEGUROS Y FONDOS DE PENSIONES, N.C.P."]
[null,6511,"SEGUROS DE VIDA"]
[null,6512,"SEGUROS GENERALES"]
[null,6520,"REASEGUROS"]
[null,6530,"FONDOS DE PENSIONES"]
[null,6611,"ADMINISTRACIÓN DE MERCADOS FINANCIEROS"]
[null,6612,"CORRETAJE DE VALORES Y DE CONTRATOS DE PRODUCTOS BÁSICOS"]
[null,6619,"OTRAS ACTIVIDADES AUXILIARES DE LAS ACTIVIDADES DE SERVICIOS FINANCIEROS"]
[null,6621,"EVALUACIÓN DE RIESGOS Y DAÑOS"]
[null,6622,"ACTIVIDADES DE AGENTES Y CORREDORES DE SEGUROS"]
[null,6629,"OTRAS ACTIVIDADES AUXILIARES DE LAS ACTIVIDADES DE SEGUROS Y FONDOS DE PENSIONES"]
[null,6630,"ACTIVIDADES DE GESTIÓN DE FONDOS"]
[null,6810,"ACTIVIDADES INMOBILIARIAS REALIZADAS CON BIENES PROPIOS O ARRENDADOS"]
[null,6820,"ACTIVIDADES INMOBILIARIAS REALIZADAS A CAMBIO DE UNA RETRIBUCIÓN O POR CONTRATA"]
[null,6910,"ACTIVIDADES JURÍDICAS"]
[null,6920,"ACTIVIDADES DE CONTABILIDAD, TENEDURÍA DE LIBROS Y AUDITORÍA; CONSULTORÍA FISCAL"]
[null,7010,"ACTIVIDADES DE OFICINAS CENTRALES"]
[null,7020,"ACTIVIDADES DE CONSULTORÍA DE GESTIÓN"]
[null,7110,"ACTIVIDADES DE ARQUITECTURA E INGENIERÍA Y ACTIVIDADES CONEXAS DE CONSULTORÍA TÉCNICA"]
[null,7120,"ENSAYOS Y ANÁLISIS TÉCNICOS"]
[null,7210,"INVESTIGACIÓN Y DESARROLLO EXPERIMENTAL EN EL CAMPO DE LAS CIENCIAS NATURALES Y LA INGENIERÍA"]
[null,7220,"INVESTIGACIÓN Y DESARROLLO EXPERIMENTAL EN EL CAMPO DE LAS CIENCIAS SOCIALES Y LAS HUMANIDADES"]
[null,7310,"PUBLICIDAD"]
[null,7320,"ESTUDIOS DE MERCADO Y ENCUESTAS DE OPINIÓN PÚBLICA"]
[null,7410,"ACTIVIDADES ESPECIALIZADAS DE DISEÑO"]
[null,7420,"ACTIVIDADES DE FOTOGRAFÍA"]
[null,7490,"OTRAS ACTIVIDADES PROFESIONALES, CIENTÍFICAS Y TÉCNICAS N.C.P."]
[null,7500,"ACTIVIDADES VETERINARIAS"]
[null,7710,"ALQUILER Y ARRENDAMIENTO DE VEHÍCULOS AUTOMOTORES"]
[null,7721,"ALQUILER Y ARRENDAMIENTO DE EQUIPO RECREATIVO Y DEPORTIVO"]
[null,7722,"ALQUILER DE CINTAS DE VÍDEO Y DISCOS"]
[null,7729,"ALQUILER Y ARRENDAMIENTO DE OTROS EFECTOS PERSONALES Y ENSERES DOMÉSTICOS "]
[null,7730,"ALQUILER Y ARRENDAMIENTO DE OTROS TIPOS DE MAQUINARIA, EQUIPO Y BIENES TANGIBLES"]
[null,7740,"ARRENDAMIENTO DE PROPIEDAD INTELECTUAL Y PRODUCTOS SIMILARES, EXCEPTO OBRAS PROTEGIDAS  POR DERECHOS DE AUTOR"]
[null,7810,"ACTIVIDADES DE AGENCIAS DE EMPLEO"]
[null,7820,"ACTIVIDADES DE AGENCIAS DE EMPLEO TEMPORAL"]
[null,7830,"OTRAS ACTIVIDADES DE DOTACIÓN DE RECURSOS HUMANOS"]
[null,7911,"ACTIVIDADES DE AGENCIAS DE VIAJES"]
[null,7912,"ACTIVIDADES DE OPERADORES TURÍSTICOS"]
[null,7990,"OTROS SERVICIOS DE RESERVAS Y ACTIVIDADES CONEXAS"]
[null,8010,"ACTIVIDADES DE SEGURIDAD PRIVADA"]
[null,8020,"ACTIVIDADES DE SERVICIO DE SISTEMAS DE SEGURIDAD"]
[null,8030,"ACTIVIDADES DE INVESTIGACIÓN"]
[null,8110,"ACTIVIDADES COMBINADAS DE APOYO A INSTALACIONES"]
[null,8121,"LIMPIEZA GENERAL DE EDIFICIOS"]
[null,8129,"OTRAS ACTIVIDADES DE LIMPIEZA DE EDIFICIOS E INSTALACIONES INDUSTRIALES"]
[null,8130,"ACTIVIDADES DE PAISAJISMO Y SERVICIOS DE MANTENIMIENTO CONEXOS"]
[null,8211,"ACTIVIDADES COMBINADAS DE SERVICIOS ADMINISTRATIVOS DE OFICINA"]
[null,8219,"FOTOCOPIADO, PREPARACIÓN DE DOCUMENTOS Y OTRAS ACTIVIDADES ESPECIALIZADAS DE APOYO DE OFICINA"]
[null,8220,"ACTIVIDADES DE CENTROS DE LLAMADAS"]
[null,8230,"ORGANIZACIÓN DE CONVENCIONES Y EXPOSICIONES COMERCIALES"]
[null,8291,"ACTIVIDADES DE AGENCIAS DE COBRO Y AGENCIAS DE CALIFICACIÓN CREDITICIA"]
[null,8292,"ACTIVIDADES DE ENVASADO Y EMPAQUETADO"]
[null,8299,"OTRAS ACTIVIDADES DE SERVICIOS DE APOYO A LAS EMPRESAS N.C.P"]
[null,8411,"ACTIVIDADES DE LA ADMINISTRACIÓN PÚBLICA EN GENERAL"]
[null,8412,"REGULACIÓN DE LAS ACTIVIDADES DE ORGANISMOS QUE PRESTAN SERVICIOS SANITARIOS, EDUCATIVOS, CULTURALES Y OTROS SERVICIOS SOCIALES, EXCEPTO SERVICIOS DE SEGURIDAD SOCIAL"]
[null,8413,"REGULACIÓN Y FACILITACIÓN DE LA ACTIVIDAD ECONÓMICA"]
[null,8421,"RELACIONES EXTERIORES"]
[null,8422,"ACTIVIDADES DE DEFENSA"]
[null,8423,"ACTIVIDADES DE MANTENIMIENTO DEL ORDEN PÚBLICO Y DE SEGURIDAD"]
[null,8430,"ACTIVIDADES DE PLANES DE SEGURIDAD SOCIAL DE AFILIACIÓN OBLIGATORIA"]
[null,8510,"ENSEÑANZA PREESCOLAR Y PRIMARIA"]
[null,8521,"ENSEÑANZA SECUNDARIA DE FORMACIÓN GENERAL"]
[null,8522,"ENSEÑANZA SECUNDARIA DE FORMACIÓN TÉCNICA Y PROFESIONAL"]
[null,8530,"ENSEÑANZA SUPERIOR"]
[null,8541,"EDUCACIÓN DEPORTIVA Y RECREATIVA"]
[null,8542,"ENSEÑANZA CULTURAL"]
[null,8549,"OTROS TIPOS DE ENSEÑANZA N.C.P."]
[null,8550,"ACTIVIDADES DE APOYO A LA ENSEÑANZA"]
[null,8610,"ACTIVIDADES DE HOSPITALES"]
[null,8620,"ACTIVIDADES DE MÉDICOS Y ODONTÓLOGOS"]
[null,8690,"OTRAS ACTIVIDADES DE ATENCIÓN DE LA SALUD HUMANA"]
[null,8710,"ACTIVIDADES DE ATENCIÓN DE ENFERMERÍA EN INSTITUCIONES"]
[null,8720,"ACTIVIDADES DE ATENCIÓN EN INSTITUCIONES PARA PERSONAS CON RETRASO MENTAL, ENFERMOS MENTALES Y TOXICÓMANOS"]
[null,8730,"ACTIVIDADES DE ATENCIÓN EN INSTITUCIONES PARA PERSONAS DE EDAD PERSONAS CON DISCAPACIDAD"]
[null,8790,"OTRAS ACTIVIDADES DE ATENCIÓN EN INSTITUCIONES"]
[null,8810,"ACTIVIDADES DE ASISTENCIA SOCIAL SIN ALOJAMIENTO PARA PERSONAS DE EDAD Y PERSONAS CON DISCAPACIDAD"]
[null,8890,"OTRAS ACTIVIDADES DE ASISTENCIA SOCIAL SIN ALOJAMIENTO"]
[null,9000,"ACTIVIDADES CREATIVAS, ARTÍSTICAS Y DE ENTRETENIMIENTO"]
[null,9101,"ACTIVIDADES DE BIBLIOTECAS Y ARCHIVOS"]
[null,9102,"ACTIVIDADES DE MUSEOS Y GESTIÓN DE LUGARES Y EDIFICIOS HISTÓRICOS"]
[null,9103,"ACTIVIDADES DE JARDINES BOTÁNICOS Y ZOOLÓGICOS Y RESERVAS NATURALES"]
[null,9200,"ACTIVIDADES DE JUEGOS DE AZAR Y APUESTAS"]
[null,9311,"GESTIÓN DE INSTALACIONES DEPORTIVAS"]
[null,9312,"ACTIVIDADES DE CLUBES DEPORTIVOS"]
[null,9319,"OTRAS ACTIVIDADES DEPORTIVAS"]
[null,9321,"ACTIVIDADES DE PARQUES DE ATRACCIONES Y PARQUES TEMÁTICOS"]
[null,9329,"OTRAS ACTIVIDADES DE ESPARCIMIENTO Y RECREATIVAS N.C.P."]
[null,9411,"ACTIVIDADES DE ASOCIACIONES EMPRESARIALES Y DE EMPLEADORES"]
[null,9412,"ACTIVIDADES DE ASOCIACIONES PROFESIONALES"]
[null,9420,"ACTIVIDADES DE SINDICATOS"]
[null,9491,"ACTIVIDADES DE ORGANIZACIONES RELIGIOSAS"]
[null,9492,"ACTIVIDADES DE ORGANIZACIONES POLÍTICAS"]
[null,9499,"ACTIVIDADES DE OTRAS ASOCIACIONES N.C.P."]
[null,9511,"REPARACIÓN DE ORDENADORES Y EQUIPO PERIFÉRICO"]
[null,9512,"REPARACIÓN DE EQUIPOS COMUNICACIONALES"]
[null,9521,"REPARACIÓN DE APARATOS ELECTRÓNICOS DE CONSUMO"]
[null,9522,"REPARACIÓN DE APARATOS DE USO DOMÉSTICO Y EQUIPO DOMÉSTICO Y DE JARDINERÍA"]
[null,9523,"REPARACIÓN DE CALZADO Y ARTÍCULOS DE CUERO"]
[null,9524,"REPARACIÓN DE MUEBLES Y ACCESORIOS DOMÉSTICOS"]
[null,9529,"REPARACIÓN DE OTROS EFECTOS PERSONALES Y ENSERES DOMÉSTICOS"]
[null,9601,"LAVADO Y LIMPIEZA, INCLUIDA LA LIMPIEZA EN SECO, DE PRODUCTOS TEXTILES Y DE PIEL"]
[null,9602,"PELUQUERÍA Y OTROS TRATAMIENTOS DE BELLEZA"]
[null,9603,"POMPAS FÚNEBRES Y ACTIVIDADES CONEXAS"]
[null,9609,"OTRAS ACTIVIDADES DE SERVICIOS PERSONALES N.C.P."]
[null,9700,"ACTIVIDADES DE LOS HOGARES COMO EMPLEADORES DE PERSONAL DOMÉSTICO"]
[null,9900,"ACTIVIDADES DE ORGANIZACIONES Y ÓRGANOS EXTRATERRITORIALES"]

{"sheet":"Ayuda Material","index":3,"n_rows":15,"n_cols":10,"rows_kept":15,"cut":false,"hidden":false,"merged":[[1,9,2,9],[1,1,2,1],[1,2,2,2],[1,3,2,3],[1,4,2,4],[1,5,1,6],[1,7,1,8]]}
[]
[null,"COD MATERIAL","MATERIAL DE CONSTRUCCION","DEFINICIÓN DE TIPOS DE ESTRUCTURAS","DEFINICIÓN AMIGABLE","PISOS",null,"SOTANOS",null,"Imagen Referencial"]
[null,null,null,null,null,"# MAXIMO","#MINIMO","# MAXIMO","#MINIMO"]
[null,"1.0AC","PÓRTICO DE ACERO ARRIOSTRADO CON DIAGONALES","Edificio compuesto por pórticos ensamblados con vigas y columnas de acero y la inclusión de arriostres diagonales en los vanos. Los diafragmas son de losas de concreto vaciado in situ, sistema de placa colaborante (steel deck) con concreto apoyado sobre vigas de acero o entramados de acero con una rigidez relativamente mayor que la de los pórticos. Fuerza lateral es resistida por los pórticos de acero donde las diagonales concentraran la deformación inelástica. La cimentación de este sistema estructural con zapatas aisladas.","Estuctura formada por columnas y vigas de acero con refuerzos diagonales del mismo material.",50,1,15,0]
[null,"2.0AQ","ADOBE Y QUINCHA","Construcción de uno o dos niveles, con posibles altillos. Típicamente muros de adobe de gran espesor en el primer nivel y estructura de quincha en el segundo. Techos y entrepisos de madera, en algunos casos con cielo rasos de yeso. Las fuerzas laterales son resistidas por los muros. Poseen diafragmas flexibles, constituidos por viguetas de madera y entablados. Utilizan una cimentación corrida de concreto ciclópeo.","Construcción de uno o dos niveles, con posibles altillos. Típicamente muros de adobe de gran espesor en el primer nivel y estructura de quincha en el segundo. Techos y entrepisos de madera, en algunos casos con cielo rasos de yeso.",3,1,0,0]
[null,"3.0CA","PÓRTICOS DE CONCRETO ARMADO","Estructuras con pórticos de concreto armado, habitualmente para uso comercial o de vivienda. Los pisos y techos son por lo general losas aligeradas, que pueden ser con viguetas prefabricadas. Con menos frecuencia se emplean losas macizas, encasetonados y otros. Las cargas de gravedad son resistidas por las vigas y columnas que conforman los pórticos. Las cargas laterales son también resistidas por los pórticos, en los que puede tenerse un pequeño número de placas, tales como las de cajas de escaleras y de ascensores. Puede suponerse que los diafragmas son rígidos. En este sistema estructural se utiliza una cimentación con zapatas aisladas. Excepcionalmente se tienen estructuras cimentadas sobre pilotes, plateas de cimentación.","Estuctura resistente formada por columnas y vigas de concreto armado, formando pórticos, las columnas pueden ser cuadradas o circulares.",20,1,15,0]
[null,"4.0CP","PÓRTICOS DE CONCRETO ARMADO CON PLACAS (1)","\nSimilar a CA excepto porque prácticamente la totalidad de la fuerza lateral es resistida por placas de concreto armado de gran rigidez.\n\n","Similar a CA, adicionalmente cuenta con muros de concreto armado (placas) que aumentan la rigidez.",50,1,15,0]
[null,"5.0DL","MUROS DE CONCRETO ARMADO DE DUCTILIDAD LIMITADA","Construcciones cuyo sistema estructural está basado en muros de pared delgada, entre 8 cm y 12 cm, que tienen como acero de refuerzo, malla electrosoldada con elementos de confinamiento de capacidad limitada o puede prescindirse de extremos confinados. De acuerdo a la Norma Técnica de Edificaciones – Diseño Sismorresistente, (NTE E030-2016), se pueden construir hasta ocho niveles. Sin embargo, existen una gran cantidad de edificios con muros de ductilidad limitada con mayor número de pisos construidos previos a esta norma, que incorporan a este tipo de muros, acero de refuerzo dúctil en el tercio inferior de su altura.","Estructura resistente formada por muros de concreto armado de espesores reducidos, se prescinde de extremos confinados, con losas macizas o aligeradas.",20,1,0,0]
[null,"6.0EM","ENTRAMADOS DE MADERA","Construcciones de uno o más pisos, típicamente viviendas unifamiliares. Cargas moderadas. Luces relativamente cortas. Los pisos y techos están construidos a base de viguetas de madera, con separaciones del orden de 40 a 60 cm, que se apoyan sobre pie derechos o dinteles. Excepcionalmente pueden tenerse algunas columnas aisladas. Las acciones de sismo son soportadas por los muros, cuya rigidez depende del revestimiento. Los diafragmas son flexibles. Frecuentemente están constituidos por entablados de madera.","Estructura resistente formada por elementos de madera tanto en vigas, columnas y muros.",3,1,0,0]
[null,"7.0M1","MAMPOSTERÍA DE ARCILLA SIN REFUERZO","Muros portantes de mampostería sólida sin refuerzo ni elementos de confinamiento, típicamente con muros de cabeza o de mayor espesor.\nLas fuerzas laterales son resistidas por los muros. Los diafragmas de entrepiso son rígidos, con losas aligeradas o macizas. Su cimentación corrida de concreto ciclópeo, excepcionalmente zapatas aisladas.","Muros portantes de ladrillos de arcilla que no tienen columnas de confinamiento, muros de mayor espesor.",6,1,0,0]
[null,"8.0M2R","MAMPOSTERÍA ARMADA O CONFINADA CON DIAFRAGMAS RÍGIDOS","Muros portantes de mampostería confinada, con unidades sólidas. Unidades de arcilla, concreto o sílico calcáreas. Puede tener algunas pequeñas columnas de acero o madera. Las fuerzas laterales son resistidas por los muros. Poseen diafragmas rígidos en pisos, con losas aligeradas o macizas. Utilizan cimentación corrida de concreto ciclópeo, excepcionalmente zapatas aisladas.","Muros portantes de ladrillos de arcilla que tienen columnas de confinamiento en los extremos, o refuerzo interior de acero, con losas aligeradas o macizas.",6,1,1,0]
[null,"9.0M2F","MAMPOSTERÍA ARMADA O CONFINADA CON DIAFRAGMAS FLEXIBLES","Similar a M2R excepto por tener diafragmas de piso o techo flexibles, con viguetas de madera o de acero, incluyendo viguetas reticuladas. No deben incluirse en este grupo las construcciones de dos o más niveles en las que sólo el último nivel tenga un diafragma flexible; éstas deben ser clasificadas como M2R.","Muros portantes de ladrillos de arcilla que tienen columnas de confinamiento en los extremos, o refuerzo interior de acero, con piso o techo flexible de vigas de madera o acero.",6,1,1,0]
[null,"10.0M3","CONSTRUCCION INFORMAL EN ALBAÑERÍA","Similar a M2, pero con unidades tubulares (pandereta), o con insuficiente confinamiento","Similar a M2, pero con ladrillos de menor espesor (pandereta), o con insuficiente confinamiento",3,1,0,0]
[null,"11.0IC","ESTRUCTURAS INDUSTRIALES / COMERCIALES (2)","Estructuras con áreas mayores a 500 m2 y de grandes luces, destinadas a la industria o el comercio con pocos muros estructurales interiores. Generalmente este tipo de estructura está definido como por pórticos de acero de alma llena o una combinación de pórticos de concreto perimetrales con estructura metálica en los techos. La estructura de techos o pisos se basa en Tijerales de madera o de acero, que se apoyan en columnas de acero y/o columnas de concreto y/o elementos de mampostería.","Estructuras de grandes luces, pocas o nulas columnas intermedias y sin compartimentación por muros.",5,1,0,0]
[null,"12.0EE","ESTRUCTURAS ESPECIALES","Para los efectos de la presente Nota Técnica son aquellas estructuras que presentan tipologías estructurales y/o tipos de usos que no permiten la debida aplicación de la metodología señalada en el presente documento, al carecer de la información mínima requerida o por la dificultad para identificarla, conforme a lo dispuesto en el Reglamento aprobado por la SBS y sus modificatorias","Minas, Carreteras, Puentes, Reservorios, Tanques De Agua, Silos, Vías Ferreas, Torres De Transmisión, Instalaciones Sanitarias, Instalaciones Eléctricas, Tuberías Enterradas, Muelles o Puertos, Estructuras Hidraulicas, Sist. De Drenaje, Riego o Alcantarillado, Represas de Agua, Aeropuertos, Sistemas De Gas Natural, Sist De Instalaciones Petroleras Y Petroquímicas, Plantas De Tratamiento De Agua, Centrales Electricas o Hidroeléctricas, Estaciones Telemétricas, Estaciones De Tren, Estructuras Especiales (Otros)",15,1,3,0]

{"sheet":"Ayuda GEO","index":4,"n_rows":14,"n_cols":6,"rows_kept":14,"cut":false,"hidden":false,"merged":[[4,2,4,4],[7,2,7,4],[10,2,10,4],[13,2,13,4]]}
[]
[]
[]
[]
[null,"Paso1:","Buscar \"Google maps\" en el buscador de su preferencia.",null,null,"https://maps.google.com"]
[]
[]
[null,"Paso2:","Ingresar los puntos de georreferenciación arrojados en el formato (separados por una coma)."]
[]
[]
[null,"Paso3:","Verificar en el mapa que la ubicación (el marcado rojo) corresponde a la dirección de la edificación (acercar lo más posible)."]
[]
[]
[null,"Paso4:","Si no corresponde, editar el detalle de la dirección dentro de la pestaña formato (Nombre de la calle, número, etc.). Hasta lograr una mejor precisión."]

{"sheet":"Preguntas Frecuentes","index":5,"n_rows":28,"n_cols":3,"rows_kept":28,"cut":false,"hidden":true,"merged":[]}
[]
[]
[null,null,"Preguntas Frecuentes"]
[]
[null,null,"¿El tipo de uso es del edificio o del piso que se está asegurando?"]
[null,null,"El tipo de uso es hace referencia a la actividad económica desarrollada en el…."]
[null,null,"¿El número de pisos es de bien asegurado o del edificio?"]
[]
[]
[]
[null,null,"¿Que campos son obligatorios?"]
[null,null,"Los campos obligatorios son: tipo de calle/vía, nombre de calle/vía, País, dpto., provincia, distrito, año de construcción de la edificación, tipo de material de construcción predominante, número de pisos del edificio, número de sótanos del edificio, tipo de uso y tipo de propiedad asegurada."]
[null,null,"¿Que sucede si la dirección no tiene número?"]
[null,null,"Si no tiene número dejar en blanco y optar por otros campos que ayuden a la georeferenciación (Mz , Lote, Km, etc.)"]
[null,null,"¿Que sucede si la dirección no tiene tipo de vía, es decir la dirección no tiene calle, av., etc.?"]
[null,null,"Se deberá seleccionar al final del desplegable la opción sin tipo y completar los otros campos del detalle de la dirección de riesgo."]
[null,null,"¿Por que se pinta de rojo la columna de ubigeo?"]
[null,null,"La columna de ubigeo se muestra en rojo cuando el distrito, la provincia y el departamento no muestran consistencia. "]
[null,null,"¿Qué sucede si es una esquina y tiene 2 direcciones?"]
[null,null,"Se recomienda utilizar la dirección que contenga la avenida principal dado que el motor de búsqueda es Google maps."]
[null,null,"¿Qué sucede si hay refacciones, qué año se debe considerar como año de construcción?"]
[null,null,"Se debe de considerar el año de construcción de la edificiación. En caso de haber tenido un reforzamiento estructural, considerar el año en que este fue realizado"]
[null,null,"¿Qué sucede si no conozco el material de construcción?"]
[null,null,"Debe guiarse de la pestaña ayuda material incluida dentro de este formato."]
[null,null,"¿Qué sucede si el local tiene actividad diferente a la principal?"]
[null,null,"Se debe considerar la actividad que se realiza en la ubicación declarada considerando los campos tipo de uso / giro negocio / CIIU"]
[null,null,"¿Qué sucede si hay líneas de transmisión?"]
[null,null,"Se seleccionará dentro de la columna Tipo de material la opción de Estructuras especiales y en la columna tipo de uso la opción EE Torres de transmisión."]

{"sheet":"TipoBien","index":6,"n_rows":19,"n_cols":11,"rows_kept":19,"cut":false,"hidden":true,"merged":[]}
[]
[null,"DESCRIPCIÓN DEL BIEN","CLASE",null,"DESCRIPCIÓN DEL BIEN","CLASE",null,"DESCRIPCIÓN DEL BIEN","CLASE",null,"VD Lucro"]
[null,"SELECCIONAR OTRO (OPCIONAL)","EDIFICACIÓN",null,"SELECCIONAR OTRO (OPCIONAL)","CONTENIDO",null,"SELECCIONAR OTRO (OPCIONAL)","LUCRO CESANTE",null,12]
[null,"AVISOS LUMINOSOS Y/O PANELES DE PUBLICIDAD","EDIFICACIÓN",null,"ACERVO DOCUMENTARIO","CONTENIDO",null,"Gastos estables (fijos)","LUCRO CESANTE",null,18]
[null,"CARRETERAS","EDIFICACIÓN",null,"ANIMALES VIVOS","CONTENIDO",null,"Beneficio Bruto (margen de contribución)","LUCRO CESANTE",null,24]
[null,"EDIFICACION (CUANDO SE ASEGURA A VALOR COMERCIAL)","EDIFICACIÓN",null,"BIENES REFRIGERADOS","CONTENIDO"]
[null,"INSTALACIONES FIJAS Y/O MEJORAS","EDIFICACIÓN",null,"CUADROS Y/U OBRAS DE ARTE","CONTENIDO"]
[null,"LINEAS DE TRANSMISION","EDIFICACIÓN",null,"DINERO Y/O VALORES","CONTENIDO"]
[null,"MUELLES Y/O EMBARCADEROS","EDIFICACIÓN",null,"EMBARCACIONES EN DIQUE SECO","CONTENIDO"]
[null,"PISCINAS","EDIFICACIÓN",null,"EQUIPOS ELECTRONICOS","CONTENIDO"]
[null,"PISTAS, CERCOS Y/O VEREDAS","EDIFICACIÓN",null,"EQUIPOS MEDICOS","CONTENIDO"]
[null,"PUENTES","EDIFICACIÓN",null,"JOYAS","CONTENIDO"]
[null,"TANQUES","EDIFICACIÓN",null,"MAQUINARIA MOVIL Y EQUIPOS","CONTENIDO"]
[null,"TORRES DE ILUMINACION","EDIFICACIÓN",null,"MOBILIARIO EN GENERAL","CONTENIDO"]
[null,null,null,null,"MUEBLES , UTILES Y ENSERES","CONTENIDO"]
[null,null,null,null,"OTROS CONTENIDOS","CONTENIDO"]
[null,null,null,null,"PLANTACIONES","CONTENIDO"]
[null,null,null,null,"REPUESTOS Y/O HERRAMIENTAS","CONTENIDO"]
[null,null,null,null,"VEHICULOS PROPIOS Y/O DE TERCEROS (COMO CONTENIDO)","CONTENIDO"]

{"sheet":"Lista_Ubigeo","index":7,"n_rows":2070,"n_cols":13,"rows_kept":2070,"cut":false,"hidden":true,"merged":[]}
["DEPARTAMENTO","COD_DEP","DEPARTAMENTO","COD_DEP2","PROVINCIA","COD_PROV","PROVINCIA","COD_PROV2","DISTRITO","COD_DIST","DISTRITO","LLAVE1","COD_DIST"]
["AMAZONAS","01","AMAZONAS","AMA_01","CHACHAPOYAS","0101","CHACHAPOYAS",{"$f":"LEFT(UPPER(G2),3)&\"_\"&F2","v":"CHA_0101"},"CHACHAPOYAS","010101","CHACHAPOYAS",{"$f":"\"PERU\"&VLOOKUP(LEFT(J2,2),$B$1:$C$27,2,0)&VLOOKUP(LEFT(J2,4),$F$2:$G$197,2,0)&K2","v":"PERUAMAZONASCHACHAPOYASCHACHAPOYAS"},{"$f":"J2","v":"010101"}]
["ANCASH","02","ANCASH","ANC_02","BAGUA","0102","BAGUA",{"$f":"LEFT(UPPER(G3),3)&\"_\"&F3","v":"BAG_0102"},"ASUNCION","010102","ASUNCION",{"$f":"\"PERU\"&VLOOKUP(LEFT(J3,2),$B$1:$C$27,2,0)&VLOOKUP(LEFT(J3,4),$F$2:$G$197,2,0)&K3","v":"PERUAMAZONASCHACHAPOYASASUNCION"},{"$f":"J3","v":"010102"}]
["APURIMAC","03","APURIMAC","APU_03","BONGARA","0103","BONGARA","BON_0103","BALSAS","010103","BALSAS","PERUAMAZONASCHACHAPOYASBALSAS","010103"]
["AREQUIPA","04","AREQUIPA","ARE_04","CONDORCANQUI","0104","CONDORCANQUI","CON_0104","CHETO","010104","CHETO","PERUAMAZONASCHACHAPOYASCHETO","010104"]
["AYACUCHO","05","AYACUCHO","AYA_05","LUYA","0105","LUYA","LUY_0105","CHILIQUIN","010105","CHILIQUIN","PERUAMAZONASCHACHAPOYASCHILIQUIN","010105"]
["CAJAMARCA","06","CAJAMARCA","CAJ_06","RODRIGUEZ DE MENDOZA","0106","RODRIGUEZ DE MENDOZA","ROD_0106","CHUQUIBAMBA","010106","CHUQUIBAMBA","PERUAMAZONASCHACHAPOYASCHUQUIBAMBA","010106"]
["CALLAO","07","CALLAO","CAL_07","UTCUBAMBA","0107","UTCUBAMBA","UTC_0107","GRANADA","010107","GRANADA","PERUAMAZONASCHACHAPOYASGRANADA","010107"]
["CUSCO","08","CUSCO","CUS_08","HUARAZ","0201","HUARAZ","HUA_0201","HUANCAS","010108","HUANCAS","PERUAMAZONASCHACHAPOYASHUANCAS","010108"]
["HUANCAVELICA","09","HUANCAVELICA","HUA_09","AIJA","0202","AIJA","AIJ_0202","LA JALCA","010109","LA JALCA","PERUAMAZONASCHACHAPOYASLA JALCA","010109"]
["HUANUCO","10","HUANUCO","HUA_10","ANTONIO RAYMONDI","0203","ANTONIO RAYMONDI","ANT_0203","LEIMEBAMBA","010110","LEIMEBAMBA","PERUAMAZONASCHACHAPOYASLEIMEBAMBA","010110"]
["ICA","11","ICA","ICA_11","ASUNCION","0204","ASUNCION","ASU_0204","LEVANTO","010111","LEVANTO","PERUAMAZONASCHACHAPOYASLEVANTO","010111"]
["JUNIN","12","JUNIN","JUN_12","BOLOGNESI","0205","BOLOGNESI","BOL_0205","MAGDALENA","010112","MAGDALENA","PERUAMAZONASCHACHAPOYASMAGDALENA","010112"]
["LA LIBERTAD","13","LA LIBERTAD","LIB_13","CARHUAZ","0206","CARHUAZ","CAR_0206","MARISCAL CASTILLA","010113","MARISCAL CASTILLA","PERUAMAZONASCHACHAPOYASMARISCAL CASTILLA","010113"]
["LAMBAYEQUE","14","LAMBAYEQUE","LAM_14","CARLOS FERMIN FITZCARRALD","0207","CARLOS FERMIN FITZCARRALD","CAR_0207","MOLINOPAMPA","010114","MOLINOPAMPA","PERUAMAZONASCHACHAPOYASMOLINOPAMPA","010114"]
["LIMA","15","LIMA","LIM_15","CASMA","0208","CASMA","CAS_0208","MONTEVIDEO","010115","MONTEVIDEO","PERUAMAZONASCHACHAPOYASMONTEVIDEO","010115"]
["LORETO","16","LORETO","LOR_16","CORONGO","0209","CORONGO","COR_0209","OLLEROS","010116","OLLEROS","PERUAMAZONASCHACHAPOYASOLLEROS","010116"]
["MADRE DE DIOS","17","MADRE DE DIOS","MAD_17","HUARI","0210","HUARI","HUA_0210","QUIJALCA","010117","QUIJALCA","PERUAMAZONASCHACHAPOYASQUIJALCA","010117"]
["MOQUEGUA","18","MOQUEGUA","MOQ_18","HUARMEY","0211","HUARMEY","HUA_0211","SAN FRANCISCO DE DAGUAS","010118","SAN FRANCISCO DE DAGUAS","PERUAMAZONASCHACHAPOYASSAN FRANCISCO DE DAGUAS","010118"]
["PASCO","19","PASCO","PAS_19","HUAYLAS","0212","HUAYLAS","HUA_0212","SAN ISIDRO DE MAINO","010119","SAN ISIDRO DE MAINO","PERUAMAZONASCHACHAPOYASSAN ISIDRO DE MAINO","010119"]
["PIURA","20","PIURA","PIU_20","MARISCAL LUZURIAGA","0213","MARISCAL LUZURIAGA","MAR_0213","SOLOCO","010120","SOLOCO","PERUAMAZONASCHACHAPOYASSOLOCO","010120"]
["PUNO","21","PUNO","PUN_21","OCROS","0214","OCROS","OCR_0214","SONCHE","010121","SONCHE","PERUAMAZONASCHACHAPOYASSONCHE","010121"]
["SAN MARTIN","22","SAN MARTIN","SAN_22","PALLASCA","0215","PALLASCA","PAL_0215","BAGUA","010201","BAGUA","PERUAMAZONASBAGUABAGUA","010201"]
["TACNA","23","TACNA","TAC_23","POMABAMBA","0216","POMABAMBA","POM_0216","ARAMANGO","010202","ARAMANGO","PERUAMAZONASBAGUAARAMANGO","010202"]
["TUMBES","24","TUMBES","TUM_24","RECUAY","0217","RECUAY","REC_0217","COPALLIN","010203","COPALLIN","PERUAMAZONASBAGUACOPALLIN","010203"]
["UCAYALI","25","UCAYALI","UCA_25","SANTA","0218","SANTA","SAN_0218","EL PARCO","010204","EL PARCO","PERUAMAZONASBAGUAEL PARCO","010204"]
[null,null,null,null,"SIHUAS","0219","SIHUAS","SIH_0219","IMAZA","010205","IMAZA","PERUAMAZONASBAGUAIMAZA","010205"]
[null,null,null,null,"YUNGAY","0220","YUNGAY","YUN_0220","LA PECA","010206","LA PECA","PERUAMAZONASBAGUALA PECA","010206"]
[null,null,null,null,"ABANCAY","0301","ABANCAY","ABA_0301","JUMBILLA","010301","JUMBILLA","PERUAMAZONASBONGARAJUMBILLA","010301"]
[null,null,null,null,"ANDAHUAYLAS","0302","ANDAHUAYLAS","AND_0302","CHISQUILLA","010302","CHISQUILLA","PERUAMAZONASBONGARACHISQUILLA","010302"]
[null,null,null,null,"ANTABAMBA","0303","ANTABAMBA","ANT_0303","CHURUJA","010303","CHURUJA","PERUAMAZONASBONGARACHURUJA","010303"]
[null,null,null,null,"AYMARAES","0304","AYMARAES","AYM_0304","COROSHA","010304","COROSHA","PERUAMAZONASBONGARACOROSHA","010304"]
[null,null,null,null,"COTABAMBAS","0305","COTABAMBAS","COT_0305","CUISPES","010305","CUISPES","PERUAMAZONASBONGARACUISPES","010305"]
[null,null,null,null,"CHINCHEROS","0306","CHINCHEROS","CHI_0306","FLORIDA","010306","FLORIDA","PERUAMAZONASBONGARAFLORIDA","010306"]
[null,null,null,null,"GRAU","0307","GRAU","GRA_0307","JAZAN","010307","JAZAN","PERUAMAZONASBONGARAJAZAN","010307"]
[null,null,null,null,"AREQUIPA","0401","AREQUIPA","ARE_0401","RECTA","010308","RECTA","PERUAMAZONASBONGARARECTA","010308"]
[null,null,null,null,"CAMANA","0402","CAMANA","CAM_0402","SAN CARLOS","010309","SAN CARLOS","PERUAMAZONASBONGARASAN CARLOS","010309"]
[null,null,null,null,"CARAVELI","0403","CARAVELI","CAR_0403","SHIPASBAMBA","010310","SHIPASBAMBA","PERUAMAZONASBONGARASHIPASBAMBA","010310"]
[null,null,null,null,"CASTILLA","0404","CASTILLA","CAS_0404","VALERA","010311","VALERA","PERUAMAZONASBONGARAVALERA","010311"]
[null,null,null,null,"CAYLLOMA","0405","CAYLLOMA","CAY_0405","YAMBRASBAMBA","010312","YAMBRASBAMBA","PERUAMAZONASBONGARAYAMBRASBAMBA","010312"]
[null,null,null,null,"CONDESUYOS","0406","CONDESUYOS","CON_0406","NIEVA","010401","NIEVA","PERUAMAZONASCONDORCANQUINIEVA","010401"]
[null,null,null,null,"ISLAY","0407","ISLAY","ISL_0407","EL CENEPA","010402","EL CENEPA","PERUAMAZONASCONDORCANQUIEL CENEPA","010402"]
[null,null,null,null,"LA UNION","0408","LA UNION",{"$f":"LEFT(UPPER(G43),2)&\"_\"&F43","v":"LA_0408"},"RIO SANTIAGO","010403","RIO SANTIAGO","PERUAMAZONASCONDORCANQUIRIO SANTIAGO","010403"]
[null,null,null,null,"HUAMANGA","0501","HUAMANGA","HUA_0501","LAMUD","010501","LAMUD","PERUAMAZONASLUYALAMUD","010501"]
[null,null,null,null,"CANGALLO","0502","CANGALLO","CAN_0502","CAMPORREDONDO","010502","CAMPORREDONDO","PERUAMAZONASLUYACAMPORREDONDO","010502"]
[null,null,null,null,"HUANCA SANCOS","0503","HUANCA SANCOS","HUA_0503","COCABAMBA","010503","COCABAMBA","PERUAMAZONASLUYACOCABAMBA","010503"]
[null,null,null,null,"HUANTA","0504","HUANTA","HUA_0504","COLCAMAR","010504","COLCAMAR","PERUAMAZONASLUYACOLCAMAR","010504"]
[null,null,null,null,"LA MAR","0505","LA MAR",{"$f":"LEFT(UPPER(G48),2)&\"__\"&F48","v":"LA__0505"},"CONILA","010505","CONILA","PERUAMAZONASLUYACONILA","010505"]
[null,null,null,null,"LUCANAS","0506","LUCANAS","LUC_0506","INGUILPATA","010506","INGUILPATA","PERUAMAZONASLUYAINGUILPATA","010506"]
[null,null,null,null,"PARINACOCHAS","0507","PARINACOCHAS","PAR_0507","LONGUITA","010507","LONGUITA","PERUAMAZONASLUYALONGUITA","010507"]
[null,null,null,null,"PAUCAR DEL SARA SARA","0508","PAUCAR DEL SARA SARA","PAU_0508","LONYA CHICO","010508","LONYA CHICO","PERUAMAZONASLUYALONYA CHICO","010508"]
[null,null,null,null,"SUCRE","0509","SUCRE","SUC_0509","LUYA","010509","LUYA","PERUAMAZONASLUYALUYA","010509"]
[null,null,null,null,"VICTOR FAJARDO","0510","VICTOR FAJARDO","VIC_0510","LUYA VIEJO","010510","LUYA VIEJO","PERUAMAZONASLUYALUYA VIEJO","010510"]
[null,null,null,null,"VILCAS HUAMAN","0511","VILCAS HUAMAN","VIL_0511","MARIA","010511","MARIA","PERUAMAZONASLUYAMARIA","010511"]
[null,null,null,null,"CAJAMARCA","0601","CAJAMARCA","CAJ_0601","OCALLI","010512","OCALLI","PERUAMAZONASLUYAOCALLI","010512"]
[null,null,null,null,"CAJABAMBA","0602","CAJABAMBA","CAJ_0602","OCUMAL","010513","OCUMAL","PERUAMAZONASLUYAOCUMAL","010513"]
[null,null,null,null,"CELENDIN","0603","CELENDIN","CEL_0603","PISUQUIA","010514","PISUQUIA","PERUAMAZONASLUYAPISUQUIA","010514"]
[null,null,null,null,"CHOTA","0604","CHOTA","CHO_0604","PROVIDENCIA","010515","PROVIDENCIA","PERUAMAZONASLUYAPROVIDENCIA","010515"]
[null,null,null,null,"CONTUMAZA","0605","CONTUMAZA","CON_0605","SAN CRISTOBAL","010516","SAN CRISTOBAL","PERUAMAZONASLUYASAN CRISTOBAL","010516"]
[null,null,null,null,"CUTERVO","0606","CUTERVO","CUT_0606","SAN FRANCISCO DEL YESO","010517","SAN FRANCISCO DEL YESO","PERUAMAZONASLUYASAN FRANCISCO DEL YESO","010517"]
[null,null,null,null,"HUALGAYOC","0607","HUALGAYOC","HUA_0607","SAN JERONIMO","010518","SAN JERONIMO","PERUAMAZONASLUYASAN JERONIMO","010518"]
[null,null,null,null,"JAEN","0608","JAEN","JAE_0608","SAN JUAN DE LOPECANCHA","010519","SAN JUAN DE LOPECANCHA","PERUAMAZONASLUYASAN JUAN DE LOPECANCHA","010519"]
[null,null,null,null,"SAN IGNACIO","0609","SAN IGNACIO","SAN_0609","SANTA CATALINA","010520","SANTA CATALINA","PERUAMAZONASLUYASANTA CATALINA","010520"]
[null,null,null,null,"SAN MARCOS","0610","SAN MARCOS","SAN_0610","SANTO TOMAS","010521","SANTO TOMAS","PERUAMAZONASLUYASANTO TOMAS","010521"]
[null,null,null,null,"SAN MIGUEL","0611","SAN MIGUEL","SAN_0611","TINGO","010522","TINGO","PERUAMAZONASLUYATINGO","010522"]
[null,null,null,null,"SAN PABLO","0612","SAN PABLO","SAN_0612","TRITA","010523","TRITA","PERUAMAZONASLUYATRITA","010523"]
[null,null,null,null,"SANTA CRUZ","0613","SANTA CRUZ",{"$f":"LEFT(UPPER(G67),3)&\"_\"&F67","v":"SAN_0613"},"SAN NICOLAS","010601","SAN NICOLAS",{"$f":"\"PERU\"&VLOOKUP(LEFT(J67,2),$B$1:$C$27,2,0)&VLOOKUP(LEFT(J67,4),$F$2:$G$197,2,0)&K67","v":"PERUAMAZONASRODRIGUEZ DE MENDOZASAN NICOLAS"},{"$f":"J67","v":"010601"}]
[null,null,null,null,"CALLAO","0701","CALLAO","PRO_0701","CHIRIMOTO","010602","CHIRIMOTO","PERUAMAZONASRODRIGUEZ DE MENDOZACHIRIMOTO","010602"]
[null,null,null,null,"CUSCO","0801","CUSCO","CUS_0801","COCHAMAL","010603","COCHAMAL","PERUAMAZONASRODRIGUEZ DE MENDOZACOCHAMAL","010603"]
[null,null,null,null,"ACOMAYO","0802","ACOMAYO","ACO_0802","HUAMBO","010604","HUAMBO","PERUAMAZONASRODRIGUEZ DE MENDOZAHUAMBO","010604"]
[null,null,null,null,"ANTA","0803","ANTA","ANT_0803","LIMABAMBA","010605","LIMABAMBA","PERUAMAZONASRODRIGUEZ DE MENDOZALIMABAMBA","010605"]
[null,null,null,null,"CALCA","0804","CALCA","CAL_0804","LONGAR","010606","LONGAR","PERUAMAZONASRODRIGUEZ DE MENDOZALONGAR","010606"]
[null,null,null,null,"CANAS","0805","CANAS","CAN_0805","MARISCAL BENAVIDES","010607","MARISCAL BENAVIDES","PERUAMAZONASRODRIGUEZ DE MENDOZAMARISCAL BENAVIDES","010607"]
[null,null,null,null,"CANCHIS","0806","CANCHIS","CAN_0806","MILPUC","010608","MILPUC","PERUAMAZONASRODRIGUEZ DE MENDOZAMILPUC","010608"]
[null,null,null,null,"CHUMBIVILCAS","0807","CHUMBIVILCAS","CHU_0807","OMIA","010609","OMIA","PERUAMAZONASRODRIGUEZ DE MENDOZAOMIA","010609"]
[null,null,null,null,"ESPINAR","0808","ESPINAR","ESP_0808","SANTA ROSA","010610","SANTA ROSA","PERUAMAZONASRODRIGUEZ DE MENDOZASANTA ROSA","010610"]
[null,null,null,null,"LA CONVENCION","0809","LA CONVENCION",{"$f":"LEFT(UPPER(G77),2)&\"_\"&F77","v":"LA_0809"},"TOTORA","010611","TOTORA","PERUAMAZONASRODRIGUEZ DE MENDOZATOTORA","010611"]
[null,null,null,null,"PARURO","0810","PARURO","PAR_0810","VISTA ALEGRE","010612","VISTA ALEGRE","PERUAMAZONASRODRIGUEZ DE MENDOZAVISTA ALEGRE","010612"]
[null,null,null,null,"PAUCARTAMBO","0811","PAUCARTAMBO","PAU_0811","BAGUA GRANDE","010701","BAGUA GRANDE","PERUAMAZONASUTCUBAMBABAGUA GRANDE","010701"]
[null,null,null,null,"QUISPICANCHI","0812","QUISPICANCHI","QUI_0812","CAJARURO","010702","CAJARURO","PERUAMAZONASUTCUBAMBACAJARURO","010702"]
[null,null,null,null,"URUBAMBA","0813","URUBAMBA","URU_0813","CUMBA","010703","CUMBA","PERUAMAZONASUTCUBAMBACUMBA","010703"]
[null,null,null,null,"HUANCAVELICA","0901","HUANCAVELICA","HUA_0901","EL MILAGRO","010704","EL MILAGRO","PERUAMAZONASUTCUBAMBAEL MILAGRO","010704"]
[null,null,null,null,"ACOBAMBA","0902","ACOBAMBA","ACO_0902","JAMALCA","010705","JAMALCA","PERUAMAZONASUTCUBAMBAJAMALCA","010705"]
[null,null,null,null,"ANGARAES","0903","ANGARAES","ANG_0903","LONYA GRANDE","010706","LONYA GRANDE","PERUAMAZONASUTCUBAMBALONYA GRANDE","010706"]
[null,null,null,null,"CASTROVIRREYNA","0904","CASTROVIRREYNA","CAS_0904","YAMON","010707","YAMON","PERUAMAZONASUTCUBAMBAYAMON","010707"]
[null,null,null,null,"CHURCAMPA","0905","CHURCAMPA","CHU_0905","HUARAZ","020101","HUARAZ","PERUANCASHHUARAZHUARAZ","020101"]
[null,null,null,null,"HUAYTARA","0906","HUAYTARA","HUA_0906","COCHABAMBA","020102","COCHABAMBA","PERUANCASHHUARAZCOCHABAMBA","020102"]
[null,null,null,null,"TAYACAJA","0907","TAYACAJA","TAY_0907","COLCABAMBA","020103","COLCABAMBA","PERUANCASHHUARAZCOLCABAMBA","020103"]
[null,null,null,null,"HUANUCO","1001","HUANUCO","HUA_1001","HUANCHAY","020104","HUANCHAY","PERUANCASHHUARAZHUANCHAY","020104"]
[null,null,null,null,"AMBO","1002","AMBO","AMB_1002","INDEPENDENCIA","020105","INDEPENDENCIA","PERUANCASHHUARAZINDEPENDENCIA","020105"]
[null,null,null,null,"DOS DE MAYO","1003","DOS DE MAYO","DOS_1003","JANGAS","020106","JANGAS","PERUANCASHHUARAZJANGAS","020106"]
[null,null,null,null,"HUACAYBAMBA","1004","HUACAYBAMBA","HUA_1004","LA LIBERTAD","020107","LA LIBERTAD","PERUANCASHHUARAZLA LIBERTAD","020107"]
[null,null,null,null,"HUAMALIES","1005","HUAMALIES","HUA_1005","OLLEROS","020108","OLLEROS","PERUANCASHHUARAZOLLEROS","020108"]
[null,null,null,null,"LEONCIO PRADO","1006","LEONCIO PRADO","LEO_1006","PAMPAS GRANDE","020109","PAMPAS GRANDE","PERUANCASHHUARAZPAMPAS GRANDE","020109"]
[null,null,null,null,"MARAÑON","1007","MARAÑON","MAR_1007","PARIACOTO","020110","PARIACOTO","PERUANCASHHUARAZPARIACOTO","020110"]
[null,null,null,null,"PACHITEA","1008","PACHITEA","PAC_1008","PIRA","020111","PIRA","PERUANCASHHUARAZPIRA","020111"]
[null,null,null,null,"PUERTO INCA","1009","PUERTO INCA","PUE_1009","TARICA","020112","TARICA","PERUANCASHHUARAZTARICA","020112"]
[null,null,null,null,"LAURICOCHA","1010","LAURICOCHA","LAU_1010","AIJA","020201","AIJA","PERUANCASHAIJAAIJA","020201"]
[null,null,null,null,"YAROWILCA","1011","YAROWILCA","YAR_1011","CORIS","020202","CORIS","PERUANCASHAIJACORIS","020202"]
[null,null,null,null,"ICA","1101","ICA","ICA_1101","HUACLLAN","020203","HUACLLAN","PERUANCASHAIJAHUACLLAN","020203"]
[null,null,null,null,"CHINCHA","1102","CHINCHA","CHI_1102","LA MERCED","020204","LA MERCED","PERUANCASHAIJALA MERCED","020204"]
[null,null,null,null,"NAZCA","1103","NAZCA","NAZ_1103","SUCCHA","020205","SUCCHA","PERUANCASHAIJASUCCHA","020205"]
[null,null,null,null,"PALPA","1104","PALPA","PAL_1104","LLAMELLIN","020301","LLAMELLIN","PERUANCASHANTONIO RAYMONDILLAMELLIN","020301"]
[null,null,null,null,"PISCO","1105","PISCO","PIS_1105","ACZO","020302","ACZO","PERUANCASHANTONIO RAYMONDIACZO","020302"]
[null,null,null,null,"HUANCAYO","1201","HUANCAYO","HUA_1201","CHACCHO","020303","CHACCHO","PERUANCASHANTONIO RAYMONDICHACCHO","020303"]
[null,null,null,null,"CONCEPCION","1202","CONCEPCION","CON_1202","CHINGAS","020304","CHINGAS","PERUANCASHANTONIO RAYMONDICHINGAS","020304"]
[null,null,null,null,"CHANCHAMAYO","1203","CHANCHAMAYO","CHA_1203","MIRGAS","020305","MIRGAS","PERUANCASHANTONIO RAYMONDIMIRGAS","020305"]
[null,null,null,null,"JAUJA","1204","JAUJA","JAU_1204","SAN JUAN DE RONTOY","020306","SAN JUAN DE RONTOY","PERUANCASHANTONIO RAYMONDISAN JUAN DE RONTOY","020306"]
[null,null,null,null,"JUNIN","1205","JUNIN","JUN_1205","CHACAS","020401","CHACAS","PERUANCASHASUNCIONCHACAS","020401"]
[null,null,null,null,"SATIPO","1206","SATIPO","SAT_1206","ACOCHACA","020402","ACOCHACA","PERUANCASHASUNCIONACOCHACA","020402"]
[null,null,null,null,"TARMA","1207","TARMA","TAR_1207","CHIQUIAN","020501","CHIQUIAN","PERUANCASHBOLOGNESICHIQUIAN","020501"]
[null,null,null,null,"YAULI","1208","YAULI","YAU_1208","ABELARDO PARDO LEZAMETA","020502","ABELARDO PARDO LEZAMETA","PERUANCASHBOLOGNESIABELARDO PARDO LEZAMETA","020502"]
[null,null,null,null,"CHUPACA","1209","CHUPACA","CHU_1209","ANTONIO RAYMONDI","020503","ANTONIO RAYMONDI","PERUANCASHBOLOGNESIANTONIO RAYMONDI","020503"]
[null,null,null,null,"TRUJILLO","1301","TRUJILLO","TRU_1301","AGUIA","020504","AGUIA","PERUANCASHBOLOGNESIAGUIA","020504"]
[null,null,null,null,"ASCOPE","1302","ASCOPE","ASC_1302","CAJACAY","020505","CAJACAY","PERUANCASHBOLOGNESICAJACAY","020505"]
[null,null,null,null,"BOLIVAR","1303","BOLIVAR","BOL_1303","CANIS","020506","CANIS","PERUANCASHBOLOGNESICANIS","020506"]
[null,null,null,null,"CHEPEN","1304","CHEPEN","CHE_1304","COLQUIOC","020507","COLQUIOC","PERUANCASHBOLOGNESICOLQUIOC","020507"]
[null,null,null,null,"JULCAN","1305","JULCAN","JUL_1305","HUALLANCA","020508","HUALLANCA","PERUANCASHBOLOGNESIHUALLANCA","020508"]
[null,null,null,null,"OTUZCO","1306","OTUZCO","OTU_1306","HUASTA","020509","HUASTA","PERUANCASHBOLOGNESIHUASTA","020509"]
[null,null,null,null,"PACASMAYO","1307","PACASMAYO","PAC_1307","HUAYLLACAYAN","020510","HUAYLLACAYAN","PERUANCASHBOLOGNESIHUAYLLACAYAN","020510"]
[null,null,null,null,"PATAZ","1308","PATAZ","PAT_1308","LA PRIMAVERA","020511","LA PRIMAVERA","PERUANCASHBOLOGNESILA PRIMAVERA","020511"]
[null,null,null,null,"SANCHEZ CARRION","1309","SANCHEZ CARRION","SÁN_1309","MANGAS","020512","MANGAS","PERUANCASHBOLOGNESIMANGAS","020512"]
[null,null,null,null,"SANTIAGO DE CHUCO","1310","SANTIAGO DE CHUCO","SAN_1310","PACLLON","020513","PACLLON","PERUANCASHBOLOGNESIPACLLON","020513"]
[null,null,null,null,"GRAN CHIMU","1311","GRAN CHIMU","GRA_1311","SAN MIGUEL DE CORPANQUI","020514","SAN MIGUEL DE CORPANQUI","PERUANCASHBOLOGNESISAN MIGUEL DE CORPANQUI","020514"]
[null,null,null,null,"VIRU","1312","VIRU","VIR_1312","TICLLOS","020515","TICLLOS","PERUANCASHBOLOGNESITICLLOS","020515"]
[null,null,null,null,"CHICLAYO","1401","CHICLAYO","CHI_1401","CARHUAZ","020601","CARHUAZ","PERUANCASHCARHUAZCARHUAZ","020601"]
[null,null,null,null,"FERREÑAFE","1402","FERREÑAFE","FER_1402","ACOPAMPA","020602","ACOPAMPA","PERUANCASHCARHUAZACOPAMPA","020602"]
[null,null,null,null,"LAMBAYEQUE","1403","LAMBAYEQUE","LAM_1403","AMASHCA","020603","AMASHCA","PERUANCASHCARHUAZAMASHCA","020603"]
[null,null,null,null,"LIMA","1501","LIMA","LIM_1501","ANTA","020604","ANTA","PERUANCASHCARHUAZANTA","020604"]
[null,null,null,null,"BARRANCA","1502","BARRANCA","BAR_1502","ATAQUERO","020605","ATAQUERO","PERUANCASHCARHUAZATAQUERO","020605"]
[null,null,null,null,"CAJATAMBO","1503","CAJATAMBO",{"$f":"LEFT(UPPER(G131),3)&\"_\"&F131","v":"CAJ_1503"},"MARCARA","020606","MARCARA",{"$f":"\"PERU\"&VLOOKUP(LEFT(J131,2),$B$1:$C$27,2,0)&VLOOKUP(LEFT(J131,4),$F$2:$G$197,2,0)&K131","v":"PERUANCASHCARHUAZMARCARA"},{"$f":"J131","v":"020606"}]
[null,null,null,null,"CANTA","1504","CANTA","CAN_1504","PARIAHUANCA","020607","PARIAHUANCA","PERUANCASHCARHUAZPARIAHUANCA","020607"]
[null,null,null,null,"CAÑETE","1505","CAÑETE","CAÑ_1505","SAN MIGUEL DE ACO","020608","SAN MIGUEL DE ACO","PERUANCASHCARHUAZSAN MIGUEL DE ACO","020608"]
[null,null,null,null,"HUARAL","1506","HUARAL","HUA_1506","SHILLA","020609","SHILLA","PERUANCASHCARHUAZSHILLA","020609"]
[null,null,null,null,"HUAROCHIRI","1507","HUAROCHIRI","HUA_1507","TINCO","020610","TINCO","PERUANCASHCARHUAZTINCO","020610"]
[null,null,null,null,"HUAURA","1508","HUAURA","HUA_1508","YUNGAR","020611","YUNGAR","PERUANCASHCARHUAZYUNGAR","020611"]
[null,null,null,null,"OYON","1509","OYON","OYO_1509","SAN LUIS","020701","SAN LUIS","PERUANCASHCARLOS FERMIN FITZCARRALDSAN LUIS","020701"]
[null,null,null,null,"YAUYOS","1510","YAUYOS","YAU_1510","SAN NICOLAS","020702","SAN NICOLAS","PERUANCASHCARLOS FERMIN FITZCARRALDSAN NICOLAS","020702"]
[null,null,null,null,"MAYNAS","1601","MAYNAS","MAY_1601","YAUYA","020703","YAUYA","PERUANCASHCARLOS FERMIN FITZCARRALDYAUYA","020703"]
[null,null,null,null,"ALTO AMAZONAS","1602","ALTO AMAZONAS","ALT_1602","CASMA","020801","CASMA","PERUANCASHCASMACASMA","020801"]
[null,null,null,null,"LORETO","1603","LORETO","LOR_1603","BUENA VISTA ALTA","020802","BUENA VISTA ALTA","PERUANCASHCASMABUENA VISTA ALTA","020802"]
[null,null,null,null,"MARISCAL RAMON CASTILLA","1604","MARISCAL RAMON CASTILLA","MAR_1604","COMANDANTE NOEL","020803","COMANDANTE NOEL","PERUANCASHCASMACOMANDANTE NOEL","020803"]
[null,null,null,null,"REQUENA","1605","REQUENA","REQ_1605","YAUTAN","020804","YAUTAN","PERUANCASHCASMAYAUTAN","020804"]
[null,null,null,null,"UCAYALI","1606","UCAYALI","UCA_1606","CORONGO","020901","CORONGO","PERUANCASHCORONGOCORONGO","020901"]
[null,null,null,null,"DATEM DEL MARAÑON","1607","DATEM DEL MARAÑON","DAT_1607","ACO","020902","ACO","PERUANCASHCORONGOACO","020902"]
[null,null,null,null,"PUTUMAYO","1608","PUTUMAYO","PUT_1608","BAMBAS","020903","BAMBAS","PERUANCASHCORONGOBAMBAS","020903"]
[null,null,null,null,"TAMBOPATA","1701","TAMBOPATA","TAM_1701","CUSCA","020904","CUSCA","PERUANCASHCORONGOCUSCA","020904"]
[null,null,null,null,"MANU","1702","MANU","MAN_1702","LA PAMPA","020905","LA PAMPA","PERUANCASHCORONGOLA PAMPA","020905"]
[null,null,null,null,"TAHUAMANU","1703","TAHUAMANU","TAH_1703","YANAC","020906","YANAC","PERUANCASHCORONGOYANAC","020906"]
[null,null,null,null,"MARISCAL NIETO","1801","MARISCAL NIETO","MAR_1801","YUPAN","020907","YUPAN","PERUANCASHCORONGOYUPAN","020907"]
[null,null,null,null,"GENERAL SANCHEZ CERRO","1802","GENERAL SANCHEZ CERRO","GEN_1802","HUARI","021001","HUARI","PERUANCASHHUARIHUARI","021001"]
[null,null,null,null,"ILO","1803","ILO","ILO_1803","ANRA","021002","ANRA","PERUANCASHHUARIANRA","021002"]
[null,null,null,null,"PASCO","1901","PASCO","PAS_1901","CAJAY","021003","CAJAY","PERUANCASHHUARICAJAY","021003"]
[null,null,null,null,"DANIEL ALCIDES CARRION","1902","DANIEL ALCIDES CARRION","DAN_1902","CHAVIN DE HUANTAR","021004","CHAVIN DE HUANTAR","PERUANCASHHUARICHAVIN DE HUANTAR","021004"]
[null,null,null,null,"OXAPAMPA","1903","OXAPAMPA","OXA_1903","HUACACHI","021005","HUACACHI","PERUANCASHHUARIHUACACHI","021005"]
[null,null,null,null,"PIURA","2001","PIURA","PIU_2001","HUACCHIS","021006","HUACCHIS","PERUANCASHHUARIHUACCHIS","021006"]
[null,null,null,null,"AYABACA","2002","AYABACA","AYA_2002","HUACHIS","021007","HUACHIS","PERUANCASHHUARIHUACHIS","021007"]
[null,null,null,null,"HUANCABAMBA","2003","HUANCABAMBA","HUA_2003","HUANTAR","021008","HUANTAR","PERUANCASHHUARIHUANTAR","021008"]
[null,null,null,null,"MORROPON","2004","MORROPON","MOR_2004","MASIN","021009","MASIN","PERUANCASHHUARIMASIN","021009"]
[null,null,null,null,"PAITA","2005","PAITA","PAI_2005","PAUCAS","021010","PAUCAS","PERUANCASHHUARIPAUCAS","021010"]
[null,null,null,null,"SULLANA","2006","SULLANA","SUL_2006","PONTO","021011","PONTO","PERUANCASHHUARIPONTO","021011"]
[null,null,null,null,"TALARA","2007","TALARA","TAL_2007","RAHUAPAMPA","021012","RAHUAPAMPA","PERUANCASHHUARIRAHUAPAMPA","021012"]
[null,null,null,null,"SECHURA","2008","SECHURA","SEC_2008","RAPAYAN","021013","RAPAYAN","PERUANCASHHUARIRAPAYAN","021013"]
[null,null,null,null,"PUNO","2101","PUNO","PUN_2101","SAN MARCOS","021014","SAN MARCOS","PERUANCASHHUARISAN MARCOS","021014"]
[null,null,null,null,"AZANGARO","2102","AZANGARO","AZA_2102","SAN PEDRO DE CHANA","021015","SAN PEDRO DE CHANA","PERUANCASHHUARISAN PEDRO DE CHANA","021015"]
[null,null,null,null,"CARABAYA","2103","CARABAYA","CAR_2103","UCO","021016","UCO","PERUANCASHHUARIUCO","021016"]
[null,null,null,null,"CHUCUITO","2104","CHUCUITO","CHU_2104","HUARMEY","021101","HUARMEY","PERUANCASHHUARMEYHUARMEY","021101"]
[null,null,null,null,"EL COLLAO","2105","EL COLLAO",{"$f":"LEFT(UPPER(G168),2)&\"__\"&F168","v":"EL__2105"},"COCHAPETI","021102","COCHAPETI","PERUANCASHHUARMEYCOCHAPETI","021102"]
[null,null,null,null,"HUANCANE","2106","HUANCANE","HUA_2106","CULEBRAS","021103","CULEBRAS","PERUANCASHHUARMEYCULEBRAS","021103"]
[null,null,null,null,"LAMPA","2107","LAMPA","LAM_2107","HUAYAN","021104","HUAYAN","PERUANCASHHUARMEYHUAYAN","021104"]
[null,null,null,null,"MELGAR","2108","MELGAR","MEL_2108","MALVAS","021105","MALVAS","PERUANCASHHUARMEYMALVAS","021105"]
[null,null,null,null,"MOHO","2109","MOHO","MOH_2109","CARAZ","021201","CARAZ","PERUANCASHHUAYLASCARAZ","021201"]
[null,null,null,null,"SAN ANTONIO DE PUTINA","2110","SAN ANTONIO DE PUTINA","SAN_2110","HUALLANCA","021202","HUALLANCA","PERUANCASHHUAYLASHUALLANCA","021202"]
[null,null,null,null,"SAN ROMAN","2111","SAN ROMAN","SAN_2111","HUATA","021203","HUATA","PERUANCASHHUAYLASHUATA","021203"]
[null,null,null,null,"SANDIA","2112","SANDIA","SAN_2112","HUAYLAS","021204","HUAYLAS","PERUANCASHHUAYLASHUAYLAS","021204"]
[null,null,null,null,"YUNGUYO","2113","YUNGUYO","YUN_2113","MATO","021205","MATO","PERUANCASHHUAYLASMATO","021205"]
[null,null,null,null,"MOYOBAMBA","2201","MOYOBAMBA","MOY_2201","PAMPAROMAS","021206","PAMPAROMAS","PERUANCASHHUAYLASPAMPAROMAS","021206"]
[null,null,null,null,"BELLAVISTA","2202","BELLAVISTA","BEL_2202","PUEBLO LIBRE","021207","PUEBLO LIBRE","PERUANCASHHUAYLASPUEBLO LIBRE","021207"]
[null,null,null,null,"EL DORADO","2203","EL DORADO",{"$f":"LEFT(UPPER(G179),2)&\"__\"&F179","v":"EL__2203"},"SANTA CRUZ","021208","SANTA CRUZ","PERUANCASHHUAYLASSANTA CRUZ","021208"]
[null,null,null,null,"HUALLAGA","2204","HUALLAGA","HUA_2204","SANTO TORIBIO","021209","SANTO TORIBIO","PERUANCASHHUAYLASSANTO TORIBIO","021209"]
[null,null,null,null,"LAMAS","2205","LAMAS","LAM_2205","YURACMARCA","021210","YURACMARCA","PERUANCASHHUAYLASYURACMARCA","021210"]
[null,null,null,null,"MARISCAL CACERES","2206","MARISCAL CACERES","MAR_2206","PISCOBAMBA","021301","PISCOBAMBA","PERUANCASHMARISCAL LUZURIAGAPISCOBAMBA","021301"]
[null,null,null,null,"PICOTA","2207","PICOTA","PIC_2207","CASCA","021302","CASCA","PERUANCASHMARISCAL LUZURIAGACASCA","021302"]
[null,null,null,null,"RIOJA","2208","RIOJA","RIO_2208","ELEAZAR GUZMAN BARRON","021303","ELEAZAR GUZMAN BARRON","PERUANCASHMARISCAL LUZURIAGAELEAZAR GUZMAN BARRON","021303"]
[null,null,null,null,"SAN MARTIN","2209","SAN MARTIN","SAN_2209","FIDEL OLIVAS ESCUDERO","021304","FIDEL OLIVAS ESCUDERO","PERUANCASHMARISCAL LUZURIAGAFIDEL OLIVAS ESCUDERO","021304"]
[null,null,null,null,"TOCACHE","2210","TOCACHE","TOC_2210","LLAMA","021305","LLAMA","PERUANCASHMARISCAL LUZURIAGALLAMA","021305"]
[null,null,null,null,"TACNA","2301","TACNA","TAC_2301","LLUMPA","021306","LLUMPA","PERUANCASHMARISCAL LUZURIAGALLUMPA","021306"]
[null,null,null,null,"CANDARAVE","2302","CANDARAVE","CAN_2302","LUCMA","021307","LUCMA","PERUANCASHMARISCAL LUZURIAGALUCMA","021307"]
[null,null,null,null,"JORGE BASADRE","2303","JORGE BASADRE","JOR_2303","MUSGA","021308","MUSGA","PERUANCASHMARISCAL LUZURIAGAMUSGA","021308"]
[null,null,null,null,"TARATA","2304","TARATA","TAR_2304","OCROS","021401","OCROS","PERUANCASHOCROSOCROS","021401"]
[null,null,null,null,"TUMBES","2401","TUMBES","TUM_2401","ACAS","021402","ACAS","PERUANCASHOCROSACAS","021402"]
[null,null,null,null,"CONTRALMIRANTE VILLAR","2402","CONTRALMIRANTE VILLAR","CON_2402","CAJAMARQUILLA","021403","CAJAMARQUILLA","PERUANCASHOCROSCAJAMARQUILLA","021403"]
[null,null,null,null,"ZARUMILLA","2403","ZARUMILLA","ZAR_2403","CARHUAPAMPA","021404","CARHUAPAMPA","PERUANCASHOCROSCARHUAPAMPA","021404"]
[null,null,null,null,"CORONEL PORTILLO","2501","CORONEL PORTILLO","COR_2501","COCHAS","021405","COCHAS","PERUANCASHOCROSCOCHAS","021405"]
[null,null,null,null,"ATALAYA","2502","ATALAYA",{"$f":"LEFT(UPPER(G195),3)&\"_\"&F195","v":"ATA_2502"},"CONGAS","021406","CONGAS",{"$f":"\"PERU\"&VLOOKUP(LEFT(J195,2),$B$1:$C$27,2,0)&VLOOKUP(LEFT(J195,4),$F$2:$G$197,2,0)&K195","v":"PERUANCASHOCROSCONGAS"},{"$f":"J195","v":"021406"}]
[null,null,null,null,"PADRE ABAD","2503","PADRE ABAD",{"$f":"LEFT(UPPER(G196),3)&\"_\"&F196","v":"PAD_2503"},"LLIPA","021407","LLIPA","PERUANCASHOCROSLLIPA","021407"]
[null,null,null,null,"PURUS","2504","PURUS",{"$f":"LEFT(UPPER(G197),3)&\"_\"&F197","v":"PUR_2504"},"SAN CRISTOBAL DE RAJAN","021408","SAN CRISTOBAL DE RAJAN","PERUANCASHOCROSSAN CRISTOBAL DE RAJAN","021408"]
[null,null,null,null,null,"",null,null,"SAN PEDRO","021409","SAN PEDRO","PERUANCASHOCROSSAN PEDRO","021409"]
[null,null,null,null,null,"",null,null,"SANTIAGO DE CHILCAS","021410","SANTIAGO DE CHILCAS","PERUANCASHOCROSSANTIAGO DE CHILCAS","021410"]
[null,null,null,null,null,"",null,null,"CABANA","021501","CABANA","PERUANCASHPALLASCACABANA","021501"]
[null,null,null,null,null,"",null,null,"BOLOGNESI","021502","BOLOGNESI","PERUANCASHPALLASCABOLOGNESI","021502"]
[null,null,null,null,null,"",null,null,"CONCHUCOS","021503","CONCHUCOS","PERUANCASHPALLASCACONCHUCOS","021503"]
[null,null,null,null,null,"",null,null,"HUACASCHUQUE","021504","HUACASCHUQUE","PERUANCASHPALLASCAHUACASCHUQUE","021504"]
[null,null,null,null,null,"",null,null,"HUANDOVAL","021505","HUANDOVAL","PERUANCASHPALLASCAHUANDOVAL","021505"]
[null,null,null,null,null,"",null,null,"LACABAMBA","021506","LACABAMBA","PERUANCASHPALLASCALACABAMBA","021506"]
[null,null,null,null,null,"",null,null,"LLAPO","021507","LLAPO","PERUANCASHPALLASCALLAPO","021507"]
[null,null,null,null,null,"",null,null,"PALLASCA","021508","PALLASCA","PERUANCASHPALLASCAPALLASCA","021508"]
[null,null,null,null,null,"",null,null,"PAMPAS","021509","PAMPAS","PERUANCASHPALLASCAPAMPAS","021509"]
[null,null,null,null,null,"",null,null,"SANTA ROSA","021510","SANTA ROSA","PERUANCASHPALLASCASANTA ROSA","021510"]
[null,null,null,null,null,"",null,null,"TAUCA","021511","TAUCA","PERUANCASHPALLASCATAUCA","021511"]
[null,null,null,null,null,"",null,null,"POMABAMBA","021601","POMABAMBA","PERUANCASHPOMABAMBAPOMABAMBA","021601"]
[null,null,null,null,null,"",null,null,"HUAYLLAN","021602","HUAYLLAN","PERUANCASHPOMABAMBAHUAYLLAN","021602"]
[null,null,null,null,null,"",null,null,"PAROBAMBA","021603","PAROBAMBA","PERUANCASHPOMABAMBAPAROBAMBA","021603"]
[null,null,null,null,null,"",null,null,"QUINUABAMBA","021604","QUINUABAMBA","PERUANCASHPOMABAMBAQUINUABAMBA","021604"]
[null,null,null,null,null,"",null,null,"RECUAY","021701","RECUAY","PERUANCASHRECUAYRECUAY","021701"]
[null,null,null,null,null,"",null,null,"CATAC","021702","CATAC","PERUANCASHRECUAYCATAC","021702"]
[null,null,null,null,null,"",null,null,"COTAPARACO","021703","COTAPARACO","PERUANCASHRECUAYCOTAPARACO","021703"]
[null,null,null,null,null,"",null,null,"HUAYLLAPAMPA","021704","HUAYLLAPAMPA","PERUANCASHRECUAYHUAYLLAPAMPA","021704"]
[null,null,null,null,null,"",null,null,"LLACLLIN","021705","LLACLLIN","PERUANCASHRECUAYLLACLLIN","021705"]
[null,null,null,null,null,"",null,null,"MARCA","021706","MARCA","PERUANCASHRECUAYMARCA","021706"]
[null,null,null,null,null,"",null,null,"PAMPAS CHICO","021707","PAMPAS CHICO","PERUANCASHRECUAYPAMPAS CHICO","021707"]
[null,null,null,null,null,"",null,null,"PARARIN","021708","PARARIN","PERUANCASHRECUAYPARARIN","021708"]
[null,null,null,null,null,"",null,null,"TAPACOCHA","021709","TAPACOCHA","PERUANCASHRECUAYTAPACOCHA","021709"]
[null,null,null,null,null,"",null,null,"TICAPAMPA","021710","TICAPAMPA","PERUANCASHRECUAYTICAPAMPA","021710"]
[null,null,null,null,null,"",null,null,"CHIMBOTE","021801","CHIMBOTE","PERUANCASHSANTACHIMBOTE","021801"]
[null,null,null,null,null,"",null,null,"CACERES DEL PERU","021802","CACERES DEL PERU","PERUANCASHSANTACACERES DEL PERU","021802"]
[null,null,null,null,null,"",null,null,"COISHCO","021803","COISHCO","PERUANCASHSANTACOISHCO","021803"]
[null,null,null,null,null,"",null,null,"MACATE","021804","MACATE","PERUANCASHSANTAMACATE","021804"]
[null,null,null,null,null,"",null,null,"MORO","021805","MORO","PERUANCASHSANTAMORO","021805"]
[null,null,null,null,null,"",null,null,"NEPEÑA","021806","NEPEÑA","PERUANCASHSANTANEPEÑA","021806"]
[null,null,null,null,null,"",null,null,"SAMANCO","021807","SAMANCO","PERUANCASHSANTASAMANCO","021807"]
[null,null,null,null,null,"",null,null,"SANTA","021808","SANTA","PERUANCASHSANTASANTA","021808"]
[null,null,null,null,null,"",null,null,"NUEVO CHIMBOTE","021809","NUEVO CHIMBOTE","PERUANCASHSANTANUEVO CHIMBOTE","021809"]
[null,null,null,null,null,"",null,null,"SIHUAS","021901","SIHUAS","PERUANCASHSIHUASSIHUAS","021901"]
[null,null,null,null,null,"",null,null,"ACOBAMBA","021902","ACOBAMBA","PERUANCASHSIHUASACOBAMBA","021902"]
[null,null,null,null,null,"",null,null,"ALFONSO UGARTE","021903","ALFONSO UGARTE","PERUANCASHSIHUASALFONSO UGARTE","021903"]
[null,null,null,null,null,"",null,null,"CASHAPAMPA","021904","CASHAPAMPA","PERUANCASHSIHUASCASHAPAMPA","021904"]
[null,null,null,null,null,"",null,null,"CHINGALPO","021905","CHINGALPO","PERUANCASHSIHUASCHINGALPO","021905"]
[null,null,null,null,null,"",null,null,"HUAYLLABAMBA","021906","HUAYLLABAMBA","PERUANCASHSIHUASHUAYLLABAMBA","021906"]
[null,null,null,null,null,"",null,null,"QUICHES","021907","QUICHES","PERUANCASHSIHUASQUICHES","021907"]
[null,null,null,null,null,"",null,null,"RAGASH","021908","RAGASH","PERUANCASHSIHUASRAGASH","021908"]
[null,null,null,null,null,"",null,null,"SAN JUAN","021909","SAN JUAN","PERUANCASHSIHUASSAN JUAN","021909"]
[null,null,null,null,null,"",null,null,"SICSIBAMBA","021910","SICSIBAMBA","PERUANCASHSIHUASSICSIBAMBA","021910"]
[null,null,null,null,null,"",null,null,"YUNGAY","022001","YUNGAY","PERUANCASHYUNGAYYUNGAY","022001"]
[null,null,null,null,null,"",null,null,"CASCAPARA","022002","CASCAPARA","PERUANCASHYUNGAYCASCAPARA","022002"]
[null,null,null,null,null,"",null,null,"MANCOS","022003","MANCOS","PERUANCASHYUNGAYMANCOS","022003"]
[null,null,null,null,null,"",null,null,"MATACOTO","022004","MATACOTO","PERUANCASHYUNGAYMATACOTO","022004"]
[null,null,null,null,null,"",null,null,"QUILLO","022005","QUILLO","PERUANCASHYUNGAYQUILLO","022005"]
[null,null,null,null,null,"",null,null,"RANRAHIRCA","022006","RANRAHIRCA","PERUANCASHYUNGAYRANRAHIRCA","022006"]
[null,null,null,null,null,"",null,null,"SHUPLUY","022007","SHUPLUY","PERUANCASHYUNGAYSHUPLUY","022007"]
[null,null,null,null,null,"",null,null,"YANAMA","022008","YANAMA","PERUANCASHYUNGAYYANAMA","022008"]
[null,null,null,null,null,"",null,null,"ABANCAY","030101","ABANCAY","PERUAPURIMACABANCAYABANCAY","030101"]
[null,null,null,null,null,"",null,null,"CHACOCHE","030102","CHACOCHE","PERUAPURIMACABANCAYCHACOCHE","030102"]
[null,null,null,null,null,"",null,null,"CIRCA","030103","CIRCA","PERUAPURIMACABANCAYCIRCA","030103"]
[null,null,null,null,null,"",null,null,"CURAHUASI","030104","CURAHUASI","PERUAPURIMACABANCAYCURAHUASI","030104"]
[null,null,null,null,null,"",null,null,"HUANIPACA","030105","HUANIPACA","PERUAPURIMACABANCAYHUANIPACA","030105"]
[null,null,null,null,null,"",null,null,"LAMBRAMA","030106","LAMBRAMA","PERUAPURIMACABANCAYLAMBRAMA","030106"]
[null,null,null,null,null,"",null,null,"PICHIRHUA","030107","PICHIRHUA","PERUAPURIMACABANCAYPICHIRHUA","030107"]
[null,null,null,null,null,"",null,null,"SAN PEDRO DE CACHORA","030108","SAN PEDRO DE CACHORA",{"$f":"\"PERU\"&VLOOKUP(LEFT(J259,2),$B$1:$C$27,2,0)&VLOOKUP(LEFT(J259,4),$F$2:$G$197,2,0)&K259","v":"PERUAPURIMACABANCAYSAN PEDRO DE CACHORA"},{"$f":"J259","v":"030108"}]
[null,null,null,null,null,"",null,null,"TAMBURCO","030109","TAMBURCO","PERUAPURIMACABANCAYTAMBURCO","030109"]
[null,null,null,null,null,"",null,null,"ANDAHUAYLAS","030201","ANDAHUAYLAS","PERUAPURIMACANDAHUAYLASANDAHUAYLAS","030201"]
[null,null,null,null,null,"",null,null,"ANDARAPA","030202","ANDARAPA","PERUAPURIMACANDAHUAYLASANDARAPA","030202"]
[null,null,null,null,null,"",null,null,"CHIARA","030203","CHIARA","PERUAPURIMACANDAHUAYLASCHIARA","030203"]
[null,null,null,null,null,"",null,null,"HUANCARAMA","030204","HUANCARAMA","PERUAPURIMACANDAHUAYLASHUANCARAMA","030204"]
[null,null,null,null,null,"",null,null,"HUANCARAY","030205","HUANCARAY","PERUAPURIMACANDAHUAYLASHUANCARAY","030205"]
[null,null,null,null,null,"",null,null,"HUAYANA","030206","HUAYANA","PERUAPURIMACANDAHUAYLASHUAYANA","030206"]
[null,null,null,null,null,"",null,null,"KISHUARA","030207","KISHUARA","PERUAPURIMACANDAHUAYLASKISHUARA","030207"]
[null,null,null,null,null,"",null,null,"PACOBAMBA","030208","PACOBAMBA","PERUAPURIMACANDAHUAYLASPACOBAMBA","030208"]
[null,null,null,null,null,"",null,null,"PACUCHA","030209","PACUCHA","PERUAPURIMACANDAHUAYLASPACUCHA","030209"]
[null,null,null,null,null,"",null,null,"PAMPACHIRI","030210","PAMPACHIRI","PERUAPURIMACANDAHUAYLASPAMPACHIRI","030210"]
[null,null,null,null,null,"",null,null,"POMACOCHA","030211","POMACOCHA","PERUAPURIMACANDAHUAYLASPOMACOCHA","030211"]
[null,null,null,null,null,"",null,null,"SAN ANTONIO DE CACHI","030212","SAN ANTONIO DE CACHI","PERUAPURIMACANDAHUAYLASSAN ANTONIO DE CACHI","030212"]
[null,null,null,null,null,"",null,null,"SAN JERONIMO","030213","SAN JERONIMO","PERUAPURIMACANDAHUAYLASSAN JERONIMO","030213"]
[null,null,null,null,null,"",null,null,"SAN MIGUEL DE CHACCRAMPA","030214","SAN MIGUEL DE CHACCRAMPA","PERUAPURIMACANDAHUAYLASSAN MIGUEL DE CHACCRAMPA","030214"]
[null,null,null,null,null,"",null,null,"SANTA MARIA DE CHICMO","030215","SANTA MARIA DE CHICMO","PERUAPURIMACANDAHUAYLASSANTA MARIA DE CHICMO","030215"]
[null,null,null,null,null,"",null,null,"TALAVERA","030216","TALAVERA","PERUAPURIMACANDAHUAYLASTALAVERA","030216"]
[null,null,null,null,null,"",null,null,"TUMAY HUARACA","030217","TUMAY HUARACA","PERUAPURIMACANDAHUAYLASTUMAY HUARACA","030217"]
[null,null,null,null,null,"",null,null,"TURPO","030218","TURPO","PERUAPURIMACANDAHUAYLASTURPO","030218"]
[null,null,null,null,null,"",null,null,"KAQUIABAMBA","030219","KAQUIABAMBA","PERUAPURIMACANDAHUAYLASKAQUIABAMBA","030219"]
[null,null,null,null,null,"",null,null,"JOSE MARIA ARGUEDAZ","030220","JOSE MARIA ARGUEDAZ","PERUAPURIMACANDAHUAYLASJOSE MARIA ARGUEDAZ","030220"]
[null,null,null,null,null,"",null,null,"ANTABAMBA","030301","ANTABAMBA","PERUAPURIMACANTABAMBAANTABAMBA","030301"]
[null,null,null,null,null,"",null,null,"EL ORO","030302","EL ORO","PERUAPURIMACANTABAMBAEL ORO","030302"]
[null,null,null,null,null,"",null,null,"HUAQUIRCA","030303","HUAQUIRCA","PERUAPURIMACANTABAMBAHUAQUIRCA","030303"]
[null,null,null,null,null,"",null,null,"JUAN ESPINOZA MEDRANO","030304","JUAN ESPINOZA MEDRANO","PERUAPURIMACANTABAMBAJUAN ESPINOZA MEDRANO","030304"]
[null,null,null,null,null,"",null,null,"OROPESA","030305","OROPESA","PERUAPURIMACANTABAMBAOROPESA","030305"]
[null,null,null,null,null,"",null,null,"PACHACONAS","030306","PACHACONAS","PERUAPURIMACANTABAMBAPACHACONAS","030306"]
[null,null,null,null,null,"",null,null,"SABAINO","030307","SABAINO","PERUAPURIMACANTABAMBASABAINO","030307"]
[null,null,null,null,null,"",null,null,"CHALHUANCA","030401","CHALHUANCA","PERUAPURIMACAYMARAESCHALHUANCA","030401"]
[null,null,null,null,null,"",null,null,"CAPAYA","030402","CAPAYA","PERUAPURIMACAYMARAESCAPAYA","030402"]
[null,null,null,null,null,"",null,null,"CARAYBAMBA","030403","CARAYBAMBA","PERUAPURIMACAYMARAESCARAYBAMBA","030403"]
[null,null,null,null,null,"",null,null,"CHAPIMARCA","030404","CHAPIMARCA","PERUAPURIMACAYMARAESCHAPIMARCA","030404"]
[null,null,null,null,null,"",null,null,"COLCABAMBA","030405","COLCABAMBA","PERUAPURIMACAYMARAESCOLCABAMBA","030405"]
[null,null,null,null,null,"",null,null,"COTARUSE","030406","COTARUSE","PERUAPURIMACAYMARAESCOTARUSE","030406"]
[null,null,null,null,null,"",null,null,"HUAYLLO","030407","HUAYLLO","PERUAPURIMACAYMARAESHUAYLLO","030407"]
[null,null,null,null,null,"",null,null,"JUSTO APU SAHUARAURA","030408","JUSTO APU SAHUARAURA","PERUAPURIMACAYMARAESJUSTO APU SAHUARAURA","030408"]
[null,null,null,null,null,"",null,null,"LUCRE","030409","LUCRE","PERUAPURIMACAYMARAESLUCRE","030409"]
[null,null,null,null,null,"",null,null,"POCOHUANCA","030410","POCOHUANCA","PERUAPURIMACAYMARAESPOCOHUANCA","030410"]
[null,null,null,null,null,"",null,null,"SAN JUAN DE CHACÑA","030411","SAN JUAN DE CHACÑA","PERUAPURIMACAYMARAESSAN JUAN DE CHACÑA","030411"]
[null,null,null,null,null,"",null,null,"SAÑAYCA","030412","SAÑAYCA","PERUAPURIMACAYMARAESSAÑAYCA","030412"]
[null,null,null,null,null,"",null,null,"SORAYA","030413","SORAYA","PERUAPURIMACAYMARAESSORAYA","030413"]
[null,null,null,null,null,"",null,null,"TAPAIRIHUA","030414","TAPAIRIHUA","PERUAPURIMACAYMARAESTAPAIRIHUA","030414"]
[null,null,null,null,null,"",null,null,"TINTAY","030415","TINTAY","PERUAPURIMACAYMARAESTINTAY","030415"]
[null,null,null,null,null,"",null,null,"TORAYA","030416","TORAYA","PERUAPURIMACAYMARAESTORAYA","030416"]
[null,null,null,null,null,"",null,null,"YANACA","030417","YANACA","PERUAPURIMACAYMARAESYANACA","030417"]
[null,null,null,null,null,"",null,null,"TAMBOBAMBA","030501","TAMBOBAMBA","PERUAPURIMACCOTABAMBASTAMBOBAMBA","030501"]
[null,null,null,null,null,"",null,null,"COTABAMBAS","030502","COTABAMBAS","PERUAPURIMACCOTABAMBASCOTABAMBAS","030502"]
[null,null,null,null,null,"",null,null,"COYLLURQUI","030503","COYLLURQUI","PERUAPURIMACCOTABAMBASCOYLLURQUI","030503"]
[null,null,null,null,null,"",null,null,"HAQUIRA","030504","HAQUIRA","PERUAPURIMACCOTABAMBASHAQUIRA","030504"]
[null,null,null,null,null,"",null,null,"MARA","030505","MARA","PERUAPURIMACCOTABAMBASMARA","030505"]
[null,null,null,null,null,"",null,null,"CHALLHUAHUACHO","030506","CHALLHUAHUACHO","PERUAPURIMACCOTABAMBASCHALLHUAHUACHO","030506"]
[null,null,null,null,null,"",null,null,"CHINCHEROS","030601","CHINCHEROS","PERUAPURIMACCHINCHEROSCHINCHEROS","030601"]
[null,null,null,null,null,"",null,null,"ANCO-HUALLO","030602","ANCO-HUALLO","PERUAPURIMACCHINCHEROSANCO-HUALLO","030602"]
[null,null,null,null,null,"",null,null,"COCHARCAS","030603","COCHARCAS","PERUAPURIMACCHINCHEROSCOCHARCAS","030603"]
[null,null,null,null,null,"",null,null,"HUACCANA","030604","HUACCANA","PERUAPURIMACCHINCHEROSHUACCANA","030604"]
[null,null,null,null,null,"",null,null,"OCOBAMBA","030605","OCOBAMBA","PERUAPURIMACCHINCHEROSOCOBAMBA","030605"]
[null,null,null,null,null,"",null,null,"ONGOY","030606","ONGOY","PERUAPURIMACCHINCHEROSONGOY","030606"]
[null,null,null,null,null,"",null,null,"URANMARCA","030607","URANMARCA","PERUAPURIMACCHINCHEROSURANMARCA","030607"]
[null,null,null,null,null,"",null,null,"RANRACANCHA","030608","RANRACANCHA","PERUAPURIMACCHINCHEROSRANRACANCHA","030608"]
[null,null,null,null,null,"",null,null,"ROCCHACC","030609","ROCCHACC","PERUAPURIMACCHINCHEROSROCCHACC","030609"]
[null,null,null,null,null,"",null,null,"EL PORVENIR","030610","EL PORVENIR","PERUAPURIMACCHINCHEROSEL PORVENIR","030610"]
[null,null,null,null,null,"",null,null,"LOS CHANKAS","030611","LOS CHANKAS","PERUAPURIMACCHINCHEROSLOS CHANKAS","030611"]
[null,null,null,null,null,"",null,null,"CHUQUIBAMBILLA","030701","CHUQUIBAMBILLA","PERUAPURIMACGRAUCHUQUIBAMBILLA","030701"]
[null,null,null,null,null,"",null,null,"CURPAHUASI","030702","CURPAHUASI",{"$f":"\"PERU\"&VLOOKUP(LEFT(J323,2),$B$1:$C$27,2,0)&VLOOKUP(LEFT(J323,4),$F$2:$G$197,2,0)&K323","v":"PERUAPURIMACGRAUCURPAHUASI"},{"$f":"J323","v":"030702"}]
[null,null,null,null,null,"",null,null,"GAMARRA","030703","GAMARRA","PERUAPURIMACGRAUGAMARRA","030703"]
[null,null,null,null,null,"",null,null,"HUAYLLATI","030704","HUAYLLATI","PERUAPURIMACGRAUHUAYLLATI","030704"]
[null,null,null,null,null,"",null,null,"MAMARA","030705","MAMARA","PERUAPURIMACGRAUMAMARA","030705"]
[null,null,null,null,null,"",null,null,"MICAELA BASTIDAS","030706","MICAELA BASTIDAS","PERUAPURIMACGRAUMICAELA BASTIDAS","030706"]
[null,null,null,null,null,"",null,null,"PATAYPAMPA","030707","PATAYPAMPA","PERUAPURIMACGRAUPATAYPAMPA","030707"]
[null,null,null,null,null,"",null,null,"PROGRESO","030708","PROGRESO","PERUAPURIMACGRAUPROGRESO","030708"]
[null,null,null,null,null,"",null,null,"SAN ANTONIO","030709","SAN ANTONIO","PERUAPURIMACGRAUSAN ANTONIO","030709"]
[null,null,null,null,null,"",null,null,"SANTA ROSA","030710","SANTA ROSA","PERUAPURIMACGRAUSANTA ROSA","030710"]
[null,null,null,null,null,"",null,null,"TURPAY","030711","TURPAY","PERUAPURIMACGRAUTURPAY","030711"]
[null,null,null,null,null,"",null,null,"VILCABAMBA","030712","VILCABAMBA","PERUAPURIMACGRAUVILCABAMBA","030712"]
[null,null,null,null,null,"",null,null,"VIRUNDO","030713","VIRUNDO","PERUAPURIMACGRAUVIRUNDO","030713"]
[null,null,null,null,null,"",null,null,"CURASCO","030714","CURASCO","PERUAPURIMACGRAUCURASCO","030714"]
[null,null,null,null,null,"",null,null,"AREQUIPA","040101","AREQUIPA","PERUAREQUIPAAREQUIPAAREQUIPA","040101"]
[null,null,null,null,null,"",null,null,"ALTO SELVA ALEGRE","040102","ALTO SELVA ALEGRE","PERUAREQUIPAAREQUIPAALTO SELVA ALEGRE","040102"]
[null,null,null,null,null,"",null,null,"CAYMA","040103","CAYMA","PERUAREQUIPAAREQUIPACAYMA","040103"]
[null,null,null,null,null,"",null,null,"CERRO COLORADO","040104","CERRO COLORADO","PERUAREQUIPAAREQUIPACERRO COLORADO","040104"]
[null,null,null,null,null,"",null,null,"CHARACATO","040105","CHARACATO","PERUAREQUIPAAREQUIPACHARACATO","040105"]
[null,null,null,null,null,"",null,null,"CHIGUATA","040106","CHIGUATA","PERUAREQUIPAAREQUIPACHIGUATA","040106"]
[null,null,null,null,null,"",null,null,"JACOBO HUNTER","040107","JACOBO HUNTER","PERUAREQUIPAAREQUIPAJACOBO HUNTER","040107"]
[null,null,null,null,null,"",null,null,"LA JOYA","040108","LA JOYA","PERUAREQUIPAAREQUIPALA JOYA","040108"]
[null,null,null,null,null,"",null,null,"MARIANO MELGAR","040109","MARIANO MELGAR","PERUAREQUIPAAREQUIPAMARIANO MELGAR","040109"]
[null,null,null,null,null,"",null,null,"MIRAFLORES","040110","MIRAFLORES","PERUAREQUIPAAREQUIPAMIRAFLORES","040110"]
[null,null,null,null,null,"",null,null,"MOLLEBAYA","040111","MOLLEBAYA","PERUAREQUIPAAREQUIPAMOLLEBAYA","040111"]
[null,null,null,null,null,"",null,null,"PAUCARPATA","040112","PAUCARPATA","PERUAREQUIPAAREQUIPAPAUCARPATA","040112"]
[null,null,null,null,null,"",null,null,"POCSI","040113","POCSI","PERUAREQUIPAAREQUIPAPOCSI","040113"]
[null,null,null,null,null,"",null,null,"POLOBAYA","040114","POLOBAYA","PERUAREQUIPAAREQUIPAPOLOBAYA","040114"]
[null,null,null,null,null,"",null,null,"QUEQUEÑA","040115","QUEQUEÑA","PERUAREQUIPAAREQUIPAQUEQUEÑA","040115"]
[null,null,null,null,null,"",null,null,"SABANDIA","040116","SABANDIA","PERUAREQUIPAAREQUIPASABANDIA","040116"]
[null,null,null,null,null,"",null,null,"SACHACA","040117","SACHACA","PERUAREQUIPAAREQUIPASACHACA","040117"]
[null,null,null,null,null,"",null,null,"SAN JUAN DE SIGUAS","040118","SAN JUAN DE SIGUAS","PERUAREQUIPAAREQUIPASAN JUAN DE SIGUAS","040118"]
[null,null,null,null,null,"",null,null,"SAN JUAN DE TARUCANI","040119","SAN JUAN DE TARUCANI","PERUAREQUIPAAREQUIPASAN JUAN DE TARUCANI","040119"]
[null,null,null,null,null,"",null,null,"SANTA ISABEL DE SIGUAS","040120","SANTA ISABEL DE SIGUAS","PERUAREQUIPAAREQUIPASANTA ISABEL DE SIGUAS","040120"]
[null,null,null,null,null,"",null,null,"SANTA RITA DE SIGUAS","040121","SANTA RITA DE SIGUAS","PERUAREQUIPAAREQUIPASANTA RITA DE SIGUAS","040121"]
[null,null,null,null,null,"",null,null,"SOCABAYA","040122","SOCABAYA","PERUAREQUIPAAREQUIPASOCABAYA","040122"]
[null,null,null,null,null,"",null,null,"TIABAYA","040123","TIABAYA","PERUAREQUIPAAREQUIPATIABAYA","040123"]
[null,null,null,null,null,"",null,null,"UCHUMAYO","040124","UCHUMAYO","PERUAREQUIPAAREQUIPAUCHUMAYO","040124"]
[null,null,null,null,null,"",null,null,"VITOR","040125","VITOR","PERUAREQUIPAAREQUIPAVITOR","040125"]
[null,null,null,null,null,"",null,null,"YANAHUARA","040126","YANAHUARA","PERUAREQUIPAAREQUIPAYANAHUARA","040126"]
[null,null,null,null,null,"",null,null,"YARABAMBA","040127","YARABAMBA","PERUAREQUIPAAREQUIPAYARABAMBA","040127"]
[null,null,null,null,null,"",null,null,"YURA","040128","YURA","PERUAREQUIPAAREQUIPAYURA","040128"]
[null,null,null,null,null,"",null,null,"JOSE LUIS BUSTAMANTE Y RIVERO","040129","JOSE LUIS BUSTAMANTE Y RIVERO","PERUAREQUIPAAREQUIPAJOSE LUIS BUSTAMANTE Y RIVERO","040129"]
[null,null,null,null,null,"",null,null,"CAMANA","040201","CAMANA","PERUAREQUIPACAMANACAMANA","040201"]
[null,null,null,null,null,"",null,null,"JOSE MARIA QUIMPER","040202","JOSE MARIA QUIMPER","PERUAREQUIPACAMANAJOSE MARIA QUIMPER","040202"]
[null,null,null,null,null,"",null,null,"MARIANO NICOLAS VALCARCEL","040203","MARIANO NICOLAS VALCARCEL","PERUAREQUIPACAMANAMARIANO NICOLAS VALCARCEL","040203"]
[null,null,null,null,null,"",null,null,"MARISCAL CACERES","040204","MARISCAL CACERES","PERUAREQUIPACAMANAMARISCAL CACERES","040204"]
[null,null,null,null,null,"",null,null,"NICOLAS DE PIEROLA","040205","NICOLAS DE PIEROLA","PERUAREQUIPACAMANANICOLAS DE PIEROLA","040205"]
[null,null,null,null,null,"",null,null,"OCOÑA","040206","OCOÑA","PERUAREQUIPACAMANAOCOÑA","040206"]
[null,null,null,null,null,"",null,null,"QUILCA","040207","QUILCA","PERUAREQUIPACAMANAQUILCA","040207"]
[null,null,null,null,null,"",null,null,"SAMUEL PASTOR","040208","SAMUEL PASTOR","PERUAREQUIPACAMANASAMUEL PASTOR","040208"]
[null,null,null,null,null,"",null,null,"CARAVELI","040301","CARAVELI","PERUAREQUIPACARAVELICARAVELI","040301"]
[null,null,null,null,null,"",null,null,"ACARI","040302","ACARI","PERUAREQUIPACARAVELIACARI","040302"]
[null,null,null,null,null,"",null,null,"ATICO","040303","ATICO","PERUAREQUIPACARAVELIATICO","040303"]
[null,null,null,null,null,"",null,null,"ATIQUIPA","040304","ATIQUIPA","PERUAREQUIPACARAVELIATIQUIPA","040304"]
[null,null,null,null,null,"",null,null,"BELLA UNION","040305","BELLA UNION","PERUAREQUIPACARAVELIBELLA UNION","040305"]
[null,null,null,null,null,"",null,null,"CAHUACHO","040306","CAHUACHO","PERUAREQUIPACARAVELICAHUACHO","040306"]
[null,null,null,null,null,"",null,null,"CHALA","040307","CHALA","PERUAREQUIPACARAVELICHALA","040307"]
[null,null,null,null,null,"",null,null,"CHAPARRA","040308","CHAPARRA","PERUAREQUIPACARAVELICHAPARRA","040308"]
[null,null,null,null,null,"",null,null,"HUANUHUANU","040309","HUANUHUANU","PERUAREQUIPACARAVELIHUANUHUANU","040309"]
[null,null,null,null,null,"",null,null,"JAQUI","040310","JAQUI","PERUAREQUIPACARAVELIJAQUI","040310"]
[null,null,null,null,null,"",null,null,"LOMAS","040311","LOMAS","PERUAREQUIPACARAVELILOMAS","040311"]
[null,null,null,null,null,"",null,null,"QUICACHA","040312","QUICACHA","PERUAREQUIPACARAVELIQUICACHA","040312"]
[null,null,null,null,null,"",null,null,"YAUCA","040313","YAUCA","PERUAREQUIPACARAVELIYAUCA","040313"]
[null,null,null,null,null,"",null,null,"APLAO","040401","APLAO","PERUAREQUIPACASTILLAAPLAO","040401"]
[null,null,null,null,null,"",null,null,"ANDAGUA","040402","ANDAGUA",{"$f":"\"PERU\"&VLOOKUP(LEFT(J387,2),$B$1:$C$27,2,0)&VLOOKUP(LEFT(J387,4),$F$2:$G$197,2,0)&K387","v":"PERUAREQUIPACASTILLAANDAGUA"},{"$f":"J387","v":"040402"}]
[null,null,null,null,null,"",null,null,"AYO","040403","AYO","PERUAREQUIPACASTILLAAYO","040403"]
[null,null,null,null,null,"",null,null,"CHACHAS","040404","CHACHAS","PERUAREQUIPACASTILLACHACHAS","040404"]
[null,null,null,null,null,"",null,null,"CHILCAYMARCA","040405","CHILCAYMARCA","PERUAREQUIPACASTILLACHILCAYMARCA","040405"]
[null,null,null,null,null,"",null,null,"CHOCO","040406","CHOCO","PERUAREQUIPACASTILLACHOCO","040406"]
[null,null,null,null,null,"",null,null,"HUANCARQUI","040407","HUANCARQUI","PERUAREQUIPACASTILLAHUANCARQUI","040407"]
[null,null,null,null,null,"",null,null,"MACHAGUAY","040408","MACHAGUAY","PERUAREQUIPACASTILLAMACHAGUAY","040408"]
[null,null,null,null,null,"",null,null,"ORCOPAMPA","040409","ORCOPAMPA","PERUAREQUIPACASTILLAORCOPAMPA","040409"]
[null,null,null,null,null,"",null,null,"PAMPACOLCA","040410","PAMPACOLCA","PERUAREQUIPACASTILLAPAMPACOLCA","040410"]
[null,null,null,null,null,"",null,null,"TIPAN","040411","TIPAN","PERUAREQUIPACASTILLATIPAN","040411"]
[null,null,null,null,null,"",null,null,"UÑON","040412","UÑON","PERUAREQUIPACASTILLAUÑON","040412"]
[null,null,null,null,null,"",null,null,"URACA","040413","URACA","PERUAREQUIPACASTILLAURACA","040413"]
[null,null,null,null,null,"",null,null,"VIRACO","040414","VIRACO","PERUAREQUIPACASTILLAVIRACO","040414"]
[null,null,null,null,null,"",null,null,"CHIVAY","040501","CHIVAY","PERUAREQUIPACAYLLOMACHIVAY","040501"]
[null,null,null,null,null,"",null,null,"ACHOMA","040502","ACHOMA","PERUAREQUIPACAYLLOMAACHOMA","040502"]
[null,null,null,null,null,"",null,null,"CABANACONDE","040503","CABANACONDE","PERUAREQUIPACAYLLOMACABANACONDE","040503"]
[null,null,null,null,null,"",null,null,"CALLALLI","040504","CALLALLI","PERUAREQUIPACAYLLOMACALLALLI","040504"]
[null,null,null,null,null,"",null,null,"CAYLLOMA","040505","CAYLLOMA","PERUAREQUIPACAYLLOMACAYLLOMA","040505"]
[null,null,null,null,null,"",null,null,"COPORAQUE","040506","COPORAQUE","PERUAREQUIPACAYLLOMACOPORAQUE","040506"]
[null,null,null,null,null,"",null,null,"HUAMBO","040507","HUAMBO","PERUAREQUIPACAYLLOMAHUAMBO","040507"]
[null,null,null,null,null,"",null,null,"HUANCA","040508","HUANCA","PERUAREQUIPACAYLLOMAHUANCA","040508"]
[null,null,null,null,null,"",null,null,"ICHUPAMPA","040509","ICHUPAMPA","PERUAREQUIPACAYLLOMAICHUPAMPA","040509"]
[null,null,null,null,null,"",null,null,"LARI","040510","LARI","PERUAREQUIPACAYLLOMALARI","040510"]
[null,null,null,null,null,"",null,null,"LLUTA","040511","LLUTA","PERUAREQUIPACAYLLOMALLUTA","040511"]
[null,null,null,null,null,"",null,null,"MACA","040512","MACA","PERUAREQUIPACAYLLOMAMACA","040512"]
[null,null,null,null,null,"",null,null,"MADRIGAL","040513","MADRIGAL","PERUAREQUIPACAYLLOMAMADRIGAL","040513"]
[null,null,null,null,null,"",null,null,"SAN ANTONIO DE CHUCA","040514","SAN ANTONIO DE CHUCA","PERUAREQUIPACAYLLOMASAN ANTONIO DE CHUCA","040514"]
[null,null,null,null,null,"",null,null,"SIBAYO","040515","SIBAYO","PERUAREQUIPACAYLLOMASIBAYO","040515"]
[null,null,null,null,null,"",null,null,"TAPAY","040516","TAPAY","PERUAREQUIPACAYLLOMATAPAY","040516"]
[null,null,null,null,null,"",null,null,"TISCO","040517","TISCO","PERUAREQUIPACAYLLOMATISCO","040517"]
[null,null,null,null,null,"",null,null,"TUTI","040518","TUTI","PERUAREQUIPACAYLLOMATUTI","040518"]
[null,null,null,null,null,"",null,null,"YANQUE","040519","YANQUE","PERUAREQUIPACAYLLOMAYANQUE","040519"]
[null,null,null,null,null,"",null,null,"MAJES","040520","MAJES","PERUAREQUIPACAYLLOMAMAJES","040520"]
[null,null,null,null,null,"",null,null,"CHUQUIBAMBA","040601","CHUQUIBAMBA","PERUAREQUIPACONDESUYOSCHUQUIBAMBA","040601"]
[null,null,null,null,null,"",null,null,"ANDARAY","040602","ANDARAY","PERUAREQUIPACONDESUYOSANDARAY","040602"]
[null,null,null,null,null,"",null,null,"CAYARANI","040603","CAYARANI","PERUAREQUIPACONDESUYOSCAYARANI","040603"]
[null,null,null,null,null,"",null,null,"CHICHAS","040604","CHICHAS","PERUAREQUIPACONDESUYOSCHICHAS","040604"]
[null,null,null,null,null,"",null,null,"IRAY","040605","IRAY","PERUAREQUIPACONDESUYOSIRAY","040605"]
[null,null,null,null,null,"",null,null,"RIO GRANDE","040606","RIO GRANDE","PERUAREQUIPACONDESUYOSRIO GRANDE","040606"]
[null,null,null,null,null,"",null,null,"SALAMANCA","040607","SALAMANCA","PERUAREQUIPACONDESUYOSSALAMANCA","040607"]
[null,null,null,null,null,"",null,null,"YANAQUIHUA","040608","YANAQUIHUA","PERUAREQUIPACONDESUYOSYANAQUIHUA","040608"]
[null,null,null,null,null,"",null,null,"MOLLENDO","040701","MOLLENDO","PERUAREQUIPAISLAYMOLLENDO","040701"]
[null,null,null,null,null,"",null,null,"COCACHACRA","040702","COCACHACRA","PERUAREQUIPAISLAYCOCACHACRA","040702"]
[null,null,null,null,null,"",null,null,"DEAN VALDIVIA","040703","DEAN VALDIVIA","PERUAREQUIPAISLAYDEAN VALDIVIA","040703"]
[null,null,null,null,null,"",null,null,"ISLAY","040704","ISLAY","PERUAREQUIPAISLAYISLAY","040704"]
[null,null,null,null,null,"",null,null,"MEJIA","040705","MEJIA","PERUAREQUIPAISLAYMEJIA","040705"]
[null,null,null,null,null,"",null,null,"PUNTA DE BOMBON","040706","PUNTA DE BOMBON","PERUAREQUIPAISLAYPUNTA DE BOMBON","040706"]
[null,null,null,null,null,"",null,null,"COTAHUASI","040801","COTAHUASI","PERUAREQUIPALA UNIONCOTAHUASI","040801"]
[null,null,null,null,null,"",null,null,"ALCA","040802","ALCA","PERUAREQUIPALA UNIONALCA","040802"]
[null,null,null,null,null,"",null,null,"CHARCANA","040803","CHARCANA","PERUAREQUIPALA UNIONCHARCANA","040803"]
[null,null,null,null,null,"",null,null,"HUAYNACOTAS","040804","HUAYNACOTAS","PERUAREQUIPALA UNIONHUAYNACOTAS","040804"]
[null,null,null,null,null,"",null,null,"PAMPAMARCA","040805","PAMPAMARCA","PERUAREQUIPALA UNIONPAMPAMARCA","040805"]
[null,null,null,null,null,"",null,null,"PUYCA","040806","PUYCA","PERUAREQUIPALA UNIONPUYCA","040806"]
[null,null,null,null,null,"",null,null,"QUECHUALLA","040807","QUECHUALLA","PERUAREQUIPALA UNIONQUECHUALLA","040807"]
[null,null,null,null,null,"",null,null,"SAYLA","040808","SAYLA","PERUAREQUIPALA UNIONSAYLA","040808"]
[null,null,null,null,null,"",null,null,"TAURIA","040809","TAURIA","PERUAREQUIPALA UNIONTAURIA","040809"]
[null,null,null,null,null,"",null,null,"TOMEPAMPA","040810","TOMEPAMPA","PERUAREQUIPALA UNIONTOMEPAMPA","040810"]
[null,null,null,null,null,"",null,null,"TORO","040811","TORO","PERUAREQUIPALA UNIONTORO","040811"]
[null,null,null,null,null,"",null,null,"AYACUCHO","050101","AYACUCHO","PERUAYACUCHOHUAMANGAAYACUCHO","050101"]
[null,null,null,null,null,"",null,null,"ACOCRO","050102","ACOCRO","PERUAYACUCHOHUAMANGAACOCRO","050102"]
[null,null,null,null,null,"",null,null,"ACOS VINCHOS","050103","ACOS VINCHOS","PERUAYACUCHOHUAMANGAACOS VINCHOS","050103"]
[null,null,null,null,null,"",null,null,"CARMEN ALTO","050104","CARMEN ALTO","PERUAYACUCHOHUAMANGACARMEN ALTO","050104"]
[null,null,null,null,null,"",null,null,"CHIARA","050105","CHIARA","PERUAYACUCHOHUAMANGACHIARA","050105"]
[null,null,null,null,null,"",null,null,"OCROS","050106","OCROS","PERUAYACUCHOHUAMANGAOCROS","050106"]
[null,null,null,null,null,"",null,null,"PACAYCASA","050107","PACAYCASA",{"$f":"\"PERU\"&VLOOKUP(LEFT(J451,2),$B$1:$C$27,2,0)&VLOOKUP(LEFT(J451,4),$F$2:$G$197,2,0)&K451","v":"PERUAYACUCHOHUAMANGAPACAYCASA"},{"$f":"J451","v":"050107"}]
[null,null,null,null,null,"",null,null,"QUINUA","050108","QUINUA","PERUAYACUCHOHUAMANGAQUINUA","050108"]
[null,null,null,null,null,"",null,null,"SAN JOSE DE TICLLAS","050109","SAN JOSE DE TICLLAS","PERUAYACUCHOHUAMANGASAN JOSE DE TICLLAS","050109"]
[null,null,null,null,null,"",null,null,"SAN JUAN BAUTISTA","050110","SAN JUAN BAUTISTA","PERUAYACUCHOHUAMANGASAN JUAN BAUTISTA","050110"]
[null,null,null,null,null,"",null,null,"SANTIAGO DE PISCHA","050111","SANTIAGO DE PISCHA","PERUAYACUCHOHUAMANGASANTIAGO DE PISCHA","050111"]
[null,null,null,null,null,"",null,null,"SOCOS","050112","SOCOS","PERUAYACUCHOHUAMANGASOCOS","050112"]
[null,null,null,null,null,"",null,null,"TAMBILLO","050113","TAMBILLO","PERUAYACUCHOHUAMANGATAMBILLO","050113"]
[null,null,null,null,null,"",null,null,"VINCHOS","050114","VINCHOS","PERUAYACUCHOHUAMANGAVINCHOS","050114"]
[null,null,null,null,null,"",null,null,"JESUS NAZARENO","050115","JESUS NAZARENO","PERUAYACUCHOHUAMANGAJESUS NAZARENO","050115"]
[null,null,null,null,null,"",null,null,"ANDRES AVELINO CACERES DORREGARAY","050116","ANDRES AVELINO CACERES DORREGARAY","PERUAYACUCHOHUAMANGAANDRES AVELINO CACERES DORREGARAY","050116"]
[null,null,null,null,null,"",null,null,"CANGALLO","050201","CANGALLO","PERUAYACUCHOCANGALLOCANGALLO","050201"]
[null,null,null,null,null,"",null,null,"CHUSCHI","050202","CHUSCHI","PERUAYACUCHOCANGALLOCHUSCHI","050202"]
[null,null,null,null,null,"",null,null,"LOS MOROCHUCOS","050203","LOS MOROCHUCOS","PERUAYACUCHOCANGALLOLOS MOROCHUCOS","050203"]
[null,null,null,null,null,"",null,null,"MARIA PARADO DE BELLIDO","050204","MARIA PARADO DE BELLIDO","PERUAYACUCHOCANGALLOMARIA PARADO DE BELLIDO","050204"]
[null,null,null,null,null,"",null,null,"PARAS","050205","PARAS","PERUAYACUCHOCANGALLOPARAS","050205"]
[null,null,null,null,null,"",null,null,"TOTOS","050206","TOTOS","PERUAYACUCHOCANGALLOTOTOS","050206"]
[null,null,null,null,null,"",null,null,"SANCOS","050301","SANCOS","PERUAYACUCHOHUANCA SANCOSSANCOS","050301"]
[null,null,null,null,null,"",null,null,"CARAPO","050302","CARAPO","PERUAYACUCHOHUANCA SANCOSCARAPO","050302"]
[null,null,null,null,null,"",null,null,"SACSAMARCA","050303","SACSAMARCA","PERUAYACUCHOHUANCA SANCOSSACSAMARCA","050303"]
[null,null,null,null,null,"",null,null,"SANTIAGO DE LUCANAMARCA","050304","SANTIAGO DE LUCANAMARCA","PERUAYACUCHOHUANCA SANCOSSANTIAGO DE LUCANAMARCA","050304"]
[null,null,null,null,null,"",null,null,"HUANTA","050401","HUANTA","PERUAYACUCHOHUANTAHUANTA","050401"]
[null,null,null,null,null,"",null,null,"AYAHUANCO","050402","AYAHUANCO","PERUAYACUCHOHUANTAAYAHUANCO","050402"]
[null,null,null,null,null,"",null,null,"HUAMANGUILLA","050403","HUAMANGUILLA","PERUAYACUCHOHUANTAHUAMANGUILLA","050403"]
[null,null,null,null,null,"",null,null,"IGUAIN","050404","IGUAIN","PERUAYACUCHOHUANTAIGUAIN","050404"]
[null,null,null,null,null,"",null,null,"LURICOCHA","050405","LURICOCHA","PERUAYACUCHOHUANTALURICOCHA","050405"]
[null,null,null,null,null,"",null,null,"SANTILLANA","050406","SANTILLANA","PERUAYACUCHOHUANTASANTILLANA","050406"]
[null,null,null,null,null,"",null,null,"SIVIA","050407","SIVIA","PERUAYACUCHOHUANTASIVIA","050407"]
[null,null,null,null,null,"",null,null,"LLOCHEGUA","050408","LLOCHEGUA","PERUAYACUCHOHUANTALLOCHEGUA","050408"]
[null,null,null,null,null,"",null,null,"CANAYRE","050409","CANAYRE","PERUAYACUCHOHUANTACANAYRE","050409"]
[null,null,null,null,null,"",null,null,"UCHURACCAY","050410","UCHURACCAY","PERUAYACUCHOHUANTAUCHURACCAY","050410"]
[null,null,null,null,null,"",null,null,"PUCACOLPA","050411","PUCACOLPA","PERUAYACUCHOHUANTAPUCACOLPA","050411"]
[null,null,null,null,null,"",null,null,"CHACA","050412","CHACA","PERUAYACUCHOHUANTACHACA","050412"]
[null,null,null,null,null,"",null,null,"SAN MIGUEL","050501","SAN MIGUEL","PERUAYACUCHOLA MARSAN MIGUEL","050501"]
[null,null,null,null,null,"",null,null,"ANCO","050502","ANCO","PERUAYACUCHOLA MARANCO","050502"]
[null,null,null,null,null,"",null,null,"AYNA","050503","AYNA","PERUAYACUCHOLA MARAYNA","050503"]
[null,null,null,null,null,"",null,null,"CHILCAS","050504","CHILCAS","PERUAYACUCHOLA MARCHILCAS","050504"]
[null,null,null,null,null,"",null,null,"CHUNGUI","050505","CHUNGUI","PERUAYACUCHOLA MARCHUNGUI","050505"]
[null,null,null,null,null,"",null,null,"LUIS CARRANZA","050506","LUIS CARRANZA","PERUAYACUCHOLA MARLUIS CARRANZA","050506"]
[null,null,null,null,null,"",null,null,"SANTA ROSA","050507","SANTA ROSA","PERUAYACUCHOLA MARSANTA ROSA","050507"]
[null,null,null,null,null,"",null,null,"TAMBO","050508","TAMBO","PERUAYACUCHOLA MARTAMBO","050508"]
[null,null,null,null,null,"",null,null,"SAMUGARI","050509","SAMUGARI","PERUAYACUCHOLA MARSAMUGARI","050509"]
[null,null,null,null,null,"",null,null,"ANCHIHUAY","050510","ANCHIHUAY","PERUAYACUCHOLA MARANCHIHUAY","050510"]
[null,null,null,null,null,"",null,null,"ORONCCOY","050511","ORONCCOY","PERUAYACUCHOLA MARORONCCOY","050511"]
[null,null,null,null,null,"",null,null,"PUQUIO","050601","PUQUIO","PERUAYACUCHOLUCANASPUQUIO","050601"]
[null,null,null,null,null,"",null,null,"AUCARA","050602","AUCARA","PERUAYACUCHOLUCANASAUCARA","050602"]
[null,null,null,null,null,"",null,null,"CABANA","050603","CABANA","PERUAYACUCHOLUCANASCABANA","050603"]
[null,null,null,null,null,"",null,null,"CARMEN SALCEDO","050604","CARMEN SALCEDO","PERUAYACUCHOLUCANASCARMEN SALCEDO","050604"]
[null,null,null,null,null,"",null,null,"CHAVIÑA","050605","CHAVIÑA","PERUAYACUCHOLUCANASCHAVIÑA","050605"]
[null,null,null,null,null,"",null,null,"CHIPAO","050606","CHIPAO","PERUAYACUCHOLUCANASCHIPAO","050606"]
[null,null,null,null,null,"",null,null,"HUAC-HUAS","050607","HUAC-HUAS","PERUAYACUCHOLUCANASHUAC-HUAS","050607"]
[null,null,null,null,null,"",null,null,"LARAMATE","050608","LARAMATE","PERUAYACUCHOLUCANASLARAMATE","050608"]
[null,null,null,null,null,"",null,null,"LEONCIO PRADO","050609","LEONCIO PRADO","PERUAYACUCHOLUCANASLEONCIO PRADO","050609"]
[null,null,null,null,null,"",null,null,"LLAUTA","050610","LLAUTA","PERUAYACUCHOLUCANASLLAUTA","050610"]
[null,null,null,null,null,"",null,null,"LUCANAS","050611","LUCANAS","PERUAYACUCHOLUCANASLUCANAS","050611"]
[null,null,null,null,null,"",null,null,"OCAÑA","050612","OCAÑA","PERUAYACUCHOLUCANASOCAÑA","050612"]
[null,null,null,null,null,"",null,null,"OTOCA","050613","OTOCA","PERUAYACUCHOLUCANASOTOCA","050613"]
[null,null,null,null,null,"",null,null,"SAISA","050614","SAISA","PERUAYACUCHOLUCANASSAISA","050614"]
[null,null,null,null,null,"",null,null,"SAN CRISTOBAL","050615","SAN CRISTOBAL","PERUAYACUCHOLUCANASSAN CRISTOBAL","050615"]
[null,null,null,null,null,"",null,null,"SAN JUAN","050616","SAN JUAN","PERUAYACUCHOLUCANASSAN JUAN","050616"]
[null,null,null,null,null,"",null,null,"SAN PEDRO","050617","SAN PEDRO","PERUAYACUCHOLUCANASSAN PEDRO","050617"]
[null,null,null,null,null,"",null,null,"SAN PEDRO DE PALCO","050618","SAN PEDRO DE PALCO","PERUAYACUCHOLUCANASSAN PEDRO DE PALCO","050618"]
[null,null,null,null,null,"",null,null,"SANCOS","050619","SANCOS","PERUAYACUCHOLUCANASSANCOS","050619"]
[null,null,null,null,null,"",null,null,"SANTA ANA DE HUAYCAHUACHO","050620","SANTA ANA DE HUAYCAHUACHO","PERUAYACUCHOLUCANASSANTA ANA DE HUAYCAHUACHO","050620"]
[null,null,null,null,null,"",null,null,"SANTA LUCIA","050621","SANTA LUCIA","PERUAYACUCHOLUCANASSANTA LUCIA","050621"]
[null,null,null,null,null,"",null,null,"CORACORA","050701","CORACORA",{"$f":"\"PERU\"&VLOOKUP(LEFT(J515,2),$B$1:$C$27,2,0)&VLOOKUP(LEFT(J515,4),$F$2:$G$197,2,0)&K515","v":"PERUAYACUCHOPARINACOCHASCORACORA"},{"$f":"J515","v":"050701"}]
[null,null,null,null,null,"",null,null,"CHUMPI","050702","CHUMPI","PERUAYACUCHOPARINACOCHASCHUMPI","050702"]
[null,null,null,null,null,"",null,null,"CORONEL CASTAÑEDA","050703","CORONEL CASTAÑEDA","PERUAYACUCHOPARINACOCHASCORONEL CASTAÑEDA","050703"]
[null,null,null,null,null,"",null,null,"PACAPAUSA","050704","PACAPAUSA","PERUAYACUCHOPARINACOCHASPACAPAUSA","050704"]
[null,null,null,null,null,"",null,null,"PULLO","050705","PULLO","PERUAYACUCHOPARINACOCHASPULLO","050705"]
[null,null,null,null,null,"",null,null,"PUYUSCA","050706","PUYUSCA","PERUAYACUCHOPARINACOCHASPUYUSCA","050706"]
[null,null,null,null,null,"",null,null,"SAN FRANCISCO DE RAVACAYCO","050707","SAN FRANCISCO DE RAVACAYCO","PERUAYACUCHOPARINACOCHASSAN FRANCISCO DE RAVACAYCO","050707"]
[null,null,null,null,null,"",null,null,"UPAHUACHO","050708","UPAHUACHO","PERUAYACUCHOPARINACOCHASUPAHUACHO","050708"]
[null,null,null,null,null,"",null,null,"PAUSA","050801","PAUSA","PERUAYACUCHOPAUCAR DEL SARA SARAPAUSA","050801"]
[null,null,null,null,null,"",null,null,"COLTA","050802","COLTA","PERUAYACUCHOPAUCAR DEL SARA SARACOLTA","050802"]
[null,null,null,null,null,"",null,null,"CORCULLA","050803","CORCULLA","PERUAYACUCHOPAUCAR DEL SARA SARACORCULLA","050803"]
[null,null,null,null,null,"",null,null,"LAMPA","050804","LAMPA","PERUAYACUCHOPAUCAR DEL SARA SARALAMPA","050804"]
[null,null,null,null,null,"",null,null,"MARCABAMBA","050805","MARCABAMBA","PERUAYACUCHOPAUCAR DEL SARA SARAMARCABAMBA","050805"]
[null,null,null,null,null,"",null,null,"OYOLO","050806","OYOLO","PERUAYACUCHOPAUCAR DEL SARA SARAOYOLO","050806"]
[null,null,null,null,null,"",null,null,"PARARCA","050807","PARARCA","PERUAYACUCHOPAUCAR DEL SARA SARAPARARCA","050807"]
[null,null,null,null,null,"",null,null,"SAN JAVIER DE ALPABAMBA","050808","SAN JAVIER DE ALPABAMBA","PERUAYACUCHOPAUCAR DEL SARA SARASAN JAVIER DE ALPABAMBA","050808"]
[null,null,null,null,null,"",null,null,"SAN JOSE DE USHUA","050809","SAN JOSE DE USHUA","PERUAYACUCHOPAUCAR DEL SARA SARASAN JOSE DE USHUA","050809"]
[null,null,null,null,null,"",null,null,"SARA SARA","050810","SARA SARA","PERUAYACUCHOPAUCAR DEL SARA SARASARA SARA","050810"]
[null,null,null,null,null,"",null,null,"QUEROBAMBA","050901","QUEROBAMBA","PERUAYACUCHOSUCREQUEROBAMBA","050901"]
[null,null,null,null,null,"",null,null,"BELEN","050902","BELEN","PERUAYACUCHOSUCREBELEN","050902"]
[null,null,null,null,null,"",null,null,"CHALCOS","050903","CHALCOS","PERUAYACUCHOSUCRECHALCOS","050903"]
[null,null,null,null,null,"",null,null,"CHILCAYOC","050904","CHILCAYOC","PERUAYACUCHOSUCRECHILCAYOC","050904"]
[null,null,null,null,null,"",null,null,"HUACAÑA","050905","HUACAÑA","PERUAYACUCHOSUCREHUACAÑA","050905"]
[null,null,null,null,null,"",null,null,"MORCOLLA","050906","MORCOLLA","PERUAYACUCHOSUCREMORCOLLA","050906"]
[null,null,null,null,null,"",null,null,"PAICO","050907","PAICO","PERUAYACUCHOSUCREPAICO","050907"]
[null,null,null,null,null,"",null,null,"SAN PEDRO DE LARCAY","050908","SAN PEDRO DE LARCAY","PERUAYACUCHOSUCRESAN PEDRO DE LARCAY","050908"]
[null,null,null,null,null,"",null,null,"SAN SALVADOR DE QUIJE","050909","SAN SALVADOR DE QUIJE","PERUAYACUCHOSUCRESAN SALVADOR DE QUIJE","050909"]
[null,null,null,null,null,"",null,null,"SANTIAGO DE PAUCARAY","050910","SANTIAGO DE PAUCARAY","PERUAYACUCHOSUCRESANTIAGO DE PAUCARAY","050910"]
[null,null,null,null,null,"",null,null,"SORAS","050911","SORAS","PERUAYACUCHOSUCRESORAS","050911"]
[null,null,null,null,null,"",null,null,"HUANCAPI","051001","HUANCAPI","PERUAYACUCHOVICTOR FAJARDOHUANCAPI","051001"]
[null,null,null,null,null,"",null,null,"ALCAMENCA","051002","ALCAMENCA","PERUAYACUCHOVICTOR FAJARDOALCAMENCA","051002"]
[null,null,null,null,null,"",null,null,"APONGO","051003","APONGO","PERUAYACUCHOVICTOR FAJARDOAPONGO","051003"]
[null,null,null,null,null,"",null,null,"ASQUIPATA","051004","ASQUIPATA","PERUAYACUCHOVICTOR FAJARDOASQUIPATA","051004"]
[null,null,null,null,null,"",null,null,"CANARIA","051005","CANARIA","PERUAYACUCHOVICTOR FAJARDOCANARIA","051005"]
[null,null,null,null,null,"",null,null,"CAYARA","051006","CAYARA","PERUAYACUCHOVICTOR FAJARDOCAYARA","051006"]
[null,null,null,null,null,"",null,null,"COLCA","051007","COLCA","PERUAYACUCHOVICTOR FAJARDOCOLCA","051007"]
[null,null,null,null,null,"",null,null,"HUAMANQUIQUIA","051008","HUAMANQUIQUIA","PERUAYACUCHOVICTOR FAJARDOHUAMANQUIQUIA","051008"]
[null,null,null,null,null,"",null,null,"HUANCARAYLLA","051009","HUANCARAYLLA","PERUAYACUCHOVICTOR FAJARDOHUANCARAYLLA","051009"]
[null,null,null,null,null,"",null,null,"HUAYA","051010","HUAYA","PERUAYACUCHOVICTOR FAJARDOHUAYA","051010"]
[null,null,null,null,null,"",null,null,"SARHUA","051011","SARHUA","PERUAYACUCHOVICTOR FAJARDOSARHUA","051011"]
[null,null,null,null,null,"",null,null,"VILCANCHOS","051012","VILCANCHOS","PERUAYACUCHOVICTOR FAJARDOVILCANCHOS","051012"]
[null,null,null,null,null,"",null,null,"VILCAS HUAMAN","051101","VILCAS HUAMAN","PERUAYACUCHOVILCAS HUAMANVILCAS HUAMAN","051101"]
[null,null,null,null,null,"",null,null,"ACCOMARCA","051102","ACCOMARCA","PERUAYACUCHOVILCAS HUAMANACCOMARCA","051102"]
[null,null,null,null,null,"",null,null,"CARHUANCA","051103","CARHUANCA","PERUAYACUCHOVILCAS HUAMANCARHUANCA","051103"]
[null,null,null,null,null,"",null,null,"CONCEPCION","051104","CONCEPCION","PERUAYACUCHOVILCAS HUAMANCONCEPCION","051104"]
[null,null,null,null,null,"",null,null,"HUAMBALPA","051105","HUAMBALPA","PERUAYACUCHOVILCAS HUAMANHUAMBALPA","051105"]
[null,null,null,null,null,"",null,null,"INDEPENDENCIA","051106","INDEPENDENCIA","PERUAYACUCHOVILCAS HUAMANINDEPENDENCIA","051106"]
[null,null,null,null,null,"",null,null,"SAURAMA","051107","SAURAMA","PERUAYACUCHOVILCAS HUAMANSAURAMA","051107"]
[null,null,null,null,null,"",null,null,"VISCHONGO","051108","VISCHONGO","PERUAYACUCHOVILCAS HUAMANVISCHONGO","051108"]
[null,null,null,null,null,"",null,null,"CAJAMARCA","060101","CAJAMARCA","PERUCAJAMARCACAJAMARCACAJAMARCA","060101"]
[null,null,null,null,null,"",null,null,"ASUNCION","060102","ASUNCION","PERUCAJAMARCACAJAMARCAASUNCION","060102"]
[null,null,null,null,null,"",null,null,"CHETILLA","060103","CHETILLA","PERUCAJAMARCACAJAMARCACHETILLA","060103"]
[null,null,null,null,null,"",null,null,"COSPAN","060104","COSPAN","PERUCAJAMARCACAJAMARCACOSPAN","060104"]
[null,null,null,null,null,"",null,null,"ENCAÑADA","060105","ENCAÑADA","PERUCAJAMARCACAJAMARCAENCAÑADA","060105"]
[null,null,null,null,null,"",null,null,"JESUS","060106","JESUS","PERUCAJAMARCACAJAMARCAJESUS","060106"]
[null,null,null,null,null,"",null,null,"LLACANORA","060107","LLACANORA","PERUCAJAMARCACAJAMARCALLACANORA","060107"]
[null,null,null,null,null,"",null,null,"LOS BAÑOS DEL INCA","060108","LOS BAÑOS DEL INCA","PERUCAJAMARCACAJAMARCALOS BAÑOS DEL INCA","060108"]
[null,null,null,null,null,"",null,null,"MAGDALENA","060109","MAGDALENA","PERUCAJAMARCACAJAMARCAMAGDALENA","060109"]
[null,null,null,null,null,"",null,null,"MATARA","060110","MATARA","PERUCAJAMARCACAJAMARCAMATARA","060110"]
[null,null,null,null,null,"",null,null,"NAMORA","060111","NAMORA","PERUCAJAMARCACAJAMARCANAMORA","060111"]
[null,null,null,null,null,"",null,null,"SAN JUAN","060112","SAN JUAN","PERUCAJAMARCACAJAMARCASAN JUAN","060112"]
[null,null,null,null,null,"",null,null,"CAJABAMBA","060201","CAJABAMBA","PERUCAJAMARCACAJABAMBACAJABAMBA","060201"]
[null,null,null,null,null,"",null,null,"CACHACHI","060202","CACHACHI","PERUCAJAMARCACAJABAMBACACHACHI","060202"]
[null,null,null,null,null,"",null,null,"CONDEBAMBA","060203","CONDEBAMBA","PERUCAJAMARCACAJABAMBACONDEBAMBA","060203"]
[null,null,null,null,null,"",null,null,"SITACOCHA","060204","SITACOCHA",{"$f":"\"PERU\"&VLOOKUP(LEFT(J579,2),$B$1:$C$27,2,0)&VLOOKUP(LEFT(J579,4),$F$2:$G$197,2,0)&K579","v":"PERUCAJAMARCACAJABAMBASITACOCHA"},{"$f":"J579","v":"060204"}]
[null,null,null,null,null,"",null,null,"CELENDIN","060301","CELENDIN","PERUCAJAMARCACELENDINCELENDIN","060301"]
[null,null,null,null,null,"",null,null,"CHUMUCH","060302","CHUMUCH","PERUCAJAMARCACELENDINCHUMUCH","060302"]
[null,null,null,null,null,"",null,null,"CORTEGANA","060303","CORTEGANA","PERUCAJAMARCACELENDINCORTEGANA","060303"]
[null,null,null,null,null,"",null,null,"HUASMIN","060304","HUASMIN","PERUCAJAMARCACELENDINHUASMIN","060304"]
[null,null,null,null,null,"",null,null,"JORGE CHAVEZ","060305","JORGE CHAVEZ","PERUCAJAMARCACELENDINJORGE CHAVEZ","060305"]
[null,null,null,null,null,"",null,null,"JOSE GALVEZ","060306","JOSE GALVEZ","PERUCAJAMARCACELENDINJOSE GALVEZ","060306"]
[null,null,null,null,null,"",null,null,"MIGUEL IGLESIAS","060307","MIGUEL IGLESIAS","PERUCAJAMARCACELENDINMIGUEL IGLESIAS","060307"]
[null,null,null,null,null,"",null,null,"OXAMARCA","060308","OXAMARCA","PERUCAJAMARCACELENDINOXAMARCA","060308"]
[null,null,null,null,null,"",null,null,"SOROCHUCO","060309","SOROCHUCO","PERUCAJAMARCACELENDINSOROCHUCO","060309"]
[null,null,null,null,null,"",null,null,"SUCRE","060310","SUCRE","PERUCAJAMARCACELENDINSUCRE","060310"]
[null,null,null,null,null,"",null,null,"UTCO","060311","UTCO","PERUCAJAMARCACELENDINUTCO","060311"]
[null,null,null,null,null,"",null,null,"LA LIBERTAD DE PALLAN","060312","LA LIBERTAD DE PALLAN","PERUCAJAMARCACELENDINLA LIBERTAD DE PALLAN","060312"]
[null,null,null,null,null,"",null,null,"CHOTA","060401","CHOTA","PERUCAJAMARCACHOTACHOTA","060401"]
[null,null,null,null,null,"",null,null,"ANGUIA","060402","ANGUIA","PERUCAJAMARCACHOTAANGUIA","060402"]
[null,null,null,null,null,"",null,null,"CHADIN","060403","CHADIN","PERUCAJAMARCACHOTACHADIN","060403"]
[null,null,null,null,null,"",null,null,"CHIGUIRIP","060404","CHIGUIRIP","PERUCAJAMARCACHOTACHIGUIRIP","060404"]
[null,null,null,null,null,"",null,null,"CHIMBAN","060405","CHIMBAN","PERUCAJAMARCACHOTACHIMBAN","060405"]
[null,null,null,null,null,"",null,null,"CHOROPAMPA","060406","CHOROPAMPA","PERUCAJAMARCACHOTACHOROPAMPA","060406"]
[null,null,null,null,null,"",null,null,"COCHABAMBA","060407","COCHABAMBA","PERUCAJAMARCACHOTACOCHABAMBA","060407"]
[null,null,null,null,null,"",null,null,"CONCHAN","060408","CONCHAN","PERUCAJAMARCACHOTACONCHAN","060408"]
[null,null,null,null,null,"",null,null,"HUAMBOS","060409","HUAMBOS","PERUCAJAMARCACHOTAHUAMBOS","060409"]
[null,null,null,null,null,"",null,null,"LAJAS","060410","LAJAS","PERUCAJAMARCACHOTALAJAS","060410"]
[null,null,null,null,null,"",null,null,"LLAMA","060411","LLAMA","PERUCAJAMARCACHOTALLAMA","060411"]
[null,null,null,null,null,"",null,null,"MIRACOSTA","060412","MIRACOSTA","PERUCAJAMARCACHOTAMIRACOSTA","060412"]
[null,null,null,null,null,"",null,null,"PACCHA","060413","PACCHA","PERUCAJAMARCACHOTAPACCHA","060413"]
[null,null,null,null,null,"",null,null,"PION","060414","PION","PERUCAJAMARCACHOTAPION","060414"]
[null,null,null,null,null,"",null,null,"QUEROCOTO","060415","QUEROCOTO","PERUCAJAMARCACHOTAQUEROCOTO","060415"]
[null,null,null,null,null,"",null,null,"SAN JUAN DE LICUPIS","060416","SAN JUAN DE LICUPIS","PERUCAJAMARCACHOTASAN JUAN DE LICUPIS","060416"]
[null,null,null,null,null,"",null,null,"TACABAMBA","060417","TACABAMBA","PERUCAJAMARCACHOTATACABAMBA","060417"]
[null,null,null,null,null,"",null,null,"TOCMOCHE","060418","TOCMOCHE","PERUCAJAMARCACHOTATOCMOCHE","060418"]
[null,null,null,null,null,"",null,null,"CHALAMARCA","060419","CHALAMARCA","PERUCAJAMARCACHOTACHALAMARCA","060419"]
[null,null,null,null,null,"",null,null,"CONTUMAZA","060501","CONTUMAZA","PERUCAJAMARCACONTUMAZACONTUMAZA","060501"]
[null,null,null,null,null,"",null,null,"CHILETE","060502","CHILETE","PERUCAJAMARCACONTUMAZACHILETE","060502"]
[null,null,null,null,null,"",null,null,"CUPISNIQUE","060503","CUPISNIQUE","PERUCAJAMARCACONTUMAZACUPISNIQUE","060503"]
[null,null,null,null,null,"",null,null,"GUZMANGO","060504","GUZMANGO","PERUCAJAMARCACONTUMAZAGUZMANGO","060504"]
[null,null,null,null,null,"",null,null,"SAN BENITO","060505","SAN BENITO","PERUCAJAMARCACONTUMAZASAN BENITO","060505"]
[null,null,null,null,null,"",null,null,"SANTA CRUZ DE TOLED","060506","SANTA CRUZ DE TOLED","PERUCAJAMARCACONTUMAZASANTA CRUZ DE TOLED","060506"]
[null,null,null,null,null,"",null,null,"TANTARICA","060507","TANTARICA","PERUCAJAMARCACONTUMAZATANTARICA","060507"]
[null,null,null,null,null,"",null,null,"YONAN","060508","YONAN","PERUCAJAMARCACONTUMAZAYONAN","060508"]
[null,null,null,null,null,"",null,null,"CUTERVO","060601","CUTERVO","PERUCAJAMARCACUTERVOCUTERVO","060601"]
[null,null,null,null,null,"",null,null,"CALLAYUC","060602","CALLAYUC","PERUCAJAMARCACUTERVOCALLAYUC","060602"]
[null,null,null,null,null,"",null,null,"CHOROS","060603","CHOROS","PERUCAJAMARCACUTERVOCHOROS","060603"]
[null,null,null,null,null,"",null,null,"CUJILLO","060604","CUJILLO","PERUCAJAMARCACUTERVOCUJILLO","060604"]
[null,null,null,null,null,"",null,null,"LA RAMADA","060605","LA RAMADA","PERUCAJAMARCACUTERVOLA RAMADA","060605"]
[null,null,null,null,null,"",null,null,"PIMPINGOS","060606","PIMPINGOS","PERUCAJAMARCACUTERVOPIMPINGOS","060606"]
[null,null,null,null,null,"",null,null,"QUEROCOTILLO","060607","QUEROCOTILLO","PERUCAJAMARCACUTERVOQUEROCOTILLO","060607"]
[null,null,null,null,null,"",null,null,"SAN ANDRES DE CUTERVO","060608","SAN ANDRES DE CUTERVO","PERUCAJAMARCACUTERVOSAN ANDRES DE CUTERVO","060608"]
[null,null,null,null,null,"",null,null,"SAN JUAN DE CUTERVO","060609","SAN JUAN DE CUTERVO","PERUCAJAMARCACUTERVOSAN JUAN DE CUTERVO","060609"]
[null,null,null,null,null,"",null,null,"SAN LUIS DE LUCMA","060610","SAN LUIS DE LUCMA","PERUCAJAMARCACUTERVOSAN LUIS DE LUCMA","060610"]
[null,null,null,null,null,"",null,null,"SANTA CRUZ","060611","SANTA CRUZ","PERUCAJAMARCACUTERVOSANTA CRUZ","060611"]
[null,null,null,null,null,"",null,null,"SANTO DOMINGO DE LA CAPILLA","060612","SANTO DOMINGO DE LA CAPILLA","PERUCAJAMARCACUTERVOSANTO DOMINGO DE LA CAPILLA","060612"]
[null,null,null,null,null,"",null,null,"SANTO TOMAS","060613","SANTO TOMAS","PERUCAJAMARCACUTERVOSANTO TOMAS","060613"]
[null,null,null,null,null,"",null,null,"SOCOTA","060614","SOCOTA","PERUCAJAMARCACUTERVOSOCOTA","060614"]
[null,null,null,null,null,"",null,null,"TORIBIO CASANOVA","060615","TORIBIO CASANOVA","PERUCAJAMARCACUTERVOTORIBIO CASANOVA","060615"]
[null,null,null,null,null,"",null,null,"BAMBAMARCA","060701","BAMBAMARCA","PERUCAJAMARCAHUALGAYOCBAMBAMARCA","060701"]
[null,null,null,null,null,"",null,null,"CHUGUR","060702","CHUGUR","PERUCAJAMARCAHUALGAYOCCHUGUR","060702"]
[null,null,null,null,null,"",null,null,"HUALGAYOC","060703","HUALGAYOC","PERUCAJAMARCAHUALGAYOCHUALGAYOC","060703"]
[null,null,null,null,null,"",null,null,"JAEN","060801","JAEN","PERUCAJAMARCAJAENJAEN","060801"]
[null,null,null,null,null,"",null,null,"BELLAVISTA","060802","BELLAVISTA","PERUCAJAMARCAJAENBELLAVISTA","060802"]
[null,null,null,null,null,"",null,null,"CHONTALI","060803","CHONTALI","PERUCAJAMARCAJAENCHONTALI","060803"]
[null,null,null,null,null,"",null,null,"COLASAY","060804","COLASAY","PERUCAJAMARCAJAENCOLASAY","060804"]
[null,null,null,null,null,"",null,null,"HUABAL","060805","HUABAL","PERUCAJAMARCAJAENHUABAL","060805"]
[null,null,null,null,null,"",null,null,"LAS PIRIAS","060806","LAS PIRIAS","PERUCAJAMARCAJAENLAS PIRIAS","060806"]
[null,null,null,null,null,"",null,null,"POMAHUACA","060807","POMAHUACA",{"$f":"\"PERU\"&VLOOKUP(LEFT(J643,2),$B$1:$C$27,2,0)&VLOOKUP(LEFT(J643,4),$F$2:$G$197,2,0)&K643","v":"PERUCAJAMARCAJAENPOMAHUACA"},{"$f":"J643","v":"060807"}]
[null,null,null,null,null,"",null,null,"PUCARA","060808","PUCARA","PERUCAJAMARCAJAENPUCARA","060808"]
[null,null,null,null,null,"",null,null,"SALLIQUE","060809","SALLIQUE","PERUCAJAMARCAJAENSALLIQUE","060809"]
[null,null,null,null,null,"",null,null,"SAN FELIPE","060810","SAN FELIPE","PERUCAJAMARCAJAENSAN FELIPE","060810"]
[null,null,null,null,null,"",null,null,"SAN JOSE DEL ALTO","060811","SAN JOSE DEL ALTO","PERUCAJAMARCAJAENSAN JOSE DEL ALTO","060811"]
[null,null,null,null,null,"",null,null,"SANTA ROSA","060812","SANTA ROSA","PERUCAJAMARCAJAENSANTA ROSA","060812"]
[null,null,null,null,null,"",null,null,"SAN IGNACIO","060901","SAN IGNACIO","PERUCAJAMARCASAN IGNACIOSAN IGNACIO","060901"]
[null,null,null,null,null,"",null,null,"CHIRINOS","060902","CHIRINOS","PERUCAJAMARCASAN IGNACIOCHIRINOS","060902"]
[null,null,null,null,null,"",null,null,"HUARANGO","060903","HUARANGO","PERUCAJAMARCASAN IGNACIOHUARANGO","060903"]
[null,null,null,null,null,"",null,null,"LA COIPA","060904","LA COIPA","PERUCAJAMARCASAN IGNACIOLA COIPA","060904"]
[null,null,null,null,null,"",null,null,"NAMBALLE","060905","NAMBALLE","PERUCAJAMARCASAN IGNACIONAMBALLE","060905"]
[null,null,null,null,null,"",null,null,"SAN JOSE DE LOURDES","060906","SAN JOSE DE LOURDES","PERUCAJAMARCASAN IGNACIOSAN JOSE DE LOURDES","060906"]
[null,null,null,null,null,"",null,null,"TABACONAS","060907","TABACONAS","PERUCAJAMARCASAN IGNACIOTABACONAS","060907"]
[null,null,null,null,null,"",null,null,"PEDRO GALVEZ","061001","PEDRO GALVEZ","PERUCAJAMARCASAN MARCOSPEDRO GALVEZ","061001"]
[null,null,null,null,null,"",null,null,"CHANCAY","061002","CHANCAY","PERUCAJAMARCASAN MARCOSCHANCAY","061002"]
[null,null,null,null,null,"",null,null,"EDUARDO VILLANUEVA","061003","EDUARDO VILLANUEVA","PERUCAJAMARCASAN MARCOSEDUARDO VILLANUEVA","061003"]
[null,null,null,null,null,"",null,null,"GREGORIO PITA","061004","GREGORIO PITA","PERUCAJAMARCASAN MARCOSGREGORIO PITA","061004"]
[null,null,null,null,null,"",null,null,"ICHOCAN","061005","ICHOCAN","PERUCAJAMARCASAN MARCOSICHOCAN","061005"]
[null,null,null,null,null,"",null,null,"JOSE MANUEL QUIROZ","061006","JOSE MANUEL QUIROZ","PERUCAJAMARCASAN MARCOSJOSE MANUEL QUIROZ","061006"]
[null,null,null,null,null,"",null,null,"JOSE SABOGAL","061007","JOSE SABOGAL","PERUCAJAMARCASAN MARCOSJOSE SABOGAL","061007"]
[null,null,null,null,null,"",null,null,"SAN MIGUEL","061101","SAN MIGUEL","PERUCAJAMARCASAN MIGUELSAN MIGUEL","061101"]
[null,null,null,null,null,"",null,null,"BOLIVAR","061102","BOLIVAR","PERUCAJAMARCASAN MIGUELBOLIVAR","061102"]
[null,null,null,null,null,"",null,null,"CALQUIS","061103","CALQUIS","PERUCAJAMARCASAN MIGUELCALQUIS","061103"]
[null,null,null,null,null,"",null,null,"CATILLUC","061104","CATILLUC","PERUCAJAMARCASAN MIGUELCATILLUC","061104"]
[null,null,null,null,null,"",null,null,"EL PRADO","061105","EL PRADO","PERUCAJAMARCASAN MIGUELEL PRADO","061105"]
[null,null,null,null,null,"",null,null,"LA FLORIDA","061106","LA FLORIDA","PERUCAJAMARCASAN MIGUELLA FLORIDA","061106"]
[null,null,null,null,null,"",null,null,"LLAPA","061107","LLAPA","PERUCAJAMARCASAN MIGUELLLAPA","061107"]
[null,null,null,null,null,"",null,null,"NANCHOC","061108","NANCHOC","PERUCAJAMARCASAN MIGUELNANCHOC","061108"]
[null,null,null,null,null,"",null,null,"NIEPOS","061109","NIEPOS","PERUCAJAMARCASAN MIGUELNIEPOS","061109"]
[null,null,null,null,null,"",null,null,"SAN GREGORIO","061110","SAN GREGORIO","PERUCAJAMARCASAN MIGUELSAN GREGORIO","061110"]
[null,null,null,null,null,"",null,null,"SAN SILVESTRE DE COCHAN","061111","SAN SILVESTRE DE COCHAN","PERUCAJAMARCASAN MIGUELSAN SILVESTRE DE COCHAN","061111"]
[null,null,null,null,null,"",null,null,"TONGOD","061112","TONGOD","PERUCAJAMARCASAN MIGUELTONGOD","061112"]
[null,null,null,null,null,"",null,null,"UNION AGUA BLANCA","061113","UNION AGUA BLANCA","PERUCAJAMARCASAN MIGUELUNION AGUA BLANCA","061113"]
[null,null,null,null,null,"",null,null,"SAN PABLO","061201","SAN PABLO","PERUCAJAMARCASAN PABLOSAN PABLO","061201"]
[null,null,null,null,null,"",null,null,"SAN BERNARDINO","061202","SAN BERNARDINO","PERUCAJAMARCASAN PABLOSAN BERNARDINO","061202"]
[null,null,null,null,null,"",null,null,"SAN LUIS","061203","SAN LUIS","PERUCAJAMARCASAN PABLOSAN LUIS","061203"]
[null,null,null,null,null,"",null,null,"TUMBADEN","061204","TUMBADEN","PERUCAJAMARCASAN PABLOTUMBADEN","061204"]
[null,null,null,null,null,"",null,null,"SANTA CRUZ","061301","SANTA CRUZ","PERUCAJAMARCASANTA CRUZSANTA CRUZ","061301"]
[null,null,null,null,null,"",null,null,"ANDABAMBA","061302","ANDABAMBA","PERUCAJAMARCASANTA CRUZANDABAMBA","061302"]
[null,null,null,null,null,"",null,null,"CATACHE","061303","CATACHE","PERUCAJAMARCASANTA CRUZCATACHE","061303"]
[null,null,null,null,null,"",null,null,"CHANCAYBAÑOS","061304","CHANCAYBAÑOS","PERUCAJAMARCASANTA CRUZCHANCAYBAÑOS","061304"]
[null,null,null,null,null,"",null,null,"LA ESPERANZA","061305","LA ESPERANZA","PERUCAJAMARCASANTA CRUZLA ESPERANZA","061305"]
[null,null,null,null,null,"",null,null,"NINABAMBA","061306","NINABAMBA","PERUCAJAMARCASANTA CRUZNINABAMBA","061306"]
[null,null,null,null,null,"",null,null,"PULAN","061307","PULAN","PERUCAJAMARCASANTA CRUZPULAN","061307"]
[null,null,null,null,null,"",null,null,"SAUCEPAMPA","061308","SAUCEPAMPA","PERUCAJAMARCASANTA CRUZSAUCEPAMPA","061308"]
[null,null,null,null,null,"",null,null,"SEXI","061309","SEXI","PERUCAJAMARCASANTA CRUZSEXI","061309"]
[null,null,null,null,null,"",null,null,"UTICYACU","061310","UTICYACU","PERUCAJAMARCASANTA CRUZUTICYACU","061310"]
[null,null,null,null,null,"",null,null,"YAUYUCAN","061311","YAUYUCAN","PERUCAJAMARCASANTA CRUZYAUYUCAN","061311"]
[null,null,null,null,null,"",null,null,"CALLAO","070101","CALLAO","PERUCALLAOCALLAOCALLAO","070101"]
[null,null,null,null,null,"",null,null,"BELLAVISTA","070102","BELLAVISTA","PERUCALLAOCALLAOBELLAVISTA","070102"]
[null,null,null,null,null,"",null,null,"CARMEN DE LA LEGUA REYNOSO","070103","CARMEN DE LA LEGUA REYNOSO","PERUCALLAOCALLAOCARMEN DE LA LEGUA REYNOSO","070103"]
[null,null,null,null,null,"",null,null,"LA PERLA","070104","LA PERLA","PERUCALLAOCALLAOLA PERLA","070104"]
[null,null,null,null,null,"",null,null,"LA PUNTA","070105","LA PUNTA","PERUCALLAOCALLAOLA PUNTA","070105"]
[null,null,null,null,null,"",null,null,"VENTANILLA","070106","VENTANILLA","PERUCALLAOCALLAOVENTANILLA","070106"]
[null,null,null,null,null,"",null,null,"MI PERU","070107","MI PERU","PERUCALLAOCALLAOMI PERU","070107"]
[null,null,null,null,null,"",null,null,"CUSCO","080101","CUSCO","PERUCUSCOCUSCOCUSCO","080101"]
[null,null,null,null,null,"",null,null,"CCORCA","080102","CCORCA","PERUCUSCOCUSCOCCORCA","080102"]
[null,null,null,null,null,"",null,null,"POROY","080103","POROY","PERUCUSCOCUSCOPOROY","080103"]
[null,null,null,null,null,"",null,null,"SAN JERONIMO","080104","SAN JERONIMO","PERUCUSCOCUSCOSAN JERONIMO","080104"]
[null,null,null,null,null,"",null,null,"SAN SEBASTIAN","080105","SAN SEBASTIAN","PERUCUSCOCUSCOSAN SEBASTIAN","080105"]
[null,null,null,null,null,"",null,null,"SANTIAGO","080106","SANTIAGO","PERUCUSCOCUSCOSANTIAGO","080106"]
[null,null,null,null,null,"",null,null,"SAYLLA","080107","SAYLLA","PERUCUSCOCUSCOSAYLLA","080107"]
[null,null,null,null,null,"",null,null,"WANCHAQ","080108","WANCHAQ","PERUCUSCOCUSCOWANCHAQ","080108"]
[null,null,null,null,null,"",null,null,"ACOMAYO","080201","ACOMAYO","PERUCUSCOACOMAYOACOMAYO","080201"]
[null,null,null,null,null,"",null,null,"ACOPIA","080202","ACOPIA",{"$f":"\"PERU\"&VLOOKUP(LEFT(J707,2),$B$1:$C$27,2,0)&VLOOKUP(LEFT(J707,4),$F$2:$G$197,2,0)&K707","v":"PERUCUSCOACOMAYOACOPIA"},{"$f":"J707","v":"080202"}]
[null,null,null,null,null,"",null,null,"ACOS","080203","ACOS","PERUCUSCOACOMAYOACOS","080203"]
[null,null,null,null,null,"",null,null,"MOSOC LLACTA","080204","MOSOC LLACTA","PERUCUSCOACOMAYOMOSOC LLACTA","080204"]
[null,null,null,null,null,"",null,null,"POMACANCHI","080205","POMACANCHI","PERUCUSCOACOMAYOPOMACANCHI","080205"]
[null,null,null,null,null,"",null,null,"RONDOCAN","080206","RONDOCAN","PERUCUSCOACOMAYORONDOCAN","080206"]
[null,null,null,null,null,"",null,null,"SANGARARA","080207","SANGARARA","PERUCUSCOACOMAYOSANGARARA","080207"]
[null,null,null,null,null,"",null,null,"ANTA","080301","ANTA","PERUCUSCOANTAANTA","080301"]
[null,null,null,null,null,"",null,null,"ANCAHUASI","080302","ANCAHUASI","PERUCUSCOANTAANCAHUASI","080302"]
[null,null,null,null,null,"",null,null,"CACHIMAYO","080303","CACHIMAYO","PERUCUSCOANTACACHIMAYO","080303"]
[null,null,null,null,null,"",null,null,"CHINCHAYPUJIO","080304","CHINCHAYPUJIO","PERUCUSCOANTACHINCHAYPUJIO","080304"]
[null,null,null,null,null,"",null,null,"HUAROCONDO","080305","HUAROCONDO","PERUCUSCOANTAHUAROCONDO","080305"]
[null,null,null,null,null,"",null,null,"LIMATAMBO","080306","LIMATAMBO","PERUCUSCOANTALIMATAMBO","080306"]
[null,null,null,null,null,"",null,null,"MOLLEPATA","080307","MOLLEPATA","PERUCUSCOANTAMOLLEPATA","080307"]
[null,null,null,null,null,"",null,null,"PUCYURA","080308","PUCYURA","PERUCUSCOANTAPUCYURA","080308"]
[null,null,null,null,null,"",null,null,"ZURITE","080309","ZURITE","PERUCUSCOANTAZURITE","080309"]
[null,null,null,null,null,"",null,null,"CALCA","080401","CALCA","PERUCUSCOCALCACALCA","080401"]
[null,null,null,null,null,"",null,null,"COYA","080402","COYA","PERUCUSCOCALCACOYA","080402"]
[null,null,null,null,null,"",null,null,"LAMAY","080403","LAMAY","PERUCUSCOCALCALAMAY","080403"]
[null,null,null,null,null,"",null,null,"LARES","080404","LARES","PERUCUSCOCALCALARES","080404"]
[null,null,null,null,null,"",null,null,"PISAC","080405","PISAC","PERUCUSCOCALCAPISAC","080405"]
[null,null,null,null,null,"",null,null,"SAN SALVADOR","080406","SAN SALVADOR","PERUCUSCOCALCASAN SALVADOR","080406"]
[null,null,null,null,null,"",null,null,"TARAY","080407","TARAY","PERUCUSCOCALCATARAY","080407"]
[null,null,null,null,null,"",null,null,"YANATILE","080408","YANATILE","PERUCUSCOCALCAYANATILE","080408"]
[null,null,null,null,null,"",null,null,"YANAOCA","080501","YANAOCA","PERUCUSCOCANASYANAOCA","080501"]
[null,null,null,null,null,"",null,null,"CHECCA","080502","CHECCA","PERUCUSCOCANASCHECCA","080502"]
[null,null,null,null,null,"",null,null,"KUNTURKANKI","080503","KUNTURKANKI","PERUCUSCOCANASKUNTURKANKI","080503"]
[null,null,null,null,null,"",null,null,"LANGUI","080504","LANGUI","PERUCUSCOCANASLANGUI","080504"]
[null,null,null,null,null,"",null,null,"LAYO","080505","LAYO","PERUCUSCOCANASLAYO","080505"]
[null,null,null,null,null,"",null,null,"PAMPAMARCA","080506","PAMPAMARCA","PERUCUSCOCANASPAMPAMARCA","080506"]
[null,null,null,null,null,"",null,null,"QUEHUE","080507","QUEHUE","PERUCUSCOCANASQUEHUE","080507"]
[null,null,null,null,null,"",null,null,"TUPAC AMARU","080508","TUPAC AMARU","PERUCUSCOCANASTUPAC AMARU","080508"]
[null,null,null,null,null,"",null,null,"SICUANI","080601","SICUANI","PERUCUSCOCANCHISSICUANI","080601"]
[null,null,null,null,null,"",null,null,"CHECACUPE","080602","CHECACUPE","PERUCUSCOCANCHISCHECACUPE","080602"]
[null,null,null,null,null,"",null,null,"COMBAPATA","080603","COMBAPATA","PERUCUSCOCANCHISCOMBAPATA","080603"]
[null,null,null,null,null,"",null,null,"MARANGANI","080604","MARANGANI","PERUCUSCOCANCHISMARANGANI","080604"]
[null,null,null,null,null,"",null,null,"PITUMARCA","080605","PITUMARCA","PERUCUSCOCANCHISPITUMARCA","080605"]
[null,null,null,null,null,"",null,null,"SAN PABLO","080606","SAN PABLO","PERUCUSCOCANCHISSAN PABLO","080606"]
[null,null,null,null,null,"",null,null,"SAN PEDRO","080607","SAN PEDRO","PERUCUSCOCANCHISSAN PEDRO","080607"]
[null,null,null,null,null,"",null,null,"TINTA","080608","TINTA","PERUCUSCOCANCHISTINTA","080608"]
[null,null,null,null,null,"",null,null,"SANTO TOMAS","080701","SANTO TOMAS","PERUCUSCOCHUMBIVILCASSANTO TOMAS","080701"]
[null,null,null,null,null,"",null,null,"CAPACMARCA","080702","CAPACMARCA","PERUCUSCOCHUMBIVILCASCAPACMARCA","080702"]
[null,null,null,null,null,"",null,null,"CHAMACA","080703","CHAMACA","PERUCUSCOCHUMBIVILCASCHAMACA","080703"]
[null,null,null,null,null,"",null,null,"COLQUEMARCA","080704","COLQUEMARCA","PERUCUSCOCHUMBIVILCASCOLQUEMARCA","080704"]
[null,null,null,null,null,"",null,null,"LIVITACA","080705","LIVITACA","PERUCUSCOCHUMBIVILCASLIVITACA","080705"]
[null,null,null,null,null,"",null,null,"LLUSCO","080706","LLUSCO","PERUCUSCOCHUMBIVILCASLLUSCO","080706"]
[null,null,null,null,null,"",null,null,"QUINOTA","080707","QUINOTA","PERUCUSCOCHUMBIVILCASQUINOTA","080707"]
[null,null,null,null,null,"",null,null,"VELILLE","080708","VELILLE","PERUCUSCOCHUMBIVILCASVELILLE","080708"]
[null,null,null,null,null,"",null,null,"ESPINAR","080801","ESPINAR","PERUCUSCOESPINARESPINAR","080801"]
[null,null,null,null,null,"",null,null,"CONDOROMA","080802","CONDOROMA","PERUCUSCOESPINARCONDOROMA","080802"]
[null,null,null,null,null,"",null,null,"COPORAQUE","080803","COPORAQUE","PERUCUSCOESPINARCOPORAQUE","080803"]
[null,null,null,null,null,"",null,null,"OCORURO","080804","OCORURO","PERUCUSCOESPINAROCORURO","080804"]
[null,null,null,null,null,"",null,null,"PALLPATA","080805","PALLPATA","PERUCUSCOESPINARPALLPATA","080805"]
[null,null,null,null,null,"",null,null,"PICHIGUA","080806","PICHIGUA","PERUCUSCOESPINARPICHIGUA","080806"]
[null,null,null,null,null,"",null,null,"SUYCKUTAMBO","080807","SUYCKUTAMBO","PERUCUSCOESPINARSUYCKUTAMBO","080807"]
[null,null,null,null,null,"",null,null,"ALTO PICHIGUA","080808","ALTO PICHIGUA","PERUCUSCOESPINARALTO PICHIGUA","080808"]
[null,null,null,null,null,"",null,null,"SANTA ANA","080901","SANTA ANA","PERUCUSCOLA CONVENCIONSANTA ANA","080901"]
[null,null,null,null,null,"",null,null,"ECHARATE","080902","ECHARATE","PERUCUSCOLA CONVENCIONECHARATE","080902"]
[null,null,null,null,null,"",null,null,"HUAYOPATA","080903","HUAYOPATA","PERUCUSCOLA CONVENCIONHUAYOPATA","080903"]
[null,null,null,null,null,"",null,null,"MARANURA","080904","MARANURA","PERUCUSCOLA CONVENCIONMARANURA","080904"]
[null,null,null,null,null,"",null,null,"OCOBAMBA","080905","OCOBAMBA","PERUCUSCOLA CONVENCIONOCOBAMBA","080905"]
[null,null,null,null,null,"",null,null,"QUELLOUNO","080906","QUELLOUNO","PERUCUSCOLA CONVENCIONQUELLOUNO","080906"]
[null,null,null,null,null,"",null,null,"KIMBIRI","080907","KIMBIRI","PERUCUSCOLA CONVENCIONKIMBIRI","080907"]
[null,null,null,null,null,"",null,null,"SANTA TERESA","080908","SANTA TERESA","PERUCUSCOLA CONVENCIONSANTA TERESA","080908"]
[null,null,null,null,null,"",null,null,"VILCABAMBA","080909","VILCABAMBA","PERUCUSCOLA CONVENCIONVILCABAMBA","080909"]
[null,null,null,null,null,"",null,null,"PICHARI","080910","PICHARI",{"$f":"\"PERU\"&VLOOKUP(LEFT(J771,2),$B$1:$C$27,2,0)&VLOOKUP(LEFT(J771,4),$F$2:$G$197,2,0)&K771","v":"PERUCUSCOLA CONVENCIONPICHARI"},{"$f":"J771","v":"080910"}]
[null,null,null,null,null,"",null,null,"INKAWASI","080911","INKAWASI","PERUCUSCOLA CONVENCIONINKAWASI","080911"]
[null,null,null,null,null,"",null,null,"VILLA VIRGEN","080912","VILLA VIRGEN","PERUCUSCOLA CONVENCIONVILLA VIRGEN","080912"]
[null,null,null,null,null,"",null,null,"VILLA KINTIARINA","080913","VILLA KINTIARINA","PERUCUSCOLA CONVENCIONVILLA KINTIARINA","080913"]
[null,null,null,null,null,"",null,null,"MEGANTONI","080914","MEGANTONI","PERUCUSCOLA CONVENCIONMEGANTONI","080914"]
[null,null,null,null,null,"",null,null,"PARURO","081001","PARURO","PERUCUSCOPARUROPARURO","081001"]
[null,null,null,null,null,"",null,null,"ACCHA","081002","ACCHA","PERUCUSCOPARUROACCHA","081002"]
[null,null,null,null,null,"",null,null,"CCAPI","081003","CCAPI","PERUCUSCOPARUROCCAPI","081003"]
[null,null,null,null,null,"",null,null,"COLCHA","081004","COLCHA","PERUCUSCOPARUROCOLCHA","081004"]
[null,null,null,null,null,"",null,null,"HUANOQUITE","081005","HUANOQUITE","PERUCUSCOPARUROHUANOQUITE","081005"]
[null,null,null,null,null,"",null,null,"OMACHA","081006","OMACHA","PERUCUSCOPARUROOMACHA","081006"]
[null,null,null,null,null,"",null,null,"PACCARITAMBO","081007","PACCARITAMBO","PERUCUSCOPARUROPACCARITAMBO","081007"]
[null,null,null,null,null,"",null,null,"PILLPINTO","081008","PILLPINTO","PERUCUSCOPARUROPILLPINTO","081008"]
[null,null,null,null,null,"",null,null,"YAURISQUE","081009","YAURISQUE","PERUCUSCOPARUROYAURISQUE","081009"]
[null,null,null,null,null,"",null,null,"PAUCARTAMBO","081101","PAUCARTAMBO","PERUCUSCOPAUCARTAMBOPAUCARTAMBO","081101"]
[null,null,null,null,null,"",null,null,"CAICAY","081102","CAICAY","PERUCUSCOPAUCARTAMBOCAICAY","081102"]
[null,null,null,null,null,"",null,null,"CHALLABAMBA","081103","CHALLABAMBA","PERUCUSCOPAUCARTAMBOCHALLABAMBA","081103"]
[null,null,null,null,null,"",null,null,"COLQUEPATA","081104","COLQUEPATA","PERUCUSCOPAUCARTAMBOCOLQUEPATA","081104"]
[null,null,null,null,null,"",null,null,"HUANCARANI","081105","HUANCARANI","PERUCUSCOPAUCARTAMBOHUANCARANI","081105"]
[null,null,null,null,null,"",null,null,"KOSÑIPATA","081106","KOSÑIPATA","PERUCUSCOPAUCARTAMBOKOSÑIPATA","081106"]
[null,null,null,null,null,"",null,null,"URCOS","081201","URCOS","PERUCUSCOQUISPICANCHIURCOS","081201"]
[null,null,null,null,null,"",null,null,"ANDAHUAYLILLAS","081202","ANDAHUAYLILLAS","PERUCUSCOQUISPICANCHIANDAHUAYLILLAS","081202"]
[null,null,null,null,null,"",null,null,"CAMANTI","081203","CAMANTI","PERUCUSCOQUISPICANCHICAMANTI","081203"]
[null,null,null,null,null,"",null,null,"CCARHUAYO","081204","CCARHUAYO","PERUCUSCOQUISPICANCHICCARHUAYO","081204"]
[null,null,null,null,null,"",null,null,"CCATCA","081205","CCATCA","PERUCUSCOQUISPICANCHICCATCA","081205"]
[null,null,null,null,null,"",null,null,"CUSIPATA","081206","CUSIPATA","PERUCUSCOQUISPICANCHICUSIPATA","081206"]
[null,null,null,null,null,"",null,null,"HUARO","081207","HUARO","PERUCUSCOQUISPICANCHIHUARO","081207"]
[null,null,null,null,null,"",null,null,"LUCRE","081208","LUCRE","PERUCUSCOQUISPICANCHILUCRE","081208"]
[null,null,null,null,null,"",null,null,"MARCAPATA","081209","MARCAPATA","PERUCUSCOQUISPICANCHIMARCAPATA","081209"]
[null,null,null,null,null,"",null,null,"OCONGATE","081210","OCONGATE","PERUCUSCOQUISPICANCHIOCONGATE","081210"]
[null,null,null,null,null,"",null,null,"OROPESA","081211","OROPESA","PERUCUSCOQUISPICANCHIOROPESA","081211"]
[null,null,null,null,null,"",null,null,"QUIQUIJANA","081212","QUIQUIJANA","PERUCUSCOQUISPICANCHIQUIQUIJANA","081212"]
[null,null,null,null,null,"",null,null,"URUBAMBA","081301","URUBAMBA","PERUCUSCOURUBAMBAURUBAMBA","081301"]
[null,null,null,null,null,"",null,null,"CHINCHERO","081302","CHINCHERO","PERUCUSCOURUBAMBACHINCHERO","081302"]
[null,null,null,null,null,"",null,null,"HUAYLLABAMBA","081303","HUAYLLABAMBA","PERUCUSCOURUBAMBAHUAYLLABAMBA","081303"]
[null,null,null,null,null,"",null,null,"MACHUPICCHU","081304","MACHUPICCHU","PERUCUSCOURUBAMBAMACHUPICCHU","081304"]
[null,null,null,null,null,"",null,null,"MARAS","081305","MARAS","PERUCUSCOURUBAMBAMARAS","081305"]
[null,null,null,null,null,"",null,null,"OLLANTAYTAMBO","081306","OLLANTAYTAMBO","PERUCUSCOURUBAMBAOLLANTAYTAMBO","081306"]
[null,null,null,null,null,"",null,null,"YUCAY","081307","YUCAY","PERUCUSCOURUBAMBAYUCAY","081307"]
[null,null,null,null,null,"",null,null,"HUANCAVELICA","090101","HUANCAVELICA","PERUHUANCAVELICAHUANCAVELICAHUANCAVELICA","090101"]
[null,null,null,null,null,"",null,null,"ACOBAMBILLA","090102","ACOBAMBILLA","PERUHUANCAVELICAHUANCAVELICAACOBAMBILLA","090102"]
[null,null,null,null,null,"",null,null,"ACORIA","090103","ACORIA","PERUHUANCAVELICAHUANCAVELICAACORIA","090103"]
[null,null,null,null,null,"",null,null,"CONAYCA","090104","CONAYCA","PERUHUANCAVELICAHUANCAVELICACONAYCA","090104"]
[null,null,null,null,null,"",null,null,"CUENCA","090105","CUENCA","PERUHUANCAVELICAHUANCAVELICACUENCA","090105"]
[null,null,null,null,null,"",null,null,"HUACHOCOLPA","090106","HUACHOCOLPA","PERUHUANCAVELICAHUANCAVELICAHUACHOCOLPA","090106"]
[null,null,null,null,null,"",null,null,"HUAYLLAHUARA","090107","HUAYLLAHUARA","PERUHUANCAVELICAHUANCAVELICAHUAYLLAHUARA","090107"]
[null,null,null,null,null,"",null,null,"IZCUCHACA","090108","IZCUCHACA","PERUHUANCAVELICAHUANCAVELICAIZCUCHACA","090108"]
[null,null,null,null,null,"",null,null,"LARIA","090109","LARIA","PERUHUANCAVELICAHUANCAVELICALARIA","090109"]
[null,null,null,null,null,"",null,null,"MANTA","090110","MANTA","PERUHUANCAVELICAHUANCAVELICAMANTA","090110"]
[null,null,null,null,null,"",null,null,"MARISCAL CACERES","090111","MARISCAL CACERES","PERUHUANCAVELICAHUANCAVELICAMARISCAL CACERES","090111"]
[null,null,null,null,null,"",null,null,"MOYA","090112","MOYA","PERUHUANCAVELICAHUANCAVELICAMOYA","090112"]
[null,null,null,null,null,"",null,null,"NUEVO OCCORO","090113","NUEVO OCCORO","PERUHUANCAVELICAHUANCAVELICANUEVO OCCORO","090113"]
[null,null,null,null,null,"",null,null,"PALCA","090114","PALCA","PERUHUANCAVELICAHUANCAVELICAPALCA","090114"]
[null,null,null,null,null,"",null,null,"PILCHACA","090115","PILCHACA","PERUHUANCAVELICAHUANCAVELICAPILCHACA","090115"]
[null,null,null,null,null,"",null,null,"VILCA","090116","VILCA","PERUHUANCAVELICAHUANCAVELICAVILCA","090116"]
[null,null,null,null,null,"",null,null,"YAULI","090117","YAULI","PERUHUANCAVELICAHUANCAVELICAYAULI","090117"]
[null,null,null,null,null,"",null,null,"ASCENSION","090118","ASCENSION","PERUHUANCAVELICAHUANCAVELICAASCENSION","090118"]
[null,null,null,null,null,"",null,null,"HUANDO","090119","HUANDO","PERUHUANCAVELICAHUANCAVELICAHUANDO","090119"]
[null,null,null,null,null,"",null,null,"ACOBAMBA","090201","ACOBAMBA","PERUHUANCAVELICAACOBAMBAACOBAMBA","090201"]
[null,null,null,null,null,"",null,null,"ANDABAMBA","090202","ANDABAMBA","PERUHUANCAVELICAACOBAMBAANDABAMBA","090202"]
[null,null,null,null,null,"",null,null,"ANTA","090203","ANTA","PERUHUANCAVELICAACOBAMBAANTA","090203"]
[null,null,null,null,null,"",null,null,"CAJA","090204","CAJA","PERUHUANCAVELICAACOBAMBACAJA","090204"]
[null,null,null,null,null,"",null,null,"MARCAS","090205","MARCAS","PERUHUANCAVELICAACOBAMBAMARCAS","090205"]
[null,null,null,null,null,"",null,null,"PAUCARA","090206","PAUCARA","PERUHUANCAVELICAACOBAMBAPAUCARA","090206"]
[null,null,null,null,null,"",null,null,"POMACOCHA","090207","POMACOCHA",{"$f":"\"PERU\"&VLOOKUP(LEFT(J835,2),$B$1:$C$27,2,0)&VLOOKUP(LEFT(J835,4),$F$2:$G$197,2,0)&K835","v":"PERUHUANCAVELICAACOBAMBAPOMACOCHA"},{"$f":"J835","v":"090207"}]
[null,null,null,null,null,"",null,null,"ROSARIO","090208","ROSARIO","PERUHUANCAVELICAACOBAMBAROSARIO","090208"]
[null,null,null,null,null,"",null,null,"LIRCAY","090301","LIRCAY","PERUHUANCAVELICAANGARAESLIRCAY","090301"]
[null,null,null,null,null,"",null,null,"ANCHONGA","090302","ANCHONGA","PERUHUANCAVELICAANGARAESANCHONGA","090302"]
[null,null,null,null,null,"",null,null,"CALLANMARCA","090303","CALLANMARCA","PERUHUANCAVELICAANGARAESCALLANMARCA","090303"]
[null,null,null,null,null,"",null,null,"CCOCHACCASA","090304","CCOCHACCASA","PERUHUANCAVELICAANGARAESCCOCHACCASA","090304"]
[null,null,null,null,null,"",null,null,"CHINCHO","090305","CHINCHO","PERUHUANCAVELICAANGARAESCHINCHO","090305"]
[null,null,null,null,null,"",null,null,"CONGALLA","090306","CONGALLA","PERUHUANCAVELICAANGARAESCONGALLA","090306"]
[null,null,null,null,null,"",null,null,"HUANCA-HUANCA","090307","HUANCA-HUANCA","PERUHUANCAVELICAANGARAESHUANCA-HUANCA","090307"]
[null,null,null,null,null,"",null,null,"HUAYLLAY GRANDE","090308","HUAYLLAY GRANDE","PERUHUANCAVELICAANGARAESHUAYLLAY GRANDE","090308"]
[null,null,null,null,null,"",null,null,"JULCAMARCA","090309","JULCAMARCA","PERUHUANCAVELICAANGARAESJULCAMARCA","090309"]
[null,null,null,null,null,"",null,null,"SAN ANTONIO DE ANTAPARCO","090310","SAN ANTONIO DE ANTAPARCO","PERUHUANCAVELICAANGARAESSAN ANTONIO DE ANTAPARCO","090310"]
[null,null,null,null,null,"",null,null,"SANTO TOMAS DE PATA","090311","SANTO TOMAS DE PATA","PERUHUANCAVELICAANGARAESSANTO TOMAS DE PATA","090311"]
[null,null,null,null,null,"",null,null,"SECCLLA","090312","SECCLLA","PERUHUANCAVELICAANGARAESSECCLLA","090312"]
[null,null,null,null,null,"",null,null,"CASTROVIRREYNA","090401","CASTROVIRREYNA","PERUHUANCAVELICACASTROVIRREYNACASTROVIRREYNA","090401"]
[null,null,null,null,null,"",null,null,"ARMA","090402","ARMA","PERUHUANCAVELICACASTROVIRREYNAARMA","090402"]
[null,null,null,null,null,"",null,null,"AURAHUA","090403","AURAHUA","PERUHUANCAVELICACASTROVIRREYNAAURAHUA","090403"]
[null,null,null,null,null,"",null,null,"CAPILLAS","090404","CAPILLAS","PERUHUANCAVELICACASTROVIRREYNACAPILLAS","090404"]
[null,null,null,null,null,"",null,null,"CHUPAMARCA","090405","CHUPAMARCA","PERUHUANCAVELICACASTROVIRREYNACHUPAMARCA","090405"]
[null,null,null,null,null,"",null,null,"COCAS","090406","COCAS","PERUHUANCAVELICACASTROVIRREYNACOCAS","090406"]
[null,null,null,null,null,"",null,null,"HUACHOS","090407","HUACHOS","PERUHUANCAVELICACASTROVIRREYNAHUACHOS","090407"]
[null,null,null,null,null,"",null,null,"HUAMATAMBO","090408","HUAMATAMBO","PERUHUANCAVELICACASTROVIRREYNAHUAMATAMBO","090408"]
[null,null,null,null,null,"",null,null,"MOLLEPAMPA","090409","MOLLEPAMPA","PERUHUANCAVELICACASTROVIRREYNAMOLLEPAMPA","090409"]
[null,null,null,null,null,"",null,null,"SAN JUAN","090410","SAN JUAN","PERUHUANCAVELICACASTROVIRREYNASAN JUAN","090410"]
[null,null,null,null,null,"",null,null,"SANTA ANA","090411","SANTA ANA","PERUHUANCAVELICACASTROVIRREYNASANTA ANA","090411"]
[null,null,null,null,null,"",null,null,"TANTARA","090412","TANTARA","PERUHUANCAVELICACASTROVIRREYNATANTARA","090412"]
[null,null,null,null,null,"",null,null,"TICRAPO","090413","TICRAPO","PERUHUANCAVELICACASTROVIRREYNATICRAPO","090413"]
[null,null,null,null,null,"",null,null,"CHURCAMPA","090501","CHURCAMPA","PERUHUANCAVELICACHURCAMPACHURCAMPA","090501"]
[null,null,null,null,null,"",null,null,"ANCO","090502","ANCO","PERUHUANCAVELICACHURCAMPAANCO","090502"]
[null,null,null,null,null,"",null,null,"CHINCHIHUASI","090503","CHINCHIHUASI","PERUHUANCAVELICACHURCAMPACHINCHIHUASI","090503"]
[null,null,null,null,null,"",null,null,"EL CARMEN","090504","EL CARMEN","PERUHUANCAVELICACHURCAMPAEL CARMEN","090504"]
[null,null,null,null,null,"",null,null,"LA MERCED","090505","LA MERCED","PERUHUANCAVELICACHURCAMPALA MERCED","090505"]
[null,null,null,null,null,"",null,null,"LACROJA","090506","LACROJA","PERUHUANCAVELICACHURCAMPALACROJA","090506"]
[null,null,null,null,null,"",null,null,"PAUCARBAMBA","090507","PAUCARBAMBA","PERUHUANCAVELICACHURCAMPAPAUCARBAMBA","090507"]
[null,null,null,null,null,"",null,null,"SAN MIGUEL DE MAYOCC","090508","SAN MIGUEL DE MAYOCC","PERUHUANCAVELICACHURCAMPASAN MIGUEL DE MAYOCC","090508"]
[null,null,null,null,null,"",null,null,"SAN PEDRO DE CORIS","090509","SAN PEDRO DE CORIS","PERUHUANCAVELICACHURCAMPASAN PEDRO DE CORIS","090509"]
[null,null,null,null,null,"",null,null,"PACHAMARCA","090510","PACHAMARCA","PERUHUANCAVELICACHURCAMPAPACHAMARCA","090510"]
[null,null,null,null,null,"",null,null,"COSME","090511","COSME","PERUHUANCAVELICACHURCAMPACOSME","090511"]
[null,null,null,null,null,"",null,null,"HUAYTARA","090601","HUAYTARA","PERUHUANCAVELICAHUAYTARAHUAYTARA","090601"]
[null,null,null,null,null,"",null,null,"AYAVI","090602","AYAVI","PERUHUANCAVELICAHUAYTARAAYAVI","090602"]
[null,null,null,null,null,"",null,null,"CORDOVA","090603","CORDOVA","PERUHUANCAVELICAHUAYTARACORDOVA","090603"]
[null,null,null,null,null,"",null,null,"HUAYACUNDO ARMA","090604","HUAYACUNDO ARMA","PERUHUANCAVELICAHUAYTARAHUAYACUNDO ARMA","090604"]
[null,null,null,null,null,"",null,null,"LARAMARCA","090605","LARAMARCA","PERUHUANCAVELICAHUAYTARALARAMARCA","090605"]
[null,null,null,null,null,"",null,null,"OCOYO","090606","OCOYO","PERUHUANCAVELICAHUAYTARAOCOYO","090606"]
[null,null,null,null,null,"",null,null,"PILPICHACA","090607","PILPICHACA","PERUHUANCAVELICAHUAYTARAPILPICHACA","090607"]
[null,null,null,null,null,"",null,null,"QUERCO","090608","QUERCO","PERUHUANCAVELICAHUAYTARAQUERCO","090608"]
[null,null,null,null,null,"",null,null,"QUITO-ARMA","090609","QUITO-ARMA","PERUHUANCAVELICAHUAYTARAQUITO-ARMA","090609"]
[null,null,null,null,null,"",null,null,"SAN ANTONIO DE CUSICANCHA","090610","SAN ANTONIO DE CUSICANCHA","PERUHUANCAVELICAHUAYTARASAN ANTONIO DE CUSICANCHA","090610"]
[null,null,null,null,null,"",null,null,"SAN FRANCISCO DE SANGAYAICO","090611","SAN FRANCISCO DE SANGAYAICO","PERUHUANCAVELICAHUAYTARASAN FRANCISCO DE SANGAYAICO","090611"]
[null,null,null,null,null,"",null,null,"SAN ISIDRO","090612","SAN ISIDRO","PERUHUANCAVELICAHUAYTARASAN ISIDRO","090612"]
[null,null,null,null,null,"",null,null,"SANTIAGO DE CHOCORVOS","090613","SANTIAGO DE CHOCORVOS","PERUHUANCAVELICAHUAYTARASANTIAGO DE CHOCORVOS","090613"]
[null,null,null,null,null,"",null,null,"SANTIAGO DE QUIRAHUARA","090614","SANTIAGO DE QUIRAHUARA","PERUHUANCAVELICAHUAYTARASANTIAGO DE QUIRAHUARA","090614"]
[null,null,null,null,null,"",null,null,"SANTO DOMINGO DE CAPILLAS","090615","SANTO DOMINGO DE CAPILLAS","PERUHUANCAVELICAHUAYTARASANTO DOMINGO DE CAPILLAS","090615"]
[null,null,null,null,null,"",null,null,"TAMBO","090616","TAMBO","PERUHUANCAVELICAHUAYTARATAMBO","090616"]
[null,null,null,null,null,"",null,null,"PAMPAS","090701","PAMPAS","PERUHUANCAVELICATAYACAJAPAMPAS","090701"]
[null,null,null,null,null,"",null,null,"ACOSTAMBO","090702","ACOSTAMBO","PERUHUANCAVELICATAYACAJAACOSTAMBO","090702"]
[null,null,null,null,null,"",null,null,"ACRAQUIA","090703","ACRAQUIA","PERUHUANCAVELICATAYACAJAACRAQUIA","090703"]
[null,null,null,null,null,"",null,null,"AHUAYCHA","090704","AHUAYCHA","PERUHUANCAVELICATAYACAJAAHUAYCHA","090704"]
[null,null,null,null,null,"",null,null,"COLCABAMBA","090705","COLCABAMBA","PERUHUANCAVELICATAYACAJACOLCABAMBA","090705"]
[null,null,null,null,null,"",null,null,"DANIEL HERNANDEZ","090706","DANIEL HERNANDEZ","PERUHUANCAVELICATAYACAJADANIEL HERNANDEZ","090706"]
[null,null,null,null,null,"",null,null,"HUACHOCOLPA","090707","HUACHOCOLPA","PERUHUANCAVELICATAYACAJAHUACHOCOLPA","090707"]
[null,null,null,null,null,"",null,null,"HUARIBAMBA","090709","HUARIBAMBA","PERUHUANCAVELICATAYACAJAHUARIBAMBA","090709"]
[null,null,null,null,null,"",null,null,"ÑAHUIMPUQUIO","090710","ÑAHUIMPUQUIO","PERUHUANCAVELICATAYACAJAÑAHUIMPUQUIO","090710"]
[null,null,null,null,null,"",null,null,"PAZOS","090711","PAZOS","PERUHUANCAVELICATAYACAJAPAZOS","090711"]
[null,null,null,null,null,"",null,null,"QUISHUAR","090713","QUISHUAR",{"$f":"\"PERU\"&VLOOKUP(LEFT(J899,2),$B$1:$C$27,2,0)&VLOOKUP(LEFT(J899,4),$F$2:$G$197,2,0)&K899","v":"PERUHUANCAVELICATAYACAJAQUISHUAR"},{"$f":"J899","v":"090713"}]
[null,null,null,null,null,"",null,null,"SALCABAMBA","090714","SALCABAMBA","PERUHUANCAVELICATAYACAJASALCABAMBA","090714"]
[null,null,null,null,null,"",null,null,"SALCAHUASI","090715","SALCAHUASI","PERUHUANCAVELICATAYACAJASALCAHUASI","090715"]
[null,null,null,null,null,"",null,null,"SAN MARCOS DE ROCCHAC","090716","SAN MARCOS DE ROCCHAC","PERUHUANCAVELICATAYACAJASAN MARCOS DE ROCCHAC","090716"]
[null,null,null,null,null,"",null,null,"SURCUBAMBA","090717","SURCUBAMBA","PERUHUANCAVELICATAYACAJASURCUBAMBA","090717"]
[null,null,null,null,null,"",null,null,"TINTAY PUNCU","090718","TINTAY PUNCU","PERUHUANCAVELICATAYACAJATINTAY PUNCU","090718"]
[null,null,null,null,null,"",null,null,"QUICHUAS","090719","QUICHUAS","PERUHUANCAVELICATAYACAJAQUICHUAS","090719"]
[null,null,null,null,null,"",null,null,"ANDAYMARCA","090720","ANDAYMARCA","PERUHUANCAVELICATAYACAJAANDAYMARCA","090720"]
[null,null,null,null,null,"",null,null,"ROBLE","090721","ROBLE","PERUHUANCAVELICATAYACAJAROBLE","090721"]
[null,null,null,null,null,"",null,null,"PICHOS","090722","PICHOS","PERUHUANCAVELICATAYACAJAPICHOS","090722"]
[null,null,null,null,null,"",null,null,"SANTIAGO DE TUCUMA","090723","SANTIAGO DE TUCUMA","PERUHUANCAVELICATAYACAJASANTIAGO DE TUCUMA","090723"]
[null,null,null,null,null,"",null,null,"HUANUCO","100101","HUANUCO","PERUHUANUCOHUANUCOHUANUCO","100101"]
[null,null,null,null,null,"",null,null,"AMARILIS","100102","AMARILIS","PERUHUANUCOHUANUCOAMARILIS","100102"]
[null,null,null,null,null,"",null,null,"CHINCHAO","100103","CHINCHAO","PERUHUANUCOHUANUCOCHINCHAO","100103"]
[null,null,null,null,null,"",null,null,"CHURUBAMBA","100104","CHURUBAMBA","PERUHUANUCOHUANUCOCHURUBAMBA","100104"]
[null,null,null,null,null,"",null,null,"MARGOS","100105","MARGOS","PERUHUANUCOHUANUCOMARGOS","100105"]
[null,null,null,null,null,"",null,null,"QUISQUI","100106","QUISQUI","PERUHUANUCOHUANUCOQUISQUI","100106"]
[null,null,null,null,null,"",null,null,"SAN FRANCISCO DE CAYRAN","100107","SAN FRANCISCO DE CAYRAN","PERUHUANUCOHUANUCOSAN FRANCISCO DE CAYRAN","100107"]
[null,null,null,null,null,"",null,null,"SAN PEDRO DE CHAULAN","100108","SAN PEDRO DE CHAULAN","PERUHUANUCOHUANUCOSAN PEDRO DE CHAULAN","100108"]
[null,null,null,null,null,"",null,null,"SANTA MARIA DEL VALLE","100109","SANTA MARIA DEL VALLE","PERUHUANUCOHUANUCOSANTA MARIA DEL VALLE","100109"]
[null,null,null,null,null,"",null,null,"YARUMAYO","100110","YARUMAYO","PERUHUANUCOHUANUCOYARUMAYO","100110"]
[null,null,null,null,null,"",null,null,"PILLCO MARCA","100111","PILLCO MARCA","PERUHUANUCOHUANUCOPILLCO MARCA","100111"]
[null,null,null,null,null,"",null,null,"YACUS","100112","YACUS","PERUHUANUCOHUANUCOYACUS","100112"]
[null,null,null,null,null,"",null,null,"SAN PABLO DE PILLAO","100113","SAN PABLO DE PILLAO","PERUHUANUCOHUANUCOSAN PABLO DE PILLAO","100113"]
[null,null,null,null,null,"",null,null,"AMBO","100201","AMBO","PERUHUANUCOAMBOAMBO","100201"]
[null,null,null,null,null,"",null,null,"CAYNA","100202","CAYNA","PERUHUANUCOAMBOCAYNA","100202"]
[null,null,null,null,null,"",null,null,"COLPAS","100203","COLPAS","PERUHUANUCOAMBOCOLPAS","100203"]
[null,null,null,null,null,"",null,null,"CONCHAMARCA","100204","CONCHAMARCA","PERUHUANUCOAMBOCONCHAMARCA","100204"]
[null,null,null,null,null,"",null,null,"HUACAR","100205","HUACAR","PERUHUANUCOAMBOHUACAR","100205"]
[null,null,null,null,null,"",null,null,"SAN FRANCISCO","100206","SAN FRANCISCO","PERUHUANUCOAMBOSAN FRANCISCO","100206"]
[null,null,null,null,null,"",null,null,"SAN RAFAEL","100207","SAN RAFAEL","PERUHUANUCOAMBOSAN RAFAEL","100207"]
[null,null,null,null,null,"",null,null,"TOMAY KICHWA","100208","TOMAY KICHWA","PERUHUANUCOAMBOTOMAY KICHWA","100208"]
[null,null,null,null,null,"",null,null,"LA UNION","100301","LA UNION","PERUHUANUCODOS DE MAYOLA UNION","100301"]
[null,null,null,null,null,"",null,null,"CHUQUIS","100307","CHUQUIS","PERUHUANUCODOS DE MAYOCHUQUIS","100307"]
[null,null,null,null,null,"",null,null,"MARIAS","100311","MARIAS","PERUHUANUCODOS DE MAYOMARIAS","100311"]
[null,null,null,null,null,"",null,null,"PACHAS","100313","PACHAS","PERUHUANUCODOS DE MAYOPACHAS","100313"]
[null,null,null,null,null,"",null,null,"QUIVILLA","100316","QUIVILLA","PERUHUANUCODOS DE MAYOQUIVILLA","100316"]
[null,null,null,null,null,"",null,null,"RIPAN","100317","RIPAN","PERUHUANUCODOS DE MAYORIPAN","100317"]
[null,null,null,null,null,"",null,null,"SHUNQUI","100321","SHUNQUI","PERUHUANUCODOS DE MAYOSHUNQUI","100321"]
[null,null,null,null,null,"",null,null,"SILLAPATA","100322","SILLAPATA","PERUHUANUCODOS DE MAYOSILLAPATA","100322"]
[null,null,null,null,null,"",null,null,"YANAS","100323","YANAS","PERUHUANUCODOS DE MAYOYANAS","100323"]
[null,null,null,null,null,"",null,null,"HUACAYBAMBA","100401","HUACAYBAMBA","PERUHUANUCOHUACAYBAMBAHUACAYBAMBA","100401"]
[null,null,null,null,null,"",null,null,"CANCHABAMBA","100402","CANCHABAMBA","PERUHUANUCOHUACAYBAMBACANCHABAMBA","100402"]
[null,null,null,null,null,"",null,null,"COCHABAMBA","100403","COCHABAMBA","PERUHUANUCOHUACAYBAMBACOCHABAMBA","100403"]
[null,null,null,null,null,"",null,null,"PINRA","100404","PINRA","PERUHUANUCOHUACAYBAMBAPINRA","100404"]
[null,null,null,null,null,"",null,null,"LLATA","100501","LLATA","PERUHUANUCOHUAMALIESLLATA","100501"]
[null,null,null,null,null,"",null,null,"ARANCAY","100502","ARANCAY","PERUHUANUCOHUAMALIESARANCAY","100502"]
[null,null,null,null,null,"",null,null,"CHAVIN DE PARIARCA","100503","CHAVIN DE PARIARCA","PERUHUANUCOHUAMALIESCHAVIN DE PARIARCA","100503"]
[null,null,null,null,null,"",null,null,"JACAS GRANDE","100504","JACAS GRANDE","PERUHUANUCOHUAMALIESJACAS GRANDE","100504"]
[null,null,null,null,null,"",null,null,"JIRCAN","100505","JIRCAN","PERUHUANUCOHUAMALIESJIRCAN","100505"]
[null,null,null,null,null,"",null,null,"MIRAFLORES","100506","MIRAFLORES","PERUHUANUCOHUAMALIESMIRAFLORES","100506"]
[null,null,null,null,null,"",null,null,"MONZON","100507","MONZON","PERUHUANUCOHUAMALIESMONZON","100507"]
[null,null,null,null,null,"",null,null,"PUNCHAO","100508","PUNCHAO","PERUHUANUCOHUAMALIESPUNCHAO","100508"]
[null,null,null,null,null,"",null,null,"PUÑOS","100509","PUÑOS","PERUHUANUCOHUAMALIESPUÑOS","100509"]
[null,null,null,null,null,"",null,null,"SINGA","100510","SINGA","PERUHUANUCOHUAMALIESSINGA","100510"]
[null,null,null,null,null,"",null,null,"TANTAMAYO","100511","TANTAMAYO","PERUHUANUCOHUAMALIESTANTAMAYO","100511"]
[null,null,null,null,null,"",null,null,"RUPA-RUPA","100601","RUPA-RUPA","PERUHUANUCOLEONCIO PRADORUPA-RUPA","100601"]
[null,null,null,null,null,"",null,null,"DANIEL ALOMIA ROBLES","100602","DANIEL ALOMIA ROBLES","PERUHUANUCOLEONCIO PRADODANIEL ALOMIA ROBLES","100602"]
[null,null,null,null,null,"",null,null,"HERMILIO VALDIZAN","100603","HERMILIO VALDIZAN","PERUHUANUCOLEONCIO PRADOHERMILIO VALDIZAN","100603"]
[null,null,null,null,null,"",null,null,"JOSE CRESPO Y CASTILLO","100604","JOSE CRESPO Y CASTILLO","PERUHUANUCOLEONCIO PRADOJOSE CRESPO Y CASTILLO","100604"]
[null,null,null,null,null,"",null,null,"LUYANDO","100605","LUYANDO","PERUHUANUCOLEONCIO PRADOLUYANDO","100605"]
[null,null,null,null,null,"",null,null,"MARINO DAMASO BERAUN","100606","MARINO DAMASO BERAUN","PERUHUANUCOLEONCIO PRADOMARINO DAMASO BERAUN","100606"]
[null,null,null,null,null,"",null,null,"PUCAYACU","100607","PUCAYACU","PERUHUANUCOLEONCIO PRADOPUCAYACU","100607"]
[null,null,null,null,null,"",null,null,"CASTILLO GRANDE","100608","CASTILLO GRANDE","PERUHUANUCOLEONCIO PRADOCASTILLO GRANDE","100608"]
[null,null,null,null,null,"",null,null,"PUEBLO NUEVO","100609","PUEBLO NUEVO",{"$f":"\"PERU\"&VLOOKUP(LEFT(J963,2),$B$1:$C$27,2,0)&VLOOKUP(LEFT(J963,4),$F$2:$G$197,2,0)&K963","v":"PERUHUANUCOLEONCIO PRADOPUEBLO NUEVO"},{"$f":"J963","v":"100609"}]
[null,null,null,null,null,"",null,null,"SANTA DOMIENGO DE ANDA","100610","SANTA DOMIENGO DE ANDA","PERUHUANUCOLEONCIO PRADOSANTA DOMIENGO DE ANDA","100610"]
[null,null,null,null,null,"",null,null,"HUACRACHUCO","100701","HUACRACHUCO","PERUHUANUCOMARAÑONHUACRACHUCO","100701"]
[null,null,null,null,null,"",null,null,"CHOLON","100702","CHOLON","PERUHUANUCOMARAÑONCHOLON","100702"]
[null,null,null,null,null,"",null,null,"SAN BUENAVENTURA","100703","SAN BUENAVENTURA","PERUHUANUCOMARAÑONSAN BUENAVENTURA","100703"]
[null,null,null,null,null,"",null,null,"LA MORADA","100704","LA MORADA","PERUHUANUCOMARAÑONLA MORADA","100704"]
[null,null,null,null,null,"",null,null,"SANTA ROSA DE ALTO YANAJANCA","100705","SANTA ROSA DE ALTO YANAJANCA","PERUHUANUCOMARAÑONSANTA ROSA DE ALTO YANAJANCA","100705"]
[null,null,null,null,null,"",null,null,"PANAO","100801","PANAO","PERUHUANUCOPACHITEAPANAO","100801"]
[null,null,null,null,null,"",null,null,"CHAGLLA","100802","CHAGLLA","PERUHUANUCOPACHITEACHAGLLA","100802"]
[null,null,null,null,null,"",null,null,"MOLINO","100803","MOLINO","PERUHUANUCOPACHITEAMOLINO","100803"]
[null,null,null,null,null,"",null,null,"UMARI","100804","UMARI","PERUHUANUCOPACHITEAUMARI","100804"]
[null,null,null,null,null,"",null,null,"PUERTO INCA","100901","PUERTO INCA","PERUHUANUCOPUERTO INCAPUERTO INCA","100901"]
[null,null,null,null,null,"",null,null,"CODO DEL POZUZO","100902","CODO DEL POZUZO","PERUHUANUCOPUERTO INCACODO DEL POZUZO","100902"]
[null,null,null,null,null,"",null,null,"HONORIA","100903","HONORIA","PERUHUANUCOPUERTO INCAHONORIA","100903"]
[null,null,null,null,null,"",null,null,"TOURNAVISTA","100904","TOURNAVISTA","PERUHUANUCOPUERTO INCATOURNAVISTA","100904"]
[null,null,null,null,null,"",null,null,"YUYAPICHIS","100905","YUYAPICHIS","PERUHUANUCOPUERTO INCAYUYAPICHIS","100905"]
[null,null,null,null,null,"",null,null,"JESUS","101001","JESUS","PERUHUANUCOLAURICOCHAJESUS","101001"]
[null,null,null,null,null,"",null,null,"BAÑOS","101002","BAÑOS","PERUHUANUCOLAURICOCHABAÑOS","101002"]
[null,null,null,null,null,"",null,null,"JIVIA","101003","JIVIA","PERUHUANUCOLAURICOCHAJIVIA","101003"]
[null,null,null,null,null,"",null,null,"QUEROPALCA","101004","QUEROPALCA","PERUHUANUCOLAURICOCHAQUEROPALCA","101004"]
[null,null,null,null,null,"",null,null,"RONDOS","101005","RONDOS","PERUHUANUCOLAURICOCHARONDOS","101005"]
[null,null,null,null,null,"",null,null,"SAN FRANCISCO DE ASIS","101006","SAN FRANCISCO DE ASIS","PERUHUANUCOLAURICOCHASAN FRANCISCO DE ASIS","101006"]
[null,null,null,null,null,"",null,null,"SAN MIGUEL DE CAURI","101007","SAN MIGUEL DE CAURI","PERUHUANUCOLAURICOCHASAN MIGUEL DE CAURI","101007"]
[null,null,null,null,null,"",null,null,"CHAVINILLO","101101","CHAVINILLO","PERUHUANUCOYAROWILCACHAVINILLO","101101"]
[null,null,null,null,null,"",null,null,"CAHUAC","101102","CAHUAC","PERUHUANUCOYAROWILCACAHUAC","101102"]
[null,null,null,null,null,"",null,null,"CHACABAMBA","101103","CHACABAMBA","PERUHUANUCOYAROWILCACHACABAMBA","101103"]
[null,null,null,null,null,"",null,null,"APARICIO POMARES","101104","APARICIO POMARES","PERUHUANUCOYAROWILCAAPARICIO POMARES","101104"]
[null,null,null,null,null,"",null,null,"JACAS CHICO","101105","JACAS CHICO","PERUHUANUCOYAROWILCAJACAS CHICO","101105"]
[null,null,null,null,null,"",null,null,"OBAS","101106","OBAS","PERUHUANUCOYAROWILCAOBAS","101106"]
[null,null,null,null,null,"",null,null,"PAMPAMARCA","101107","PAMPAMARCA","PERUHUANUCOYAROWILCAPAMPAMARCA","101107"]
[null,null,null,null,null,"",null,null,"CHORAS","101108","CHORAS","PERUHUANUCOYAROWILCACHORAS","101108"]
[null,null,null,null,null,"",null,null,"ICA","110101","ICA","PERUICAICAICA","110101"]
[null,null,null,null,null,"",null,null,"LA TINGUIÑA","110102","LA TINGUIÑA","PERUICAICALA TINGUIÑA","110102"]
[null,null,null,null,null,"",null,null,"LOS AQUIJES","110103","LOS AQUIJES","PERUICAICALOS AQUIJES","110103"]
[null,null,null,null,null,"",null,null,"OCUCAJE","110104","OCUCAJE","PERUICAICAOCUCAJE","110104"]
[null,null,null,null,null,"",null,null,"PACHACUTEC","110105","PACHACUTEC","PERUICAICAPACHACUTEC","110105"]
[null,null,null,null,null,"",null,null,"PARCONA","110106","PARCONA","PERUICAICAPARCONA","110106"]
[null,null,null,null,null,"",null,null,"PUEBLO NUEVO","110107","PUEBLO NUEVO","PERUICAICAPUEBLO NUEVO","110107"]
[null,null,null,null,null,"",null,null,"SALAS","110108","SALAS","PERUICAICASALAS","110108"]
[null,null,null,null,null,"",null,null,"SAN JOSE DE LOS MOLINOS","110109","SAN JOSE DE LOS MOLINOS","PERUICAICASAN JOSE DE LOS MOLINOS","110109"]
[null,null,null,null,null,"",null,null,"SAN JUAN BAUTISTA","110110","SAN JUAN BAUTISTA","PERUICAICASAN JUAN BAUTISTA","110110"]
[null,null,null,null,null,"",null,null,"SANTIAGO","110111","SANTIAGO","PERUICAICASANTIAGO","110111"]
[null,null,null,null,null,"",null,null,"SUBTANJALLA","110112","SUBTANJALLA","PERUICAICASUBTANJALLA","110112"]
[null,null,null,null,null,"",null,null,"TATE","110113","TATE","PERUICAICATATE","110113"]
[null,null,null,null,null,"",null,null,"YAUCA DEL ROSARIO","110114","YAUCA DEL ROSARIO","PERUICAICAYAUCA DEL ROSARIO","110114"]
[null,null,null,null,null,"",null,null,"CHINCHA ALTA","110201","CHINCHA ALTA","PERUICACHINCHACHINCHA ALTA","110201"]
[null,null,null,null,null,"",null,null,"ALTO LARAN","110202","ALTO LARAN","PERUICACHINCHAALTO LARAN","110202"]
[null,null,null,null,null,"",null,null,"CHAVIN","110203","CHAVIN","PERUICACHINCHACHAVIN","110203"]
[null,null,null,null,null,"",null,null,"CHINCHA BAJA","110204","CHINCHA BAJA","PERUICACHINCHACHINCHA BAJA","110204"]
[null,null,null,null,null,"",null,null,"EL CARMEN","110205","EL CARMEN","PERUICACHINCHAEL CARMEN","110205"]
[null,null,null,null,null,"",null,null,"GROCIO PRADO","110206","GROCIO PRADO","PERUICACHINCHAGROCIO PRADO","110206"]
[null,null,null,null,null,"",null,null,"PUEBLO NUEVO","110207","PUEBLO NUEVO","PERUICACHINCHAPUEBLO NUEVO","110207"]
[null,null,null,null,null,"",null,null,"SAN JUAN DE YANAC","110208","SAN JUAN DE YANAC","PERUICACHINCHASAN JUAN DE YANAC","110208"]
[null,null,null,null,null,"",null,null,"SAN PEDRO DE HUACARPANA","110209","SAN PEDRO DE HUACARPANA","PERUICACHINCHASAN PEDRO DE HUACARPANA","110209"]
[null,null,null,null,null,"",null,null,"SUNAMPE","110210","SUNAMPE","PERUICACHINCHASUNAMPE","110210"]
[null,null,null,null,null,"",null,null,"TAMBO DE MORA","110211","TAMBO DE MORA","PERUICACHINCHATAMBO DE MORA","110211"]
[null,null,null,null,null,"",null,null,"NAZCA","110301","NAZCA","PERUICANAZCANAZCA","110301"]
[null,null,null,null,null,"",null,null,"CHANGUILLO","110302","CHANGUILLO","PERUICANAZCACHANGUILLO","110302"]
[null,null,null,null,null,"",null,null,"EL INGENIO","110303","EL INGENIO","PERUICANAZCAEL INGENIO","110303"]
[null,null,null,null,null,"",null,null,"MARCONA","110304","MARCONA","PERUICANAZCAMARCONA","110304"]
[null,null,null,null,null,"",null,null,"VISTA ALEGRE","110305","VISTA ALEGRE","PERUICANAZCAVISTA ALEGRE","110305"]
[null,null,null,null,null,"",null,null,"PALPA","110401","PALPA","PERUICAPALPAPALPA","110401"]
[null,null,null,null,null,"",null,null,"LLIPATA","110402","LLIPATA","PERUICAPALPALLIPATA","110402"]
[null,null,null,null,null,"",null,null,"RIO GRANDE","110403","RIO GRANDE","PERUICAPALPARIO GRANDE","110403"]
[null,null,null,null,null,"",null,null,"SANTA CRUZ","110404","SANTA CRUZ",{"$f":"\"PERU\"&VLOOKUP(LEFT(J1027,2),$B$1:$C$27,2,0)&VLOOKUP(LEFT(J1027,4),$F$2:$G$197,2,0)&K1027","v":"PERUICAPALPASANTA CRUZ"},{"$f":"J1027","v":"110404"}]
[null,null,null,null,null,"",null,null,"TIBILLO","110405","TIBILLO","PERUICAPALPATIBILLO","110405"]
[null,null,null,null,null,"",null,null,"PISCO","110501","PISCO","PERUICAPISCOPISCO","110501"]
[null,null,null,null,null,"",null,null,"HUANCANO","110502","HUANCANO","PERUICAPISCOHUANCANO","110502"]
[null,null,null,null,null,"",null,null,"HUMAY","110503","HUMAY","PERUICAPISCOHUMAY","110503"]
[null,null,null,null,null,"",null,null,"INDEPENDENCIA","110504","INDEPENDENCIA","PERUICAPISCOINDEPENDENCIA","110504"]
[null,null,null,null,null,"",null,null,"PARACAS","110505","PARACAS","PERUICAPISCOPARACAS","110505"]
[null,null,null,null,null,"",null,null,"SAN ANDRES","110506","SAN ANDRES","PERUICAPISCOSAN ANDRES","110506"]
[null,null,null,null,null,"",null,null,"SAN CLEMENTE","110507","SAN CLEMENTE","PERUICAPISCOSAN CLEMENTE","110507"]
[null,null,null,null,null,"",null,null,"TUPAC AMARU INCA","110508","TUPAC AMARU INCA","PERUICAPISCOTUPAC AMARU INCA","110508"]
[null,null,null,null,null,"",null,null,"HUANCAYO","120101","HUANCAYO","PERUJUNINHUANCAYOHUANCAYO","120101"]
[null,null,null,null,null,"",null,null,"CARHUACALLANGA","120104","CARHUACALLANGA","PERUJUNINHUANCAYOCARHUACALLANGA","120104"]
[null,null,null,null,null,"",null,null,"CHACAPAMPA","120105","CHACAPAMPA","PERUJUNINHUANCAYOCHACAPAMPA","120105"]
[null,null,null,null,null,"",null,null,"CHICCHE","120106","CHICCHE","PERUJUNINHUANCAYOCHICCHE","120106"]
[null,null,null,null,null,"",null,null,"CHILCA","120107","CHILCA","PERUJUNINHUANCAYOCHILCA","120107"]
[null,null,null,null,null,"",null,null,"CHONGOS ALTO","120108","CHONGOS ALTO","PERUJUNINHUANCAYOCHONGOS ALTO","120108"]
[null,null,null,null,null,"",null,null,"CHUPURO","120111","CHUPURO","PERUJUNINHUANCAYOCHUPURO","120111"]
[null,null,null,null,null,"",null,null,"COLCA","120112","COLCA","PERUJUNINHUANCAYOCOLCA","120112"]
[null,null,null,null,null,"",null,null,"CULLHUAS","120113","CULLHUAS","PERUJUNINHUANCAYOCULLHUAS","120113"]
[null,null,null,null,null,"",null,null,"EL TAMBO","120114","EL TAMBO","PERUJUNINHUANCAYOEL TAMBO","120114"]
[null,null,null,null,null,"",null,null,"HUACRAPUQUIO","120116","HUACRAPUQUIO","PERUJUNINHUANCAYOHUACRAPUQUIO","120116"]
[null,null,null,null,null,"",null,null,"HUALHUAS","120117","HUALHUAS","PERUJUNINHUANCAYOHUALHUAS","120117"]
[null,null,null,null,null,"",null,null,"HUANCAN","120119","HUANCAN","PERUJUNINHUANCAYOHUANCAN","120119"]
[null,null,null,null,null,"",null,null,"HUASICANCHA","120120","HUASICANCHA","PERUJUNINHUANCAYOHUASICANCHA","120120"]
[null,null,null,null,null,"",null,null,"HUAYUCACHI","120121","HUAYUCACHI","PERUJUNINHUANCAYOHUAYUCACHI","120121"]
[null,null,null,null,null,"",null,null,"INGENIO","120122","INGENIO","PERUJUNINHUANCAYOINGENIO","120122"]
[null,null,null,null,null,"",null,null,"PARIAHUANCA","120124","PARIAHUANCA","PERUJUNINHUANCAYOPARIAHUANCA","120124"]
[null,null,null,null,null,"",null,null,"PILCOMAYO","120125","PILCOMAYO","PERUJUNINHUANCAYOPILCOMAYO","120125"]
[null,null,null,null,null,"",null,null,"PUCARA","120126","PUCARA","PERUJUNINHUANCAYOPUCARA","120126"]
[null,null,null,null,null,"",null,null,"QUICHUAY","120127","QUICHUAY","PERUJUNINHUANCAYOQUICHUAY","120127"]
[null,null,null,null,null,"",null,null,"QUILCAS","120128","QUILCAS","PERUJUNINHUANCAYOQUILCAS","120128"]
[null,null,null,null,null,"",null,null,"SAN AGUSTIN","120129","SAN AGUSTIN","PERUJUNINHUANCAYOSAN AGUSTIN","120129"]
[null,null,null,null,null,"",null,null,"SAN JERONIMO DE TUNAN","120130","SAN JERONIMO DE TUNAN","PERUJUNINHUANCAYOSAN JERONIMO DE TUNAN","120130"]
[null,null,null,null,null,"",null,null,"SAÑO","120132","SAÑO","PERUJUNINHUANCAYOSAÑO","120132"]
[null,null,null,null,null,"",null,null,"SAPALLANGA","120133","SAPALLANGA","PERUJUNINHUANCAYOSAPALLANGA","120133"]
[null,null,null,null,null,"",null,null,"SICAYA","120134","SICAYA","PERUJUNINHUANCAYOSICAYA","120134"]
[null,null,null,null,null,"",null,null,"SANTO DOMINGO DE ACOBAMBA","120135","SANTO DOMINGO DE ACOBAMBA","PERUJUNINHUANCAYOSANTO DOMINGO DE ACOBAMBA","120135"]
[null,null,null,null,null,"",null,null,"VIQUES","120136","VIQUES","PERUJUNINHUANCAYOVIQUES","120136"]
[null,null,null,null,null,"",null,null,"CONCEPCION","120201","CONCEPCION","PERUJUNINCONCEPCIONCONCEPCION","120201"]
[null,null,null,null,null,"",null,null,"ACO","120202","ACO","PERUJUNINCONCEPCIONACO","120202"]
[null,null,null,null,null,"",null,null,"ANDAMARCA","120203","ANDAMARCA","PERUJUNINCONCEPCIONANDAMARCA","120203"]
[null,null,null,null,null,"",null,null,"CHAMBARA","120204","CHAMBARA","PERUJUNINCONCEPCIONCHAMBARA","120204"]
[null,null,null,null,null,"",null,null,"COCHAS","120205","COCHAS","PERUJUNINCONCEPCIONCOCHAS","120205"]
[null,null,null,null,null,"",null,null,"COMAS","120206","COMAS","PERUJUNINCONCEPCIONCOMAS","120206"]
[null,null,null,null,null,"",null,null,"HEROINAS TOLEDO","120207","HEROINAS TOLEDO","PERUJUNINCONCEPCIONHEROINAS TOLEDO","120207"]
[null,null,null,null,null,"",null,null,"MANZANARES","120208","MANZANARES","PERUJUNINCONCEPCIONMANZANARES","120208"]
[null,null,null,null,null,"",null,null,"MARISCAL CASTILLA","120209","MARISCAL CASTILLA","PERUJUNINCONCEPCIONMARISCAL CASTILLA","120209"]
[null,null,null,null,null,"",null,null,"MATAHUASI","120210","MATAHUASI","PERUJUNINCONCEPCIONMATAHUASI","120210"]
[null,null,null,null,null,"",null,null,"MITO","120211","MITO","PERUJUNINCONCEPCIONMITO","120211"]
[null,null,null,null,null,"",null,null,"NUEVE DE JULIO","120212","NUEVE DE JULIO","PERUJUNINCONCEPCIONNUEVE DE JULIO","120212"]
[null,null,null,null,null,"",null,null,"ORCOTUNA","120213","ORCOTUNA","PERUJUNINCONCEPCIONORCOTUNA","120213"]
[null,null,null,null,null,"",null,null,"SAN JOSE DE QUERO","120214","SAN JOSE DE QUERO","PERUJUNINCONCEPCIONSAN JOSE DE QUERO","120214"]
[null,null,null,null,null,"",null,null,"SANTA ROSA DE OCOPA","120215","SANTA ROSA DE OCOPA","PERUJUNINCONCEPCIONSANTA ROSA DE OCOPA","120215"]
[null,null,null,null,null,"",null,null,"CHANCHAMAYO","120301","CHANCHAMAYO","PERUJUNINCHANCHAMAYOCHANCHAMAYO","120301"]
[null,null,null,null,null,"",null,null,"PERENE","120302","PERENE","PERUJUNINCHANCHAMAYOPERENE","120302"]
[null,null,null,null,null,"",null,null,"PICHANAQUI","120303","PICHANAQUI","PERUJUNINCHANCHAMAYOPICHANAQUI","120303"]
[null,null,null,null,null,"",null,null,"SAN LUIS DE SHUARO","120304","SAN LUIS DE SHUARO","PERUJUNINCHANCHAMAYOSAN LUIS DE SHUARO","120304"]
[null,null,null,null,null,"",null,null,"SAN RAMON","120305","SAN RAMON","PERUJUNINCHANCHAMAYOSAN RAMON","120305"]
[null,null,null,null,null,"",null,null,"VITOC","120306","VITOC","PERUJUNINCHANCHAMAYOVITOC","120306"]
[null,null,null,null,null,"",null,null,"JAUJA","120401","JAUJA","PERUJUNINJAUJAJAUJA","120401"]
[null,null,null,null,null,"",null,null,"ACOLLA","120402","ACOLLA","PERUJUNINJAUJAACOLLA","120402"]
[null,null,null,null,null,"",null,null,"APATA","120403","APATA","PERUJUNINJAUJAAPATA","120403"]
[null,null,null,null,null,"",null,null,"ATAURA","120404","ATAURA","PERUJUNINJAUJAATAURA","120404"]
[null,null,null,null,null,"",null,null,"CANCHAYLLO","120405","CANCHAYLLO","PERUJUNINJAUJACANCHAYLLO","120405"]
[null,null,null,null,null,"",null,null,"CURICACA","120406","CURICACA",{"$f":"\"PERU\"&VLOOKUP(LEFT(J1091,2),$B$1:$C$27,2,0)&VLOOKUP(LEFT(J1091,4),$F$2:$G$197,2,0)&K1091","v":"PERUJUNINJAUJACURICACA"},{"$f":"J1091","v":"120406"}]
[null,null,null,null,null,"",null,null,"EL MANTARO","120407","EL MANTARO","PERUJUNINJAUJAEL MANTARO","120407"]
[null,null,null,null,null,"",null,null,"HUAMALI","120408","HUAMALI","PERUJUNINJAUJAHUAMALI","120408"]
[null,null,null,null,null,"",null,null,"HUARIPAMPA","120409","HUARIPAMPA","PERUJUNINJAUJAHUARIPAMPA","120409"]
[null,null,null,null,null,"",null,null,"HUERTAS","120410","HUERTAS","PERUJUNINJAUJAHUERTAS","120410"]
[null,null,null,null,null,"",null,null,"JANJAILLO","120411","JANJAILLO","PERUJUNINJAUJAJANJAILLO","120411"]
[null,null,null,null,null,"",null,null,"JULCAN","120412","JULCAN","PERUJUNINJAUJAJULCAN","120412"]
[null,null,null,null,null,"",null,null,"LEONOR ORDOÑEZ","120413","LEONOR ORDOÑEZ","PERUJUNINJAUJALEONOR ORDOÑEZ","120413"]
[null,null,null,null,null,"",null,null,"LLOCLLAPAMPA","120414","LLOCLLAPAMPA","PERUJUNINJAUJALLOCLLAPAMPA","120414"]
[null,null,null,null,null,"",null,null,"MARCO","120415","MARCO","PERUJUNINJAUJAMARCO","120415"]
[null,null,null,null,null,"",null,null,"MASMA","120416","MASMA","PERUJUNINJAUJAMASMA","120416"]
[null,null,null,null,null,"",null,null,"MASMA CHICCHE","120417","MASMA CHICCHE","PERUJUNINJAUJAMASMA CHICCHE","120417"]
[null,null,null,null,null,"",null,null,"MOLINOS","120418","MOLINOS","PERUJUNINJAUJAMOLINOS","120418"]
[null,null,null,null,null,"",null,null,"MONOBAMBA","120419","MONOBAMBA","PERUJUNINJAUJAMONOBAMBA","120419"]
[null,null,null,null,null,"",null,null,"MUQUI","120420","MUQUI","PERUJUNINJAUJAMUQUI","120420"]
[null,null,null,null,null,"",null,null,"MUQUIYAUYO","120421","MUQUIYAUYO","PERUJUNINJAUJAMUQUIYAUYO","120421"]
[null,null,null,null,null,"",null,null,"PACA","120422","PACA","PERUJUNINJAUJAPACA","120422"]
[null,null,null,null,null,"",null,null,"PACCHA","120423","PACCHA","PERUJUNINJAUJAPACCHA","120423"]
[null,null,null,null,null,"",null,null,"PANCAN","120424","PANCAN","PERUJUNINJAUJAPANCAN","120424"]
[null,null,null,null,null,"",null,null,"PARCO","120425","PARCO","PERUJUNINJAUJAPARCO","120425"]
[null,null,null,null,null,"",null,null,"POMACANCHA","120426","POMACANCHA","PERUJUNINJAUJAPOMACANCHA","120426"]
[null,null,null,null,null,"",null,null,"RICRAN","120427","RICRAN","PERUJUNINJAUJARICRAN","120427"]
[null,null,null,null,null,"",null,null,"SAN LORENZO","120428","SAN LORENZO","PERUJUNINJAUJASAN LORENZO","120428"]
[null,null,null,null,null,"",null,null,"SAN PEDRO DE CHUNAN","120429","SAN PEDRO DE CHUNAN","PERUJUNINJAUJASAN PEDRO DE CHUNAN","120429"]
[null,null,null,null,null,"",null,null,"SAUSA","120430","SAUSA","PERUJUNINJAUJASAUSA","120430"]
[null,null,null,null,null,"",null,null,"SINCOS","120431","SINCOS","PERUJUNINJAUJASINCOS","120431"]
[null,null,null,null,null,"",null,null,"TUNAN MARCA","120432","TUNAN MARCA","PERUJUNINJAUJATUNAN MARCA","120432"]
[null,null,null,null,null,"",null,null,"YAULI","120433","YAULI","PERUJUNINJAUJAYAULI","120433"]
[null,null,null,null,null,"",null,null,"YAUYOS","120434","YAUYOS","PERUJUNINJAUJAYAUYOS","120434"]
[null,null,null,null,null,"",null,null,"JUNIN","120501","JUNIN","PERUJUNINJUNINJUNIN","120501"]
[null,null,null,null,null,"",null,null,"CARHUAMAYO","120502","CARHUAMAYO","PERUJUNINJUNINCARHUAMAYO","120502"]
[null,null,null,null,null,"",null,null,"ONDORES","120503","ONDORES","PERUJUNINJUNINONDORES","120503"]
[null,null,null,null,null,"",null,null,"ULCUMAYO","120504","ULCUMAYO","PERUJUNINJUNINULCUMAYO","120504"]
[null,null,null,null,null,"",null,null,"SATIPO","120601","SATIPO","PERUJUNINSATIPOSATIPO","120601"]
[null,null,null,null,null,"",null,null,"COVIRIALI","120602","COVIRIALI","PERUJUNINSATIPOCOVIRIALI","120602"]
[null,null,null,null,null,"",null,null,"LLAYLLA","120603","LLAYLLA","PERUJUNINSATIPOLLAYLLA","120603"]
[null,null,null,null,null,"",null,null,"MAZAMARI","120604","MAZAMARI","PERUJUNINSATIPOMAZAMARI","120604"]
[null,null,null,null,null,"",null,null,"PAMPA HERMOSA","120605","PAMPA HERMOSA","PERUJUNINSATIPOPAMPA HERMOSA","120605"]
[null,null,null,null,null,"",null,null,"PANGOA","120606","PANGOA","PERUJUNINSATIPOPANGOA","120606"]
[null,null,null,null,null,"",null,null,"RIO NEGRO","120607","RIO NEGRO","PERUJUNINSATIPORIO NEGRO","120607"]
[null,null,null,null,null,"",null,null,"RIO TAMBO","120608","RIO TAMBO","PERUJUNINSATIPORIO TAMBO","120608"]
[null,null,null,null,null,"",null,null,"VIZCATAN DEL ENE","120609","VIZCATAN DEL ENE","PERUJUNINSATIPOVIZCATAN DEL ENE","120609"]
[null,null,null,null,null,"",null,null,"TARMA","120701","TARMA","PERUJUNINTARMATARMA","120701"]
[null,null,null,null,null,"",null,null,"ACOBAMBA","120702","ACOBAMBA","PERUJUNINTARMAACOBAMBA","120702"]
[null,null,null,null,null,"",null,null,"HUARICOLCA","120703","HUARICOLCA","PERUJUNINTARMAHUARICOLCA","120703"]
[null,null,null,null,null,"",null,null,"HUASAHUASI","120704","HUASAHUASI","PERUJUNINTARMAHUASAHUASI","120704"]
[null,null,null,null,null,"",null,null,"LA UNION","120705","LA UNION","PERUJUNINTARMALA UNION","120705"]
[null,null,null,null,null,"",null,null,"PALCA","120706","PALCA","PERUJUNINTARMAPALCA","120706"]
[null,null,null,null,null,"",null,null,"PALCAMAYO","120707","PALCAMAYO","PERUJUNINTARMAPALCAMAYO","120707"]
[null,null,null,null,null,"",null,null,"SAN PEDRO DE CAJAS","120708","SAN PEDRO DE CAJAS","PERUJUNINTARMASAN PEDRO DE CAJAS","120708"]
[null,null,null,null,null,"",null,null,"TAPO","120709","TAPO","PERUJUNINTARMATAPO","120709"]
[null,null,null,null,null,"",null,null,"LA OROYA","120801","LA OROYA","PERUJUNINYAULILA OROYA","120801"]
[null,null,null,null,null,"",null,null,"CHACAPALPA","120802","CHACAPALPA","PERUJUNINYAULICHACAPALPA","120802"]
[null,null,null,null,null,"",null,null,"HUAY-HUAY","120803","HUAY-HUAY","PERUJUNINYAULIHUAY-HUAY","120803"]
[null,null,null,null,null,"",null,null,"MARCAPOMACOCHA","120804","MARCAPOMACOCHA","PERUJUNINYAULIMARCAPOMACOCHA","120804"]
[null,null,null,null,null,"",null,null,"MOROCOCHA","120805","MOROCOCHA","PERUJUNINYAULIMOROCOCHA","120805"]
[null,null,null,null,null,"",null,null,"PACCHA","120806","PACCHA","PERUJUNINYAULIPACCHA","120806"]
[null,null,null,null,null,"",null,null,"SANTA BARBARA DE CARHUACAYAN","120807","SANTA BARBARA DE CARHUACAYAN","PERUJUNINYAULISANTA BARBARA DE CARHUACAYAN","120807"]
[null,null,null,null,null,"",null,null,"SANTA ROSA DE SACCO","120808","SANTA ROSA DE SACCO","PERUJUNINYAULISANTA ROSA DE SACCO","120808"]
[null,null,null,null,null,"",null,null,"SUITUCANCHA","120809","SUITUCANCHA","PERUJUNINYAULISUITUCANCHA","120809"]
[null,null,null,null,null,"",null,null,"YAULI","120810","YAULI","PERUJUNINYAULIYAULI","120810"]
[null,null,null,null,null,"",null,null,"CHUPACA","120901","CHUPACA","PERUJUNINCHUPACACHUPACA","120901"]
[null,null,null,null,null,"",null,null,"AHUAC","120902","AHUAC","PERUJUNINCHUPACAAHUAC","120902"]
[null,null,null,null,null,"",null,null,"CHONGOS BAJO","120903","CHONGOS BAJO","PERUJUNINCHUPACACHONGOS BAJO","120903"]
[null,null,null,null,null,"",null,null,"HUACHAC","120904","HUACHAC",{"$f":"\"PERU\"&VLOOKUP(LEFT(J1155,2),$B$1:$C$27,2,0)&VLOOKUP(LEFT(J1155,4),$F$2:$G$197,2,0)&K1155","v":"PERUJUNINCHUPACAHUACHAC"},{"$f":"J1155","v":"120904"}]
[null,null,null,null,null,"",null,null,"HUAMANCACA CHICO","120905","HUAMANCACA CHICO","PERUJUNINCHUPACAHUAMANCACA CHICO","120905"]
[null,null,null,null,null,"",null,null,"SAN JUAN DE ISCOS","120906","SAN JUAN DE ISCOS","PERUJUNINCHUPACASAN JUAN DE ISCOS","120906"]
[null,null,null,null,null,"",null,null,"SAN JUAN DE JARPA","120907","SAN JUAN DE JARPA","PERUJUNINCHUPACASAN JUAN DE JARPA","120907"]
[null,null,null,null,null,"",null,null,"TRES DE DICIEMBRE","120908","TRES DE DICIEMBRE","PERUJUNINCHUPACATRES DE DICIEMBRE","120908"]
[null,null,null,null,null,"",null,null,"YANACANCHA","120909","YANACANCHA","PERUJUNINCHUPACAYANACANCHA","120909"]
[null,null,null,null,null,"",null,null,"TRUJILLO","130101","TRUJILLO","PERULA LIBERTADTRUJILLOTRUJILLO","130101"]
[null,null,null,null,null,"",null,null,"EL PORVENIR","130102","EL PORVENIR","PERULA LIBERTADTRUJILLOEL PORVENIR","130102"]
[null,null,null,null,null,"",null,null,"FLORENCIA DE MORA","130103","FLORENCIA DE MORA","PERULA LIBERTADTRUJILLOFLORENCIA DE MORA","130103"]
[null,null,null,null,null,"",null,null,"HUANCHACO","130104","HUANCHACO","PERULA LIBERTADTRUJILLOHUANCHACO","130104"]
[null,null,null,null,null,"",null,null,"LA ESPERANZA","130105","LA ESPERANZA","PERULA LIBERTADTRUJILLOLA ESPERANZA","130105"]
[null,null,null,null,null,"",null,null,"LAREDO","130106","LAREDO","PERULA LIBERTADTRUJILLOLAREDO","130106"]
[null,null,null,null,null,"",null,null,"MOCHE","130107","MOCHE","PERULA LIBERTADTRUJILLOMOCHE","130107"]
[null,null,null,null,null,"",null,null,"POROTO","130108","POROTO","PERULA LIBERTADTRUJILLOPOROTO","130108"]
[null,null,null,null,null,"",null,null,"SALAVERRY","130109","SALAVERRY","PERULA LIBERTADTRUJILLOSALAVERRY","130109"]
[null,null,null,null,null,"",null,null,"SIMBAL","130110","SIMBAL","PERULA LIBERTADTRUJILLOSIMBAL","130110"]
[null,null,null,null,null,"",null,null,"VICTOR LARCO HERRERA","130111","VICTOR LARCO HERRERA","PERULA LIBERTADTRUJILLOVICTOR LARCO HERRERA","130111"]
[null,null,null,null,null,"",null,null,"ASCOPE","130201","ASCOPE","PERULA LIBERTADASCOPEASCOPE","130201"]
[null,null,null,null,null,"",null,null,"CHICAMA","130202","CHICAMA","PERULA LIBERTADASCOPECHICAMA","130202"]
[null,null,null,null,null,"",null,null,"CHOCOPE","130203","CHOCOPE","PERULA LIBERTADASCOPECHOCOPE","130203"]
[null,null,null,null,null,"",null,null,"MAGDALENA DE CAO","130204","MAGDALENA DE CAO","PERULA LIBERTADASCOPEMAGDALENA DE CAO","130204"]
[null,null,null,null,null,"",null,null,"PAIJAN","130205","PAIJAN","PERULA LIBERTADASCOPEPAIJAN","130205"]
[null,null,null,null,null,"",null,null,"RAZURI","130206","RAZURI","PERULA LIBERTADASCOPERAZURI","130206"]
[null,null,null,null,null,"",null,null,"SANTIAGO DE CAO","130207","SANTIAGO DE CAO","PERULA LIBERTADASCOPESANTIAGO DE CAO","130207"]
[null,null,null,null,null,"",null,null,"CASA GRANDE","130208","CASA GRANDE","PERULA LIBERTADASCOPECASA GRANDE","130208"]
[null,null,null,null,null,"",null,null,"BOLIVAR","130301","BOLIVAR","PERULA LIBERTADBOLIVARBOLIVAR","130301"]
[null,null,null,null,null,"",null,null,"BAMBAMARCA","130302","BAMBAMARCA","PERULA LIBERTADBOLIVARBAMBAMARCA","130302"]
[null,null,null,null,null,"",null,null,"CONDORMARCA","130303","CONDORMARCA","PERULA LIBERTADBOLIVARCONDORMARCA","130303"]
[null,null,null,null,null,"",null,null,"LONGOTEA","130304","LONGOTEA","PERULA LIBERTADBOLIVARLONGOTEA","130304"]
[null,null,null,null,null,"",null,null,"UCHUMARCA","130305","UCHUMARCA","PERULA LIBERTADBOLIVARUCHUMARCA","130305"]
[null,null,null,null,null,"",null,null,"UCUNCHA","130306","UCUNCHA","PERULA LIBERTADBOLIVARUCUNCHA","130306"]
[null,null,null,null,null,"",null,null,"CHEPEN","130401","CHEPEN","PERULA LIBERTADCHEPENCHEPEN","130401"]
[null,null,null,null,null,"",null,null,"PACANGA","130402","PACANGA","PERULA LIBERTADCHEPENPACANGA","130402"]
[null,null,null,null,null,"",null,null,"PUEBLO NUEVO","130403","PUEBLO NUEVO","PERULA LIBERTADCHEPENPUEBLO NUEVO","130403"]
[null,null,null,null,null,"",null,null,"JULCAN","130501","JULCAN","PERULA LIBERTADJULCANJULCAN","130501"]
[null,null,null,null,null,"",null,null,"CALAMARCA","130502","CALAMARCA","PERULA LIBERTADJULCANCALAMARCA","130502"]
[null,null,null,null,null,"",null,null,"CARABAMBA","130503","CARABAMBA","PERULA LIBERTADJULCANCARABAMBA","130503"]
[null,null,null,null,null,"",null,null,"HUASO","130504","HUASO","PERULA LIBERTADJULCANHUASO","130504"]
[null,null,null,null,null,"",null,null,"OTUZCO","130601","OTUZCO","PERULA LIBERTADOTUZCOOTUZCO","130601"]
[null,null,null,null,null,"",null,null,"AGALLPAMPA","130602","AGALLPAMPA","PERULA LIBERTADOTUZCOAGALLPAMPA","130602"]
[null,null,null,null,null,"",null,null,"CHARAT","130604","CHARAT","PERULA LIBERTADOTUZCOCHARAT","130604"]
[null,null,null,null,null,"",null,null,"HUARANCHAL","130605","HUARANCHAL","PERULA LIBERTADOTUZCOHUARANCHAL","130605"]
[null,null,null,null,null,"",null,null,"LA CUESTA","130606","LA CUESTA","PERULA LIBERTADOTUZCOLA CUESTA","130606"]
[null,null,null,null,null,"",null,null,"MACHE","130608","MACHE","PERULA LIBERTADOTUZCOMACHE","130608"]
[null,null,null,null,null,"",null,null,"PARANDAY","130610","PARANDAY","PERULA LIBERTADOTUZCOPARANDAY","130610"]
[null,null,null,null,null,"",null,null,"SALPO","130611","SALPO","PERULA LIBERTADOTUZCOSALPO","130611"]
[null,null,null,null,null,"",null,null,"SINSICAP","130613","SINSICAP","PERULA LIBERTADOTUZCOSINSICAP","130613"]
[null,null,null,null,null,"",null,null,"USQUIL","130614","USQUIL","PERULA LIBERTADOTUZCOUSQUIL","130614"]
[null,null,null,null,null,"",null,null,"SAN PEDRO DE LLOC","130701","SAN PEDRO DE LLOC","PERULA LIBERTADPACASMAYOSAN PEDRO DE LLOC","130701"]
[null,null,null,null,null,"",null,null,"GUADALUPE","130702","GUADALUPE","PERULA LIBERTADPACASMAYOGUADALUPE","130702"]
[null,null,null,null,null,"",null,null,"JEQUETEPEQUE","130703","JEQUETEPEQUE","PERULA LIBERTADPACASMAYOJEQUETEPEQUE","130703"]
[null,null,null,null,null,"",null,null,"PACASMAYO","130704","PACASMAYO","PERULA LIBERTADPACASMAYOPACASMAYO","130704"]
[null,null,null,null,null,"",null,null,"SAN JOSE","130705","SAN JOSE","PERULA LIBERTADPACASMAYOSAN JOSE","130705"]
[null,null,null,null,null,"",null,null,"TAYABAMBA","130801","TAYABAMBA","PERULA LIBERTADPATAZTAYABAMBA","130801"]
[null,null,null,null,null,"",null,null,"BULDIBUYO","130802","BULDIBUYO","PERULA LIBERTADPATAZBULDIBUYO","130802"]
[null,null,null,null,null,"",null,null,"CHILLIA","130803","CHILLIA","PERULA LIBERTADPATAZCHILLIA","130803"]
[null,null,null,null,null,"",null,null,"HUANCASPATA","130804","HUANCASPATA","PERULA LIBERTADPATAZHUANCASPATA","130804"]
[null,null,null,null,null,"",null,null,"HUAYLILLAS","130805","HUAYLILLAS","PERULA LIBERTADPATAZHUAYLILLAS","130805"]
[null,null,null,null,null,"",null,null,"HUAYO","130806","HUAYO","PERULA LIBERTADPATAZHUAYO","130806"]
[null,null,null,null,null,"",null,null,"ONGON","130807","ONGON","PERULA LIBERTADPATAZONGON","130807"]
[null,null,null,null,null,"",null,null,"PARCOY","130808","PARCOY","PERULA LIBERTADPATAZPARCOY","130808"]
[null,null,null,null,null,"",null,null,"PATAZ","130809","PATAZ","PERULA LIBERTADPATAZPATAZ","130809"]
[null,null,null,null,null,"",null,null,"PIAS","130810","PIAS","PERULA LIBERTADPATAZPIAS","130810"]
[null,null,null,null,null,"",null,null,"SANTIAGO DE CHALLAS","130811","SANTIAGO DE CHALLAS","PERULA LIBERTADPATAZSANTIAGO DE CHALLAS","130811"]
[null,null,null,null,null,"",null,null,"TAURIJA","130812","TAURIJA",{"$f":"\"PERU\"&VLOOKUP(LEFT(J1219,2),$B$1:$C$27,2,0)&VLOOKUP(LEFT(J1219,4),$F$2:$G$197,2,0)&K1219","v":"PERULA LIBERTADPATAZTAURIJA"},{"$f":"J1219","v":"130812"}]
[null,null,null,null,null,"",null,null,"URPAY","130813","URPAY","PERULA LIBERTADPATAZURPAY","130813"]
[null,null,null,null,null,"",null,null,"HUAMACHUCO","130901","HUAMACHUCO","PERULA LIBERTADSANCHEZ CARRIONHUAMACHUCO","130901"]
[null,null,null,null,null,"",null,null,"CHUGAY","130902","CHUGAY","PERULA LIBERTADSANCHEZ CARRIONCHUGAY","130902"]
[null,null,null,null,null,"",null,null,"COCHORCO","130903","COCHORCO","PERULA LIBERTADSANCHEZ CARRIONCOCHORCO","130903"]
[null,null,null,null,null,"",null,null,"CURGOS","130904","CURGOS","PERULA LIBERTADSANCHEZ CARRIONCURGOS","130904"]
[null,null,null,null,null,"",null,null,"MARCABAL","130905","MARCABAL","PERULA LIBERTADSANCHEZ CARRIONMARCABAL","130905"]
[null,null,null,null,null,"",null,null,"SANAGORAN","130906","SANAGORAN","PERULA LIBERTADSANCHEZ CARRIONSANAGORAN","130906"]
[null,null,null,null,null,"",null,null,"SARIN","130907","SARIN",{"$f":"\"PERU\"&VLOOKUP(LEFT(J1227,2),$B$1:$C$27,2,0)&VLOOKUP(LEFT(J1227,4),$F$2:$G$197,2,0)&K1227","v":"PERULA LIBERTADSANCHEZ CARRIONSARIN"},"130907"]
[null,null,null,null,null,"",null,null,"SARTIMBAMBA","130908","SARTIMBAMBA","PERULA LIBERTADSANCHEZ CARRIONSARTIMBAMBA","130908"]
[null,null,null,null,null,"",null,null,"SANTIAGO DE CHUCO","131001","SANTIAGO DE CHUCO","PERULA LIBERTADSANTIAGO DE CHUCOSANTIAGO DE CHUCO","131001"]
[null,null,null,null,null,"",null,null,"ANGASMARCA","131002","ANGASMARCA","PERULA LIBERTADSANTIAGO DE CHUCOANGASMARCA","131002"]
[null,null,null,null,null,"",null,null,"CACHICADAN","131003","CACHICADAN","PERULA LIBERTADSANTIAGO DE CHUCOCACHICADAN","131003"]
[null,null,null,null,null,"",null,null,"MOLLEBAMBA","131004","MOLLEBAMBA","PERULA LIBERTADSANTIAGO DE CHUCOMOLLEBAMBA","131004"]
[null,null,null,null,null,"",null,null,"MOLLEPATA","131005","MOLLEPATA","PERULA LIBERTADSANTIAGO DE CHUCOMOLLEPATA","131005"]
[null,null,null,null,null,"",null,null,"QUIRUVILCA","131006","QUIRUVILCA","PERULA LIBERTADSANTIAGO DE CHUCOQUIRUVILCA","131006"]
[null,null,null,null,null,"",null,null,"SANTA CRUZ DE CHUCA","131007","SANTA CRUZ DE CHUCA","PERULA LIBERTADSANTIAGO DE CHUCOSANTA CRUZ DE CHUCA","131007"]
[null,null,null,null,null,"",null,null,"SITABAMBA","131008","SITABAMBA","PERULA LIBERTADSANTIAGO DE CHUCOSITABAMBA","131008"]
[null,null,null,null,null,"",null,null,"CASCAS","131101","CASCAS","PERULA LIBERTADGRAN CHIMUCASCAS","131101"]
[null,null,null,null,null,"",null,null,"LUCMA","131102","LUCMA","PERULA LIBERTADGRAN CHIMULUCMA","131102"]
[null,null,null,null,null,"",null,null,"MARMOT","131103","MARMOT","PERULA LIBERTADGRAN CHIMUMARMOT","131103"]
[null,null,null,null,null,"",null,null,"SAYAPULLO","131104","SAYAPULLO","PERULA LIBERTADGRAN CHIMUSAYAPULLO","131104"]
[null,null,null,null,null,"",null,null,"VIRU","131201","VIRU","PERULA LIBERTADVIRUVIRU","131201"]
[null,null,null,null,null,"",null,null,"CHAO","131202","CHAO","PERULA LIBERTADVIRUCHAO","131202"]
[null,null,null,null,null,"",null,null,"GUADALUPITO","131203","GUADALUPITO","PERULA LIBERTADVIRUGUADALUPITO","131203"]
[null,null,null,null,null,"",null,null,"CHICLAYO","140101","CHICLAYO","PERULAMBAYEQUECHICLAYOCHICLAYO","140101"]
[null,null,null,null,null,"",null,null,"CHONGOYAPE","140102","CHONGOYAPE","PERULAMBAYEQUECHICLAYOCHONGOYAPE","140102"]
[null,null,null,null,null,"",null,null,"ETEN","140103","ETEN","PERULAMBAYEQUECHICLAYOETEN","140103"]
[null,null,null,null,null,"",null,null,"ETEN PUERTO","140104","ETEN PUERTO","PERULAMBAYEQUECHICLAYOETEN PUERTO","140104"]
[null,null,null,null,null,"",null,null,"JOSE LEONARDO ORTIZ","140105","JOSE LEONARDO ORTIZ","PERULAMBAYEQUECHICLAYOJOSE LEONARDO ORTIZ","140105"]
[null,null,null,null,null,"",null,null,"LA VICTORIA","140106","LA VICTORIA","PERULAMBAYEQUECHICLAYOLA VICTORIA","140106"]
[null,null,null,null,null,"",null,null,"LAGUNAS","140107","LAGUNAS","PERULAMBAYEQUECHICLAYOLAGUNAS","140107"]
[null,null,null,null,null,"",null,null,"MONSEFU","140108","MONSEFU","PERULAMBAYEQUECHICLAYOMONSEFU","140108"]
[null,null,null,null,null,"",null,null,"NUEVA ARICA","140109","NUEVA ARICA","PERULAMBAYEQUECHICLAYONUEVA ARICA","140109"]
[null,null,null,null,null,"",null,null,"OYOTUN","140110","OYOTUN","PERULAMBAYEQUECHICLAYOOYOTUN","140110"]
[null,null,null,null,null,"",null,null,"PICSI","140111","PICSI","PERULAMBAYEQUECHICLAYOPICSI","140111"]
[null,null,null,null,null,"",null,null,"PIMENTEL","140112","PIMENTEL","PERULAMBAYEQUECHICLAYOPIMENTEL","140112"]
[null,null,null,null,null,"",null,null,"REQUE","140113","REQUE","PERULAMBAYEQUECHICLAYOREQUE","140113"]
[null,null,null,null,null,"",null,null,"SANTA ROSA","140114","SANTA ROSA","PERULAMBAYEQUECHICLAYOSANTA ROSA","140114"]
[null,null,null,null,null,"",null,null,"SAÑA","140115","SAÑA","PERULAMBAYEQUECHICLAYOSAÑA","140115"]
[null,null,null,null,null,"",null,null,"CAYALTI","140116","CAYALTI","PERULAMBAYEQUECHICLAYOCAYALTI","140116"]
[null,null,null,null,null,"",null,null,"PATAPO","140117","PATAPO","PERULAMBAYEQUECHICLAYOPATAPO","140117"]
[null,null,null,null,null,"",null,null,"POMALCA","140118","POMALCA","PERULAMBAYEQUECHICLAYOPOMALCA","140118"]
[null,null,null,null,null,"",null,null,"PUCALA","140119","PUCALA","PERULAMBAYEQUECHICLAYOPUCALA","140119"]
[null,null,null,null,null,"",null,null,"TUMAN","140120","TUMAN","PERULAMBAYEQUECHICLAYOTUMAN","140120"]
[null,null,null,null,null,"",null,null,"FERREÑAFE","140201","FERREÑAFE","PERULAMBAYEQUEFERREÑAFEFERREÑAFE","140201"]
[null,null,null,null,null,"",null,null,"CAÑARIS","140202","CAÑARIS","PERULAMBAYEQUEFERREÑAFECAÑARIS","140202"]
[null,null,null,null,null,"",null,null,"INCAHUASI","140203","INCAHUASI","PERULAMBAYEQUEFERREÑAFEINCAHUASI","140203"]
[null,null,null,null,null,"",null,null,"MANUEL ANTONIO MESONES MURO","140204","MANUEL ANTONIO MESONES MURO","PERULAMBAYEQUEFERREÑAFEMANUEL ANTONIO MESONES MURO","140204"]
[null,null,null,null,null,"",null,null,"PITIPO","140205","PITIPO","PERULAMBAYEQUEFERREÑAFEPITIPO","140205"]
[null,null,null,null,null,"",null,null,"PUEBLO NUEVO","140206","PUEBLO NUEVO","PERULAMBAYEQUEFERREÑAFEPUEBLO NUEVO","140206"]
[null,null,null,null,null,"",null,null,"LAMBAYEQUE","140301","LAMBAYEQUE","PERULAMBAYEQUELAMBAYEQUELAMBAYEQUE","140301"]
[null,null,null,null,null,"",null,null,"CHOCHOPE","140302","CHOCHOPE","PERULAMBAYEQUELAMBAYEQUECHOCHOPE","140302"]
[null,null,null,null,null,"",null,null,"ILLIMO","140303","ILLIMO","PERULAMBAYEQUELAMBAYEQUEILLIMO","140303"]
[null,null,null,null,null,"",null,null,"JAYANCA","140304","JAYANCA","PERULAMBAYEQUELAMBAYEQUEJAYANCA","140304"]
[null,null,null,null,null,"",null,null,"MOCHUMI","140305","MOCHUMI","PERULAMBAYEQUELAMBAYEQUEMOCHUMI","140305"]
[null,null,null,null,null,"",null,null,"MORROPE","140306","MORROPE","PERULAMBAYEQUELAMBAYEQUEMORROPE","140306"]
[null,null,null,null,null,"",null,null,"MOTUPE","140307","MOTUPE","PERULAMBAYEQUELAMBAYEQUEMOTUPE","140307"]
[null,null,null,null,null,"",null,null,"OLMOS","140308","OLMOS","PERULAMBAYEQUELAMBAYEQUEOLMOS","140308"]
[null,null,null,null,null,"",null,null,"PACORA","140309","PACORA","PERULAMBAYEQUELAMBAYEQUEPACORA","140309"]
[null,null,null,null,null,"",null,null,"SALAS","140310","SALAS","PERULAMBAYEQUELAMBAYEQUESALAS","140310"]
[null,null,null,null,null,"",null,null,"SAN JOSE","140311","SAN JOSE","PERULAMBAYEQUELAMBAYEQUESAN JOSE","140311"]
[null,null,null,null,null,"",null,null,"TUCUME","140312","TUCUME","PERULAMBAYEQUELAMBAYEQUETUCUME","140312"]
[null,null,null,null,null,"",null,null,"LIMA","150101","LIMA","PERULIMALIMALIMA","150101"]
[null,null,null,null,null,"",null,null,"ANCON","150102","ANCON",{"$f":"\"PERU\"&VLOOKUP(LEFT(J1283,2),$B$1:$C$27,2,0)&VLOOKUP(LEFT(J1283,4),$F$2:$G$197,2,0)&K1283","v":"PERULIMALIMAANCON"},{"$f":"J1283","v":"150102"}]
[null,null,null,null,null,"",null,null,"ATE","150103","ATE","PERULIMALIMAATE","150103"]
[null,null,null,null,null,"",null,null,"BARRANCO","150104","BARRANCO","PERULIMALIMABARRANCO","150104"]
[null,null,null,null,null,"",null,null,"BREÑA","150105","BREÑA","PERULIMALIMABREÑA","150105"]
[null,null,null,null,null,"",null,null,"CARABAYLLO","150106","CARABAYLLO","PERULIMALIMACARABAYLLO","150106"]
[null,null,null,null,null,"",null,null,"CHACLACAYO","150107","CHACLACAYO","PERULIMALIMACHACLACAYO","150107"]
[null,null,null,null,null,"",null,null,"CHORRILLOS","150108","CHORRILLOS","PERULIMALIMACHORRILLOS","150108"]
[null,null,null,null,null,"",null,null,"CIENEGUILLA","150109","CIENEGUILLA","PERULIMALIMACIENEGUILLA","150109"]
[null,null,null,null,null,"",null,null,"COMAS","150110","COMAS","PERULIMALIMACOMAS","150110"]
[null,null,null,null,null,"",null,null,"EL AGUSTINO","150111","EL AGUSTINO","PERULIMALIMAEL AGUSTINO","150111"]
[null,null,null,null,null,"",null,null,"INDEPENDENCIA","150112","INDEPENDENCIA","PERULIMALIMAINDEPENDENCIA","150112"]
[null,null,null,null,null,"",null,null,"JESUS MARIA","150113","JESUS MARIA","PERULIMALIMAJESUS MARIA","150113"]
[null,null,null,null,null,"",null,null,"LA MOLINA","150114","LA MOLINA","PERULIMALIMALA MOLINA","150114"]
[null,null,null,null,null,"",null,null,"LA VICTORIA","150115","LA VICTORIA","PERULIMALIMALA VICTORIA","150115"]
[null,null,null,null,null,"",null,null,"LINCE","150116","LINCE","PERULIMALIMALINCE","150116"]
[null,null,null,null,null,"",null,null,"LOS OLIVOS","150117","LOS OLIVOS","PERULIMALIMALOS OLIVOS","150117"]
[null,null,null,null,null,"",null,null,"LURIGANCHO (CHOSICA)","150118","LURIGANCHO (CHOSICA)","PERULIMALIMALURIGANCHO (CHOSICA)","150118"]
[null,null,null,null,null,"",null,null,"LURIN","150119","LURIN","PERULIMALIMALURIN","150119"]
[null,null,null,null,null,"",null,null,"MAGDALENA DEL MAR","150120","MAGDALENA DEL MAR","PERULIMALIMAMAGDALENA DEL MAR","150120"]
[null,null,null,null,null,"",null,null,"PUEBLO LIBRE","150121","PUEBLO LIBRE","PERULIMALIMAPUEBLO LIBRE","150121"]
[null,null,null,null,null,"",null,null,"MIRAFLORES","150122","MIRAFLORES","PERULIMALIMAMIRAFLORES","150122"]
[null,null,null,null,null,"",null,null,"PACHACAMAC","150123","PACHACAMAC","PERULIMALIMAPACHACAMAC","150123"]
[null,null,null,null,null,"",null,null,"PUCUSANA","150124","PUCUSANA","PERULIMALIMAPUCUSANA","150124"]
[null,null,null,null,null,"",null,null,"PUENTE PIEDRA","150125","PUENTE PIEDRA","PERULIMALIMAPUENTE PIEDRA","150125"]
[null,null,null,null,null,"",null,null,"PUNTA HERMOSA","150126","PUNTA HERMOSA","PERULIMALIMAPUNTA HERMOSA","150126"]
[null,null,null,null,null,"",null,null,"PUNTA NEGRA","150127","PUNTA NEGRA","PERULIMALIMAPUNTA NEGRA","150127"]
[null,null,null,null,null,"",null,null,"RIMAC","150128","RIMAC","PERULIMALIMARIMAC","150128"]
[null,null,null,null,null,"",null,null,"SAN BARTOLO","150129","SAN BARTOLO","PERULIMALIMASAN BARTOLO","150129"]
[null,null,null,null,null,"",null,null,"SAN BORJA","150130","SAN BORJA","PERULIMALIMASAN BORJA","150130"]
[null,null,null,null,null,"",null,null,"SAN ISIDRO","150131","SAN ISIDRO","PERULIMALIMASAN ISIDRO","150131"]
[null,null,null,null,null,"",null,null,"SAN JUAN DE LURIGANCHO","150132","SAN JUAN DE LURIGANCHO","PERULIMALIMASAN JUAN DE LURIGANCHO","150132"]
[null,null,null,null,null,"",null,null,"SAN JUAN DE MIRAFLORES","150133","SAN JUAN DE MIRAFLORES","PERULIMALIMASAN JUAN DE MIRAFLORES","150133"]
[null,null,null,null,null,"",null,null,"SAN LUIS","150134","SAN LUIS","PERULIMALIMASAN LUIS","150134"]
[null,null,null,null,null,"",null,null,"SAN MARTIN DE PORRES","150135","SAN MARTIN DE PORRES","PERULIMALIMASAN MARTIN DE PORRES","150135"]
[null,null,null,null,null,"",null,null,"SAN MIGUEL","150136","SAN MIGUEL","PERULIMALIMASAN MIGUEL","150136"]
[null,null,null,null,null,"",null,null,"SANTA ANITA","150137","SANTA ANITA","PERULIMALIMASANTA ANITA","150137"]
[null,null,null,null,null,"",null,null,"SANTA MARIA DEL MAR","150138","SANTA MARIA DEL MAR","PERULIMALIMASANTA MARIA DEL MAR","150138"]
[null,null,null,null,null,"",null,null,"SANTA ROSA","150139","SANTA ROSA","PERULIMALIMASANTA ROSA","150139"]
[null,null,null,null,null,"",null,null,"SANTIAGO DE SURCO","150140","SANTIAGO DE SURCO","PERULIMALIMASANTIAGO DE SURCO","150140"]
[null,null,null,null,null,"",null,null,"SURQUILLO","150141","SURQUILLO","PERULIMALIMASURQUILLO","150141"]
[null,null,null,null,null,"",null,null,"VILLA EL SALVADOR","150142","VILLA EL SALVADOR","PERULIMALIMAVILLA EL SALVADOR","150142"]
[null,null,null,null,null,"",null,null,"VILLA MARIA DEL TRIUNFO","150143","VILLA MARIA DEL TRIUNFO","PERULIMALIMAVILLA MARIA DEL TRIUNFO","150143"]
[null,null,null,null,null,"",null,null,"BARRANCA","150201","BARRANCA","PERULIMABARRANCABARRANCA","150201"]
[null,null,null,null,null,"",null,null,"PARAMONGA","150202","PARAMONGA","PERULIMABARRANCAPARAMONGA","150202"]
[null,null,null,null,null,"",null,null,"PATIVILCA","150203","PATIVILCA","PERULIMABARRANCAPATIVILCA","150203"]
[null,null,null,null,null,"",null,null,"SUPE","150204","SUPE","PERULIMABARRANCASUPE","150204"]
[null,null,null,null,null,"",null,null,"SUPE PUERTO","150205","SUPE PUERTO","PERULIMABARRANCASUPE PUERTO","150205"]
[null,null,null,null,null,"",null,null,"CAJATAMBO","150301","CAJATAMBO","PERULIMACAJATAMBOCAJATAMBO","150301"]
[null,null,null,null,null,"",null,null,"COPA","150302","COPA","PERULIMACAJATAMBOCOPA","150302"]
[null,null,null,null,null,"",null,null,"GORGOR","150303","GORGOR","PERULIMACAJATAMBOGORGOR","150303"]
[null,null,null,null,null,"",null,null,"HUANCAPON","150304","HUANCAPON","PERULIMACAJATAMBOHUANCAPON","150304"]
[null,null,null,null,null,"",null,null,"MANAS","150305","MANAS","PERULIMACAJATAMBOMANAS","150305"]
[null,null,null,null,null,"",null,null,"CANTA","150401","CANTA","PERULIMACANTACANTA","150401"]
[null,null,null,null,null,"",null,null,"ARAHUAY","150402","ARAHUAY","PERULIMACANTAARAHUAY","150402"]
[null,null,null,null,null,"",null,null,"HUAMANTANGA","150403","HUAMANTANGA","PERULIMACANTAHUAMANTANGA","150403"]
[null,null,null,null,null,"",null,null,"HUAROS","150404","HUAROS","PERULIMACANTAHUAROS","150404"]
[null,null,null,null,null,"",null,null,"LACHAQUI","150405","LACHAQUI","PERULIMACANTALACHAQUI","150405"]
[null,null,null,null,null,"",null,null,"SAN BUENAVENTURA","150406","SAN BUENAVENTURA","PERULIMACANTASAN BUENAVENTURA","150406"]
[null,null,null,null,null,"",null,null,"SANTA ROSA DE QUIVES","150407","SANTA ROSA DE QUIVES","PERULIMACANTASANTA ROSA DE QUIVES","150407"]
[null,null,null,null,null,"",null,null,"SAN VICENTE DE CAÑETE","150501","SAN VICENTE DE CAÑETE","PERULIMACAÑETESAN VICENTE DE CAÑETE","150501"]
[null,null,null,null,null,"",null,null,"ASIA","150502","ASIA","PERULIMACAÑETEASIA","150502"]
[null,null,null,null,null,"",null,null,"CALANGO","150503","CALANGO","PERULIMACAÑETECALANGO","150503"]
[null,null,null,null,null,"",null,null,"CERRO AZUL","150504","CERRO AZUL","PERULIMACAÑETECERRO AZUL","150504"]
[null,null,null,null,null,"",null,null,"CHILCA","150505","CHILCA","PERULIMACAÑETECHILCA","150505"]
[null,null,null,null,null,"",null,null,"COAYLLO","150506","COAYLLO",{"$f":"\"PERU\"&VLOOKUP(LEFT(J1347,2),$B$1:$C$27,2,0)&VLOOKUP(LEFT(J1347,4),$F$2:$G$197,2,0)&K1347","v":"PERULIMACAÑETECOAYLLO"},{"$f":"J1347","v":"150506"}]
[null,null,null,null,null,"",null,null,"IMPERIAL","150507","IMPERIAL","PERULIMACAÑETEIMPERIAL","150507"]
[null,null,null,null,null,"",null,null,"LUNAHUANA","150508","LUNAHUANA","PERULIMACAÑETELUNAHUANA","150508"]
[null,null,null,null,null,"",null,null,"MALA","150509","MALA","PERULIMACAÑETEMALA","150509"]
[null,null,null,null,null,"",null,null,"NUEVO IMPERIAL","150510","NUEVO IMPERIAL","PERULIMACAÑETENUEVO IMPERIAL","150510"]
[null,null,null,null,null,"",null,null,"PACARAN","150511","PACARAN","PERULIMACAÑETEPACARAN","150511"]
[null,null,null,null,null,"",null,null,"QUILMANA","150512","QUILMANA","PERULIMACAÑETEQUILMANA","150512"]
[null,null,null,null,null,"",null,null,"SAN ANTONIO","150513","SAN ANTONIO","PERULIMACAÑETESAN ANTONIO","150513"]
[null,null,null,null,null,"",null,null,"SAN LUIS","150514","SAN LUIS","PERULIMACAÑETESAN LUIS","150514"]
[null,null,null,null,null,"",null,null,"SANTA CRUZ DE FLORES","150515","SANTA CRUZ DE FLORES","PERULIMACAÑETESANTA CRUZ DE FLORES","150515"]
[null,null,null,null,null,"",null,null,"ZUÑIGA","150516","ZUÑIGA","PERULIMACAÑETEZUÑIGA","150516"]
[null,null,null,null,null,"",null,null,"HUARAL","150601","HUARAL","PERULIMAHUARALHUARAL","150601"]
[null,null,null,null,null,"",null,null,"ATAVILLOS ALTO","150602","ATAVILLOS ALTO","PERULIMAHUARALATAVILLOS ALTO","150602"]
[null,null,null,null,null,"",null,null,"ATAVILLOS BAJO","150603","ATAVILLOS BAJO","PERULIMAHUARALATAVILLOS BAJO","150603"]
[null,null,null,null,null,"",null,null,"AUCALLAMA","150604","AUCALLAMA","PERULIMAHUARALAUCALLAMA","150604"]
[null,null,null,null,null,"",null,null,"CHANCAY","150605","CHANCAY","PERULIMAHUARALCHANCAY","150605"]
[null,null,null,null,null,"",null,null,"IHUARI","150606","IHUARI","PERULIMAHUARALIHUARI","150606"]
[null,null,null,null,null,"",null,null,"LAMPIAN","150607","LAMPIAN","PERULIMAHUARALLAMPIAN","150607"]
[null,null,null,null,null,"",null,null,"PACARAOS","150608","PACARAOS","PERULIMAHUARALPACARAOS","150608"]
[null,null,null,null,null,"",null,null,"SAN MIGUEL DE ACOS","150609","SAN MIGUEL DE ACOS","PERULIMAHUARALSAN MIGUEL DE ACOS","150609"]
[null,null,null,null,null,"",null,null,"SANTA CRUZ DE ANDAMARCA","150610","SANTA CRUZ DE ANDAMARCA","PERULIMAHUARALSANTA CRUZ DE ANDAMARCA","150610"]
[null,null,null,null,null,"",null,null,"SUMBILCA","150611","SUMBILCA","PERULIMAHUARALSUMBILCA","150611"]
[null,null,null,null,null,"",null,null,"VEINTISIETE DE NOVIEMBRE","150612","VEINTISIETE DE NOVIEMBRE","PERULIMAHUARALVEINTISIETE DE NOVIEMBRE","150612"]
[null,null,null,null,null,"",null,null,"MATUCANA","150701","MATUCANA","PERULIMAHUAROCHIRIMATUCANA","150701"]
[null,null,null,null,null,"",null,null,"ANTIOQUIA","150702","ANTIOQUIA","PERULIMAHUAROCHIRIANTIOQUIA","150702"]
[null,null,null,null,null,"",null,null,"CALLAHUANCA","150703","CALLAHUANCA","PERULIMAHUAROCHIRICALLAHUANCA","150703"]
[null,null,null,null,null,"",null,null,"CARAMPOMA","150704","CARAMPOMA","PERULIMAHUAROCHIRICARAMPOMA","150704"]
[null,null,null,null,null,"",null,null,"CHICLA","150705","CHICLA","PERULIMAHUAROCHIRICHICLA","150705"]
[null,null,null,null,null,"",null,null,"CUENCA","150706","CUENCA","PERULIMAHUAROCHIRICUENCA","150706"]
[null,null,null,null,null,"",null,null,"HUACHUPAMPA","150707","HUACHUPAMPA","PERULIMAHUAROCHIRIHUACHUPAMPA","150707"]
[null,null,null,null,null,"",null,null,"HUANZA","150708","HUANZA","PERULIMAHUAROCHIRIHUANZA","150708"]
[null,null,null,null,null,"",null,null,"HUAROCHIRI","150709","HUAROCHIRI","PERULIMAHUAROCHIRIHUAROCHIRI","150709"]
[null,null,null,null,null,"",null,null,"LAHUAYTAMBO","150710","LAHUAYTAMBO","PERULIMAHUAROCHIRILAHUAYTAMBO","150710"]
[null,null,null,null,null,"",null,null,"LANGA","150711","LANGA","PERULIMAHUAROCHIRILANGA","150711"]
[null,null,null,null,null,"",null,null,"LARAOS","150712","LARAOS","PERULIMAHUAROCHIRILARAOS","150712"]
[null,null,null,null,null,"",null,null,"MARIATANA","150713","MARIATANA","PERULIMAHUAROCHIRIMARIATANA","150713"]
[null,null,null,null,null,"",null,null,"RICARDO PALMA","150714","RICARDO PALMA","PERULIMAHUAROCHIRIRICARDO PALMA","150714"]
[null,null,null,null,null,"",null,null,"SAN ANDRES DE TUPICOCHA","150715","SAN ANDRES DE TUPICOCHA","PERULIMAHUAROCHIRISAN ANDRES DE TUPICOCHA","150715"]
[null,null,null,null,null,"",null,null,"SAN ANTONIO","150716","SAN ANTONIO","PERULIMAHUAROCHIRISAN ANTONIO","150716"]
[null,null,null,null,null,"",null,null,"SAN BARTOLOME","150717","SAN BARTOLOME","PERULIMAHUAROCHIRISAN BARTOLOME","150717"]
[null,null,null,null,null,"",null,null,"SAN DAMIAN","150718","SAN DAMIAN","PERULIMAHUAROCHIRISAN DAMIAN","150718"]
[null,null,null,null,null,"",null,null,"SAN JUAN DE IRIS","150719","SAN JUAN DE IRIS","PERULIMAHUAROCHIRISAN JUAN DE IRIS","150719"]
[null,null,null,null,null,"",null,null,"SAN JUAN DE TANTARANCHE","150720","SAN JUAN DE TANTARANCHE","PERULIMAHUAROCHIRISAN JUAN DE TANTARANCHE","150720"]
[null,null,null,null,null,"",null,null,"SAN LORENZO DE QUINTI","150721","SAN LORENZO DE QUINTI","PERULIMAHUAROCHIRISAN LORENZO DE QUINTI","150721"]
[null,null,null,null,null,"",null,null,"SAN MATEO","150722","SAN MATEO","PERULIMAHUAROCHIRISAN MATEO","150722"]
[null,null,null,null,null,"",null,null,"SAN MATEO DE OTAO","150723","SAN MATEO DE OTAO","PERULIMAHUAROCHIRISAN MATEO DE OTAO","150723"]
[null,null,null,null,null,"",null,null,"SAN PEDRO DE CASTA","150724","SAN PEDRO DE CASTA","PERULIMAHUAROCHIRISAN PEDRO DE CASTA","150724"]
[null,null,null,null,null,"",null,null,"SAN PEDRO DE HUANCAYRE","150725","SAN PEDRO DE HUANCAYRE","PERULIMAHUAROCHIRISAN PEDRO DE HUANCAYRE","150725"]
[null,null,null,null,null,"",null,null,"SANGALLAYA","150726","SANGALLAYA","PERULIMAHUAROCHIRISANGALLAYA","150726"]
[null,null,null,null,null,"",null,null,"SANTA CRUZ DE COCACHACRA","150727","SANTA CRUZ DE COCACHACRA","PERULIMAHUAROCHIRISANTA CRUZ DE COCACHACRA","150727"]
[null,null,null,null,null,"",null,null,"SANTA EULALIA","150728","SANTA EULALIA","PERULIMAHUAROCHIRISANTA EULALIA","150728"]
[null,null,null,null,null,"",null,null,"SANTIAGO DE ANCHUCAYA","150729","SANTIAGO DE ANCHUCAYA","PERULIMAHUAROCHIRISANTIAGO DE ANCHUCAYA","150729"]
[null,null,null,null,null,"",null,null,"SANTIAGO DE TUNA","150730","SANTIAGO DE TUNA","PERULIMAHUAROCHIRISANTIAGO DE TUNA","150730"]
[null,null,null,null,null,"",null,null,"SANTO DOMINGO DE LOS OLLERO","150731","SANTO DOMINGO DE LOS OLLERO","PERULIMAHUAROCHIRISANTO DOMINGO DE LOS OLLERO","150731"]
[null,null,null,null,null,"",null,null,"SURCO","150732","SURCO","PERULIMAHUAROCHIRISURCO","150732"]
[null,null,null,null,null,"",null,null,"HUACHO","150801","HUACHO","PERULIMAHUAURAHUACHO","150801"]
[null,null,null,null,null,"",null,null,"AMBAR","150802","AMBAR","PERULIMAHUAURAAMBAR","150802"]
[null,null,null,null,null,"",null,null,"CALETA DE CARQUIN","150803","CALETA DE CARQUIN","PERULIMAHUAURACALETA DE CARQUIN","150803"]
[null,null,null,null,null,"",null,null,"CHECRAS","150804","CHECRAS","PERULIMAHUAURACHECRAS","150804"]
[null,null,null,null,null,"",null,null,"HUALMAY","150805","HUALMAY","PERULIMAHUAURAHUALMAY","150805"]
[null,null,null,null,null,"",null,null,"HUAURA","150806","HUAURA","PERULIMAHUAURAHUAURA","150806"]
[null,null,null,null,null,"",null,null,"LEONCIO PRADO","150807","LEONCIO PRADO","PERULIMAHUAURALEONCIO PRADO","150807"]
[null,null,null,null,null,"",null,null,"PACCHO","150808","PACCHO","PERULIMAHUAURAPACCHO","150808"]
[null,null,null,null,null,"",null,null,"SANTA LEONOR","150809","SANTA LEONOR","PERULIMAHUAURASANTA LEONOR","150809"]
[null,null,null,null,null,"",null,null,"SANTA MARIA","150810","SANTA MARIA",{"$f":"\"PERU\"&VLOOKUP(LEFT(J1411,2),$B$1:$C$27,2,0)&VLOOKUP(LEFT(J1411,4),$F$2:$G$197,2,0)&K1411","v":"PERULIMAHUAURASANTA MARIA"},{"$f":"J1411","v":"150810"}]
[null,null,null,null,null,"",null,null,"SAYAN","150811","SAYAN","PERULIMAHUAURASAYAN","150811"]
[null,null,null,null,null,"",null,null,"VEGUETA","150812","VEGUETA","PERULIMAHUAURAVEGUETA","150812"]
[null,null,null,null,null,"",null,null,"OYON","150901","OYON","PERULIMAOYONOYON","150901"]
[null,null,null,null,null,"",null,null,"ANDAJES","150902","ANDAJES","PERULIMAOYONANDAJES","150902"]
[null,null,null,null,null,"",null,null,"CAUJUL","150903","CAUJUL","PERULIMAOYONCAUJUL","150903"]
[null,null,null,null,null,"",null,null,"COCHAMARCA","150904","COCHAMARCA","PERULIMAOYONCOCHAMARCA","150904"]
[null,null,null,null,null,"",null,null,"NAVAN","150905","NAVAN","PERULIMAOYONNAVAN","150905"]
[null,null,null,null,null,"",null,null,"PACHANGARA","150906","PACHANGARA","PERULIMAOYONPACHANGARA","150906"]
[null,null,null,null,null,"",null,null,"YAUYOS","151001","YAUYOS","PERULIMAYAUYOSYAUYOS","151001"]
[null,null,null,null,null,"",null,null,"ALIS","151002","ALIS","PERULIMAYAUYOSALIS","151002"]
[null,null,null,null,null,"",null,null,"AYAUCA","151003","AYAUCA","PERULIMAYAUYOSAYAUCA","151003"]
[null,null,null,null,null,"",null,null,"AYAVIRI","151004","AYAVIRI","PERULIMAYAUYOSAYAVIRI","151004"]
[null,null,null,null,null,"",null,null,"AZANGARO","151005","AZANGARO","PERULIMAYAUYOSAZANGARO","151005"]
[null,null,null,null,null,"",null,null,"CACRA","151006","CACRA","PERULIMAYAUYOSCACRA","151006"]
[null,null,null,null,null,"",null,null,"CARANIA","151007","CARANIA","PERULIMAYAUYOSCARANIA","151007"]
[null,null,null,null,null,"",null,null,"CATAHUASI","151008","CATAHUASI","PERULIMAYAUYOSCATAHUASI","151008"]
[null,null,null,null,null,"",null,null,"CHOCOS","151009","CHOCOS","PERULIMAYAUYOSCHOCOS","151009"]
[null,null,null,null,null,"",null,null,"COCHAS","151010","COCHAS","PERULIMAYAUYOSCOCHAS","151010"]
[null,null,null,null,null,"",null,null,"COLONIA","151011","COLONIA","PERULIMAYAUYOSCOLONIA","151011"]
[null,null,null,null,null,"",null,null,"HONGOS","151012","HONGOS","PERULIMAYAUYOSHONGOS","151012"]
[null,null,null,null,null,"",null,null,"HUAMPARA","151013","HUAMPARA","PERULIMAYAUYOSHUAMPARA","151013"]
[null,null,null,null,null,"",null,null,"HUANCAYA","151014","HUANCAYA","PERULIMAYAUYOSHUANCAYA","151014"]
[null,null,null,null,null,"",null,null,"HUANGASCAR","151015","HUANGASCAR","PERULIMAYAUYOSHUANGASCAR","151015"]
[null,null,null,null,null,"",null,null,"HUANTAN","151016","HUANTAN","PERULIMAYAUYOSHUANTAN","151016"]
[null,null,null,null,null,"",null,null,"HUAÑEC","151017","HUAÑEC","PERULIMAYAUYOSHUAÑEC","151017"]
[null,null,null,null,null,"",null,null,"LARAOS","151018","LARAOS","PERULIMAYAUYOSLARAOS","151018"]
[null,null,null,null,null,"",null,null,"LINCHA","151019","LINCHA","PERULIMAYAUYOSLINCHA","151019"]
[null,null,null,null,null,"",null,null,"MADEAN","151020","MADEAN","PERULIMAYAUYOSMADEAN","151020"]
[null,null,null,null,null,"",null,null,"MIRAFLORES","151021","MIRAFLORES","PERULIMAYAUYOSMIRAFLORES","151021"]
[null,null,null,null,null,"",null,null,"OMAS","151022","OMAS","PERULIMAYAUYOSOMAS","151022"]
[null,null,null,null,null,"",null,null,"PUTINZA","151023","PUTINZA","PERULIMAYAUYOSPUTINZA","151023"]
[null,null,null,null,null,"",null,null,"QUINCHES","151024","QUINCHES","PERULIMAYAUYOSQUINCHES","151024"]
[null,null,null,null,null,"",null,null,"QUINOCAY","151025","QUINOCAY","PERULIMAYAUYOSQUINOCAY","151025"]
[null,null,null,null,null,"",null,null,"SAN JOAQUIN","151026","SAN JOAQUIN","PERULIMAYAUYOSSAN JOAQUIN","151026"]
[null,null,null,null,null,"",null,null,"SAN PEDRO DE PILAS","151027","SAN PEDRO DE PILAS","PERULIMAYAUYOSSAN PEDRO DE PILAS","151027"]
[null,null,null,null,null,"",null,null,"TANTA","151028","TANTA","PERULIMAYAUYOSTANTA","151028"]
[null,null,null,null,null,"",null,null,"TAURIPAMPA","151029","TAURIPAMPA","PERULIMAYAUYOSTAURIPAMPA","151029"]
[null,null,null,null,null,"",null,null,"TOMAS","151030","TOMAS","PERULIMAYAUYOSTOMAS","151030"]
[null,null,null,null,null,"",null,null,"TUPE","151031","TUPE","PERULIMAYAUYOSTUPE","151031"]
[null,null,null,null,null,"",null,null,"VIÑAC","151032","VIÑAC","PERULIMAYAUYOSVIÑAC","151032"]
[null,null,null,null,null,"",null,null,"VITIS","151033","VITIS","PERULIMAYAUYOSVITIS","151033"]
[null,null,null,null,null,"",null,null,"IQUITOS","160101","IQUITOS","PERULORETOMAYNASIQUITOS","160101"]
[null,null,null,null,null,"",null,null,"ALTO NANAY","160102","ALTO NANAY","PERULORETOMAYNASALTO NANAY","160102"]
[null,null,null,null,null,"",null,null,"FERNANDO LORES","160103","FERNANDO LORES","PERULORETOMAYNASFERNANDO LORES","160103"]
[null,null,null,null,null,"",null,null,"INDIANA","160104","INDIANA","PERULORETOMAYNASINDIANA","160104"]
[null,null,null,null,null,"",null,null,"AMAZONAS","160105","AMAZONAS","PERULORETOMAYNASAMAZONAS","160105"]
[null,null,null,null,null,"",null,null,"MAZAN","160106","MAZAN","PERULORETOMAYNASMAZAN","160106"]
[null,null,null,null,null,"",null,null,"NAPO","160107","NAPO","PERULORETOMAYNASNAPO","160107"]
[null,null,null,null,null,"",null,null,"PUNCHANA","160108","PUNCHANA","PERULORETOMAYNASPUNCHANA","160108"]
[null,null,null,null,null,"",null,null,"TORRES CAUSANA","160110","TORRES CAUSANA","PERULORETOMAYNASTORRES CAUSANA","160110"]
[null,null,null,null,null,"",null,null,"BELEN","160112","BELEN","PERULORETOMAYNASBELEN","160112"]
[null,null,null,null,null,"",null,null,"SAN JUAN BAUTISTA","160113","SAN JUAN BAUTISTA","PERULORETOMAYNASSAN JUAN BAUTISTA","160113"]
[null,null,null,null,null,"",null,null,"YURIMAGUAS","160201","YURIMAGUAS","PERULORETOALTO AMAZONASYURIMAGUAS","160201"]
[null,null,null,null,null,"",null,null,"BALSAPUERTO","160202","BALSAPUERTO","PERULORETOALTO AMAZONASBALSAPUERTO","160202"]
[null,null,null,null,null,"",null,null,"JEBEROS","160205","JEBEROS","PERULORETOALTO AMAZONASJEBEROS","160205"]
[null,null,null,null,null,"",null,null,"LAGUNAS","160206","LAGUNAS","PERULORETOALTO AMAZONASLAGUNAS","160206"]
[null,null,null,null,null,"",null,null,"SANTA CRUZ","160210","SANTA CRUZ","PERULORETOALTO AMAZONASSANTA CRUZ","160210"]
[null,null,null,null,null,"",null,null,"TENIENTE CESAR LOPEZ ROJAS","160211","TENIENTE CESAR LOPEZ ROJAS","PERULORETOALTO AMAZONASTENIENTE CESAR LOPEZ ROJAS","160211"]
[null,null,null,null,null,"",null,null,"NAUTA","160301","NAUTA","PERULORETOLORETONAUTA","160301"]
[null,null,null,null,null,"",null,null,"PARINARI","160302","PARINARI","PERULORETOLORETOPARINARI","160302"]
[null,null,null,null,null,"",null,null,"TIGRE","160303","TIGRE","PERULORETOLORETOTIGRE","160303"]
[null,null,null,null,null,"",null,null,"TROMPETEROS","160304","TROMPETEROS","PERULORETOLORETOTROMPETEROS","160304"]
[null,null,null,null,null,"",null,null,"URARINAS","160305","URARINAS","PERULORETOLORETOURARINAS","160305"]
[null,null,null,null,null,"",null,null,"RAMON CASTILLA","160401","RAMON CASTILLA",{"$f":"\"PERU\"&VLOOKUP(LEFT(J1475,2),$B$1:$C$27,2,0)&VLOOKUP(LEFT(J1475,4),$F$2:$G$197,2,0)&K1475","v":"PERULORETOMARISCAL RAMON CASTILLARAMON CASTILLA"},{"$f":"J1475","v":"160401"}]
[null,null,null,null,null,"",null,null,"PEBAS","160402","PEBAS","PERULORETOMARISCAL RAMON CASTILLAPEBAS","160402"]
[null,null,null,null,null,"",null,null,"YAVARI","160403","YAVARI","PERULORETOMARISCAL RAMON CASTILLAYAVARI","160403"]
[null,null,null,null,null,"",null,null,"SAN PABLO","160404","SAN PABLO","PERULORETOMARISCAL RAMON CASTILLASAN PABLO","160404"]
[null,null,null,null,null,"",null,null,"REQUENA","160501","REQUENA","PERULORETOREQUENAREQUENA","160501"]
[null,null,null,null,null,"",null,null,"ALTO TAPICHE","160502","ALTO TAPICHE","PERULORETOREQUENAALTO TAPICHE","160502"]
[null,null,null,null,null,"",null,null,"CAPELO","160503","CAPELO","PERULORETOREQUENACAPELO","160503"]
[null,null,null,null,null,"",null,null,"EMILIO SAN MARTIN","160504","EMILIO SAN MARTIN","PERULORETOREQUENAEMILIO SAN MARTIN","160504"]
[null,null,null,null,null,"",null,null,"MAQUIA","160505","MAQUIA","PERULORETOREQUENAMAQUIA","160505"]
[null,null,null,null,null,"",null,null,"PUINAHUA","160506","PUINAHUA","PERULORETOREQUENAPUINAHUA","160506"]
[null,null,null,null,null,"",null,null,"SAQUENA","160507","SAQUENA","PERULORETOREQUENASAQUENA","160507"]
[null,null,null,null,null,"",null,null,"SOPLIN","160508","SOPLIN","PERULORETOREQUENASOPLIN","160508"]
[null,null,null,null,null,"",null,null,"TAPICHE","160509","TAPICHE","PERULORETOREQUENATAPICHE","160509"]
[null,null,null,null,null,"",null,null,"JENARO HERRERA","160510","JENARO HERRERA","PERULORETOREQUENAJENARO HERRERA","160510"]
[null,null,null,null,null,"",null,null,"YAQUERANA","160511","YAQUERANA","PERULORETOREQUENAYAQUERANA","160511"]
[null,null,null,null,null,"",null,null,"CONTAMANA","160601","CONTAMANA","PERULORETOUCAYALICONTAMANA","160601"]
[null,null,null,null,null,"",null,null,"INAHUAYA","160602","INAHUAYA","PERULORETOUCAYALIINAHUAYA","160602"]
[null,null,null,null,null,"",null,null,"PADRE MARQUEZ","160603","PADRE MARQUEZ","PERULORETOUCAYALIPADRE MARQUEZ","160603"]
[null,null,null,null,null,"",null,null,"PAMPA HERMOSA","160604","PAMPA HERMOSA","PERULORETOUCAYALIPAMPA HERMOSA","160604"]
[null,null,null,null,null,"",null,null,"SARAYACU","160605","SARAYACU","PERULORETOUCAYALISARAYACU","160605"]
[null,null,null,null,null,"",null,null,"VARGAS GUERRA","160606","VARGAS GUERRA","PERULORETOUCAYALIVARGAS GUERRA","160606"]
[null,null,null,null,null,"",null,null,"BARRANCA","160701","BARRANCA","PERULORETODATEM DEL MARAÑONBARRANCA","160701"]
[null,null,null,null,null,"",null,null,"CAHUAPANAS","160702","CAHUAPANAS","PERULORETODATEM DEL MARAÑONCAHUAPANAS","160702"]
[null,null,null,null,null,"",null,null,"MANSERICHE","160703","MANSERICHE","PERULORETODATEM DEL MARAÑONMANSERICHE","160703"]
[null,null,null,null,null,"",null,null,"MORONA","160704","MORONA","PERULORETODATEM DEL MARAÑONMORONA","160704"]
[null,null,null,null,null,"",null,null,"PASTAZA","160705","PASTAZA","PERULORETODATEM DEL MARAÑONPASTAZA","160705"]
[null,null,null,null,null,"",null,null,"ANDOAS","160706","ANDOAS","PERULORETODATEM DEL MARAÑONANDOAS","160706"]
[null,null,null,null,null,"",null,null,"PUTUMAYO","160801","PUTUMAYO","PERULORETOPUTUMAYOPUTUMAYO","160801"]
[null,null,null,null,null,"",null,null,"ROSA PANDURO","160802","ROSA PANDURO","PERULORETOPUTUMAYOROSA PANDURO","160802"]
[null,null,null,null,null,"",null,null,"TENIENTE MANUEL CLAVERO","160803","TENIENTE MANUEL CLAVERO","PERULORETOPUTUMAYOTENIENTE MANUEL CLAVERO","160803"]
[null,null,null,null,null,"",null,null,"YAGUAS","160804","YAGUAS","PERULORETOPUTUMAYOYAGUAS","160804"]
[null,null,null,null,null,"",null,null,"TAMBOPATA","170101","TAMBOPATA","PERUMADRE DE DIOSTAMBOPATATAMBOPATA","170101"]
[null,null,null,null,null,"",null,null,"INAMBARI","170102","INAMBARI","PERUMADRE DE DIOSTAMBOPATAINAMBARI","170102"]
[null,null,null,null,null,"",null,null,"LAS PIEDRAS","170103","LAS PIEDRAS","PERUMADRE DE DIOSTAMBOPATALAS PIEDRAS","170103"]
[null,null,null,null,null,"",null,null,"LABERINTO","170104","LABERINTO","PERUMADRE DE DIOSTAMBOPATALABERINTO","170104"]
[null,null,null,null,null,"",null,null,"MANU","170201","MANU","PERUMADRE DE DIOSMANUMANU","170201"]
[null,null,null,null,null,"",null,null,"FITZCARRALD","170202","FITZCARRALD","PERUMADRE DE DIOSMANUFITZCARRALD","170202"]
[null,null,null,null,null,"",null,null,"MADRE DE DIOS","170203","MADRE DE DIOS","PERUMADRE DE DIOSMANUMADRE DE DIOS","170203"]
[null,null,null,null,null,"",null,null,"HUEPETUHE","170204","HUEPETUHE","PERUMADRE DE DIOSMANUHUEPETUHE","170204"]
[null,null,null,null,null,"",null,null,"IÑAPARI","170301","IÑAPARI","PERUMADRE DE DIOSTAHUAMANUIÑAPARI","170301"]
[null,null,null,null,null,"",null,null,"IBERIA","170302","IBERIA","PERUMADRE DE DIOSTAHUAMANUIBERIA","170302"]
[null,null,null,null,null,"",null,null,"TAHUAMANU","170303","TAHUAMANU","PERUMADRE DE DIOSTAHUAMANUTAHUAMANU","170303"]
[null,null,null,null,null,"",null,null,"MOQUEGUA","180101","MOQUEGUA","PERUMOQUEGUAMARISCAL NIETOMOQUEGUA","180101"]
[null,null,null,null,null,"",null,null,"CARUMAS","180102","CARUMAS","PERUMOQUEGUAMARISCAL NIETOCARUMAS","180102"]
[null,null,null,null,null,"",null,null,"CUCHUMBAYA","180103","CUCHUMBAYA","PERUMOQUEGUAMARISCAL NIETOCUCHUMBAYA","180103"]
[null,null,null,null,null,"",null,null,"SAMEGUA","180104","SAMEGUA","PERUMOQUEGUAMARISCAL NIETOSAMEGUA","180104"]
[null,null,null,null,null,"",null,null,"SAN CRISTOBAL","180105","SAN CRISTOBAL","PERUMOQUEGUAMARISCAL NIETOSAN CRISTOBAL","180105"]
[null,null,null,null,null,"",null,null,"TORATA","180106","TORATA","PERUMOQUEGUAMARISCAL NIETOTORATA","180106"]
[null,null,null,null,null,"",null,null,"OMATE","180201","OMATE","PERUMOQUEGUAGENERAL SANCHEZ CERROOMATE","180201"]
[null,null,null,null,null,"",null,null,"CHOJATA","180202","CHOJATA","PERUMOQUEGUAGENERAL SANCHEZ CERROCHOJATA","180202"]
[null,null,null,null,null,"",null,null,"COALAQUE","180203","COALAQUE","PERUMOQUEGUAGENERAL SANCHEZ CERROCOALAQUE","180203"]
[null,null,null,null,null,"",null,null,"ICHUÑA","180204","ICHUÑA","PERUMOQUEGUAGENERAL SANCHEZ CERROICHUÑA","180204"]
[null,null,null,null,null,"",null,null,"LA CAPILLA","180205","LA CAPILLA","PERUMOQUEGUAGENERAL SANCHEZ CERROLA CAPILLA","180205"]
[null,null,null,null,null,"",null,null,"LLOQUE","180206","LLOQUE","PERUMOQUEGUAGENERAL SANCHEZ CERROLLOQUE","180206"]
[null,null,null,null,null,"",null,null,"MATALAQUE","180207","MATALAQUE","PERUMOQUEGUAGENERAL SANCHEZ CERROMATALAQUE","180207"]
[null,null,null,null,null,"",null,null,"PUQUINA","180208","PUQUINA","PERUMOQUEGUAGENERAL SANCHEZ CERROPUQUINA","180208"]
[null,null,null,null,null,"",null,null,"QUINISTAQUILLAS","180209","QUINISTAQUILLAS","PERUMOQUEGUAGENERAL SANCHEZ CERROQUINISTAQUILLAS","180209"]
[null,null,null,null,null,"",null,null,"UBINAS","180210","UBINAS","PERUMOQUEGUAGENERAL SANCHEZ CERROUBINAS","180210"]
[null,null,null,null,null,"",null,null,"YUNGA","180211","YUNGA","PERUMOQUEGUAGENERAL SANCHEZ CERROYUNGA","180211"]
[null,null,null,null,null,"",null,null,"ILO","180301","ILO","PERUMOQUEGUAILOILO","180301"]
[null,null,null,null,null,"",null,null,"EL ALGARROBAL","180302","EL ALGARROBAL","PERUMOQUEGUAILOEL ALGARROBAL","180302"]
[null,null,null,null,null,"",null,null,"PACOCHA","180303","PACOCHA","PERUMOQUEGUAILOPACOCHA","180303"]
[null,null,null,null,null,"",null,null,"CHAUPIMARCA","190101","CHAUPIMARCA","PERUPASCOPASCOCHAUPIMARCA","190101"]
[null,null,null,null,null,"",null,null,"HUACHON","190102","HUACHON","PERUPASCOPASCOHUACHON","190102"]
[null,null,null,null,null,"",null,null,"HUARIACA","190103","HUARIACA",{"$f":"\"PERU\"&VLOOKUP(LEFT(J1539,2),$B$1:$C$27,2,0)&VLOOKUP(LEFT(J1539,4),$F$2:$G$197,2,0)&K1539","v":"PERUPASCOPASCOHUARIACA"},{"$f":"J1539","v":"190103"}]
[null,null,null,null,null,"",null,null,"HUAYLLAY","190104","HUAYLLAY","PERUPASCOPASCOHUAYLLAY","190104"]
[null,null,null,null,null,"",null,null,"NINACACA","190105","NINACACA","PERUPASCOPASCONINACACA","190105"]
[null,null,null,null,null,"",null,null,"PALLANCHACRA","190106","PALLANCHACRA","PERUPASCOPASCOPALLANCHACRA","190106"]
[null,null,null,null,null,"",null,null,"PAUCARTAMBO","190107","PAUCARTAMBO","PERUPASCOPASCOPAUCARTAMBO","190107"]
[null,null,null,null,null,"",null,null,"SAN FRANCISCO DE ASIS DE YARUSYACAN","190108","SAN FRANCISCO DE ASIS DE YARUSYACAN","PERUPASCOPASCOSAN FRANCISCO DE ASIS DE YARUSYACAN","190108"]
[null,null,null,null,null,"",null,null,"SIMON BOLIVAR","190109","SIMON BOLIVAR","PERUPASCOPASCOSIMON BOLIVAR","190109"]
[null,null,null,null,null,"",null,null,"TICLACAYAN","190110","TICLACAYAN","PERUPASCOPASCOTICLACAYAN","190110"]
[null,null,null,null,null,"",null,null,"TINYAHUARCO","190111","TINYAHUARCO","PERUPASCOPASCOTINYAHUARCO","190111"]
[null,null,null,null,null,"",null,null,"VICCO","190112","VICCO","PERUPASCOPASCOVICCO","190112"]
[null,null,null,null,null,"",null,null,"YANACANCHA","190113","YANACANCHA","PERUPASCOPASCOYANACANCHA","190113"]
[null,null,null,null,null,"",null,null,"YANAHUANCA","190201","YANAHUANCA","PERUPASCODANIEL ALCIDES CARRIONYANAHUANCA","190201"]
[null,null,null,null,null,"",null,null,"CHACAYAN","190202","CHACAYAN","PERUPASCODANIEL ALCIDES CARRIONCHACAYAN","190202"]
[null,null,null,null,null,"",null,null,"GOYLLARISQUIZGA","190203","GOYLLARISQUIZGA","PERUPASCODANIEL ALCIDES CARRIONGOYLLARISQUIZGA","190203"]
[null,null,null,null,null,"",null,null,"PAUCAR","190204","PAUCAR","PERUPASCODANIEL ALCIDES CARRIONPAUCAR","190204"]
[null,null,null,null,null,"",null,null,"SAN PEDRO DE PILLAO","190205","SAN PEDRO DE PILLAO","PERUPASCODANIEL ALCIDES CARRIONSAN PEDRO DE PILLAO","190205"]
[null,null,null,null,null,"",null,null,"SANTA ANA DE TUSI","190206","SANTA ANA DE TUSI","PERUPASCODANIEL ALCIDES CARRIONSANTA ANA DE TUSI","190206"]
[null,null,null,null,null,"",null,null,"TAPUC","190207","TAPUC","PERUPASCODANIEL ALCIDES CARRIONTAPUC","190207"]
[null,null,null,null,null,"",null,null,"VILCABAMBA","190208","VILCABAMBA","PERUPASCODANIEL ALCIDES CARRIONVILCABAMBA","190208"]
[null,null,null,null,null,"",null,null,"OXAPAMPA","190301","OXAPAMPA","PERUPASCOOXAPAMPAOXAPAMPA","190301"]
[null,null,null,null,null,"",null,null,"CHONTABAMBA","190302","CHONTABAMBA","PERUPASCOOXAPAMPACHONTABAMBA","190302"]
[null,null,null,null,null,"",null,null,"HUANCABAMBA","190303","HUANCABAMBA","PERUPASCOOXAPAMPAHUANCABAMBA","190303"]
[null,null,null,null,null,"",null,null,"PALCAZU","190304","PALCAZU","PERUPASCOOXAPAMPAPALCAZU","190304"]
[null,null,null,null,null,"",null,null,"POZUZO","190305","POZUZO","PERUPASCOOXAPAMPAPOZUZO","190305"]
[null,null,null,null,null,"",null,null,"PUERTO BERMUDEZ","190306","PUERTO BERMUDEZ","PERUPASCOOXAPAMPAPUERTO BERMUDEZ","190306"]
[null,null,null,null,null,"",null,null,"VILLA RICA","190307","VILLA RICA","PERUPASCOOXAPAMPAVILLA RICA","190307"]
[null,null,null,null,null,"",null,null,"CONSTITUCION","190308","CONSTITUCION","PERUPASCOOXAPAMPACONSTITUCION","190308"]
[null,null,null,null,null,"",null,null,"PIURA","200101","PIURA","PERUPIURAPIURAPIURA","200101"]
[null,null,null,null,null,"",null,null,"CASTILLA","200104","CASTILLA","PERUPIURAPIURACASTILLA","200104"]
[null,null,null,null,null,"",null,null,"CATACAOS","200105","CATACAOS","PERUPIURAPIURACATACAOS","200105"]
[null,null,null,null,null,"",null,null,"CURA MORI","200107","CURA MORI","PERUPIURAPIURACURA MORI","200107"]
[null,null,null,null,null,"",null,null,"EL TALLAN","200108","EL TALLAN","PERUPIURAPIURAEL TALLAN","200108"]
[null,null,null,null,null,"",null,null,"LA ARENA","200109","LA ARENA","PERUPIURAPIURALA ARENA","200109"]
[null,null,null,null,null,"",null,null,"LA UNION","200110","LA UNION","PERUPIURAPIURALA UNION","200110"]
[null,null,null,null,null,"",null,null,"LAS LOMAS","200111","LAS LOMAS","PERUPIURAPIURALAS LOMAS","200111"]
[null,null,null,null,null,"",null,null,"TAMBO GRANDE","200114","TAMBO GRANDE","PERUPIURAPIURATAMBO GRANDE","200114"]
[null,null,null,null,null,"",null,null,"26 DE OCTUBRE","200115","26 DE OCTUBRE","PERUPIURAPIURA26 DE OCTUBRE","200115"]
[null,null,null,null,null,"",null,null,"AYABACA","200201","AYABACA","PERUPIURAAYABACAAYABACA","200201"]
[null,null,null,null,null,"",null,null,"FRIAS","200202","FRIAS","PERUPIURAAYABACAFRIAS","200202"]
[null,null,null,null,null,"",null,null,"JILILI","200203","JILILI","PERUPIURAAYABACAJILILI","200203"]
[null,null,null,null,null,"",null,null,"LAGUNAS","200204","LAGUNAS","PERUPIURAAYABACALAGUNAS","200204"]
[null,null,null,null,null,"",null,null,"MONTERO","200205","MONTERO","PERUPIURAAYABACAMONTERO","200205"]
[null,null,null,null,null,"",null,null,"PACAIPAMPA","200206","PACAIPAMPA","PERUPIURAAYABACAPACAIPAMPA","200206"]
[null,null,null,null,null,"",null,null,"PAIMAS","200207","PAIMAS","PERUPIURAAYABACAPAIMAS","200207"]
[null,null,null,null,null,"",null,null,"SAPILLICA","200208","SAPILLICA","PERUPIURAAYABACASAPILLICA","200208"]
[null,null,null,null,null,"",null,null,"SICCHEZ","200209","SICCHEZ","PERUPIURAAYABACASICCHEZ","200209"]
[null,null,null,null,null,"",null,null,"SUYO","200210","SUYO","PERUPIURAAYABACASUYO","200210"]
[null,null,null,null,null,"",null,null,"HUANCABAMBA","200301","HUANCABAMBA","PERUPIURAHUANCABAMBAHUANCABAMBA","200301"]
[null,null,null,null,null,"",null,null,"CANCHAQUE","200302","CANCHAQUE","PERUPIURAHUANCABAMBACANCHAQUE","200302"]
[null,null,null,null,null,"",null,null,"EL CARMEN DE LA FRONTERA","200303","EL CARMEN DE LA FRONTERA","PERUPIURAHUANCABAMBAEL CARMEN DE LA FRONTERA","200303"]
[null,null,null,null,null,"",null,null,"HUARMACA","200304","HUARMACA","PERUPIURAHUANCABAMBAHUARMACA","200304"]
[null,null,null,null,null,"",null,null,"LALAQUIZ","200305","LALAQUIZ","PERUPIURAHUANCABAMBALALAQUIZ","200305"]
[null,null,null,null,null,"",null,null,"SAN MIGUEL DE EL FAIQUE","200306","SAN MIGUEL DE EL FAIQUE","PERUPIURAHUANCABAMBASAN MIGUEL DE EL FAIQUE","200306"]
[null,null,null,null,null,"",null,null,"SONDOR","200307","SONDOR","PERUPIURAHUANCABAMBASONDOR","200307"]
[null,null,null,null,null,"",null,null,"SONDORILLO","200308","SONDORILLO","PERUPIURAHUANCABAMBASONDORILLO","200308"]
[null,null,null,null,null,"",null,null,"CHULUCANAS","200401","CHULUCANAS","PERUPIURAMORROPONCHULUCANAS","200401"]
[null,null,null,null,null,"",null,null,"BUENOS AIRES","200402","BUENOS AIRES","PERUPIURAMORROPONBUENOS AIRES","200402"]
[null,null,null,null,null,"",null,null,"CHALACO","200403","CHALACO","PERUPIURAMORROPONCHALACO","200403"]
[null,null,null,null,null,"",null,null,"LA MATANZA","200404","LA MATANZA","PERUPIURAMORROPONLA MATANZA","200404"]
[null,null,null,null,null,"",null,null,"MORROPON","200405","MORROPON","PERUPIURAMORROPONMORROPON","200405"]
[null,null,null,null,null,"",null,null,"SALITRAL","200406","SALITRAL","PERUPIURAMORROPONSALITRAL","200406"]
[null,null,null,null,null,"",null,null,"SAN JUAN DE BIGOTE","200407","SAN JUAN DE BIGOTE","PERUPIURAMORROPONSAN JUAN DE BIGOTE","200407"]
[null,null,null,null,null,"",null,null,"SANTA CATALINA DE MOSSA","200408","SANTA CATALINA DE MOSSA","PERUPIURAMORROPONSANTA CATALINA DE MOSSA","200408"]
[null,null,null,null,null,"",null,null,"SANTO DOMINGO","200409","SANTO DOMINGO","PERUPIURAMORROPONSANTO DOMINGO","200409"]
[null,null,null,null,null,"",null,null,"YAMANGO","200410","YAMANGO",{"$f":"\"PERU\"&VLOOKUP(LEFT(J1603,2),$B$1:$C$27,2,0)&VLOOKUP(LEFT(J1603,4),$F$2:$G$197,2,0)&K1603","v":"PERUPIURAMORROPONYAMANGO"},{"$f":"J1603","v":"200410"}]
[null,null,null,null,null,"",null,null,"PAITA","200501","PAITA","PERUPIURAPAITAPAITA","200501"]
[null,null,null,null,null,"",null,null,"AMOTAPE","200502","AMOTAPE","PERUPIURAPAITAAMOTAPE","200502"]
[null,null,null,null,null,"",null,null,"ARENAL","200503","ARENAL","PERUPIURAPAITAARENAL","200503"]
[null,null,null,null,null,"",null,null,"COLAN","200504","COLAN","PERUPIURAPAITACOLAN","200504"]
[null,null,null,null,null,"",null,null,"LA HUACA","200505","LA HUACA","PERUPIURAPAITALA HUACA","200505"]
[null,null,null,null,null,"",null,null,"TAMARINDO","200506","TAMARINDO","PERUPIURAPAITATAMARINDO","200506"]
[null,null,null,null,null,"",null,null,"VICHAYAL","200507","VICHAYAL","PERUPIURAPAITAVICHAYAL","200507"]
[null,null,null,null,null,"",null,null,"SULLANA","200601","SULLANA","PERUPIURASULLANASULLANA","200601"]
[null,null,null,null,null,"",null,null,"BELLAVISTA","200602","BELLAVISTA","PERUPIURASULLANABELLAVISTA","200602"]
[null,null,null,null,null,"",null,null,"IGNACIO ESCUDERO","200603","IGNACIO ESCUDERO","PERUPIURASULLANAIGNACIO ESCUDERO","200603"]
[null,null,null,null,null,"",null,null,"LANCONES","200604","LANCONES","PERUPIURASULLANALANCONES","200604"]
[null,null,null,null,null,"",null,null,"MARCAVELICA","200605","MARCAVELICA","PERUPIURASULLANAMARCAVELICA","200605"]
[null,null,null,null,null,"",null,null,"MIGUEL CHECA","200606","MIGUEL CHECA","PERUPIURASULLANAMIGUEL CHECA","200606"]
[null,null,null,null,null,"",null,null,"QUERECOTILLO","200607","QUERECOTILLO","PERUPIURASULLANAQUERECOTILLO","200607"]
[null,null,null,null,null,"",null,null,"SALITRAL","200608","SALITRAL","PERUPIURASULLANASALITRAL","200608"]
[null,null,null,null,null,"",null,null,"PARIÑAS","200701","PARIÑAS","PERUPIURATALARAPARIÑAS","200701"]
[null,null,null,null,null,"",null,null,"EL ALTO","200702","EL ALTO","PERUPIURATALARAEL ALTO","200702"]
[null,null,null,null,null,"",null,null,"LA BREA","200703","LA BREA","PERUPIURATALARALA BREA","200703"]
[null,null,null,null,null,"",null,null,"LOBITOS","200704","LOBITOS","PERUPIURATALARALOBITOS","200704"]
[null,null,null,null,null,"",null,null,"LOS ORGANOS","200705","LOS ORGANOS","PERUPIURATALARALOS ORGANOS","200705"]
[null,null,null,null,null,"",null,null,"MANCORA","200706","MANCORA","PERUPIURATALARAMANCORA","200706"]
[null,null,null,null,null,"",null,null,"SECHURA","200801","SECHURA","PERUPIURASECHURASECHURA","200801"]
[null,null,null,null,null,"",null,null,"BELLAVISTA DE LA UNION","200802","BELLAVISTA DE LA UNION","PERUPIURASECHURABELLAVISTA DE LA UNION","200802"]
[null,null,null,null,null,"",null,null,"BERNAL","200803","BERNAL","PERUPIURASECHURABERNAL","200803"]
[null,null,null,null,null,"",null,null,"CRISTO NOS VALGA","200804","CRISTO NOS VALGA","PERUPIURASECHURACRISTO NOS VALGA","200804"]
[null,null,null,null,null,"",null,null,"VICE","200805","VICE","PERUPIURASECHURAVICE","200805"]
[null,null,null,null,null,"",null,null,"RINCONADA LLICUAR","200806","RINCONADA LLICUAR","PERUPIURASECHURARINCONADA LLICUAR","200806"]
[null,null,null,null,null,"",null,null,"PUNO","210101","PUNO","PERUPUNOPUNOPUNO","210101"]
[null,null,null,null,null,"",null,null,"ACORA","210102","ACORA","PERUPUNOPUNOACORA","210102"]
[null,null,null,null,null,"",null,null,"AMANTANI","210103","AMANTANI","PERUPUNOPUNOAMANTANI","210103"]
[null,null,null,null,null,"",null,null,"ATUNCOLLA","210104","ATUNCOLLA","PERUPUNOPUNOATUNCOLLA","210104"]
[null,null,null,null,null,"",null,null,"CAPACHICA","210105","CAPACHICA","PERUPUNOPUNOCAPACHICA","210105"]
[null,null,null,null,null,"",null,null,"CHUCUITO","210106","CHUCUITO","PERUPUNOPUNOCHUCUITO","210106"]
[null,null,null,null,null,"",null,null,"COATA","210107","COATA","PERUPUNOPUNOCOATA","210107"]
[null,null,null,null,null,"",null,null,"HUATA","210108","HUATA","PERUPUNOPUNOHUATA","210108"]
[null,null,null,null,null,"",null,null,"MANAZO","210109","MANAZO","PERUPUNOPUNOMANAZO","210109"]
[null,null,null,null,null,"",null,null,"PAUCARCOLLA","210110","PAUCARCOLLA","PERUPUNOPUNOPAUCARCOLLA","210110"]
[null,null,null,null,null,"",null,null,"PICHACANI","210111","PICHACANI","PERUPUNOPUNOPICHACANI","210111"]
[null,null,null,null,null,"",null,null,"PLATERIA","210112","PLATERIA","PERUPUNOPUNOPLATERIA","210112"]
[null,null,null,null,null,"",null,null,"SAN ANTONIO","210113","SAN ANTONIO","PERUPUNOPUNOSAN ANTONIO","210113"]
[null,null,null,null,null,"",null,null,"TIQUILLACA","210114","TIQUILLACA","PERUPUNOPUNOTIQUILLACA","210114"]
[null,null,null,null,null,"",null,null,"VILQUE","210115","VILQUE","PERUPUNOPUNOVILQUE","210115"]
[null,null,null,null,null,"",null,null,"AZANGARO","210201","AZANGARO","PERUPUNOAZANGAROAZANGARO","210201"]
[null,null,null,null,null,"",null,null,"ACHAYA","210202","ACHAYA","PERUPUNOAZANGAROACHAYA","210202"]
[null,null,null,null,null,"",null,null,"ARAPA","210203","ARAPA","PERUPUNOAZANGAROARAPA","210203"]
[null,null,null,null,null,"",null,null,"ASILLO","210204","ASILLO","PERUPUNOAZANGAROASILLO","210204"]
[null,null,null,null,null,"",null,null,"CAMINACA","210205","CAMINACA","PERUPUNOAZANGAROCAMINACA","210205"]
[null,null,null,null,null,"",null,null,"CHUPA","210206","CHUPA","PERUPUNOAZANGAROCHUPA","210206"]
[null,null,null,null,null,"",null,null,"JOSE DIEGO CHOQUEHUANCA","210207","JOSE DIEGO CHOQUEHUANCA","PERUPUNOAZANGAROJOSE DIEGO CHOQUEHUANCA","210207"]
[null,null,null,null,null,"",null,null,"MUNANI","210208","MUNANI","PERUPUNOAZANGAROMUNANI","210208"]
[null,null,null,null,null,"",null,null,"POTONI","210209","POTONI","PERUPUNOAZANGAROPOTONI","210209"]
[null,null,null,null,null,"",null,null,"SAMAN","210210","SAMAN","PERUPUNOAZANGAROSAMAN","210210"]
[null,null,null,null,null,"",null,null,"SAN ANTON","210211","SAN ANTON","PERUPUNOAZANGAROSAN ANTON","210211"]
[null,null,null,null,null,"",null,null,"SAN JOSE","210212","SAN JOSE","PERUPUNOAZANGAROSAN JOSE","210212"]
[null,null,null,null,null,"",null,null,"SAN JUAN DE SALINAS","210213","SAN JUAN DE SALINAS","PERUPUNOAZANGAROSAN JUAN DE SALINAS","210213"]
[null,null,null,null,null,"",null,null,"SANTIAGO DE PUPUJA","210214","SANTIAGO DE PUPUJA","PERUPUNOAZANGAROSANTIAGO DE PUPUJA","210214"]
[null,null,null,null,null,"",null,null,"TIRAPATA","210215","TIRAPATA","PERUPUNOAZANGAROTIRAPATA","210215"]
[null,null,null,null,null,"",null,null,"MACUSANI","210301","MACUSANI","PERUPUNOCARABAYAMACUSANI","210301"]
[null,null,null,null,null,"",null,null,"AJOYANI","210302","AJOYANI","PERUPUNOCARABAYAAJOYANI","210302"]
[null,null,null,null,null,"",null,null,"AYAPATA","210303","AYAPATA","PERUPUNOCARABAYAAYAPATA","210303"]
[null,null,null,null,null,"",null,null,"COASA","210304","COASA","PERUPUNOCARABAYACOASA","210304"]
[null,null,null,null,null,"",null,null,"CORANI","210305","CORANI","PERUPUNOCARABAYACORANI","210305"]
[null,null,null,null,null,"",null,null,"CRUCERO","210306","CRUCERO","PERUPUNOCARABAYACRUCERO","210306"]
[null,null,null,null,null,"",null,null,"ITUATA","210307","ITUATA",{"$f":"\"PERU\"&VLOOKUP(LEFT(J1667,2),$B$1:$C$27,2,0)&VLOOKUP(LEFT(J1667,4),$F$2:$G$197,2,0)&K1667","v":"PERUPUNOCARABAYAITUATA"},{"$f":"J1667","v":"210307"}]
[null,null,null,null,null,"",null,null,"OLLACHEA","210308","OLLACHEA","PERUPUNOCARABAYAOLLACHEA","210308"]
[null,null,null,null,null,"",null,null,"SAN GABAN","210309","SAN GABAN","PERUPUNOCARABAYASAN GABAN","210309"]
[null,null,null,null,null,"",null,null,"USICAYOS","210310","USICAYOS","PERUPUNOCARABAYAUSICAYOS","210310"]
[null,null,null,null,null,"",null,null,"JULI","210401","JULI","PERUPUNOCHUCUITOJULI","210401"]
[null,null,null,null,null,"",null,null,"DESAGUADERO","210402","DESAGUADERO","PERUPUNOCHUCUITODESAGUADERO","210402"]
[null,null,null,null,null,"",null,null,"HUACULLANI","210403","HUACULLANI","PERUPUNOCHUCUITOHUACULLANI","210403"]
[null,null,null,null,null,"",null,null,"KELLUYO","210404","KELLUYO","PERUPUNOCHUCUITOKELLUYO","210404"]
[null,null,null,null,null,"",null,null,"PISACOMA","210405","PISACOMA","PERUPUNOCHUCUITOPISACOMA","210405"]
[null,null,null,null,null,"",null,null,"POMATA","210406","POMATA","PERUPUNOCHUCUITOPOMATA","210406"]
[null,null,null,null,null,"",null,null,"ZEPITA","210407","ZEPITA","PERUPUNOCHUCUITOZEPITA","210407"]
[null,null,null,null,null,"",null,null,"ILAVE","210501","ILAVE","PERUPUNOEL COLLAOILAVE","210501"]
[null,null,null,null,null,"",null,null,"CAPAZO","210502","CAPAZO","PERUPUNOEL COLLAOCAPAZO","210502"]
[null,null,null,null,null,"",null,null,"PILCUYO","210503","PILCUYO","PERUPUNOEL COLLAOPILCUYO","210503"]
[null,null,null,null,null,"",null,null,"SANTA ROSA","210504","SANTA ROSA","PERUPUNOEL COLLAOSANTA ROSA","210504"]
[null,null,null,null,null,"",null,null,"CONDURIRI","210505","CONDURIRI","PERUPUNOEL COLLAOCONDURIRI","210505"]
[null,null,null,null,null,"",null,null,"HUANCANE","210601","HUANCANE","PERUPUNOHUANCANEHUANCANE","210601"]
[null,null,null,null,null,"",null,null,"COJATA","210602","COJATA","PERUPUNOHUANCANECOJATA","210602"]
[null,null,null,null,null,"",null,null,"HUATASANI","210603","HUATASANI","PERUPUNOHUANCANEHUATASANI","210603"]
[null,null,null,null,null,"",null,null,"INCHUPALLA","210604","INCHUPALLA","PERUPUNOHUANCANEINCHUPALLA","210604"]
[null,null,null,null,null,"",null,null,"PUSI","210605","PUSI","PERUPUNOHUANCANEPUSI","210605"]
[null,null,null,null,null,"",null,null,"ROSASPATA","210606","ROSASPATA","PERUPUNOHUANCANEROSASPATA","210606"]
[null,null,null,null,null,"",null,null,"TARACO","210607","TARACO","PERUPUNOHUANCANETARACO","210607"]
[null,null,null,null,null,"",null,null,"VILQUE CHICO","210608","VILQUE CHICO","PERUPUNOHUANCANEVILQUE CHICO","210608"]
[null,null,null,null,null,"",null,null,"LAMPA","210701","LAMPA","PERUPUNOLAMPALAMPA","210701"]
[null,null,null,null,null,"",null,null,"CABANILLA","210702","CABANILLA","PERUPUNOLAMPACABANILLA","210702"]
[null,null,null,null,null,"",null,null,"CALAPUJA","210703","CALAPUJA","PERUPUNOLAMPACALAPUJA","210703"]
[null,null,null,null,null,"",null,null,"NICASIO","210704","NICASIO","PERUPUNOLAMPANICASIO","210704"]
[null,null,null,null,null,"",null,null,"OCUVIRI","210705","OCUVIRI","PERUPUNOLAMPAOCUVIRI","210705"]
[null,null,null,null,null,"",null,null,"PALCA","210706","PALCA","PERUPUNOLAMPAPALCA","210706"]
[null,null,null,null,null,"",null,null,"PARATIA","210707","PARATIA","PERUPUNOLAMPAPARATIA","210707"]
[null,null,null,null,null,"",null,null,"PUCARA","210708","PUCARA","PERUPUNOLAMPAPUCARA","210708"]
[null,null,null,null,null,"",null,null,"SANTA LUCIA","210709","SANTA LUCIA","PERUPUNOLAMPASANTA LUCIA","210709"]
[null,null,null,null,null,"",null,null,"VILAVILA","210710","VILAVILA","PERUPUNOLAMPAVILAVILA","210710"]
[null,null,null,null,null,"",null,null,"AYAVIRI","210801","AYAVIRI","PERUPUNOMELGARAYAVIRI","210801"]
[null,null,null,null,null,"",null,null,"ANTAUTA","210802","ANTAUTA","PERUPUNOMELGARANTAUTA","210802"]
[null,null,null,null,null,"",null,null,"CUPI","210803","CUPI","PERUPUNOMELGARCUPI","210803"]
[null,null,null,null,null,"",null,null,"LLALLI","210804","LLALLI","PERUPUNOMELGARLLALLI","210804"]
[null,null,null,null,null,"",null,null,"MACARI","210805","MACARI","PERUPUNOMELGARMACARI","210805"]
[null,null,null,null,null,"",null,null,"NUNOA","210806","NUNOA","PERUPUNOMELGARNUNOA","210806"]
[null,null,null,null,null,"",null,null,"ORURILLO","210807","ORURILLO","PERUPUNOMELGARORURILLO","210807"]
[null,null,null,null,null,"",null,null,"SANTA ROSA","210808","SANTA ROSA","PERUPUNOMELGARSANTA ROSA","210808"]
[null,null,null,null,null,"",null,null,"UMACHIRI","210809","UMACHIRI","PERUPUNOMELGARUMACHIRI","210809"]
[null,null,null,null,null,"",null,null,"MOHO","210901","MOHO","PERUPUNOMOHOMOHO","210901"]
[null,null,null,null,null,"",null,null,"CONIMA","210902","CONIMA","PERUPUNOMOHOCONIMA","210902"]
[null,null,null,null,null,"",null,null,"HUAYRAPATA","210903","HUAYRAPATA","PERUPUNOMOHOHUAYRAPATA","210903"]
[null,null,null,null,null,"",null,null,"TILALI","210904","TILALI","PERUPUNOMOHOTILALI","210904"]
[null,null,null,null,null,"",null,null,"PUTINA","211001","PUTINA","PERUPUNOSAN ANTONIO DE PUTINAPUTINA","211001"]
[null,null,null,null,null,"",null,null,"ANANEA","211002","ANANEA","PERUPUNOSAN ANTONIO DE PUTINAANANEA","211002"]
[null,null,null,null,null,"",null,null,"PEDRO VILCA APAZA","211003","PEDRO VILCA APAZA","PERUPUNOSAN ANTONIO DE PUTINAPEDRO VILCA APAZA","211003"]
[null,null,null,null,null,"",null,null,"QUILCAPUNCU","211004","QUILCAPUNCU","PERUPUNOSAN ANTONIO DE PUTINAQUILCAPUNCU","211004"]
[null,null,null,null,null,"",null,null,"SINA","211005","SINA","PERUPUNOSAN ANTONIO DE PUTINASINA","211005"]
[null,null,null,null,null,"",null,null,"JULIACA","211101","JULIACA","PERUPUNOSAN ROMANJULIACA","211101"]
[null,null,null,null,null,"",null,null,"CABANA","211102","CABANA","PERUPUNOSAN ROMANCABANA","211102"]
[null,null,null,null,null,"",null,null,"CABANILLAS","211103","CABANILLAS","PERUPUNOSAN ROMANCABANILLAS","211103"]
[null,null,null,null,null,"",null,null,"CARACOTO","211104","CARACOTO","PERUPUNOSAN ROMANCARACOTO","211104"]
[null,null,null,null,null,"",null,null,"SAN MIGUEL","211105","SAN MIGUEL","PERUPUNOSAN ROMANSAN MIGUEL","211105"]
[null,null,null,null,null,"",null,null,"SANDIA","211201","SANDIA","PERUPUNOSANDIASANDIA","211201"]
[null,null,null,null,null,"",null,null,"CUYOCUYO","211202","CUYOCUYO","PERUPUNOSANDIACUYOCUYO","211202"]
[null,null,null,null,null,"",null,null,"LIMBANI","211203","LIMBANI","PERUPUNOSANDIALIMBANI","211203"]
[null,null,null,null,null,"",null,null,"PATAMBUCO","211204","PATAMBUCO","PERUPUNOSANDIAPATAMBUCO","211204"]
[null,null,null,null,null,"",null,null,"PHARA","211205","PHARA","PERUPUNOSANDIAPHARA","211205"]
[null,null,null,null,null,"",null,null,"QUIACA","211206","QUIACA","PERUPUNOSANDIAQUIACA","211206"]
[null,null,null,null,null,"",null,null,"SAN JUAN DEL ORO","211207","SAN JUAN DEL ORO","PERUPUNOSANDIASAN JUAN DEL ORO","211207"]
[null,null,null,null,null,"",null,null,"YANAHUAYA","211208","YANAHUAYA",{"$f":"\"PERU\"&VLOOKUP(LEFT(J1731,2),$B$1:$C$27,2,0)&VLOOKUP(LEFT(J1731,4),$F$2:$G$197,2,0)&K1731","v":"PERUPUNOSANDIAYANAHUAYA"},{"$f":"J1731","v":"211208"}]
[null,null,null,null,null,"",null,null,"ALTO INAMBARI","211209","ALTO INAMBARI","PERUPUNOSANDIAALTO INAMBARI","211209"]
[null,null,null,null,null,"",null,null,"SAN PEDRO DE PUTINA PUNCO","211210","SAN PEDRO DE PUTINA PUNCO","PERUPUNOSANDIASAN PEDRO DE PUTINA PUNCO","211210"]
[null,null,null,null,null,"",null,null,"YUNGUYO","211301","YUNGUYO","PERUPUNOYUNGUYOYUNGUYO","211301"]
[null,null,null,null,null,"",null,null,"ANAPIA","211302","ANAPIA","PERUPUNOYUNGUYOANAPIA","211302"]
[null,null,null,null,null,"",null,null,"COPANI","211303","COPANI","PERUPUNOYUNGUYOCOPANI","211303"]
[null,null,null,null,null,"",null,null,"CUTURAPI","211304","CUTURAPI","PERUPUNOYUNGUYOCUTURAPI","211304"]
[null,null,null,null,null,"",null,null,"OLLARAYA","211305","OLLARAYA","PERUPUNOYUNGUYOOLLARAYA","211305"]
[null,null,null,null,null,"",null,null,"TINICACHI","211306","TINICACHI","PERUPUNOYUNGUYOTINICACHI","211306"]
[null,null,null,null,null,"",null,null,"UNICACHI","211307","UNICACHI","PERUPUNOYUNGUYOUNICACHI","211307"]
[null,null,null,null,null,"",null,null,"MOYOBAMBA","220101","MOYOBAMBA","PERUSAN MARTINMOYOBAMBAMOYOBAMBA","220101"]
[null,null,null,null,null,"",null,null,"CALZADA","220102","CALZADA","PERUSAN MARTINMOYOBAMBACALZADA","220102"]
[null,null,null,null,null,"",null,null,"HABANA","220103","HABANA","PERUSAN MARTINMOYOBAMBAHABANA","220103"]
[null,null,null,null,null,"",null,null,"JEPELACIO","220104","JEPELACIO","PERUSAN MARTINMOYOBAMBAJEPELACIO","220104"]
[null,null,null,null,null,"",null,null,"SORITOR","220105","SORITOR","PERUSAN MARTINMOYOBAMBASORITOR","220105"]
[null,null,null,null,null,"",null,null,"YANTALO","220106","YANTALO","PERUSAN MARTINMOYOBAMBAYANTALO","220106"]
[null,null,null,null,null,"",null,null,"BELLAVISTA","220201","BELLAVISTA","PERUSAN MARTINBELLAVISTABELLAVISTA","220201"]
[null,null,null,null,null,"",null,null,"ALTO BIAVO","220202","ALTO BIAVO","PERUSAN MARTINBELLAVISTAALTO BIAVO","220202"]
[null,null,null,null,null,"",null,null,"BAJO BIAVO","220203","BAJO BIAVO","PERUSAN MARTINBELLAVISTABAJO BIAVO","220203"]
[null,null,null,null,null,"",null,null,"HUALLAGA","220204","HUALLAGA","PERUSAN MARTINBELLAVISTAHUALLAGA","220204"]
[null,null,null,null,null,"",null,null,"SAN PABLO","220205","SAN PABLO","PERUSAN MARTINBELLAVISTASAN PABLO","220205"]
[null,null,null,null,null,"",null,null,"SAN RAFAEL","220206","SAN RAFAEL","PERUSAN MARTINBELLAVISTASAN RAFAEL","220206"]
[null,null,null,null,null,"",null,null,"SAN JOSE DE SISA","220301","SAN JOSE DE SISA","PERUSAN MARTINEL DORADOSAN JOSE DE SISA","220301"]
[null,null,null,null,null,"",null,null,"AGUA BLANCA","220302","AGUA BLANCA","PERUSAN MARTINEL DORADOAGUA BLANCA","220302"]
[null,null,null,null,null,"",null,null,"SAN MARTIN","220303","SAN MARTIN","PERUSAN MARTINEL DORADOSAN MARTIN","220303"]
[null,null,null,null,null,"",null,null,"SANTA ROSA","220304","SANTA ROSA","PERUSAN MARTINEL DORADOSANTA ROSA","220304"]
[null,null,null,null,null,"",null,null,"SHATOJA","220305","SHATOJA","PERUSAN MARTINEL DORADOSHATOJA","220305"]
[null,null,null,null,null,"",null,null,"SAPOSOA","220401","SAPOSOA","PERUSAN MARTINHUALLAGASAPOSOA","220401"]
[null,null,null,null,null,"",null,null,"ALTO SAPOSOA","220402","ALTO SAPOSOA","PERUSAN MARTINHUALLAGAALTO SAPOSOA","220402"]
[null,null,null,null,null,"",null,null,"EL ESLABON","220403","EL ESLABON","PERUSAN MARTINHUALLAGAEL ESLABON","220403"]
[null,null,null,null,null,"",null,null,"PISCOYACU","220404","PISCOYACU","PERUSAN MARTINHUALLAGAPISCOYACU","220404"]
[null,null,null,null,null,"",null,null,"SACANCHE","220405","SACANCHE","PERUSAN MARTINHUALLAGASACANCHE","220405"]
[null,null,null,null,null,"",null,null,"TINGO DE SAPOSOA","220406","TINGO DE SAPOSOA","PERUSAN MARTINHUALLAGATINGO DE SAPOSOA","220406"]
[null,null,null,null,null,"",null,null,"LAMAS","220501","LAMAS","PERUSAN MARTINLAMASLAMAS","220501"]
[null,null,null,null,null,"",null,null,"ALONSO DE ALVARADO","220502","ALONSO DE ALVARADO","PERUSAN MARTINLAMASALONSO DE ALVARADO","220502"]
[null,null,null,null,null,"",null,null,"BARRANQUITA","220503","BARRANQUITA","PERUSAN MARTINLAMASBARRANQUITA","220503"]
[null,null,null,null,null,"",null,null,"CAYNARACHI","220504","CAYNARACHI","PERUSAN MARTINLAMASCAYNARACHI","220504"]
[null,null,null,null,null,"",null,null,"CUÑUMBUQUI","220505","CUÑUMBUQUI","PERUSAN MARTINLAMASCUÑUMBUQUI","220505"]
[null,null,null,null,null,"",null,null,"PINTO RECODO","220506","PINTO RECODO","PERUSAN MARTINLAMASPINTO RECODO","220506"]
[null,null,null,null,null,"",null,null,"RUMISAPA","220507","RUMISAPA","PERUSAN MARTINLAMASRUMISAPA","220507"]
[null,null,null,null,null,"",null,null,"SAN ROQUE DE CUMBAZA","220508","SAN ROQUE DE CUMBAZA","PERUSAN MARTINLAMASSAN ROQUE DE CUMBAZA","220508"]
[null,null,null,null,null,"",null,null,"SHANAO","220509","SHANAO","PERUSAN MARTINLAMASSHANAO","220509"]
[null,null,null,null,null,"",null,null,"TABALOSOS","220510","TABALOSOS","PERUSAN MARTINLAMASTABALOSOS","220510"]
[null,null,null,null,null,"",null,null,"ZAPATERO","220511","ZAPATERO","PERUSAN MARTINLAMASZAPATERO","220511"]
[null,null,null,null,null,"",null,null,"JUANJUI","220601","JUANJUI","PERUSAN MARTINMARISCAL CACERESJUANJUI","220601"]
[null,null,null,null,null,"",null,null,"CAMPANILLA","220602","CAMPANILLA","PERUSAN MARTINMARISCAL CACERESCAMPANILLA","220602"]
[null,null,null,null,null,"",null,null,"HUICUNGO","220603","HUICUNGO","PERUSAN MARTINMARISCAL CACERESHUICUNGO","220603"]
[null,null,null,null,null,"",null,null,"PACHIZA","220604","PACHIZA","PERUSAN MARTINMARISCAL CACERESPACHIZA","220604"]
[null,null,null,null,null,"",null,null,"PAJARILLO","220605","PAJARILLO","PERUSAN MARTINMARISCAL CACERESPAJARILLO","220605"]
[null,null,null,null,null,"",null,null,"PICOTA","220701","PICOTA","PERUSAN MARTINPICOTAPICOTA","220701"]
[null,null,null,null,null,"",null,null,"BUENOS AIRES","220702","BUENOS AIRES","PERUSAN MARTINPICOTABUENOS AIRES","220702"]
[null,null,null,null,null,"",null,null,"CASPISAPA","220703","CASPISAPA","PERUSAN MARTINPICOTACASPISAPA","220703"]
[null,null,null,null,null,"",null,null,"PILLUANA","220704","PILLUANA","PERUSAN MARTINPICOTAPILLUANA","220704"]
[null,null,null,null,null,"",null,null,"PUCACACA","220705","PUCACACA","PERUSAN MARTINPICOTAPUCACACA","220705"]
[null,null,null,null,null,"",null,null,"SAN CRISTOBAL","220706","SAN CRISTOBAL","PERUSAN MARTINPICOTASAN CRISTOBAL","220706"]
[null,null,null,null,null,"",null,null,"SAN HILARION","220707","SAN HILARION","PERUSAN MARTINPICOTASAN HILARION","220707"]
[null,null,null,null,null,"",null,null,"SHAMBOYACU","220708","SHAMBOYACU","PERUSAN MARTINPICOTASHAMBOYACU","220708"]
[null,null,null,null,null,"",null,null,"TINGO DE PONASA","220709","TINGO DE PONASA","PERUSAN MARTINPICOTATINGO DE PONASA","220709"]
[null,null,null,null,null,"",null,null,"TRES UNIDOS","220710","TRES UNIDOS","PERUSAN MARTINPICOTATRES UNIDOS","220710"]
[null,null,null,null,null,"",null,null,"RIOJA","220801","RIOJA","PERUSAN MARTINRIOJARIOJA","220801"]
[null,null,null,null,null,"",null,null,"AWAJUN","220802","AWAJUN","PERUSAN MARTINRIOJAAWAJUN","220802"]
[null,null,null,null,null,"",null,null,"ELIAS SOPLIN VARGAS","220803","ELIAS SOPLIN VARGAS","PERUSAN MARTINRIOJAELIAS SOPLIN VARGAS","220803"]
[null,null,null,null,null,"",null,null,"NUEVA CAJAMARCA","220804","NUEVA CAJAMARCA","PERUSAN MARTINRIOJANUEVA CAJAMARCA","220804"]
[null,null,null,null,null,"",null,null,"PARDO MIGUEL","220805","PARDO MIGUEL","PERUSAN MARTINRIOJAPARDO MIGUEL","220805"]
[null,null,null,null,null,"",null,null,"POSIC","220806","POSIC",{"$f":"\"PERU\"&VLOOKUP(LEFT(J1795,2),$B$1:$C$27,2,0)&VLOOKUP(LEFT(J1795,4),$F$2:$G$197,2,0)&K1795","v":"PERUSAN MARTINRIOJAPOSIC"},{"$f":"J1795","v":"220806"}]
[null,null,null,null,null,"",null,null,"SAN FERNANDO","220807","SAN FERNANDO","PERUSAN MARTINRIOJASAN FERNANDO","220807"]
[null,null,null,null,null,"",null,null,"YORONGOS","220808","YORONGOS","PERUSAN MARTINRIOJAYORONGOS","220808"]
[null,null,null,null,null,"",null,null,"YURACYACU","220809","YURACYACU","PERUSAN MARTINRIOJAYURACYACU","220809"]
[null,null,null,null,null,"",null,null,"TARAPOTO","220901","TARAPOTO","PERUSAN MARTINSAN MARTINTARAPOTO","220901"]
[null,null,null,null,null,"",null,null,"ALBERTO LEVEAU","220902","ALBERTO LEVEAU","PERUSAN MARTINSAN MARTINALBERTO LEVEAU","220902"]
[null,null,null,null,null,"",null,null,"CACATACHI","220903","CACATACHI","PERUSAN MARTINSAN MARTINCACATACHI","220903"]
[null,null,null,null,null,"",null,null,"CHAZUTA","220904","CHAZUTA","PERUSAN MARTINSAN MARTINCHAZUTA","220904"]
[null,null,null,null,null,"",null,null,"CHIPURANA","220905","CHIPURANA","PERUSAN MARTINSAN MARTINCHIPURANA","220905"]
[null,null,null,null,null,"",null,null,"EL PORVENIR","220906","EL PORVENIR","PERUSAN MARTINSAN MARTINEL PORVENIR","220906"]
[null,null,null,null,null,"",null,null,"HUIMBAYOC","220907","HUIMBAYOC","PERUSAN MARTINSAN MARTINHUIMBAYOC","220907"]
[null,null,null,null,null,"",null,null,"JUAN GUERRA","220908","JUAN GUERRA","PERUSAN MARTINSAN MARTINJUAN GUERRA","220908"]
[null,null,null,null,null,"",null,null,"LA BANDA DE SHILCAYO","220909","LA BANDA DE SHILCAYO","PERUSAN MARTINSAN MARTINLA BANDA DE SHILCAYO","220909"]
[null,null,null,null,null,"",null,null,"MORALES","220910","MORALES","PERUSAN MARTINSAN MARTINMORALES","220910"]
[null,null,null,null,null,"",null,null,"PAPAPLAYA","220911","PAPAPLAYA","PERUSAN MARTINSAN MARTINPAPAPLAYA","220911"]
[null,null,null,null,null,"",null,null,"SAN ANTONIO","220912","SAN ANTONIO","PERUSAN MARTINSAN MARTINSAN ANTONIO","220912"]
[null,null,null,null,null,"",null,null,"SAUCE","220913","SAUCE","PERUSAN MARTINSAN MARTINSAUCE","220913"]
[null,null,null,null,null,"",null,null,"SHAPAJA","220914","SHAPAJA","PERUSAN MARTINSAN MARTINSHAPAJA","220914"]
[null,null,null,null,null,"",null,null,"TOCACHE","221001","TOCACHE","PERUSAN MARTINTOCACHETOCACHE","221001"]
[null,null,null,null,null,"",null,null,"NUEVO PROGRESO","221002","NUEVO PROGRESO","PERUSAN MARTINTOCACHENUEVO PROGRESO","221002"]
[null,null,null,null,null,"",null,null,"POLVORA","221003","POLVORA","PERUSAN MARTINTOCACHEPOLVORA","221003"]
[null,null,null,null,null,"",null,null,"SHUNTE","221004","SHUNTE","PERUSAN MARTINTOCACHESHUNTE","221004"]
[null,null,null,null,null,"",null,null,"UCHIZA","221005","UCHIZA","PERUSAN MARTINTOCACHEUCHIZA","221005"]
[null,null,null,null,null,"",null,null,"TACNA","230101","TACNA","PERUTACNATACNATACNA","230101"]
[null,null,null,null,null,"",null,null,"ALTO DE LA ALIANZA","230102","ALTO DE LA ALIANZA","PERUTACNATACNAALTO DE LA ALIANZA","230102"]
[null,null,null,null,null,"",null,null,"CALANA","230103","CALANA","PERUTACNATACNACALANA","230103"]
[null,null,null,null,null,"",null,null,"CIUDAD NUEVA","230104","CIUDAD NUEVA","PERUTACNATACNACIUDAD NUEVA","230104"]
[null,null,null,null,null,"",null,null,"INCLAN","230105","INCLAN","PERUTACNATACNAINCLAN","230105"]
[null,null,null,null,null,"",null,null,"PACHIA","230106","PACHIA","PERUTACNATACNAPACHIA","230106"]
[null,null,null,null,null,"",null,null,"PALCA","230107","PALCA","PERUTACNATACNAPALCA","230107"]
[null,null,null,null,null,"",null,null,"POCOLLAY","230108","POCOLLAY","PERUTACNATACNAPOCOLLAY","230108"]
[null,null,null,null,null,"",null,null,"SAMA","230109","SAMA","PERUTACNATACNASAMA","230109"]
[null,null,null,null,null,"",null,null,"CORONEL GREGORIO ALBARRACIN LANCHIPA","230110","CORONEL GREGORIO ALBARRACIN LANCHIPA","PERUTACNATACNACORONEL GREGORIO ALBARRACIN LANCHIPA","230110"]
[null,null,null,null,null,"",null,null,"LA YARADA-LOS PALOS","230111","LA YARADA-LOS PALOS","PERUTACNATACNALA YARADA-LOS PALOS","230111"]
[null,null,null,null,null,"",null,null,"CANDARAVE","230201","CANDARAVE","PERUTACNACANDARAVECANDARAVE","230201"]
[null,null,null,null,null,"",null,null,"CAIRANI","230202","CAIRANI","PERUTACNACANDARAVECAIRANI","230202"]
[null,null,null,null,null,"",null,null,"CAMILACA","230203","CAMILACA","PERUTACNACANDARAVECAMILACA","230203"]
[null,null,null,null,null,"",null,null,"CURIBAYA","230204","CURIBAYA","PERUTACNACANDARAVECURIBAYA","230204"]
[null,null,null,null,null,"",null,null,"HUANUARA","230205","HUANUARA","PERUTACNACANDARAVEHUANUARA","230205"]
[null,null,null,null,null,"",null,null,"QUILAHUANI","230206","QUILAHUANI","PERUTACNACANDARAVEQUILAHUANI","230206"]
[null,null,null,null,null,"",null,null,"LOCUMBA","230301","LOCUMBA","PERUTACNAJORGE BASADRELOCUMBA","230301"]
[null,null,null,null,null,"",null,null,"ILABAYA","230302","ILABAYA","PERUTACNAJORGE BASADREILABAYA","230302"]
[null,null,null,null,null,"",null,null,"ITE","230303","ITE","PERUTACNAJORGE BASADREITE","230303"]
[null,null,null,null,null,"",null,null,"TARATA","230401","TARATA","PERUTACNATARATATARATA","230401"]
[null,null,null,null,null,"",null,null,"HEROES ALBARRACIN","230402","HEROES ALBARRACIN","PERUTACNATARATAHEROES ALBARRACIN","230402"]
[null,null,null,null,null,"",null,null,"ESTIQUE","230403","ESTIQUE","PERUTACNATARATAESTIQUE","230403"]
[null,null,null,null,null,"",null,null,"ESTIQUE-PAMPA","230404","ESTIQUE-PAMPA","PERUTACNATARATAESTIQUE-PAMPA","230404"]
[null,null,null,null,null,"",null,null,"SITAJARA","230405","SITAJARA","PERUTACNATARATASITAJARA","230405"]
[null,null,null,null,null,"",null,null,"SUSAPAYA","230406","SUSAPAYA","PERUTACNATARATASUSAPAYA","230406"]
[null,null,null,null,null,"",null,null,"TARUCACHI","230407","TARUCACHI","PERUTACNATARATATARUCACHI","230407"]
[null,null,null,null,null,"",null,null,"TICACO","230408","TICACO","PERUTACNATARATATICACO","230408"]
[null,null,null,null,null,"",null,null,"TUMBES","240101","TUMBES","PERUTUMBESTUMBESTUMBES","240101"]
[null,null,null,null,null,"",null,null,"CORRALES","240102","CORRALES","PERUTUMBESTUMBESCORRALES","240102"]
[null,null,null,null,null,"",null,null,"LA CRUZ","240103","LA CRUZ","PERUTUMBESTUMBESLA CRUZ","240103"]
[null,null,null,null,null,"",null,null,"PAMPAS DE HOSPITAL","240104","PAMPAS DE HOSPITAL","PERUTUMBESTUMBESPAMPAS DE HOSPITAL","240104"]
[null,null,null,null,null,"",null,null,"SAN JACINTO","240105","SAN JACINTO","PERUTUMBESTUMBESSAN JACINTO","240105"]
[null,null,null,null,null,"",null,null,"SAN JUAN DE LA VIRGEN","240106","SAN JUAN DE LA VIRGEN","PERUTUMBESTUMBESSAN JUAN DE LA VIRGEN","240106"]
[null,null,null,null,null,"",null,null,"ZORRITOS","240201","ZORRITOS","PERUTUMBESCONTRALMIRANTE VILLARZORRITOS","240201"]
[null,null,null,null,null,"",null,null,"CASITAS","240202","CASITAS","PERUTUMBESCONTRALMIRANTE VILLARCASITAS","240202"]
[null,null,null,null,null,"",null,null,"CANOAS DE PUNTA SAL","240203","CANOAS DE PUNTA SAL","PERUTUMBESCONTRALMIRANTE VILLARCANOAS DE PUNTA SAL","240203"]
[null,null,null,null,null,"",null,null,"ZARUMILLA","240301","ZARUMILLA","PERUTUMBESZARUMILLAZARUMILLA","240301"]
[null,null,null,null,null,"",null,null,"AGUAS VERDES","240302","AGUAS VERDES","PERUTUMBESZARUMILLAAGUAS VERDES","240302"]
[null,null,null,null,null,"",null,null,"MATAPALO","240303","MATAPALO","PERUTUMBESZARUMILLAMATAPALO","240303"]
[null,null,null,null,null,"",null,null,"PAPAYAL","240304","PAPAYAL","PERUTUMBESZARUMILLAPAPAYAL","240304"]
[null,null,null,null,null,"",null,null,"CALLERIA","250101","CALLERIA",{"$f":"\"PERU\"&VLOOKUP(LEFT(J1859,2),$B$1:$C$27,2,0)&VLOOKUP(LEFT(J1859,4),$F$2:$G$197,2,0)&K1859","v":"PERUUCAYALICORONEL PORTILLOCALLERIA"},{"$f":"J1859","v":"250101"}]
[null,null,null,null,null,"",null,null,"CAMPOVERDE","250102","CAMPOVERDE","PERUUCAYALICORONEL PORTILLOCAMPOVERDE","250102"]
[null,null,null,null,null,"",null,null,"IPARIA","250103","IPARIA","PERUUCAYALICORONEL PORTILLOIPARIA","250103"]
[null,null,null,null,null,"",null,null,"MASISEA","250104","MASISEA","PERUUCAYALICORONEL PORTILLOMASISEA","250104"]
[null,null,null,null,null,"",null,null,"YARINACOCHA","250105","YARINACOCHA","PERUUCAYALICORONEL PORTILLOYARINACOCHA","250105"]
[null,null,null,null,null,"",null,null,"NUEVA REQUENA","250106","NUEVA REQUENA","PERUUCAYALICORONEL PORTILLONUEVA REQUENA","250106"]
[null,null,null,null,null,"",null,null,"MANANTAY","250107","MANANTAY","PERUUCAYALICORONEL PORTILLOMANANTAY","250107"]
[null,null,null,null,null,"",null,null,"RAYMONDI","250201","RAYMONDI","PERUUCAYALIATALAYARAYMONDI","250201"]
[null,null,null,null,null,"",null,null,"SEPAHUA","250202","SEPAHUA","PERUUCAYALIATALAYASEPAHUA","250202"]
[null,null,null,null,null,"",null,null,"TAHUANIA","250203","TAHUANIA","PERUUCAYALIATALAYATAHUANIA","250203"]
[null,null,null,null,null,"",null,null,"YURUA","250204","YURUA","PERUUCAYALIATALAYAYURUA","250204"]
[null,null,null,null,null,"",null,null,"PADRE ABAD","250301","PADRE ABAD","PERUUCAYALIPADRE ABADPADRE ABAD","250301"]
[null,null,null,null,null,"",null,null,"IRAZOLA","250302","IRAZOLA","PERUUCAYALIPADRE ABADIRAZOLA","250302"]
[null,null,null,null,null,"",null,null,"CURIMANA","250303","CURIMANA","PERUUCAYALIPADRE ABADCURIMANA","250303"]
[null,null,null,null,null,"",null,null,"NESHUYA","250304","NESHUYA","PERUUCAYALIPADRE ABADNESHUYA","250304"]
[null,null,null,null,null,"",null,null,"ALEXANDER VON HUMBOLDT","250305","ALEXANDER VON HUMBOLDT","PERUUCAYALIPADRE ABADALEXANDER VON HUMBOLDT","250305"]
[null,null,null,null,null,"",null,null,"PURUS","250401","PURUS","PERUUCAYALIPURUSPURUS",{"$f":"J1875","v":"250401"}]
[null,null,null,null,null,"",null,null,"QUILLABAMBA","080109","QUILLABAMBA","PERUCUSCOCUSCOQUILLABAMBA",{"$f":"J1876","v":"080109"}]
[null,null,null,null,null,"",null,null,"SURCO PUEBLO","150144","SURCO PUEBLO","PERULIMALIMASURCO PUEBLO",{"$f":"J1877","v":"150144"}]
[null,null,null,null,null,"",null,null,"TALARA","200707","TALARA","PERUPIURATALARATALARA",{"$f":"J1878","v":"200707"}]
[null,null,null,null,null,"",null,null,"HUATANASI","210218","HUATANASI","PERUPUNOAZANGAROHUATANASI",{"$f":"J1879","v":"210218"}]
[null,null,null,null,null,""]
[null,null,null,null,null,""]
[null,null,null,null,null,""]
[null,null,null,null,null,""]
[null,null,null,null,null,""]
[null,null,null,null,null,""]
[null,null,null,null,null,""]
[null,null,null,null,null,""]
[null,null,null,null,null,""]
[null,null,null,null,null,""]
[null,null,null,null,null,""]
[null,null,null,null,null,""]
[null,null,null,null,null,""]
[null,null,null,null,null,""]
[null,null,null,null,null,""]
[null,null,null,null,null,""]
[null,null,null,null,null,""]
[null,null,null,null,null,""]
[null,null,null,null,null,""]
[null,null,null,null,null,""]
[null,null,null,null,null,""]
[null,null,null,null,null,""]
[null,null,null,null,null,""]
[null,null,null,null,null,""]
[null,null,null,null,null,""]
[null,null,null,null,null,""]
[null,null,null,null,null,""]
[null,null,null,null,null,""]
[null,null,null,null,null,""]
[null,null,null,null,null,""]
[null,null,null,null,null,""]
[null,null,null,null,null,""]
[null,null,null,null,null,""]
[null,null,null,null,null,""]
[null,null,null,null,null,""]
[null,null,null,null,null,""]
[null,null,null,null,null,""]
[null,null,null,null,null,""]
[null,null,null,null,null,""]
[null,null,null,null,null,""]
[null,null,null,null,null,""]
[null,null,null,null,null,""]
[null,null,null,null,null,""]
[null,null,null,null,null,""]
[null,null,null,null,null,""]
[null,null,null,null,null,""]
[null,null,null,null,null,""]
[null,null,null,null,null,""]
[null,null,null,null,null,""]
[null,null,null,null,null,""]
[null,null,null,null,null,""]
[null,null,null,null,null,""]
[null,null,null,null,null,""]
[null,null,null,null,null,""]
[null,null,null,null,null,""]
[null,null,null,null,null,""]
[null,null,null,null,null,""]
[null,null,null,null,null,""]
[null,null,null,null,null,""]
[null,null,null,null,null,""]
[null,null,null,null,null,""]
[null,null,null,null,null,""]
[null,null,null,null,null,""]
[null,null,null,null,null,""]
[null,null,null,null,null,""]
[null,null,null,null,null,""]
[null,null,null,null,null,""]
[null,null,null,null,null,""]
[null,null,null,null,null,""]
[null,null,null,null,null,""]
[null,null,null,null,null,""]
[null,null,null,null,null,""]
[null,null,null,null,null,""]
[null,null,null,null,null,""]
[null,null,null,null,null,""]
[null,null,null,null,null,""]
[null,null,null,null,null,""]
[null,null,null,null,null,""]
[null,null,null,null,null,""]
[null,null,null,null,null,""]
[null,null,null,null,null,""]
[null,null,null,null,null,""]
[null,null,null,null,null,""]
[null,null,null,null,null,""]
[null,null,null,null,null,""]
[null,null,null,null,null,""]
[null,null,null,null,null,""]
[null,null,null,null,null,""]
[null,null,null,null,null,""]
[null,null,null,null,null,""]
[null,null,null,null,null,""]
[null,null,null,null,null,""]
[null,null,null,null,null,""]
[null,null,null,null,null,""]
[null,null,null,null,null,""]
[null,null,null,null,null,""]
[null,null,null,null,null,""]
[null,null,null,null,null,""]
[null,null,null,null,null,""]
[null,null,null,null,null,""]
[null,null,null,null,null,""]
[null,null,null,null,null,""]
[null,null,null,null,null,""]
[null,null,null,null,null,""]
[null,null,null,null,null,""]
[null,null,null,null,null,""]
[null,null,null,null,null,""]
[null,null,null,null,null,""]
[null,null,null,null,null,""]
[null,null,null,null,null,""]
[null,null,null,null,null,""]
[null,null,null,null,null,""]
[null,null,null,null,null,""]
[null,null,null,null,null,""]
[null,null,null,null,null,""]
[null,null,null,null,null,""]
[null,null,null,null,null,""]
[null,null,null,null,null,""]
[null,null,null,null,null,""]
[null,null,null,null,null,""]
[null,null,null,null,null,""]
[null,null,null,null,null,""]
[null,null,null,null,null,""]
[null,null,null,null,null,""]
[null,null,null,null,null,""]
[null,null,null,null,null,""]
[null,null,null,null,null,""]
[null,null,null,null,null,""]
[null,null,null,null,null,""]
[null,null,null,null,null,""]
[null,null,null,null,null,""]
[null,null,null,null,null,""]
[null,null,null,null,null,""]
[null,null,null,null,null,""]
[null,null,null,null,null,""]
[null,null,null,null,null,""]
[null,null,null,null,null,""]
[null,null,null,null,null,""]
[null,null,null,null,null,""]
[null,null,null,null,null,""]
[null,null,null,null,null,""]
[null,null,null,null,null,""]
[null,null,null,null,null,""]
[null,null,null,null,null,""]
[null,null,null,null,null,""]
[null,null,null,null,null,""]
[null,null,null,null,null,""]
[null,null,null,null,null,""]
[null,null,null,null,null,""]
[null,null,null,null,null,""]
[null,null,null,null,null,""]
[null,null,null,null,null,""]
[null,null,null,null,null,""]
[null,null,null,null,null,""]
[null,null,null,null,null,""]
[null,null,null,null,null,""]
[null,null,null,null,null,""]
[null,null,null,null,null,""]
[null,null,null,null,null,""]
[null,null,null,null,null,""]
[null,null,null,null,null,""]
[null,null,null,null,null,""]
[null,null,null,null,null,""]
[null,null,null,null,null,""]
[null,null,null,null,null,""]
[null,null,null,null,null,""]
[null,null,null,null,null,""]
[null,null,null,null,null,""]
[null,null,null,null,null,""]
[null,null,null,null,null,""]
[null,null,null,null,null,""]
[null,null,null,null,null,""]
[null,null,null,null,null,""]
[null,null,null,null,null,""]
[null,null,null,null,null,""]
[null,null,null,null,null,""]
[null,null,null,null,null,""]
[null,null,null,null,null,""]
[null,null,null,null,null,""]
[null,null,null,null,null,""]
[null,null,null,null,null,""]
[null,null,null,null,null,""]
[null,null,null,null,null,""]
[null,null,null,null,null,""]
[null,null,null,null,null,""]
[null,null,null,null,null,""]
[null,null,null,null,null,""]
[null,null,null,null,null,""]
[null,null,null,null,null,""]
[null,null,null,null,null,""]
[null,null,null,null,null,""]

{"sheet":"Matriz_Ubi","index":8,"n_rows":71,"n_cols":198,"rows_kept":71,"cut":false,"hidden":true,"merged":[]}
[null,"AMA_01","ANC_02","APU_03","ARE_04","AYA_05","CAJ_06","CAL_07","CUS_08","HUA_09","HUA_10","ICA_11","JUN_12","LIB_13","LAM_14","LIM_15","LOR_16","MAD_17","MOQ_18","PAS_19","PIU_20","PUN_21","SAN_22","TAC_23","TUM_24","UCA_25","Otros"]
["01",{"$f":"IFERROR(VLOOKUP(MID(B$1,5,2)&$A2,Lista_Ubigeo!$F:$G,2,0),\" \")","v":"CHACHAPOYAS"},{"$f":"IFERROR(VLOOKUP(MID(C$1,5,2)&$A2,Lista_Ubigeo!$F:$G,2,0),\" \")","v":"HUARAZ"},{"$f":"IFERROR(VLOOKUP(MID(D$1,5,2)&$A2,Lista_Ubigeo!$F:$G,2,0),\" \")","v":"ABANCAY"},{"$f":"IFERROR(VLOOKUP(MID(E$1,5,2)&$A2,Lista_Ubigeo!$F:$G,2,0),\" \")","v":"AREQUIPA"},{"$f":"IFERROR(VLOOKUP(MID(F$1,5,2)&$A2,Lista_Ubigeo!$F:$G,2,0),\" \")","v":"HUAMANGA"},{"$f":"IFERROR(VLOOKUP(MID(G$1,5,2)&$A2,Lista_Ubigeo!$F:$G,2,0),\" \")","v":"CAJAMARCA"},{"$f":"IFERROR(VLOOKUP(MID(H$1,5,2)&$A2,Lista_Ubigeo!$F:$G,2,0),\" \")","v":"CALLAO"},{"$f":"IFERROR(VLOOKUP(MID(I$1,5,2)&$A2,Lista_Ubigeo!$F:$G,2,0),\" \")","v":"CUSCO"},{"$f":"IFERROR(VLOOKUP(MID(J$1,5,2)&$A2,Lista_Ubigeo!$F:$G,2,0),\" \")","v":"HUANCAVELICA"},{"$f":"IFERROR(VLOOKUP(MID(K$1,5,2)&$A2,Lista_Ubigeo!$F:$G,2,0),\" \")","v":"HUANUCO"},{"$f":"IFERROR(VLOOKUP(MID(L$1,5,2)&$A2,Lista_Ubigeo!$F:$G,2,0),\" \")","v":"ICA"},{"$f":"IFERROR(VLOOKUP(MID(M$1,5,2)&$A2,Lista_Ubigeo!$F:$G,2,0),\" \")","v":"HUANCAYO"},{"$f":"IFERROR(VLOOKUP(MID(N$1,5,2)&$A2,Lista_Ubigeo!$F:$G,2,0),\" \")","v":"TRUJILLO"},{"$f":"IFERROR(VLOOKUP(MID(O$1,5,2)&$A2,Lista_Ubigeo!$F:$G,2,0),\" \")","v":"CHICLAYO"},{"$f":"IFERROR(VLOOKUP(MID(P$1,5,2)&$A2,Lista_Ubigeo!$F:$G,2,0),\" \")","v":"LIMA"},{"$f":"IFERROR(VLOOKUP(MID(Q$1,5,2)&$A2,Lista_Ubigeo!$F:$G,2,0),\" \")","v":"MAYNAS"},{"$f":"IFERROR(VLOOKUP(MID(R$1,5,2)&$A2,Lista_Ubigeo!$F:$G,2,0),\" \")","v":"TAMBOPATA"},{"$f":"IFERROR(VLOOKUP(MID(S$1,5,2)&$A2,Lista_Ubigeo!$F:$G,2,0),\" \")","v":"MARISCAL NIETO"},{"$f":"IFERROR(VLOOKUP(MID(T$1,5,2)&$A2,Lista_Ubigeo!$F:$G,2,0),\" \")","v":"PASCO"},{"$f":"IFERROR(VLOOKUP(MID(U$1,5,2)&$A2,Lista_Ubigeo!$F:$G,2,0),\" \")","v":"PIURA"},{"$f":"IFERROR(VLOOKUP(MID(V$1,5,2)&$A2,Lista_Ubigeo!$F:$G,2,0),\" \")","v":"PUNO"},{"$f":"IFERROR(VLOOKUP(MID(W$1,5,2)&$A2,Lista_Ubigeo!$F:$G,2,0),\" \")","v":"MOYOBAMBA"},{"$f":"IFERROR(VLOOKUP(MID(X$1,5,2)&$A2,Lista_Ubigeo!$F:$G,2,0),\" \")","v":"TACNA"},{"$f":"IFERROR(VLOOKUP(MID(Y$1,5,2)&$A2,Lista_Ubigeo!$F:$G,2,0),\" \")","v":"TUMBES"},{"$f":"IFERROR(VLOOKUP(MID(Z$1,5,2)&$A2,Lista_Ubigeo!$F:$G,2,0),\" \")","v":"CORONEL PORTILLO"},"Otros"]
["02",{"$f":"IFERROR(VLOOKUP(MID(B$1,5,2)&$A3,Lista_Ubigeo!$F:$G,2,0),\" \")","v":"BAGUA"},{"$f":"IFERROR(VLOOKUP(MID(C$1,5,2)&$A3,Lista_Ubigeo!$F:$G,2,0),\" \")","v":"AIJA"},{"$f":"IFERROR(VLOOKUP(MID(D$1,5,2)&$A3,Lista_Ubigeo!$F:$G,2,0),\" \")","v":"ANDAHUAYLAS"},{"$f":"IFERROR(VLOOKUP(MID(E$1,5,2)&$A3,Lista_Ubigeo!$F:$G,2,0),\" \")","v":"CAMANA"},{"$f":"IFERROR(VLOOKUP(MID(F$1,5,2)&$A3,Lista_Ubigeo!$F:$G,2,0),\" \")","v":"CANGALLO"},{"$f":"IFERROR(VLOOKUP(MID(G$1,5,2)&$A3,Lista_Ubigeo!$F:$G,2,0),\" \")","v":"CAJABAMBA"},{"$f":"IFERROR(VLOOKUP(MID(H$1,5,2)&$A3,Lista_Ubigeo!$F:$G,2,0),\" \")","v":" "},{"$f":"IFERROR(VLOOKUP(MID(I$1,5,2)&$A3,Lista_Ubigeo!$F:$G,2,0),\" \")","v":"ACOMAYO"},{"$f":"IFERROR(VLOOKUP(MID(J$1,5,2)&$A3,Lista_Ubigeo!$F:$G,2,0),\" \")","v":"ACOBAMBA"},{"$f":"IFERROR(VLOOKUP(MID(K$1,5,2)&$A3,Lista_Ubigeo!$F:$G,2,0),\" \")","v":"AMBO"},{"$f":"IFERROR(VLOOKUP(MID(L$1,5,2)&$A3,Lista_Ubigeo!$F:$G,2,0),\" \")","v":"CHINCHA"},{"$f":"IFERROR(VLOOKUP(MID(M$1,5,2)&$A3,Lista_Ubigeo!$F:$G,2,0),\" \")","v":"CONCEPCION"},{"$f":"IFERROR(VLOOKUP(MID(N$1,5,2)&$A3,Lista_Ubigeo!$F:$G,2,0),\" \")","v":"ASCOPE"},{"$f":"IFERROR(VLOOKUP(MID(O$1,5,2)&$A3,Lista_Ubigeo!$F:$G,2,0),\" \")","v":"FERREÑAFE"},{"$f":"IFERROR(VLOOKUP(MID(P$1,5,2)&$A3,Lista_Ubigeo!$F:$G,2,0),\" \")","v":"BARRANCA"},{"$f":"IFERROR(VLOOKUP(MID(Q$1,5,2)&$A3,Lista_Ubigeo!$F:$G,2,0),\" \")","v":"ALTO AMAZONAS"},{"$f":"IFERROR(VLOOKUP(MID(R$1,5,2)&$A3,Lista_Ubigeo!$F:$G,2,0),\" \")","v":"MANU"},{"$f":"IFERROR(VLOOKUP(MID(S$1,5,2)&$A3,Lista_Ubigeo!$F:$G,2,0),\" \")","v":"GENERAL SANCHEZ CERRO"},{"$f":"IFERROR(VLOOKUP(MID(T$1,5,2)&$A3,Lista_Ubigeo!$F:$G,2,0),\" \")","v":"DANIEL ALCIDES CARRION"},{"$f":"IFERROR(VLOOKUP(MID(U$1,5,2)&$A3,Lista_Ubigeo!$F:$G,2,0),\" \")","v":"AYABACA"},{"$f":"IFERROR(VLOOKUP(MID(V$1,5,2)&$A3,Lista_Ubigeo!$F:$G,2,0),\" \")","v":"AZANGARO"},{"$f":"IFERROR(VLOOKUP(MID(W$1,5,2)&$A3,Lista_Ubigeo!$F:$G,2,0),\" \")","v":"BELLAVISTA"},{"$f":"IFERROR(VLOOKUP(MID(X$1,5,2)&$A3,Lista_Ubigeo!$F:$G,2,0),\" \")","v":"CANDARAVE"},{"$f":"IFERROR(VLOOKUP(MID(Y$1,5,2)&$A3,Lista_Ubigeo!$F:$G,2,0),\" \")","v":"CONTRALMIRANTE VILLAR"},{"$f":"IFERROR(VLOOKUP(MID(Z$1,5,2)&$A3,Lista_Ubigeo!$F:$G,2,0),\" \")","v":"ATALAYA"}]
["03",{"$f":"IFERROR(VLOOKUP(MID(B$1,5,2)&$A4,Lista_Ubigeo!$F:$G,2,0),\" \")","v":"BONGARA"},{"$f":"IFERROR(VLOOKUP(MID(C$1,5,2)&$A4,Lista_Ubigeo!$F:$G,2,0),\" \")","v":"ANTONIO RAYMONDI"},{"$f":"IFERROR(VLOOKUP(MID(D$1,5,2)&$A4,Lista_Ubigeo!$F:$G,2,0),\" \")","v":"ANTABAMBA"},{"$f":"IFERROR(VLOOKUP(MID(E$1,5,2)&$A4,Lista_Ubigeo!$F:$G,2,0),\" \")","v":"CARAVELI"},{"$f":"IFERROR(VLOOKUP(MID(F$1,5,2)&$A4,Lista_Ubigeo!$F:$G,2,0),\" \")","v":"HUANCA SANCOS"},{"$f":"IFERROR(VLOOKUP(MID(G$1,5,2)&$A4,Lista_Ubigeo!$F:$G,2,0),\" \")","v":"CELENDIN"},{"$f":"IFERROR(VLOOKUP(MID(H$1,5,2)&$A4,Lista_Ubigeo!$F:$G,2,0),\" \")","v":" "},{"$f":"IFERROR(VLOOKUP(MID(I$1,5,2)&$A4,Lista_Ubigeo!$F:$G,2,0),\" \")","v":"ANTA"},{"$f":"IFERROR(VLOOKUP(MID(J$1,5,2)&$A4,Lista_Ubigeo!$F:$G,2,0),\" \")","v":"ANGARAES"},{"$f":"IFERROR(VLOOKUP(MID(K$1,5,2)&$A4,Lista_Ubigeo!$F:$G,2,0),\" \")","v":"DOS DE MAYO"},{"$f":"IFERROR(VLOOKUP(MID(L$1,5,2)&$A4,Lista_Ubigeo!$F:$G,2,0),\" \")","v":"NAZCA"},{"$f":"IFERROR(VLOOKUP(MID(M$1,5,2)&$A4,Lista_Ubigeo!$F:$G,2,0),\" \")","v":"CHANCHAMAYO"},{"$f":"IFERROR(VLOOKUP(MID(N$1,5,2)&$A4,Lista_Ubigeo!$F:$G,2,0),\" \")","v":"BOLIVAR"},{"$f":"IFERROR(VLOOKUP(MID(O$1,5,2)&$A4,Lista_Ubigeo!$F:$G,2,0),\" \")","v":"LAMBAYEQUE"},{"$f":"IFERROR(VLOOKUP(MID(P$1,5,2)&$A4,Lista_Ubigeo!$F:$G,2,0),\" \")","v":"CAJATAMBO"},{"$f":"IFERROR(VLOOKUP(MID(Q$1,5,2)&$A4,Lista_Ubigeo!$F:$G,2,0),\" \")","v":"LORETO"},{"$f":"IFERROR(VLOOKUP(MID(R$1,5,2)&$A4,Lista_Ubigeo!$F:$G,2,0),\" \")","v":"TAHUAMANU"},{"$f":"IFERROR(VLOOKUP(MID(S$1,5,2)&$A4,Lista_Ubigeo!$F:$G,2,0),\" \")","v":"ILO"},{"$f":"IFERROR(VLOOKUP(MID(T$1,5,2)&$A4,Lista_Ubigeo!$F:$G,2,0),\" \")","v":"OXAPAMPA"},{"$f":"IFERROR(VLOOKUP(MID(U$1,5,2)&$A4,Lista_Ubigeo!$F:$G,2,0),\" \")","v":"HUANCABAMBA"},{"$f":"IFERROR(VLOOKUP(MID(V$1,5,2)&$A4,Lista_Ubigeo!$F:$G,2,0),\" \")","v":"CARABAYA"},{"$f":"IFERROR(VLOOKUP(MID(W$1,5,2)&$A4,Lista_Ubigeo!$F:$G,2,0),\" \")","v":"EL DORADO"},{"$f":"IFERROR(VLOOKUP(MID(X$1,5,2)&$A4,Lista_Ubigeo!$F:$G,2,0),\" \")","v":"JORGE BASADRE"},{"$f":"IFERROR(VLOOKUP(MID(Y$1,5,2)&$A4,Lista_Ubigeo!$F:$G,2,0),\" \")","v":"ZARUMILLA"},{"$f":"IFERROR(VLOOKUP(MID(Z$1,5,2)&$A4,Lista_Ubigeo!$F:$G,2,0),\" \")","v":"PADRE ABAD"}]
["04",{"$f":"IFERROR(VLOOKUP(MID(B$1,5,2)&$A5,Lista_Ubigeo!$F:$G,2,0),\" \")","v":"CONDORCANQUI"},{"$f":"IFERROR(VLOOKUP(MID(C$1,5,2)&$A5,Lista_Ubigeo!$F:$G,2,0),\" \")","v":"ASUNCION"},{"$f":"IFERROR(VLOOKUP(MID(D$1,5,2)&$A5,Lista_Ubigeo!$F:$G,2,0),\" \")","v":"AYMARAES"},{"$f":"IFERROR(VLOOKUP(MID(E$1,5,2)&$A5,Lista_Ubigeo!$F:$G,2,0),\" \")","v":"CASTILLA"},{"$f":"IFERROR(VLOOKUP(MID(F$1,5,2)&$A5,Lista_Ubigeo!$F:$G,2,0),\" \")","v":"HUANTA"},{"$f":"IFERROR(VLOOKUP(MID(G$1,5,2)&$A5,Lista_Ubigeo!$F:$G,2,0),\" \")","v":"CHOTA"},{"$f":"IFERROR(VLOOKUP(MID(H$1,5,2)&$A5,Lista_Ubigeo!$F:$G,2,0),\" \")","v":" "},{"$f":"IFERROR(VLOOKUP(MID(I$1,5,2)&$A5,Lista_Ubigeo!$F:$G,2,0),\" \")","v":"CALCA"},{"$f":"IFERROR(VLOOKUP(MID(J$1,5,2)&$A5,Lista_Ubigeo!$F:$G,2,0),\" \")","v":"CASTROVIRREYNA"},{"$f":"IFERROR(VLOOKUP(MID(K$1,5,2)&$A5,Lista_Ubigeo!$F:$G,2,0),\" \")","v":"HUACAYBAMBA"},{"$f":"IFERROR(VLOOKUP(MID(L$1,5,2)&$A5,Lista_Ubigeo!$F:$G,2,0),\" \")","v":"PALPA"},{"$f":"IFERROR(VLOOKUP(MID(M$1,5,2)&$A5,Lista_Ubigeo!$F:$G,2,0),\" \")","v":"JAUJA"},{"$f":"IFERROR(VLOOKUP(MID(N$1,5,2)&$A5,Lista_Ubigeo!$F:$G,2,0),\" \")","v":"CHEPEN"},null,{"$f":"IFERROR(VLOOKUP(MID(P$1,5,2)&$A5,Lista_Ubigeo!$F:$G,2,0),\" \")","v":"CANTA"},{"$f":"IFERROR(VLOOKUP(MID(Q$1,5,2)&$A5,Lista_Ubigeo!$F:$G,2,0),\" \")","v":"MARISCAL RAMON CASTILLA"},null,null,null,{"$f":"IFERROR(VLOOKUP(MID(U$1,5,2)&$A5,Lista_Ubigeo!$F:$G,2,0),\" \")","v":"MORROPON"},{"$f":"IFERROR(VLOOKUP(MID(V$1,5,2)&$A5,Lista_Ubigeo!$F:$G,2,0),\" \")","v":"CHUCUITO"},{"$f":"IFERROR(VLOOKUP(MID(W$1,5,2)&$A5,Lista_Ubigeo!$F:$G,2,0),\" \")","v":"HUALLAGA"},{"$f":"IFERROR(VLOOKUP(MID(X$1,5,2)&$A5,Lista_Ubigeo!$F:$G,2,0),\" \")","v":"TARATA"},null,{"$f":"IFERROR(VLOOKUP(MID(Z$1,5,2)&$A5,Lista_Ubigeo!$F:$G,2,0),\" \")","v":"PURUS"}]
["05",{"$f":"IFERROR(VLOOKUP(MID(B$1,5,2)&$A6,Lista_Ubigeo!$F:$G,2,0),\" \")","v":"LUYA"},{"$f":"IFERROR(VLOOKUP(MID(C$1,5,2)&$A6,Lista_Ubigeo!$F:$G,2,0),\" \")","v":"BOLOGNESI"},{"$f":"IFERROR(VLOOKUP(MID(D$1,5,2)&$A6,Lista_Ubigeo!$F:$G,2,0),\" \")","v":"COTABAMBAS"},{"$f":"IFERROR(VLOOKUP(MID(E$1,5,2)&$A6,Lista_Ubigeo!$F:$G,2,0),\" \")","v":"CAYLLOMA"},{"$f":"IFERROR(VLOOKUP(MID(F$1,5,2)&$A6,Lista_Ubigeo!$F:$G,2,0),\" \")","v":"LA MAR"},{"$f":"IFERROR(VLOOKUP(MID(G$1,5,2)&$A6,Lista_Ubigeo!$F:$G,2,0),\" \")","v":"CONTUMAZA"},{"$f":"IFERROR(VLOOKUP(MID(H$1,5,2)&$A6,Lista_Ubigeo!$F:$G,2,0),\" \")","v":" "},{"$f":"IFERROR(VLOOKUP(MID(I$1,5,2)&$A6,Lista_Ubigeo!$F:$G,2,0),\" \")","v":"CANAS"},{"$f":"IFERROR(VLOOKUP(MID(J$1,5,2)&$A6,Lista_Ubigeo!$F:$G,2,0),\" \")","v":"CHURCAMPA"},{"$f":"IFERROR(VLOOKUP(MID(K$1,5,2)&$A6,Lista_Ubigeo!$F:$G,2,0),\" \")","v":"HUAMALIES"},{"$f":"IFERROR(VLOOKUP(MID(L$1,5,2)&$A6,Lista_Ubigeo!$F:$G,2,0),\" \")","v":"PISCO"},{"$f":"IFERROR(VLOOKUP(MID(M$1,5,2)&$A6,Lista_Ubigeo!$F:$G,2,0),\" \")","v":"JUNIN"},{"$f":"IFERROR(VLOOKUP(MID(N$1,5,2)&$A6,Lista_Ubigeo!$F:$G,2,0),\" \")","v":"JULCAN"},null,{"$f":"IFERROR(VLOOKUP(MID(P$1,5,2)&$A6,Lista_Ubigeo!$F:$G,2,0),\" \")","v":"CAÑETE"},{"$f":"IFERROR(VLOOKUP(MID(Q$1,5,2)&$A6,Lista_Ubigeo!$F:$G,2,0),\" \")","v":"REQUENA"},null,null,null,{"$f":"IFERROR(VLOOKUP(MID(U$1,5,2)&$A6,Lista_Ubigeo!$F:$G,2,0),\" \")","v":"PAITA"},{"$f":"IFERROR(VLOOKUP(MID(V$1,5,2)&$A6,Lista_Ubigeo!$F:$G,2,0),\" \")","v":"EL COLLAO"},{"$f":"IFERROR(VLOOKUP(MID(W$1,5,2)&$A6,Lista_Ubigeo!$F:$G,2,0),\" \")","v":"LAMAS"}]
["06",{"$f":"IFERROR(VLOOKUP(MID(B$1,5,2)&$A7,Lista_Ubigeo!$F:$G,2,0),\" \")","v":"RODRIGUEZ DE MENDOZA"},{"$f":"IFERROR(VLOOKUP(MID(C$1,5,2)&$A7,Lista_Ubigeo!$F:$G,2,0),\" \")","v":"CARHUAZ"},{"$f":"IFERROR(VLOOKUP(MID(D$1,5,2)&$A7,Lista_Ubigeo!$F:$G,2,0),\" \")","v":"CHINCHEROS"},{"$f":"IFERROR(VLOOKUP(MID(E$1,5,2)&$A7,Lista_Ubigeo!$F:$G,2,0),\" \")","v":"CONDESUYOS"},{"$f":"IFERROR(VLOOKUP(MID(F$1,5,2)&$A7,Lista_Ubigeo!$F:$G,2,0),\" \")","v":"LUCANAS"},{"$f":"IFERROR(VLOOKUP(MID(G$1,5,2)&$A7,Lista_Ubigeo!$F:$G,2,0),\" \")","v":"CUTERVO"},{"$f":"IFERROR(VLOOKUP(MID(H$1,5,2)&$A7,Lista_Ubigeo!$F:$G,2,0),\" \")","v":" "},{"$f":"IFERROR(VLOOKUP(MID(I$1,5,2)&$A7,Lista_Ubigeo!$F:$G,2,0),\" \")","v":"CANCHIS"},{"$f":"IFERROR(VLOOKUP(MID(J$1,5,2)&$A7,Lista_Ubigeo!$F:$G,2,0),\" \")","v":"HUAYTARA"},{"$f":"IFERROR(VLOOKUP(MID(K$1,5,2)&$A7,Lista_Ubigeo!$F:$G,2,0),\" \")","v":"LEONCIO PRADO"},null,{"$f":"IFERROR(VLOOKUP(MID(M$1,5,2)&$A7,Lista_Ubigeo!$F:$G,2,0),\" \")","v":"SATIPO"},{"$f":"IFERROR(VLOOKUP(MID(N$1,5,2)&$A7,Lista_Ubigeo!$F:$G,2,0),\" \")","v":"OTUZCO"},null,{"$f":"IFERROR(VLOOKUP(MID(P$1,5,2)&$A7,Lista_Ubigeo!$F:$G,2,0),\" \")","v":"HUARAL"},{"$f":"IFERROR(VLOOKUP(MID(Q$1,5,2)&$A7,Lista_Ubigeo!$F:$G,2,0),\" \")","v":"UCAYALI"},null,null,null,{"$f":"IFERROR(VLOOKUP(MID(U$1,5,2)&$A7,Lista_Ubigeo!$F:$G,2,0),\" \")","v":"SULLANA"},{"$f":"IFERROR(VLOOKUP(MID(V$1,5,2)&$A7,Lista_Ubigeo!$F:$G,2,0),\" \")","v":"HUANCANE"},{"$f":"IFERROR(VLOOKUP(MID(W$1,5,2)&$A7,Lista_Ubigeo!$F:$G,2,0),\" \")","v":"MARISCAL CACERES"}]
["07",{"$f":"IFERROR(VLOOKUP(MID(B$1,5,2)&$A8,Lista_Ubigeo!$F:$G,2,0),\" \")","v":"UTCUBAMBA"},{"$f":"IFERROR(VLOOKUP(MID(C$1,5,2)&$A8,Lista_Ubigeo!$F:$G,2,0),\" \")","v":"CARLOS FERMIN FITZCARRALD"},{"$f":"IFERROR(VLOOKUP(MID(D$1,5,2)&$A8,Lista_Ubigeo!$F:$G,2,0),\" \")","v":"GRAU"},{"$f":"IFERROR(VLOOKUP(MID(E$1,5,2)&$A8,Lista_Ubigeo!$F:$G,2,0),\" \")","v":"ISLAY"},{"$f":"IFERROR(VLOOKUP(MID(F$1,5,2)&$A8,Lista_Ubigeo!$F:$G,2,0),\" \")","v":"PARINACOCHAS"},{"$f":"IFERROR(VLOOKUP(MID(G$1,5,2)&$A8,Lista_Ubigeo!$F:$G,2,0),\" \")","v":"HUALGAYOC"},{"$f":"IFERROR(VLOOKUP(MID(H$1,5,2)&$A8,Lista_Ubigeo!$F:$G,2,0),\" \")","v":" "},{"$f":"IFERROR(VLOOKUP(MID(I$1,5,2)&$A8,Lista_Ubigeo!$F:$G,2,0),\" \")","v":"CHUMBIVILCAS"},{"$f":"IFERROR(VLOOKUP(MID(J$1,5,2)&$A8,Lista_Ubigeo!$F:$G,2,0),\" \")","v":"TAYACAJA"},{"$f":"IFERROR(VLOOKUP(MID(K$1,5,2)&$A8,Lista_Ubigeo!$F:$G,2,0),\" \")","v":"MARAÑON"},null,{"$f":"IFERROR(VLOOKUP(MID(M$1,5,2)&$A8,Lista_Ubigeo!$F:$G,2,0),\" \")","v":"TARMA"},{"$f":"IFERROR(VLOOKUP(MID(N$1,5,2)&$A8,Lista_Ubigeo!$F:$G,2,0),\" \")","v":"PACASMAYO"},null,{"$f":"IFERROR(VLOOKUP(MID(P$1,5,2)&$A8,Lista_Ubigeo!$F:$G,2,0),\" \")","v":"HUAROCHIRI"},{"$f":"IFERROR(VLOOKUP(MID(Q$1,5,2)&$A8,Lista_Ubigeo!$F:$G,2,0),\" \")","v":"DATEM DEL MARAÑON"},null,null,null,{"$f":"IFERROR(VLOOKUP(MID(U$1,5,2)&$A8,Lista_Ubigeo!$F:$G,2,0),\" \")","v":"TALARA"},{"$f":"IFERROR(VLOOKUP(MID(V$1,5,2)&$A8,Lista_Ubigeo!$F:$G,2,0),\" \")","v":"LAMPA"},{"$f":"IFERROR(VLOOKUP(MID(W$1,5,2)&$A8,Lista_Ubigeo!$F:$G,2,0),\" \")","v":"PICOTA"}]
["08",{"$f":"IFERROR(VLOOKUP(MID(B$1,5,2)&$A9,Lista_Ubigeo!$F:$G,2,0),\" \")","v":" "},{"$f":"IFERROR(VLOOKUP(MID(C$1,5,2)&$A9,Lista_Ubigeo!$F:$G,2,0),\" \")","v":"CASMA"},{"$f":"IFERROR(VLOOKUP(MID(D$1,5,2)&$A9,Lista_Ubigeo!$F:$G,2,0),\" \")","v":" "},{"$f":"IFERROR(VLOOKUP(MID(E$1,5,2)&$A9,Lista_Ubigeo!$F:$G,2,0),\" \")","v":"LA UNION"},{"$f":"IFERROR(VLOOKUP(MID(F$1,5,2)&$A9,Lista_Ubigeo!$F:$G,2,0),\" \")","v":"PAUCAR DEL SARA SARA"},{"$f":"IFERROR(VLOOKUP(MID(G$1,5,2)&$A9,Lista_Ubigeo!$F:$G,2,0),\" \")","v":"JAEN"},{"$f":"IFERROR(VLOOKUP(MID(H$1,5,2)&$A9,Lista_Ubigeo!$F:$G,2,0),\" \")","v":" "},{"$f":"IFERROR(VLOOKUP(MID(I$1,5,2)&$A9,Lista_Ubigeo!$F:$G,2,0),\" \")","v":"ESPINAR"},null,{"$f":"IFERROR(VLOOKUP(MID(K$1,5,2)&$A9,Lista_Ubigeo!$F:$G,2,0),\" \")","v":"PACHITEA"},null,{"$f":"IFERROR(VLOOKUP(MID(M$1,5,2)&$A9,Lista_Ubigeo!$F:$G,2,0),\" \")","v":"YAULI"},{"$f":"IFERROR(VLOOKUP(MID(N$1,5,2)&$A9,Lista_Ubigeo!$F:$G,2,0),\" \")","v":"PATAZ"},null,{"$f":"IFERROR(VLOOKUP(MID(P$1,5,2)&$A9,Lista_Ubigeo!$F:$G,2,0),\" \")","v":"HUAURA"},{"$f":"IFERROR(VLOOKUP(MID(Q$1,5,2)&$A9,Lista_Ubigeo!$F:$G,2,0),\" \")","v":"PUTUMAYO"},null,null,null,{"$f":"IFERROR(VLOOKUP(MID(U$1,5,2)&$A9,Lista_Ubigeo!$F:$G,2,0),\" \")","v":"SECHURA"},{"$f":"IFERROR(VLOOKUP(MID(V$1,5,2)&$A9,Lista_Ubigeo!$F:$G,2,0),\" \")","v":"MELGAR"},{"$f":"IFERROR(VLOOKUP(MID(W$1,5,2)&$A9,Lista_Ubigeo!$F:$G,2,0),\" \")","v":"RIOJA"}]
["09",{"$f":"IFERROR(VLOOKUP(MID(B$1,5,2)&$A10,Lista_Ubigeo!$F:$G,2,0),\" \")","v":" "},{"$f":"IFERROR(VLOOKUP(MID(C$1,5,2)&$A10,Lista_Ubigeo!$F:$G,2,0),\" \")","v":"CORONGO"},{"$f":"IFERROR(VLOOKUP(MID(D$1,5,2)&$A10,Lista_Ubigeo!$F:$G,2,0),\" \")","v":" "},{"$f":"IFERROR(VLOOKUP(MID(E$1,5,2)&$A10,Lista_Ubigeo!$F:$G,2,0),\" \")","v":" "},{"$f":"IFERROR(VLOOKUP(MID(F$1,5,2)&$A10,Lista_Ubigeo!$F:$G,2,0),\" \")","v":"SUCRE"},{"$f":"IFERROR(VLOOKUP(MID(G$1,5,2)&$A10,Lista_Ubigeo!$F:$G,2,0),\" \")","v":"SAN IGNACIO"},{"$f":"IFERROR(VLOOKUP(MID(H$1,5,2)&$A10,Lista_Ubigeo!$F:$G,2,0),\" \")","v":" "},{"$f":"IFERROR(VLOOKUP(MID(I$1,5,2)&$A10,Lista_Ubigeo!$F:$G,2,0),\" \")","v":"LA CONVENCION"},null,{"$f":"IFERROR(VLOOKUP(MID(K$1,5,2)&$A10,Lista_Ubigeo!$F:$G,2,0),\" \")","v":"PUERTO INCA"},null,{"$f":"IFERROR(VLOOKUP(MID(M$1,5,2)&$A10,Lista_Ubigeo!$F:$G,2,0),\" \")","v":"CHUPACA"},{"$f":"IFERROR(VLOOKUP(MID(N$1,5,2)&$A10,Lista_Ubigeo!$F:$G,2,0),\" \")","v":"SANCHEZ CARRION"},null,{"$f":"IFERROR(VLOOKUP(MID(P$1,5,2)&$A10,Lista_Ubigeo!$F:$G,2,0),\" \")","v":"OYON"},null,null,null,null,null,{"$f":"IFERROR(VLOOKUP(MID(V$1,5,2)&$A10,Lista_Ubigeo!$F:$G,2,0),\" \")","v":"MOHO"},{"$f":"IFERROR(VLOOKUP(MID(W$1,5,2)&$A10,Lista_Ubigeo!$F:$G,2,0),\" \")","v":"SAN MARTIN"}]
["10",{"$f":"IFERROR(VLOOKUP(MID(B$1,5,2)&$A11,Lista_Ubigeo!$F:$G,2,0),\" \")","v":" "},{"$f":"IFERROR(VLOOKUP(MID(C$1,5,2)&$A11,Lista_Ubigeo!$F:$G,2,0),\" \")","v":"HUARI"},{"$f":"IFERROR(VLOOKUP(MID(D$1,5,2)&$A11,Lista_Ubigeo!$F:$G,2,0),\" \")","v":" "},{"$f":"IFERROR(VLOOKUP(MID(E$1,5,2)&$A11,Lista_Ubigeo!$F:$G,2,0),\" \")","v":" "},{"$f":"IFERROR(VLOOKUP(MID(F$1,5,2)&$A11,Lista_Ubigeo!$F:$G,2,0),\" \")","v":"VICTOR FAJARDO"},{"$f":"IFERROR(VLOOKUP(MID(G$1,5,2)&$A11,Lista_Ubigeo!$F:$G,2,0),\" \")","v":"SAN MARCOS"},{"$f":"IFERROR(VLOOKUP(MID(H$1,5,2)&$A11,Lista_Ubigeo!$F:$G,2,0),\" \")","v":" "},{"$f":"IFERROR(VLOOKUP(MID(I$1,5,2)&$A11,Lista_Ubigeo!$F:$G,2,0),\" \")","v":"PARURO"},null,{"$f":"IFERROR(VLOOKUP(MID(K$1,5,2)&$A11,Lista_Ubigeo!$F:$G,2,0),\" \")","v":"LAURICOCHA"},null,null,{"$f":"IFERROR(VLOOKUP(MID(N$1,5,2)&$A11,Lista_Ubigeo!$F:$G,2,0),\" \")","v":"SANTIAGO DE CHUCO"},null,{"$f":"IFERROR(VLOOKUP(MID(P$1,5,2)&$A11,Lista_Ubigeo!$F:$G,2,0),\" \")","v":"YAUYOS"},null,null,null,null,null,{"$f":"IFERROR(VLOOKUP(MID(V$1,5,2)&$A11,Lista_Ubigeo!$F:$G,2,0),\" \")","v":"SAN ANTONIO DE PUTINA"},{"$f":"IFERROR(VLOOKUP(MID(W$1,5,2)&$A11,Lista_Ubigeo!$F:$G,2,0),\" \")","v":"TOCACHE"}]
["11",{"$f":"IFERROR(VLOOKUP(MID(B$1,5,2)&$A12,Lista_Ubigeo!$F:$G,2,0),\" \")","v":" "},{"$f":"IFERROR(VLOOKUP(MID(C$1,5,2)&$A12,Lista_Ubigeo!$F:$G,2,0),\" \")","v":"HUARMEY"},{"$f":"IFERROR(VLOOKUP(MID(D$1,5,2)&$A12,Lista_Ubigeo!$F:$G,2,0),\" \")","v":" "},{"$f":"IFERROR(VLOOKUP(MID(E$1,5,2)&$A12,Lista_Ubigeo!$F:$G,2,0),\" \")","v":" "},{"$f":"IFERROR(VLOOKUP(MID(F$1,5,2)&$A12,Lista_Ubigeo!$F:$G,2,0),\" \")","v":"VILCAS HUAMAN"},{"$f":"IFERROR(VLOOKUP(MID(G$1,5,2)&$A12,Lista_Ubigeo!$F:$G,2,0),\" \")","v":"SAN MIGUEL"},{"$f":"IFERROR(VLOOKUP(MID(H$1,5,2)&$A12,Lista_Ubigeo!$F:$G,2,0),\" \")","v":" "},{"$f":"IFERROR(VLOOKUP(MID(I$1,5,2)&$A12,Lista_Ubigeo!$F:$G,2,0),\" \")","v":"PAUCARTAMBO"},null,{"$f":"IFERROR(VLOOKUP(MID(K$1,5,2)&$A12,Lista_Ubigeo!$F:$G,2,0),\" \")","v":"YAROWILCA"},null,null,{"$f":"IFERROR(VLOOKUP(MID(N$1,5,2)&$A12,Lista_Ubigeo!$F:$G,2,0),\" \")","v":"GRAN CHIMU"},null,null,null,null,null,null,null,{"$f":"IFERROR(VLOOKUP(MID(V$1,5,2)&$A12,Lista_Ubigeo!$F:$G,2,0),\" \")","v":"SAN ROMAN"},{"$f":"IFERROR(VLOOKUP(MID(W$1,5,2)&$A12,Lista_Ubigeo!$F:$G,2,0),\" \")","v":" "}]
["12",{"$f":"IFERROR(VLOOKUP(MID(B$1,5,2)&$A13,Lista_Ubigeo!$F:$G,2,0),\" \")","v":" "},{"$f":"IFERROR(VLOOKUP(MID(C$1,5,2)&$A13,Lista_Ubigeo!$F:$G,2,0),\" \")","v":"HUAYLAS"},{"$f":"IFERROR(VLOOKUP(MID(D$1,5,2)&$A13,Lista_Ubigeo!$F:$G,2,0),\" \")","v":" "},{"$f":"IFERROR(VLOOKUP(MID(E$1,5,2)&$A13,Lista_Ubigeo!$F:$G,2,0),\" \")","v":" "},{"$f":"IFERROR(VLOOKUP(MID(F$1,5,2)&$A13,Lista_Ubigeo!$F:$G,2,0),\" \")","v":" "},{"$f":"IFERROR(VLOOKUP(MID(G$1,5,2)&$A13,Lista_Ubigeo!$F:$G,2,0),\" \")","v":"SAN PABLO"},{"$f":"IFERROR(VLOOKUP(MID(H$1,5,2)&$A13,Lista_Ubigeo!$F:$G,2,0),\" \")","v":" "},{"$f":"IFERROR(VLOOKUP(MID(I$1,5,2)&$A13,Lista_Ubigeo!$F:$G,2,0),\" \")","v":"QUISPICANCHI"},null,{"$f":"IFERROR(VLOOKUP(MID(K$1,5,2)&$A13,Lista_Ubigeo!$F:$G,2,0),\" \")","v":" "},null,null,{"$f":"IFERROR(VLOOKUP(MID(N$1,5,2)&$A13,Lista_Ubigeo!$F:$G,2,0),\" \")","v":"VIRU"},null,null,null,null,null,null,null,{"$f":"IFERROR(VLOOKUP(MID(V$1,5,2)&$A13,Lista_Ubigeo!$F:$G,2,0),\" \")","v":"SANDIA"},{"$f":"IFERROR(VLOOKUP(MID(W$1,5,2)&$A13,Lista_Ubigeo!$F:$G,2,0),\" \")","v":" "}]
["13",{"$f":"IFERROR(VLOOKUP(MID(B$1,5,2)&$A14,Lista_Ubigeo!$F:$G,2,0),\" \")","v":" "},{"$f":"IFERROR(VLOOKUP(MID(C$1,5,2)&$A14,Lista_Ubigeo!$F:$G,2,0),\" \")","v":"MARISCAL LUZURIAGA"},{"$f":"IFERROR(VLOOKUP(MID(D$1,5,2)&$A14,Lista_Ubigeo!$F:$G,2,0),\" \")","v":" "},{"$f":"IFERROR(VLOOKUP(MID(E$1,5,2)&$A14,Lista_Ubigeo!$F:$G,2,0),\" \")","v":" "},{"$f":"IFERROR(VLOOKUP(MID(F$1,5,2)&$A14,Lista_Ubigeo!$F:$G,2,0),\" \")","v":" "},{"$f":"IFERROR(VLOOKUP(MID(G$1,5,2)&$A14,Lista_Ubigeo!$F:$G,2,0),\" \")","v":"SANTA CRUZ"},{"$f":"IFERROR(VLOOKUP(MID(H$1,5,2)&$A14,Lista_Ubigeo!$F:$G,2,0),\" \")","v":" "},{"$f":"IFERROR(VLOOKUP(MID(I$1,5,2)&$A14,Lista_Ubigeo!$F:$G,2,0),\" \")","v":"URUBAMBA"},null,{"$f":"IFERROR(VLOOKUP(MID(K$1,5,2)&$A14,Lista_Ubigeo!$F:$G,2,0),\" \")","v":" "},null,null,{"$f":"IFERROR(VLOOKUP(MID(N$1,5,2)&$A14,Lista_Ubigeo!$F:$G,2,0),\" \")","v":" "},null,null,null,null,null,null,null,{"$f":"IFERROR(VLOOKUP(MID(V$1,5,2)&$A14,Lista_Ubigeo!$F:$G,2,0),\" \")","v":"YUNGUYO"},{"$f":"IFERROR(VLOOKUP(MID(W$1,5,2)&$A14,Lista_Ubigeo!$F:$G,2,0),\" \")","v":" "}]
["14",{"$f":"IFERROR(VLOOKUP(MID(B$1,5,2)&$A15,Lista_Ubigeo!$F:$G,2,0),\" \")","v":" "},{"$f":"IFERROR(VLOOKUP(MID(C$1,5,2)&$A15,Lista_Ubigeo!$F:$G,2,0),\" \")","v":"OCROS"},{"$f":"IFERROR(VLOOKUP(MID(D$1,5,2)&$A15,Lista_Ubigeo!$F:$G,2,0),\" \")","v":" "},{"$f":"IFERROR(VLOOKUP(MID(E$1,5,2)&$A15,Lista_Ubigeo!$F:$G,2,0),\" \")","v":" "},{"$f":"IFERROR(VLOOKUP(MID(F$1,5,2)&$A15,Lista_Ubigeo!$F:$G,2,0),\" \")","v":" "},{"$f":"IFERROR(VLOOKUP(MID(G$1,5,2)&$A15,Lista_Ubigeo!$F:$G,2,0),\" \")","v":" "},{"$f":"IFERROR(VLOOKUP(MID(H$1,5,2)&$A15,Lista_Ubigeo!$F:$G,2,0),\" \")","v":" "},{"$f":"IFERROR(VLOOKUP(MID(I$1,5,2)&$A15,Lista_Ubigeo!$F:$G,2,0),\" \")","v":" "},null,{"$f":"IFERROR(VLOOKUP(MID(K$1,5,2)&$A15,Lista_Ubigeo!$F:$G,2,0),\" \")","v":" "},null,null,null,null,null,null,null,null,null,null,null,{"$f":"IFERROR(VLOOKUP(MID(W$1,5,2)&$A15,Lista_Ubigeo!$F:$G,2,0),\" \")","v":" "}]
["15",{"$f":"IFERROR(VLOOKUP(MID(B$1,5,2)&$A16,Lista_Ubigeo!$F:$G,2,0),\" \")","v":" "},{"$f":"IFERROR(VLOOKUP(MID(C$1,5,2)&$A16,Lista_Ubigeo!$F:$G,2,0),\" \")","v":"PALLASCA"},{"$f":"IFERROR(VLOOKUP(MID(D$1,5,2)&$A16,Lista_Ubigeo!$F:$G,2,0),\" \")","v":" "},{"$f":"IFERROR(VLOOKUP(MID(E$1,5,2)&$A16,Lista_Ubigeo!$F:$G,2,0),\" \")","v":" "},{"$f":"IFERROR(VLOOKUP(MID(F$1,5,2)&$A16,Lista_Ubigeo!$F:$G,2,0),\" \")","v":" "},{"$f":"IFERROR(VLOOKUP(MID(G$1,5,2)&$A16,Lista_Ubigeo!$F:$G,2,0),\" \")","v":" "},{"$f":"IFERROR(VLOOKUP(MID(H$1,5,2)&$A16,Lista_Ubigeo!$F:$G,2,0),\" \")","v":" "},{"$f":"IFERROR(VLOOKUP(MID(I$1,5,2)&$A16,Lista_Ubigeo!$F:$G,2,0),\" \")","v":" "},null,{"$f":"IFERROR(VLOOKUP(MID(K$1,5,2)&$A16,Lista_Ubigeo!$F:$G,2,0),\" \")","v":" "},null,null,null,null,null,null,null,null,null,null,null,{"$f":"IFERROR(VLOOKUP(MID(W$1,5,2)&$A16,Lista_Ubigeo!$F:$G,2,0),\" \")","v":" "}]
["16",{"$f":"IFERROR(VLOOKUP(MID(B$1,5,2)&$A17,Lista_Ubigeo!$F:$G,2,0),\" \")","v":" "},{"$f":"IFERROR(VLOOKUP(MID(C$1,5,2)&$A17,Lista_Ubigeo!$F:$G,2,0),\" \")","v":"POMABAMBA"},{"$f":"IFERROR(VLOOKUP(MID(D$1,5,2)&$A17,Lista_Ubigeo!$F:$G,2,0),\" \")","v":" "},{"$f":"IFERROR(VLOOKUP(MID(E$1,5,2)&$A17,Lista_Ubigeo!$F:$G,2,0),\" \")","v":" "},{"$f":"IFERROR(VLOOKUP(MID(F$1,5,2)&$A17,Lista_Ubigeo!$F:$G,2,0),\" \")","v":" "},{"$f":"IFERROR(VLOOKUP(MID(G$1,5,2)&$A17,Lista_Ubigeo!$F:$G,2,0),\" \")","v":" "},{"$f":"IFERROR(VLOOKUP(MID(H$1,5,2)&$A17,Lista_Ubigeo!$F:$G,2,0),\" \")","v":" "},{"$f":"IFERROR(VLOOKUP(MID(I$1,5,2)&$A17,Lista_Ubigeo!$F:$G,2,0),\" \")","v":" "},null,{"$f":"IFERROR(VLOOKUP(MID(K$1,5,2)&$A17,Lista_Ubigeo!$F:$G,2,0),\" \")","v":" "},null,null,null,null,null,null,null,null,null,null,null,{"$f":"IFERROR(VLOOKUP(MID(W$1,5,2)&$A17,Lista_Ubigeo!$F:$G,2,0),\" \")","v":" "}]
["17",{"$f":"IFERROR(VLOOKUP(MID(B$1,5,2)&$A18,Lista_Ubigeo!$F:$G,2,0),\" \")","v":" "},{"$f":"IFERROR(VLOOKUP(MID(C$1,5,2)&$A18,Lista_Ubigeo!$F:$G,2,0),\" \")","v":"RECUAY"},{"$f":"IFERROR(VLOOKUP(MID(D$1,5,2)&$A18,Lista_Ubigeo!$F:$G,2,0),\" \")","v":" "},{"$f":"IFERROR(VLOOKUP(MID(E$1,5,2)&$A18,Lista_Ubigeo!$F:$G,2,0),\" \")","v":" "},{"$f":"IFERROR(VLOOKUP(MID(F$1,5,2)&$A18,Lista_Ubigeo!$F:$G,2,0),\" \")","v":" "},{"$f":"IFERROR(VLOOKUP(MID(G$1,5,2)&$A18,Lista_Ubigeo!$F:$G,2,0),\" \")","v":" "},{"$f":"IFERROR(VLOOKUP(MID(H$1,5,2)&$A18,Lista_Ubigeo!$F:$G,2,0),\" \")","v":" "},{"$f":"IFERROR(VLOOKUP(MID(I$1,5,2)&$A18,Lista_Ubigeo!$F:$G,2,0),\" \")","v":" "},null,{"$f":"IFERROR(VLOOKUP(MID(K$1,5,2)&$A18,Lista_Ubigeo!$F:$G,2,0),\" \")","v":" "},null,null,null,null,null,null,null,null,null,null,null,{"$f":"IFERROR(VLOOKUP(MID(W$1,5,2)&$A18,Lista_Ubigeo!$F:$G,2,0),\" \")","v":" "}]
["18",{"$f":"IFERROR(VLOOKUP(MID(B$1,5,2)&$A19,Lista_Ubigeo!$F:$G,2,0),\" \")","v":" "},{"$f":"IFERROR(VLOOKUP(MID(C$1,5,2)&$A19,Lista_Ubigeo!$F:$G,2,0),\" \")","v":"SANTA"},{"$f":"IFERROR(VLOOKUP(MID(D$1,5,2)&$A19,Lista_Ubigeo!$F:$G,2,0),\" \")","v":" "},{"$f":"IFERROR(VLOOKUP(MID(E$1,5,2)&$A19,Lista_Ubigeo!$F:$G,2,0),\" \")","v":" "},{"$f":"IFERROR(VLOOKUP(MID(F$1,5,2)&$A19,Lista_Ubigeo!$F:$G,2,0),\" \")","v":" "},{"$f":"IFERROR(VLOOKUP(MID(G$1,5,2)&$A19,Lista_Ubigeo!$F:$G,2,0),\" \")","v":" "},{"$f":"IFERROR(VLOOKUP(MID(H$1,5,2)&$A19,Lista_Ubigeo!$F:$G,2,0),\" \")","v":" "},{"$f":"IFERROR(VLOOKUP(MID(I$1,5,2)&$A19,Lista_Ubigeo!$F:$G,2,0),\" \")","v":" "},null,{"$f":"IFERROR(VLOOKUP(MID(K$1,5,2)&$A19,Lista_Ubigeo!$F:$G,2,0),\" \")","v":" "},null,null,null,null,null,null,null,null,null,null,null,{"$f":"IFERROR(VLOOKUP(MID(W$1,5,2)&$A19,Lista_Ubigeo!$F:$G,2,0),\" \")","v":" "}]
["19",{"$f":"IFERROR(VLOOKUP(MID(B$1,5,2)&$A20,Lista_Ubigeo!$F:$G,2,0),\" \")","v":" "},{"$f":"IFERROR(VLOOKUP(MID(C$1,5,2)&$A20,Lista_Ubigeo!$F:$G,2,0),\" \")","v":"SIHUAS"},{"$f":"IFERROR(VLOOKUP(MID(D$1,5,2)&$A20,Lista_Ubigeo!$F:$G,2,0),\" \")","v":" "},{"$f":"IFERROR(VLOOKUP(MID(E$1,5,2)&$A20,Lista_Ubigeo!$F:$G,2,0),\" \")","v":" "},{"$f":"IFERROR(VLOOKUP(MID(F$1,5,2)&$A20,Lista_Ubigeo!$F:$G,2,0),\" \")","v":" "},{"$f":"IFERROR(VLOOKUP(MID(G$1,5,2)&$A20,Lista_Ubigeo!$F:$G,2,0),\" \")","v":" "},{"$f":"IFERROR(VLOOKUP(MID(H$1,5,2)&$A20,Lista_Ubigeo!$F:$G,2,0),\" \")","v":" "},{"$f":"IFERROR(VLOOKUP(MID(I$1,5,2)&$A20,Lista_Ubigeo!$F:$G,2,0),\" \")","v":" "},null,{"$f":"IFERROR(VLOOKUP(MID(K$1,5,2)&$A20,Lista_Ubigeo!$F:$G,2,0),\" \")","v":" "},null,null,null,null,null,null,null,null,null,null,null,{"$f":"IFERROR(VLOOKUP(MID(W$1,5,2)&$A20,Lista_Ubigeo!$F:$G,2,0),\" \")","v":" "}]
["20",{"$f":"IFERROR(VLOOKUP(MID(B$1,5,2)&$A21,Lista_Ubigeo!$F:$G,2,0),\" \")","v":" "},{"$f":"IFERROR(VLOOKUP(MID(C$1,5,2)&$A21,Lista_Ubigeo!$F:$G,2,0),\" \")","v":"YUNGAY"},{"$f":"IFERROR(VLOOKUP(MID(D$1,5,2)&$A21,Lista_Ubigeo!$F:$G,2,0),\" \")","v":" "},{"$f":"IFERROR(VLOOKUP(MID(E$1,5,2)&$A21,Lista_Ubigeo!$F:$G,2,0),\" \")","v":" "},{"$f":"IFERROR(VLOOKUP(MID(F$1,5,2)&$A21,Lista_Ubigeo!$F:$G,2,0),\" \")","v":" "},{"$f":"IFERROR(VLOOKUP(MID(G$1,5,2)&$A21,Lista_Ubigeo!$F:$G,2,0),\" \")","v":" "},{"$f":"IFERROR(VLOOKUP(MID(H$1,5,2)&$A21,Lista_Ubigeo!$F:$G,2,0),\" \")","v":" "},{"$f":"IFERROR(VLOOKUP(MID(I$1,5,2)&$A21,Lista_Ubigeo!$F:$G,2,0),\" \")","v":" "},null,{"$f":"IFERROR(VLOOKUP(MID(K$1,5,2)&$A21,Lista_Ubigeo!$F:$G,2,0),\" \")","v":" "},null,null,null,null,null,null,null,null,null,null,null,{"$f":"IFERROR(VLOOKUP(MID(W$1,5,2)&$A21,Lista_Ubigeo!$F:$G,2,0),\" \")","v":" "}]
["21",{"$f":"IFERROR(VLOOKUP(MID(B$1,5,2)&$A22,Lista_Ubigeo!$F:$G,2,0),\" \")","v":" "},{"$f":"IFERROR(VLOOKUP(MID(C$1,5,2)&$A22,Lista_Ubigeo!$F:$G,2,0),\" \")","v":" "},{"$f":"IFERROR(VLOOKUP(MID(D$1,5,2)&$A22,Lista_Ubigeo!$F:$G,2,0),\" \")","v":" "},{"$f":"IFERROR(VLOOKUP(MID(E$1,5,2)&$A22,Lista_Ubigeo!$F:$G,2,0),\" \")","v":" "},{"$f":"IFERROR(VLOOKUP(MID(F$1,5,2)&$A22,Lista_Ubigeo!$F:$G,2,0),\" \")","v":" "},{"$f":"IFERROR(VLOOKUP(MID(G$1,5,2)&$A22,Lista_Ubigeo!$F:$G,2,0),\" \")","v":" "},{"$f":"IFERROR(VLOOKUP(MID(H$1,5,2)&$A22,Lista_Ubigeo!$F:$G,2,0),\" \")","v":" "},{"$f":"IFERROR(VLOOKUP(MID(I$1,5,2)&$A22,Lista_Ubigeo!$F:$G,2,0),\" \")","v":" "},null,{"$f":"IFERROR(VLOOKUP(MID(K$1,5,2)&$A22,Lista_Ubigeo!$F:$G,2,0),\" \")","v":" "},null,null,null,null,null,null,null,null,null,null,null,{"$f":"IFERROR(VLOOKUP(MID(W$1,5,2)&$A22,Lista_Ubigeo!$F:$G,2,0),\" \")","v":" "}]
["22",{"$f":"IFERROR(VLOOKUP(MID(B$1,5,2)&$A23,Lista_Ubigeo!$F:$G,2,0),\" \")","v":" "},{"$f":"IFERROR(VLOOKUP(MID(C$1,5,2)&$A23,Lista_Ubigeo!$F:$G,2,0),\" \")","v":" "},null,null,null,null,null,null,null,null,null,null,null,null,null,null,null,null,null,null,null,{"$f":"IFERROR(VLOOKUP(MID(W$1,5,2)&$A23,Lista_Ubigeo!$F:$G,2,0),\" \")","v":" "}]
["23",{"$f":"IFERROR(VLOOKUP(MID(B$1,5,2)&$A24,Lista_Ubigeo!$F:$G,2,0),\" \")","v":" "},{"$f":"IFERROR(VLOOKUP(MID(C$1,5,2)&$A24,Lista_Ubigeo!$F:$G,2,0),\" \")","v":" "},null,null,null,null,null,null,null,null,null,null,null,null,null,null,null,null,null,null,null,{"$f":"IFERROR(VLOOKUP(MID(W$1,5,2)&$A24,Lista_Ubigeo!$F:$G,2,0),\" \")","v":" "}]
["24",{"$f":"IFERROR(VLOOKUP(MID(B$1,5,2)&$A25,Lista_Ubigeo!$F:$G,2,0),\" \")","v":" "},{"$f":"IFERROR(VLOOKUP(MID(C$1,5,2)&$A25,Lista_Ubigeo!$F:$G,2,0),\" \")","v":" "},null,null,null,null,null,null,null,null,null,null,null,null,null,null,null,null,null,null,null,{"$f":"IFERROR(VLOOKUP(MID(W$1,5,2)&$A25,Lista_Ubigeo!$F:$G,2,0),\" \")","v":" "}]
["25",{"$f":"IFERROR(VLOOKUP(MID(B$1,5,2)&$A26,Lista_Ubigeo!$F:$G,2,0),\" \")","v":" "},{"$f":"IFERROR(VLOOKUP(MID(C$1,5,2)&$A26,Lista_Ubigeo!$F:$G,2,0),\" \")","v":" "},null,null,null,null,null,null,null,null,null,null,null,null,null,null,null,null,null,null,null,{"$f":"IFERROR(VLOOKUP(MID(W$1,5,2)&$A26,Lista_Ubigeo!$F:$G,2,0),\" \")","v":" "}]
[null,"CHA_0101","BAG_0102","BON_0103","CON_0104","LUY_0105","ROD_0106","UTC_0107","HUA_0201","AIJ_0202","ANT_0203","ASU_0204","BOL_0205","CAR_0206","CAR_0207","CAS_0208","COR_0209","HUA_0210","HUA_0211","HUA_0212","MAR_0213","OCR_0214","PAL_0215","POM_0216","REC_0217","SAN_0218","SIH_0219","YUN_0220","ABA_0301","AND_0302","ANT_0303","AYM_0304","COT_0305","CHI_0306","GRA_0307","ARE_0401","CAM_0402","CAR_0403","CAS_0404","CAY_0405","CON_0406","ISL_0407","LA_0408","HUA_0501","CAN_0502","HUA_0503","HUA_0504","LA__0505","LUC_0506","PAR_0507","PAU_0508","SUC_0509","VIC_0510","VIL_0511","CAJ_0601","CAJ_0602","CEL_0603","CHO_0604","CON_0605","CUT_0606","HUA_0607","JAE_0608","SAN_0609","SAN_0610","SAN_0611","SAN_0612","SAN_0613","PRO_0701","CUS_0801","ACO_0802","ANT_0803","CAL_0804","CAN_0805","CAN_0806","CHU_0807","ESP_0808","LA_0809","PAR_0810","PAU_0811","QUI_0812","URU_0813","HUA_0901","ACO_0902","ANG_0903","CAS_0904","CHU_0905","HUA_0906","TAY_0907","HUA_1001","AMB_1002","DOS_1003","HUA_1004","HUA_1005","LEO_1006","MAR_1007","PAC_1008","PUE_1009","LAU_1010","YAR_1011","ICA_1101","CHI_1102","NAZ_1103","PAL_1104","PIS_1105","HUA_1201","CON_1202","CHA_1203","JAU_1204","JUN_1205","SAT_1206","TAR_1207","YAU_1208","CHU_1209","TRU_1301","ASC_1302","BOL_1303","CHE_1304","JUL_1305","OTU_1306","PAC_1307","PAT_1308","SÁN_1309","SAN_1310","GRA_1311","VIR_1312","CHI_1401","FER_1402","LAM_1403","LIM_1501","BAR_1502","CAJ_1503","CAN_1504","CAÑ_1505","HUA_1506","HUA_1507","HUA_1508","OYO_1509","YAU_1510","MAY_1601","ALT_1602","LOR_1603","MAR_1604","REQ_1605","UCA_1606","DAT_1607","PUT_1608","TAM_1701","MAN_1702","TAH_1703","MAR_1801","GEN_1802","ILO_1803","PAS_1901","DAN_1902","OXA_1903","PIU_2001","AYA_2002","HUA_2003","MOR_2004","PAI_2005","SUL_2006","TAL_2007","SEC_2008","PUN_2101","AZÁ_2102","CAR_2103","CHU_2104","EL__2105","HUA_2106","LAM_2107","MEL_2108","MOH_2109","SAN_2110","SAN_2111","SAN_2112","YUN_2113","MOY_2201","BEL_2202","EL__2203","HUA_2204","LAM_2205","MAR_2206","PIC_2207","RIO_2208","SAN_2209","TOC_2210","TAC_2301","CAN_2302","JOR_2303","TAR_2304","TUM_2401","CON_2402","ZAR_2403","COR_2501","ATA_2502","PAD_2503","PUR_2504","AZA_2102"]
["01",{"$f":"IFERROR(VLOOKUP(MID(B$27,5,4)&$A28,Lista_Ubigeo!$J:$K,2,0),\" \")","v":"CHACHAPOYAS"},{"$f":"IFERROR(VLOOKUP(MID(C$27,5,4)&$A28,Lista_Ubigeo!$J:$K,2,0),\" \")","v":"BAGUA"},{"$f":"IFERROR(VLOOKUP(MID(D$27,5,4)&$A28,Lista_Ubigeo!$J:$K,2,0),\" \")","v":"JUMBILLA"},{"$f":"IFERROR(VLOOKUP(MID(E$27,5,4)&$A28,Lista_Ubigeo!$J:$K,2,0),\" \")","v":"NIEVA"},{"$f":"IFERROR(VLOOKUP(MID(F$27,5,4)&$A28,Lista_Ubigeo!$J:$K,2,0),\" \")","v":"LAMUD"},{"$f":"IFERROR(VLOOKUP(MID(G$27,5,4)&$A28,Lista_Ubigeo!$J:$K,2,0),\" \")","v":"SAN NICOLAS"},{"$f":"IFERROR(VLOOKUP(MID(H$27,5,4)&$A28,Lista_Ubigeo!$J:$K,2,0),\" \")","v":"BAGUA GRANDE"},{"$f":"IFERROR(VLOOKUP(MID(I$27,5,4)&$A28,Lista_Ubigeo!$J:$K,2,0),\" \")","v":"HUARAZ"},{"$f":"IFERROR(VLOOKUP(MID(J$27,5,4)&$A28,Lista_Ubigeo!$J:$K,2,0),\" \")","v":"AIJA"},{"$f":"IFERROR(VLOOKUP(MID(K$27,5,4)&$A28,Lista_Ubigeo!$J:$K,2,0),\" \")","v":"LLAMELLIN"},{"$f":"IFERROR(VLOOKUP(MID(L$27,5,4)&$A28,Lista_Ubigeo!$J:$K,2,0),\" \")","v":"CHACAS"},{"$f":"IFERROR(VLOOKUP(MID(M$27,5,4)&$A28,Lista_Ubigeo!$J:$K,2,0),\" \")","v":"CHIQUIAN"},{"$f":"IFERROR(VLOOKUP(MID(N$27,5,4)&$A28,Lista_Ubigeo!$J:$K,2,0),\" \")","v":"CARHUAZ"},{"$f":"IFERROR(VLOOKUP(MID(O$27,5,4)&$A28,Lista_Ubigeo!$J:$K,2,0),\" \")","v":"SAN LUIS"},{"$f":"IFERROR(VLOOKUP(MID(P$27,5,4)&$A28,Lista_Ubigeo!$J:$K,2,0),\" \")","v":"CASMA"},{"$f":"IFERROR(VLOOKUP(MID(Q$27,5,4)&$A28,Lista_Ubigeo!$J:$K,2,0),\" \")","v":"CORONGO"},{"$f":"IFERROR(VLOOKUP(MID(R$27,5,4)&$A28,Lista_Ubigeo!$J:$K,2,0),\" \")","v":"HUARI"},{"$f":"IFERROR(VLOOKUP(MID(S$27,5,4)&$A28,Lista_Ubigeo!$J:$K,2,0),\" \")","v":"HUARMEY"},{"$f":"IFERROR(VLOOKUP(MID(T$27,5,4)&$A28,Lista_Ubigeo!$J:$K,2,0),\" \")","v":"CARAZ"},{"$f":"IFERROR(VLOOKUP(MID(U$27,5,4)&$A28,Lista_Ubigeo!$J:$K,2,0),\" \")","v":"PISCOBAMBA"},{"$f":"IFERROR(VLOOKUP(MID(V$27,5,4)&$A28,Lista_Ubigeo!$J:$K,2,0),\" \")","v":"OCROS"},{"$f":"IFERROR(VLOOKUP(MID(W$27,5,4)&$A28,Lista_Ubigeo!$J:$K,2,0),\" \")","v":"CABANA"},{"$f":"IFERROR(VLOOKUP(MID(X$27,5,4)&$A28,Lista_Ubigeo!$J:$K,2,0),\" \")","v":"POMABAMBA"},{"$f":"IFERROR(VLOOKUP(MID(Y$27,5,4)&$A28,Lista_Ubigeo!$J:$K,2,0),\" \")","v":"RECUAY"},{"$f":"IFERROR(VLOOKUP(MID(Z$27,5,4)&$A28,Lista_Ubigeo!$J:$K,2,0),\" \")","v":"CHIMBOTE"},{"$f":"IFERROR(VLOOKUP(MID(AA$27,5,4)&$A28,Lista_Ubigeo!$J:$K,2,0),\" \")","v":"SIHUAS"},{"$f":"IFERROR(VLOOKUP(MID(AB$27,5,4)&$A28,Lista_Ubigeo!$J:$K,2,0),\" \")","v":"YUNGAY"},{"$f":"IFERROR(VLOOKUP(MID(AC$27,5,4)&$A28,Lista_Ubigeo!$J:$K,2,0),\" \")","v":"ABANCAY"},{"$f":"IFERROR(VLOOKUP(MID(AD$27,5,4)&$A28,Lista_Ubigeo!$J:$K,2,0),\" \")","v":"ANDAHUAYLAS"},{"$f":"IFERROR(VLOOKUP(MID(AE$27,5,4)&$A28,Lista_Ubigeo!$J:$K,2,0),\" \")","v":"ANTABAMBA"},{"$f":"IFERROR(VLOOKUP(MID(AF$27,5,4)&$A28,Lista_Ubigeo!$J:$K,2,0),\" \")","v":"CHALHUANCA"},{"$f":"IFERROR(VLOOKUP(MID(AG$27,5,4)&$A28,Lista_Ubigeo!$J:$K,2,0),\" \")","v":"TAMBOBAMBA"},{"$f":"IFERROR(VLOOKUP(MID(AH$27,5,4)&$A28,Lista_Ubigeo!$J:$K,2,0),\" \")","v":"CHINCHEROS"},{"$f":"IFERROR(VLOOKUP(MID(AI$27,5,4)&$A28,Lista_Ubigeo!$J:$K,2,0),\" \")","v":"CHUQUIBAMBILLA"},{"$f":"IFERROR(VLOOKUP(MID(AJ$27,5,4)&$A28,Lista_Ubigeo!$J:$K,2,0),\" \")","v":"AREQUIPA"},{"$f":"IFERROR(VLOOKUP(MID(AK$27,5,4)&$A28,Lista_Ubigeo!$J:$K,2,0),\" \")","v":"CAMANA"},{"$f":"IFERROR(VLOOKUP(MID(AL$27,5,4)&$A28,Lista_Ubigeo!$J:$K,2,0),\" \")","v":"CARAVELI"},{"$f":"IFERROR(VLOOKUP(MID(AM$27,5,4)&$A28,Lista_Ubigeo!$J:$K,2,0),\" \")","v":"APLAO"},{"$f":"IFERROR(VLOOKUP(MID(AN$27,5,4)&$A28,Lista_Ubigeo!$J:$K,2,0),\" \")","v":"CHIVAY"},{"$f":"IFERROR(VLOOKUP(MID(AO$27,5,4)&$A28,Lista_Ubigeo!$J:$K,2,0),\" \")","v":"CHUQUIBAMBA"},{"$f":"IFERROR(VLOOKUP(MID(AP$27,5,4)&$A28,Lista_Ubigeo!$J:$K,2,0),\" \")","v":"MOLLENDO"},{"$f":"IFERROR(VLOOKUP(MID(AQ$27,4,4)&$A28,Lista_Ubigeo!$J:$K,2,0),\" \")","v":"COTAHUASI"},{"$f":"IFERROR(VLOOKUP(MID(AR$27,5,4)&$A28,Lista_Ubigeo!$J:$K,2,0),\" \")","v":"AYACUCHO"},{"$f":"IFERROR(VLOOKUP(MID(AS$27,5,4)&$A28,Lista_Ubigeo!$J:$K,2,0),\" \")","v":"CANGALLO"},{"$f":"IFERROR(VLOOKUP(MID(AT$27,5,4)&$A28,Lista_Ubigeo!$J:$K,2,0),\" \")","v":"SANCOS"},{"$f":"IFERROR(VLOOKUP(MID(AU$27,5,4)&$A28,Lista_Ubigeo!$J:$K,2,0),\" \")","v":"HUANTA"},{"$f":"IFERROR(VLOOKUP(MID(AV$27,5,4)&$A28,Lista_Ubigeo!$J:$K,2,0),\" \")","v":"SAN MIGUEL"},{"$f":"IFERROR(VLOOKUP(MID(AW$27,5,4)&$A28,Lista_Ubigeo!$J:$K,2,0),\" \")","v":"PUQUIO"},{"$f":"IFERROR(VLOOKUP(MID(AX$27,5,4)&$A28,Lista_Ubigeo!$J:$K,2,0),\" \")","v":"CORACORA"},{"$f":"IFERROR(VLOOKUP(MID(AY$27,5,4)&$A28,Lista_Ubigeo!$J:$K,2,0),\" \")","v":"PAUSA"},{"$f":"IFERROR(VLOOKUP(MID(AZ$27,5,4)&$A28,Lista_Ubigeo!$J:$K,2,0),\" \")","v":"QUEROBAMBA"},{"$f":"IFERROR(VLOOKUP(MID(BA$27,5,4)&$A28,Lista_Ubigeo!$J:$K,2,0),\" \")","v":"HUANCAPI"},{"$f":"IFERROR(VLOOKUP(MID(BB$27,5,4)&$A28,Lista_Ubigeo!$J:$K,2,0),\" \")","v":"VILCAS HUAMAN"},{"$f":"IFERROR(VLOOKUP(MID(BC$27,5,4)&$A28,Lista_Ubigeo!$J:$K,2,0),\" \")","v":"CAJAMARCA"},{"$f":"IFERROR(VLOOKUP(MID(BD$27,5,4)&$A28,Lista_Ubigeo!$J:$K,2,0),\" \")","v":"CAJABAMBA"},{"$f":"IFERROR(VLOOKUP(MID(BE$27,5,4)&$A28,Lista_Ubigeo!$J:$K,2,0),\" \")","v":"CELENDIN"},{"$f":"IFERROR(VLOOKUP(MID(BF$27,5,4)&$A28,Lista_Ubigeo!$J:$K,2,0),\" \")","v":"CHOTA"},{"$f":"IFERROR(VLOOKUP(MID(BG$27,5,4)&$A28,Lista_Ubigeo!$J:$K,2,0),\" \")","v":"CONTUMAZA"},{"$f":"IFERROR(VLOOKUP(MID(BH$27,5,4)&$A28,Lista_Ubigeo!$J:$K,2,0),\" \")","v":"CUTERVO"},{"$f":"IFERROR(VLOOKUP(MID(BI$27,5,4)&$A28,Lista_Ubigeo!$J:$K,2,0),\" \")","v":"BAMBAMARCA"},{"$f":"IFERROR(VLOOKUP(MID(BJ$27,5,4)&$A28,Lista_Ubigeo!$J:$K,2,0),\" \")","v":"JAEN"},{"$f":"IFERROR(VLOOKUP(MID(BK$27,5,4)&$A28,Lista_Ubigeo!$J:$K,2,0),\" \")","v":"SAN IGNACIO"},{"$f":"IFERROR(VLOOKUP(MID(BL$27,5,4)&$A28,Lista_Ubigeo!$J:$K,2,0),\" \")","v":"PEDRO GALVEZ"},{"$f":"IFERROR(VLOOKUP(MID(BM$27,5,4)&$A28,Lista_Ubigeo!$J:$K,2,0),\" \")","v":"SAN MIGUEL"},{"$f":"IFERROR(VLOOKUP(MID(BN$27,5,4)&$A28,Lista_Ubigeo!$J:$K,2,0),\" \")","v":"SAN PABLO"},{"$f":"IFERROR(VLOOKUP(MID(BO$27,5,4)&$A28,Lista_Ubigeo!$J:$K,2,0),\" \")","v":"SANTA CRUZ"},{"$f":"IFERROR(VLOOKUP(MID(BP$27,5,4)&$A28,Lista_Ubigeo!$J:$K,2,0),\" \")","v":"CALLAO"},{"$f":"IFERROR(VLOOKUP(MID(BQ$27,5,4)&$A28,Lista_Ubigeo!$J:$K,2,0),\" \")","v":"CUSCO"},{"$f":"IFERROR(VLOOKUP(MID(BR$27,5,4)&$A28,Lista_Ubigeo!$J:$K,2,0),\" \")","v":"ACOMAYO"},{"$f":"IFERROR(VLOOKUP(MID(BS$27,5,4)&$A28,Lista_Ubigeo!$J:$K,2,0),\" \")","v":"ANTA"},{"$f":"IFERROR(VLOOKUP(MID(BT$27,5,4)&$A28,Lista_Ubigeo!$J:$K,2,0),\" \")","v":"CALCA"},{"$f":"IFERROR(VLOOKUP(MID(BU$27,5,4)&$A28,Lista_Ubigeo!$J:$K,2,0),\" \")","v":"YANAOCA"},{"$f":"IFERROR(VLOOKUP(MID(BV$27,5,4)&$A28,Lista_Ubigeo!$J:$K,2,0),\" \")","v":"SICUANI"},{"$f":"IFERROR(VLOOKUP(MID(BW$27,5,4)&$A28,Lista_Ubigeo!$J:$K,2,0),\" \")","v":"SANTO TOMAS"},{"$f":"IFERROR(VLOOKUP(MID(BX$27,5,4)&$A28,Lista_Ubigeo!$J:$K,2,0),\" \")","v":"ESPINAR"},{"$f":"IFERROR(VLOOKUP(MID(BY$27,4,4)&$A28,Lista_Ubigeo!$J:$K,2,0),\" \")","v":"SANTA ANA"},{"$f":"IFERROR(VLOOKUP(MID(BZ$27,5,4)&$A28,Lista_Ubigeo!$J:$K,2,0),\" \")","v":"PARURO"},{"$f":"IFERROR(VLOOKUP(MID(CA$27,5,4)&$A28,Lista_Ubigeo!$J:$K,2,0),\" \")","v":"PAUCARTAMBO"},{"$f":"IFERROR(VLOOKUP(MID(CB$27,5,4)&$A28,Lista_Ubigeo!$J:$K,2,0),\" \")","v":"URCOS"},{"$f":"IFERROR(VLOOKUP(MID(CC$27,5,4)&$A28,Lista_Ubigeo!$J:$K,2,0),\" \")","v":"URUBAMBA"},{"$f":"IFERROR(VLOOKUP(MID(CD$27,5,4)&$A28,Lista_Ubigeo!$J:$K,2,0),\" \")","v":"HUANCAVELICA"},{"$f":"IFERROR(VLOOKUP(MID(CE$27,5,4)&$A28,Lista_Ubigeo!$J:$K,2,0),\" \")","v":"ACOBAMBA"},{"$f":"IFERROR(VLOOKUP(MID(CF$27,5,4)&$A28,Lista_Ubigeo!$J:$K,2,0),\" \")","v":"LIRCAY"},{"$f":"IFERROR(VLOOKUP(MID(CG$27,5,4)&$A28,Lista_Ubigeo!$J:$K,2,0),\" \")","v":"CASTROVIRREYNA"},{"$f":"IFERROR(VLOOKUP(MID(CH$27,5,4)&$A28,Lista_Ubigeo!$J:$K,2,0),\" \")","v":"CHURCAMPA"},{"$f":"IFERROR(VLOOKUP(MID(CI$27,5,4)&$A28,Lista_Ubigeo!$J:$K,2,0),\" \")","v":"HUAYTARA"},{"$f":"IFERROR(VLOOKUP(MID(CJ$27,5,4)&$A28,Lista_Ubigeo!$J:$K,2,0),\" \")","v":"PAMPAS"},{"$f":"IFERROR(VLOOKUP(MID(CK$27,5,4)&$A28,Lista_Ubigeo!$J:$K,2,0),\" \")","v":"HUANUCO"},{"$f":"IFERROR(VLOOKUP(MID(CL$27,5,4)&$A28,Lista_Ubigeo!$J:$K,2,0),\" \")","v":"AMBO"},{"$f":"IFERROR(VLOOKUP(MID(CM$27,5,4)&$A28,Lista_Ubigeo!$J:$K,2,0),\" \")","v":"LA UNION"},{"$f":"IFERROR(VLOOKUP(MID(CN$27,5,4)&$A28,Lista_Ubigeo!$J:$K,2,0),\" \")","v":"HUACAYBAMBA"},{"$f":"IFERROR(VLOOKUP(MID(CO$27,5,4)&$A28,Lista_Ubigeo!$J:$K,2,0),\" \")","v":"LLATA"},{"$f":"IFERROR(VLOOKUP(MID(CP$27,5,4)&$A28,Lista_Ubigeo!$J:$K,2,0),\" \")","v":"RUPA-RUPA"},{"$f":"IFERROR(VLOOKUP(MID(CQ$27,5,4)&$A28,Lista_Ubigeo!$J:$K,2,0),\" \")","v":"HUACRACHUCO"},{"$f":"IFERROR(VLOOKUP(MID(CR$27,5,4)&$A28,Lista_Ubigeo!$J:$K,2,0),\" \")","v":"PANAO"},{"$f":"IFERROR(VLOOKUP(MID(CS$27,5,4)&$A28,Lista_Ubigeo!$J:$K,2,0),\" \")","v":"PUERTO INCA"},{"$f":"IFERROR(VLOOKUP(MID(CT$27,5,4)&$A28,Lista_Ubigeo!$J:$K,2,0),\" \")","v":"JESUS"},{"$f":"IFERROR(VLOOKUP(MID(CU$27,5,4)&$A28,Lista_Ubigeo!$J:$K,2,0),\" \")","v":"CHAVINILLO"},{"$f":"IFERROR(VLOOKUP(MID(CV$27,5,4)&$A28,Lista_Ubigeo!$J:$K,2,0),\" \")","v":"ICA"},{"$f":"IFERROR(VLOOKUP(MID(CW$27,5,4)&$A28,Lista_Ubigeo!$J:$K,2,0),\" \")","v":"CHINCHA ALTA"},{"$f":"IFERROR(VLOOKUP(MID(CX$27,5,4)&$A28,Lista_Ubigeo!$J:$K,2,0),\" \")","v":"NAZCA"},{"$f":"IFERROR(VLOOKUP(MID(CY$27,5,4)&$A28,Lista_Ubigeo!$J:$K,2,0),\" \")","v":"PALPA"},{"$f":"IFERROR(VLOOKUP(MID(CZ$27,5,4)&$A28,Lista_Ubigeo!$J:$K,2,0),\" \")","v":"PISCO"},{"$f":"IFERROR(VLOOKUP(MID(DA$27,5,4)&$A28,Lista_Ubigeo!$J:$K,2,0),\" \")","v":"HUANCAYO"},{"$f":"IFERROR(VLOOKUP(MID(DB$27,5,4)&$A28,Lista_Ubigeo!$J:$K,2,0),\" \")","v":"CONCEPCION"},{"$f":"IFERROR(VLOOKUP(MID(DC$27,5,4)&$A28,Lista_Ubigeo!$J:$K,2,0),\" \")","v":"CHANCHAMAYO"},{"$f":"IFERROR(VLOOKUP(MID(DD$27,5,4)&$A28,Lista_Ubigeo!$J:$K,2,0),\" \")","v":"JAUJA"},{"$f":"IFERROR(VLOOKUP(MID(DE$27,5,4)&$A28,Lista_Ubigeo!$J:$K,2,0),\" \")","v":"JUNIN"},{"$f":"IFERROR(VLOOKUP(MID(DF$27,5,4)&$A28,Lista_Ubigeo!$J:$K,2,0),\" \")","v":"SATIPO"},{"$f":"IFERROR(VLOOKUP(MID(DG$27,5,4)&$A28,Lista_Ubigeo!$J:$K,2,0),\" \")","v":"TARMA"},{"$f":"IFERROR(VLOOKUP(MID(DH$27,5,4)&$A28,Lista_Ubigeo!$J:$K,2,0),\" \")","v":"LA OROYA"},{"$f":"IFERROR(VLOOKUP(MID(DI$27,5,4)&$A28,Lista_Ubigeo!$J:$K,2,0),\" \")","v":"CHUPACA"},{"$f":"IFERROR(VLOOKUP(MID(DJ$27,5,4)&$A28,Lista_Ubigeo!$J:$K,2,0),\" \")","v":"TRUJILLO"},{"$f":"IFERROR(VLOOKUP(MID(DK$27,5,4)&$A28,Lista_Ubigeo!$J:$K,2,0),\" \")","v":"ASCOPE"},{"$f":"IFERROR(VLOOKUP(MID(DL$27,5,4)&$A28,Lista_Ubigeo!$J:$K,2,0),\" \")","v":"BOLIVAR"},{"$f":"IFERROR(VLOOKUP(MID(DM$27,5,4)&$A28,Lista_Ubigeo!$J:$K,2,0),\" \")","v":"CHEPEN"},{"$f":"IFERROR(VLOOKUP(MID(DN$27,5,4)&$A28,Lista_Ubigeo!$J:$K,2,0),\" \")","v":"JULCAN"},{"$f":"IFERROR(VLOOKUP(MID(DO$27,5,4)&$A28,Lista_Ubigeo!$J:$K,2,0),\" \")","v":"OTUZCO"},{"$f":"IFERROR(VLOOKUP(MID(DP$27,5,4)&$A28,Lista_Ubigeo!$J:$K,2,0),\" \")","v":"SAN PEDRO DE LLOC"},{"$f":"IFERROR(VLOOKUP(MID(DQ$27,5,4)&$A28,Lista_Ubigeo!$J:$K,2,0),\" \")","v":"TAYABAMBA"},{"$f":"IFERROR(VLOOKUP(MID(DR$27,5,4)&$A28,Lista_Ubigeo!$J:$K,2,0),\" \")","v":"HUAMACHUCO"},{"$f":"IFERROR(VLOOKUP(MID(DS$27,5,4)&$A28,Lista_Ubigeo!$J:$K,2,0),\" \")","v":"SANTIAGO DE CHUCO"},{"$f":"IFERROR(VLOOKUP(MID(DT$27,5,4)&$A28,Lista_Ubigeo!$J:$K,2,0),\" \")","v":"CASCAS"},{"$f":"IFERROR(VLOOKUP(MID(DU$27,5,4)&$A28,Lista_Ubigeo!$J:$K,2,0),\" \")","v":"VIRU"},{"$f":"IFERROR(VLOOKUP(MID(DV$27,5,4)&$A28,Lista_Ubigeo!$J:$K,2,0),\" \")","v":"CHICLAYO"},{"$f":"IFERROR(VLOOKUP(MID(DW$27,5,4)&$A28,Lista_Ubigeo!$J:$K,2,0),\" \")","v":"FERREÑAFE"},{"$f":"IFERROR(VLOOKUP(MID(DX$27,5,4)&$A28,Lista_Ubigeo!$J:$K,2,0),\" \")","v":"LAMBAYEQUE"},{"$f":"IFERROR(VLOOKUP(MID(DY$27,5,4)&$A28,Lista_Ubigeo!$J:$K,2,0),\" \")","v":"LIMA"},{"$f":"IFERROR(VLOOKUP(MID(DZ$27,5,4)&$A28,Lista_Ubigeo!$J:$K,2,0),\" \")","v":"BARRANCA"},{"$f":"IFERROR(VLOOKUP(MID(EA$27,5,4)&$A28,Lista_Ubigeo!$J:$K,2,0),\" \")","v":"CAJATAMBO"},{"$f":"IFERROR(VLOOKUP(MID(EB$27,5,4)&$A28,Lista_Ubigeo!$J:$K,2,0),\" \")","v":"CANTA"},{"$f":"IFERROR(VLOOKUP(MID(EC$27,5,4)&$A28,Lista_Ubigeo!$J:$K,2,0),\" \")","v":"SAN VICENTE DE CAÑETE"},{"$f":"IFERROR(VLOOKUP(MID(ED$27,5,4)&$A28,Lista_Ubigeo!$J:$K,2,0),\" \")","v":"HUARAL"},{"$f":"IFERROR(VLOOKUP(MID(EE$27,5,4)&$A28,Lista_Ubigeo!$J:$K,2,0),\" \")","v":"MATUCANA"},{"$f":"IFERROR(VLOOKUP(MID(EF$27,5,4)&$A28,Lista_Ubigeo!$J:$K,2,0),\" \")","v":"HUACHO"},{"$f":"IFERROR(VLOOKUP(MID(EG$27,5,4)&$A28,Lista_Ubigeo!$J:$K,2,0),\" \")","v":"OYON"},{"$f":"IFERROR(VLOOKUP(MID(EH$27,5,4)&$A28,Lista_Ubigeo!$J:$K,2,0),\" \")","v":"YAUYOS"},{"$f":"IFERROR(VLOOKUP(MID(EI$27,5,4)&$A28,Lista_Ubigeo!$J:$K,2,0),\" \")","v":"IQUITOS"},{"$f":"IFERROR(VLOOKUP(MID(EJ$27,5,4)&$A28,Lista_Ubigeo!$J:$K,2,0),\" \")","v":"YURIMAGUAS"},{"$f":"IFERROR(VLOOKUP(MID(EK$27,5,4)&$A28,Lista_Ubigeo!$J:$K,2,0),\" \")","v":"NAUTA"},{"$f":"IFERROR(VLOOKUP(MID(EL$27,5,4)&$A28,Lista_Ubigeo!$J:$K,2,0),\" \")","v":"RAMON CASTILLA"},{"$f":"IFERROR(VLOOKUP(MID(EM$27,5,4)&$A28,Lista_Ubigeo!$J:$K,2,0),\" \")","v":"REQUENA"},{"$f":"IFERROR(VLOOKUP(MID(EN$27,5,4)&$A28,Lista_Ubigeo!$J:$K,2,0),\" \")","v":"CONTAMANA"},{"$f":"IFERROR(VLOOKUP(MID(EO$27,5,4)&$A28,Lista_Ubigeo!$J:$K,2,0),\" \")","v":"BARRANCA"},{"$f":"IFERROR(VLOOKUP(MID(EP$27,5,4)&$A28,Lista_Ubigeo!$J:$K,2,0),\" \")","v":"PUTUMAYO"},{"$f":"IFERROR(VLOOKUP(MID(EQ$27,5,4)&$A28,Lista_Ubigeo!$J:$K,2,0),\" \")","v":"TAMBOPATA"},{"$f":"IFERROR(VLOOKUP(MID(ER$27,5,4)&$A28,Lista_Ubigeo!$J:$K,2,0),\" \")","v":"MANU"},{"$f":"IFERROR(VLOOKUP(MID(ES$27,5,4)&$A28,Lista_Ubigeo!$J:$K,2,0),\" \")","v":"IÑAPARI"},{"$f":"IFERROR(VLOOKUP(MID(ET$27,5,4)&$A28,Lista_Ubigeo!$J:$K,2,0),\" \")","v":"MOQUEGUA"},{"$f":"IFERROR(VLOOKUP(MID(EU$27,5,4)&$A28,Lista_Ubigeo!$J:$K,2,0),\" \")","v":"OMATE"},{"$f":"IFERROR(VLOOKUP(MID(EV$27,5,4)&$A28,Lista_Ubigeo!$J:$K,2,0),\" \")","v":"ILO"},{"$f":"IFERROR(VLOOKUP(MID(EW$27,5,4)&$A28,Lista_Ubigeo!$J:$K,2,0),\" \")","v":"CHAUPIMARCA"},{"$f":"IFERROR(VLOOKUP(MID(EX$27,5,4)&$A28,Lista_Ubigeo!$J:$K,2,0),\" \")","v":"YANAHUANCA"},{"$f":"IFERROR(VLOOKUP(MID(EY$27,5,4)&$A28,Lista_Ubigeo!$J:$K,2,0),\" \")","v":"OXAPAMPA"},{"$f":"IFERROR(VLOOKUP(MID(EZ$27,5,4)&$A28,Lista_Ubigeo!$J:$K,2,0),\" \")","v":"PIURA"},{"$f":"IFERROR(VLOOKUP(MID(FA$27,5,4)&$A28,Lista_Ubigeo!$J:$K,2,0),\" \")","v":"AYABACA"},{"$f":"IFERROR(VLOOKUP(MID(FB$27,5,4)&$A28,Lista_Ubigeo!$J:$K,2,0),\" \")","v":"HUANCABAMBA"},{"$f":"IFERROR(VLOOKUP(MID(FC$27,5,4)&$A28,Lista_Ubigeo!$J:$K,2,0),\" \")","v":"CHULUCANAS"},{"$f":"IFERROR(VLOOKUP(MID(FD$27,5,4)&$A28,Lista_Ubigeo!$J:$K,2,0),\" \")","v":"PAITA"},{"$f":"IFERROR(VLOOKUP(MID(FE$27,5,4)&$A28,Lista_Ubigeo!$J:$K,2,0),\" \")","v":"SULLANA"},{"$f":"IFERROR(VLOOKUP(MID(FF$27,5,4)&$A28,Lista_Ubigeo!$J:$K,2,0),\" \")","v":"PARIÑAS"},{"$f":"IFERROR(VLOOKUP(MID(FG$27,5,4)&$A28,Lista_Ubigeo!$J:$K,2,0),\" \")","v":"SECHURA"},{"$f":"IFERROR(VLOOKUP(MID(FH$27,5,4)&$A28,Lista_Ubigeo!$J:$K,2,0),\" \")","v":"PUNO"},{"$f":"IFERROR(VLOOKUP(MID(FI$27,5,4)&$A28,Lista_Ubigeo!$J:$K,2,0),\" \")","v":"AZANGARO"},{"$f":"IFERROR(VLOOKUP(MID(FJ$27,5,4)&$A28,Lista_Ubigeo!$J:$K,2,0),\" \")","v":"MACUSANI"},{"$f":"IFERROR(VLOOKUP(MID(FK$27,5,4)&$A28,Lista_Ubigeo!$J:$K,2,0),\" \")","v":"JULI"},{"$f":"IFERROR(VLOOKUP(MID(FL$27,5,4)&$A28,Lista_Ubigeo!$J:$K,2,0),\" \")","v":"ILAVE"},{"$f":"IFERROR(VLOOKUP(MID(FM$27,5,4)&$A28,Lista_Ubigeo!$J:$K,2,0),\" \")","v":"HUANCANE"},{"$f":"IFERROR(VLOOKUP(MID(FN$27,5,4)&$A28,Lista_Ubigeo!$J:$K,2,0),\" \")","v":"LAMPA"},{"$f":"IFERROR(VLOOKUP(MID(FO$27,5,4)&$A28,Lista_Ubigeo!$J:$K,2,0),\" \")","v":"AYAVIRI"},{"$f":"IFERROR(VLOOKUP(MID(FP$27,5,4)&$A28,Lista_Ubigeo!$J:$K,2,0),\" \")","v":"MOHO"},{"$f":"IFERROR(VLOOKUP(MID(FQ$27,5,4)&$A28,Lista_Ubigeo!$J:$K,2,0),\" \")","v":"PUTINA"},{"$f":"IFERROR(VLOOKUP(MID(FR$27,5,4)&$A28,Lista_Ubigeo!$J:$K,2,0),\" \")","v":"JULIACA"},{"$f":"IFERROR(VLOOKUP(MID(FS$27,5,4)&$A28,Lista_Ubigeo!$J:$K,2,0),\" \")","v":"SANDIA"},{"$f":"IFERROR(VLOOKUP(MID(FT$27,5,4)&$A28,Lista_Ubigeo!$J:$K,2,0),\" \")","v":"YUNGUYO"},{"$f":"IFERROR(VLOOKUP(MID(FU$27,5,4)&$A28,Lista_Ubigeo!$J:$K,2,0),\" \")","v":"MOYOBAMBA"},{"$f":"IFERROR(VLOOKUP(MID(FV$27,5,4)&$A28,Lista_Ubigeo!$J:$K,2,0),\" \")","v":"BELLAVISTA"},{"$f":"IFERROR(VLOOKUP(MID(FW$27,5,4)&$A28,Lista_Ubigeo!$J:$K,2,0),\" \")","v":"SAN JOSE DE SISA"},{"$f":"IFERROR(VLOOKUP(MID(FX$27,5,4)&$A28,Lista_Ubigeo!$J:$K,2,0),\" \")","v":"SAPOSOA"},{"$f":"IFERROR(VLOOKUP(MID(FY$27,5,4)&$A28,Lista_Ubigeo!$J:$K,2,0),\" \")","v":"LAMAS"},{"$f":"IFERROR(VLOOKUP(MID(FZ$27,5,4)&$A28,Lista_Ubigeo!$J:$K,2,0),\" \")","v":"JUANJUI"},{"$f":"IFERROR(VLOOKUP(MID(GA$27,5,4)&$A28,Lista_Ubigeo!$J:$K,2,0),\" \")","v":"PICOTA"},{"$f":"IFERROR(VLOOKUP(MID(GB$27,5,4)&$A28,Lista_Ubigeo!$J:$K,2,0),\" \")","v":"RIOJA"},{"$f":"IFERROR(VLOOKUP(MID(GC$27,5,4)&$A28,Lista_Ubigeo!$J:$K,2,0),\" \")","v":"TARAPOTO"},{"$f":"IFERROR(VLOOKUP(MID(GD$27,5,4)&$A28,Lista_Ubigeo!$J:$K,2,0),\" \")","v":"TOCACHE"},{"$f":"IFERROR(VLOOKUP(MID(GE$27,5,4)&$A28,Lista_Ubigeo!$J:$K,2,0),\" \")","v":"TACNA"},{"$f":"IFERROR(VLOOKUP(MID(GF$27,5,4)&$A28,Lista_Ubigeo!$J:$K,2,0),\" \")","v":"CANDARAVE"},{"$f":"IFERROR(VLOOKUP(MID(GG$27,5,4)&$A28,Lista_Ubigeo!$J:$K,2,0),\" \")","v":"LOCUMBA"},{"$f":"IFERROR(VLOOKUP(MID(GH$27,5,4)&$A28,Lista_Ubigeo!$J:$K,2,0),\" \")","v":"TARATA"},{"$f":"IFERROR(VLOOKUP(MID(GI$27,5,4)&$A28,Lista_Ubigeo!$J:$K,2,0),\" \")","v":"TUMBES"},{"$f":"IFERROR(VLOOKUP(MID(GJ$27,5,4)&$A28,Lista_Ubigeo!$J:$K,2,0),\" \")","v":"ZORRITOS"},{"$f":"IFERROR(VLOOKUP(MID(GK$27,5,4)&$A28,Lista_Ubigeo!$J:$K,2,0),\" \")","v":"ZARUMILLA"},{"$f":"IFERROR(VLOOKUP(MID(GL$27,5,4)&$A28,Lista_Ubigeo!$J:$K,2,0),\" \")","v":"CALLERIA"},{"$f":"IFERROR(VLOOKUP(MID(GM$27,5,4)&$A28,Lista_Ubigeo!$J:$K,2,0),\" \")","v":"RAYMONDI"},{"$f":"IFERROR(VLOOKUP(MID(GN$27,5,4)&$A28,Lista_Ubigeo!$J:$K,2,0),\" \")","v":"PADRE ABAD"},{"$f":"IFERROR(VLOOKUP(MID(GO$27,5,4)&$A28,Lista_Ubigeo!$J:$K,2,0),\" \")","v":"PURUS"},{"$f":"IFERROR(VLOOKUP(MID(GP$27,5,4)&$A28,Lista_Ubigeo!$J:$K,2,0),\" \")","v":"AZANGARO"}]
["02",{"$f":"IFERROR(VLOOKUP(MID(B$27,5,4)&$A29,Lista_Ubigeo!$J:$K,2,0),\" \")","v":"ASUNCION"},{"$f":"IFERROR(VLOOKUP(MID(C$27,5,4)&$A29,Lista_Ubigeo!$J:$K,2,0),\" \")","v":"ARAMANGO"},{"$f":"IFERROR(VLOOKUP(MID(D$27,5,4)&$A29,Lista_Ubigeo!$J:$K,2,0),\" \")","v":"CHISQUILLA"},{"$f":"IFERROR(VLOOKUP(MID(E$27,5,4)&$A29,Lista_Ubigeo!$J:$K,2,0),\" \")","v":"EL CENEPA"},{"$f":"IFERROR(VLOOKUP(MID(F$27,5,4)&$A29,Lista_Ubigeo!$J:$K,2,0),\" \")","v":"CAMPORREDONDO"},{"$f":"IFERROR(VLOOKUP(MID(G$27,5,4)&$A29,Lista_Ubigeo!$J:$K,2,0),\" \")","v":"CHIRIMOTO"},{"$f":"IFERROR(VLOOKUP(MID(H$27,5,4)&$A29,Lista_Ubigeo!$J:$K,2,0),\" \")","v":"CAJARURO"},{"$f":"IFERROR(VLOOKUP(MID(I$27,5,4)&$A29,Lista_Ubigeo!$J:$K,2,0),\" \")","v":"COCHABAMBA"},{"$f":"IFERROR(VLOOKUP(MID(J$27,5,4)&$A29,Lista_Ubigeo!$J:$K,2,0),\" \")","v":"CORIS"},{"$f":"IFERROR(VLOOKUP(MID(K$27,5,4)&$A29,Lista_Ubigeo!$J:$K,2,0),\" \")","v":"ACZO"},{"$f":"IFERROR(VLOOKUP(MID(L$27,5,4)&$A29,Lista_Ubigeo!$J:$K,2,0),\" \")","v":"ACOCHACA"},{"$f":"IFERROR(VLOOKUP(MID(M$27,5,4)&$A29,Lista_Ubigeo!$J:$K,2,0),\" \")","v":"ABELARDO PARDO LEZAMETA"},{"$f":"IFERROR(VLOOKUP(MID(N$27,5,4)&$A29,Lista_Ubigeo!$J:$K,2,0),\" \")","v":"ACOPAMPA"},{"$f":"IFERROR(VLOOKUP(MID(O$27,5,4)&$A29,Lista_Ubigeo!$J:$K,2,0),\" \")","v":"SAN NICOLAS"},{"$f":"IFERROR(VLOOKUP(MID(P$27,5,4)&$A29,Lista_Ubigeo!$J:$K,2,0),\" \")","v":"BUENA VISTA ALTA"},{"$f":"IFERROR(VLOOKUP(MID(Q$27,5,4)&$A29,Lista_Ubigeo!$J:$K,2,0),\" \")","v":"ACO"},{"$f":"IFERROR(VLOOKUP(MID(R$27,5,4)&$A29,Lista_Ubigeo!$J:$K,2,0),\" \")","v":"ANRA"},{"$f":"IFERROR(VLOOKUP(MID(S$27,5,4)&$A29,Lista_Ubigeo!$J:$K,2,0),\" \")","v":"COCHAPETI"},{"$f":"IFERROR(VLOOKUP(MID(T$27,5,4)&$A29,Lista_Ubigeo!$J:$K,2,0),\" \")","v":"HUALLANCA"},{"$f":"IFERROR(VLOOKUP(MID(U$27,5,4)&$A29,Lista_Ubigeo!$J:$K,2,0),\" \")","v":"CASCA"},{"$f":"IFERROR(VLOOKUP(MID(V$27,5,4)&$A29,Lista_Ubigeo!$J:$K,2,0),\" \")","v":"ACAS"},{"$f":"IFERROR(VLOOKUP(MID(W$27,5,4)&$A29,Lista_Ubigeo!$J:$K,2,0),\" \")","v":"BOLOGNESI"},{"$f":"IFERROR(VLOOKUP(MID(X$27,5,4)&$A29,Lista_Ubigeo!$J:$K,2,0),\" \")","v":"HUAYLLAN"},{"$f":"IFERROR(VLOOKUP(MID(Y$27,5,4)&$A29,Lista_Ubigeo!$J:$K,2,0),\" \")","v":"CATAC"},{"$f":"IFERROR(VLOOKUP(MID(Z$27,5,4)&$A29,Lista_Ubigeo!$J:$K,2,0),\" \")","v":"CACERES DEL PERU"},{"$f":"IFERROR(VLOOKUP(MID(AA$27,5,4)&$A29,Lista_Ubigeo!$J:$K,2,0),\" \")","v":"ACOBAMBA"},{"$f":"IFERROR(VLOOKUP(MID(AB$27,5,4)&$A29,Lista_Ubigeo!$J:$K,2,0),\" \")","v":"CASCAPARA"},{"$f":"IFERROR(VLOOKUP(MID(AC$27,5,4)&$A29,Lista_Ubigeo!$J:$K,2,0),\" \")","v":"CHACOCHE"},{"$f":"IFERROR(VLOOKUP(MID(AD$27,5,4)&$A29,Lista_Ubigeo!$J:$K,2,0),\" \")","v":"ANDARAPA"},{"$f":"IFERROR(VLOOKUP(MID(AE$27,5,4)&$A29,Lista_Ubigeo!$J:$K,2,0),\" \")","v":"EL ORO"},{"$f":"IFERROR(VLOOKUP(MID(AF$27,5,4)&$A29,Lista_Ubigeo!$J:$K,2,0),\" \")","v":"CAPAYA"},{"$f":"IFERROR(VLOOKUP(MID(AG$27,5,4)&$A29,Lista_Ubigeo!$J:$K,2,0),\" \")","v":"COTABAMBAS"},{"$f":"IFERROR(VLOOKUP(MID(AH$27,5,4)&$A29,Lista_Ubigeo!$J:$K,2,0),\" \")","v":"ANCO-HUALLO"},{"$f":"IFERROR(VLOOKUP(MID(AI$27,5,4)&$A29,Lista_Ubigeo!$J:$K,2,0),\" \")","v":"CURPAHUASI"},{"$f":"IFERROR(VLOOKUP(MID(AJ$27,5,4)&$A29,Lista_Ubigeo!$J:$K,2,0),\" \")","v":"ALTO SELVA ALEGRE"},{"$f":"IFERROR(VLOOKUP(MID(AK$27,5,4)&$A29,Lista_Ubigeo!$J:$K,2,0),\" \")","v":"JOSE MARIA QUIMPER"},{"$f":"IFERROR(VLOOKUP(MID(AL$27,5,4)&$A29,Lista_Ubigeo!$J:$K,2,0),\" \")","v":"ACARI"},{"$f":"IFERROR(VLOOKUP(MID(AM$27,5,4)&$A29,Lista_Ubigeo!$J:$K,2,0),\" \")","v":"ANDAGUA"},{"$f":"IFERROR(VLOOKUP(MID(AN$27,5,4)&$A29,Lista_Ubigeo!$J:$K,2,0),\" \")","v":"ACHOMA"},{"$f":"IFERROR(VLOOKUP(MID(AO$27,5,4)&$A29,Lista_Ubigeo!$J:$K,2,0),\" \")","v":"ANDARAY"},{"$f":"IFERROR(VLOOKUP(MID(AP$27,5,4)&$A29,Lista_Ubigeo!$J:$K,2,0),\" \")","v":"COCACHACRA"},{"$f":"IFERROR(VLOOKUP(MID(AQ$27,4,4)&$A29,Lista_Ubigeo!$J:$K,2,0),\" \")","v":"ALCA"},{"$f":"IFERROR(VLOOKUP(MID(AR$27,5,4)&$A29,Lista_Ubigeo!$J:$K,2,0),\" \")","v":"ACOCRO"},{"$f":"IFERROR(VLOOKUP(MID(AS$27,5,4)&$A29,Lista_Ubigeo!$J:$K,2,0),\" \")","v":"CHUSCHI"},{"$f":"IFERROR(VLOOKUP(MID(AT$27,5,4)&$A29,Lista_Ubigeo!$J:$K,2,0),\" \")","v":"CARAPO"},{"$f":"IFERROR(VLOOKUP(MID(AU$27,5,4)&$A29,Lista_Ubigeo!$J:$K,2,0),\" \")","v":"AYAHUANCO"},{"$f":"IFERROR(VLOOKUP(MID(AV$27,5,4)&$A29,Lista_Ubigeo!$J:$K,2,0),\" \")","v":"ANCO"},{"$f":"IFERROR(VLOOKUP(MID(AW$27,5,4)&$A29,Lista_Ubigeo!$J:$K,2,0),\" \")","v":"AUCARA"},{"$f":"IFERROR(VLOOKUP(MID(AX$27,5,4)&$A29,Lista_Ubigeo!$J:$K,2,0),\" \")","v":"CHUMPI"},{"$f":"IFERROR(VLOOKUP(MID(AY$27,5,4)&$A29,Lista_Ubigeo!$J:$K,2,0),\" \")","v":"COLTA"},{"$f":"IFERROR(VLOOKUP(MID(AZ$27,5,4)&$A29,Lista_Ubigeo!$J:$K,2,0),\" \")","v":"BELEN"},{"$f":"IFERROR(VLOOKUP(MID(BA$27,5,4)&$A29,Lista_Ubigeo!$J:$K,2,0),\" \")","v":"ALCAMENCA"},{"$f":"IFERROR(VLOOKUP(MID(BB$27,5,4)&$A29,Lista_Ubigeo!$J:$K,2,0),\" \")","v":"ACCOMARCA"},{"$f":"IFERROR(VLOOKUP(MID(BC$27,5,4)&$A29,Lista_Ubigeo!$J:$K,2,0),\" \")","v":"ASUNCION"},{"$f":"IFERROR(VLOOKUP(MID(BD$27,5,4)&$A29,Lista_Ubigeo!$J:$K,2,0),\" \")","v":"CACHACHI"},{"$f":"IFERROR(VLOOKUP(MID(BE$27,5,4)&$A29,Lista_Ubigeo!$J:$K,2,0),\" \")","v":"CHUMUCH"},{"$f":"IFERROR(VLOOKUP(MID(BF$27,5,4)&$A29,Lista_Ubigeo!$J:$K,2,0),\" \")","v":"ANGUIA"},{"$f":"IFERROR(VLOOKUP(MID(BG$27,5,4)&$A29,Lista_Ubigeo!$J:$K,2,0),\" \")","v":"CHILETE"},{"$f":"IFERROR(VLOOKUP(MID(BH$27,5,4)&$A29,Lista_Ubigeo!$J:$K,2,0),\" \")","v":"CALLAYUC"},{"$f":"IFERROR(VLOOKUP(MID(BI$27,5,4)&$A29,Lista_Ubigeo!$J:$K,2,0),\" \")","v":"CHUGUR"},{"$f":"IFERROR(VLOOKUP(MID(BJ$27,5,4)&$A29,Lista_Ubigeo!$J:$K,2,0),\" \")","v":"BELLAVISTA"},{"$f":"IFERROR(VLOOKUP(MID(BK$27,5,4)&$A29,Lista_Ubigeo!$J:$K,2,0),\" \")","v":"CHIRINOS"},{"$f":"IFERROR(VLOOKUP(MID(BL$27,5,4)&$A29,Lista_Ubigeo!$J:$K,2,0),\" \")","v":"CHANCAY"},{"$f":"IFERROR(VLOOKUP(MID(BM$27,5,4)&$A29,Lista_Ubigeo!$J:$K,2,0),\" \")","v":"BOLIVAR"},{"$f":"IFERROR(VLOOKUP(MID(BN$27,5,4)&$A29,Lista_Ubigeo!$J:$K,2,0),\" \")","v":"SAN BERNARDINO"},{"$f":"IFERROR(VLOOKUP(MID(BO$27,5,4)&$A29,Lista_Ubigeo!$J:$K,2,0),\" \")","v":"ANDABAMBA"},{"$f":"IFERROR(VLOOKUP(MID(BP$27,5,4)&$A29,Lista_Ubigeo!$J:$K,2,0),\" \")","v":"BELLAVISTA"},{"$f":"IFERROR(VLOOKUP(MID(BQ$27,5,4)&$A29,Lista_Ubigeo!$J:$K,2,0),\" \")","v":"CCORCA"},{"$f":"IFERROR(VLOOKUP(MID(BR$27,5,4)&$A29,Lista_Ubigeo!$J:$K,2,0),\" \")","v":"ACOPIA"},{"$f":"IFERROR(VLOOKUP(MID(BS$27,5,4)&$A29,Lista_Ubigeo!$J:$K,2,0),\" \")","v":"ANCAHUASI"},{"$f":"IFERROR(VLOOKUP(MID(BT$27,5,4)&$A29,Lista_Ubigeo!$J:$K,2,0),\" \")","v":"COYA"},{"$f":"IFERROR(VLOOKUP(MID(BU$27,5,4)&$A29,Lista_Ubigeo!$J:$K,2,0),\" \")","v":"CHECCA"},{"$f":"IFERROR(VLOOKUP(MID(BV$27,5,4)&$A29,Lista_Ubigeo!$J:$K,2,0),\" \")","v":"CHECACUPE"},{"$f":"IFERROR(VLOOKUP(MID(BW$27,5,4)&$A29,Lista_Ubigeo!$J:$K,2,0),\" \")","v":"CAPACMARCA"},{"$f":"IFERROR(VLOOKUP(MID(BX$27,5,4)&$A29,Lista_Ubigeo!$J:$K,2,0),\" \")","v":"CONDOROMA"},{"$f":"IFERROR(VLOOKUP(MID(BY$27,4,4)&$A29,Lista_Ubigeo!$J:$K,2,0),\" \")","v":"ECHARATE"},{"$f":"IFERROR(VLOOKUP(MID(BZ$27,5,4)&$A29,Lista_Ubigeo!$J:$K,2,0),\" \")","v":"ACCHA"},{"$f":"IFERROR(VLOOKUP(MID(CA$27,5,4)&$A29,Lista_Ubigeo!$J:$K,2,0),\" \")","v":"CAICAY"},{"$f":"IFERROR(VLOOKUP(MID(CB$27,5,4)&$A29,Lista_Ubigeo!$J:$K,2,0),\" \")","v":"ANDAHUAYLILLAS"},{"$f":"IFERROR(VLOOKUP(MID(CC$27,5,4)&$A29,Lista_Ubigeo!$J:$K,2,0),\" \")","v":"CHINCHERO"},{"$f":"IFERROR(VLOOKUP(MID(CD$27,5,4)&$A29,Lista_Ubigeo!$J:$K,2,0),\" \")","v":"ACOBAMBILLA"},{"$f":"IFERROR(VLOOKUP(MID(CE$27,5,4)&$A29,Lista_Ubigeo!$J:$K,2,0),\" \")","v":"ANDABAMBA"},{"$f":"IFERROR(VLOOKUP(MID(CF$27,5,4)&$A29,Lista_Ubigeo!$J:$K,2,0),\" \")","v":"ANCHONGA"},{"$f":"IFERROR(VLOOKUP(MID(CG$27,5,4)&$A29,Lista_Ubigeo!$J:$K,2,0),\" \")","v":"ARMA"},{"$f":"IFERROR(VLOOKUP(MID(CH$27,5,4)&$A29,Lista_Ubigeo!$J:$K,2,0),\" \")","v":"ANCO"},{"$f":"IFERROR(VLOOKUP(MID(CI$27,5,4)&$A29,Lista_Ubigeo!$J:$K,2,0),\" \")","v":"AYAVI"},{"$f":"IFERROR(VLOOKUP(MID(CJ$27,5,4)&$A29,Lista_Ubigeo!$J:$K,2,0),\" \")","v":"ACOSTAMBO"},{"$f":"IFERROR(VLOOKUP(MID(CK$27,5,4)&$A29,Lista_Ubigeo!$J:$K,2,0),\" \")","v":"AMARILIS"},{"$f":"IFERROR(VLOOKUP(MID(CL$27,5,4)&$A29,Lista_Ubigeo!$J:$K,2,0),\" \")","v":"CAYNA"},{"$f":"IFERROR(VLOOKUP(MID(CM$27,5,4)&$A34,Lista_Ubigeo!$J:$K,2,0),\" \")","v":"CHUQUIS"},{"$f":"IFERROR(VLOOKUP(MID(CN$27,5,4)&$A29,Lista_Ubigeo!$J:$K,2,0),\" \")","v":"CANCHABAMBA"},{"$f":"IFERROR(VLOOKUP(MID(CO$27,5,4)&$A29,Lista_Ubigeo!$J:$K,2,0),\" \")","v":"ARANCAY"},{"$f":"IFERROR(VLOOKUP(MID(CP$27,5,4)&$A29,Lista_Ubigeo!$J:$K,2,0),\" \")","v":"DANIEL ALOMIA ROBLES"},{"$f":"IFERROR(VLOOKUP(MID(CQ$27,5,4)&$A29,Lista_Ubigeo!$J:$K,2,0),\" \")","v":"CHOLON"},{"$f":"IFERROR(VLOOKUP(MID(CR$27,5,4)&$A29,Lista_Ubigeo!$J:$K,2,0),\" \")","v":"CHAGLLA"},{"$f":"IFERROR(VLOOKUP(MID(CS$27,5,4)&$A29,Lista_Ubigeo!$J:$K,2,0),\" \")","v":"CODO DEL POZUZO"},{"$f":"IFERROR(VLOOKUP(MID(CT$27,5,4)&$A29,Lista_Ubigeo!$J:$K,2,0),\" \")","v":"BAÑOS"},{"$f":"IFERROR(VLOOKUP(MID(CU$27,5,4)&$A29,Lista_Ubigeo!$J:$K,2,0),\" \")","v":"CAHUAC"},{"$f":"IFERROR(VLOOKUP(MID(CV$27,5,4)&$A29,Lista_Ubigeo!$J:$K,2,0),\" \")","v":"LA TINGUIÑA"},{"$f":"IFERROR(VLOOKUP(MID(CW$27,5,4)&$A29,Lista_Ubigeo!$J:$K,2,0),\" \")","v":"ALTO LARAN"},{"$f":"IFERROR(VLOOKUP(MID(CX$27,5,4)&$A29,Lista_Ubigeo!$J:$K,2,0),\" \")","v":"CHANGUILLO"},{"$f":"IFERROR(VLOOKUP(MID(CY$27,5,4)&$A29,Lista_Ubigeo!$J:$K,2,0),\" \")","v":"LLIPATA"},{"$f":"IFERROR(VLOOKUP(MID(CZ$27,5,4)&$A29,Lista_Ubigeo!$J:$K,2,0),\" \")","v":"HUANCANO"},"CARHUACALLANGA",{"$f":"IFERROR(VLOOKUP(MID(DB$27,5,4)&$A29,Lista_Ubigeo!$J:$K,2,0),\" \")","v":"ACO"},{"$f":"IFERROR(VLOOKUP(MID(DC$27,5,4)&$A29,Lista_Ubigeo!$J:$K,2,0),\" \")","v":"PERENE"},{"$f":"IFERROR(VLOOKUP(MID(DD$27,5,4)&$A29,Lista_Ubigeo!$J:$K,2,0),\" \")","v":"ACOLLA"},{"$f":"IFERROR(VLOOKUP(MID(DE$27,5,4)&$A29,Lista_Ubigeo!$J:$K,2,0),\" \")","v":"CARHUAMAYO"},{"$f":"IFERROR(VLOOKUP(MID(DF$27,5,4)&$A29,Lista_Ubigeo!$J:$K,2,0),\" \")","v":"COVIRIALI"},{"$f":"IFERROR(VLOOKUP(MID(DG$27,5,4)&$A29,Lista_Ubigeo!$J:$K,2,0),\" \")","v":"ACOBAMBA"},{"$f":"IFERROR(VLOOKUP(MID(DH$27,5,4)&$A29,Lista_Ubigeo!$J:$K,2,0),\" \")","v":"CHACAPALPA"},{"$f":"IFERROR(VLOOKUP(MID(DI$27,5,4)&$A29,Lista_Ubigeo!$J:$K,2,0),\" \")","v":"AHUAC"},{"$f":"IFERROR(VLOOKUP(MID(DJ$27,5,4)&$A29,Lista_Ubigeo!$J:$K,2,0),\" \")","v":"EL PORVENIR"},{"$f":"IFERROR(VLOOKUP(MID(DK$27,5,4)&$A29,Lista_Ubigeo!$J:$K,2,0),\" \")","v":"CHICAMA"},{"$f":"IFERROR(VLOOKUP(MID(DL$27,5,4)&$A29,Lista_Ubigeo!$J:$K,2,0),\" \")","v":"BAMBAMARCA"},{"$f":"IFERROR(VLOOKUP(MID(DM$27,5,4)&$A29,Lista_Ubigeo!$J:$K,2,0),\" \")","v":"PACANGA"},{"$f":"IFERROR(VLOOKUP(MID(DN$27,5,4)&$A29,Lista_Ubigeo!$J:$K,2,0),\" \")","v":"CALAMARCA"},{"$f":"IFERROR(VLOOKUP(MID(DO$27,5,4)&$A29,Lista_Ubigeo!$J:$K,2,0),\" \")","v":"AGALLPAMPA"},{"$f":"IFERROR(VLOOKUP(MID(DP$27,5,4)&$A29,Lista_Ubigeo!$J:$K,2,0),\" \")","v":"GUADALUPE"},{"$f":"IFERROR(VLOOKUP(MID(DQ$27,5,4)&$A29,Lista_Ubigeo!$J:$K,2,0),\" \")","v":"BULDIBUYO"},{"$f":"IFERROR(VLOOKUP(MID(DR$27,5,4)&$A29,Lista_Ubigeo!$J:$K,2,0),\" \")","v":"CHUGAY"},{"$f":"IFERROR(VLOOKUP(MID(DS$27,5,4)&$A29,Lista_Ubigeo!$J:$K,2,0),\" \")","v":"ANGASMARCA"},{"$f":"IFERROR(VLOOKUP(MID(DT$27,5,4)&$A29,Lista_Ubigeo!$J:$K,2,0),\" \")","v":"LUCMA"},{"$f":"IFERROR(VLOOKUP(MID(DU$27,5,4)&$A29,Lista_Ubigeo!$J:$K,2,0),\" \")","v":"CHAO"},{"$f":"IFERROR(VLOOKUP(MID(DV$27,5,4)&$A29,Lista_Ubigeo!$J:$K,2,0),\" \")","v":"CHONGOYAPE"},{"$f":"IFERROR(VLOOKUP(MID(DW$27,5,4)&$A29,Lista_Ubigeo!$J:$K,2,0),\" \")","v":"CAÑARIS"},{"$f":"IFERROR(VLOOKUP(MID(DX$27,5,4)&$A29,Lista_Ubigeo!$J:$K,2,0),\" \")","v":"CHOCHOPE"},{"$f":"IFERROR(VLOOKUP(MID(DY$27,5,4)&$A29,Lista_Ubigeo!$J:$K,2,0),\" \")","v":"ANCON"},{"$f":"IFERROR(VLOOKUP(MID(DZ$27,5,4)&$A29,Lista_Ubigeo!$J:$K,2,0),\" \")","v":"PARAMONGA"},{"$f":"IFERROR(VLOOKUP(MID(EA$27,5,4)&$A29,Lista_Ubigeo!$J:$K,2,0),\" \")","v":"COPA"},{"$f":"IFERROR(VLOOKUP(MID(EB$27,5,4)&$A29,Lista_Ubigeo!$J:$K,2,0),\" \")","v":"ARAHUAY"},{"$f":"IFERROR(VLOOKUP(MID(EC$27,5,4)&$A29,Lista_Ubigeo!$J:$K,2,0),\" \")","v":"ASIA"},{"$f":"IFERROR(VLOOKUP(MID(ED$27,5,4)&$A29,Lista_Ubigeo!$J:$K,2,0),\" \")","v":"ATAVILLOS ALTO"},{"$f":"IFERROR(VLOOKUP(MID(EE$27,5,4)&$A29,Lista_Ubigeo!$J:$K,2,0),\" \")","v":"ANTIOQUIA"},{"$f":"IFERROR(VLOOKUP(MID(EF$27,5,4)&$A29,Lista_Ubigeo!$J:$K,2,0),\" \")","v":"AMBAR"},{"$f":"IFERROR(VLOOKUP(MID(EG$27,5,4)&$A29,Lista_Ubigeo!$J:$K,2,0),\" \")","v":"ANDAJES"},{"$f":"IFERROR(VLOOKUP(MID(EH$27,5,4)&$A29,Lista_Ubigeo!$J:$K,2,0),\" \")","v":"ALIS"},{"$f":"IFERROR(VLOOKUP(MID(EI$27,5,4)&$A29,Lista_Ubigeo!$J:$K,2,0),\" \")","v":"ALTO NANAY"},{"$f":"IFERROR(VLOOKUP(MID(EJ$27,5,4)&$A29,Lista_Ubigeo!$J:$K,2,0),\" \")","v":"BALSAPUERTO"},{"$f":"IFERROR(VLOOKUP(MID(EK$27,5,4)&$A29,Lista_Ubigeo!$J:$K,2,0),\" \")","v":"PARINARI"},{"$f":"IFERROR(VLOOKUP(MID(EL$27,5,4)&$A29,Lista_Ubigeo!$J:$K,2,0),\" \")","v":"PEBAS"},{"$f":"IFERROR(VLOOKUP(MID(EM$27,5,4)&$A29,Lista_Ubigeo!$J:$K,2,0),\" \")","v":"ALTO TAPICHE"},{"$f":"IFERROR(VLOOKUP(MID(EN$27,5,4)&$A29,Lista_Ubigeo!$J:$K,2,0),\" \")","v":"INAHUAYA"},{"$f":"IFERROR(VLOOKUP(MID(EO$27,5,4)&$A29,Lista_Ubigeo!$J:$K,2,0),\" \")","v":"CAHUAPANAS"},{"$f":"IFERROR(VLOOKUP(MID(EP$27,5,4)&$A29,Lista_Ubigeo!$J:$K,2,0),\" \")","v":"ROSA PANDURO"},{"$f":"IFERROR(VLOOKUP(MID(EQ$27,5,4)&$A29,Lista_Ubigeo!$J:$K,2,0),\" \")","v":"INAMBARI"},{"$f":"IFERROR(VLOOKUP(MID(ER$27,5,4)&$A29,Lista_Ubigeo!$J:$K,2,0),\" \")","v":"FITZCARRALD"},{"$f":"IFERROR(VLOOKUP(MID(ES$27,5,4)&$A29,Lista_Ubigeo!$J:$K,2,0),\" \")","v":"IBERIA"},{"$f":"IFERROR(VLOOKUP(MID(ET$27,5,4)&$A29,Lista_Ubigeo!$J:$K,2,0),\" \")","v":"CARUMAS"},{"$f":"IFERROR(VLOOKUP(MID(EU$27,5,4)&$A29,Lista_Ubigeo!$J:$K,2,0),\" \")","v":"CHOJATA"},{"$f":"IFERROR(VLOOKUP(MID(EV$27,5,4)&$A29,Lista_Ubigeo!$J:$K,2,0),\" \")","v":"EL ALGARROBAL"},{"$f":"IFERROR(VLOOKUP(MID(EW$27,5,4)&$A29,Lista_Ubigeo!$J:$K,2,0),\" \")","v":"HUACHON"},{"$f":"IFERROR(VLOOKUP(MID(EX$27,5,4)&$A29,Lista_Ubigeo!$J:$K,2,0),\" \")","v":"CHACAYAN"},{"$f":"IFERROR(VLOOKUP(MID(EY$27,5,4)&$A29,Lista_Ubigeo!$J:$K,2,0),\" \")","v":"CHONTABAMBA"},{"$f":"IFERROR(VLOOKUP(MID(EZ$27,5,4)&$A31,Lista_Ubigeo!$J:$K,2,0),\" \")","v":"CASTILLA"},{"$f":"IFERROR(VLOOKUP(MID(FA$27,5,4)&$A29,Lista_Ubigeo!$J:$K,2,0),\" \")","v":"FRIAS"},{"$f":"IFERROR(VLOOKUP(MID(FB$27,5,4)&$A29,Lista_Ubigeo!$J:$K,2,0),\" \")","v":"CANCHAQUE"},{"$f":"IFERROR(VLOOKUP(MID(FC$27,5,4)&$A29,Lista_Ubigeo!$J:$K,2,0),\" \")","v":"BUENOS AIRES"},{"$f":"IFERROR(VLOOKUP(MID(FD$27,5,4)&$A29,Lista_Ubigeo!$J:$K,2,0),\" \")","v":"AMOTAPE"},{"$f":"IFERROR(VLOOKUP(MID(FE$27,5,4)&$A29,Lista_Ubigeo!$J:$K,2,0),\" \")","v":"BELLAVISTA"},{"$f":"IFERROR(VLOOKUP(MID(FF$27,5,4)&$A29,Lista_Ubigeo!$J:$K,2,0),\" \")","v":"EL ALTO"},{"$f":"IFERROR(VLOOKUP(MID(FG$27,5,4)&$A29,Lista_Ubigeo!$J:$K,2,0),\" \")","v":"BELLAVISTA DE LA UNION"},{"$f":"IFERROR(VLOOKUP(MID(FH$27,5,4)&$A29,Lista_Ubigeo!$J:$K,2,0),\" \")","v":"ACORA"},{"$f":"IFERROR(VLOOKUP(MID(FI$27,5,4)&$A29,Lista_Ubigeo!$J:$K,2,0),\" \")","v":"ACHAYA"},{"$f":"IFERROR(VLOOKUP(MID(FJ$27,5,4)&$A29,Lista_Ubigeo!$J:$K,2,0),\" \")","v":"AJOYANI"},{"$f":"IFERROR(VLOOKUP(MID(FK$27,5,4)&$A29,Lista_Ubigeo!$J:$K,2,0),\" \")","v":"DESAGUADERO"},{"$f":"IFERROR(VLOOKUP(MID(FL$27,5,4)&$A29,Lista_Ubigeo!$J:$K,2,0),\" \")","v":"CAPAZO"},{"$f":"IFERROR(VLOOKUP(MID(FM$27,5,4)&$A29,Lista_Ubigeo!$J:$K,2,0),\" \")","v":"COJATA"},{"$f":"IFERROR(VLOOKUP(MID(FN$27,5,4)&$A29,Lista_Ubigeo!$J:$K,2,0),\" \")","v":"CABANILLA"},{"$f":"IFERROR(VLOOKUP(MID(FO$27,5,4)&$A29,Lista_Ubigeo!$J:$K,2,0),\" \")","v":"ANTAUTA"},{"$f":"IFERROR(VLOOKUP(MID(FP$27,5,4)&$A29,Lista_Ubigeo!$J:$K,2,0),\" \")","v":"CONIMA"},{"$f":"IFERROR(VLOOKUP(MID(FQ$27,5,4)&$A29,Lista_Ubigeo!$J:$K,2,0),\" \")","v":"ANANEA"},{"$f":"IFERROR(VLOOKUP(MID(FR$27,5,4)&$A29,Lista_Ubigeo!$J:$K,2,0),\" \")","v":"CABANA"},{"$f":"IFERROR(VLOOKUP(MID(FS$27,5,4)&$A29,Lista_Ubigeo!$J:$K,2,0),\" \")","v":"CUYOCUYO"},{"$f":"IFERROR(VLOOKUP(MID(FT$27,5,4)&$A29,Lista_Ubigeo!$J:$K,2,0),\" \")","v":"ANAPIA"},{"$f":"IFERROR(VLOOKUP(MID(FU$27,5,4)&$A29,Lista_Ubigeo!$J:$K,2,0),\" \")","v":"CALZADA"},{"$f":"IFERROR(VLOOKUP(MID(FV$27,5,4)&$A29,Lista_Ubigeo!$J:$K,2,0),\" \")","v":"ALTO BIAVO"},{"$f":"IFERROR(VLOOKUP(MID(FW$27,5,4)&$A29,Lista_Ubigeo!$J:$K,2,0),\" \")","v":"AGUA BLANCA"},{"$f":"IFERROR(VLOOKUP(MID(FX$27,5,4)&$A29,Lista_Ubigeo!$J:$K,2,0),\" \")","v":"ALTO SAPOSOA"},{"$f":"IFERROR(VLOOKUP(MID(FY$27,5,4)&$A29,Lista_Ubigeo!$J:$K,2,0),\" \")","v":"ALONSO DE ALVARADO"},{"$f":"IFERROR(VLOOKUP(MID(FZ$27,5,4)&$A29,Lista_Ubigeo!$J:$K,2,0),\" \")","v":"CAMPANILLA"},{"$f":"IFERROR(VLOOKUP(MID(GA$27,5,4)&$A29,Lista_Ubigeo!$J:$K,2,0),\" \")","v":"BUENOS AIRES"},{"$f":"IFERROR(VLOOKUP(MID(GB$27,5,4)&$A29,Lista_Ubigeo!$J:$K,2,0),\" \")","v":"AWAJUN"},{"$f":"IFERROR(VLOOKUP(MID(GC$27,5,4)&$A29,Lista_Ubigeo!$J:$K,2,0),\" \")","v":"ALBERTO LEVEAU"},{"$f":"IFERROR(VLOOKUP(MID(GD$27,5,4)&$A29,Lista_Ubigeo!$J:$K,2,0),\" \")","v":"NUEVO PROGRESO"},{"$f":"IFERROR(VLOOKUP(MID(GE$27,5,4)&$A29,Lista_Ubigeo!$J:$K,2,0),\" \")","v":"ALTO DE LA ALIANZA"},{"$f":"IFERROR(VLOOKUP(MID(GF$27,5,4)&$A29,Lista_Ubigeo!$J:$K,2,0),\" \")","v":"CAIRANI"},{"$f":"IFERROR(VLOOKUP(MID(GG$27,5,4)&$A29,Lista_Ubigeo!$J:$K,2,0),\" \")","v":"ILABAYA"},{"$f":"IFERROR(VLOOKUP(MID(GH$27,5,4)&$A29,Lista_Ubigeo!$J:$K,2,0),\" \")","v":"HEROES ALBARRACIN"},{"$f":"IFERROR(VLOOKUP(MID(GI$27,5,4)&$A29,Lista_Ubigeo!$J:$K,2,0),\" \")","v":"CORRALES"},{"$f":"IFERROR(VLOOKUP(MID(GJ$27,5,4)&$A29,Lista_Ubigeo!$J:$K,2,0),\" \")","v":"CASITAS"},{"$f":"IFERROR(VLOOKUP(MID(GK$27,5,4)&$A29,Lista_Ubigeo!$J:$K,2,0),\" \")","v":"AGUAS VERDES"},{"$f":"IFERROR(VLOOKUP(MID(GL$27,5,4)&$A29,Lista_Ubigeo!$J:$K,2,0),\" \")","v":"CAMPOVERDE"},{"$f":"IFERROR(VLOOKUP(MID(GM$27,5,4)&$A29,Lista_Ubigeo!$J:$K,2,0),\" \")","v":"SEPAHUA"},{"$f":"IFERROR(VLOOKUP(MID(GN$27,5,4)&$A29,Lista_Ubigeo!$J:$K,2,0),\" \")","v":"IRAZOLA"},{"$f":"IFERROR(VLOOKUP(MID(GO$27,5,4)&$A29,Lista_Ubigeo!$J:$K,2,0),\" \")","v":" "},{"$f":"IFERROR(VLOOKUP(MID(GP$27,5,4)&$A29,Lista_Ubigeo!$J:$K,2,0),\" \")","v":"ACHAYA"}]
["03",{"$f":"IFERROR(VLOOKUP(MID(B$27,5,4)&$A30,Lista_Ubigeo!$J:$K,2,0),\" \")","v":"BALSAS"},{"$f":"IFERROR(VLOOKUP(MID(C$27,5,4)&$A30,Lista_Ubigeo!$J:$K,2,0),\" \")","v":"COPALLIN"},{"$f":"IFERROR(VLOOKUP(MID(D$27,5,4)&$A30,Lista_Ubigeo!$J:$K,2,0),\" \")","v":"CHURUJA"},{"$f":"IFERROR(VLOOKUP(MID(E$27,5,4)&$A30,Lista_Ubigeo!$J:$K,2,0),\" \")","v":"RIO SANTIAGO"},{"$f":"IFERROR(VLOOKUP(MID(F$27,5,4)&$A30,Lista_Ubigeo!$J:$K,2,0),\" \")","v":"COCABAMBA"},{"$f":"IFERROR(VLOOKUP(MID(G$27,5,4)&$A30,Lista_Ubigeo!$J:$K,2,0),\" \")","v":"COCHAMAL"},{"$f":"IFERROR(VLOOKUP(MID(H$27,5,4)&$A30,Lista_Ubigeo!$J:$K,2,0),\" \")","v":"CUMBA"},{"$f":"IFERROR(VLOOKUP(MID(I$27,5,4)&$A30,Lista_Ubigeo!$J:$K,2,0),\" \")","v":"COLCABAMBA"},{"$f":"IFERROR(VLOOKUP(MID(J$27,5,4)&$A30,Lista_Ubigeo!$J:$K,2,0),\" \")","v":"HUACLLAN"},{"$f":"IFERROR(VLOOKUP(MID(K$27,5,4)&$A30,Lista_Ubigeo!$J:$K,2,0),\" \")","v":"CHACCHO"},{"$f":"IFERROR(VLOOKUP(MID(L$27,5,4)&$A30,Lista_Ubigeo!$J:$K,2,0),\" \")","v":" "},{"$f":"IFERROR(VLOOKUP(MID(M$27,5,4)&$A30,Lista_Ubigeo!$J:$K,2,0),\" \")","v":"ANTONIO RAYMONDI"},{"$f":"IFERROR(VLOOKUP(MID(N$27,5,4)&$A30,Lista_Ubigeo!$J:$K,2,0),\" \")","v":"AMASHCA"},{"$f":"IFERROR(VLOOKUP(MID(O$27,5,4)&$A30,Lista_Ubigeo!$J:$K,2,0),\" \")","v":"YAUYA"},{"$f":"IFERROR(VLOOKUP(MID(P$27,5,4)&$A30,Lista_Ubigeo!$J:$K,2,0),\" \")","v":"COMANDANTE NOEL"},{"$f":"IFERROR(VLOOKUP(MID(Q$27,5,4)&$A30,Lista_Ubigeo!$J:$K,2,0),\" \")","v":"BAMBAS"},{"$f":"IFERROR(VLOOKUP(MID(R$27,5,4)&$A30,Lista_Ubigeo!$J:$K,2,0),\" \")","v":"CAJAY"},{"$f":"IFERROR(VLOOKUP(MID(S$27,5,4)&$A30,Lista_Ubigeo!$J:$K,2,0),\" \")","v":"CULEBRAS"},{"$f":"IFERROR(VLOOKUP(MID(T$27,5,4)&$A30,Lista_Ubigeo!$J:$K,2,0),\" \")","v":"HUATA"},{"$f":"IFERROR(VLOOKUP(MID(U$27,5,4)&$A30,Lista_Ubigeo!$J:$K,2,0),\" \")","v":"ELEAZAR GUZMAN BARRON"},{"$f":"IFERROR(VLOOKUP(MID(V$27,5,4)&$A30,Lista_Ubigeo!$J:$K,2,0),\" \")","v":"CAJAMARQUILLA"},{"$f":"IFERROR(VLOOKUP(MID(W$27,5,4)&$A30,Lista_Ubigeo!$J:$K,2,0),\" \")","v":"CONCHUCOS"},{"$f":"IFERROR(VLOOKUP(MID(X$27,5,4)&$A30,Lista_Ubigeo!$J:$K,2,0),\" \")","v":"PAROBAMBA"},{"$f":"IFERROR(VLOOKUP(MID(Y$27,5,4)&$A30,Lista_Ubigeo!$J:$K,2,0),\" \")","v":"COTAPARACO"},{"$f":"IFERROR(VLOOKUP(MID(Z$27,5,4)&$A30,Lista_Ubigeo!$J:$K,2,0),\" \")","v":"COISHCO"},{"$f":"IFERROR(VLOOKUP(MID(AA$27,5,4)&$A30,Lista_Ubigeo!$J:$K,2,0),\" \")","v":"ALFONSO UGARTE"},{"$f":"IFERROR(VLOOKUP(MID(AB$27,5,4)&$A30,Lista_Ubigeo!$J:$K,2,0),\" \")","v":"MANCOS"},{"$f":"IFERROR(VLOOKUP(MID(AC$27,5,4)&$A30,Lista_Ubigeo!$J:$K,2,0),\" \")","v":"CIRCA"},{"$f":"IFERROR(VLOOKUP(MID(AD$27,5,4)&$A30,Lista_Ubigeo!$J:$K,2,0),\" \")","v":"CHIARA"},{"$f":"IFERROR(VLOOKUP(MID(AE$27,5,4)&$A30,Lista_Ubigeo!$J:$K,2,0),\" \")","v":"HUAQUIRCA"},{"$f":"IFERROR(VLOOKUP(MID(AF$27,5,4)&$A30,Lista_Ubigeo!$J:$K,2,0),\" \")","v":"CARAYBAMBA"},{"$f":"IFERROR(VLOOKUP(MID(AG$27,5,4)&$A30,Lista_Ubigeo!$J:$K,2,0),\" \")","v":"COYLLURQUI"},{"$f":"IFERROR(VLOOKUP(MID(AH$27,5,4)&$A30,Lista_Ubigeo!$J:$K,2,0),\" \")","v":"COCHARCAS"},{"$f":"IFERROR(VLOOKUP(MID(AI$27,5,4)&$A30,Lista_Ubigeo!$J:$K,2,0),\" \")","v":"GAMARRA"},{"$f":"IFERROR(VLOOKUP(MID(AJ$27,5,4)&$A30,Lista_Ubigeo!$J:$K,2,0),\" \")","v":"CAYMA"},{"$f":"IFERROR(VLOOKUP(MID(AK$27,5,4)&$A30,Lista_Ubigeo!$J:$K,2,0),\" \")","v":"MARIANO NICOLAS VALCARCEL"},{"$f":"IFERROR(VLOOKUP(MID(AL$27,5,4)&$A30,Lista_Ubigeo!$J:$K,2,0),\" \")","v":"ATICO"},{"$f":"IFERROR(VLOOKUP(MID(AM$27,5,4)&$A30,Lista_Ubigeo!$J:$K,2,0),\" \")","v":"AYO"},{"$f":"IFERROR(VLOOKUP(MID(AN$27,5,4)&$A30,Lista_Ubigeo!$J:$K,2,0),\" \")","v":"CABANACONDE"},{"$f":"IFERROR(VLOOKUP(MID(AO$27,5,4)&$A30,Lista_Ubigeo!$J:$K,2,0),\" \")","v":"CAYARANI"},{"$f":"IFERROR(VLOOKUP(MID(AP$27,5,4)&$A30,Lista_Ubigeo!$J:$K,2,0),\" \")","v":"DEAN VALDIVIA"},{"$f":"IFERROR(VLOOKUP(MID(AQ$27,4,4)&$A30,Lista_Ubigeo!$J:$K,2,0),\" \")","v":"CHARCANA"},{"$f":"IFERROR(VLOOKUP(MID(AR$27,5,4)&$A30,Lista_Ubigeo!$J:$K,2,0),\" \")","v":"ACOS VINCHOS"},{"$f":"IFERROR(VLOOKUP(MID(AS$27,5,4)&$A30,Lista_Ubigeo!$J:$K,2,0),\" \")","v":"LOS MOROCHUCOS"},{"$f":"IFERROR(VLOOKUP(MID(AT$27,5,4)&$A30,Lista_Ubigeo!$J:$K,2,0),\" \")","v":"SACSAMARCA"},{"$f":"IFERROR(VLOOKUP(MID(AU$27,5,4)&$A30,Lista_Ubigeo!$J:$K,2,0),\" \")","v":"HUAMANGUILLA"},{"$f":"IFERROR(VLOOKUP(MID(AV$27,5,4)&$A30,Lista_Ubigeo!$J:$K,2,0),\" \")","v":"AYNA"},{"$f":"IFERROR(VLOOKUP(MID(AW$27,5,4)&$A30,Lista_Ubigeo!$J:$K,2,0),\" \")","v":"CABANA"},{"$f":"IFERROR(VLOOKUP(MID(AX$27,5,4)&$A30,Lista_Ubigeo!$J:$K,2,0),\" \")","v":"CORONEL CASTAÑEDA"},{"$f":"IFERROR(VLOOKUP(MID(AY$27,5,4)&$A30,Lista_Ubigeo!$J:$K,2,0),\" \")","v":"CORCULLA"},{"$f":"IFERROR(VLOOKUP(MID(AZ$27,5,4)&$A30,Lista_Ubigeo!$J:$K,2,0),\" \")","v":"CHALCOS"},{"$f":"IFERROR(VLOOKUP(MID(BA$27,5,4)&$A30,Lista_Ubigeo!$J:$K,2,0),\" \")","v":"APONGO"},{"$f":"IFERROR(VLOOKUP(MID(BB$27,5,4)&$A30,Lista_Ubigeo!$J:$K,2,0),\" \")","v":"CARHUANCA"},{"$f":"IFERROR(VLOOKUP(MID(BC$27,5,4)&$A30,Lista_Ubigeo!$J:$K,2,0),\" \")","v":"CHETILLA"},{"$f":"IFERROR(VLOOKUP(MID(BD$27,5,4)&$A30,Lista_Ubigeo!$J:$K,2,0),\" \")","v":"CONDEBAMBA"},{"$f":"IFERROR(VLOOKUP(MID(BE$27,5,4)&$A30,Lista_Ubigeo!$J:$K,2,0),\" \")","v":"CORTEGANA"},{"$f":"IFERROR(VLOOKUP(MID(BF$27,5,4)&$A30,Lista_Ubigeo!$J:$K,2,0),\" \")","v":"CHADIN"},{"$f":"IFERROR(VLOOKUP(MID(BG$27,5,4)&$A30,Lista_Ubigeo!$J:$K,2,0),\" \")","v":"CUPISNIQUE"},{"$f":"IFERROR(VLOOKUP(MID(BH$27,5,4)&$A30,Lista_Ubigeo!$J:$K,2,0),\" \")","v":"CHOROS"},{"$f":"IFERROR(VLOOKUP(MID(BI$27,5,4)&$A30,Lista_Ubigeo!$J:$K,2,0),\" \")","v":"HUALGAYOC"},{"$f":"IFERROR(VLOOKUP(MID(BJ$27,5,4)&$A30,Lista_Ubigeo!$J:$K,2,0),\" \")","v":"CHONTALI"},{"$f":"IFERROR(VLOOKUP(MID(BK$27,5,4)&$A30,Lista_Ubigeo!$J:$K,2,0),\" \")","v":"HUARANGO"},{"$f":"IFERROR(VLOOKUP(MID(BL$27,5,4)&$A30,Lista_Ubigeo!$J:$K,2,0),\" \")","v":"EDUARDO VILLANUEVA"},{"$f":"IFERROR(VLOOKUP(MID(BM$27,5,4)&$A30,Lista_Ubigeo!$J:$K,2,0),\" \")","v":"CALQUIS"},{"$f":"IFERROR(VLOOKUP(MID(BN$27,5,4)&$A30,Lista_Ubigeo!$J:$K,2,0),\" \")","v":"SAN LUIS"},{"$f":"IFERROR(VLOOKUP(MID(BO$27,5,4)&$A30,Lista_Ubigeo!$J:$K,2,0),\" \")","v":"CATACHE"},{"$f":"IFERROR(VLOOKUP(MID(BP$27,5,4)&$A30,Lista_Ubigeo!$J:$K,2,0),\" \")","v":"CARMEN DE LA LEGUA REYNOSO"},{"$f":"IFERROR(VLOOKUP(MID(BQ$27,5,4)&$A30,Lista_Ubigeo!$J:$K,2,0),\" \")","v":"POROY"},{"$f":"IFERROR(VLOOKUP(MID(BR$27,5,4)&$A30,Lista_Ubigeo!$J:$K,2,0),\" \")","v":"ACOS"},{"$f":"IFERROR(VLOOKUP(MID(BS$27,5,4)&$A30,Lista_Ubigeo!$J:$K,2,0),\" \")","v":"CACHIMAYO"},{"$f":"IFERROR(VLOOKUP(MID(BT$27,5,4)&$A30,Lista_Ubigeo!$J:$K,2,0),\" \")","v":"LAMAY"},{"$f":"IFERROR(VLOOKUP(MID(BU$27,5,4)&$A30,Lista_Ubigeo!$J:$K,2,0),\" \")","v":"KUNTURKANKI"},{"$f":"IFERROR(VLOOKUP(MID(BV$27,5,4)&$A30,Lista_Ubigeo!$J:$K,2,0),\" \")","v":"COMBAPATA"},{"$f":"IFERROR(VLOOKUP(MID(BW$27,5,4)&$A30,Lista_Ubigeo!$J:$K,2,0),\" \")","v":"CHAMACA"},{"$f":"IFERROR(VLOOKUP(MID(BX$27,5,4)&$A30,Lista_Ubigeo!$J:$K,2,0),\" \")","v":"COPORAQUE"},{"$f":"IFERROR(VLOOKUP(MID(BY$27,4,4)&$A30,Lista_Ubigeo!$J:$K,2,0),\" \")","v":"HUAYOPATA"},{"$f":"IFERROR(VLOOKUP(MID(BZ$27,5,4)&$A30,Lista_Ubigeo!$J:$K,2,0),\" \")","v":"CCAPI"},{"$f":"IFERROR(VLOOKUP(MID(CA$27,5,4)&$A30,Lista_Ubigeo!$J:$K,2,0),\" \")","v":"CHALLABAMBA"},{"$f":"IFERROR(VLOOKUP(MID(CB$27,5,4)&$A30,Lista_Ubigeo!$J:$K,2,0),\" \")","v":"CAMANTI"},{"$f":"IFERROR(VLOOKUP(MID(CC$27,5,4)&$A30,Lista_Ubigeo!$J:$K,2,0),\" \")","v":"HUAYLLABAMBA"},{"$f":"IFERROR(VLOOKUP(MID(CD$27,5,4)&$A30,Lista_Ubigeo!$J:$K,2,0),\" \")","v":"ACORIA"},{"$f":"IFERROR(VLOOKUP(MID(CE$27,5,4)&$A30,Lista_Ubigeo!$J:$K,2,0),\" \")","v":"ANTA"},{"$f":"IFERROR(VLOOKUP(MID(CF$27,5,4)&$A30,Lista_Ubigeo!$J:$K,2,0),\" \")","v":"CALLANMARCA"},{"$f":"IFERROR(VLOOKUP(MID(CG$27,5,4)&$A30,Lista_Ubigeo!$J:$K,2,0),\" \")","v":"AURAHUA"},{"$f":"IFERROR(VLOOKUP(MID(CH$27,5,4)&$A30,Lista_Ubigeo!$J:$K,2,0),\" \")","v":"CHINCHIHUASI"},{"$f":"IFERROR(VLOOKUP(MID(CI$27,5,4)&$A30,Lista_Ubigeo!$J:$K,2,0),\" \")","v":"CORDOVA"},{"$f":"IFERROR(VLOOKUP(MID(CJ$27,5,4)&$A30,Lista_Ubigeo!$J:$K,2,0),\" \")","v":"ACRAQUIA"},{"$f":"IFERROR(VLOOKUP(MID(CK$27,5,4)&$A30,Lista_Ubigeo!$J:$K,2,0),\" \")","v":"CHINCHAO"},{"$f":"IFERROR(VLOOKUP(MID(CL$27,5,4)&$A30,Lista_Ubigeo!$J:$K,2,0),\" \")","v":"COLPAS"},{"$f":"IFERROR(VLOOKUP(MID(CM$27,5,4)&$A38,Lista_Ubigeo!$J:$K,2,0),\" \")","v":"MARIAS"},{"$f":"IFERROR(VLOOKUP(MID(CN$27,5,4)&$A30,Lista_Ubigeo!$J:$K,2,0),\" \")","v":"COCHABAMBA"},{"$f":"IFERROR(VLOOKUP(MID(CO$27,5,4)&$A30,Lista_Ubigeo!$J:$K,2,0),\" \")","v":"CHAVIN DE PARIARCA"},{"$f":"IFERROR(VLOOKUP(MID(CP$27,5,4)&$A30,Lista_Ubigeo!$J:$K,2,0),\" \")","v":"HERMILIO VALDIZAN"},{"$f":"IFERROR(VLOOKUP(MID(CQ$27,5,4)&$A30,Lista_Ubigeo!$J:$K,2,0),\" \")","v":"SAN BUENAVENTURA"},{"$f":"IFERROR(VLOOKUP(MID(CR$27,5,4)&$A30,Lista_Ubigeo!$J:$K,2,0),\" \")","v":"MOLINO"},{"$f":"IFERROR(VLOOKUP(MID(CS$27,5,4)&$A30,Lista_Ubigeo!$J:$K,2,0),\" \")","v":"HONORIA"},{"$f":"IFERROR(VLOOKUP(MID(CT$27,5,4)&$A30,Lista_Ubigeo!$J:$K,2,0),\" \")","v":"JIVIA"},{"$f":"IFERROR(VLOOKUP(MID(CU$27,5,4)&$A30,Lista_Ubigeo!$J:$K,2,0),\" \")","v":"CHACABAMBA"},{"$f":"IFERROR(VLOOKUP(MID(CV$27,5,4)&$A30,Lista_Ubigeo!$J:$K,2,0),\" \")","v":"LOS AQUIJES"},{"$f":"IFERROR(VLOOKUP(MID(CW$27,5,4)&$A30,Lista_Ubigeo!$J:$K,2,0),\" \")","v":"CHAVIN"},{"$f":"IFERROR(VLOOKUP(MID(CX$27,5,4)&$A30,Lista_Ubigeo!$J:$K,2,0),\" \")","v":"EL INGENIO"},{"$f":"IFERROR(VLOOKUP(MID(CY$27,5,4)&$A30,Lista_Ubigeo!$J:$K,2,0),\" \")","v":"RIO GRANDE"},{"$f":"IFERROR(VLOOKUP(MID(CZ$27,5,4)&$A30,Lista_Ubigeo!$J:$K,2,0),\" \")","v":"HUMAY"},"CHACAPAMPA",{"$f":"IFERROR(VLOOKUP(MID(DB$27,5,4)&$A30,Lista_Ubigeo!$J:$K,2,0),\" \")","v":"ANDAMARCA"},{"$f":"IFERROR(VLOOKUP(MID(DC$27,5,4)&$A30,Lista_Ubigeo!$J:$K,2,0),\" \")","v":"PICHANAQUI"},{"$f":"IFERROR(VLOOKUP(MID(DD$27,5,4)&$A30,Lista_Ubigeo!$J:$K,2,0),\" \")","v":"APATA"},{"$f":"IFERROR(VLOOKUP(MID(DE$27,5,4)&$A30,Lista_Ubigeo!$J:$K,2,0),\" \")","v":"ONDORES"},{"$f":"IFERROR(VLOOKUP(MID(DF$27,5,4)&$A30,Lista_Ubigeo!$J:$K,2,0),\" \")","v":"LLAYLLA"},{"$f":"IFERROR(VLOOKUP(MID(DG$27,5,4)&$A30,Lista_Ubigeo!$J:$K,2,0),\" \")","v":"HUARICOLCA"},{"$f":"IFERROR(VLOOKUP(MID(DH$27,5,4)&$A30,Lista_Ubigeo!$J:$K,2,0),\" \")","v":"HUAY-HUAY"},{"$f":"IFERROR(VLOOKUP(MID(DI$27,5,4)&$A30,Lista_Ubigeo!$J:$K,2,0),\" \")","v":"CHONGOS BAJO"},{"$f":"IFERROR(VLOOKUP(MID(DJ$27,5,4)&$A30,Lista_Ubigeo!$J:$K,2,0),\" \")","v":"FLORENCIA DE MORA"},{"$f":"IFERROR(VLOOKUP(MID(DK$27,5,4)&$A30,Lista_Ubigeo!$J:$K,2,0),\" \")","v":"CHOCOPE"},{"$f":"IFERROR(VLOOKUP(MID(DL$27,5,4)&$A30,Lista_Ubigeo!$J:$K,2,0),\" \")","v":"CONDORMARCA"},{"$f":"IFERROR(VLOOKUP(MID(DM$27,5,4)&$A30,Lista_Ubigeo!$J:$K,2,0),\" \")","v":"PUEBLO NUEVO"},{"$f":"IFERROR(VLOOKUP(MID(DN$27,5,4)&$A30,Lista_Ubigeo!$J:$K,2,0),\" \")","v":"CARABAMBA"},{"$f":"IFERROR(VLOOKUP(MID(DO$27,5,4)&$A31,Lista_Ubigeo!$J:$K,2,0),\" \")","v":"CHARAT"},{"$f":"IFERROR(VLOOKUP(MID(DP$27,5,4)&$A30,Lista_Ubigeo!$J:$K,2,0),\" \")","v":"JEQUETEPEQUE"},{"$f":"IFERROR(VLOOKUP(MID(DQ$27,5,4)&$A30,Lista_Ubigeo!$J:$K,2,0),\" \")","v":"CHILLIA"},{"$f":"IFERROR(VLOOKUP(MID(DR$27,5,4)&$A30,Lista_Ubigeo!$J:$K,2,0),\" \")","v":"COCHORCO"},{"$f":"IFERROR(VLOOKUP(MID(DS$27,5,4)&$A30,Lista_Ubigeo!$J:$K,2,0),\" \")","v":"CACHICADAN"},{"$f":"IFERROR(VLOOKUP(MID(DT$27,5,4)&$A30,Lista_Ubigeo!$J:$K,2,0),\" \")","v":"MARMOT"},{"$f":"IFERROR(VLOOKUP(MID(DU$27,5,4)&$A30,Lista_Ubigeo!$J:$K,2,0),\" \")","v":"GUADALUPITO"},{"$f":"IFERROR(VLOOKUP(MID(DV$27,5,4)&$A30,Lista_Ubigeo!$J:$K,2,0),\" \")","v":"ETEN"},{"$f":"IFERROR(VLOOKUP(MID(DW$27,5,4)&$A30,Lista_Ubigeo!$J:$K,2,0),\" \")","v":"INCAHUASI"},{"$f":"IFERROR(VLOOKUP(MID(DX$27,5,4)&$A30,Lista_Ubigeo!$J:$K,2,0),\" \")","v":"ILLIMO"},{"$f":"IFERROR(VLOOKUP(MID(DY$27,5,4)&$A30,Lista_Ubigeo!$J:$K,2,0),\" \")","v":"ATE"},{"$f":"IFERROR(VLOOKUP(MID(DZ$27,5,4)&$A30,Lista_Ubigeo!$J:$K,2,0),\" \")","v":"PATIVILCA"},{"$f":"IFERROR(VLOOKUP(MID(EA$27,5,4)&$A30,Lista_Ubigeo!$J:$K,2,0),\" \")","v":"GORGOR"},{"$f":"IFERROR(VLOOKUP(MID(EB$27,5,4)&$A30,Lista_Ubigeo!$J:$K,2,0),\" \")","v":"HUAMANTANGA"},{"$f":"IFERROR(VLOOKUP(MID(EC$27,5,4)&$A30,Lista_Ubigeo!$J:$K,2,0),\" \")","v":"CALANGO"},{"$f":"IFERROR(VLOOKUP(MID(ED$27,5,4)&$A30,Lista_Ubigeo!$J:$K,2,0),\" \")","v":"ATAVILLOS BAJO"},{"$f":"IFERROR(VLOOKUP(MID(EE$27,5,4)&$A30,Lista_Ubigeo!$J:$K,2,0),\" \")","v":"CALLAHUANCA"},{"$f":"IFERROR(VLOOKUP(MID(EF$27,5,4)&$A30,Lista_Ubigeo!$J:$K,2,0),\" \")","v":"CALETA DE CARQUIN"},{"$f":"IFERROR(VLOOKUP(MID(EG$27,5,4)&$A30,Lista_Ubigeo!$J:$K,2,0),\" \")","v":"CAUJUL"},{"$f":"IFERROR(VLOOKUP(MID(EH$27,5,4)&$A30,Lista_Ubigeo!$J:$K,2,0),\" \")","v":"AYAUCA"},{"$f":"IFERROR(VLOOKUP(MID(EI$27,5,4)&$A30,Lista_Ubigeo!$J:$K,2,0),\" \")","v":"FERNANDO LORES"},{"$f":"IFERROR(VLOOKUP(MID(EJ$27,5,4)&$A32,Lista_Ubigeo!$J:$K,2,0),\" \")","v":"JEBEROS"},{"$f":"IFERROR(VLOOKUP(MID(EK$27,5,4)&$A30,Lista_Ubigeo!$J:$K,2,0),\" \")","v":"TIGRE"},{"$f":"IFERROR(VLOOKUP(MID(EL$27,5,4)&$A30,Lista_Ubigeo!$J:$K,2,0),\" \")","v":"YAVARI"},{"$f":"IFERROR(VLOOKUP(MID(EM$27,5,4)&$A30,Lista_Ubigeo!$J:$K,2,0),\" \")","v":"CAPELO"},{"$f":"IFERROR(VLOOKUP(MID(EN$27,5,4)&$A30,Lista_Ubigeo!$J:$K,2,0),\" \")","v":"PADRE MARQUEZ"},{"$f":"IFERROR(VLOOKUP(MID(EO$27,5,4)&$A30,Lista_Ubigeo!$J:$K,2,0),\" \")","v":"MANSERICHE"},{"$f":"IFERROR(VLOOKUP(MID(EP$27,5,4)&$A30,Lista_Ubigeo!$J:$K,2,0),\" \")","v":"TENIENTE MANUEL CLAVERO"},{"$f":"IFERROR(VLOOKUP(MID(EQ$27,5,4)&$A30,Lista_Ubigeo!$J:$K,2,0),\" \")","v":"LAS PIEDRAS"},{"$f":"IFERROR(VLOOKUP(MID(ER$27,5,4)&$A30,Lista_Ubigeo!$J:$K,2,0),\" \")","v":"MADRE DE DIOS"},{"$f":"IFERROR(VLOOKUP(MID(ES$27,5,4)&$A30,Lista_Ubigeo!$J:$K,2,0),\" \")","v":"TAHUAMANU"},{"$f":"IFERROR(VLOOKUP(MID(ET$27,5,4)&$A30,Lista_Ubigeo!$J:$K,2,0),\" \")","v":"CUCHUMBAYA"},{"$f":"IFERROR(VLOOKUP(MID(EU$27,5,4)&$A30,Lista_Ubigeo!$J:$K,2,0),\" \")","v":"COALAQUE"},{"$f":"IFERROR(VLOOKUP(MID(EV$27,5,4)&$A30,Lista_Ubigeo!$J:$K,2,0),\" \")","v":"PACOCHA"},{"$f":"IFERROR(VLOOKUP(MID(EW$27,5,4)&$A30,Lista_Ubigeo!$J:$K,2,0),\" \")","v":"HUARIACA"},{"$f":"IFERROR(VLOOKUP(MID(EX$27,5,4)&$A30,Lista_Ubigeo!$J:$K,2,0),\" \")","v":"GOYLLARISQUIZGA"},{"$f":"IFERROR(VLOOKUP(MID(EY$27,5,4)&$A30,Lista_Ubigeo!$J:$K,2,0),\" \")","v":"HUANCABAMBA"},{"$f":"IFERROR(VLOOKUP(MID(EZ$27,5,4)&$A32,Lista_Ubigeo!$J:$K,2,0),\" \")","v":"CATACAOS"},{"$f":"IFERROR(VLOOKUP(MID(FA$27,5,4)&$A30,Lista_Ubigeo!$J:$K,2,0),\" \")","v":"JILILI"},{"$f":"IFERROR(VLOOKUP(MID(FB$27,5,4)&$A30,Lista_Ubigeo!$J:$K,2,0),\" \")","v":"EL CARMEN DE LA FRONTERA"},{"$f":"IFERROR(VLOOKUP(MID(FC$27,5,4)&$A30,Lista_Ubigeo!$J:$K,2,0),\" \")","v":"CHALACO"},{"$f":"IFERROR(VLOOKUP(MID(FD$27,5,4)&$A30,Lista_Ubigeo!$J:$K,2,0),\" \")","v":"ARENAL"},{"$f":"IFERROR(VLOOKUP(MID(FE$27,5,4)&$A30,Lista_Ubigeo!$J:$K,2,0),\" \")","v":"IGNACIO ESCUDERO"},{"$f":"IFERROR(VLOOKUP(MID(FF$27,5,4)&$A30,Lista_Ubigeo!$J:$K,2,0),\" \")","v":"LA BREA"},{"$f":"IFERROR(VLOOKUP(MID(FG$27,5,4)&$A30,Lista_Ubigeo!$J:$K,2,0),\" \")","v":"BERNAL"},{"$f":"IFERROR(VLOOKUP(MID(FH$27,5,4)&$A30,Lista_Ubigeo!$J:$K,2,0),\" \")","v":"AMANTANI"},{"$f":"IFERROR(VLOOKUP(MID(FI$27,5,4)&$A30,Lista_Ubigeo!$J:$K,2,0),\" \")","v":"ARAPA"},{"$f":"IFERROR(VLOOKUP(MID(FJ$27,5,4)&$A30,Lista_Ubigeo!$J:$K,2,0),\" \")","v":"AYAPATA"},{"$f":"IFERROR(VLOOKUP(MID(FK$27,5,4)&$A30,Lista_Ubigeo!$J:$K,2,0),\" \")","v":"HUACULLANI"},{"$f":"IFERROR(VLOOKUP(MID(FL$27,5,4)&$A30,Lista_Ubigeo!$J:$K,2,0),\" \")","v":"PILCUYO"},{"$f":"IFERROR(VLOOKUP(MID(FM$27,5,4)&$A30,Lista_Ubigeo!$J:$K,2,0),\" \")","v":"HUATASANI"},{"$f":"IFERROR(VLOOKUP(MID(FN$27,5,4)&$A30,Lista_Ubigeo!$J:$K,2,0),\" \")","v":"CALAPUJA"},{"$f":"IFERROR(VLOOKUP(MID(FO$27,5,4)&$A30,Lista_Ubigeo!$J:$K,2,0),\" \")","v":"CUPI"},{"$f":"IFERROR(VLOOKUP(MID(FP$27,5,4)&$A30,Lista_Ubigeo!$J:$K,2,0),\" \")","v":"HUAYRAPATA"},{"$f":"IFERROR(VLOOKUP(MID(FQ$27,5,4)&$A30,Lista_Ubigeo!$J:$K,2,0),\" \")","v":"PEDRO VILCA APAZA"},{"$f":"IFERROR(VLOOKUP(MID(FR$27,5,4)&$A30,Lista_Ubigeo!$J:$K,2,0),\" \")","v":"CABANILLAS"},{"$f":"IFERROR(VLOOKUP(MID(FS$27,5,4)&$A30,Lista_Ubigeo!$J:$K,2,0),\" \")","v":"LIMBANI"},{"$f":"IFERROR(VLOOKUP(MID(FT$27,5,4)&$A30,Lista_Ubigeo!$J:$K,2,0),\" \")","v":"COPANI"},{"$f":"IFERROR(VLOOKUP(MID(FU$27,5,4)&$A30,Lista_Ubigeo!$J:$K,2,0),\" \")","v":"HABANA"},{"$f":"IFERROR(VLOOKUP(MID(FV$27,5,4)&$A30,Lista_Ubigeo!$J:$K,2,0),\" \")","v":"BAJO BIAVO"},{"$f":"IFERROR(VLOOKUP(MID(FW$27,5,4)&$A30,Lista_Ubigeo!$J:$K,2,0),\" \")","v":"SAN MARTIN"},{"$f":"IFERROR(VLOOKUP(MID(FX$27,5,4)&$A30,Lista_Ubigeo!$J:$K,2,0),\" \")","v":"EL ESLABON"},{"$f":"IFERROR(VLOOKUP(MID(FY$27,5,4)&$A30,Lista_Ubigeo!$J:$K,2,0),\" \")","v":"BARRANQUITA"},{"$f":"IFERROR(VLOOKUP(MID(FZ$27,5,4)&$A30,Lista_Ubigeo!$J:$K,2,0),\" \")","v":"HUICUNGO"},{"$f":"IFERROR(VLOOKUP(MID(GA$27,5,4)&$A30,Lista_Ubigeo!$J:$K,2,0),\" \")","v":"CASPISAPA"},{"$f":"IFERROR(VLOOKUP(MID(GB$27,5,4)&$A30,Lista_Ubigeo!$J:$K,2,0),\" \")","v":"ELIAS SOPLIN VARGAS"},{"$f":"IFERROR(VLOOKUP(MID(GC$27,5,4)&$A30,Lista_Ubigeo!$J:$K,2,0),\" \")","v":"CACATACHI"},{"$f":"IFERROR(VLOOKUP(MID(GD$27,5,4)&$A30,Lista_Ubigeo!$J:$K,2,0),\" \")","v":"POLVORA"},{"$f":"IFERROR(VLOOKUP(MID(GE$27,5,4)&$A30,Lista_Ubigeo!$J:$K,2,0),\" \")","v":"CALANA"},{"$f":"IFERROR(VLOOKUP(MID(GF$27,5,4)&$A30,Lista_Ubigeo!$J:$K,2,0),\" \")","v":"CAMILACA"},{"$f":"IFERROR(VLOOKUP(MID(GG$27,5,4)&$A30,Lista_Ubigeo!$J:$K,2,0),\" \")","v":"ITE"},{"$f":"IFERROR(VLOOKUP(MID(GH$27,5,4)&$A30,Lista_Ubigeo!$J:$K,2,0),\" \")","v":"ESTIQUE"},{"$f":"IFERROR(VLOOKUP(MID(GI$27,5,4)&$A30,Lista_Ubigeo!$J:$K,2,0),\" \")","v":"LA CRUZ"},{"$f":"IFERROR(VLOOKUP(MID(GJ$27,5,4)&$A30,Lista_Ubigeo!$J:$K,2,0),\" \")","v":"CANOAS DE PUNTA SAL"},{"$f":"IFERROR(VLOOKUP(MID(GK$27,5,4)&$A30,Lista_Ubigeo!$J:$K,2,0),\" \")","v":"MATAPALO"},{"$f":"IFERROR(VLOOKUP(MID(GL$27,5,4)&$A30,Lista_Ubigeo!$J:$K,2,0),\" \")","v":"IPARIA"},{"$f":"IFERROR(VLOOKUP(MID(GM$27,5,4)&$A30,Lista_Ubigeo!$J:$K,2,0),\" \")","v":"TAHUANIA"},{"$f":"IFERROR(VLOOKUP(MID(GN$27,5,4)&$A30,Lista_Ubigeo!$J:$K,2,0),\" \")","v":"CURIMANA"},{"$f":"IFERROR(VLOOKUP(MID(GO$27,5,4)&$A30,Lista_Ubigeo!$J:$K,2,0),\" \")","v":" "},{"$f":"IFERROR(VLOOKUP(MID(GP$27,5,4)&$A30,Lista_Ubigeo!$J:$K,2,0),\" \")","v":"ARAPA"}]
["04",{"$f":"IFERROR(VLOOKUP(MID(B$27,5,4)&$A31,Lista_Ubigeo!$J:$K,2,0),\" \")","v":"CHETO"},{"$f":"IFERROR(VLOOKUP(MID(C$27,5,4)&$A31,Lista_Ubigeo!$J:$K,2,0),\" \")","v":"EL PARCO"},{"$f":"IFERROR(VLOOKUP(MID(D$27,5,4)&$A31,Lista_Ubigeo!$J:$K,2,0),\" \")","v":"COROSHA"},{"$f":"IFERROR(VLOOKUP(MID(E$27,5,4)&$A31,Lista_Ubigeo!$J:$K,2,0),\" \")","v":" "},{"$f":"IFERROR(VLOOKUP(MID(F$27,5,4)&$A31,Lista_Ubigeo!$J:$K,2,0),\" \")","v":"COLCAMAR"},{"$f":"IFERROR(VLOOKUP(MID(G$27,5,4)&$A31,Lista_Ubigeo!$J:$K,2,0),\" \")","v":"HUAMBO"},{"$f":"IFERROR(VLOOKUP(MID(H$27,5,4)&$A31,Lista_Ubigeo!$J:$K,2,0),\" \")","v":"EL MILAGRO"},{"$f":"IFERROR(VLOOKUP(MID(I$27,5,4)&$A31,Lista_Ubigeo!$J:$K,2,0),\" \")","v":"HUANCHAY"},{"$f":"IFERROR(VLOOKUP(MID(J$27,5,4)&$A31,Lista_Ubigeo!$J:$K,2,0),\" \")","v":"LA MERCED"},{"$f":"IFERROR(VLOOKUP(MID(K$27,5,4)&$A31,Lista_Ubigeo!$J:$K,2,0),\" \")","v":"CHINGAS"},{"$f":"IFERROR(VLOOKUP(MID(L$27,5,4)&$A31,Lista_Ubigeo!$J:$K,2,0),\" \")","v":" "},{"$f":"IFERROR(VLOOKUP(MID(M$27,5,4)&$A31,Lista_Ubigeo!$J:$K,2,0),\" \")","v":"AGUIA"},{"$f":"IFERROR(VLOOKUP(MID(N$27,5,4)&$A31,Lista_Ubigeo!$J:$K,2,0),\" \")","v":"ANTA"},{"$f":"IFERROR(VLOOKUP(MID(O$27,5,4)&$A31,Lista_Ubigeo!$J:$K,2,0),\" \")","v":" "},{"$f":"IFERROR(VLOOKUP(MID(P$27,5,4)&$A31,Lista_Ubigeo!$J:$K,2,0),\" \")","v":"YAUTAN"},{"$f":"IFERROR(VLOOKUP(MID(Q$27,5,4)&$A31,Lista_Ubigeo!$J:$K,2,0),\" \")","v":"CUSCA"},{"$f":"IFERROR(VLOOKUP(MID(R$27,5,4)&$A31,Lista_Ubigeo!$J:$K,2,0),\" \")","v":"CHAVIN DE HUANTAR"},{"$f":"IFERROR(VLOOKUP(MID(S$27,5,4)&$A31,Lista_Ubigeo!$J:$K,2,0),\" \")","v":"HUAYAN"},{"$f":"IFERROR(VLOOKUP(MID(T$27,5,4)&$A31,Lista_Ubigeo!$J:$K,2,0),\" \")","v":"HUAYLAS"},{"$f":"IFERROR(VLOOKUP(MID(U$27,5,4)&$A31,Lista_Ubigeo!$J:$K,2,0),\" \")","v":"FIDEL OLIVAS ESCUDERO"},{"$f":"IFERROR(VLOOKUP(MID(V$27,5,4)&$A31,Lista_Ubigeo!$J:$K,2,0),\" \")","v":"CARHUAPAMPA"},{"$f":"IFERROR(VLOOKUP(MID(W$27,5,4)&$A31,Lista_Ubigeo!$J:$K,2,0),\" \")","v":"HUACASCHUQUE"},{"$f":"IFERROR(VLOOKUP(MID(X$27,5,4)&$A31,Lista_Ubigeo!$J:$K,2,0),\" \")","v":"QUINUABAMBA"},{"$f":"IFERROR(VLOOKUP(MID(Y$27,5,4)&$A31,Lista_Ubigeo!$J:$K,2,0),\" \")","v":"HUAYLLAPAMPA"},{"$f":"IFERROR(VLOOKUP(MID(Z$27,5,4)&$A31,Lista_Ubigeo!$J:$K,2,0),\" \")","v":"MACATE"},{"$f":"IFERROR(VLOOKUP(MID(AA$27,5,4)&$A31,Lista_Ubigeo!$J:$K,2,0),\" \")","v":"CASHAPAMPA"},{"$f":"IFERROR(VLOOKUP(MID(AB$27,5,4)&$A31,Lista_Ubigeo!$J:$K,2,0),\" \")","v":"MATACOTO"},{"$f":"IFERROR(VLOOKUP(MID(AC$27,5,4)&$A31,Lista_Ubigeo!$J:$K,2,0),\" \")","v":"CURAHUASI"},{"$f":"IFERROR(VLOOKUP(MID(AD$27,5,4)&$A31,Lista_Ubigeo!$J:$K,2,0),\" \")","v":"HUANCARAMA"},{"$f":"IFERROR(VLOOKUP(MID(AE$27,5,4)&$A31,Lista_Ubigeo!$J:$K,2,0),\" \")","v":"JUAN ESPINOZA MEDRANO"},{"$f":"IFERROR(VLOOKUP(MID(AF$27,5,4)&$A31,Lista_Ubigeo!$J:$K,2,0),\" \")","v":"CHAPIMARCA"},{"$f":"IFERROR(VLOOKUP(MID(AG$27,5,4)&$A31,Lista_Ubigeo!$J:$K,2,0),\" \")","v":"HAQUIRA"},{"$f":"IFERROR(VLOOKUP(MID(AH$27,5,4)&$A31,Lista_Ubigeo!$J:$K,2,0),\" \")","v":"HUACCANA"},{"$f":"IFERROR(VLOOKUP(MID(AI$27,5,4)&$A31,Lista_Ubigeo!$J:$K,2,0),\" \")","v":"HUAYLLATI"},{"$f":"IFERROR(VLOOKUP(MID(AJ$27,5,4)&$A31,Lista_Ubigeo!$J:$K,2,0),\" \")","v":"CERRO COLORADO"},{"$f":"IFERROR(VLOOKUP(MID(AK$27,5,4)&$A31,Lista_Ubigeo!$J:$K,2,0),\" \")","v":"MARISCAL CACERES"},{"$f":"IFERROR(VLOOKUP(MID(AL$27,5,4)&$A31,Lista_Ubigeo!$J:$K,2,0),\" \")","v":"ATIQUIPA"},{"$f":"IFERROR(VLOOKUP(MID(AM$27,5,4)&$A31,Lista_Ubigeo!$J:$K,2,0),\" \")","v":"CHACHAS"},{"$f":"IFERROR(VLOOKUP(MID(AN$27,5,4)&$A31,Lista_Ubigeo!$J:$K,2,0),\" \")","v":"CALLALLI"},{"$f":"IFERROR(VLOOKUP(MID(AO$27,5,4)&$A31,Lista_Ubigeo!$J:$K,2,0),\" \")","v":"CHICHAS"},{"$f":"IFERROR(VLOOKUP(MID(AP$27,5,4)&$A31,Lista_Ubigeo!$J:$K,2,0),\" \")","v":"ISLAY"},{"$f":"IFERROR(VLOOKUP(MID(AQ$27,4,4)&$A31,Lista_Ubigeo!$J:$K,2,0),\" \")","v":"HUAYNACOTAS"},{"$f":"IFERROR(VLOOKUP(MID(AR$27,5,4)&$A31,Lista_Ubigeo!$J:$K,2,0),\" \")","v":"CARMEN ALTO"},{"$f":"IFERROR(VLOOKUP(MID(AS$27,5,4)&$A31,Lista_Ubigeo!$J:$K,2,0),\" \")","v":"MARIA PARADO DE BELLIDO"},{"$f":"IFERROR(VLOOKUP(MID(AT$27,5,4)&$A31,Lista_Ubigeo!$J:$K,2,0),\" \")","v":"SANTIAGO DE LUCANAMARCA"},{"$f":"IFERROR(VLOOKUP(MID(AU$27,5,4)&$A31,Lista_Ubigeo!$J:$K,2,0),\" \")","v":"IGUAIN"},{"$f":"IFERROR(VLOOKUP(MID(AV$27,5,4)&$A31,Lista_Ubigeo!$J:$K,2,0),\" \")","v":"CHILCAS"},{"$f":"IFERROR(VLOOKUP(MID(AW$27,5,4)&$A31,Lista_Ubigeo!$J:$K,2,0),\" \")","v":"CARMEN SALCEDO"},{"$f":"IFERROR(VLOOKUP(MID(AX$27,5,4)&$A31,Lista_Ubigeo!$J:$K,2,0),\" \")","v":"PACAPAUSA"},{"$f":"IFERROR(VLOOKUP(MID(AY$27,5,4)&$A31,Lista_Ubigeo!$J:$K,2,0),\" \")","v":"LAMPA"},{"$f":"IFERROR(VLOOKUP(MID(AZ$27,5,4)&$A31,Lista_Ubigeo!$J:$K,2,0),\" \")","v":"CHILCAYOC"},{"$f":"IFERROR(VLOOKUP(MID(BA$27,5,4)&$A31,Lista_Ubigeo!$J:$K,2,0),\" \")","v":"ASQUIPATA"},{"$f":"IFERROR(VLOOKUP(MID(BB$27,5,4)&$A31,Lista_Ubigeo!$J:$K,2,0),\" \")","v":"CONCEPCION"},{"$f":"IFERROR(VLOOKUP(MID(BC$27,5,4)&$A31,Lista_Ubigeo!$J:$K,2,0),\" \")","v":"COSPAN"},{"$f":"IFERROR(VLOOKUP(MID(BD$27,5,4)&$A31,Lista_Ubigeo!$J:$K,2,0),\" \")","v":"SITACOCHA"},{"$f":"IFERROR(VLOOKUP(MID(BE$27,5,4)&$A31,Lista_Ubigeo!$J:$K,2,0),\" \")","v":"HUASMIN"},{"$f":"IFERROR(VLOOKUP(MID(BF$27,5,4)&$A31,Lista_Ubigeo!$J:$K,2,0),\" \")","v":"CHIGUIRIP"},{"$f":"IFERROR(VLOOKUP(MID(BG$27,5,4)&$A31,Lista_Ubigeo!$J:$K,2,0),\" \")","v":"GUZMANGO"},{"$f":"IFERROR(VLOOKUP(MID(BH$27,5,4)&$A31,Lista_Ubigeo!$J:$K,2,0),\" \")","v":"CUJILLO"},{"$f":"IFERROR(VLOOKUP(MID(BI$27,5,4)&$A31,Lista_Ubigeo!$J:$K,2,0),\" \")","v":" "},{"$f":"IFERROR(VLOOKUP(MID(BJ$27,5,4)&$A31,Lista_Ubigeo!$J:$K,2,0),\" \")","v":"COLASAY"},{"$f":"IFERROR(VLOOKUP(MID(BK$27,5,4)&$A31,Lista_Ubigeo!$J:$K,2,0),\" \")","v":"LA COIPA"},{"$f":"IFERROR(VLOOKUP(MID(BL$27,5,4)&$A31,Lista_Ubigeo!$J:$K,2,0),\" \")","v":"GREGORIO PITA"},{"$f":"IFERROR(VLOOKUP(MID(BM$27,5,4)&$A31,Lista_Ubigeo!$J:$K,2,0),\" \")","v":"CATILLUC"},{"$f":"IFERROR(VLOOKUP(MID(BN$27,5,4)&$A31,Lista_Ubigeo!$J:$K,2,0),\" \")","v":"TUMBADEN"},{"$f":"IFERROR(VLOOKUP(MID(BO$27,5,4)&$A31,Lista_Ubigeo!$J:$K,2,0),\" \")","v":"CHANCAYBAÑOS"},{"$f":"IFERROR(VLOOKUP(MID(BP$27,5,4)&$A31,Lista_Ubigeo!$J:$K,2,0),\" \")","v":"LA PERLA"},{"$f":"IFERROR(VLOOKUP(MID(BQ$27,5,4)&$A31,Lista_Ubigeo!$J:$K,2,0),\" \")","v":"SAN JERONIMO"},{"$f":"IFERROR(VLOOKUP(MID(BR$27,5,4)&$A31,Lista_Ubigeo!$J:$K,2,0),\" \")","v":"MOSOC LLACTA"},{"$f":"IFERROR(VLOOKUP(MID(BS$27,5,4)&$A31,Lista_Ubigeo!$J:$K,2,0),\" \")","v":"CHINCHAYPUJIO"},{"$f":"IFERROR(VLOOKUP(MID(BT$27,5,4)&$A31,Lista_Ubigeo!$J:$K,2,0),\" \")","v":"LARES"},{"$f":"IFERROR(VLOOKUP(MID(BU$27,5,4)&$A31,Lista_Ubigeo!$J:$K,2,0),\" \")","v":"LANGUI"},{"$f":"IFERROR(VLOOKUP(MID(BV$27,5,4)&$A31,Lista_Ubigeo!$J:$K,2,0),\" \")","v":"MARANGANI"},{"$f":"IFERROR(VLOOKUP(MID(BW$27,5,4)&$A31,Lista_Ubigeo!$J:$K,2,0),\" \")","v":"COLQUEMARCA"},{"$f":"IFERROR(VLOOKUP(MID(BX$27,5,4)&$A31,Lista_Ubigeo!$J:$K,2,0),\" \")","v":"OCORURO"},{"$f":"IFERROR(VLOOKUP(MID(BY$27,4,4)&$A31,Lista_Ubigeo!$J:$K,2,0),\" \")","v":"MARANURA"},{"$f":"IFERROR(VLOOKUP(MID(BZ$27,5,4)&$A31,Lista_Ubigeo!$J:$K,2,0),\" \")","v":"COLCHA"},{"$f":"IFERROR(VLOOKUP(MID(CA$27,5,4)&$A31,Lista_Ubigeo!$J:$K,2,0),\" \")","v":"COLQUEPATA"},{"$f":"IFERROR(VLOOKUP(MID(CB$27,5,4)&$A31,Lista_Ubigeo!$J:$K,2,0),\" \")","v":"CCARHUAYO"},{"$f":"IFERROR(VLOOKUP(MID(CC$27,5,4)&$A31,Lista_Ubigeo!$J:$K,2,0),\" \")","v":"MACHUPICCHU"},{"$f":"IFERROR(VLOOKUP(MID(CD$27,5,4)&$A31,Lista_Ubigeo!$J:$K,2,0),\" \")","v":"CONAYCA"},{"$f":"IFERROR(VLOOKUP(MID(CE$27,5,4)&$A31,Lista_Ubigeo!$J:$K,2,0),\" \")","v":"CAJA"},{"$f":"IFERROR(VLOOKUP(MID(CF$27,5,4)&$A31,Lista_Ubigeo!$J:$K,2,0),\" \")","v":"CCOCHACCASA"},{"$f":"IFERROR(VLOOKUP(MID(CG$27,5,4)&$A31,Lista_Ubigeo!$J:$K,2,0),\" \")","v":"CAPILLAS"},{"$f":"IFERROR(VLOOKUP(MID(CH$27,5,4)&$A31,Lista_Ubigeo!$J:$K,2,0),\" \")","v":"EL CARMEN"},{"$f":"IFERROR(VLOOKUP(MID(CI$27,5,4)&$A31,Lista_Ubigeo!$J:$K,2,0),\" \")","v":"HUAYACUNDO ARMA"},{"$f":"IFERROR(VLOOKUP(MID(CJ$27,5,4)&$A31,Lista_Ubigeo!$J:$K,2,0),\" \")","v":"AHUAYCHA"},{"$f":"IFERROR(VLOOKUP(MID(CK$27,5,4)&$A31,Lista_Ubigeo!$J:$K,2,0),\" \")","v":"CHURUBAMBA"},{"$f":"IFERROR(VLOOKUP(MID(CL$27,5,4)&$A31,Lista_Ubigeo!$J:$K,2,0),\" \")","v":"CONCHAMARCA"},{"$f":"IFERROR(VLOOKUP(MID(CM$27,5,4)&$A40,Lista_Ubigeo!$J:$K,2,0),\" \")","v":"PACHAS"},{"$f":"IFERROR(VLOOKUP(MID(CN$27,5,4)&$A31,Lista_Ubigeo!$J:$K,2,0),\" \")","v":"PINRA"},{"$f":"IFERROR(VLOOKUP(MID(CO$27,5,4)&$A31,Lista_Ubigeo!$J:$K,2,0),\" \")","v":"JACAS GRANDE"},{"$f":"IFERROR(VLOOKUP(MID(CP$27,5,4)&$A31,Lista_Ubigeo!$J:$K,2,0),\" \")","v":"JOSE CRESPO Y CASTILLO"},{"$f":"IFERROR(VLOOKUP(MID(CQ$27,5,4)&$A31,Lista_Ubigeo!$J:$K,2,0),\" \")","v":"LA MORADA"},{"$f":"IFERROR(VLOOKUP(MID(CR$27,5,4)&$A31,Lista_Ubigeo!$J:$K,2,0),\" \")","v":"UMARI"},{"$f":"IFERROR(VLOOKUP(MID(CS$27,5,4)&$A31,Lista_Ubigeo!$J:$K,2,0),\" \")","v":"TOURNAVISTA"},{"$f":"IFERROR(VLOOKUP(MID(CT$27,5,4)&$A31,Lista_Ubigeo!$J:$K,2,0),\" \")","v":"QUEROPALCA"},{"$f":"IFERROR(VLOOKUP(MID(CU$27,5,4)&$A31,Lista_Ubigeo!$J:$K,2,0),\" \")","v":"APARICIO POMARES"},{"$f":"IFERROR(VLOOKUP(MID(CV$27,5,4)&$A31,Lista_Ubigeo!$J:$K,2,0),\" \")","v":"OCUCAJE"},{"$f":"IFERROR(VLOOKUP(MID(CW$27,5,4)&$A31,Lista_Ubigeo!$J:$K,2,0),\" \")","v":"CHINCHA BAJA"},{"$f":"IFERROR(VLOOKUP(MID(CX$27,5,4)&$A31,Lista_Ubigeo!$J:$K,2,0),\" \")","v":"MARCONA"},{"$f":"IFERROR(VLOOKUP(MID(CY$27,5,4)&$A31,Lista_Ubigeo!$J:$K,2,0),\" \")","v":"SANTA CRUZ"},{"$f":"IFERROR(VLOOKUP(MID(CZ$27,5,4)&$A31,Lista_Ubigeo!$J:$K,2,0),\" \")","v":"INDEPENDENCIA"},"CHICCHE",{"$f":"IFERROR(VLOOKUP(MID(DB$27,5,4)&$A31,Lista_Ubigeo!$J:$K,2,0),\" \")","v":"CHAMBARA"},{"$f":"IFERROR(VLOOKUP(MID(DC$27,5,4)&$A31,Lista_Ubigeo!$J:$K,2,0),\" \")","v":"SAN LUIS DE SHUARO"},{"$f":"IFERROR(VLOOKUP(MID(DD$27,5,4)&$A31,Lista_Ubigeo!$J:$K,2,0),\" \")","v":"ATAURA"},{"$f":"IFERROR(VLOOKUP(MID(DE$27,5,4)&$A31,Lista_Ubigeo!$J:$K,2,0),\" \")","v":"ULCUMAYO"},{"$f":"IFERROR(VLOOKUP(MID(DF$27,5,4)&$A31,Lista_Ubigeo!$J:$K,2,0),\" \")","v":"MAZAMARI"},{"$f":"IFERROR(VLOOKUP(MID(DG$27,5,4)&$A31,Lista_Ubigeo!$J:$K,2,0),\" \")","v":"HUASAHUASI"},{"$f":"IFERROR(VLOOKUP(MID(DH$27,5,4)&$A31,Lista_Ubigeo!$J:$K,2,0),\" \")","v":"MARCAPOMACOCHA"},{"$f":"IFERROR(VLOOKUP(MID(DI$27,5,4)&$A31,Lista_Ubigeo!$J:$K,2,0),\" \")","v":"HUACHAC"},{"$f":"IFERROR(VLOOKUP(MID(DJ$27,5,4)&$A31,Lista_Ubigeo!$J:$K,2,0),\" \")","v":"HUANCHACO"},{"$f":"IFERROR(VLOOKUP(MID(DK$27,5,4)&$A31,Lista_Ubigeo!$J:$K,2,0),\" \")","v":"MAGDALENA DE CAO"},{"$f":"IFERROR(VLOOKUP(MID(DL$27,5,4)&$A31,Lista_Ubigeo!$J:$K,2,0),\" \")","v":"LONGOTEA"},{"$f":"IFERROR(VLOOKUP(MID(DM$27,5,4)&$A31,Lista_Ubigeo!$J:$K,2,0),\" \")","v":" "},{"$f":"IFERROR(VLOOKUP(MID(DN$27,5,4)&$A31,Lista_Ubigeo!$J:$K,2,0),\" \")","v":"HUASO"},{"$f":"IFERROR(VLOOKUP(MID(DO$27,5,4)&$A32,Lista_Ubigeo!$J:$K,2,0),\" \")","v":"HUARANCHAL"},{"$f":"IFERROR(VLOOKUP(MID(DP$27,5,4)&$A31,Lista_Ubigeo!$J:$K,2,0),\" \")","v":"PACASMAYO"},{"$f":"IFERROR(VLOOKUP(MID(DQ$27,5,4)&$A31,Lista_Ubigeo!$J:$K,2,0),\" \")","v":"HUANCASPATA"},{"$f":"IFERROR(VLOOKUP(MID(DR$27,5,4)&$A31,Lista_Ubigeo!$J:$K,2,0),\" \")","v":"CURGOS"},{"$f":"IFERROR(VLOOKUP(MID(DS$27,5,4)&$A31,Lista_Ubigeo!$J:$K,2,0),\" \")","v":"MOLLEBAMBA"},{"$f":"IFERROR(VLOOKUP(MID(DT$27,5,4)&$A31,Lista_Ubigeo!$J:$K,2,0),\" \")","v":"SAYAPULLO"},null,{"$f":"IFERROR(VLOOKUP(MID(DV$27,5,4)&$A31,Lista_Ubigeo!$J:$K,2,0),\" \")","v":"ETEN PUERTO"},{"$f":"IFERROR(VLOOKUP(MID(DW$27,5,4)&$A31,Lista_Ubigeo!$J:$K,2,0),\" \")","v":"MANUEL ANTONIO MESONES MURO"},{"$f":"IFERROR(VLOOKUP(MID(DX$27,5,4)&$A31,Lista_Ubigeo!$J:$K,2,0),\" \")","v":"JAYANCA"},{"$f":"IFERROR(VLOOKUP(MID(DY$27,5,4)&$A31,Lista_Ubigeo!$J:$K,2,0),\" \")","v":"BARRANCO"},{"$f":"IFERROR(VLOOKUP(MID(DZ$27,5,4)&$A31,Lista_Ubigeo!$J:$K,2,0),\" \")","v":"SUPE"},{"$f":"IFERROR(VLOOKUP(MID(EA$27,5,4)&$A31,Lista_Ubigeo!$J:$K,2,0),\" \")","v":"HUANCAPON"},{"$f":"IFERROR(VLOOKUP(MID(EB$27,5,4)&$A31,Lista_Ubigeo!$J:$K,2,0),\" \")","v":"HUAROS"},{"$f":"IFERROR(VLOOKUP(MID(EC$27,5,4)&$A31,Lista_Ubigeo!$J:$K,2,0),\" \")","v":"CERRO AZUL"},{"$f":"IFERROR(VLOOKUP(MID(ED$27,5,4)&$A31,Lista_Ubigeo!$J:$K,2,0),\" \")","v":"AUCALLAMA"},{"$f":"IFERROR(VLOOKUP(MID(EE$27,5,4)&$A31,Lista_Ubigeo!$J:$K,2,0),\" \")","v":"CARAMPOMA"},{"$f":"IFERROR(VLOOKUP(MID(EF$27,5,4)&$A31,Lista_Ubigeo!$J:$K,2,0),\" \")","v":"CHECRAS"},{"$f":"IFERROR(VLOOKUP(MID(EG$27,5,4)&$A31,Lista_Ubigeo!$J:$K,2,0),\" \")","v":"COCHAMARCA"},{"$f":"IFERROR(VLOOKUP(MID(EH$27,5,4)&$A31,Lista_Ubigeo!$J:$K,2,0),\" \")","v":"AYAVIRI"},{"$f":"IFERROR(VLOOKUP(MID(EI$27,5,4)&$A31,Lista_Ubigeo!$J:$K,2,0),\" \")","v":"INDIANA"},{"$f":"IFERROR(VLOOKUP(MID(EJ$27,5,4)&$A33,Lista_Ubigeo!$J:$K,2,0),\" \")","v":"LAGUNAS"},{"$f":"IFERROR(VLOOKUP(MID(EK$27,5,4)&$A31,Lista_Ubigeo!$J:$K,2,0),\" \")","v":"TROMPETEROS"},{"$f":"IFERROR(VLOOKUP(MID(EL$27,5,4)&$A31,Lista_Ubigeo!$J:$K,2,0),\" \")","v":"SAN PABLO"},{"$f":"IFERROR(VLOOKUP(MID(EM$27,5,4)&$A31,Lista_Ubigeo!$J:$K,2,0),\" \")","v":"EMILIO SAN MARTIN"},{"$f":"IFERROR(VLOOKUP(MID(EN$27,5,4)&$A31,Lista_Ubigeo!$J:$K,2,0),\" \")","v":"PAMPA HERMOSA"},{"$f":"IFERROR(VLOOKUP(MID(EO$27,5,4)&$A31,Lista_Ubigeo!$J:$K,2,0),\" \")","v":"MORONA"},{"$f":"IFERROR(VLOOKUP(MID(EP$27,5,4)&$A31,Lista_Ubigeo!$J:$K,2,0),\" \")","v":"YAGUAS"},{"$f":"IFERROR(VLOOKUP(MID(EQ$27,5,4)&$A31,Lista_Ubigeo!$J:$K,2,0),\" \")","v":"LABERINTO"},{"$f":"IFERROR(VLOOKUP(MID(ER$27,5,4)&$A31,Lista_Ubigeo!$J:$K,2,0),\" \")","v":"HUEPETUHE"},{"$f":"IFERROR(VLOOKUP(MID(ES$27,5,4)&$A31,Lista_Ubigeo!$J:$K,2,0),\" \")","v":" "},{"$f":"IFERROR(VLOOKUP(MID(ET$27,5,4)&$A31,Lista_Ubigeo!$J:$K,2,0),\" \")","v":"SAMEGUA"},{"$f":"IFERROR(VLOOKUP(MID(EU$27,5,4)&$A31,Lista_Ubigeo!$J:$K,2,0),\" \")","v":"ICHUÑA"},{"$f":"IFERROR(VLOOKUP(MID(EV$27,5,4)&$A31,Lista_Ubigeo!$J:$K,2,0),\" \")","v":" "},{"$f":"IFERROR(VLOOKUP(MID(EW$27,5,4)&$A31,Lista_Ubigeo!$J:$K,2,0),\" \")","v":"HUAYLLAY"},{"$f":"IFERROR(VLOOKUP(MID(EX$27,5,4)&$A31,Lista_Ubigeo!$J:$K,2,0),\" \")","v":"PAUCAR"},{"$f":"IFERROR(VLOOKUP(MID(EY$27,5,4)&$A31,Lista_Ubigeo!$J:$K,2,0),\" \")","v":"PALCAZU"},{"$f":"IFERROR(VLOOKUP(MID(EZ$27,5,4)&$A34,Lista_Ubigeo!$J:$K,2,0),\" \")","v":"CURA MORI"},{"$f":"IFERROR(VLOOKUP(MID(FA$27,5,4)&$A31,Lista_Ubigeo!$J:$K,2,0),\" \")","v":"LAGUNAS"},{"$f":"IFERROR(VLOOKUP(MID(FB$27,5,4)&$A31,Lista_Ubigeo!$J:$K,2,0),\" \")","v":"HUARMACA"},{"$f":"IFERROR(VLOOKUP(MID(FC$27,5,4)&$A31,Lista_Ubigeo!$J:$K,2,0),\" \")","v":"LA MATANZA"},{"$f":"IFERROR(VLOOKUP(MID(FD$27,5,4)&$A31,Lista_Ubigeo!$J:$K,2,0),\" \")","v":"COLAN"},{"$f":"IFERROR(VLOOKUP(MID(FE$27,5,4)&$A31,Lista_Ubigeo!$J:$K,2,0),\" \")","v":"LANCONES"},{"$f":"IFERROR(VLOOKUP(MID(FF$27,5,4)&$A31,Lista_Ubigeo!$J:$K,2,0),\" \")","v":"LOBITOS"},{"$f":"IFERROR(VLOOKUP(MID(FG$27,5,4)&$A31,Lista_Ubigeo!$J:$K,2,0),\" \")","v":"CRISTO NOS VALGA"},{"$f":"IFERROR(VLOOKUP(MID(FH$27,5,4)&$A31,Lista_Ubigeo!$J:$K,2,0),\" \")","v":"ATUNCOLLA"},{"$f":"IFERROR(VLOOKUP(MID(FI$27,5,4)&$A31,Lista_Ubigeo!$J:$K,2,0),\" \")","v":"ASILLO"},{"$f":"IFERROR(VLOOKUP(MID(FJ$27,5,4)&$A31,Lista_Ubigeo!$J:$K,2,0),\" \")","v":"COASA"},{"$f":"IFERROR(VLOOKUP(MID(FK$27,5,4)&$A31,Lista_Ubigeo!$J:$K,2,0),\" \")","v":"KELLUYO"},{"$f":"IFERROR(VLOOKUP(MID(FL$27,5,4)&$A31,Lista_Ubigeo!$J:$K,2,0),\" \")","v":"SANTA ROSA"},{"$f":"IFERROR(VLOOKUP(MID(FM$27,5,4)&$A31,Lista_Ubigeo!$J:$K,2,0),\" \")","v":"INCHUPALLA"},{"$f":"IFERROR(VLOOKUP(MID(FN$27,5,4)&$A31,Lista_Ubigeo!$J:$K,2,0),\" \")","v":"NICASIO"},{"$f":"IFERROR(VLOOKUP(MID(FO$27,5,4)&$A31,Lista_Ubigeo!$J:$K,2,0),\" \")","v":"LLALLI"},{"$f":"IFERROR(VLOOKUP(MID(FP$27,5,4)&$A31,Lista_Ubigeo!$J:$K,2,0),\" \")","v":"TILALI"},{"$f":"IFERROR(VLOOKUP(MID(FQ$27,5,4)&$A31,Lista_Ubigeo!$J:$K,2,0),\" \")","v":"QUILCAPUNCU"},{"$f":"IFERROR(VLOOKUP(MID(FR$27,5,4)&$A31,Lista_Ubigeo!$J:$K,2,0),\" \")","v":"CARACOTO"},{"$f":"IFERROR(VLOOKUP(MID(FS$27,5,4)&$A31,Lista_Ubigeo!$J:$K,2,0),\" \")","v":"PATAMBUCO"},{"$f":"IFERROR(VLOOKUP(MID(FT$27,5,4)&$A31,Lista_Ubigeo!$J:$K,2,0),\" \")","v":"CUTURAPI"},{"$f":"IFERROR(VLOOKUP(MID(FU$27,5,4)&$A31,Lista_Ubigeo!$J:$K,2,0),\" \")","v":"JEPELACIO"},{"$f":"IFERROR(VLOOKUP(MID(FV$27,5,4)&$A31,Lista_Ubigeo!$J:$K,2,0),\" \")","v":"HUALLAGA"},{"$f":"IFERROR(VLOOKUP(MID(FW$27,5,4)&$A31,Lista_Ubigeo!$J:$K,2,0),\" \")","v":"SANTA ROSA"},{"$f":"IFERROR(VLOOKUP(MID(FX$27,5,4)&$A31,Lista_Ubigeo!$J:$K,2,0),\" \")","v":"PISCOYACU"},{"$f":"IFERROR(VLOOKUP(MID(FY$27,5,4)&$A31,Lista_Ubigeo!$J:$K,2,0),\" \")","v":"CAYNARACHI"},{"$f":"IFERROR(VLOOKUP(MID(FZ$27,5,4)&$A31,Lista_Ubigeo!$J:$K,2,0),\" \")","v":"PACHIZA"},{"$f":"IFERROR(VLOOKUP(MID(GA$27,5,4)&$A31,Lista_Ubigeo!$J:$K,2,0),\" \")","v":"PILLUANA"},{"$f":"IFERROR(VLOOKUP(MID(GB$27,5,4)&$A31,Lista_Ubigeo!$J:$K,2,0),\" \")","v":"NUEVA CAJAMARCA"},{"$f":"IFERROR(VLOOKUP(MID(GC$27,5,4)&$A31,Lista_Ubigeo!$J:$K,2,0),\" \")","v":"CHAZUTA"},{"$f":"IFERROR(VLOOKUP(MID(GD$27,5,4)&$A31,Lista_Ubigeo!$J:$K,2,0),\" \")","v":"SHUNTE"},{"$f":"IFERROR(VLOOKUP(MID(GE$27,5,4)&$A31,Lista_Ubigeo!$J:$K,2,0),\" \")","v":"CIUDAD NUEVA"},{"$f":"IFERROR(VLOOKUP(MID(GF$27,5,4)&$A31,Lista_Ubigeo!$J:$K,2,0),\" \")","v":"CURIBAYA"},{"$f":"IFERROR(VLOOKUP(MID(GG$27,5,4)&$A31,Lista_Ubigeo!$J:$K,2,0),\" \")","v":" "},{"$f":"IFERROR(VLOOKUP(MID(GH$27,5,4)&$A31,Lista_Ubigeo!$J:$K,2,0),\" \")","v":"ESTIQUE-PAMPA"},{"$f":"IFERROR(VLOOKUP(MID(GI$27,5,4)&$A31,Lista_Ubigeo!$J:$K,2,0),\" \")","v":"PAMPAS DE HOSPITAL"},{"$f":"IFERROR(VLOOKUP(MID(GJ$27,5,4)&$A31,Lista_Ubigeo!$J:$K,2,0),\" \")","v":" "},{"$f":"IFERROR(VLOOKUP(MID(GK$27,5,4)&$A31,Lista_Ubigeo!$J:$K,2,0),\" \")","v":"PAPAYAL"},{"$f":"IFERROR(VLOOKUP(MID(GL$27,5,4)&$A31,Lista_Ubigeo!$J:$K,2,0),\" \")","v":"MASISEA"},{"$f":"IFERROR(VLOOKUP(MID(GM$27,5,4)&$A31,Lista_Ubigeo!$J:$K,2,0),\" \")","v":"YURUA"},{"$f":"IFERROR(VLOOKUP(MID(GN$27,5,4)&$A31,Lista_Ubigeo!$J:$K,2,0),\" \")","v":"NESHUYA"},{"$f":"IFERROR(VLOOKUP(MID(GO$27,5,4)&$A31,Lista_Ubigeo!$J:$K,2,0),\" \")","v":" "},{"$f":"IFERROR(VLOOKUP(MID(GP$27,5,4)&$A31,Lista_Ubigeo!$J:$K,2,0),\" \")","v":"ASILLO"}]
["05",{"$f":"IFERROR(VLOOKUP(MID(B$27,5,4)&$A32,Lista_Ubigeo!$J:$K,2,0),\" \")","v":"CHILIQUIN"},{"$f":"IFERROR(VLOOKUP(MID(C$27,5,4)&$A32,Lista_Ubigeo!$J:$K,2,0),\" \")","v":"IMAZA"},{"$f":"IFERROR(VLOOKUP(MID(D$27,5,4)&$A32,Lista_Ubigeo!$J:$K,2,0),\" \")","v":"CUISPES"},{"$f":"IFERROR(VLOOKUP(MID(E$27,5,4)&$A32,Lista_Ubigeo!$J:$K,2,0),\" \")","v":" "},{"$f":"IFERROR(VLOOKUP(MID(F$27,5,4)&$A32,Lista_Ubigeo!$J:$K,2,0),\" \")","v":"CONILA"},{"$f":"IFERROR(VLOOKUP(MID(G$27,5,4)&$A32,Lista_Ubigeo!$J:$K,2,0),\" \")","v":"LIMABAMBA"},{"$f":"IFERROR(VLOOKUP(MID(H$27,5,4)&$A32,Lista_Ubigeo!$J:$K,2,0),\" \")","v":"JAMALCA"},{"$f":"IFERROR(VLOOKUP(MID(I$27,5,4)&$A32,Lista_Ubigeo!$J:$K,2,0),\" \")","v":"INDEPENDENCIA"},{"$f":"IFERROR(VLOOKUP(MID(J$27,5,4)&$A32,Lista_Ubigeo!$J:$K,2,0),\" \")","v":"SUCCHA"},{"$f":"IFERROR(VLOOKUP(MID(K$27,5,4)&$A32,Lista_Ubigeo!$J:$K,2,0),\" \")","v":"MIRGAS"},{"$f":"IFERROR(VLOOKUP(MID(L$27,5,4)&$A32,Lista_Ubigeo!$J:$K,2,0),\" \")","v":" "},{"$f":"IFERROR(VLOOKUP(MID(M$27,5,4)&$A32,Lista_Ubigeo!$J:$K,2,0),\" \")","v":"CAJACAY"},{"$f":"IFERROR(VLOOKUP(MID(N$27,5,4)&$A32,Lista_Ubigeo!$J:$K,2,0),\" \")","v":"ATAQUERO"},{"$f":"IFERROR(VLOOKUP(MID(O$27,5,4)&$A32,Lista_Ubigeo!$J:$K,2,0),\" \")","v":" "},{"$f":"IFERROR(VLOOKUP(MID(P$27,5,4)&$A32,Lista_Ubigeo!$J:$K,2,0),\" \")","v":" "},{"$f":"IFERROR(VLOOKUP(MID(Q$27,5,4)&$A32,Lista_Ubigeo!$J:$K,2,0),\" \")","v":"LA PAMPA"},{"$f":"IFERROR(VLOOKUP(MID(R$27,5,4)&$A32,Lista_Ubigeo!$J:$K,2,0),\" \")","v":"HUACACHI"},{"$f":"IFERROR(VLOOKUP(MID(S$27,5,4)&$A32,Lista_Ubigeo!$J:$K,2,0),\" \")","v":"MALVAS"},{"$f":"IFERROR(VLOOKUP(MID(T$27,5,4)&$A32,Lista_Ubigeo!$J:$K,2,0),\" \")","v":"MATO"},{"$f":"IFERROR(VLOOKUP(MID(U$27,5,4)&$A32,Lista_Ubigeo!$J:$K,2,0),\" \")","v":"LLAMA"},{"$f":"IFERROR(VLOOKUP(MID(V$27,5,4)&$A32,Lista_Ubigeo!$J:$K,2,0),\" \")","v":"COCHAS"},{"$f":"IFERROR(VLOOKUP(MID(W$27,5,4)&$A32,Lista_Ubigeo!$J:$K,2,0),\" \")","v":"HUANDOVAL"},{"$f":"IFERROR(VLOOKUP(MID(X$27,5,4)&$A32,Lista_Ubigeo!$J:$K,2,0),\" \")","v":" "},{"$f":"IFERROR(VLOOKUP(MID(Y$27,5,4)&$A32,Lista_Ubigeo!$J:$K,2,0),\" \")","v":"LLACLLIN"},{"$f":"IFERROR(VLOOKUP(MID(Z$27,5,4)&$A32,Lista_Ubigeo!$J:$K,2,0),\" \")","v":"MORO"},{"$f":"IFERROR(VLOOKUP(MID(AA$27,5,4)&$A32,Lista_Ubigeo!$J:$K,2,0),\" \")","v":"CHINGALPO"},{"$f":"IFERROR(VLOOKUP(MID(AB$27,5,4)&$A32,Lista_Ubigeo!$J:$K,2,0),\" \")","v":"QUILLO"},{"$f":"IFERROR(VLOOKUP(MID(AC$27,5,4)&$A32,Lista_Ubigeo!$J:$K,2,0),\" \")","v":"HUANIPACA"},{"$f":"IFERROR(VLOOKUP(MID(AD$27,5,4)&$A32,Lista_Ubigeo!$J:$K,2,0),\" \")","v":"HUANCARAY"},{"$f":"IFERROR(VLOOKUP(MID(AE$27,5,4)&$A32,Lista_Ubigeo!$J:$K,2,0),\" \")","v":"OROPESA"},{"$f":"IFERROR(VLOOKUP(MID(AF$27,5,4)&$A32,Lista_Ubigeo!$J:$K,2,0),\" \")","v":"COLCABAMBA"},{"$f":"IFERROR(VLOOKUP(MID(AG$27,5,4)&$A32,Lista_Ubigeo!$J:$K,2,0),\" \")","v":"MARA"},{"$f":"IFERROR(VLOOKUP(MID(AH$27,5,4)&$A32,Lista_Ubigeo!$J:$K,2,0),\" \")","v":"OCOBAMBA"},{"$f":"IFERROR(VLOOKUP(MID(AI$27,5,4)&$A32,Lista_Ubigeo!$J:$K,2,0),\" \")","v":"MAMARA"},{"$f":"IFERROR(VLOOKUP(MID(AJ$27,5,4)&$A32,Lista_Ubigeo!$J:$K,2,0),\" \")","v":"CHARACATO"},{"$f":"IFERROR(VLOOKUP(MID(AK$27,5,4)&$A32,Lista_Ubigeo!$J:$K,2,0),\" \")","v":"NICOLAS DE PIEROLA"},{"$f":"IFERROR(VLOOKUP(MID(AL$27,5,4)&$A32,Lista_Ubigeo!$J:$K,2,0),\" \")","v":"BELLA UNION"},{"$f":"IFERROR(VLOOKUP(MID(AM$27,5,4)&$A32,Lista_Ubigeo!$J:$K,2,0),\" \")","v":"CHILCAYMARCA"},{"$f":"IFERROR(VLOOKUP(MID(AN$27,5,4)&$A32,Lista_Ubigeo!$J:$K,2,0),\" \")","v":"CAYLLOMA"},{"$f":"IFERROR(VLOOKUP(MID(AO$27,5,4)&$A32,Lista_Ubigeo!$J:$K,2,0),\" \")","v":"IRAY"},{"$f":"IFERROR(VLOOKUP(MID(AP$27,5,4)&$A32,Lista_Ubigeo!$J:$K,2,0),\" \")","v":"MEJIA"},{"$f":"IFERROR(VLOOKUP(MID(AQ$27,4,4)&$A32,Lista_Ubigeo!$J:$K,2,0),\" \")","v":"PAMPAMARCA"},{"$f":"IFERROR(VLOOKUP(MID(AR$27,5,4)&$A32,Lista_Ubigeo!$J:$K,2,0),\" \")","v":"CHIARA"},{"$f":"IFERROR(VLOOKUP(MID(AS$27,5,4)&$A32,Lista_Ubigeo!$J:$K,2,0),\" \")","v":"PARAS"},{"$f":"IFERROR(VLOOKUP(MID(AT$27,5,4)&$A32,Lista_Ubigeo!$J:$K,2,0),\" \")","v":" "},{"$f":"IFERROR(VLOOKUP(MID(AU$27,5,4)&$A32,Lista_Ubigeo!$J:$K,2,0),\" \")","v":"LURICOCHA"},{"$f":"IFERROR(VLOOKUP(MID(AV$27,5,4)&$A32,Lista_Ubigeo!$J:$K,2,0),\" \")","v":"CHUNGUI"},{"$f":"IFERROR(VLOOKUP(MID(AW$27,5,4)&$A32,Lista_Ubigeo!$J:$K,2,0),\" \")","v":"CHAVIÑA"},{"$f":"IFERROR(VLOOKUP(MID(AX$27,5,4)&$A32,Lista_Ubigeo!$J:$K,2,0),\" \")","v":"PULLO"},{"$f":"IFERROR(VLOOKUP(MID(AY$27,5,4)&$A32,Lista_Ubigeo!$J:$K,2,0),\" \")","v":"MARCABAMBA"},{"$f":"IFERROR(VLOOKUP(MID(AZ$27,5,4)&$A32,Lista_Ubigeo!$J:$K,2,0),\" \")","v":"HUACAÑA"},{"$f":"IFERROR(VLOOKUP(MID(BA$27,5,4)&$A32,Lista_Ubigeo!$J:$K,2,0),\" \")","v":"CANARIA"},{"$f":"IFERROR(VLOOKUP(MID(BB$27,5,4)&$A32,Lista_Ubigeo!$J:$K,2,0),\" \")","v":"HUAMBALPA"},{"$f":"IFERROR(VLOOKUP(MID(BC$27,5,4)&$A32,Lista_Ubigeo!$J:$K,2,0),\" \")","v":"ENCAÑADA"},{"$f":"IFERROR(VLOOKUP(MID(BD$27,5,4)&$A32,Lista_Ubigeo!$J:$K,2,0),\" \")","v":" "},{"$f":"IFERROR(VLOOKUP(MID(BE$27,5,4)&$A32,Lista_Ubigeo!$J:$K,2,0),\" \")","v":"JORGE CHAVEZ"},{"$f":"IFERROR(VLOOKUP(MID(BF$27,5,4)&$A32,Lista_Ubigeo!$J:$K,2,0),\" \")","v":"CHIMBAN"},{"$f":"IFERROR(VLOOKUP(MID(BG$27,5,4)&$A32,Lista_Ubigeo!$J:$K,2,0),\" \")","v":"SAN BENITO"},{"$f":"IFERROR(VLOOKUP(MID(BH$27,5,4)&$A32,Lista_Ubigeo!$J:$K,2,0),\" \")","v":"LA RAMADA"},{"$f":"IFERROR(VLOOKUP(MID(BI$27,5,4)&$A32,Lista_Ubigeo!$J:$K,2,0),\" \")","v":" "},{"$f":"IFERROR(VLOOKUP(MID(BJ$27,5,4)&$A32,Lista_Ubigeo!$J:$K,2,0),\" \")","v":"HUABAL"},{"$f":"IFERROR(VLOOKUP(MID(BK$27,5,4)&$A32,Lista_Ubigeo!$J:$K,2,0),\" \")","v":"NAMBALLE"},{"$f":"IFERROR(VLOOKUP(MID(BL$27,5,4)&$A32,Lista_Ubigeo!$J:$K,2,0),\" \")","v":"ICHOCAN"},{"$f":"IFERROR(VLOOKUP(MID(BM$27,5,4)&$A32,Lista_Ubigeo!$J:$K,2,0),\" \")","v":"EL PRADO"},{"$f":"IFERROR(VLOOKUP(MID(BN$27,5,4)&$A32,Lista_Ubigeo!$J:$K,2,0),\" \")","v":" "},{"$f":"IFERROR(VLOOKUP(MID(BO$27,5,4)&$A32,Lista_Ubigeo!$J:$K,2,0),\" \")","v":"LA ESPERANZA"},{"$f":"IFERROR(VLOOKUP(MID(BP$27,5,4)&$A32,Lista_Ubigeo!$J:$K,2,0),\" \")","v":"LA PUNTA"},{"$f":"IFERROR(VLOOKUP(MID(BQ$27,5,4)&$A32,Lista_Ubigeo!$J:$K,2,0),\" \")","v":"SAN SEBASTIAN"},{"$f":"IFERROR(VLOOKUP(MID(BR$27,5,4)&$A32,Lista_Ubigeo!$J:$K,2,0),\" \")","v":"POMACANCHI"},{"$f":"IFERROR(VLOOKUP(MID(BS$27,5,4)&$A32,Lista_Ubigeo!$J:$K,2,0),\" \")","v":"HUAROCONDO"},{"$f":"IFERROR(VLOOKUP(MID(BT$27,5,4)&$A32,Lista_Ubigeo!$J:$K,2,0),\" \")","v":"PISAC"},{"$f":"IFERROR(VLOOKUP(MID(BU$27,5,4)&$A32,Lista_Ubigeo!$J:$K,2,0),\" \")","v":"LAYO"},{"$f":"IFERROR(VLOOKUP(MID(BV$27,5,4)&$A32,Lista_Ubigeo!$J:$K,2,0),\" \")","v":"PITUMARCA"},{"$f":"IFERROR(VLOOKUP(MID(BW$27,5,4)&$A32,Lista_Ubigeo!$J:$K,2,0),\" \")","v":"LIVITACA"},{"$f":"IFERROR(VLOOKUP(MID(BX$27,5,4)&$A32,Lista_Ubigeo!$J:$K,2,0),\" \")","v":"PALLPATA"},{"$f":"IFERROR(VLOOKUP(MID(BY$27,4,4)&$A32,Lista_Ubigeo!$J:$K,2,0),\" \")","v":"OCOBAMBA"},{"$f":"IFERROR(VLOOKUP(MID(BZ$27,5,4)&$A32,Lista_Ubigeo!$J:$K,2,0),\" \")","v":"HUANOQUITE"},{"$f":"IFERROR(VLOOKUP(MID(CA$27,5,4)&$A32,Lista_Ubigeo!$J:$K,2,0),\" \")","v":"HUANCARANI"},{"$f":"IFERROR(VLOOKUP(MID(CB$27,5,4)&$A32,Lista_Ubigeo!$J:$K,2,0),\" \")","v":"CCATCA"},{"$f":"IFERROR(VLOOKUP(MID(CC$27,5,4)&$A32,Lista_Ubigeo!$J:$K,2,0),\" \")","v":"MARAS"},{"$f":"IFERROR(VLOOKUP(MID(CD$27,5,4)&$A32,Lista_Ubigeo!$J:$K,2,0),\" \")","v":"CUENCA"},{"$f":"IFERROR(VLOOKUP(MID(CE$27,5,4)&$A32,Lista_Ubigeo!$J:$K,2,0),\" \")","v":"MARCAS"},{"$f":"IFERROR(VLOOKUP(MID(CF$27,5,4)&$A32,Lista_Ubigeo!$J:$K,2,0),\" \")","v":"CHINCHO"},{"$f":"IFERROR(VLOOKUP(MID(CG$27,5,4)&$A32,Lista_Ubigeo!$J:$K,2,0),\" \")","v":"CHUPAMARCA"},{"$f":"IFERROR(VLOOKUP(MID(CH$27,5,4)&$A32,Lista_Ubigeo!$J:$K,2,0),\" \")","v":"LA MERCED"},{"$f":"IFERROR(VLOOKUP(MID(CI$27,5,4)&$A32,Lista_Ubigeo!$J:$K,2,0),\" \")","v":"LARAMARCA"},{"$f":"IFERROR(VLOOKUP(MID(CJ$27,5,4)&$A32,Lista_Ubigeo!$J:$K,2,0),\" \")","v":"COLCABAMBA"},{"$f":"IFERROR(VLOOKUP(MID(CK$27,5,4)&$A32,Lista_Ubigeo!$J:$K,2,0),\" \")","v":"MARGOS"},{"$f":"IFERROR(VLOOKUP(MID(CL$27,5,4)&$A32,Lista_Ubigeo!$J:$K,2,0),\" \")","v":"HUACAR"},{"$f":"IFERROR(VLOOKUP(MID(CM$27,5,4)&$A43,Lista_Ubigeo!$J:$K,2,0),\" \")","v":"QUIVILLA"},{"$f":"IFERROR(VLOOKUP(MID(CN$27,5,4)&$A32,Lista_Ubigeo!$J:$K,2,0),\" \")","v":" "},{"$f":"IFERROR(VLOOKUP(MID(CO$27,5,4)&$A32,Lista_Ubigeo!$J:$K,2,0),\" \")","v":"JIRCAN"},{"$f":"IFERROR(VLOOKUP(MID(CP$27,5,4)&$A32,Lista_Ubigeo!$J:$K,2,0),\" \")","v":"LUYANDO"},{"$f":"IFERROR(VLOOKUP(MID(CQ$27,5,4)&$A32,Lista_Ubigeo!$J:$K,2,0),\" \")","v":"SANTA ROSA DE ALTO YANAJANCA"},{"$f":"IFERROR(VLOOKUP(MID(CR$27,5,4)&$A32,Lista_Ubigeo!$J:$K,2,0),\" \")","v":" "},{"$f":"IFERROR(VLOOKUP(MID(CS$27,5,4)&$A32,Lista_Ubigeo!$J:$K,2,0),\" \")","v":"YUYAPICHIS"},{"$f":"IFERROR(VLOOKUP(MID(CT$27,5,4)&$A32,Lista_Ubigeo!$J:$K,2,0),\" \")","v":"RONDOS"},{"$f":"IFERROR(VLOOKUP(MID(CU$27,5,4)&$A32,Lista_Ubigeo!$J:$K,2,0),\" \")","v":"JACAS CHICO"},{"$f":"IFERROR(VLOOKUP(MID(CV$27,5,4)&$A32,Lista_Ubigeo!$J:$K,2,0),\" \")","v":"PACHACUTEC"},{"$f":"IFERROR(VLOOKUP(MID(CW$27,5,4)&$A32,Lista_Ubigeo!$J:$K,2,0),\" \")","v":"EL CARMEN"},{"$f":"IFERROR(VLOOKUP(MID(CX$27,5,4)&$A32,Lista_Ubigeo!$J:$K,2,0),\" \")","v":"VISTA ALEGRE"},{"$f":"IFERROR(VLOOKUP(MID(CY$27,5,4)&$A32,Lista_Ubigeo!$J:$K,2,0),\" \")","v":"TIBILLO"},{"$f":"IFERROR(VLOOKUP(MID(CZ$27,5,4)&$A32,Lista_Ubigeo!$J:$K,2,0),\" \")","v":"PARACAS"},"CHILCA",{"$f":"IFERROR(VLOOKUP(MID(DB$27,5,4)&$A32,Lista_Ubigeo!$J:$K,2,0),\" \")","v":"COCHAS"},{"$f":"IFERROR(VLOOKUP(MID(DC$27,5,4)&$A32,Lista_Ubigeo!$J:$K,2,0),\" \")","v":"SAN RAMON"},{"$f":"IFERROR(VLOOKUP(MID(DD$27,5,4)&$A32,Lista_Ubigeo!$J:$K,2,0),\" \")","v":"CANCHAYLLO"},{"$f":"IFERROR(VLOOKUP(MID(DE$27,5,4)&$A32,Lista_Ubigeo!$J:$K,2,0),\" \")","v":" "},{"$f":"IFERROR(VLOOKUP(MID(DF$27,5,4)&$A32,Lista_Ubigeo!$J:$K,2,0),\" \")","v":"PAMPA HERMOSA"},{"$f":"IFERROR(VLOOKUP(MID(DG$27,5,4)&$A32,Lista_Ubigeo!$J:$K,2,0),\" \")","v":"LA UNION"},{"$f":"IFERROR(VLOOKUP(MID(DH$27,5,4)&$A32,Lista_Ubigeo!$J:$K,2,0),\" \")","v":"MOROCOCHA"},{"$f":"IFERROR(VLOOKUP(MID(DI$27,5,4)&$A32,Lista_Ubigeo!$J:$K,2,0),\" \")","v":"HUAMANCACA CHICO"},{"$f":"IFERROR(VLOOKUP(MID(DJ$27,5,4)&$A32,Lista_Ubigeo!$J:$K,2,0),\" \")","v":"LA ESPERANZA"},{"$f":"IFERROR(VLOOKUP(MID(DK$27,5,4)&$A32,Lista_Ubigeo!$J:$K,2,0),\" \")","v":"PAIJAN"},{"$f":"IFERROR(VLOOKUP(MID(DL$27,5,4)&$A32,Lista_Ubigeo!$J:$K,2,0),\" \")","v":"UCHUMARCA"},{"$f":"IFERROR(VLOOKUP(MID(DM$27,5,4)&$A32,Lista_Ubigeo!$J:$K,2,0),\" \")","v":" "},{"$f":"IFERROR(VLOOKUP(MID(DN$27,5,4)&$A32,Lista_Ubigeo!$J:$K,2,0),\" \")","v":" "},{"$f":"IFERROR(VLOOKUP(MID(DO$27,5,4)&$A33,Lista_Ubigeo!$J:$K,2,0),\" \")","v":"LA CUESTA"},{"$f":"IFERROR(VLOOKUP(MID(DP$27,5,4)&$A32,Lista_Ubigeo!$J:$K,2,0),\" \")","v":"SAN JOSE"},{"$f":"IFERROR(VLOOKUP(MID(DQ$27,5,4)&$A32,Lista_Ubigeo!$J:$K,2,0),\" \")","v":"HUAYLILLAS"},{"$f":"IFERROR(VLOOKUP(MID(DR$27,5,4)&$A32,Lista_Ubigeo!$J:$K,2,0),\" \")","v":"MARCABAL"},{"$f":"IFERROR(VLOOKUP(MID(DS$27,5,4)&$A32,Lista_Ubigeo!$J:$K,2,0),\" \")","v":"MOLLEPATA"},null,null,{"$f":"IFERROR(VLOOKUP(MID(DV$27,5,4)&$A32,Lista_Ubigeo!$J:$K,2,0),\" \")","v":"JOSE LEONARDO ORTIZ"},{"$f":"IFERROR(VLOOKUP(MID(DW$27,5,4)&$A32,Lista_Ubigeo!$J:$K,2,0),\" \")","v":"PITIPO"},{"$f":"IFERROR(VLOOKUP(MID(DX$27,5,4)&$A32,Lista_Ubigeo!$J:$K,2,0),\" \")","v":"MOCHUMI"},{"$f":"IFERROR(VLOOKUP(MID(DY$27,5,4)&$A32,Lista_Ubigeo!$J:$K,2,0),\" \")","v":"BREÑA"},{"$f":"IFERROR(VLOOKUP(MID(DZ$27,5,4)&$A32,Lista_Ubigeo!$J:$K,2,0),\" \")","v":"SUPE PUERTO"},{"$f":"IFERROR(VLOOKUP(MID(EA$27,5,4)&$A32,Lista_Ubigeo!$J:$K,2,0),\" \")","v":"MANAS"},{"$f":"IFERROR(VLOOKUP(MID(EB$27,5,4)&$A32,Lista_Ubigeo!$J:$K,2,0),\" \")","v":"LACHAQUI"},{"$f":"IFERROR(VLOOKUP(MID(EC$27,5,4)&$A32,Lista_Ubigeo!$J:$K,2,0),\" \")","v":"CHILCA"},{"$f":"IFERROR(VLOOKUP(MID(ED$27,5,4)&$A32,Lista_Ubigeo!$J:$K,2,0),\" \")","v":"CHANCAY"},{"$f":"IFERROR(VLOOKUP(MID(EE$27,5,4)&$A32,Lista_Ubigeo!$J:$K,2,0),\" \")","v":"CHICLA"},{"$f":"IFERROR(VLOOKUP(MID(EF$27,5,4)&$A32,Lista_Ubigeo!$J:$K,2,0),\" \")","v":"HUALMAY"},{"$f":"IFERROR(VLOOKUP(MID(EG$27,5,4)&$A32,Lista_Ubigeo!$J:$K,2,0),\" \")","v":"NAVAN"},{"$f":"IFERROR(VLOOKUP(MID(EH$27,5,4)&$A32,Lista_Ubigeo!$J:$K,2,0),\" \")","v":"AZANGARO"},{"$f":"IFERROR(VLOOKUP(MID(EI$27,5,4)&$A32,Lista_Ubigeo!$J:$K,2,0),\" \")","v":"AMAZONAS"},{"$f":"IFERROR(VLOOKUP(MID(EJ$27,5,4)&$A37,Lista_Ubigeo!$J:$K,2,0),\" \")","v":"SANTA CRUZ"},{"$f":"IFERROR(VLOOKUP(MID(EK$27,5,4)&$A32,Lista_Ubigeo!$J:$K,2,0),\" \")","v":"URARINAS"},{"$f":"IFERROR(VLOOKUP(MID(EL$27,5,4)&$A32,Lista_Ubigeo!$J:$K,2,0),\" \")","v":" "},{"$f":"IFERROR(VLOOKUP(MID(EM$27,5,4)&$A32,Lista_Ubigeo!$J:$K,2,0),\" \")","v":"MAQUIA"},{"$f":"IFERROR(VLOOKUP(MID(EN$27,5,4)&$A32,Lista_Ubigeo!$J:$K,2,0),\" \")","v":"SARAYACU"},{"$f":"IFERROR(VLOOKUP(MID(EO$27,5,4)&$A32,Lista_Ubigeo!$J:$K,2,0),\" \")","v":"PASTAZA"},{"$f":"IFERROR(VLOOKUP(MID(EP$27,5,4)&$A32,Lista_Ubigeo!$J:$K,2,0),\" \")","v":" "},{"$f":"IFERROR(VLOOKUP(MID(EQ$27,5,4)&$A32,Lista_Ubigeo!$J:$K,2,0),\" \")","v":" "},{"$f":"IFERROR(VLOOKUP(MID(ER$27,5,4)&$A32,Lista_Ubigeo!$J:$K,2,0),\" \")","v":" "},{"$f":"IFERROR(VLOOKUP(MID(ES$27,5,4)&$A32,Lista_Ubigeo!$J:$K,2,0),\" \")","v":" "},{"$f":"IFERROR(VLOOKUP(MID(ET$27,5,4)&$A32,Lista_Ubigeo!$J:$K,2,0),\" \")","v":"SAN CRISTOBAL"},{"$f":"IFERROR(VLOOKUP(MID(EU$27,5,4)&$A32,Lista_Ubigeo!$J:$K,2,0),\" \")","v":"LA CAPILLA"},{"$f":"IFERROR(VLOOKUP(MID(EV$27,5,4)&$A32,Lista_Ubigeo!$J:$K,2,0),\" \")","v":" "},{"$f":"IFERROR(VLOOKUP(MID(EW$27,5,4)&$A32,Lista_Ubigeo!$J:$K,2,0),\" \")","v":"NINACACA"},{"$f":"IFERROR(VLOOKUP(MID(EX$27,5,4)&$A32,Lista_Ubigeo!$J:$K,2,0),\" \")","v":"SAN PEDRO DE PILLAO"},{"$f":"IFERROR(VLOOKUP(MID(EY$27,5,4)&$A32,Lista_Ubigeo!$J:$K,2,0),\" \")","v":"POZUZO"},{"$f":"IFERROR(VLOOKUP(MID(EZ$27,5,4)&$A35,Lista_Ubigeo!$J:$K,2,0),\" \")","v":"EL TALLAN"},{"$f":"IFERROR(VLOOKUP(MID(FA$27,5,4)&$A32,Lista_Ubigeo!$J:$K,2,0),\" \")","v":"MONTERO"},{"$f":"IFERROR(VLOOKUP(MID(FB$27,5,4)&$A32,Lista_Ubigeo!$J:$K,2,0),\" \")","v":"LALAQUIZ"},{"$f":"IFERROR(VLOOKUP(MID(FC$27,5,4)&$A32,Lista_Ubigeo!$J:$K,2,0),\" \")","v":"MORROPON"},{"$f":"IFERROR(VLOOKUP(MID(FD$27,5,4)&$A32,Lista_Ubigeo!$J:$K,2,0),\" \")","v":"LA HUACA"},{"$f":"IFERROR(VLOOKUP(MID(FE$27,5,4)&$A32,Lista_Ubigeo!$J:$K,2,0),\" \")","v":"MARCAVELICA"},{"$f":"IFERROR(VLOOKUP(MID(FF$27,5,4)&$A32,Lista_Ubigeo!$J:$K,2,0),\" \")","v":"LOS ORGANOS"},{"$f":"IFERROR(VLOOKUP(MID(FG$27,5,4)&$A32,Lista_Ubigeo!$J:$K,2,0),\" \")","v":"VICE"},{"$f":"IFERROR(VLOOKUP(MID(FH$27,5,4)&$A32,Lista_Ubigeo!$J:$K,2,0),\" \")","v":"CAPACHICA"},{"$f":"IFERROR(VLOOKUP(MID(FI$27,5,4)&$A32,Lista_Ubigeo!$J:$K,2,0),\" \")","v":"CAMINACA"},{"$f":"IFERROR(VLOOKUP(MID(FJ$27,5,4)&$A32,Lista_Ubigeo!$J:$K,2,0),\" \")","v":"CORANI"},{"$f":"IFERROR(VLOOKUP(MID(FK$27,5,4)&$A32,Lista_Ubigeo!$J:$K,2,0),\" \")","v":"PISACOMA"},{"$f":"IFERROR(VLOOKUP(MID(FL$27,5,4)&$A32,Lista_Ubigeo!$J:$K,2,0),\" \")","v":"CONDURIRI"},{"$f":"IFERROR(VLOOKUP(MID(FM$27,5,4)&$A32,Lista_Ubigeo!$J:$K,2,0),\" \")","v":"PUSI"},{"$f":"IFERROR(VLOOKUP(MID(FN$27,5,4)&$A32,Lista_Ubigeo!$J:$K,2,0),\" \")","v":"OCUVIRI"},{"$f":"IFERROR(VLOOKUP(MID(FO$27,5,4)&$A32,Lista_Ubigeo!$J:$K,2,0),\" \")","v":"MACARI"},{"$f":"IFERROR(VLOOKUP(MID(FP$27,5,4)&$A32,Lista_Ubigeo!$J:$K,2,0),\" \")","v":" "},{"$f":"IFERROR(VLOOKUP(MID(FQ$27,5,4)&$A32,Lista_Ubigeo!$J:$K,2,0),\" \")","v":"SINA"},{"$f":"IFERROR(VLOOKUP(MID(FR$27,5,4)&$A32,Lista_Ubigeo!$J:$K,2,0),\" \")","v":"SAN MIGUEL"},{"$f":"IFERROR(VLOOKUP(MID(FS$27,5,4)&$A32,Lista_Ubigeo!$J:$K,2,0),\" \")","v":"PHARA"},{"$f":"IFERROR(VLOOKUP(MID(FT$27,5,4)&$A32,Lista_Ubigeo!$J:$K,2,0),\" \")","v":"OLLARAYA"},{"$f":"IFERROR(VLOOKUP(MID(FU$27,5,4)&$A32,Lista_Ubigeo!$J:$K,2,0),\" \")","v":"SORITOR"},{"$f":"IFERROR(VLOOKUP(MID(FV$27,5,4)&$A32,Lista_Ubigeo!$J:$K,2,0),\" \")","v":"SAN PABLO"},{"$f":"IFERROR(VLOOKUP(MID(FW$27,5,4)&$A32,Lista_Ubigeo!$J:$K,2,0),\" \")","v":"SHATOJA"},{"$f":"IFERROR(VLOOKUP(MID(FX$27,5,4)&$A32,Lista_Ubigeo!$J:$K,2,0),\" \")","v":"SACANCHE"},{"$f":"IFERROR(VLOOKUP(MID(FY$27,5,4)&$A32,Lista_Ubigeo!$J:$K,2,0),\" \")","v":"CUÑUMBUQUI"},{"$f":"IFERROR(VLOOKUP(MID(FZ$27,5,4)&$A32,Lista_Ubigeo!$J:$K,2,0),\" \")","v":"PAJARILLO"},{"$f":"IFERROR(VLOOKUP(MID(GA$27,5,4)&$A32,Lista_Ubigeo!$J:$K,2,0),\" \")","v":"PUCACACA"},{"$f":"IFERROR(VLOOKUP(MID(GB$27,5,4)&$A32,Lista_Ubigeo!$J:$K,2,0),\" \")","v":"PARDO MIGUEL"},{"$f":"IFERROR(VLOOKUP(MID(GC$27,5,4)&$A32,Lista_Ubigeo!$J:$K,2,0),\" \")","v":"CHIPURANA"},{"$f":"IFERROR(VLOOKUP(MID(GD$27,5,4)&$A32,Lista_Ubigeo!$J:$K,2,0),\" \")","v":"UCHIZA"},{"$f":"IFERROR(VLOOKUP(MID(GE$27,5,4)&$A32,Lista_Ubigeo!$J:$K,2,0),\" \")","v":"INCLAN"},{"$f":"IFERROR(VLOOKUP(MID(GF$27,5,4)&$A32,Lista_Ubigeo!$J:$K,2,0),\" \")","v":"HUANUARA"},{"$f":"IFERROR(VLOOKUP(MID(GG$27,5,4)&$A32,Lista_Ubigeo!$J:$K,2,0),\" \")","v":" "},{"$f":"IFERROR(VLOOKUP(MID(GH$27,5,4)&$A32,Lista_Ubigeo!$J:$K,2,0),\" \")","v":"SITAJARA"},{"$f":"IFERROR(VLOOKUP(MID(GI$27,5,4)&$A32,Lista_Ubigeo!$J:$K,2,0),\" \")","v":"SAN JACINTO"},{"$f":"IFERROR(VLOOKUP(MID(GJ$27,5,4)&$A32,Lista_Ubigeo!$J:$K,2,0),\" \")","v":" "},{"$f":"IFERROR(VLOOKUP(MID(GK$27,5,4)&$A32,Lista_Ubigeo!$J:$K,2,0),\" \")","v":" "},{"$f":"IFERROR(VLOOKUP(MID(GL$27,5,4)&$A32,Lista_Ubigeo!$J:$K,2,0),\" \")","v":"YARINACOCHA"},{"$f":"IFERROR(VLOOKUP(MID(GM$27,5,4)&$A32,Lista_Ubigeo!$J:$K,2,0),\" \")","v":" "},{"$f":"IFERROR(VLOOKUP(MID(GN$27,5,4)&$A32,Lista_Ubigeo!$J:$K,2,0),\" \")","v":"ALEXANDER VON HUMBOLDT"},{"$f":"IFERROR(VLOOKUP(MID(GO$27,5,4)&$A32,Lista_Ubigeo!$J:$K,2,0),\" \")","v":" "},{"$f":"IFERROR(VLOOKUP(MID(GP$27,5,4)&$A32,Lista_Ubigeo!$J:$K,2,0),\" \")","v":"CAMINACA"}]
["06",{"$f":"IFERROR(VLOOKUP(MID(B$27,5,4)&$A33,Lista_Ubigeo!$J:$K,2,0),\" \")","v":"CHUQUIBAMBA"},{"$f":"IFERROR(VLOOKUP(MID(C$27,5,4)&$A33,Lista_Ubigeo!$J:$K,2,0),\" \")","v":"LA PECA"},{"$f":"IFERROR(VLOOKUP(MID(D$27,5,4)&$A33,Lista_Ubigeo!$J:$K,2,0),\" \")","v":"FLORIDA"},{"$f":"IFERROR(VLOOKUP(MID(E$27,5,4)&$A33,Lista_Ubigeo!$J:$K,2,0),\" \")","v":" "},{"$f":"IFERROR(VLOOKUP(MID(F$27,5,4)&$A33,Lista_Ubigeo!$J:$K,2,0),\" \")","v":"INGUILPATA"},{"$f":"IFERROR(VLOOKUP(MID(G$27,5,4)&$A33,Lista_Ubigeo!$J:$K,2,0),\" \")","v":"LONGAR"},{"$f":"IFERROR(VLOOKUP(MID(H$27,5,4)&$A33,Lista_Ubigeo!$J:$K,2,0),\" \")","v":"LONYA GRANDE"},{"$f":"IFERROR(VLOOKUP(MID(I$27,5,4)&$A33,Lista_Ubigeo!$J:$K,2,0),\" \")","v":"JANGAS"},{"$f":"IFERROR(VLOOKUP(MID(J$27,5,4)&$A33,Lista_Ubigeo!$J:$K,2,0),\" \")","v":" "},{"$f":"IFERROR(VLOOKUP(MID(K$27,5,4)&$A33,Lista_Ubigeo!$J:$K,2,0),\" \")","v":"SAN JUAN DE RONTOY"},{"$f":"IFERROR(VLOOKUP(MID(L$27,5,4)&$A33,Lista_Ubigeo!$J:$K,2,0),\" \")","v":" "},{"$f":"IFERROR(VLOOKUP(MID(M$27,5,4)&$A33,Lista_Ubigeo!$J:$K,2,0),\" \")","v":"CANIS"},{"$f":"IFERROR(VLOOKUP(MID(N$27,5,4)&$A33,Lista_Ubigeo!$J:$K,2,0),\" \")","v":"MARCARA"},{"$f":"IFERROR(VLOOKUP(MID(O$27,5,4)&$A33,Lista_Ubigeo!$J:$K,2,0),\" \")","v":" "},{"$f":"IFERROR(VLOOKUP(MID(P$27,5,4)&$A33,Lista_Ubigeo!$J:$K,2,0),\" \")","v":" "},{"$f":"IFERROR(VLOOKUP(MID(Q$27,5,4)&$A33,Lista_Ubigeo!$J:$K,2,0),\" \")","v":"YANAC"},{"$f":"IFERROR(VLOOKUP(MID(R$27,5,4)&$A33,Lista_Ubigeo!$J:$K,2,0),\" \")","v":"HUACCHIS"},{"$f":"IFERROR(VLOOKUP(MID(S$27,5,4)&$A33,Lista_Ubigeo!$J:$K,2,0),\" \")","v":" "},{"$f":"IFERROR(VLOOKUP(MID(T$27,5,4)&$A33,Lista_Ubigeo!$J:$K,2,0),\" \")","v":"PAMPAROMAS"},{"$f":"IFERROR(VLOOKUP(MID(U$27,5,4)&$A33,Lista_Ubigeo!$J:$K,2,0),\" \")","v":"LLUMPA"},{"$f":"IFERROR(VLOOKUP(MID(V$27,5,4)&$A33,Lista_Ubigeo!$J:$K,2,0),\" \")","v":"CONGAS"},{"$f":"IFERROR(VLOOKUP(MID(W$27,5,4)&$A33,Lista_Ubigeo!$J:$K,2,0),\" \")","v":"LACABAMBA"},{"$f":"IFERROR(VLOOKUP(MID(X$27,5,4)&$A33,Lista_Ubigeo!$J:$K,2,0),\" \")","v":" "},{"$f":"IFERROR(VLOOKUP(MID(Y$27,5,4)&$A33,Lista_Ubigeo!$J:$K,2,0),\" \")","v":"MARCA"},{"$f":"IFERROR(VLOOKUP(MID(Z$27,5,4)&$A33,Lista_Ubigeo!$J:$K,2,0),\" \")","v":"NEPEÑA"},{"$f":"IFERROR(VLOOKUP(MID(AA$27,5,4)&$A33,Lista_Ubigeo!$J:$K,2,0),\" \")","v":"HUAYLLABAMBA"},{"$f":"IFERROR(VLOOKUP(MID(AB$27,5,4)&$A33,Lista_Ubigeo!$J:$K,2,0),\" \")","v":"RANRAHIRCA"},{"$f":"IFERROR(VLOOKUP(MID(AC$27,5,4)&$A33,Lista_Ubigeo!$J:$K,2,0),\" \")","v":"LAMBRAMA"},{"$f":"IFERROR(VLOOKUP(MID(AD$27,5,4)&$A33,Lista_Ubigeo!$J:$K,2,0),\" \")","v":"HUAYANA"},{"$f":"IFERROR(VLOOKUP(MID(AE$27,5,4)&$A33,Lista_Ubigeo!$J:$K,2,0),\" \")","v":"PACHACONAS"},{"$f":"IFERROR(VLOOKUP(MID(AF$27,5,4)&$A33,Lista_Ubigeo!$J:$K,2,0),\" \")","v":"COTARUSE"},{"$f":"IFERROR(VLOOKUP(MID(AG$27,5,4)&$A33,Lista_Ubigeo!$J:$K,2,0),\" \")","v":"CHALLHUAHUACHO"},{"$f":"IFERROR(VLOOKUP(MID(AH$27,5,4)&$A33,Lista_Ubigeo!$J:$K,2,0),\" \")","v":"ONGOY"},{"$f":"IFERROR(VLOOKUP(MID(AI$27,5,4)&$A33,Lista_Ubigeo!$J:$K,2,0),\" \")","v":"MICAELA BASTIDAS"},{"$f":"IFERROR(VLOOKUP(MID(AJ$27,5,4)&$A33,Lista_Ubigeo!$J:$K,2,0),\" \")","v":"CHIGUATA"},{"$f":"IFERROR(VLOOKUP(MID(AK$27,5,4)&$A33,Lista_Ubigeo!$J:$K,2,0),\" \")","v":"OCOÑA"},{"$f":"IFERROR(VLOOKUP(MID(AL$27,5,4)&$A33,Lista_Ubigeo!$J:$K,2,0),\" \")","v":"CAHUACHO"},{"$f":"IFERROR(VLOOKUP(MID(AM$27,5,4)&$A33,Lista_Ubigeo!$J:$K,2,0),\" \")","v":"CHOCO"},{"$f":"IFERROR(VLOOKUP(MID(AN$27,5,4)&$A33,Lista_Ubigeo!$J:$K,2,0),\" \")","v":"COPORAQUE"},{"$f":"IFERROR(VLOOKUP(MID(AO$27,5,4)&$A33,Lista_Ubigeo!$J:$K,2,0),\" \")","v":"RIO GRANDE"},{"$f":"IFERROR(VLOOKUP(MID(AP$27,5,4)&$A33,Lista_Ubigeo!$J:$K,2,0),\" \")","v":"PUNTA DE BOMBON"},{"$f":"IFERROR(VLOOKUP(MID(AQ$27,4,4)&$A33,Lista_Ubigeo!$J:$K,2,0),\" \")","v":"PUYCA"},{"$f":"IFERROR(VLOOKUP(MID(AR$27,5,4)&$A33,Lista_Ubigeo!$J:$K,2,0),\" \")","v":"OCROS"},{"$f":"IFERROR(VLOOKUP(MID(AS$27,5,4)&$A33,Lista_Ubigeo!$J:$K,2,0),\" \")","v":"TOTOS"},{"$f":"IFERROR(VLOOKUP(MID(AT$27,5,4)&$A33,Lista_Ubigeo!$J:$K,2,0),\" \")","v":" "},{"$f":"IFERROR(VLOOKUP(MID(AU$27,5,4)&$A33,Lista_Ubigeo!$J:$K,2,0),\" \")","v":"SANTILLANA"},{"$f":"IFERROR(VLOOKUP(MID(AV$27,5,4)&$A33,Lista_Ubigeo!$J:$K,2,0),\" \")","v":"LUIS CARRANZA"},{"$f":"IFERROR(VLOOKUP(MID(AW$27,5,4)&$A33,Lista_Ubigeo!$J:$K,2,0),\" \")","v":"CHIPAO"},{"$f":"IFERROR(VLOOKUP(MID(AX$27,5,4)&$A33,Lista_Ubigeo!$J:$K,2,0),\" \")","v":"PUYUSCA"},{"$f":"IFERROR(VLOOKUP(MID(AY$27,5,4)&$A33,Lista_Ubigeo!$J:$K,2,0),\" \")","v":"OYOLO"},{"$f":"IFERROR(VLOOKUP(MID(AZ$27,5,4)&$A33,Lista_Ubigeo!$J:$K,2,0),\" \")","v":"MORCOLLA"},{"$f":"IFERROR(VLOOKUP(MID(BA$27,5,4)&$A33,Lista_Ubigeo!$J:$K,2,0),\" \")","v":"CAYARA"},{"$f":"IFERROR(VLOOKUP(MID(BB$27,5,4)&$A33,Lista_Ubigeo!$J:$K,2,0),\" \")","v":"INDEPENDENCIA"},{"$f":"IFERROR(VLOOKUP(MID(BC$27,5,4)&$A33,Lista_Ubigeo!$J:$K,2,0),\" \")","v":"JESUS"},{"$f":"IFERROR(VLOOKUP(MID(BD$27,5,4)&$A33,Lista_Ubigeo!$J:$K,2,0),\" \")","v":" "},{"$f":"IFERROR(VLOOKUP(MID(BE$27,5,4)&$A33,Lista_Ubigeo!$J:$K,2,0),\" \")","v":"JOSE GALVEZ"},{"$f":"IFERROR(VLOOKUP(MID(BF$27,5,4)&$A33,Lista_Ubigeo!$J:$K,2,0),\" \")","v":"CHOROPAMPA"},{"$f":"IFERROR(VLOOKUP(MID(BG$27,5,4)&$A33,Lista_Ubigeo!$J:$K,2,0),\" \")","v":"SANTA CRUZ DE TOLED"},{"$f":"IFERROR(VLOOKUP(MID(BH$27,5,4)&$A33,Lista_Ubigeo!$J:$K,2,0),\" \")","v":"PIMPINGOS"},{"$f":"IFERROR(VLOOKUP(MID(BI$27,5,4)&$A33,Lista_Ubigeo!$J:$K,2,0),\" \")","v":" "},{"$f":"IFERROR(VLOOKUP(MID(BJ$27,5,4)&$A33,Lista_Ubigeo!$J:$K,2,0),\" \")","v":"LAS PIRIAS"},{"$f":"IFERROR(VLOOKUP(MID(BK$27,5,4)&$A33,Lista_Ubigeo!$J:$K,2,0),\" \")","v":"SAN JOSE DE LOURDES"},{"$f":"IFERROR(VLOOKUP(MID(BL$27,5,4)&$A33,Lista_Ubigeo!$J:$K,2,0),\" \")","v":"JOSE MANUEL QUIROZ"},{"$f":"IFERROR(VLOOKUP(MID(BM$27,5,4)&$A33,Lista_Ubigeo!$J:$K,2,0),\" \")","v":"LA FLORIDA"},{"$f":"IFERROR(VLOOKUP(MID(BN$27,5,4)&$A33,Lista_Ubigeo!$J:$K,2,0),\" \")","v":" "},{"$f":"IFERROR(VLOOKUP(MID(BO$27,5,4)&$A33,Lista_Ubigeo!$J:$K,2,0),\" \")","v":"NINABAMBA"},{"$f":"IFERROR(VLOOKUP(MID(BP$27,5,4)&$A33,Lista_Ubigeo!$J:$K,2,0),\" \")","v":"VENTANILLA"},{"$f":"IFERROR(VLOOKUP(MID(BQ$27,5,4)&$A33,Lista_Ubigeo!$J:$K,2,0),\" \")","v":"SANTIAGO"},{"$f":"IFERROR(VLOOKUP(MID(BR$27,5,4)&$A33,Lista_Ubigeo!$J:$K,2,0),\" \")","v":"RONDOCAN"},{"$f":"IFERROR(VLOOKUP(MID(BS$27,5,4)&$A33,Lista_Ubigeo!$J:$K,2,0),\" \")","v":"LIMATAMBO"},{"$f":"IFERROR(VLOOKUP(MID(BT$27,5,4)&$A33,Lista_Ubigeo!$J:$K,2,0),\" \")","v":"SAN SALVADOR"},{"$f":"IFERROR(VLOOKUP(MID(BU$27,5,4)&$A33,Lista_Ubigeo!$J:$K,2,0),\" \")","v":"PAMPAMARCA"},{"$f":"IFERROR(VLOOKUP(MID(BV$27,5,4)&$A33,Lista_Ubigeo!$J:$K,2,0),\" \")","v":"SAN PABLO"},{"$f":"IFERROR(VLOOKUP(MID(BW$27,5,4)&$A33,Lista_Ubigeo!$J:$K,2,0),\" \")","v":"LLUSCO"},{"$f":"IFERROR(VLOOKUP(MID(BX$27,5,4)&$A33,Lista_Ubigeo!$J:$K,2,0),\" \")","v":"PICHIGUA"},{"$f":"IFERROR(VLOOKUP(MID(BY$27,4,4)&$A33,Lista_Ubigeo!$J:$K,2,0),\" \")","v":"QUELLOUNO"},{"$f":"IFERROR(VLOOKUP(MID(BZ$27,5,4)&$A33,Lista_Ubigeo!$J:$K,2,0),\" \")","v":"OMACHA"},{"$f":"IFERROR(VLOOKUP(MID(CA$27,5,4)&$A33,Lista_Ubigeo!$J:$K,2,0),\" \")","v":"KOSÑIPATA"},{"$f":"IFERROR(VLOOKUP(MID(CB$27,5,4)&$A33,Lista_Ubigeo!$J:$K,2,0),\" \")","v":"CUSIPATA"},{"$f":"IFERROR(VLOOKUP(MID(CC$27,5,4)&$A33,Lista_Ubigeo!$J:$K,2,0),\" \")","v":"OLLANTAYTAMBO"},{"$f":"IFERROR(VLOOKUP(MID(CD$27,5,4)&$A33,Lista_Ubigeo!$J:$K,2,0),\" \")","v":"HUACHOCOLPA"},{"$f":"IFERROR(VLOOKUP(MID(CE$27,5,4)&$A33,Lista_Ubigeo!$J:$K,2,0),\" \")","v":"PAUCARA"},{"$f":"IFERROR(VLOOKUP(MID(CF$27,5,4)&$A33,Lista_Ubigeo!$J:$K,2,0),\" \")","v":"CONGALLA"},{"$f":"IFERROR(VLOOKUP(MID(CG$27,5,4)&$A33,Lista_Ubigeo!$J:$K,2,0),\" \")","v":"COCAS"},{"$f":"IFERROR(VLOOKUP(MID(CH$27,5,4)&$A33,Lista_Ubigeo!$J:$K,2,0),\" \")","v":"LACROJA"},{"$f":"IFERROR(VLOOKUP(MID(CI$27,5,4)&$A33,Lista_Ubigeo!$J:$K,2,0),\" \")","v":"OCOYO"},{"$f":"IFERROR(VLOOKUP(MID(CJ$27,5,4)&$A33,Lista_Ubigeo!$J:$K,2,0),\" \")","v":"DANIEL HERNANDEZ"},{"$f":"IFERROR(VLOOKUP(MID(CK$27,5,4)&$A33,Lista_Ubigeo!$J:$K,2,0),\" \")","v":"QUISQUI"},{"$f":"IFERROR(VLOOKUP(MID(CL$27,5,4)&$A33,Lista_Ubigeo!$J:$K,2,0),\" \")","v":"SAN FRANCISCO"},{"$f":"IFERROR(VLOOKUP(MID(CM$27,5,4)&$A44,Lista_Ubigeo!$J:$K,2,0),\" \")","v":"RIPAN"},{"$f":"IFERROR(VLOOKUP(MID(CN$27,5,4)&$A33,Lista_Ubigeo!$J:$K,2,0),\" \")","v":" "},{"$f":"IFERROR(VLOOKUP(MID(CO$27,5,4)&$A33,Lista_Ubigeo!$J:$K,2,0),\" \")","v":"MIRAFLORES"},{"$f":"IFERROR(VLOOKUP(MID(CP$27,5,4)&$A33,Lista_Ubigeo!$J:$K,2,0),\" \")","v":"MARINO DAMASO BERAUN"},{"$f":"IFERROR(VLOOKUP(MID(CQ$27,5,4)&$A33,Lista_Ubigeo!$J:$K,2,0),\" \")","v":" "},{"$f":"IFERROR(VLOOKUP(MID(CR$27,5,4)&$A33,Lista_Ubigeo!$J:$K,2,0),\" \")","v":" "},{"$f":"IFERROR(VLOOKUP(MID(CS$27,5,4)&$A33,Lista_Ubigeo!$J:$K,2,0),\" \")","v":" "},{"$f":"IFERROR(VLOOKUP(MID(CT$27,5,4)&$A33,Lista_Ubigeo!$J:$K,2,0),\" \")","v":"SAN FRANCISCO DE ASIS"},{"$f":"IFERROR(VLOOKUP(MID(CU$27,5,4)&$A33,Lista_Ubigeo!$J:$K,2,0),\" \")","v":"OBAS"},{"$f":"IFERROR(VLOOKUP(MID(CV$27,5,4)&$A33,Lista_Ubigeo!$J:$K,2,0),\" \")","v":"PARCONA"},{"$f":"IFERROR(VLOOKUP(MID(CW$27,5,4)&$A33,Lista_Ubigeo!$J:$K,2,0),\" \")","v":"GROCIO PRADO"},{"$f":"IFERROR(VLOOKUP(MID(CX$27,5,4)&$A33,Lista_Ubigeo!$J:$K,2,0),\" \")","v":" "},{"$f":"IFERROR(VLOOKUP(MID(CY$27,5,4)&$A33,Lista_Ubigeo!$J:$K,2,0),\" \")","v":" "},{"$f":"IFERROR(VLOOKUP(MID(CZ$27,5,4)&$A33,Lista_Ubigeo!$J:$K,2,0),\" \")","v":"SAN ANDRES"},"CHONGOS ALTO",{"$f":"IFERROR(VLOOKUP(MID(DB$27,5,4)&$A33,Lista_Ubigeo!$J:$K,2,0),\" \")","v":"COMAS"},{"$f":"IFERROR(VLOOKUP(MID(DC$27,5,4)&$A33,Lista_Ubigeo!$J:$K,2,0),\" \")","v":"VITOC"},{"$f":"IFERROR(VLOOKUP(MID(DD$27,5,4)&$A33,Lista_Ubigeo!$J:$K,2,0),\" \")","v":"CURICACA"},{"$f":"IFERROR(VLOOKUP(MID(DE$27,5,4)&$A33,Lista_Ubigeo!$J:$K,2,0),\" \")","v":" "},{"$f":"IFERROR(VLOOKUP(MID(DF$27,5,4)&$A33,Lista_Ubigeo!$J:$K,2,0),\" \")","v":"PANGOA"},{"$f":"IFERROR(VLOOKUP(MID(DG$27,5,4)&$A33,Lista_Ubigeo!$J:$K,2,0),\" \")","v":"PALCA"},{"$f":"IFERROR(VLOOKUP(MID(DH$27,5,4)&$A33,Lista_Ubigeo!$J:$K,2,0),\" \")","v":"PACCHA"},{"$f":"IFERROR(VLOOKUP(MID(DI$27,5,4)&$A33,Lista_Ubigeo!$J:$K,2,0),\" \")","v":"SAN JUAN DE ISCOS"},{"$f":"IFERROR(VLOOKUP(MID(DJ$27,5,4)&$A33,Lista_Ubigeo!$J:$K,2,0),\" \")","v":"LAREDO"},{"$f":"IFERROR(VLOOKUP(MID(DK$27,5,4)&$A33,Lista_Ubigeo!$J:$K,2,0),\" \")","v":"RAZURI"},{"$f":"IFERROR(VLOOKUP(MID(DL$27,5,4)&$A33,Lista_Ubigeo!$J:$K,2,0),\" \")","v":"UCUNCHA"},{"$f":"IFERROR(VLOOKUP(MID(DM$27,5,4)&$A33,Lista_Ubigeo!$J:$K,2,0),\" \")","v":" "},{"$f":"IFERROR(VLOOKUP(MID(DN$27,5,4)&$A33,Lista_Ubigeo!$J:$K,2,0),\" \")","v":" "},"MACHE",{"$f":"IFERROR(VLOOKUP(MID(DP$27,5,4)&$A33,Lista_Ubigeo!$J:$K,2,0),\" \")","v":" "},{"$f":"IFERROR(VLOOKUP(MID(DQ$27,5,4)&$A33,Lista_Ubigeo!$J:$K,2,0),\" \")","v":"HUAYO"},{"$f":"IFERROR(VLOOKUP(MID(DR$27,5,4)&$A33,Lista_Ubigeo!$J:$K,2,0),\" \")","v":"SANAGORAN"},{"$f":"IFERROR(VLOOKUP(MID(DS$27,5,4)&$A33,Lista_Ubigeo!$J:$K,2,0),\" \")","v":"QUIRUVILCA"},null,null,{"$f":"IFERROR(VLOOKUP(MID(DV$27,5,4)&$A33,Lista_Ubigeo!$J:$K,2,0),\" \")","v":"LA VICTORIA"},{"$f":"IFERROR(VLOOKUP(MID(DW$27,5,4)&$A33,Lista_Ubigeo!$J:$K,2,0),\" \")","v":"PUEBLO NUEVO"},{"$f":"IFERROR(VLOOKUP(MID(DX$27,5,4)&$A33,Lista_Ubigeo!$J:$K,2,0),\" \")","v":"MORROPE"},{"$f":"IFERROR(VLOOKUP(MID(DY$27,5,4)&$A33,Lista_Ubigeo!$J:$K,2,0),\" \")","v":"CARABAYLLO"},{"$f":"IFERROR(VLOOKUP(MID(DZ$27,5,4)&$A33,Lista_Ubigeo!$J:$K,2,0),\" \")","v":" "},{"$f":"IFERROR(VLOOKUP(MID(EA$27,5,4)&$A33,Lista_Ubigeo!$J:$K,2,0),\" \")","v":" "},{"$f":"IFERROR(VLOOKUP(MID(EB$27,5,4)&$A33,Lista_Ubigeo!$J:$K,2,0),\" \")","v":"SAN BUENAVENTURA"},{"$f":"IFERROR(VLOOKUP(MID(EC$27,5,4)&$A33,Lista_Ubigeo!$J:$K,2,0),\" \")","v":"COAYLLO"},{"$f":"IFERROR(VLOOKUP(MID(ED$27,5,4)&$A33,Lista_Ubigeo!$J:$K,2,0),\" \")","v":"IHUARI"},{"$f":"IFERROR(VLOOKUP(MID(EE$27,5,4)&$A33,Lista_Ubigeo!$J:$K,2,0),\" \")","v":"CUENCA"},{"$f":"IFERROR(VLOOKUP(MID(EF$27,5,4)&$A33,Lista_Ubigeo!$J:$K,2,0),\" \")","v":"HUAURA"},{"$f":"IFERROR(VLOOKUP(MID(EG$27,5,4)&$A33,Lista_Ubigeo!$J:$K,2,0),\" \")","v":"PACHANGARA"},{"$f":"IFERROR(VLOOKUP(MID(EH$27,5,4)&$A33,Lista_Ubigeo!$J:$K,2,0),\" \")","v":"CACRA"},{"$f":"IFERROR(VLOOKUP(MID(EI$27,5,4)&$A33,Lista_Ubigeo!$J:$K,2,0),\" \")","v":"MAZAN"},{"$f":"IFERROR(VLOOKUP(MID(EJ$27,5,4)&$A38,Lista_Ubigeo!$J:$K,2,0),\" \")","v":"TENIENTE CESAR LOPEZ ROJAS"},{"$f":"IFERROR(VLOOKUP(MID(EK$27,5,4)&$A33,Lista_Ubigeo!$J:$K,2,0),\" \")","v":" "},{"$f":"IFERROR(VLOOKUP(MID(EL$27,5,4)&$A33,Lista_Ubigeo!$J:$K,2,0),\" \")","v":" "},{"$f":"IFERROR(VLOOKUP(MID(EM$27,5,4)&$A33,Lista_Ubigeo!$J:$K,2,0),\" \")","v":"PUINAHUA"},{"$f":"IFERROR(VLOOKUP(MID(EN$27,5,4)&$A33,Lista_Ubigeo!$J:$K,2,0),\" \")","v":"VARGAS GUERRA"},{"$f":"IFERROR(VLOOKUP(MID(EO$27,5,4)&$A33,Lista_Ubigeo!$J:$K,2,0),\" \")","v":"ANDOAS"},{"$f":"IFERROR(VLOOKUP(MID(EP$27,5,4)&$A33,Lista_Ubigeo!$J:$K,2,0),\" \")","v":" "},{"$f":"IFERROR(VLOOKUP(MID(EQ$27,5,4)&$A33,Lista_Ubigeo!$J:$K,2,0),\" \")","v":" "},{"$f":"IFERROR(VLOOKUP(MID(ER$27,5,4)&$A33,Lista_Ubigeo!$J:$K,2,0),\" \")","v":" "},{"$f":"IFERROR(VLOOKUP(MID(ES$27,5,4)&$A33,Lista_Ubigeo!$J:$K,2,0),\" \")","v":" "},{"$f":"IFERROR(VLOOKUP(MID(ET$27,5,4)&$A33,Lista_Ubigeo!$J:$K,2,0),\" \")","v":"TORATA"},{"$f":"IFERROR(VLOOKUP(MID(EU$27,5,4)&$A33,Lista_Ubigeo!$J:$K,2,0),\" \")","v":"LLOQUE"},{"$f":"IFERROR(VLOOKUP(MID(EV$27,5,4)&$A33,Lista_Ubigeo!$J:$K,2,0),\" \")","v":" "},{"$f":"IFERROR(VLOOKUP(MID(EW$27,5,4)&$A33,Lista_Ubigeo!$J:$K,2,0),\" \")","v":"PALLANCHACRA"},{"$f":"IFERROR(VLOOKUP(MID(EX$27,5,4)&$A33,Lista_Ubigeo!$J:$K,2,0),\" \")","v":"SANTA ANA DE TUSI"},{"$f":"IFERROR(VLOOKUP(MID(EY$27,5,4)&$A33,Lista_Ubigeo!$J:$K,2,0),\" \")","v":"PUERTO BERMUDEZ"},{"$f":"IFERROR(VLOOKUP(MID(EZ$27,5,4)&$A36,Lista_Ubigeo!$J:$K,2,0),\" \")","v":"LA ARENA"},{"$f":"IFERROR(VLOOKUP(MID(FA$27,5,4)&$A33,Lista_Ubigeo!$J:$K,2,0),\" \")","v":"PACAIPAMPA"},{"$f":"IFERROR(VLOOKUP(MID(FB$27,5,4)&$A33,Lista_Ubigeo!$J:$K,2,0),\" \")","v":"SAN MIGUEL DE EL FAIQUE"},{"$f":"IFERROR(VLOOKUP(MID(FC$27,5,4)&$A33,Lista_Ubigeo!$J:$K,2,0),\" \")","v":"SALITRAL"},{"$f":"IFERROR(VLOOKUP(MID(FD$27,5,4)&$A33,Lista_Ubigeo!$J:$K,2,0),\" \")","v":"TAMARINDO"},{"$f":"IFERROR(VLOOKUP(MID(FE$27,5,4)&$A33,Lista_Ubigeo!$J:$K,2,0),\" \")","v":"MIGUEL CHECA"},{"$f":"IFERROR(VLOOKUP(MID(FF$27,5,4)&$A33,Lista_Ubigeo!$J:$K,2,0),\" \")","v":"MANCORA"},{"$f":"IFERROR(VLOOKUP(MID(FG$27,5,4)&$A33,Lista_Ubigeo!$J:$K,2,0),\" \")","v":"RINCONADA LLICUAR"},{"$f":"IFERROR(VLOOKUP(MID(FH$27,5,4)&$A33,Lista_Ubigeo!$J:$K,2,0),\" \")","v":"CHUCUITO"},{"$f":"IFERROR(VLOOKUP(MID(FI$27,5,4)&$A33,Lista_Ubigeo!$J:$K,2,0),\" \")","v":"CHUPA"},{"$f":"IFERROR(VLOOKUP(MID(FJ$27,5,4)&$A33,Lista_Ubigeo!$J:$K,2,0),\" \")","v":"CRUCERO"},{"$f":"IFERROR(VLOOKUP(MID(FK$27,5,4)&$A33,Lista_Ubigeo!$J:$K,2,0),\" \")","v":"POMATA"},{"$f":"IFERROR(VLOOKUP(MID(FL$27,5,4)&$A33,Lista_Ubigeo!$J:$K,2,0),\" \")","v":" "},{"$f":"IFERROR(VLOOKUP(MID(FM$27,5,4)&$A33,Lista_Ubigeo!$J:$K,2,0),\" \")","v":"ROSASPATA"},{"$f":"IFERROR(VLOOKUP(MID(FN$27,5,4)&$A33,Lista_Ubigeo!$J:$K,2,0),\" \")","v":"PALCA"},{"$f":"IFERROR(VLOOKUP(MID(FO$27,5,4)&$A33,Lista_Ubigeo!$J:$K,2,0),\" \")","v":"NUNOA"},{"$f":"IFERROR(VLOOKUP(MID(FP$27,5,4)&$A33,Lista_Ubigeo!$J:$K,2,0),\" \")","v":" "},{"$f":"IFERROR(VLOOKUP(MID(FQ$27,5,4)&$A33,Lista_Ubigeo!$J:$K,2,0),\" \")","v":" "},{"$f":"IFERROR(VLOOKUP(MID(FR$27,5,4)&$A33,Lista_Ubigeo!$J:$K,2,0),\" \")","v":" "},{"$f":"IFERROR(VLOOKUP(MID(FS$27,5,4)&$A33,Lista_Ubigeo!$J:$K,2,0),\" \")","v":"QUIACA"},{"$f":"IFERROR(VLOOKUP(MID(FT$27,5,4)&$A33,Lista_Ubigeo!$J:$K,2,0),\" \")","v":"TINICACHI"},{"$f":"IFERROR(VLOOKUP(MID(FU$27,5,4)&$A33,Lista_Ubigeo!$J:$K,2,0),\" \")","v":"YANTALO"},{"$f":"IFERROR(VLOOKUP(MID(FV$27,5,4)&$A33,Lista_Ubigeo!$J:$K,2,0),\" \")","v":"SAN RAFAEL"},{"$f":"IFERROR(VLOOKUP(MID(FW$27,5,4)&$A33,Lista_Ubigeo!$J:$K,2,0),\" \")","v":" "},{"$f":"IFERROR(VLOOKUP(MID(FX$27,5,4)&$A33,Lista_Ubigeo!$J:$K,2,0),\" \")","v":"TINGO DE SAPOSOA"},{"$f":"IFERROR(VLOOKUP(MID(FY$27,5,4)&$A33,Lista_Ubigeo!$J:$K,2,0),\" \")","v":"PINTO RECODO"},{"$f":"IFERROR(VLOOKUP(MID(FZ$27,5,4)&$A33,Lista_Ubigeo!$J:$K,2,0),\" \")","v":" "},{"$f":"IFERROR(VLOOKUP(MID(GA$27,5,4)&$A33,Lista_Ubigeo!$J:$K,2,0),\" \")","v":"SAN CRISTOBAL"},{"$f":"IFERROR(VLOOKUP(MID(GB$27,5,4)&$A33,Lista_Ubigeo!$J:$K,2,0),\" \")","v":"POSIC"},{"$f":"IFERROR(VLOOKUP(MID(GC$27,5,4)&$A33,Lista_Ubigeo!$J:$K,2,0),\" \")","v":"EL PORVENIR"},{"$f":"IFERROR(VLOOKUP(MID(GD$27,5,4)&$A33,Lista_Ubigeo!$J:$K,2,0),\" \")","v":" "},{"$f":"IFERROR(VLOOKUP(MID(GE$27,5,4)&$A33,Lista_Ubigeo!$J:$K,2,0),\" \")","v":"PACHIA"},{"$f":"IFERROR(VLOOKUP(MID(GF$27,5,4)&$A33,Lista_Ubigeo!$J:$K,2,0),\" \")","v":"QUILAHUANI"},{"$f":"IFERROR(VLOOKUP(MID(GG$27,5,4)&$A33,Lista_Ubigeo!$J:$K,2,0),\" \")","v":" "},{"$f":"IFERROR(VLOOKUP(MID(GH$27,5,4)&$A33,Lista_Ubigeo!$J:$K,2,0),\" \")","v":"SUSAPAYA"},{"$f":"IFERROR(VLOOKUP(MID(GI$27,5,4)&$A33,Lista_Ubigeo!$J:$K,2,0),\" \")","v":"SAN JUAN DE LA VIRGEN"},{"$f":"IFERROR(VLOOKUP(MID(GJ$27,5,4)&$A33,Lista_Ubigeo!$J:$K,2,0),\" \")","v":" "},{"$f":"IFERROR(VLOOKUP(MID(GK$27,5,4)&$A33,Lista_Ubigeo!$J:$K,2,0),\" \")","v":" "},{"$f":"IFERROR(VLOOKUP(MID(GL$27,5,4)&$A33,Lista_Ubigeo!$J:$K,2,0),\" \")","v":"NUEVA REQUENA"},{"$f":"IFERROR(VLOOKUP(MID(GM$27,5,4)&$A33,Lista_Ubigeo!$J:$K,2,0),\" \")","v":" "},{"$f":"IFERROR(VLOOKUP(MID(GN$27,5,4)&$A33,Lista_Ubigeo!$J:$K,2,0),\" \")","v":" "},{"$f":"IFERROR(VLOOKUP(MID(GO$27,5,4)&$A33,Lista_Ubigeo!$J:$K,2,0),\" \")","v":" "},{"$f":"IFERROR(VLOOKUP(MID(GP$27,5,4)&$A33,Lista_Ubigeo!$J:$K,2,0),\" \")","v":"CHUPA"}]
["07",{"$f":"IFERROR(VLOOKUP(MID(B$27,5,4)&$A34,Lista_Ubigeo!$J:$K,2,0),\" \")","v":"GRANADA"},{"$f":"IFERROR(VLOOKUP(MID(C$27,5,4)&$A34,Lista_Ubigeo!$J:$K,2,0),\" \")","v":" "},{"$f":"IFERROR(VLOOKUP(MID(D$27,5,4)&$A34,Lista_Ubigeo!$J:$K,2,0),\" \")","v":"JAZAN"},{"$f":"IFERROR(VLOOKUP(MID(E$27,5,4)&$A34,Lista_Ubigeo!$J:$K,2,0),\" \")","v":" "},{"$f":"IFERROR(VLOOKUP(MID(F$27,5,4)&$A34,Lista_Ubigeo!$J:$K,2,0),\" \")","v":"LONGUITA"},{"$f":"IFERROR(VLOOKUP(MID(G$27,5,4)&$A34,Lista_Ubigeo!$J:$K,2,0),\" \")","v":"MARISCAL BENAVIDES"},{"$f":"IFERROR(VLOOKUP(MID(H$27,5,4)&$A34,Lista_Ubigeo!$J:$K,2,0),\" \")","v":"YAMON"},{"$f":"IFERROR(VLOOKUP(MID(I$27,5,4)&$A34,Lista_Ubigeo!$J:$K,2,0),\" \")","v":"LA LIBERTAD"},{"$f":"IFERROR(VLOOKUP(MID(J$27,5,4)&$A34,Lista_Ubigeo!$J:$K,2,0),\" \")","v":" "},{"$f":"IFERROR(VLOOKUP(MID(K$27,5,4)&$A34,Lista_Ubigeo!$J:$K,2,0),\" \")","v":" "},{"$f":"IFERROR(VLOOKUP(MID(L$27,5,4)&$A34,Lista_Ubigeo!$J:$K,2,0),\" \")","v":" "},{"$f":"IFERROR(VLOOKUP(MID(M$27,5,4)&$A34,Lista_Ubigeo!$J:$K,2,0),\" \")","v":"COLQUIOC"},{"$f":"IFERROR(VLOOKUP(MID(N$27,5,4)&$A34,Lista_Ubigeo!$J:$K,2,0),\" \")","v":"PARIAHUANCA"},{"$f":"IFERROR(VLOOKUP(MID(O$27,5,4)&$A34,Lista_Ubigeo!$J:$K,2,0),\" \")","v":" "},{"$f":"IFERROR(VLOOKUP(MID(P$27,5,4)&$A34,Lista_Ubigeo!$J:$K,2,0),\" \")","v":" "},{"$f":"IFERROR(VLOOKUP(MID(Q$27,5,4)&$A34,Lista_Ubigeo!$J:$K,2,0),\" \")","v":"YUPAN"},{"$f":"IFERROR(VLOOKUP(MID(R$27,5,4)&$A34,Lista_Ubigeo!$J:$K,2,0),\" \")","v":"HUACHIS"},{"$f":"IFERROR(VLOOKUP(MID(S$27,5,4)&$A34,Lista_Ubigeo!$J:$K,2,0),\" \")","v":" "},{"$f":"IFERROR(VLOOKUP(MID(T$27,5,4)&$A34,Lista_Ubigeo!$J:$K,2,0),\" \")","v":"PUEBLO LIBRE"},{"$f":"IFERROR(VLOOKUP(MID(U$27,5,4)&$A34,Lista_Ubigeo!$J:$K,2,0),\" \")","v":"LUCMA"},{"$f":"IFERROR(VLOOKUP(MID(V$27,5,4)&$A34,Lista_Ubigeo!$J:$K,2,0),\" \")","v":"LLIPA"},{"$f":"IFERROR(VLOOKUP(MID(W$27,5,4)&$A34,Lista_Ubigeo!$J:$K,2,0),\" \")","v":"LLAPO"},{"$f":"IFERROR(VLOOKUP(MID(X$27,5,4)&$A34,Lista_Ubigeo!$J:$K,2,0),\" \")","v":" "},{"$f":"IFERROR(VLOOKUP(MID(Y$27,5,4)&$A34,Lista_Ubigeo!$J:$K,2,0),\" \")","v":"PAMPAS CHICO"},{"$f":"IFERROR(VLOOKUP(MID(Z$27,5,4)&$A34,Lista_Ubigeo!$J:$K,2,0),\" \")","v":"SAMANCO"},{"$f":"IFERROR(VLOOKUP(MID(AA$27,5,4)&$A34,Lista_Ubigeo!$J:$K,2,0),\" \")","v":"QUICHES"},{"$f":"IFERROR(VLOOKUP(MID(AB$27,5,4)&$A34,Lista_Ubigeo!$J:$K,2,0),\" \")","v":"SHUPLUY"},{"$f":"IFERROR(VLOOKUP(MID(AC$27,5,4)&$A34,Lista_Ubigeo!$J:$K,2,0),\" \")","v":"PICHIRHUA"},{"$f":"IFERROR(VLOOKUP(MID(AD$27,5,4)&$A34,Lista_Ubigeo!$J:$K,2,0),\" \")","v":"KISHUARA"},{"$f":"IFERROR(VLOOKUP(MID(AE$27,5,4)&$A34,Lista_Ubigeo!$J:$K,2,0),\" \")","v":"SABAINO"},{"$f":"IFERROR(VLOOKUP(MID(AF$27,5,4)&$A34,Lista_Ubigeo!$J:$K,2,0),\" \")","v":"HUAYLLO"},{"$f":"IFERROR(VLOOKUP(MID(AG$27,5,4)&$A34,Lista_Ubigeo!$J:$K,2,0),\" \")","v":" "},{"$f":"IFERROR(VLOOKUP(MID(AH$27,5,4)&$A34,Lista_Ubigeo!$J:$K,2,0),\" \")","v":"URANMARCA"},{"$f":"IFERROR(VLOOKUP(MID(AI$27,5,4)&$A34,Lista_Ubigeo!$J:$K,2,0),\" \")","v":"PATAYPAMPA"},{"$f":"IFERROR(VLOOKUP(MID(AJ$27,5,4)&$A34,Lista_Ubigeo!$J:$K,2,0),\" \")","v":"JACOBO HUNTER"},{"$f":"IFERROR(VLOOKUP(MID(AK$27,5,4)&$A34,Lista_Ubigeo!$J:$K,2,0),\" \")","v":"QUILCA"},{"$f":"IFERROR(VLOOKUP(MID(AL$27,5,4)&$A34,Lista_Ubigeo!$J:$K,2,0),\" \")","v":"CHALA"},{"$f":"IFERROR(VLOOKUP(MID(AM$27,5,4)&$A34,Lista_Ubigeo!$J:$K,2,0),\" \")","v":"HUANCARQUI"},{"$f":"IFERROR(VLOOKUP(MID(AN$27,5,4)&$A34,Lista_Ubigeo!$J:$K,2,0),\" \")","v":"HUAMBO"},{"$f":"IFERROR(VLOOKUP(MID(AO$27,5,4)&$A34,Lista_Ubigeo!$J:$K,2,0),\" \")","v":"SALAMANCA"},{"$f":"IFERROR(VLOOKUP(MID(AP$27,5,4)&$A34,Lista_Ubigeo!$J:$K,2,0),\" \")","v":" "},{"$f":"IFERROR(VLOOKUP(MID(AQ$27,4,4)&$A34,Lista_Ubigeo!$J:$K,2,0),\" \")","v":"QUECHUALLA"},{"$f":"IFERROR(VLOOKUP(MID(AR$27,5,4)&$A34,Lista_Ubigeo!$J:$K,2,0),\" \")","v":"PACAYCASA"},{"$f":"IFERROR(VLOOKUP(MID(AS$27,5,4)&$A34,Lista_Ubigeo!$J:$K,2,0),\" \")","v":" "},{"$f":"IFERROR(VLOOKUP(MID(AT$27,5,4)&$A34,Lista_Ubigeo!$J:$K,2,0),\" \")","v":" "},{"$f":"IFERROR(VLOOKUP(MID(AU$27,5,4)&$A34,Lista_Ubigeo!$J:$K,2,0),\" \")","v":"SIVIA"},{"$f":"IFERROR(VLOOKUP(MID(AV$27,5,4)&$A34,Lista_Ubigeo!$J:$K,2,0),\" \")","v":"SANTA ROSA"},{"$f":"IFERROR(VLOOKUP(MID(AW$27,5,4)&$A34,Lista_Ubigeo!$J:$K,2,0),\" \")","v":"HUAC-HUAS"},{"$f":"IFERROR(VLOOKUP(MID(AX$27,5,4)&$A34,Lista_Ubigeo!$J:$K,2,0),\" \")","v":"SAN FRANCISCO DE RAVACAYCO"},{"$f":"IFERROR(VLOOKUP(MID(AY$27,5,4)&$A34,Lista_Ubigeo!$J:$K,2,0),\" \")","v":"PARARCA"},{"$f":"IFERROR(VLOOKUP(MID(AZ$27,5,4)&$A34,Lista_Ubigeo!$J:$K,2,0),\" \")","v":"PAICO"},{"$f":"IFERROR(VLOOKUP(MID(BA$27,5,4)&$A34,Lista_Ubigeo!$J:$K,2,0),\" \")","v":"COLCA"},{"$f":"IFERROR(VLOOKUP(MID(BB$27,5,4)&$A34,Lista_Ubigeo!$J:$K,2,0),\" \")","v":"SAURAMA"},{"$f":"IFERROR(VLOOKUP(MID(BC$27,5,4)&$A34,Lista_Ubigeo!$J:$K,2,0),\" \")","v":"LLACANORA"},{"$f":"IFERROR(VLOOKUP(MID(BD$27,5,4)&$A34,Lista_Ubigeo!$J:$K,2,0),\" \")","v":" "},{"$f":"IFERROR(VLOOKUP(MID(BE$27,5,4)&$A34,Lista_Ubigeo!$J:$K,2,0),\" \")","v":"MIGUEL IGLESIAS"},{"$f":"IFERROR(VLOOKUP(MID(BF$27,5,4)&$A34,Lista_Ubigeo!$J:$K,2,0),\" \")","v":"COCHABAMBA"},{"$f":"IFERROR(VLOOKUP(MID(BG$27,5,4)&$A34,Lista_Ubigeo!$J:$K,2,0),\" \")","v":"TANTARICA"},{"$f":"IFERROR(VLOOKUP(MID(BH$27,5,4)&$A34,Lista_Ubigeo!$J:$K,2,0),\" \")","v":"QUEROCOTILLO"},{"$f":"IFERROR(VLOOKUP(MID(BI$27,5,4)&$A34,Lista_Ubigeo!$J:$K,2,0),\" \")","v":" "},{"$f":"IFERROR(VLOOKUP(MID(BJ$27,5,4)&$A34,Lista_Ubigeo!$J:$K,2,0),\" \")","v":"POMAHUACA"},{"$f":"IFERROR(VLOOKUP(MID(BK$27,5,4)&$A34,Lista_Ubigeo!$J:$K,2,0),\" \")","v":"TABACONAS"},{"$f":"IFERROR(VLOOKUP(MID(BL$27,5,4)&$A34,Lista_Ubigeo!$J:$K,2,0),\" \")","v":"JOSE SABOGAL"},{"$f":"IFERROR(VLOOKUP(MID(BM$27,5,4)&$A34,Lista_Ubigeo!$J:$K,2,0),\" \")","v":"LLAPA"},{"$f":"IFERROR(VLOOKUP(MID(BN$27,5,4)&$A34,Lista_Ubigeo!$J:$K,2,0),\" \")","v":" "},{"$f":"IFERROR(VLOOKUP(MID(BO$27,5,4)&$A34,Lista_Ubigeo!$J:$K,2,0),\" \")","v":"PULAN"},{"$f":"IFERROR(VLOOKUP(MID(BP$27,5,4)&$A34,Lista_Ubigeo!$J:$K,2,0),\" \")","v":"MI PERU"},{"$f":"IFERROR(VLOOKUP(MID(BQ$27,5,4)&$A34,Lista_Ubigeo!$J:$K,2,0),\" \")","v":"SAYLLA"},{"$f":"IFERROR(VLOOKUP(MID(BR$27,5,4)&$A34,Lista_Ubigeo!$J:$K,2,0),\" \")","v":"SANGARARA"},{"$f":"IFERROR(VLOOKUP(MID(BS$27,5,4)&$A34,Lista_Ubigeo!$J:$K,2,0),\" \")","v":"MOLLEPATA"},{"$f":"IFERROR(VLOOKUP(MID(BT$27,5,4)&$A34,Lista_Ubigeo!$J:$K,2,0),\" \")","v":"TARAY"},{"$f":"IFERROR(VLOOKUP(MID(BU$27,5,4)&$A34,Lista_Ubigeo!$J:$K,2,0),\" \")","v":"QUEHUE"},{"$f":"IFERROR(VLOOKUP(MID(BV$27,5,4)&$A34,Lista_Ubigeo!$J:$K,2,0),\" \")","v":"SAN PEDRO"},{"$f":"IFERROR(VLOOKUP(MID(BW$27,5,4)&$A34,Lista_Ubigeo!$J:$K,2,0),\" \")","v":"QUINOTA"},{"$f":"IFERROR(VLOOKUP(MID(BX$27,5,4)&$A34,Lista_Ubigeo!$J:$K,2,0),\" \")","v":"SUYCKUTAMBO"},{"$f":"IFERROR(VLOOKUP(MID(BY$27,4,4)&$A34,Lista_Ubigeo!$J:$K,2,0),\" \")","v":"KIMBIRI"},{"$f":"IFERROR(VLOOKUP(MID(BZ$27,5,4)&$A34,Lista_Ubigeo!$J:$K,2,0),\" \")","v":"PACCARITAMBO"},{"$f":"IFERROR(VLOOKUP(MID(CA$27,5,4)&$A34,Lista_Ubigeo!$J:$K,2,0),\" \")","v":" "},{"$f":"IFERROR(VLOOKUP(MID(CB$27,5,4)&$A34,Lista_Ubigeo!$J:$K,2,0),\" \")","v":"HUARO"},{"$f":"IFERROR(VLOOKUP(MID(CC$27,5,4)&$A34,Lista_Ubigeo!$J:$K,2,0),\" \")","v":"YUCAY"},{"$f":"IFERROR(VLOOKUP(MID(CD$27,5,4)&$A34,Lista_Ubigeo!$J:$K,2,0),\" \")","v":"HUAYLLAHUARA"},{"$f":"IFERROR(VLOOKUP(MID(CE$27,5,4)&$A34,Lista_Ubigeo!$J:$K,2,0),\" \")","v":"POMACOCHA"},{"$f":"IFERROR(VLOOKUP(MID(CF$27,5,4)&$A34,Lista_Ubigeo!$J:$K,2,0),\" \")","v":"HUANCA-HUANCA"},{"$f":"IFERROR(VLOOKUP(MID(CG$27,5,4)&$A34,Lista_Ubigeo!$J:$K,2,0),\" \")","v":"HUACHOS"},{"$f":"IFERROR(VLOOKUP(MID(CH$27,5,4)&$A34,Lista_Ubigeo!$J:$K,2,0),\" \")","v":"PAUCARBAMBA"},{"$f":"IFERROR(VLOOKUP(MID(CI$27,5,4)&$A34,Lista_Ubigeo!$J:$K,2,0),\" \")","v":"PILPICHACA"},{"$f":"IFERROR(VLOOKUP(MID(CJ$27,5,4)&$A34,Lista_Ubigeo!$J:$K,2,0),\" \")","v":"HUACHOCOLPA"},{"$f":"IFERROR(VLOOKUP(MID(CK$27,5,4)&$A34,Lista_Ubigeo!$J:$K,2,0),\" \")","v":"SAN FRANCISCO DE CAYRAN"},{"$f":"IFERROR(VLOOKUP(MID(CL$27,5,4)&$A34,Lista_Ubigeo!$J:$K,2,0),\" \")","v":"SAN RAFAEL"},"SHUNQUI",{"$f":"IFERROR(VLOOKUP(MID(CN$27,5,4)&$A34,Lista_Ubigeo!$J:$K,2,0),\" \")","v":" "},{"$f":"IFERROR(VLOOKUP(MID(CO$27,5,4)&$A34,Lista_Ubigeo!$J:$K,2,0),\" \")","v":"MONZON"},{"$f":"IFERROR(VLOOKUP(MID(CP$27,5,4)&$A34,Lista_Ubigeo!$J:$K,2,0),\" \")","v":"PUCAYACU"},{"$f":"IFERROR(VLOOKUP(MID(CQ$27,5,4)&$A34,Lista_Ubigeo!$J:$K,2,0),\" \")","v":" "},{"$f":"IFERROR(VLOOKUP(MID(CR$27,5,4)&$A34,Lista_Ubigeo!$J:$K,2,0),\" \")","v":" "},{"$f":"IFERROR(VLOOKUP(MID(CS$27,5,4)&$A34,Lista_Ubigeo!$J:$K,2,0),\" \")","v":" "},{"$f":"IFERROR(VLOOKUP(MID(CT$27,5,4)&$A34,Lista_Ubigeo!$J:$K,2,0),\" \")","v":"SAN MIGUEL DE CAURI"},{"$f":"IFERROR(VLOOKUP(MID(CU$27,5,4)&$A34,Lista_Ubigeo!$J:$K,2,0),\" \")","v":"PAMPAMARCA"},{"$f":"IFERROR(VLOOKUP(MID(CV$27,5,4)&$A34,Lista_Ubigeo!$J:$K,2,0),\" \")","v":"PUEBLO NUEVO"},{"$f":"IFERROR(VLOOKUP(MID(CW$27,5,4)&$A34,Lista_Ubigeo!$J:$K,2,0),\" \")","v":"PUEBLO NUEVO"},{"$f":"IFERROR(VLOOKUP(MID(CX$27,5,4)&$A34,Lista_Ubigeo!$J:$K,2,0),\" \")","v":" "},{"$f":"IFERROR(VLOOKUP(MID(CY$27,5,4)&$A34,Lista_Ubigeo!$J:$K,2,0),\" \")","v":" "},{"$f":"IFERROR(VLOOKUP(MID(CZ$27,5,4)&$A34,Lista_Ubigeo!$J:$K,2,0),\" \")","v":"SAN CLEMENTE"},"CHUPURO",{"$f":"IFERROR(VLOOKUP(MID(DB$27,5,4)&$A34,Lista_Ubigeo!$J:$K,2,0),\" \")","v":"HEROINAS TOLEDO"},{"$f":"IFERROR(VLOOKUP(MID(DC$27,5,4)&$A34,Lista_Ubigeo!$J:$K,2,0),\" \")","v":" "},{"$f":"IFERROR(VLOOKUP(MID(DD$27,5,4)&$A34,Lista_Ubigeo!$J:$K,2,0),\" \")","v":"EL MANTARO"},{"$f":"IFERROR(VLOOKUP(MID(DE$27,5,4)&$A34,Lista_Ubigeo!$J:$K,2,0),\" \")","v":" "},{"$f":"IFERROR(VLOOKUP(MID(DF$27,5,4)&$A34,Lista_Ubigeo!$J:$K,2,0),\" \")","v":"RIO NEGRO"},{"$f":"IFERROR(VLOOKUP(MID(DG$27,5,4)&$A34,Lista_Ubigeo!$J:$K,2,0),\" \")","v":"PALCAMAYO"},{"$f":"IFERROR(VLOOKUP(MID(DH$27,5,4)&$A34,Lista_Ubigeo!$J:$K,2,0),\" \")","v":"SANTA BARBARA DE CARHUACAYAN"},{"$f":"IFERROR(VLOOKUP(MID(DI$27,5,4)&$A34,Lista_Ubigeo!$J:$K,2,0),\" \")","v":"SAN JUAN DE JARPA"},{"$f":"IFERROR(VLOOKUP(MID(DJ$27,5,4)&$A34,Lista_Ubigeo!$J:$K,2,0),\" \")","v":"MOCHE"},{"$f":"IFERROR(VLOOKUP(MID(DK$27,5,4)&$A34,Lista_Ubigeo!$J:$K,2,0),\" \")","v":"SANTIAGO DE CAO"},{"$f":"IFERROR(VLOOKUP(MID(DL$27,5,4)&$A34,Lista_Ubigeo!$J:$K,2,0),\" \")","v":" "},{"$f":"IFERROR(VLOOKUP(MID(DM$27,5,4)&$A34,Lista_Ubigeo!$J:$K,2,0),\" \")","v":" "},{"$f":"IFERROR(VLOOKUP(MID(DN$27,5,4)&$A34,Lista_Ubigeo!$J:$K,2,0),\" \")","v":" "},"PARANDAY",{"$f":"IFERROR(VLOOKUP(MID(DP$27,5,4)&$A34,Lista_Ubigeo!$J:$K,2,0),\" \")","v":" "},{"$f":"IFERROR(VLOOKUP(MID(DQ$27,5,4)&$A34,Lista_Ubigeo!$J:$K,2,0),\" \")","v":"ONGON"},{"$f":"IFERROR(VLOOKUP(MID(DR$27,5,4)&$A34,Lista_Ubigeo!$J:$K,2,0),\" \")","v":"SARIN"},{"$f":"IFERROR(VLOOKUP(MID(DS$27,5,4)&$A34,Lista_Ubigeo!$J:$K,2,0),\" \")","v":"SANTA CRUZ DE CHUCA"},null,null,{"$f":"IFERROR(VLOOKUP(MID(DV$27,5,4)&$A34,Lista_Ubigeo!$J:$K,2,0),\" \")","v":"LAGUNAS"},{"$f":"IFERROR(VLOOKUP(MID(DW$27,5,4)&$A34,Lista_Ubigeo!$J:$K,2,0),\" \")","v":" "},{"$f":"IFERROR(VLOOKUP(MID(DX$27,5,4)&$A34,Lista_Ubigeo!$J:$K,2,0),\" \")","v":"MOTUPE"},{"$f":"IFERROR(VLOOKUP(MID(DY$27,5,4)&$A34,Lista_Ubigeo!$J:$K,2,0),\" \")","v":"CHACLACAYO"},{"$f":"IFERROR(VLOOKUP(MID(DZ$27,5,4)&$A34,Lista_Ubigeo!$J:$K,2,0),\" \")","v":" "},{"$f":"IFERROR(VLOOKUP(MID(EA$27,5,4)&$A34,Lista_Ubigeo!$J:$K,2,0),\" \")","v":" "},{"$f":"IFERROR(VLOOKUP(MID(EB$27,5,4)&$A34,Lista_Ubigeo!$J:$K,2,0),\" \")","v":"SANTA ROSA DE QUIVES"},{"$f":"IFERROR(VLOOKUP(MID(EC$27,5,4)&$A34,Lista_Ubigeo!$J:$K,2,0),\" \")","v":"IMPERIAL"},{"$f":"IFERROR(VLOOKUP(MID(ED$27,5,4)&$A34,Lista_Ubigeo!$J:$K,2,0),\" \")","v":"LAMPIAN"},{"$f":"IFERROR(VLOOKUP(MID(EE$27,5,4)&$A34,Lista_Ubigeo!$J:$K,2,0),\" \")","v":"HUACHUPAMPA"},{"$f":"IFERROR(VLOOKUP(MID(EF$27,5,4)&$A34,Lista_Ubigeo!$J:$K,2,0),\" \")","v":"LEONCIO PRADO"},{"$f":"IFERROR(VLOOKUP(MID(EG$27,5,4)&$A34,Lista_Ubigeo!$J:$K,2,0),\" \")","v":" "},{"$f":"IFERROR(VLOOKUP(MID(EH$27,5,4)&$A34,Lista_Ubigeo!$J:$K,2,0),\" \")","v":"CARANIA"},{"$f":"IFERROR(VLOOKUP(MID(EI$27,5,4)&$A34,Lista_Ubigeo!$J:$K,2,0),\" \")","v":"NAPO"},{"$f":"IFERROR(VLOOKUP(MID(EJ$27,5,4)&$A39,Lista_Ubigeo!$J:$K,2,0),\" \")","v":" "},{"$f":"IFERROR(VLOOKUP(MID(EK$27,5,4)&$A34,Lista_Ubigeo!$J:$K,2,0),\" \")","v":" "},{"$f":"IFERROR(VLOOKUP(MID(EL$27,5,4)&$A34,Lista_Ubigeo!$J:$K,2,0),\" \")","v":" "},{"$f":"IFERROR(VLOOKUP(MID(EM$27,5,4)&$A34,Lista_Ubigeo!$J:$K,2,0),\" \")","v":"SAQUENA"},{"$f":"IFERROR(VLOOKUP(MID(EN$27,5,4)&$A34,Lista_Ubigeo!$J:$K,2,0),\" \")","v":" "},{"$f":"IFERROR(VLOOKUP(MID(EO$27,5,4)&$A34,Lista_Ubigeo!$J:$K,2,0),\" \")","v":" "},{"$f":"IFERROR(VLOOKUP(MID(EP$27,5,4)&$A34,Lista_Ubigeo!$J:$K,2,0),\" \")","v":" "},{"$f":"IFERROR(VLOOKUP(MID(EQ$27,5,4)&$A34,Lista_Ubigeo!$J:$K,2,0),\" \")","v":" "},{"$f":"IFERROR(VLOOKUP(MID(ER$27,5,4)&$A34,Lista_Ubigeo!$J:$K,2,0),\" \")","v":" "},{"$f":"IFERROR(VLOOKUP(MID(ES$27,5,4)&$A34,Lista_Ubigeo!$J:$K,2,0),\" \")","v":" "},{"$f":"IFERROR(VLOOKUP(MID(ET$27,5,4)&$A34,Lista_Ubigeo!$J:$K,2,0),\" \")","v":" "},{"$f":"IFERROR(VLOOKUP(MID(EU$27,5,4)&$A34,Lista_Ubigeo!$J:$K,2,0),\" \")","v":"MATALAQUE"},{"$f":"IFERROR(VLOOKUP(MID(EV$27,5,4)&$A34,Lista_Ubigeo!$J:$K,2,0),\" \")","v":" "},{"$f":"IFERROR(VLOOKUP(MID(EW$27,5,4)&$A34,Lista_Ubigeo!$J:$K,2,0),\" \")","v":"PAUCARTAMBO"},{"$f":"IFERROR(VLOOKUP(MID(EX$27,5,4)&$A34,Lista_Ubigeo!$J:$K,2,0),\" \")","v":"TAPUC"},{"$f":"IFERROR(VLOOKUP(MID(EY$27,5,4)&$A34,Lista_Ubigeo!$J:$K,2,0),\" \")","v":"VILLA RICA"},{"$f":"IFERROR(VLOOKUP(MID(EZ$27,5,4)&$A37,Lista_Ubigeo!$J:$K,2,0),\" \")","v":"LA UNION"},{"$f":"IFERROR(VLOOKUP(MID(FA$27,5,4)&$A34,Lista_Ubigeo!$J:$K,2,0),\" \")","v":"PAIMAS"},{"$f":"IFERROR(VLOOKUP(MID(FB$27,5,4)&$A34,Lista_Ubigeo!$J:$K,2,0),\" \")","v":"SONDOR"},{"$f":"IFERROR(VLOOKUP(MID(FC$27,5,4)&$A34,Lista_Ubigeo!$J:$K,2,0),\" \")","v":"SAN JUAN DE BIGOTE"},{"$f":"IFERROR(VLOOKUP(MID(FD$27,5,4)&$A34,Lista_Ubigeo!$J:$K,2,0),\" \")","v":"VICHAYAL"},{"$f":"IFERROR(VLOOKUP(MID(FE$27,5,4)&$A34,Lista_Ubigeo!$J:$K,2,0),\" \")","v":"QUERECOTILLO"},{"$f":"IFERROR(VLOOKUP(MID(FF$27,5,4)&$A34,Lista_Ubigeo!$J:$K,2,0),\" \")","v":"TALARA"},{"$f":"IFERROR(VLOOKUP(MID(FG$27,5,4)&$A34,Lista_Ubigeo!$J:$K,2,0),\" \")","v":" "},{"$f":"IFERROR(VLOOKUP(MID(FH$27,5,4)&$A34,Lista_Ubigeo!$J:$K,2,0),\" \")","v":"COATA"},{"$f":"IFERROR(VLOOKUP(MID(FI$27,5,4)&$A34,Lista_Ubigeo!$J:$K,2,0),\" \")","v":"JOSE DIEGO CHOQUEHUANCA"},{"$f":"IFERROR(VLOOKUP(MID(FJ$27,5,4)&$A34,Lista_Ubigeo!$J:$K,2,0),\" \")","v":"ITUATA"},{"$f":"IFERROR(VLOOKUP(MID(FK$27,5,4)&$A34,Lista_Ubigeo!$J:$K,2,0),\" \")","v":"ZEPITA"},{"$f":"IFERROR(VLOOKUP(MID(FL$27,5,4)&$A34,Lista_Ubigeo!$J:$K,2,0),\" \")","v":" "},{"$f":"IFERROR(VLOOKUP(MID(FM$27,5,4)&$A34,Lista_Ubigeo!$J:$K,2,0),\" \")","v":"TARACO"},{"$f":"IFERROR(VLOOKUP(MID(FN$27,5,4)&$A34,Lista_Ubigeo!$J:$K,2,0),\" \")","v":"PARATIA"},{"$f":"IFERROR(VLOOKUP(MID(FO$27,5,4)&$A34,Lista_Ubigeo!$J:$K,2,0),\" \")","v":"ORURILLO"},{"$f":"IFERROR(VLOOKUP(MID(FP$27,5,4)&$A34,Lista_Ubigeo!$J:$K,2,0),\" \")","v":" "},{"$f":"IFERROR(VLOOKUP(MID(FQ$27,5,4)&$A34,Lista_Ubigeo!$J:$K,2,0),\" \")","v":" "},{"$f":"IFERROR(VLOOKUP(MID(FR$27,5,4)&$A34,Lista_Ubigeo!$J:$K,2,0),\" \")","v":" "},{"$f":"IFERROR(VLOOKUP(MID(FS$27,5,4)&$A34,Lista_Ubigeo!$J:$K,2,0),\" \")","v":"SAN JUAN DEL ORO"},{"$f":"IFERROR(VLOOKUP(MID(FT$27,5,4)&$A34,Lista_Ubigeo!$J:$K,2,0),\" \")","v":"UNICACHI"},{"$f":"IFERROR(VLOOKUP(MID(FU$27,5,4)&$A34,Lista_Ubigeo!$J:$K,2,0),\" \")","v":" "},{"$f":"IFERROR(VLOOKUP(MID(FV$27,5,4)&$A34,Lista_Ubigeo!$J:$K,2,0),\" \")","v":" "},{"$f":"IFERROR(VLOOKUP(MID(FW$27,5,4)&$A34,Lista_Ubigeo!$J:$K,2,0),\" \")","v":" "},{"$f":"IFERROR(VLOOKUP(MID(FX$27,5,4)&$A34,Lista_Ubigeo!$J:$K,2,0),\" \")","v":" "},{"$f":"IFERROR(VLOOKUP(MID(FY$27,5,4)&$A34,Lista_Ubigeo!$J:$K,2,0),\" \")","v":"RUMISAPA"},{"$f":"IFERROR(VLOOKUP(MID(FZ$27,5,4)&$A34,Lista_Ubigeo!$J:$K,2,0),\" \")","v":" "},{"$f":"IFERROR(VLOOKUP(MID(GA$27,5,4)&$A34,Lista_Ubigeo!$J:$K,2,0),\" \")","v":"SAN HILARION"},{"$f":"IFERROR(VLOOKUP(MID(GB$27,5,4)&$A34,Lista_Ubigeo!$J:$K,2,0),\" \")","v":"SAN FERNANDO"},{"$f":"IFERROR(VLOOKUP(MID(GC$27,5,4)&$A34,Lista_Ubigeo!$J:$K,2,0),\" \")","v":"HUIMBAYOC"},{"$f":"IFERROR(VLOOKUP(MID(GD$27,5,4)&$A34,Lista_Ubigeo!$J:$K,2,0),\" \")","v":" "},{"$f":"IFERROR(VLOOKUP(MID(GE$27,5,4)&$A34,Lista_Ubigeo!$J:$K,2,0),\" \")","v":"PALCA"},{"$f":"IFERROR(VLOOKUP(MID(GF$27,5,4)&$A34,Lista_Ubigeo!$J:$K,2,0),\" \")","v":" "},{"$f":"IFERROR(VLOOKUP(MID(GG$27,5,4)&$A34,Lista_Ubigeo!$J:$K,2,0),\" \")","v":" "},{"$f":"IFERROR(VLOOKUP(MID(GH$27,5,4)&$A34,Lista_Ubigeo!$J:$K,2,0),\" \")","v":"TARUCACHI"},{"$f":"IFERROR(VLOOKUP(MID(GI$27,5,4)&$A34,Lista_Ubigeo!$J:$K,2,0),\" \")","v":" "},{"$f":"IFERROR(VLOOKUP(MID(GJ$27,5,4)&$A34,Lista_Ubigeo!$J:$K,2,0),\" \")","v":" "},{"$f":"IFERROR(VLOOKUP(MID(GK$27,5,4)&$A34,Lista_Ubigeo!$J:$K,2,0),\" \")","v":" "},{"$f":"IFERROR(VLOOKUP(MID(GL$27,5,4)&$A34,Lista_Ubigeo!$J:$K,2,0),\" \")","v":"MANANTAY"},{"$f":"IFERROR(VLOOKUP(MID(GM$27,5,4)&$A34,Lista_Ubigeo!$J:$K,2,0),\" \")","v":" "},{"$f":"IFERROR(VLOOKUP(MID(GN$27,5,4)&$A34,Lista_Ubigeo!$J:$K,2,0),\" \")","v":" "},{"$f":"IFERROR(VLOOKUP(MID(GO$27,5,4)&$A34,Lista_Ubigeo!$J:$K,2,0),\" \")","v":" "},{"$f":"IFERROR(VLOOKUP(MID(GP$27,5,4)&$A34,Lista_Ubigeo!$J:$K,2,0),\" \")","v":"JOSE DIEGO CHOQUEHUANCA"}]
["08",{"$f":"IFERROR(VLOOKUP(MID(B$27,5,4)&$A35,Lista_Ubigeo!$J:$K,2,0),\" \")","v":"HUANCAS"},{"$f":"IFERROR(VLOOKUP(MID(C$27,5,4)&$A35,Lista_Ubigeo!$J:$K,2,0),\" \")","v":" "},{"$f":"IFERROR(VLOOKUP(MID(D$27,5,4)&$A35,Lista_Ubigeo!$J:$K,2,0),\" \")","v":"RECTA"},{"$f":"IFERROR(VLOOKUP(MID(E$27,5,4)&$A35,Lista_Ubigeo!$J:$K,2,0),\" \")","v":" "},{"$f":"IFERROR(VLOOKUP(MID(F$27,5,4)&$A35,Lista_Ubigeo!$J:$K,2,0),\" \")","v":"LONYA CHICO"},{"$f":"IFERROR(VLOOKUP(MID(G$27,5,4)&$A35,Lista_Ubigeo!$J:$K,2,0),\" \")","v":"MILPUC"},{"$f":"IFERROR(VLOOKUP(MID(H$27,5,4)&$A35,Lista_Ubigeo!$J:$K,2,0),\" \")","v":" "},{"$f":"IFERROR(VLOOKUP(MID(I$27,5,4)&$A35,Lista_Ubigeo!$J:$K,2,0),\" \")","v":"OLLEROS"},{"$f":"IFERROR(VLOOKUP(MID(J$27,5,4)&$A35,Lista_Ubigeo!$J:$K,2,0),\" \")","v":" "},{"$f":"IFERROR(VLOOKUP(MID(K$27,5,4)&$A35,Lista_Ubigeo!$J:$K,2,0),\" \")","v":" "},{"$f":"IFERROR(VLOOKUP(MID(L$27,5,4)&$A35,Lista_Ubigeo!$J:$K,2,0),\" \")","v":" "},{"$f":"IFERROR(VLOOKUP(MID(M$27,5,4)&$A35,Lista_Ubigeo!$J:$K,2,0),\" \")","v":"HUALLANCA"},{"$f":"IFERROR(VLOOKUP(MID(N$27,5,4)&$A35,Lista_Ubigeo!$J:$K,2,0),\" \")","v":"SAN MIGUEL DE ACO"},{"$f":"IFERROR(VLOOKUP(MID(O$27,5,4)&$A35,Lista_Ubigeo!$J:$K,2,0),\" \")","v":" "},{"$f":"IFERROR(VLOOKUP(MID(P$27,5,4)&$A35,Lista_Ubigeo!$J:$K,2,0),\" \")","v":" "},{"$f":"IFERROR(VLOOKUP(MID(Q$27,5,4)&$A35,Lista_Ubigeo!$J:$K,2,0),\" \")","v":" "},{"$f":"IFERROR(VLOOKUP(MID(R$27,5,4)&$A35,Lista_Ubigeo!$J:$K,2,0),\" \")","v":"HUANTAR"},{"$f":"IFERROR(VLOOKUP(MID(S$27,5,4)&$A35,Lista_Ubigeo!$J:$K,2,0),\" \")","v":" "},{"$f":"IFERROR(VLOOKUP(MID(T$27,5,4)&$A35,Lista_Ubigeo!$J:$K,2,0),\" \")","v":"SANTA CRUZ"},{"$f":"IFERROR(VLOOKUP(MID(U$27,5,4)&$A35,Lista_Ubigeo!$J:$K,2,0),\" \")","v":"MUSGA"},{"$f":"IFERROR(VLOOKUP(MID(V$27,5,4)&$A35,Lista_Ubigeo!$J:$K,2,0),\" \")","v":"SAN CRISTOBAL DE RAJAN"},{"$f":"IFERROR(VLOOKUP(MID(W$27,5,4)&$A35,Lista_Ubigeo!$J:$K,2,0),\" \")","v":"PALLASCA"},{"$f":"IFERROR(VLOOKUP(MID(X$27,5,4)&$A35,Lista_Ubigeo!$J:$K,2,0),\" \")","v":" "},{"$f":"IFERROR(VLOOKUP(MID(Y$27,5,4)&$A35,Lista_Ubigeo!$J:$K,2,0),\" \")","v":"PARARIN"},{"$f":"IFERROR(VLOOKUP(MID(Z$27,5,4)&$A35,Lista_Ubigeo!$J:$K,2,0),\" \")","v":"SANTA"},{"$f":"IFERROR(VLOOKUP(MID(AA$27,5,4)&$A35,Lista_Ubigeo!$J:$K,2,0),\" \")","v":"RAGASH"},{"$f":"IFERROR(VLOOKUP(MID(AB$27,5,4)&$A35,Lista_Ubigeo!$J:$K,2,0),\" \")","v":"YANAMA"},{"$f":"IFERROR(VLOOKUP(MID(AC$27,5,4)&$A35,Lista_Ubigeo!$J:$K,2,0),\" \")","v":"SAN PEDRO DE CACHORA"},{"$f":"IFERROR(VLOOKUP(MID(AD$27,5,4)&$A35,Lista_Ubigeo!$J:$K,2,0),\" \")","v":"PACOBAMBA"},{"$f":"IFERROR(VLOOKUP(MID(AE$27,5,4)&$A35,Lista_Ubigeo!$J:$K,2,0),\" \")","v":" "},{"$f":"IFERROR(VLOOKUP(MID(AF$27,5,4)&$A35,Lista_Ubigeo!$J:$K,2,0),\" \")","v":"JUSTO APU SAHUARAURA"},{"$f":"IFERROR(VLOOKUP(MID(AG$27,5,4)&$A35,Lista_Ubigeo!$J:$K,2,0),\" \")","v":" "},{"$f":"IFERROR(VLOOKUP(MID(AH$27,5,4)&$A35,Lista_Ubigeo!$J:$K,2,0),\" \")","v":"RANRACANCHA"},{"$f":"IFERROR(VLOOKUP(MID(AI$27,5,4)&$A35,Lista_Ubigeo!$J:$K,2,0),\" \")","v":"PROGRESO"},{"$f":"IFERROR(VLOOKUP(MID(AJ$27,5,4)&$A35,Lista_Ubigeo!$J:$K,2,0),\" \")","v":"LA JOYA"},{"$f":"IFERROR(VLOOKUP(MID(AK$27,5,4)&$A35,Lista_Ubigeo!$J:$K,2,0),\" \")","v":"SAMUEL PASTOR"},{"$f":"IFERROR(VLOOKUP(MID(AL$27,5,4)&$A35,Lista_Ubigeo!$J:$K,2,0),\" \")","v":"CHAPARRA"},{"$f":"IFERROR(VLOOKUP(MID(AM$27,5,4)&$A35,Lista_Ubigeo!$J:$K,2,0),\" \")","v":"MACHAGUAY"},{"$f":"IFERROR(VLOOKUP(MID(AN$27,5,4)&$A35,Lista_Ubigeo!$J:$K,2,0),\" \")","v":"HUANCA"},{"$f":"IFERROR(VLOOKUP(MID(AO$27,5,4)&$A35,Lista_Ubigeo!$J:$K,2,0),\" \")","v":"YANAQUIHUA"},{"$f":"IFERROR(VLOOKUP(MID(AP$27,5,4)&$A35,Lista_Ubigeo!$J:$K,2,0),\" \")","v":" "},{"$f":"IFERROR(VLOOKUP(MID(AQ$27,4,4)&$A35,Lista_Ubigeo!$J:$K,2,0),\" \")","v":"SAYLA"},{"$f":"IFERROR(VLOOKUP(MID(AR$27,5,4)&$A35,Lista_Ubigeo!$J:$K,2,0),\" \")","v":"QUINUA"},{"$f":"IFERROR(VLOOKUP(MID(AS$27,5,4)&$A35,Lista_Ubigeo!$J:$K,2,0),\" \")","v":" "},{"$f":"IFERROR(VLOOKUP(MID(AT$27,5,4)&$A35,Lista_Ubigeo!$J:$K,2,0),\" \")","v":" "},{"$f":"IFERROR(VLOOKUP(MID(AU$27,5,4)&$A35,Lista_Ubigeo!$J:$K,2,0),\" \")","v":"LLOCHEGUA"},{"$f":"IFERROR(VLOOKUP(MID(AV$27,5,4)&$A35,Lista_Ubigeo!$J:$K,2,0),\" \")","v":"TAMBO"},{"$f":"IFERROR(VLOOKUP(MID(AW$27,5,4)&$A35,Lista_Ubigeo!$J:$K,2,0),\" \")","v":"LARAMATE"},{"$f":"IFERROR(VLOOKUP(MID(AX$27,5,4)&$A35,Lista_Ubigeo!$J:$K,2,0),\" \")","v":"UPAHUACHO"},{"$f":"IFERROR(VLOOKUP(MID(AY$27,5,4)&$A35,Lista_Ubigeo!$J:$K,2,0),\" \")","v":"SAN JAVIER DE ALPABAMBA"},{"$f":"IFERROR(VLOOKUP(MID(AZ$27,5,4)&$A35,Lista_Ubigeo!$J:$K,2,0),\" \")","v":"SAN PEDRO DE LARCAY"},{"$f":"IFERROR(VLOOKUP(MID(BA$27,5,4)&$A35,Lista_Ubigeo!$J:$K,2,0),\" \")","v":"HUAMANQUIQUIA"},{"$f":"IFERROR(VLOOKUP(MID(BB$27,5,4)&$A35,Lista_Ubigeo!$J:$K,2,0),\" \")","v":"VISCHONGO"},{"$f":"IFERROR(VLOOKUP(MID(BC$27,5,4)&$A35,Lista_Ubigeo!$J:$K,2,0),\" \")","v":"LOS BAÑOS DEL INCA"},{"$f":"IFERROR(VLOOKUP(MID(BD$27,5,4)&$A35,Lista_Ubigeo!$J:$K,2,0),\" \")","v":" "},{"$f":"IFERROR(VLOOKUP(MID(BE$27,5,4)&$A35,Lista_Ubigeo!$J:$K,2,0),\" \")","v":"OXAMARCA"},{"$f":"IFERROR(VLOOKUP(MID(BF$27,5,4)&$A35,Lista_Ubigeo!$J:$K,2,0),\" \")","v":"CONCHAN"},{"$f":"IFERROR(VLOOKUP(MID(BG$27,5,4)&$A35,Lista_Ubigeo!$J:$K,2,0),\" \")","v":"YONAN"},{"$f":"IFERROR(VLOOKUP(MID(BH$27,5,4)&$A35,Lista_Ubigeo!$J:$K,2,0),\" \")","v":"SAN ANDRES DE CUTERVO"},{"$f":"IFERROR(VLOOKUP(MID(BI$27,5,4)&$A35,Lista_Ubigeo!$J:$K,2,0),\" \")","v":" "},{"$f":"IFERROR(VLOOKUP(MID(BJ$27,5,4)&$A35,Lista_Ubigeo!$J:$K,2,0),\" \")","v":"PUCARA"},{"$f":"IFERROR(VLOOKUP(MID(BK$27,5,4)&$A35,Lista_Ubigeo!$J:$K,2,0),\" \")","v":" "},{"$f":"IFERROR(VLOOKUP(MID(BL$27,5,4)&$A35,Lista_Ubigeo!$J:$K,2,0),\" \")","v":" "},{"$f":"IFERROR(VLOOKUP(MID(BM$27,5,4)&$A35,Lista_Ubigeo!$J:$K,2,0),\" \")","v":"NANCHOC"},{"$f":"IFERROR(VLOOKUP(MID(BN$27,5,4)&$A35,Lista_Ubigeo!$J:$K,2,0),\" \")","v":" "},{"$f":"IFERROR(VLOOKUP(MID(BO$27,5,4)&$A35,Lista_Ubigeo!$J:$K,2,0),\" \")","v":"SAUCEPAMPA"},{"$f":"IFERROR(VLOOKUP(MID(BP$27,5,4)&$A35,Lista_Ubigeo!$J:$K,2,0),\" \")","v":" "},{"$f":"IFERROR(VLOOKUP(MID(BQ$27,5,4)&$A35,Lista_Ubigeo!$J:$K,2,0),\" \")","v":"WANCHAQ"},{"$f":"IFERROR(VLOOKUP(MID(BR$27,5,4)&$A35,Lista_Ubigeo!$J:$K,2,0),\" \")","v":" "},{"$f":"IFERROR(VLOOKUP(MID(BS$27,5,4)&$A35,Lista_Ubigeo!$J:$K,2,0),\" \")","v":"PUCYURA"},{"$f":"IFERROR(VLOOKUP(MID(BT$27,5,4)&$A35,Lista_Ubigeo!$J:$K,2,0),\" \")","v":"YANATILE"},{"$f":"IFERROR(VLOOKUP(MID(BU$27,5,4)&$A35,Lista_Ubigeo!$J:$K,2,0),\" \")","v":"TUPAC AMARU"},{"$f":"IFERROR(VLOOKUP(MID(BV$27,5,4)&$A35,Lista_Ubigeo!$J:$K,2,0),\" \")","v":"TINTA"},{"$f":"IFERROR(VLOOKUP(MID(BW$27,5,4)&$A35,Lista_Ubigeo!$J:$K,2,0),\" \")","v":"VELILLE"},{"$f":"IFERROR(VLOOKUP(MID(BX$27,5,4)&$A35,Lista_Ubigeo!$J:$K,2,0),\" \")","v":"ALTO PICHIGUA"},{"$f":"IFERROR(VLOOKUP(MID(BY$27,4,4)&$A35,Lista_Ubigeo!$J:$K,2,0),\" \")","v":"SANTA TERESA"},{"$f":"IFERROR(VLOOKUP(MID(BZ$27,5,4)&$A35,Lista_Ubigeo!$J:$K,2,0),\" \")","v":"PILLPINTO"},{"$f":"IFERROR(VLOOKUP(MID(CA$27,5,4)&$A35,Lista_Ubigeo!$J:$K,2,0),\" \")","v":" "},{"$f":"IFERROR(VLOOKUP(MID(CB$27,5,4)&$A35,Lista_Ubigeo!$J:$K,2,0),\" \")","v":"LUCRE"},{"$f":"IFERROR(VLOOKUP(MID(CC$27,5,4)&$A35,Lista_Ubigeo!$J:$K,2,0),\" \")","v":" "},{"$f":"IFERROR(VLOOKUP(MID(CD$27,5,4)&$A35,Lista_Ubigeo!$J:$K,2,0),\" \")","v":"IZCUCHACA"},{"$f":"IFERROR(VLOOKUP(MID(CE$27,5,4)&$A35,Lista_Ubigeo!$J:$K,2,0),\" \")","v":"ROSARIO"},{"$f":"IFERROR(VLOOKUP(MID(CF$27,5,4)&$A35,Lista_Ubigeo!$J:$K,2,0),\" \")","v":"HUAYLLAY GRANDE"},{"$f":"IFERROR(VLOOKUP(MID(CG$27,5,4)&$A35,Lista_Ubigeo!$J:$K,2,0),\" \")","v":"HUAMATAMBO"},{"$f":"IFERROR(VLOOKUP(MID(CH$27,5,4)&$A35,Lista_Ubigeo!$J:$K,2,0),\" \")","v":"SAN MIGUEL DE MAYOCC"},{"$f":"IFERROR(VLOOKUP(MID(CI$27,5,4)&$A35,Lista_Ubigeo!$J:$K,2,0),\" \")","v":"QUERCO"},"HUARIBAMBA",{"$f":"IFERROR(VLOOKUP(MID(CK$27,5,4)&$A35,Lista_Ubigeo!$J:$K,2,0),\" \")","v":"SAN PEDRO DE CHAULAN"},{"$f":"IFERROR(VLOOKUP(MID(CL$27,5,4)&$A35,Lista_Ubigeo!$J:$K,2,0),\" \")","v":"TOMAY KICHWA"},"SILLAPATA",{"$f":"IFERROR(VLOOKUP(MID(CN$27,5,4)&$A35,Lista_Ubigeo!$J:$K,2,0),\" \")","v":" "},{"$f":"IFERROR(VLOOKUP(MID(CO$27,5,4)&$A35,Lista_Ubigeo!$J:$K,2,0),\" \")","v":"PUNCHAO"},{"$f":"IFERROR(VLOOKUP(MID(CP$27,5,4)&$A35,Lista_Ubigeo!$J:$K,2,0),\" \")","v":"CASTILLO GRANDE"},{"$f":"IFERROR(VLOOKUP(MID(CQ$27,5,4)&$A35,Lista_Ubigeo!$J:$K,2,0),\" \")","v":" "},{"$f":"IFERROR(VLOOKUP(MID(CR$27,5,4)&$A35,Lista_Ubigeo!$J:$K,2,0),\" \")","v":" "},{"$f":"IFERROR(VLOOKUP(MID(CS$27,5,4)&$A35,Lista_Ubigeo!$J:$K,2,0),\" \")","v":" "},{"$f":"IFERROR(VLOOKUP(MID(CT$27,5,4)&$A35,Lista_Ubigeo!$J:$K,2,0),\" \")","v":" "},{"$f":"IFERROR(VLOOKUP(MID(CU$27,5,4)&$A35,Lista_Ubigeo!$J:$K,2,0),\" \")","v":"CHORAS"},{"$f":"IFERROR(VLOOKUP(MID(CV$27,5,4)&$A35,Lista_Ubigeo!$J:$K,2,0),\" \")","v":"SALAS"},{"$f":"IFERROR(VLOOKUP(MID(CW$27,5,4)&$A35,Lista_Ubigeo!$J:$K,2,0),\" \")","v":"SAN JUAN DE YANAC"},{"$f":"IFERROR(VLOOKUP(MID(CX$27,5,4)&$A35,Lista_Ubigeo!$J:$K,2,0),\" \")","v":" "},{"$f":"IFERROR(VLOOKUP(MID(CY$27,5,4)&$A35,Lista_Ubigeo!$J:$K,2,0),\" \")","v":" "},{"$f":"IFERROR(VLOOKUP(MID(CZ$27,5,4)&$A35,Lista_Ubigeo!$J:$K,2,0),\" \")","v":"TUPAC AMARU INCA"},"COLCA",{"$f":"IFERROR(VLOOKUP(MID(DB$27,5,4)&$A35,Lista_Ubigeo!$J:$K,2,0),\" \")","v":"MANZANARES"},{"$f":"IFERROR(VLOOKUP(MID(DC$27,5,4)&$A35,Lista_Ubigeo!$J:$K,2,0),\" \")","v":" "},{"$f":"IFERROR(VLOOKUP(MID(DD$27,5,4)&$A35,Lista_Ubigeo!$J:$K,2,0),\" \")","v":"HUAMALI"},{"$f":"IFERROR(VLOOKUP(MID(DE$27,5,4)&$A35,Lista_Ubigeo!$J:$K,2,0),\" \")","v":" "},{"$f":"IFERROR(VLOOKUP(MID(DF$27,5,4)&$A35,Lista_Ubigeo!$J:$K,2,0),\" \")","v":"RIO TAMBO"},{"$f":"IFERROR(VLOOKUP(MID(DG$27,5,4)&$A35,Lista_Ubigeo!$J:$K,2,0),\" \")","v":"SAN PEDRO DE CAJAS"},{"$f":"IFERROR(VLOOKUP(MID(DH$27,5,4)&$A35,Lista_Ubigeo!$J:$K,2,0),\" \")","v":"SANTA ROSA DE SACCO"},{"$f":"IFERROR(VLOOKUP(MID(DI$27,5,4)&$A35,Lista_Ubigeo!$J:$K,2,0),\" \")","v":"TRES DE DICIEMBRE"},{"$f":"IFERROR(VLOOKUP(MID(DJ$27,5,4)&$A35,Lista_Ubigeo!$J:$K,2,0),\" \")","v":"POROTO"},{"$f":"IFERROR(VLOOKUP(MID(DK$27,5,4)&$A35,Lista_Ubigeo!$J:$K,2,0),\" \")","v":"CASA GRANDE"},{"$f":"IFERROR(VLOOKUP(MID(DL$27,5,4)&$A35,Lista_Ubigeo!$J:$K,2,0),\" \")","v":" "},{"$f":"IFERROR(VLOOKUP(MID(DM$27,5,4)&$A35,Lista_Ubigeo!$J:$K,2,0),\" \")","v":" "},{"$f":"IFERROR(VLOOKUP(MID(DN$27,5,4)&$A35,Lista_Ubigeo!$J:$K,2,0),\" \")","v":" "},"SALPO",{"$f":"IFERROR(VLOOKUP(MID(DP$27,5,4)&$A35,Lista_Ubigeo!$J:$K,2,0),\" \")","v":" "},{"$f":"IFERROR(VLOOKUP(MID(DQ$27,5,4)&$A35,Lista_Ubigeo!$J:$K,2,0),\" \")","v":"PARCOY"},{"$f":"IFERROR(VLOOKUP(MID(DR$27,5,4)&$A35,Lista_Ubigeo!$J:$K,2,0),\" \")","v":"SARTIMBAMBA"},{"$f":"IFERROR(VLOOKUP(MID(DS$27,5,4)&$A35,Lista_Ubigeo!$J:$K,2,0),\" \")","v":"SITABAMBA"},null,null,{"$f":"IFERROR(VLOOKUP(MID(DV$27,5,4)&$A35,Lista_Ubigeo!$J:$K,2,0),\" \")","v":"MONSEFU"},{"$f":"IFERROR(VLOOKUP(MID(DW$27,5,4)&$A35,Lista_Ubigeo!$J:$K,2,0),\" \")","v":" "},{"$f":"IFERROR(VLOOKUP(MID(DX$27,5,4)&$A35,Lista_Ubigeo!$J:$K,2,0),\" \")","v":"OLMOS"},{"$f":"IFERROR(VLOOKUP(MID(DY$27,5,4)&$A35,Lista_Ubigeo!$J:$K,2,0),\" \")","v":"CHORRILLOS"},{"$f":"IFERROR(VLOOKUP(MID(DZ$27,5,4)&$A35,Lista_Ubigeo!$J:$K,2,0),\" \")","v":" "},{"$f":"IFERROR(VLOOKUP(MID(EA$27,5,4)&$A35,Lista_Ubigeo!$J:$K,2,0),\" \")","v":" "},{"$f":"IFERROR(VLOOKUP(MID(EB$27,5,4)&$A35,Lista_Ubigeo!$J:$K,2,0),\" \")","v":" "},{"$f":"IFERROR(VLOOKUP(MID(EC$27,5,4)&$A35,Lista_Ubigeo!$J:$K,2,0),\" \")","v":"LUNAHUANA"},{"$f":"IFERROR(VLOOKUP(MID(ED$27,5,4)&$A35,Lista_Ubigeo!$J:$K,2,0),\" \")","v":"PACARAOS"},{"$f":"IFERROR(VLOOKUP(MID(EE$27,5,4)&$A35,Lista_Ubigeo!$J:$K,2,0),\" \")","v":"HUANZA"},{"$f":"IFERROR(VLOOKUP(MID(EF$27,5,4)&$A35,Lista_Ubigeo!$J:$K,2,0),\" \")","v":"PACCHO"},{"$f":"IFERROR(VLOOKUP(MID(EG$27,5,4)&$A35,Lista_Ubigeo!$J:$K,2,0),\" \")","v":" "},{"$f":"IFERROR(VLOOKUP(MID(EH$27,5,4)&$A35,Lista_Ubigeo!$J:$K,2,0),\" \")","v":"CATAHUASI"},{"$f":"IFERROR(VLOOKUP(MID(EI$27,5,4)&$A35,Lista_Ubigeo!$J:$K,2,0),\" \")","v":"PUNCHANA"},{"$f":"IFERROR(VLOOKUP(MID(EJ$27,5,4)&$A40,Lista_Ubigeo!$J:$K,2,0),\" \")","v":" "},{"$f":"IFERROR(VLOOKUP(MID(EK$27,5,4)&$A35,Lista_Ubigeo!$J:$K,2,0),\" \")","v":" "},{"$f":"IFERROR(VLOOKUP(MID(EL$27,5,4)&$A35,Lista_Ubigeo!$J:$K,2,0),\" \")","v":" "},{"$f":"IFERROR(VLOOKUP(MID(EM$27,5,4)&$A35,Lista_Ubigeo!$J:$K,2,0),\" \")","v":"SOPLIN"},{"$f":"IFERROR(VLOOKUP(MID(EN$27,5,4)&$A35,Lista_Ubigeo!$J:$K,2,0),\" \")","v":" "},{"$f":"IFERROR(VLOOKUP(MID(EO$27,5,4)&$A35,Lista_Ubigeo!$J:$K,2,0),\" \")","v":" "},{"$f":"IFERROR(VLOOKUP(MID(EP$27,5,4)&$A35,Lista_Ubigeo!$J:$K,2,0),\" \")","v":" "},{"$f":"IFERROR(VLOOKUP(MID(EQ$27,5,4)&$A35,Lista_Ubigeo!$J:$K,2,0),\" \")","v":" "},{"$f":"IFERROR(VLOOKUP(MID(ER$27,5,4)&$A35,Lista_Ubigeo!$J:$K,2,0),\" \")","v":" "},{"$f":"IFERROR(VLOOKUP(MID(ES$27,5,4)&$A35,Lista_Ubigeo!$J:$K,2,0),\" \")","v":" "},{"$f":"IFERROR(VLOOKUP(MID(ET$27,5,4)&$A35,Lista_Ubigeo!$J:$K,2,0),\" \")","v":" "},{"$f":"IFERROR(VLOOKUP(MID(EU$27,5,4)&$A35,Lista_Ubigeo!$J:$K,2,0),\" \")","v":"PUQUINA"},{"$f":"IFERROR(VLOOKUP(MID(EV$27,5,4)&$A35,Lista_Ubigeo!$J:$K,2,0),\" \")","v":" "},{"$f":"IFERROR(VLOOKUP(MID(EW$27,5,4)&$A35,Lista_Ubigeo!$J:$K,2,0),\" \")","v":"SAN FRANCISCO DE ASIS DE YARUSYACAN"},{"$f":"IFERROR(VLOOKUP(MID(EX$27,5,4)&$A35,Lista_Ubigeo!$J:$K,2,0),\" \")","v":"VILCABAMBA"},{"$f":"IFERROR(VLOOKUP(MID(EY$27,5,4)&$A35,Lista_Ubigeo!$J:$K,2,0),\" \")","v":"CONSTITUCION"},{"$f":"IFERROR(VLOOKUP(MID(EZ$27,5,4)&$A38,Lista_Ubigeo!$J:$K,2,0),\" \")","v":"LAS LOMAS"},{"$f":"IFERROR(VLOOKUP(MID(FA$27,5,4)&$A35,Lista_Ubigeo!$J:$K,2,0),\" \")","v":"SAPILLICA"},{"$f":"IFERROR(VLOOKUP(MID(FB$27,5,4)&$A35,Lista_Ubigeo!$J:$K,2,0),\" \")","v":"SONDORILLO"},{"$f":"IFERROR(VLOOKUP(MID(FC$27,5,4)&$A35,Lista_Ubigeo!$J:$K,2,0),\" \")","v":"SANTA CATALINA DE MOSSA"},{"$f":"IFERROR(VLOOKUP(MID(FD$27,5,4)&$A35,Lista_Ubigeo!$J:$K,2,0),\" \")","v":" "},{"$f":"IFERROR(VLOOKUP(MID(FE$27,5,4)&$A35,Lista_Ubigeo!$J:$K,2,0),\" \")","v":"SALITRAL"},{"$f":"IFERROR(VLOOKUP(MID(FF$27,5,4)&$A35,Lista_Ubigeo!$J:$K,2,0),\" \")","v":" "},{"$f":"IFERROR(VLOOKUP(MID(FG$27,5,4)&$A35,Lista_Ubigeo!$J:$K,2,0),\" \")","v":" "},{"$f":"IFERROR(VLOOKUP(MID(FH$27,5,4)&$A35,Lista_Ubigeo!$J:$K,2,0),\" \")","v":"HUATA"},{"$f":"IFERROR(VLOOKUP(MID(FI$27,5,4)&$A35,Lista_Ubigeo!$J:$K,2,0),\" \")","v":"MUNANI"},{"$f":"IFERROR(VLOOKUP(MID(FJ$27,5,4)&$A35,Lista_Ubigeo!$J:$K,2,0),\" \")","v":"OLLACHEA"},{"$f":"IFERROR(VLOOKUP(MID(FK$27,5,4)&$A35,Lista_Ubigeo!$J:$K,2,0),\" \")","v":" "},{"$f":"IFERROR(VLOOKUP(MID(FL$27,5,4)&$A35,Lista_Ubigeo!$J:$K,2,0),\" \")","v":" "},{"$f":"IFERROR(VLOOKUP(MID(FM$27,5,4)&$A35,Lista_Ubigeo!$J:$K,2,0),\" \")","v":"VILQUE CHICO"},{"$f":"IFERROR(VLOOKUP(MID(FN$27,5,4)&$A35,Lista_Ubigeo!$J:$K,2,0),\" \")","v":"PUCARA"},{"$f":"IFERROR(VLOOKUP(MID(FO$27,5,4)&$A35,Lista_Ubigeo!$J:$K,2,0),\" \")","v":"SANTA ROSA"},{"$f":"IFERROR(VLOOKUP(MID(FP$27,5,4)&$A35,Lista_Ubigeo!$J:$K,2,0),\" \")","v":" "},{"$f":"IFERROR(VLOOKUP(MID(FQ$27,5,4)&$A35,Lista_Ubigeo!$J:$K,2,0),\" \")","v":" "},{"$f":"IFERROR(VLOOKUP(MID(FR$27,5,4)&$A35,Lista_Ubigeo!$J:$K,2,0),\" \")","v":" "},{"$f":"IFERROR(VLOOKUP(MID(FS$27,5,4)&$A35,Lista_Ubigeo!$J:$K,2,0),\" \")","v":"YANAHUAYA"},{"$f":"IFERROR(VLOOKUP(MID(FT$27,5,4)&$A35,Lista_Ubigeo!$J:$K,2,0),\" \")","v":" "},{"$f":"IFERROR(VLOOKUP(MID(FU$27,5,4)&$A35,Lista_Ubigeo!$J:$K,2,0),\" \")","v":" "},{"$f":"IFERROR(VLOOKUP(MID(FV$27,5,4)&$A35,Lista_Ubigeo!$J:$K,2,0),\" \")","v":" "},{"$f":"IFERROR(VLOOKUP(MID(FW$27,5,4)&$A35,Lista_Ubigeo!$J:$K,2,0),\" \")","v":" "},{"$f":"IFERROR(VLOOKUP(MID(FX$27,5,4)&$A35,Lista_Ubigeo!$J:$K,2,0),\" \")","v":" "},{"$f":"IFERROR(VLOOKUP(MID(FY$27,5,4)&$A35,Lista_Ubigeo!$J:$K,2,0),\" \")","v":"SAN ROQUE DE CUMBAZA"},{"$f":"IFERROR(VLOOKUP(MID(FZ$27,5,4)&$A35,Lista_Ubigeo!$J:$K,2,0),\" \")","v":" "},{"$f":"IFERROR(VLOOKUP(MID(GA$27,5,4)&$A35,Lista_Ubigeo!$J:$K,2,0),\" \")","v":"SHAMBOYACU"},{"$f":"IFERROR(VLOOKUP(MID(GB$27,5,4)&$A35,Lista_Ubigeo!$J:$K,2,0),\" \")","v":"YORONGOS"},{"$f":"IFERROR(VLOOKUP(MID(GC$27,5,4)&$A35,Lista_Ubigeo!$J:$K,2,0),\" \")","v":"JUAN GUERRA"},{"$f":"IFERROR(VLOOKUP(MID(GD$27,5,4)&$A35,Lista_Ubigeo!$J:$K,2,0),\" \")","v":" "},{"$f":"IFERROR(VLOOKUP(MID(GE$27,5,4)&$A35,Lista_Ubigeo!$J:$K,2,0),\" \")","v":"POCOLLAY"},{"$f":"IFERROR(VLOOKUP(MID(GF$27,5,4)&$A35,Lista_Ubigeo!$J:$K,2,0),\" \")","v":" "},{"$f":"IFERROR(VLOOKUP(MID(GG$27,5,4)&$A35,Lista_Ubigeo!$J:$K,2,0),\" \")","v":" "},{"$f":"IFERROR(VLOOKUP(MID(GH$27,5,4)&$A35,Lista_Ubigeo!$J:$K,2,0),\" \")","v":"TICACO"},{"$f":"IFERROR(VLOOKUP(MID(GI$27,5,4)&$A35,Lista_Ubigeo!$J:$K,2,0),\" \")","v":" "},{"$f":"IFERROR(VLOOKUP(MID(GJ$27,5,4)&$A35,Lista_Ubigeo!$J:$K,2,0),\" \")","v":" "},{"$f":"IFERROR(VLOOKUP(MID(GK$27,5,4)&$A35,Lista_Ubigeo!$J:$K,2,0),\" \")","v":" "},{"$f":"IFERROR(VLOOKUP(MID(GL$27,5,4)&$A35,Lista_Ubigeo!$J:$K,2,0),\" \")","v":" "},{"$f":"IFERROR(VLOOKUP(MID(GM$27,5,4)&$A35,Lista_Ubigeo!$J:$K,2,0),\" \")","v":" "},{"$f":"IFERROR(VLOOKUP(MID(GN$27,5,4)&$A35,Lista_Ubigeo!$J:$K,2,0),\" \")","v":" "},{"$f":"IFERROR(VLOOKUP(MID(GO$27,5,4)&$A35,Lista_Ubigeo!$J:$K,2,0),\" \")","v":" "},{"$f":"IFERROR(VLOOKUP(MID(GP$27,5,4)&$A35,Lista_Ubigeo!$J:$K,2,0),\" \")","v":"MUNANI"}]
["09",{"$f":"IFERROR(VLOOKUP(MID(B$27,5,4)&$A36,Lista_Ubigeo!$J:$K,2,0),\" \")","v":"LA JALCA"},{"$f":"IFERROR(VLOOKUP(MID(C$27,5,4)&$A36,Lista_Ubigeo!$J:$K,2,0),\" \")","v":" "},{"$f":"IFERROR(VLOOKUP(MID(D$27,5,4)&$A36,Lista_Ubigeo!$J:$K,2,0),\" \")","v":"SAN CARLOS"},{"$f":"IFERROR(VLOOKUP(MID(E$27,5,4)&$A36,Lista_Ubigeo!$J:$K,2,0),\" \")","v":" "},{"$f":"IFERROR(VLOOKUP(MID(F$27,5,4)&$A36,Lista_Ubigeo!$J:$K,2,0),\" \")","v":"LUYA"},{"$f":"IFERROR(VLOOKUP(MID(G$27,5,4)&$A36,Lista_Ubigeo!$J:$K,2,0),\" \")","v":"OMIA"},{"$f":"IFERROR(VLOOKUP(MID(H$27,5,4)&$A36,Lista_Ubigeo!$J:$K,2,0),\" \")","v":" "},{"$f":"IFERROR(VLOOKUP(MID(I$27,5,4)&$A36,Lista_Ubigeo!$J:$K,2,0),\" \")","v":"PAMPAS GRANDE"},{"$f":"IFERROR(VLOOKUP(MID(J$27,5,4)&$A36,Lista_Ubigeo!$J:$K,2,0),\" \")","v":" "},{"$f":"IFERROR(VLOOKUP(MID(K$27,5,4)&$A36,Lista_Ubigeo!$J:$K,2,0),\" \")","v":" "},{"$f":"IFERROR(VLOOKUP(MID(L$27,5,4)&$A36,Lista_Ubigeo!$J:$K,2,0),\" \")","v":" "},{"$f":"IFERROR(VLOOKUP(MID(M$27,5,4)&$A36,Lista_Ubigeo!$J:$K,2,0),\" \")","v":"HUASTA"},{"$f":"IFERROR(VLOOKUP(MID(N$27,5,4)&$A36,Lista_Ubigeo!$J:$K,2,0),\" \")","v":"SHILLA"},{"$f":"IFERROR(VLOOKUP(MID(O$27,5,4)&$A36,Lista_Ubigeo!$J:$K,2,0),\" \")","v":" "},{"$f":"IFERROR(VLOOKUP(MID(P$27,5,4)&$A36,Lista_Ubigeo!$J:$K,2,0),\" \")","v":" "},{"$f":"IFERROR(VLOOKUP(MID(Q$27,5,4)&$A36,Lista_Ubigeo!$J:$K,2,0),\" \")","v":" "},{"$f":"IFERROR(VLOOKUP(MID(R$27,5,4)&$A36,Lista_Ubigeo!$J:$K,2,0),\" \")","v":"MASIN"},{"$f":"IFERROR(VLOOKUP(MID(S$27,5,4)&$A36,Lista_Ubigeo!$J:$K,2,0),\" \")","v":" "},{"$f":"IFERROR(VLOOKUP(MID(T$27,5,4)&$A36,Lista_Ubigeo!$J:$K,2,0),\" \")","v":"SANTO TORIBIO"},{"$f":"IFERROR(VLOOKUP(MID(U$27,5,4)&$A36,Lista_Ubigeo!$J:$K,2,0),\" \")","v":" "},{"$f":"IFERROR(VLOOKUP(MID(V$27,5,4)&$A36,Lista_Ubigeo!$J:$K,2,0),\" \")","v":"SAN PEDRO"},{"$f":"IFERROR(VLOOKUP(MID(W$27,5,4)&$A36,Lista_Ubigeo!$J:$K,2,0),\" \")","v":"PAMPAS"},{"$f":"IFERROR(VLOOKUP(MID(X$27,5,4)&$A36,Lista_Ubigeo!$J:$K,2,0),\" \")","v":" "},{"$f":"IFERROR(VLOOKUP(MID(Y$27,5,4)&$A36,Lista_Ubigeo!$J:$K,2,0),\" \")","v":"TAPACOCHA"},{"$f":"IFERROR(VLOOKUP(MID(Z$27,5,4)&$A36,Lista_Ubigeo!$J:$K,2,0),\" \")","v":"NUEVO CHIMBOTE"},{"$f":"IFERROR(VLOOKUP(MID(AA$27,5,4)&$A36,Lista_Ubigeo!$J:$K,2,0),\" \")","v":"SAN JUAN"},{"$f":"IFERROR(VLOOKUP(MID(AB$27,5,4)&$A36,Lista_Ubigeo!$J:$K,2,0),\" \")","v":" "},{"$f":"IFERROR(VLOOKUP(MID(AC$27,5,4)&$A36,Lista_Ubigeo!$J:$K,2,0),\" \")","v":"TAMBURCO"},{"$f":"IFERROR(VLOOKUP(MID(AD$27,5,4)&$A36,Lista_Ubigeo!$J:$K,2,0),\" \")","v":"PACUCHA"},{"$f":"IFERROR(VLOOKUP(MID(AE$27,5,4)&$A36,Lista_Ubigeo!$J:$K,2,0),\" \")","v":" "},{"$f":"IFERROR(VLOOKUP(MID(AF$27,5,4)&$A36,Lista_Ubigeo!$J:$K,2,0),\" \")","v":"LUCRE"},{"$f":"IFERROR(VLOOKUP(MID(AG$27,5,4)&$A36,Lista_Ubigeo!$J:$K,2,0),\" \")","v":" "},{"$f":"IFERROR(VLOOKUP(MID(AH$27,5,4)&$A36,Lista_Ubigeo!$J:$K,2,0),\" \")","v":"ROCCHACC"},{"$f":"IFERROR(VLOOKUP(MID(AI$27,5,4)&$A36,Lista_Ubigeo!$J:$K,2,0),\" \")","v":"SAN ANTONIO"},{"$f":"IFERROR(VLOOKUP(MID(AJ$27,5,4)&$A36,Lista_Ubigeo!$J:$K,2,0),\" \")","v":"MARIANO MELGAR"},{"$f":"IFERROR(VLOOKUP(MID(AK$27,5,4)&$A36,Lista_Ubigeo!$J:$K,2,0),\" \")","v":" "},{"$f":"IFERROR(VLOOKUP(MID(AL$27,5,4)&$A36,Lista_Ubigeo!$J:$K,2,0),\" \")","v":"HUANUHUANU"},{"$f":"IFERROR(VLOOKUP(MID(AM$27,5,4)&$A36,Lista_Ubigeo!$J:$K,2,0),\" \")","v":"ORCOPAMPA"},{"$f":"IFERROR(VLOOKUP(MID(AN$27,5,4)&$A36,Lista_Ubigeo!$J:$K,2,0),\" \")","v":"ICHUPAMPA"},{"$f":"IFERROR(VLOOKUP(MID(AO$27,5,4)&$A36,Lista_Ubigeo!$J:$K,2,0),\" \")","v":" "},{"$f":"IFERROR(VLOOKUP(MID(AP$27,5,4)&$A36,Lista_Ubigeo!$J:$K,2,0),\" \")","v":" "},{"$f":"IFERROR(VLOOKUP(MID(AQ$27,4,4)&$A36,Lista_Ubigeo!$J:$K,2,0),\" \")","v":"TAURIA"},{"$f":"IFERROR(VLOOKUP(MID(AR$27,5,4)&$A36,Lista_Ubigeo!$J:$K,2,0),\" \")","v":"SAN JOSE DE TICLLAS"},{"$f":"IFERROR(VLOOKUP(MID(AS$27,5,4)&$A36,Lista_Ubigeo!$J:$K,2,0),\" \")","v":" "},{"$f":"IFERROR(VLOOKUP(MID(AT$27,5,4)&$A36,Lista_Ubigeo!$J:$K,2,0),\" \")","v":" "},{"$f":"IFERROR(VLOOKUP(MID(AU$27,5,4)&$A36,Lista_Ubigeo!$J:$K,2,0),\" \")","v":"CANAYRE"},{"$f":"IFERROR(VLOOKUP(MID(AV$27,5,4)&$A36,Lista_Ubigeo!$J:$K,2,0),\" \")","v":"SAMUGARI"},{"$f":"IFERROR(VLOOKUP(MID(AW$27,5,4)&$A36,Lista_Ubigeo!$J:$K,2,0),\" \")","v":"LEONCIO PRADO"},{"$f":"IFERROR(VLOOKUP(MID(AX$27,5,4)&$A36,Lista_Ubigeo!$J:$K,2,0),\" \")","v":" "},{"$f":"IFERROR(VLOOKUP(MID(AY$27,5,4)&$A36,Lista_Ubigeo!$J:$K,2,0),\" \")","v":"SAN JOSE DE USHUA"},{"$f":"IFERROR(VLOOKUP(MID(AZ$27,5,4)&$A36,Lista_Ubigeo!$J:$K,2,0),\" \")","v":"SAN SALVADOR DE QUIJE"},{"$f":"IFERROR(VLOOKUP(MID(BA$27,5,4)&$A36,Lista_Ubigeo!$J:$K,2,0),\" \")","v":"HUANCARAYLLA"},{"$f":"IFERROR(VLOOKUP(MID(BB$27,5,4)&$A36,Lista_Ubigeo!$J:$K,2,0),\" \")","v":" "},{"$f":"IFERROR(VLOOKUP(MID(BC$27,5,4)&$A36,Lista_Ubigeo!$J:$K,2,0),\" \")","v":"MAGDALENA"},{"$f":"IFERROR(VLOOKUP(MID(BD$27,5,4)&$A36,Lista_Ubigeo!$J:$K,2,0),\" \")","v":" "},{"$f":"IFERROR(VLOOKUP(MID(BE$27,5,4)&$A36,Lista_Ubigeo!$J:$K,2,0),\" \")","v":"SOROCHUCO"},{"$f":"IFERROR(VLOOKUP(MID(BF$27,5,4)&$A36,Lista_Ubigeo!$J:$K,2,0),\" \")","v":"HUAMBOS"},{"$f":"IFERROR(VLOOKUP(MID(BG$27,5,4)&$A36,Lista_Ubigeo!$J:$K,2,0),\" \")","v":" "},{"$f":"IFERROR(VLOOKUP(MID(BH$27,5,4)&$A36,Lista_Ubigeo!$J:$K,2,0),\" \")","v":"SAN JUAN DE CUTERVO"},{"$f":"IFERROR(VLOOKUP(MID(BI$27,5,4)&$A36,Lista_Ubigeo!$J:$K,2,0),\" \")","v":" "},{"$f":"IFERROR(VLOOKUP(MID(BJ$27,5,4)&$A36,Lista_Ubigeo!$J:$K,2,0),\" \")","v":"SALLIQUE"},{"$f":"IFERROR(VLOOKUP(MID(BK$27,5,4)&$A36,Lista_Ubigeo!$J:$K,2,0),\" \")","v":" "},{"$f":"IFERROR(VLOOKUP(MID(BL$27,5,4)&$A36,Lista_Ubigeo!$J:$K,2,0),\" \")","v":" "},{"$f":"IFERROR(VLOOKUP(MID(BM$27,5,4)&$A36,Lista_Ubigeo!$J:$K,2,0),\" \")","v":"NIEPOS"},{"$f":"IFERROR(VLOOKUP(MID(BN$27,5,4)&$A36,Lista_Ubigeo!$J:$K,2,0),\" \")","v":" "},{"$f":"IFERROR(VLOOKUP(MID(BO$27,5,4)&$A36,Lista_Ubigeo!$J:$K,2,0),\" \")","v":"SEXI"},{"$f":"IFERROR(VLOOKUP(MID(BP$27,5,4)&$A36,Lista_Ubigeo!$J:$K,2,0),\" \")","v":" "},{"$f":"IFERROR(VLOOKUP(MID(BQ$27,5,4)&$A36,Lista_Ubigeo!$J:$K,2,0),\" \")","v":"QUILLABAMBA"},{"$f":"IFERROR(VLOOKUP(MID(BR$27,5,4)&$A36,Lista_Ubigeo!$J:$K,2,0),\" \")","v":" "},{"$f":"IFERROR(VLOOKUP(MID(BS$27,5,4)&$A36,Lista_Ubigeo!$J:$K,2,0),\" \")","v":"ZURITE"},{"$f":"IFERROR(VLOOKUP(MID(BT$27,5,4)&$A36,Lista_Ubigeo!$J:$K,2,0),\" \")","v":" "},{"$f":"IFERROR(VLOOKUP(MID(BU$27,5,4)&$A36,Lista_Ubigeo!$J:$K,2,0),\" \")","v":" "},{"$f":"IFERROR(VLOOKUP(MID(BV$27,5,4)&$A36,Lista_Ubigeo!$J:$K,2,0),\" \")","v":" "},{"$f":"IFERROR(VLOOKUP(MID(BW$27,5,4)&$A36,Lista_Ubigeo!$J:$K,2,0),\" \")","v":" "},{"$f":"IFERROR(VLOOKUP(MID(BX$27,5,4)&$A36,Lista_Ubigeo!$J:$K,2,0),\" \")","v":" "},{"$f":"IFERROR(VLOOKUP(MID(BY$27,4,4)&$A36,Lista_Ubigeo!$J:$K,2,0),\" \")","v":"VILCABAMBA"},{"$f":"IFERROR(VLOOKUP(MID(BZ$27,5,4)&$A36,Lista_Ubigeo!$J:$K,2,0),\" \")","v":"YAURISQUE"},{"$f":"IFERROR(VLOOKUP(MID(CA$27,5,4)&$A36,Lista_Ubigeo!$J:$K,2,0),\" \")","v":" "},{"$f":"IFERROR(VLOOKUP(MID(CB$27,5,4)&$A36,Lista_Ubigeo!$J:$K,2,0),\" \")","v":"MARCAPATA"},{"$f":"IFERROR(VLOOKUP(MID(CC$27,5,4)&$A36,Lista_Ubigeo!$J:$K,2,0),\" \")","v":" "},{"$f":"IFERROR(VLOOKUP(MID(CD$27,5,4)&$A36,Lista_Ubigeo!$J:$K,2,0),\" \")","v":"LARIA"},{"$f":"IFERROR(VLOOKUP(MID(CE$27,5,4)&$A36,Lista_Ubigeo!$J:$K,2,0),\" \")","v":" "},{"$f":"IFERROR(VLOOKUP(MID(CF$27,5,4)&$A36,Lista_Ubigeo!$J:$K,2,0),\" \")","v":"JULCAMARCA"},{"$f":"IFERROR(VLOOKUP(MID(CG$27,5,4)&$A36,Lista_Ubigeo!$J:$K,2,0),\" \")","v":"MOLLEPAMPA"},{"$f":"IFERROR(VLOOKUP(MID(CH$27,5,4)&$A36,Lista_Ubigeo!$J:$K,2,0),\" \")","v":"SAN PEDRO DE CORIS"},{"$f":"IFERROR(VLOOKUP(MID(CI$27,5,4)&$A36,Lista_Ubigeo!$J:$K,2,0),\" \")","v":"QUITO-ARMA"},"ÑAHUIMPUQUIO",{"$f":"IFERROR(VLOOKUP(MID(CK$27,5,4)&$A36,Lista_Ubigeo!$J:$K,2,0),\" \")","v":"SANTA MARIA DEL VALLE"},{"$f":"IFERROR(VLOOKUP(MID(CL$27,5,4)&$A36,Lista_Ubigeo!$J:$K,2,0),\" \")","v":" "},"YANAS",{"$f":"IFERROR(VLOOKUP(MID(CN$27,5,4)&$A36,Lista_Ubigeo!$J:$K,2,0),\" \")","v":" "},{"$f":"IFERROR(VLOOKUP(MID(CO$27,5,4)&$A36,Lista_Ubigeo!$J:$K,2,0),\" \")","v":"PUÑOS"},{"$f":"IFERROR(VLOOKUP(MID(CP$27,5,4)&$A36,Lista_Ubigeo!$J:$K,2,0),\" \")","v":"PUEBLO NUEVO"},{"$f":"IFERROR(VLOOKUP(MID(CQ$27,5,4)&$A36,Lista_Ubigeo!$J:$K,2,0),\" \")","v":" "},{"$f":"IFERROR(VLOOKUP(MID(CR$27,5,4)&$A36,Lista_Ubigeo!$J:$K,2,0),\" \")","v":" "},{"$f":"IFERROR(VLOOKUP(MID(CS$27,5,4)&$A36,Lista_Ubigeo!$J:$K,2,0),\" \")","v":" "},{"$f":"IFERROR(VLOOKUP(MID(CT$27,5,4)&$A36,Lista_Ubigeo!$J:$K,2,0),\" \")","v":" "},{"$f":"IFERROR(VLOOKUP(MID(CU$27,5,4)&$A36,Lista_Ubigeo!$J:$K,2,0),\" \")","v":" "},{"$f":"IFERROR(VLOOKUP(MID(CV$27,5,4)&$A36,Lista_Ubigeo!$J:$K,2,0),\" \")","v":"SAN JOSE DE LOS MOLINOS"},{"$f":"IFERROR(VLOOKUP(MID(CW$27,5,4)&$A36,Lista_Ubigeo!$J:$K,2,0),\" \")","v":"SAN PEDRO DE HUACARPANA"},{"$f":"IFERROR(VLOOKUP(MID(CX$27,5,4)&$A36,Lista_Ubigeo!$J:$K,2,0),\" \")","v":" "},{"$f":"IFERROR(VLOOKUP(MID(CY$27,5,4)&$A36,Lista_Ubigeo!$J:$K,2,0),\" \")","v":" "},{"$f":"IFERROR(VLOOKUP(MID(CZ$27,5,4)&$A36,Lista_Ubigeo!$J:$K,2,0),\" \")","v":" "},"CULLHUAS",{"$f":"IFERROR(VLOOKUP(MID(DB$27,5,4)&$A36,Lista_Ubigeo!$J:$K,2,0),\" \")","v":"MARISCAL CASTILLA"},{"$f":"IFERROR(VLOOKUP(MID(DC$27,5,4)&$A36,Lista_Ubigeo!$J:$K,2,0),\" \")","v":" "},{"$f":"IFERROR(VLOOKUP(MID(DD$27,5,4)&$A36,Lista_Ubigeo!$J:$K,2,0),\" \")","v":"HUARIPAMPA"},{"$f":"IFERROR(VLOOKUP(MID(DE$27,5,4)&$A36,Lista_Ubigeo!$J:$K,2,0),\" \")","v":" "},{"$f":"IFERROR(VLOOKUP(MID(DF$27,5,4)&$A36,Lista_Ubigeo!$J:$K,2,0),\" \")","v":"VIZCATAN DEL ENE"},{"$f":"IFERROR(VLOOKUP(MID(DG$27,5,4)&$A36,Lista_Ubigeo!$J:$K,2,0),\" \")","v":"TAPO"},{"$f":"IFERROR(VLOOKUP(MID(DH$27,5,4)&$A36,Lista_Ubigeo!$J:$K,2,0),\" \")","v":"SUITUCANCHA"},{"$f":"IFERROR(VLOOKUP(MID(DI$27,5,4)&$A36,Lista_Ubigeo!$J:$K,2,0),\" \")","v":"YANACANCHA"},{"$f":"IFERROR(VLOOKUP(MID(DJ$27,5,4)&$A36,Lista_Ubigeo!$J:$K,2,0),\" \")","v":"SALAVERRY"},{"$f":"IFERROR(VLOOKUP(MID(DK$27,5,4)&$A36,Lista_Ubigeo!$J:$K,2,0),\" \")","v":" "},{"$f":"IFERROR(VLOOKUP(MID(DL$27,5,4)&$A36,Lista_Ubigeo!$J:$K,2,0),\" \")","v":" "},{"$f":"IFERROR(VLOOKUP(MID(DM$27,5,4)&$A36,Lista_Ubigeo!$J:$K,2,0),\" \")","v":" "},{"$f":"IFERROR(VLOOKUP(MID(DN$27,5,4)&$A36,Lista_Ubigeo!$J:$K,2,0),\" \")","v":" "},"SINSICAP",{"$f":"IFERROR(VLOOKUP(MID(DP$27,5,4)&$A36,Lista_Ubigeo!$J:$K,2,0),\" \")","v":" "},{"$f":"IFERROR(VLOOKUP(MID(DQ$27,5,4)&$A36,Lista_Ubigeo!$J:$K,2,0),\" \")","v":"PATAZ"},{"$f":"IFERROR(VLOOKUP(MID(DR$27,5,4)&$A36,Lista_Ubigeo!$J:$K,2,0),\" \")","v":" "},{"$f":"IFERROR(VLOOKUP(MID(DS$27,5,4)&$A36,Lista_Ubigeo!$J:$K,2,0),\" \")","v":" "},null,null,{"$f":"IFERROR(VLOOKUP(MID(DV$27,5,4)&$A36,Lista_Ubigeo!$J:$K,2,0),\" \")","v":"NUEVA ARICA"},{"$f":"IFERROR(VLOOKUP(MID(DW$27,5,4)&$A36,Lista_Ubigeo!$J:$K,2,0),\" \")","v":" "},{"$f":"IFERROR(VLOOKUP(MID(DX$27,5,4)&$A36,Lista_Ubigeo!$J:$K,2,0),\" \")","v":"PACORA"},{"$f":"IFERROR(VLOOKUP(MID(DY$27,5,4)&$A36,Lista_Ubigeo!$J:$K,2,0),\" \")","v":"CIENEGUILLA"},{"$f":"IFERROR(VLOOKUP(MID(DZ$27,5,4)&$A36,Lista_Ubigeo!$J:$K,2,0),\" \")","v":" "},{"$f":"IFERROR(VLOOKUP(MID(EA$27,5,4)&$A36,Lista_Ubigeo!$J:$K,2,0),\" \")","v":" "},{"$f":"IFERROR(VLOOKUP(MID(EB$27,5,4)&$A36,Lista_Ubigeo!$J:$K,2,0),\" \")","v":" "},{"$f":"IFERROR(VLOOKUP(MID(EC$27,5,4)&$A36,Lista_Ubigeo!$J:$K,2,0),\" \")","v":"MALA"},{"$f":"IFERROR(VLOOKUP(MID(ED$27,5,4)&$A36,Lista_Ubigeo!$J:$K,2,0),\" \")","v":"SAN MIGUEL DE ACOS"},{"$f":"IFERROR(VLOOKUP(MID(EE$27,5,4)&$A36,Lista_Ubigeo!$J:$K,2,0),\" \")","v":"HUAROCHIRI"},{"$f":"IFERROR(VLOOKUP(MID(EF$27,5,4)&$A36,Lista_Ubigeo!$J:$K,2,0),\" \")","v":"SANTA LEONOR"},{"$f":"IFERROR(VLOOKUP(MID(EG$27,5,4)&$A36,Lista_Ubigeo!$J:$K,2,0),\" \")","v":" "},{"$f":"IFERROR(VLOOKUP(MID(EH$27,5,4)&$A36,Lista_Ubigeo!$J:$K,2,0),\" \")","v":"CHOCOS"},"TORRES CAUSANA",{"$f":"IFERROR(VLOOKUP(MID(EJ$27,5,4)&$A41,Lista_Ubigeo!$J:$K,2,0),\" \")","v":" "},{"$f":"IFERROR(VLOOKUP(MID(EK$27,5,4)&$A36,Lista_Ubigeo!$J:$K,2,0),\" \")","v":" "},{"$f":"IFERROR(VLOOKUP(MID(EL$27,5,4)&$A36,Lista_Ubigeo!$J:$K,2,0),\" \")","v":" "},{"$f":"IFERROR(VLOOKUP(MID(EM$27,5,4)&$A36,Lista_Ubigeo!$J:$K,2,0),\" \")","v":"TAPICHE"},{"$f":"IFERROR(VLOOKUP(MID(EN$27,5,4)&$A36,Lista_Ubigeo!$J:$K,2,0),\" \")","v":" "},{"$f":"IFERROR(VLOOKUP(MID(EO$27,5,4)&$A36,Lista_Ubigeo!$J:$K,2,0),\" \")","v":" "},{"$f":"IFERROR(VLOOKUP(MID(EP$27,5,4)&$A36,Lista_Ubigeo!$J:$K,2,0),\" \")","v":" "},{"$f":"IFERROR(VLOOKUP(MID(EQ$27,5,4)&$A36,Lista_Ubigeo!$J:$K,2,0),\" \")","v":" "},{"$f":"IFERROR(VLOOKUP(MID(ER$27,5,4)&$A36,Lista_Ubigeo!$J:$K,2,0),\" \")","v":" "},{"$f":"IFERROR(VLOOKUP(MID(ES$27,5,4)&$A36,Lista_Ubigeo!$J:$K,2,0),\" \")","v":" "},{"$f":"IFERROR(VLOOKUP(MID(ET$27,5,4)&$A36,Lista_Ubigeo!$J:$K,2,0),\" \")","v":" "},{"$f":"IFERROR(VLOOKUP(MID(EU$27,5,4)&$A36,Lista_Ubigeo!$J:$K,2,0),\" \")","v":"QUINISTAQUILLAS"},{"$f":"IFERROR(VLOOKUP(MID(EV$27,5,4)&$A36,Lista_Ubigeo!$J:$K,2,0),\" \")","v":" "},{"$f":"IFERROR(VLOOKUP(MID(EW$27,5,4)&$A36,Lista_Ubigeo!$J:$K,2,0),\" \")","v":"SIMON BOLIVAR"},{"$f":"IFERROR(VLOOKUP(MID(EX$27,5,4)&$A36,Lista_Ubigeo!$J:$K,2,0),\" \")","v":" "},{"$f":"IFERROR(VLOOKUP(MID(EY$27,5,4)&$A36,Lista_Ubigeo!$J:$K,2,0),\" \")","v":" "},"TAMBO GRANDE",{"$f":"IFERROR(VLOOKUP(MID(FA$27,5,4)&$A36,Lista_Ubigeo!$J:$K,2,0),\" \")","v":"SICCHEZ"},{"$f":"IFERROR(VLOOKUP(MID(FB$27,5,4)&$A36,Lista_Ubigeo!$J:$K,2,0),\" \")","v":" "},{"$f":"IFERROR(VLOOKUP(MID(FC$27,5,4)&$A36,Lista_Ubigeo!$J:$K,2,0),\" \")","v":"SANTO DOMINGO"},{"$f":"IFERROR(VLOOKUP(MID(FD$27,5,4)&$A36,Lista_Ubigeo!$J:$K,2,0),\" \")","v":" "},{"$f":"IFERROR(VLOOKUP(MID(FE$27,5,4)&$A36,Lista_Ubigeo!$J:$K,2,0),\" \")","v":" "},{"$f":"IFERROR(VLOOKUP(MID(FF$27,5,4)&$A36,Lista_Ubigeo!$J:$K,2,0),\" \")","v":" "},{"$f":"IFERROR(VLOOKUP(MID(FG$27,5,4)&$A36,Lista_Ubigeo!$J:$K,2,0),\" \")","v":" "},{"$f":"IFERROR(VLOOKUP(MID(FH$27,5,4)&$A36,Lista_Ubigeo!$J:$K,2,0),\" \")","v":"MANAZO"},{"$f":"IFERROR(VLOOKUP(MID(FI$27,5,4)&$A36,Lista_Ubigeo!$J:$K,2,0),\" \")","v":"POTONI"},{"$f":"IFERROR(VLOOKUP(MID(FJ$27,5,4)&$A36,Lista_Ubigeo!$J:$K,2,0),\" \")","v":"SAN GABAN"},{"$f":"IFERROR(VLOOKUP(MID(FK$27,5,4)&$A36,Lista_Ubigeo!$J:$K,2,0),\" \")","v":" "},{"$f":"IFERROR(VLOOKUP(MID(FL$27,5,4)&$A36,Lista_Ubigeo!$J:$K,2,0),\" \")","v":" "},{"$f":"IFERROR(VLOOKUP(MID(FM$27,5,4)&$A36,Lista_Ubigeo!$J:$K,2,0),\" \")","v":" "},{"$f":"IFERROR(VLOOKUP(MID(FN$27,5,4)&$A36,Lista_Ubigeo!$J:$K,2,0),\" \")","v":"SANTA LUCIA"},{"$f":"IFERROR(VLOOKUP(MID(FO$27,5,4)&$A36,Lista_Ubigeo!$J:$K,2,0),\" \")","v":"UMACHIRI"},{"$f":"IFERROR(VLOOKUP(MID(FP$27,5,4)&$A36,Lista_Ubigeo!$J:$K,2,0),\" \")","v":" "},{"$f":"IFERROR(VLOOKUP(MID(FQ$27,5,4)&$A36,Lista_Ubigeo!$J:$K,2,0),\" \")","v":" "},{"$f":"IFERROR(VLOOKUP(MID(FR$27,5,4)&$A36,Lista_Ubigeo!$J:$K,2,0),\" \")","v":" "},{"$f":"IFERROR(VLOOKUP(MID(FS$27,5,4)&$A36,Lista_Ubigeo!$J:$K,2,0),\" \")","v":"ALTO INAMBARI"},{"$f":"IFERROR(VLOOKUP(MID(FT$27,5,4)&$A36,Lista_Ubigeo!$J:$K,2,0),\" \")","v":" "},{"$f":"IFERROR(VLOOKUP(MID(FU$27,5,4)&$A36,Lista_Ubigeo!$J:$K,2,0),\" \")","v":" "},{"$f":"IFERROR(VLOOKUP(MID(FV$27,5,4)&$A36,Lista_Ubigeo!$J:$K,2,0),\" \")","v":" "},{"$f":"IFERROR(VLOOKUP(MID(FW$27,5,4)&$A36,Lista_Ubigeo!$J:$K,2,0),\" \")","v":" "},{"$f":"IFERROR(VLOOKUP(MID(FX$27,5,4)&$A36,Lista_Ubigeo!$J:$K,2,0),\" \")","v":" "},{"$f":"IFERROR(VLOOKUP(MID(FY$27,5,4)&$A36,Lista_Ubigeo!$J:$K,2,0),\" \")","v":"SHANAO"},{"$f":"IFERROR(VLOOKUP(MID(FZ$27,5,4)&$A36,Lista_Ubigeo!$J:$K,2,0),\" \")","v":" "},{"$f":"IFERROR(VLOOKUP(MID(GA$27,5,4)&$A36,Lista_Ubigeo!$J:$K,2,0),\" \")","v":"TINGO DE PONASA"},{"$f":"IFERROR(VLOOKUP(MID(GB$27,5,4)&$A36,Lista_Ubigeo!$J:$K,2,0),\" \")","v":"YURACYACU"},{"$f":"IFERROR(VLOOKUP(MID(GC$27,5,4)&$A36,Lista_Ubigeo!$J:$K,2,0),\" \")","v":"LA BANDA DE SHILCAYO"},{"$f":"IFERROR(VLOOKUP(MID(GD$27,5,4)&$A36,Lista_Ubigeo!$J:$K,2,0),\" \")","v":" "},{"$f":"IFERROR(VLOOKUP(MID(GE$27,5,4)&$A36,Lista_Ubigeo!$J:$K,2,0),\" \")","v":"SAMA"},{"$f":"IFERROR(VLOOKUP(MID(GF$27,5,4)&$A36,Lista_Ubigeo!$J:$K,2,0),\" \")","v":" "},{"$f":"IFERROR(VLOOKUP(MID(GG$27,5,4)&$A36,Lista_Ubigeo!$J:$K,2,0),\" \")","v":" "},{"$f":"IFERROR(VLOOKUP(MID(GH$27,5,4)&$A36,Lista_Ubigeo!$J:$K,2,0),\" \")","v":" "},{"$f":"IFERROR(VLOOKUP(MID(GI$27,5,4)&$A36,Lista_Ubigeo!$J:$K,2,0),\" \")","v":" "},{"$f":"IFERROR(VLOOKUP(MID(GJ$27,5,4)&$A36,Lista_Ubigeo!$J:$K,2,0),\" \")","v":" "},{"$f":"IFERROR(VLOOKUP(MID(GK$27,5,4)&$A36,Lista_Ubigeo!$J:$K,2,0),\" \")","v":" "},{"$f":"IFERROR(VLOOKUP(MID(GL$27,5,4)&$A36,Lista_Ubigeo!$J:$K,2,0),\" \")","v":" "},{"$f":"IFERROR(VLOOKUP(MID(GM$27,5,4)&$A36,Lista_Ubigeo!$J:$K,2,0),\" \")","v":" "},{"$f":"IFERROR(VLOOKUP(MID(GN$27,5,4)&$A36,Lista_Ubigeo!$J:$K,2,0),\" \")","v":" "},{"$f":"IFERROR(VLOOKUP(MID(GO$27,5,4)&$A36,Lista_Ubigeo!$J:$K,2,0),\" \")","v":" "},{"$f":"IFERROR(VLOOKUP(MID(GP$27,5,4)&$A36,Lista_Ubigeo!$J:$K,2,0),\" \")","v":"POTONI"}]
["10",{"$f":"IFERROR(VLOOKUP(MID(B$27,5,4)&$A37,Lista_Ubigeo!$J:$K,2,0),\" \")","v":"LEIMEBAMBA"},{"$f":"IFERROR(VLOOKUP(MID(C$27,5,4)&$A37,Lista_Ubigeo!$J:$K,2,0),\" \")","v":" "},{"$f":"IFERROR(VLOOKUP(MID(D$27,5,4)&$A37,Lista_Ubigeo!$J:$K,2,0),\" \")","v":"SHIPASBAMBA"},{"$f":"IFERROR(VLOOKUP(MID(E$27,5,4)&$A37,Lista_Ubigeo!$J:$K,2,0),\" \")","v":" "},{"$f":"IFERROR(VLOOKUP(MID(F$27,5,4)&$A37,Lista_Ubigeo!$J:$K,2,0),\" \")","v":"LUYA VIEJO"},{"$f":"IFERROR(VLOOKUP(MID(G$27,5,4)&$A37,Lista_Ubigeo!$J:$K,2,0),\" \")","v":"SANTA ROSA"},{"$f":"IFERROR(VLOOKUP(MID(H$27,5,4)&$A37,Lista_Ubigeo!$J:$K,2,0),\" \")","v":" "},{"$f":"IFERROR(VLOOKUP(MID(I$27,5,4)&$A37,Lista_Ubigeo!$J:$K,2,0),\" \")","v":"PARIACOTO"},{"$f":"IFERROR(VLOOKUP(MID(J$27,5,4)&$A37,Lista_Ubigeo!$J:$K,2,0),\" \")","v":" "},{"$f":"IFERROR(VLOOKUP(MID(K$27,5,4)&$A37,Lista_Ubigeo!$J:$K,2,0),\" \")","v":" "},{"$f":"IFERROR(VLOOKUP(MID(L$27,5,4)&$A37,Lista_Ubigeo!$J:$K,2,0),\" \")","v":" "},{"$f":"IFERROR(VLOOKUP(MID(M$27,5,4)&$A37,Lista_Ubigeo!$J:$K,2,0),\" \")","v":"HUAYLLACAYAN"},{"$f":"IFERROR(VLOOKUP(MID(N$27,5,4)&$A37,Lista_Ubigeo!$J:$K,2,0),\" \")","v":"TINCO"},{"$f":"IFERROR(VLOOKUP(MID(O$27,5,4)&$A37,Lista_Ubigeo!$J:$K,2,0),\" \")","v":" "},{"$f":"IFERROR(VLOOKUP(MID(P$27,5,4)&$A37,Lista_Ubigeo!$J:$K,2,0),\" \")","v":" "},{"$f":"IFERROR(VLOOKUP(MID(Q$27,5,4)&$A37,Lista_Ubigeo!$J:$K,2,0),\" \")","v":" "},{"$f":"IFERROR(VLOOKUP(MID(R$27,5,4)&$A37,Lista_Ubigeo!$J:$K,2,0),\" \")","v":"PAUCAS"},{"$f":"IFERROR(VLOOKUP(MID(S$27,5,4)&$A37,Lista_Ubigeo!$J:$K,2,0),\" \")","v":" "},{"$f":"IFERROR(VLOOKUP(MID(T$27,5,4)&$A37,Lista_Ubigeo!$J:$K,2,0),\" \")","v":"YURACMARCA"},{"$f":"IFERROR(VLOOKUP(MID(U$27,5,4)&$A37,Lista_Ubigeo!$J:$K,2,0),\" \")","v":" "},{"$f":"IFERROR(VLOOKUP(MID(V$27,5,4)&$A37,Lista_Ubigeo!$J:$K,2,0),\" \")","v":"SANTIAGO DE CHILCAS"},{"$f":"IFERROR(VLOOKUP(MID(W$27,5,4)&$A37,Lista_Ubigeo!$J:$K,2,0),\" \")","v":"SANTA ROSA"},{"$f":"IFERROR(VLOOKUP(MID(X$27,5,4)&$A37,Lista_Ubigeo!$J:$K,2,0),\" \")","v":" "},{"$f":"IFERROR(VLOOKUP(MID(Y$27,5,4)&$A37,Lista_Ubigeo!$J:$K,2,0),\" \")","v":"TICAPAMPA"},{"$f":"IFERROR(VLOOKUP(MID(Z$27,5,4)&$A37,Lista_Ubigeo!$J:$K,2,0),\" \")","v":" "},{"$f":"IFERROR(VLOOKUP(MID(AA$27,5,4)&$A37,Lista_Ubigeo!$J:$K,2,0),\" \")","v":"SICSIBAMBA"},{"$f":"IFERROR(VLOOKUP(MID(AB$27,5,4)&$A37,Lista_Ubigeo!$J:$K,2,0),\" \")","v":" "},{"$f":"IFERROR(VLOOKUP(MID(AC$27,5,4)&$A37,Lista_Ubigeo!$J:$K,2,0),\" \")","v":" "},{"$f":"IFERROR(VLOOKUP(MID(AD$27,5,4)&$A37,Lista_Ubigeo!$J:$K,2,0),\" \")","v":"PAMPACHIRI"},{"$f":"IFERROR(VLOOKUP(MID(AE$27,5,4)&$A37,Lista_Ubigeo!$J:$K,2,0),\" \")","v":" "},{"$f":"IFERROR(VLOOKUP(MID(AF$27,5,4)&$A37,Lista_Ubigeo!$J:$K,2,0),\" \")","v":"POCOHUANCA"},{"$f":"IFERROR(VLOOKUP(MID(AG$27,5,4)&$A37,Lista_Ubigeo!$J:$K,2,0),\" \")","v":" "},{"$f":"IFERROR(VLOOKUP(MID(AH$27,5,4)&$A37,Lista_Ubigeo!$J:$K,2,0),\" \")","v":"EL PORVENIR"},{"$f":"IFERROR(VLOOKUP(MID(AI$27,5,4)&$A37,Lista_Ubigeo!$J:$K,2,0),\" \")","v":"SANTA ROSA"},{"$f":"IFERROR(VLOOKUP(MID(AJ$27,5,4)&$A37,Lista_Ubigeo!$J:$K,2,0),\" \")","v":"MIRAFLORES"},{"$f":"IFERROR(VLOOKUP(MID(AK$27,5,4)&$A37,Lista_Ubigeo!$J:$K,2,0),\" \")","v":" "},{"$f":"IFERROR(VLOOKUP(MID(AL$27,5,4)&$A37,Lista_Ubigeo!$J:$K,2,0),\" \")","v":"JAQUI"},{"$f":"IFERROR(VLOOKUP(MID(AM$27,5,4)&$A37,Lista_Ubigeo!$J:$K,2,0),\" \")","v":"PAMPACOLCA"},{"$f":"IFERROR(VLOOKUP(MID(AN$27,5,4)&$A37,Lista_Ubigeo!$J:$K,2,0),\" \")","v":"LARI"},{"$f":"IFERROR(VLOOKUP(MID(AO$27,5,4)&$A37,Lista_Ubigeo!$J:$K,2,0),\" \")","v":" "},{"$f":"IFERROR(VLOOKUP(MID(AP$27,5,4)&$A37,Lista_Ubigeo!$J:$K,2,0),\" \")","v":" "},{"$f":"IFERROR(VLOOKUP(MID(AQ$27,4,4)&$A37,Lista_Ubigeo!$J:$K,2,0),\" \")","v":"TOMEPAMPA"},{"$f":"IFERROR(VLOOKUP(MID(AR$27,5,4)&$A37,Lista_Ubigeo!$J:$K,2,0),\" \")","v":"SAN JUAN BAUTISTA"},{"$f":"IFERROR(VLOOKUP(MID(AS$27,5,4)&$A37,Lista_Ubigeo!$J:$K,2,0),\" \")","v":" "},{"$f":"IFERROR(VLOOKUP(MID(AT$27,5,4)&$A37,Lista_Ubigeo!$J:$K,2,0),\" \")","v":" "},{"$f":"IFERROR(VLOOKUP(MID(AU$27,5,4)&$A37,Lista_Ubigeo!$J:$K,2,0),\" \")","v":"UCHURACCAY"},{"$f":"IFERROR(VLOOKUP(MID(AV$27,5,4)&$A37,Lista_Ubigeo!$J:$K,2,0),\" \")","v":"ANCHIHUAY"},{"$f":"IFERROR(VLOOKUP(MID(AW$27,5,4)&$A37,Lista_Ubigeo!$J:$K,2,0),\" \")","v":"LLAUTA"},{"$f":"IFERROR(VLOOKUP(MID(AX$27,5,4)&$A37,Lista_Ubigeo!$J:$K,2,0),\" \")","v":" "},{"$f":"IFERROR(VLOOKUP(MID(AY$27,5,4)&$A37,Lista_Ubigeo!$J:$K,2,0),\" \")","v":"SARA SARA"},{"$f":"IFERROR(VLOOKUP(MID(AZ$27,5,4)&$A37,Lista_Ubigeo!$J:$K,2,0),\" \")","v":"SANTIAGO DE PAUCARAY"},{"$f":"IFERROR(VLOOKUP(MID(BA$27,5,4)&$A37,Lista_Ubigeo!$J:$K,2,0),\" \")","v":"HUAYA"},{"$f":"IFERROR(VLOOKUP(MID(BB$27,5,4)&$A37,Lista_Ubigeo!$J:$K,2,0),\" \")","v":" "},{"$f":"IFERROR(VLOOKUP(MID(BC$27,5,4)&$A37,Lista_Ubigeo!$J:$K,2,0),\" \")","v":"MATARA"},{"$f":"IFERROR(VLOOKUP(MID(BD$27,5,4)&$A37,Lista_Ubigeo!$J:$K,2,0),\" \")","v":" "},{"$f":"IFERROR(VLOOKUP(MID(BE$27,5,4)&$A37,Lista_Ubigeo!$J:$K,2,0),\" \")","v":"SUCRE"},{"$f":"IFERROR(VLOOKUP(MID(BF$27,5,4)&$A37,Lista_Ubigeo!$J:$K,2,0),\" \")","v":"LAJAS"},{"$f":"IFERROR(VLOOKUP(MID(BG$27,5,4)&$A37,Lista_Ubigeo!$J:$K,2,0),\" \")","v":" "},{"$f":"IFERROR(VLOOKUP(MID(BH$27,5,4)&$A37,Lista_Ubigeo!$J:$K,2,0),\" \")","v":"SAN LUIS DE LUCMA"},{"$f":"IFERROR(VLOOKUP(MID(BI$27,5,4)&$A37,Lista_Ubigeo!$J:$K,2,0),\" \")","v":" "},{"$f":"IFERROR(VLOOKUP(MID(BJ$27,5,4)&$A37,Lista_Ubigeo!$J:$K,2,0),\" \")","v":"SAN FELIPE"},{"$f":"IFERROR(VLOOKUP(MID(BK$27,5,4)&$A37,Lista_Ubigeo!$J:$K,2,0),\" \")","v":" "},{"$f":"IFERROR(VLOOKUP(MID(BL$27,5,4)&$A37,Lista_Ubigeo!$J:$K,2,0),\" \")","v":" "},{"$f":"IFERROR(VLOOKUP(MID(BM$27,5,4)&$A37,Lista_Ubigeo!$J:$K,2,0),\" \")","v":"SAN GREGORIO"},{"$f":"IFERROR(VLOOKUP(MID(BN$27,5,4)&$A37,Lista_Ubigeo!$J:$K,2,0),\" \")","v":" "},{"$f":"IFERROR(VLOOKUP(MID(BO$27,5,4)&$A37,Lista_Ubigeo!$J:$K,2,0),\" \")","v":"UTICYACU"},{"$f":"IFERROR(VLOOKUP(MID(BP$27,5,4)&$A37,Lista_Ubigeo!$J:$K,2,0),\" \")","v":" "},{"$f":"IFERROR(VLOOKUP(MID(BQ$27,5,4)&$A37,Lista_Ubigeo!$J:$K,2,0),\" \")","v":" "},{"$f":"IFERROR(VLOOKUP(MID(BR$27,5,4)&$A37,Lista_Ubigeo!$J:$K,2,0),\" \")","v":" "},{"$f":"IFERROR(VLOOKUP(MID(BS$27,5,4)&$A37,Lista_Ubigeo!$J:$K,2,0),\" \")","v":" "},{"$f":"IFERROR(VLOOKUP(MID(BT$27,5,4)&$A37,Lista_Ubigeo!$J:$K,2,0),\" \")","v":" "},{"$f":"IFERROR(VLOOKUP(MID(BU$27,5,4)&$A37,Lista_Ubigeo!$J:$K,2,0),\" \")","v":" "},{"$f":"IFERROR(VLOOKUP(MID(BV$27,5,4)&$A37,Lista_Ubigeo!$J:$K,2,0),\" \")","v":" "},{"$f":"IFERROR(VLOOKUP(MID(BW$27,5,4)&$A37,Lista_Ubigeo!$J:$K,2,0),\" \")","v":" "},{"$f":"IFERROR(VLOOKUP(MID(BX$27,5,4)&$A37,Lista_Ubigeo!$J:$K,2,0),\" \")","v":" "},{"$f":"IFERROR(VLOOKUP(MID(BY$27,4,4)&$A37,Lista_Ubigeo!$J:$K,2,0),\" \")","v":"PICHARI"},{"$f":"IFERROR(VLOOKUP(MID(BZ$27,5,4)&$A37,Lista_Ubigeo!$J:$K,2,0),\" \")","v":" "},{"$f":"IFERROR(VLOOKUP(MID(CA$27,5,4)&$A37,Lista_Ubigeo!$J:$K,2,0),\" \")","v":" "},{"$f":"IFERROR(VLOOKUP(MID(CB$27,5,4)&$A37,Lista_Ubigeo!$J:$K,2,0),\" \")","v":"OCONGATE"},{"$f":"IFERROR(VLOOKUP(MID(CC$27,5,4)&$A37,Lista_Ubigeo!$J:$K,2,0),\" \")","v":" "},{"$f":"IFERROR(VLOOKUP(MID(CD$27,5,4)&$A37,Lista_Ubigeo!$J:$K,2,0),\" \")","v":"MANTA"},{"$f":"IFERROR(VLOOKUP(MID(CE$27,5,4)&$A37,Lista_Ubigeo!$J:$K,2,0),\" \")","v":" "},{"$f":"IFERROR(VLOOKUP(MID(CF$27,5,4)&$A37,Lista_Ubigeo!$J:$K,2,0),\" \")","v":"SAN ANTONIO DE ANTAPARCO"},{"$f":"IFERROR(VLOOKUP(MID(CG$27,5,4)&$A37,Lista_Ubigeo!$J:$K,2,0),\" \")","v":"SAN JUAN"},{"$f":"IFERROR(VLOOKUP(MID(CH$27,5,4)&$A37,Lista_Ubigeo!$J:$K,2,0),\" \")","v":"PACHAMARCA"},{"$f":"IFERROR(VLOOKUP(MID(CI$27,5,4)&$A37,Lista_Ubigeo!$J:$K,2,0),\" \")","v":"SAN ANTONIO DE CUSICANCHA"},"PAZOS",{"$f":"IFERROR(VLOOKUP(MID(CK$27,5,4)&$A37,Lista_Ubigeo!$J:$K,2,0),\" \")","v":"YARUMAYO"},{"$f":"IFERROR(VLOOKUP(MID(CL$27,5,4)&$A37,Lista_Ubigeo!$J:$K,2,0),\" \")","v":" "},null,{"$f":"IFERROR(VLOOKUP(MID(CN$27,5,4)&$A37,Lista_Ubigeo!$J:$K,2,0),\" \")","v":" "},{"$f":"IFERROR(VLOOKUP(MID(CO$27,5,4)&$A37,Lista_Ubigeo!$J:$K,2,0),\" \")","v":"SINGA"},{"$f":"IFERROR(VLOOKUP(MID(CP$27,5,4)&$A37,Lista_Ubigeo!$J:$K,2,0),\" \")","v":"SANTA DOMIENGO DE ANDA"},{"$f":"IFERROR(VLOOKUP(MID(CQ$27,5,4)&$A37,Lista_Ubigeo!$J:$K,2,0),\" \")","v":" "},{"$f":"IFERROR(VLOOKUP(MID(CR$27,5,4)&$A37,Lista_Ubigeo!$J:$K,2,0),\" \")","v":" "},{"$f":"IFERROR(VLOOKUP(MID(CS$27,5,4)&$A37,Lista_Ubigeo!$J:$K,2,0),\" \")","v":" "},{"$f":"IFERROR(VLOOKUP(MID(CT$27,5,4)&$A37,Lista_Ubigeo!$J:$K,2,0),\" \")","v":" "},{"$f":"IFERROR(VLOOKUP(MID(CU$27,5,4)&$A37,Lista_Ubigeo!$J:$K,2,0),\" \")","v":" "},{"$f":"IFERROR(VLOOKUP(MID(CV$27,5,4)&$A37,Lista_Ubigeo!$J:$K,2,0),\" \")","v":"SAN JUAN BAUTISTA"},{"$f":"IFERROR(VLOOKUP(MID(CW$27,5,4)&$A37,Lista_Ubigeo!$J:$K,2,0),\" \")","v":"SUNAMPE"},{"$f":"IFERROR(VLOOKUP(MID(CX$27,5,4)&$A37,Lista_Ubigeo!$J:$K,2,0),\" \")","v":" "},{"$f":"IFERROR(VLOOKUP(MID(CY$27,5,4)&$A37,Lista_Ubigeo!$J:$K,2,0),\" \")","v":" "},{"$f":"IFERROR(VLOOKUP(MID(CZ$27,5,4)&$A37,Lista_Ubigeo!$J:$K,2,0),\" \")","v":" "},"EL TAMBO",{"$f":"IFERROR(VLOOKUP(MID(DB$27,5,4)&$A37,Lista_Ubigeo!$J:$K,2,0),\" \")","v":"MATAHUASI"},{"$f":"IFERROR(VLOOKUP(MID(DC$27,5,4)&$A37,Lista_Ubigeo!$J:$K,2,0),\" \")","v":" "},{"$f":"IFERROR(VLOOKUP(MID(DD$27,5,4)&$A37,Lista_Ubigeo!$J:$K,2,0),\" \")","v":"HUERTAS"},{"$f":"IFERROR(VLOOKUP(MID(DE$27,5,4)&$A37,Lista_Ubigeo!$J:$K,2,0),\" \")","v":" "},{"$f":"IFERROR(VLOOKUP(MID(DF$27,5,4)&$A37,Lista_Ubigeo!$J:$K,2,0),\" \")","v":" "},{"$f":"IFERROR(VLOOKUP(MID(DG$27,5,4)&$A37,Lista_Ubigeo!$J:$K,2,0),\" \")","v":" "},{"$f":"IFERROR(VLOOKUP(MID(DH$27,5,4)&$A37,Lista_Ubigeo!$J:$K,2,0),\" \")","v":"YAULI"},{"$f":"IFERROR(VLOOKUP(MID(DI$27,5,4)&$A37,Lista_Ubigeo!$J:$K,2,0),\" \")","v":" "},{"$f":"IFERROR(VLOOKUP(MID(DJ$27,5,4)&$A37,Lista_Ubigeo!$J:$K,2,0),\" \")","v":"SIMBAL"},{"$f":"IFERROR(VLOOKUP(MID(DK$27,5,4)&$A37,Lista_Ubigeo!$J:$K,2,0),\" \")","v":" "},{"$f":"IFERROR(VLOOKUP(MID(DL$27,5,4)&$A37,Lista_Ubigeo!$J:$K,2,0),\" \")","v":" "},{"$f":"IFERROR(VLOOKUP(MID(DM$27,5,4)&$A37,Lista_Ubigeo!$J:$K,2,0),\" \")","v":" "},{"$f":"IFERROR(VLOOKUP(MID(DN$27,5,4)&$A37,Lista_Ubigeo!$J:$K,2,0),\" \")","v":" "},"USQUIL",{"$f":"IFERROR(VLOOKUP(MID(DP$27,5,4)&$A37,Lista_Ubigeo!$J:$K,2,0),\" \")","v":" "},{"$f":"IFERROR(VLOOKUP(MID(DQ$27,5,4)&$A37,Lista_Ubigeo!$J:$K,2,0),\" \")","v":"PIAS"},{"$f":"IFERROR(VLOOKUP(MID(DR$27,5,4)&$A37,Lista_Ubigeo!$J:$K,2,0),\" \")","v":" "},{"$f":"IFERROR(VLOOKUP(MID(DS$27,5,4)&$A37,Lista_Ubigeo!$J:$K,2,0),\" \")","v":" "},null,null,{"$f":"IFERROR(VLOOKUP(MID(DV$27,5,4)&$A37,Lista_Ubigeo!$J:$K,2,0),\" \")","v":"OYOTUN"},{"$f":"IFERROR(VLOOKUP(MID(DW$27,5,4)&$A37,Lista_Ubigeo!$J:$K,2,0),\" \")","v":" "},{"$f":"IFERROR(VLOOKUP(MID(DX$27,5,4)&$A37,Lista_Ubigeo!$J:$K,2,0),\" \")","v":"SALAS"},{"$f":"IFERROR(VLOOKUP(MID(DY$27,5,4)&$A37,Lista_Ubigeo!$J:$K,2,0),\" \")","v":"COMAS"},{"$f":"IFERROR(VLOOKUP(MID(DZ$27,5,4)&$A37,Lista_Ubigeo!$J:$K,2,0),\" \")","v":" "},{"$f":"IFERROR(VLOOKUP(MID(EA$27,5,4)&$A37,Lista_Ubigeo!$J:$K,2,0),\" \")","v":" "},{"$f":"IFERROR(VLOOKUP(MID(EB$27,5,4)&$A37,Lista_Ubigeo!$J:$K,2,0),\" \")","v":" "},{"$f":"IFERROR(VLOOKUP(MID(EC$27,5,4)&$A37,Lista_Ubigeo!$J:$K,2,0),\" \")","v":"NUEVO IMPERIAL"},{"$f":"IFERROR(VLOOKUP(MID(ED$27,5,4)&$A37,Lista_Ubigeo!$J:$K,2,0),\" \")","v":"SANTA CRUZ DE ANDAMARCA"},{"$f":"IFERROR(VLOOKUP(MID(EE$27,5,4)&$A37,Lista_Ubigeo!$J:$K,2,0),\" \")","v":"LAHUAYTAMBO"},{"$f":"IFERROR(VLOOKUP(MID(EF$27,5,4)&$A37,Lista_Ubigeo!$J:$K,2,0),\" \")","v":"SANTA MARIA"},{"$f":"IFERROR(VLOOKUP(MID(EG$27,5,4)&$A37,Lista_Ubigeo!$J:$K,2,0),\" \")","v":" "},{"$f":"IFERROR(VLOOKUP(MID(EH$27,5,4)&$A37,Lista_Ubigeo!$J:$K,2,0),\" \")","v":"COCHAS"},"BELEN",{"$f":"IFERROR(VLOOKUP(MID(EJ$27,5,4)&$A42,Lista_Ubigeo!$J:$K,2,0),\" \")","v":" "},{"$f":"IFERROR(VLOOKUP(MID(EK$27,5,4)&$A37,Lista_Ubigeo!$J:$K,2,0),\" \")","v":" "},{"$f":"IFERROR(VLOOKUP(MID(EL$27,5,4)&$A37,Lista_Ubigeo!$J:$K,2,0),\" \")","v":" "},{"$f":"IFERROR(VLOOKUP(MID(EM$27,5,4)&$A37,Lista_Ubigeo!$J:$K,2,0),\" \")","v":"JENARO HERRERA"},{"$f":"IFERROR(VLOOKUP(MID(EN$27,5,4)&$A37,Lista_Ubigeo!$J:$K,2,0),\" \")","v":" "},{"$f":"IFERROR(VLOOKUP(MID(EO$27,5,4)&$A37,Lista_Ubigeo!$J:$K,2,0),\" \")","v":" "},{"$f":"IFERROR(VLOOKUP(MID(EP$27,5,4)&$A37,Lista_Ubigeo!$J:$K,2,0),\" \")","v":" "},{"$f":"IFERROR(VLOOKUP(MID(EQ$27,5,4)&$A37,Lista_Ubigeo!$J:$K,2,0),\" \")","v":" "},{"$f":"IFERROR(VLOOKUP(MID(ER$27,5,4)&$A37,Lista_Ubigeo!$J:$K,2,0),\" \")","v":" "},{"$f":"IFERROR(VLOOKUP(MID(ES$27,5,4)&$A37,Lista_Ubigeo!$J:$K,2,0),\" \")","v":" "},{"$f":"IFERROR(VLOOKUP(MID(ET$27,5,4)&$A37,Lista_Ubigeo!$J:$K,2,0),\" \")","v":" "},{"$f":"IFERROR(VLOOKUP(MID(EU$27,5,4)&$A37,Lista_Ubigeo!$J:$K,2,0),\" \")","v":"UBINAS"},{"$f":"IFERROR(VLOOKUP(MID(EV$27,5,4)&$A37,Lista_Ubigeo!$J:$K,2,0),\" \")","v":" "},{"$f":"IFERROR(VLOOKUP(MID(EW$27,5,4)&$A37,Lista_Ubigeo!$J:$K,2,0),\" \")","v":"TICLACAYAN"},{"$f":"IFERROR(VLOOKUP(MID(EX$27,5,4)&$A37,Lista_Ubigeo!$J:$K,2,0),\" \")","v":" "},{"$f":"IFERROR(VLOOKUP(MID(EY$27,5,4)&$A37,Lista_Ubigeo!$J:$K,2,0),\" \")","v":" "},"26 DE OCTUBRE",{"$f":"IFERROR(VLOOKUP(MID(FA$27,5,4)&$A37,Lista_Ubigeo!$J:$K,2,0),\" \")","v":"SUYO"},{"$f":"IFERROR(VLOOKUP(MID(FB$27,5,4)&$A37,Lista_Ubigeo!$J:$K,2,0),\" \")","v":" "},{"$f":"IFERROR(VLOOKUP(MID(FC$27,5,4)&$A37,Lista_Ubigeo!$J:$K,2,0),\" \")","v":"YAMANGO"},{"$f":"IFERROR(VLOOKUP(MID(FD$27,5,4)&$A37,Lista_Ubigeo!$J:$K,2,0),\" \")","v":" "},{"$f":"IFERROR(VLOOKUP(MID(FE$27,5,4)&$A37,Lista_Ubigeo!$J:$K,2,0),\" \")","v":" "},{"$f":"IFERROR(VLOOKUP(MID(FF$27,5,4)&$A37,Lista_Ubigeo!$J:$K,2,0),\" \")","v":" "},{"$f":"IFERROR(VLOOKUP(MID(FG$27,5,4)&$A37,Lista_Ubigeo!$J:$K,2,0),\" \")","v":" "},{"$f":"IFERROR(VLOOKUP(MID(FH$27,5,4)&$A37,Lista_Ubigeo!$J:$K,2,0),\" \")","v":"PAUCARCOLLA"},{"$f":"IFERROR(VLOOKUP(MID(FI$27,5,4)&$A37,Lista_Ubigeo!$J:$K,2,0),\" \")","v":"SAMAN"},{"$f":"IFERROR(VLOOKUP(MID(FJ$27,5,4)&$A37,Lista_Ubigeo!$J:$K,2,0),\" \")","v":"USICAYOS"},{"$f":"IFERROR(VLOOKUP(MID(FK$27,5,4)&$A37,Lista_Ubigeo!$J:$K,2,0),\" \")","v":" "},{"$f":"IFERROR(VLOOKUP(MID(FL$27,5,4)&$A37,Lista_Ubigeo!$J:$K,2,0),\" \")","v":" "},{"$f":"IFERROR(VLOOKUP(MID(FM$27,5,4)&$A37,Lista_Ubigeo!$J:$K,2,0),\" \")","v":" "},{"$f":"IFERROR(VLOOKUP(MID(FN$27,5,4)&$A37,Lista_Ubigeo!$J:$K,2,0),\" \")","v":"VILAVILA"},{"$f":"IFERROR(VLOOKUP(MID(FO$27,5,4)&$A37,Lista_Ubigeo!$J:$K,2,0),\" \")","v":" "},{"$f":"IFERROR(VLOOKUP(MID(FP$27,5,4)&$A37,Lista_Ubigeo!$J:$K,2,0),\" \")","v":" "},{"$f":"IFERROR(VLOOKUP(MID(FQ$27,5,4)&$A37,Lista_Ubigeo!$J:$K,2,0),\" \")","v":" "},{"$f":"IFERROR(VLOOKUP(MID(FR$27,5,4)&$A37,Lista_Ubigeo!$J:$K,2,0),\" \")","v":" "},{"$f":"IFERROR(VLOOKUP(MID(FS$27,5,4)&$A37,Lista_Ubigeo!$J:$K,2,0),\" \")","v":"SAN PEDRO DE PUTINA PUNCO"},{"$f":"IFERROR(VLOOKUP(MID(FT$27,5,4)&$A37,Lista_Ubigeo!$J:$K,2,0),\" \")","v":" "},{"$f":"IFERROR(VLOOKUP(MID(FU$27,5,4)&$A37,Lista_Ubigeo!$J:$K,2,0),\" \")","v":" "},{"$f":"IFERROR(VLOOKUP(MID(FV$27,5,4)&$A37,Lista_Ubigeo!$J:$K,2,0),\" \")","v":" "},{"$f":"IFERROR(VLOOKUP(MID(FW$27,5,4)&$A37,Lista_Ubigeo!$J:$K,2,0),\" \")","v":" "},{"$f":"IFERROR(VLOOKUP(MID(FX$27,5,4)&$A37,Lista_Ubigeo!$J:$K,2,0),\" \")","v":" "},{"$f":"IFERROR(VLOOKUP(MID(FY$27,5,4)&$A37,Lista_Ubigeo!$J:$K,2,0),\" \")","v":"TABALOSOS"},{"$f":"IFERROR(VLOOKUP(MID(FZ$27,5,4)&$A37,Lista_Ubigeo!$J:$K,2,0),\" \")","v":" "},{"$f":"IFERROR(VLOOKUP(MID(GA$27,5,4)&$A37,Lista_Ubigeo!$J:$K,2,0),\" \")","v":"TRES UNIDOS"},{"$f":"IFERROR(VLOOKUP(MID(GB$27,5,4)&$A37,Lista_Ubigeo!$J:$K,2,0),\" \")","v":" "},{"$f":"IFERROR(VLOOKUP(MID(GC$27,5,4)&$A37,Lista_Ubigeo!$J:$K,2,0),\" \")","v":"MORALES"},{"$f":"IFERROR(VLOOKUP(MID(GD$27,5,4)&$A37,Lista_Ubigeo!$J:$K,2,0),\" \")","v":" "},{"$f":"IFERROR(VLOOKUP(MID(GE$27,5,4)&$A37,Lista_Ubigeo!$J:$K,2,0),\" \")","v":"CORONEL GREGORIO ALBARRACIN LANCHIPA"},{"$f":"IFERROR(VLOOKUP(MID(GF$27,5,4)&$A37,Lista_Ubigeo!$J:$K,2,0),\" \")","v":" "},{"$f":"IFERROR(VLOOKUP(MID(GG$27,5,4)&$A37,Lista_Ubigeo!$J:$K,2,0),\" \")","v":" "},{"$f":"IFERROR(VLOOKUP(MID(GH$27,5,4)&$A37,Lista_Ubigeo!$J:$K,2,0),\" \")","v":" "},{"$f":"IFERROR(VLOOKUP(MID(GI$27,5,4)&$A37,Lista_Ubigeo!$J:$K,2,0),\" \")","v":" "},{"$f":"IFERROR(VLOOKUP(MID(GJ$27,5,4)&$A37,Lista_Ubigeo!$J:$K,2,0),\" \")","v":" "},{"$f":"IFERROR(VLOOKUP(MID(GK$27,5,4)&$A37,Lista_Ubigeo!$J:$K,2,0),\" \")","v":" "},{"$f":"IFERROR(VLOOKUP(MID(GL$27,5,4)&$A37,Lista_Ubigeo!$J:$K,2,0),\" \")","v":" "},{"$f":"IFERROR(VLOOKUP(MID(GM$27,5,4)&$A37,Lista_Ubigeo!$J:$K,2,0),\" \")","v":" "},{"$f":"IFERROR(VLOOKUP(MID(GN$27,5,4)&$A37,Lista_Ubigeo!$J:$K,2,0),\" \")","v":" "},{"$f":"IFERROR(VLOOKUP(MID(GO$27,5,4)&$A37,Lista_Ubigeo!$J:$K,2,0),\" \")","v":" "},{"$f":"IFERROR(VLOOKUP(MID(GP$27,5,4)&$A37,Lista_Ubigeo!$J:$K,2,0),\" \")","v":"SAMAN"}]
["11",{"$f":"IFERROR(VLOOKUP(MID(B$27,5,4)&$A38,Lista_Ubigeo!$J:$K,2,0),\" \")","v":"LEVANTO"},{"$f":"IFERROR(VLOOKUP(MID(C$27,5,4)&$A38,Lista_Ubigeo!$J:$K,2,0),\" \")","v":" "},{"$f":"IFERROR(VLOOKUP(MID(D$27,5,4)&$A38,Lista_Ubigeo!$J:$K,2,0),\" \")","v":"VALERA"},{"$f":"IFERROR(VLOOKUP(MID(E$27,5,4)&$A38,Lista_Ubigeo!$J:$K,2,0),\" \")","v":" "},{"$f":"IFERROR(VLOOKUP(MID(F$27,5,4)&$A38,Lista_Ubigeo!$J:$K,2,0),\" \")","v":"MARIA"},{"$f":"IFERROR(VLOOKUP(MID(G$27,5,4)&$A38,Lista_Ubigeo!$J:$K,2,0),\" \")","v":"TOTORA"},{"$f":"IFERROR(VLOOKUP(MID(H$27,5,4)&$A38,Lista_Ubigeo!$J:$K,2,0),\" \")","v":" "},{"$f":"IFERROR(VLOOKUP(MID(I$27,5,4)&$A38,Lista_Ubigeo!$J:$K,2,0),\" \")","v":"PIRA"},{"$f":"IFERROR(VLOOKUP(MID(J$27,5,4)&$A38,Lista_Ubigeo!$J:$K,2,0),\" \")","v":" "},{"$f":"IFERROR(VLOOKUP(MID(K$27,5,4)&$A38,Lista_Ubigeo!$J:$K,2,0),\" \")","v":" "},{"$f":"IFERROR(VLOOKUP(MID(L$27,5,4)&$A38,Lista_Ubigeo!$J:$K,2,0),\" \")","v":" "},{"$f":"IFERROR(VLOOKUP(MID(M$27,5,4)&$A38,Lista_Ubigeo!$J:$K,2,0),\" \")","v":"LA PRIMAVERA"},{"$f":"IFERROR(VLOOKUP(MID(N$27,5,4)&$A38,Lista_Ubigeo!$J:$K,2,0),\" \")","v":"YUNGAR"},{"$f":"IFERROR(VLOOKUP(MID(O$27,5,4)&$A38,Lista_Ubigeo!$J:$K,2,0),\" \")","v":" "},{"$f":"IFERROR(VLOOKUP(MID(P$27,5,4)&$A38,Lista_Ubigeo!$J:$K,2,0),\" \")","v":" "},{"$f":"IFERROR(VLOOKUP(MID(Q$27,5,4)&$A38,Lista_Ubigeo!$J:$K,2,0),\" \")","v":" "},{"$f":"IFERROR(VLOOKUP(MID(R$27,5,4)&$A38,Lista_Ubigeo!$J:$K,2,0),\" \")","v":"PONTO"},{"$f":"IFERROR(VLOOKUP(MID(S$27,5,4)&$A38,Lista_Ubigeo!$J:$K,2,0),\" \")","v":" "},{"$f":"IFERROR(VLOOKUP(MID(T$27,5,4)&$A38,Lista_Ubigeo!$J:$K,2,0),\" \")","v":" "},{"$f":"IFERROR(VLOOKUP(MID(U$27,5,4)&$A38,Lista_Ubigeo!$J:$K,2,0),\" \")","v":" "},{"$f":"IFERROR(VLOOKUP(MID(V$27,5,4)&$A38,Lista_Ubigeo!$J:$K,2,0),\" \")","v":" "},{"$f":"IFERROR(VLOOKUP(MID(W$27,5,4)&$A38,Lista_Ubigeo!$J:$K,2,0),\" \")","v":"TAUCA"},{"$f":"IFERROR(VLOOKUP(MID(X$27,5,4)&$A38,Lista_Ubigeo!$J:$K,2,0),\" \")","v":" "},{"$f":"IFERROR(VLOOKUP(MID(Y$27,5,4)&$A38,Lista_Ubigeo!$J:$K,2,0),\" \")","v":" "},{"$f":"IFERROR(VLOOKUP(MID(Z$27,5,4)&$A38,Lista_Ubigeo!$J:$K,2,0),\" \")","v":" "},{"$f":"IFERROR(VLOOKUP(MID(AA$27,5,4)&$A38,Lista_Ubigeo!$J:$K,2,0),\" \")","v":" "},{"$f":"IFERROR(VLOOKUP(MID(AB$27,5,4)&$A38,Lista_Ubigeo!$J:$K,2,0),\" \")","v":" "},{"$f":"IFERROR(VLOOKUP(MID(AC$27,5,4)&$A38,Lista_Ubigeo!$J:$K,2,0),\" \")","v":" "},{"$f":"IFERROR(VLOOKUP(MID(AD$27,5,4)&$A38,Lista_Ubigeo!$J:$K,2,0),\" \")","v":"POMACOCHA"},{"$f":"IFERROR(VLOOKUP(MID(AE$27,5,4)&$A38,Lista_Ubigeo!$J:$K,2,0),\" \")","v":" "},{"$f":"IFERROR(VLOOKUP(MID(AF$27,5,4)&$A38,Lista_Ubigeo!$J:$K,2,0),\" \")","v":"SAN JUAN DE CHACÑA"},{"$f":"IFERROR(VLOOKUP(MID(AG$27,5,4)&$A38,Lista_Ubigeo!$J:$K,2,0),\" \")","v":" "},{"$f":"IFERROR(VLOOKUP(MID(AH$27,5,4)&$A38,Lista_Ubigeo!$J:$K,2,0),\" \")","v":"LOS CHANKAS"},{"$f":"IFERROR(VLOOKUP(MID(AI$27,5,4)&$A38,Lista_Ubigeo!$J:$K,2,0),\" \")","v":"TURPAY"},{"$f":"IFERROR(VLOOKUP(MID(AJ$27,5,4)&$A38,Lista_Ubigeo!$J:$K,2,0),\" \")","v":"MOLLEBAYA"},{"$f":"IFERROR(VLOOKUP(MID(AK$27,5,4)&$A38,Lista_Ubigeo!$J:$K,2,0),\" \")","v":" "},{"$f":"IFERROR(VLOOKUP(MID(AL$27,5,4)&$A38,Lista_Ubigeo!$J:$K,2,0),\" \")","v":"LOMAS"},{"$f":"IFERROR(VLOOKUP(MID(AM$27,5,4)&$A38,Lista_Ubigeo!$J:$K,2,0),\" \")","v":"TIPAN"},{"$f":"IFERROR(VLOOKUP(MID(AN$27,5,4)&$A38,Lista_Ubigeo!$J:$K,2,0),\" \")","v":"LLUTA"},{"$f":"IFERROR(VLOOKUP(MID(AO$27,5,4)&$A38,Lista_Ubigeo!$J:$K,2,0),\" \")","v":" "},{"$f":"IFERROR(VLOOKUP(MID(AP$27,5,4)&$A38,Lista_Ubigeo!$J:$K,2,0),\" \")","v":" "},{"$f":"IFERROR(VLOOKUP(MID(AQ$27,4,4)&$A38,Lista_Ubigeo!$J:$K,2,0),\" \")","v":"TORO"},{"$f":"IFERROR(VLOOKUP(MID(AR$27,5,4)&$A38,Lista_Ubigeo!$J:$K,2,0),\" \")","v":"SANTIAGO DE PISCHA"},{"$f":"IFERROR(VLOOKUP(MID(AS$27,5,4)&$A38,Lista_Ubigeo!$J:$K,2,0),\" \")","v":" "},{"$f":"IFERROR(VLOOKUP(MID(AT$27,5,4)&$A38,Lista_Ubigeo!$J:$K,2,0),\" \")","v":" "},{"$f":"IFERROR(VLOOKUP(MID(AU$27,5,4)&$A38,Lista_Ubigeo!$J:$K,2,0),\" \")","v":"PUCACOLPA"},{"$f":"IFERROR(VLOOKUP(MID(AV$27,5,4)&$A38,Lista_Ubigeo!$J:$K,2,0),\" \")","v":"ORONCCOY"},{"$f":"IFERROR(VLOOKUP(MID(AW$27,5,4)&$A38,Lista_Ubigeo!$J:$K,2,0),\" \")","v":"LUCANAS"},{"$f":"IFERROR(VLOOKUP(MID(AX$27,5,4)&$A38,Lista_Ubigeo!$J:$K,2,0),\" \")","v":" "},{"$f":"IFERROR(VLOOKUP(MID(AY$27,5,4)&$A38,Lista_Ubigeo!$J:$K,2,0),\" \")","v":" "},{"$f":"IFERROR(VLOOKUP(MID(AZ$27,5,4)&$A38,Lista_Ubigeo!$J:$K,2,0),\" \")","v":"SORAS"},{"$f":"IFERROR(VLOOKUP(MID(BA$27,5,4)&$A38,Lista_Ubigeo!$J:$K,2,0),\" \")","v":"SARHUA"},{"$f":"IFERROR(VLOOKUP(MID(BB$27,5,4)&$A38,Lista_Ubigeo!$J:$K,2,0),\" \")","v":" "},{"$f":"IFERROR(VLOOKUP(MID(BC$27,5,4)&$A38,Lista_Ubigeo!$J:$K,2,0),\" \")","v":"NAMORA"},{"$f":"IFERROR(VLOOKUP(MID(BD$27,5,4)&$A38,Lista_Ubigeo!$J:$K,2,0),\" \")","v":" "},{"$f":"IFERROR(VLOOKUP(MID(BE$27,5,4)&$A38,Lista_Ubigeo!$J:$K,2,0),\" \")","v":"UTCO"},{"$f":"IFERROR(VLOOKUP(MID(BF$27,5,4)&$A38,Lista_Ubigeo!$J:$K,2,0),\" \")","v":"LLAMA"},{"$f":"IFERROR(VLOOKUP(MID(BG$27,5,4)&$A38,Lista_Ubigeo!$J:$K,2,0),\" \")","v":" "},{"$f":"IFERROR(VLOOKUP(MID(BH$27,5,4)&$A38,Lista_Ubigeo!$J:$K,2,0),\" \")","v":"SANTA CRUZ"},{"$f":"IFERROR(VLOOKUP(MID(BI$27,5,4)&$A38,Lista_Ubigeo!$J:$K,2,0),\" \")","v":" "},{"$f":"IFERROR(VLOOKUP(MID(BJ$27,5,4)&$A38,Lista_Ubigeo!$J:$K,2,0),\" \")","v":"SAN JOSE DEL ALTO"},{"$f":"IFERROR(VLOOKUP(MID(BK$27,5,4)&$A38,Lista_Ubigeo!$J:$K,2,0),\" \")","v":" "},{"$f":"IFERROR(VLOOKUP(MID(BL$27,5,4)&$A38,Lista_Ubigeo!$J:$K,2,0),\" \")","v":" "},{"$f":"IFERROR(VLOOKUP(MID(BM$27,5,4)&$A38,Lista_Ubigeo!$J:$K,2,0),\" \")","v":"SAN SILVESTRE DE COCHAN"},{"$f":"IFERROR(VLOOKUP(MID(BN$27,5,4)&$A38,Lista_Ubigeo!$J:$K,2,0),\" \")","v":" "},{"$f":"IFERROR(VLOOKUP(MID(BO$27,5,4)&$A38,Lista_Ubigeo!$J:$K,2,0),\" \")","v":"YAUYUCAN"},{"$f":"IFERROR(VLOOKUP(MID(BP$27,5,4)&$A38,Lista_Ubigeo!$J:$K,2,0),\" \")","v":" "},{"$f":"IFERROR(VLOOKUP(MID(BQ$27,5,4)&$A38,Lista_Ubigeo!$J:$K,2,0),\" \")","v":" "},{"$f":"IFERROR(VLOOKUP(MID(BR$27,5,4)&$A38,Lista_Ubigeo!$J:$K,2,0),\" \")","v":" "},{"$f":"IFERROR(VLOOKUP(MID(BS$27,5,4)&$A38,Lista_Ubigeo!$J:$K,2,0),\" \")","v":" "},{"$f":"IFERROR(VLOOKUP(MID(BT$27,5,4)&$A38,Lista_Ubigeo!$J:$K,2,0),\" \")","v":" "},{"$f":"IFERROR(VLOOKUP(MID(BU$27,5,4)&$A38,Lista_Ubigeo!$J:$K,2,0),\" \")","v":" "},{"$f":"IFERROR(VLOOKUP(MID(BV$27,5,4)&$A38,Lista_Ubigeo!$J:$K,2,0),\" \")","v":" "},{"$f":"IFERROR(VLOOKUP(MID(BW$27,5,4)&$A38,Lista_Ubigeo!$J:$K,2,0),\" \")","v":" "},{"$f":"IFERROR(VLOOKUP(MID(BX$27,5,4)&$A38,Lista_Ubigeo!$J:$K,2,0),\" \")","v":" "},{"$f":"IFERROR(VLOOKUP(MID(BY$27,4,4)&$A38,Lista_Ubigeo!$J:$K,2,0),\" \")","v":"INKAWASI"},{"$f":"IFERROR(VLOOKUP(MID(BZ$27,5,4)&$A38,Lista_Ubigeo!$J:$K,2,0),\" \")","v":" "},{"$f":"IFERROR(VLOOKUP(MID(CA$27,5,4)&$A38,Lista_Ubigeo!$J:$K,2,0),\" \")","v":" "},{"$f":"IFERROR(VLOOKUP(MID(CB$27,5,4)&$A38,Lista_Ubigeo!$J:$K,2,0),\" \")","v":"OROPESA"},{"$f":"IFERROR(VLOOKUP(MID(CC$27,5,4)&$A38,Lista_Ubigeo!$J:$K,2,0),\" \")","v":" "},{"$f":"IFERROR(VLOOKUP(MID(CD$27,5,4)&$A38,Lista_Ubigeo!$J:$K,2,0),\" \")","v":"MARISCAL CACERES"},{"$f":"IFERROR(VLOOKUP(MID(CE$27,5,4)&$A38,Lista_Ubigeo!$J:$K,2,0),\" \")","v":" "},{"$f":"IFERROR(VLOOKUP(MID(CF$27,5,4)&$A38,Lista_Ubigeo!$J:$K,2,0),\" \")","v":"SANTO TOMAS DE PATA"},{"$f":"IFERROR(VLOOKUP(MID(CG$27,5,4)&$A38,Lista_Ubigeo!$J:$K,2,0),\" \")","v":"SANTA ANA"},{"$f":"IFERROR(VLOOKUP(MID(CH$27,5,4)&$A38,Lista_Ubigeo!$J:$K,2,0),\" \")","v":"COSME"},{"$f":"IFERROR(VLOOKUP(MID(CI$27,5,4)&$A38,Lista_Ubigeo!$J:$K,2,0),\" \")","v":"SAN FRANCISCO DE SANGAYAICO"},"QUISHUAR",{"$f":"IFERROR(VLOOKUP(MID(CK$27,5,4)&$A38,Lista_Ubigeo!$J:$K,2,0),\" \")","v":"PILLCO MARCA"},{"$f":"IFERROR(VLOOKUP(MID(CL$27,5,4)&$A38,Lista_Ubigeo!$J:$K,2,0),\" \")","v":" "},null,{"$f":"IFERROR(VLOOKUP(MID(CN$27,5,4)&$A38,Lista_Ubigeo!$J:$K,2,0),\" \")","v":" "},{"$f":"IFERROR(VLOOKUP(MID(CO$27,5,4)&$A38,Lista_Ubigeo!$J:$K,2,0),\" \")","v":"TANTAMAYO"},{"$f":"IFERROR(VLOOKUP(MID(CP$27,5,4)&$A38,Lista_Ubigeo!$J:$K,2,0),\" \")","v":" "},{"$f":"IFERROR(VLOOKUP(MID(CQ$27,5,4)&$A38,Lista_Ubigeo!$J:$K,2,0),\" \")","v":" "},{"$f":"IFERROR(VLOOKUP(MID(CR$27,5,4)&$A38,Lista_Ubigeo!$J:$K,2,0),\" \")","v":" "},{"$f":"IFERROR(VLOOKUP(MID(CS$27,5,4)&$A38,Lista_Ubigeo!$J:$K,2,0),\" \")","v":" "},{"$f":"IFERROR(VLOOKUP(MID(CT$27,5,4)&$A38,Lista_Ubigeo!$J:$K,2,0),\" \")","v":" "},{"$f":"IFERROR(VLOOKUP(MID(CU$27,5,4)&$A38,Lista_Ubigeo!$J:$K,2,0),\" \")","v":" "},{"$f":"IFERROR(VLOOKUP(MID(CV$27,5,4)&$A38,Lista_Ubigeo!$J:$K,2,0),\" \")","v":"SANTIAGO"},{"$f":"IFERROR(VLOOKUP(MID(CW$27,5,4)&$A38,Lista_Ubigeo!$J:$K,2,0),\" \")","v":"TAMBO DE MORA"},{"$f":"IFERROR(VLOOKUP(MID(CX$27,5,4)&$A38,Lista_Ubigeo!$J:$K,2,0),\" \")","v":" "},{"$f":"IFERROR(VLOOKUP(MID(CY$27,5,4)&$A38,Lista_Ubigeo!$J:$K,2,0),\" \")","v":" "},{"$f":"IFERROR(VLOOKUP(MID(CZ$27,5,4)&$A38,Lista_Ubigeo!$J:$K,2,0),\" \")","v":" "},"HUACRAPUQUIO",{"$f":"IFERROR(VLOOKUP(MID(DB$27,5,4)&$A38,Lista_Ubigeo!$J:$K,2,0),\" \")","v":"MITO"},{"$f":"IFERROR(VLOOKUP(MID(DC$27,5,4)&$A38,Lista_Ubigeo!$J:$K,2,0),\" \")","v":" "},{"$f":"IFERROR(VLOOKUP(MID(DD$27,5,4)&$A38,Lista_Ubigeo!$J:$K,2,0),\" \")","v":"JANJAILLO"},{"$f":"IFERROR(VLOOKUP(MID(DE$27,5,4)&$A38,Lista_Ubigeo!$J:$K,2,0),\" \")","v":" "},{"$f":"IFERROR(VLOOKUP(MID(DF$27,5,4)&$A38,Lista_Ubigeo!$J:$K,2,0),\" \")","v":" "},{"$f":"IFERROR(VLOOKUP(MID(DG$27,5,4)&$A38,Lista_Ubigeo!$J:$K,2,0),\" \")","v":" "},{"$f":"IFERROR(VLOOKUP(MID(DH$27,5,4)&$A38,Lista_Ubigeo!$J:$K,2,0),\" \")","v":" "},{"$f":"IFERROR(VLOOKUP(MID(DI$27,5,4)&$A38,Lista_Ubigeo!$J:$K,2,0),\" \")","v":" "},{"$f":"IFERROR(VLOOKUP(MID(DJ$27,5,4)&$A38,Lista_Ubigeo!$J:$K,2,0),\" \")","v":"VICTOR LARCO HERRERA"},{"$f":"IFERROR(VLOOKUP(MID(DK$27,5,4)&$A38,Lista_Ubigeo!$J:$K,2,0),\" \")","v":" "},{"$f":"IFERROR(VLOOKUP(MID(DL$27,5,4)&$A38,Lista_Ubigeo!$J:$K,2,0),\" \")","v":" "},{"$f":"IFERROR(VLOOKUP(MID(DM$27,5,4)&$A38,Lista_Ubigeo!$J:$K,2,0),\" \")","v":" "},{"$f":"IFERROR(VLOOKUP(MID(DN$27,5,4)&$A38,Lista_Ubigeo!$J:$K,2,0),\" \")","v":" "},{"$f":"IFERROR(VLOOKUP(MID(DO$27,5,4)&$A39,Lista_Ubigeo!$J:$K,2,0),\" \")","v":" "},{"$f":"IFERROR(VLOOKUP(MID(DP$27,5,4)&$A38,Lista_Ubigeo!$J:$K,2,0),\" \")","v":" "},{"$f":"IFERROR(VLOOKUP(MID(DQ$27,5,4)&$A38,Lista_Ubigeo!$J:$K,2,0),\" \")","v":"SANTIAGO DE CHALLAS"},{"$f":"IFERROR(VLOOKUP(MID(DR$27,5,4)&$A38,Lista_Ubigeo!$J:$K,2,0),\" \")","v":" "},{"$f":"IFERROR(VLOOKUP(MID(DS$27,5,4)&$A38,Lista_Ubigeo!$J:$K,2,0),\" \")","v":" "},null,null,{"$f":"IFERROR(VLOOKUP(MID(DV$27,5,4)&$A38,Lista_Ubigeo!$J:$K,2,0),\" \")","v":"PICSI"},{"$f":"IFERROR(VLOOKUP(MID(DW$27,5,4)&$A38,Lista_Ubigeo!$J:$K,2,0),\" \")","v":" "},{"$f":"IFERROR(VLOOKUP(MID(DX$27,5,4)&$A38,Lista_Ubigeo!$J:$K,2,0),\" \")","v":"SAN JOSE"},{"$f":"IFERROR(VLOOKUP(MID(DY$27,5,4)&$A38,Lista_Ubigeo!$J:$K,2,0),\" \")","v":"EL AGUSTINO"},{"$f":"IFERROR(VLOOKUP(MID(DZ$27,5,4)&$A38,Lista_Ubigeo!$J:$K,2,0),\" \")","v":" "},{"$f":"IFERROR(VLOOKUP(MID(EA$27,5,4)&$A38,Lista_Ubigeo!$J:$K,2,0),\" \")","v":" "},{"$f":"IFERROR(VLOOKUP(MID(EB$27,5,4)&$A38,Lista_Ubigeo!$J:$K,2,0),\" \")","v":" "},{"$f":"IFERROR(VLOOKUP(MID(EC$27,5,4)&$A38,Lista_Ubigeo!$J:$K,2,0),\" \")","v":"PACARAN"},{"$f":"IFERROR(VLOOKUP(MID(ED$27,5,4)&$A38,Lista_Ubigeo!$J:$K,2,0),\" \")","v":"SUMBILCA"},{"$f":"IFERROR(VLOOKUP(MID(EE$27,5,4)&$A38,Lista_Ubigeo!$J:$K,2,0),\" \")","v":"LANGA"},{"$f":"IFERROR(VLOOKUP(MID(EF$27,5,4)&$A38,Lista_Ubigeo!$J:$K,2,0),\" \")","v":"SAYAN"},{"$f":"IFERROR(VLOOKUP(MID(EG$27,5,4)&$A38,Lista_Ubigeo!$J:$K,2,0),\" \")","v":" "},{"$f":"IFERROR(VLOOKUP(MID(EH$27,5,4)&$A38,Lista_Ubigeo!$J:$K,2,0),\" \")","v":"COLONIA"},"SAN JUAN BAUTISTA",{"$f":"IFERROR(VLOOKUP(MID(EJ$27,5,4)&$A43,Lista_Ubigeo!$J:$K,2,0),\" \")","v":" "},{"$f":"IFERROR(VLOOKUP(MID(EK$27,5,4)&$A38,Lista_Ubigeo!$J:$K,2,0),\" \")","v":" "},{"$f":"IFERROR(VLOOKUP(MID(EL$27,5,4)&$A38,Lista_Ubigeo!$J:$K,2,0),\" \")","v":" "},{"$f":"IFERROR(VLOOKUP(MID(EM$27,5,4)&$A38,Lista_Ubigeo!$J:$K,2,0),\" \")","v":"YAQUERANA"},{"$f":"IFERROR(VLOOKUP(MID(EN$27,5,4)&$A38,Lista_Ubigeo!$J:$K,2,0),\" \")","v":" "},{"$f":"IFERROR(VLOOKUP(MID(EO$27,5,4)&$A38,Lista_Ubigeo!$J:$K,2,0),\" \")","v":" "},{"$f":"IFERROR(VLOOKUP(MID(EP$27,5,4)&$A38,Lista_Ubigeo!$J:$K,2,0),\" \")","v":" "},{"$f":"IFERROR(VLOOKUP(MID(EQ$27,5,4)&$A38,Lista_Ubigeo!$J:$K,2,0),\" \")","v":" "},{"$f":"IFERROR(VLOOKUP(MID(ER$27,5,4)&$A38,Lista_Ubigeo!$J:$K,2,0),\" \")","v":" "},{"$f":"IFERROR(VLOOKUP(MID(ES$27,5,4)&$A38,Lista_Ubigeo!$J:$K,2,0),\" \")","v":" "},{"$f":"IFERROR(VLOOKUP(MID(ET$27,5,4)&$A38,Lista_Ubigeo!$J:$K,2,0),\" \")","v":" "},{"$f":"IFERROR(VLOOKUP(MID(EU$27,5,4)&$A38,Lista_Ubigeo!$J:$K,2,0),\" \")","v":"YUNGA"},{"$f":"IFERROR(VLOOKUP(MID(EV$27,5,4)&$A38,Lista_Ubigeo!$J:$K,2,0),\" \")","v":" "},{"$f":"IFERROR(VLOOKUP(MID(EW$27,5,4)&$A38,Lista_Ubigeo!$J:$K,2,0),\" \")","v":"TINYAHUARCO"},{"$f":"IFERROR(VLOOKUP(MID(EX$27,5,4)&$A38,Lista_Ubigeo!$J:$K,2,0),\" \")","v":" "},{"$f":"IFERROR(VLOOKUP(MID(EY$27,5,4)&$A38,Lista_Ubigeo!$J:$K,2,0),\" \")","v":" "},null,{"$f":"IFERROR(VLOOKUP(MID(FA$27,5,4)&$A38,Lista_Ubigeo!$J:$K,2,0),\" \")","v":" "},{"$f":"IFERROR(VLOOKUP(MID(FB$27,5,4)&$A38,Lista_Ubigeo!$J:$K,2,0),\" \")","v":" "},{"$f":"IFERROR(VLOOKUP(MID(FC$27,5,4)&$A38,Lista_Ubigeo!$J:$K,2,0),\" \")","v":" "},{"$f":"IFERROR(VLOOKUP(MID(FD$27,5,4)&$A38,Lista_Ubigeo!$J:$K,2,0),\" \")","v":" "},{"$f":"IFERROR(VLOOKUP(MID(FE$27,5,4)&$A38,Lista_Ubigeo!$J:$K,2,0),\" \")","v":" "},{"$f":"IFERROR(VLOOKUP(MID(FF$27,5,4)&$A38,Lista_Ubigeo!$J:$K,2,0),\" \")","v":" "},{"$f":"IFERROR(VLOOKUP(MID(FG$27,5,4)&$A38,Lista_Ubigeo!$J:$K,2,0),\" \")","v":" "},{"$f":"IFERROR(VLOOKUP(MID(FH$27,5,4)&$A38,Lista_Ubigeo!$J:$K,2,0),\" \")","v":"PICHACANI"},{"$f":"IFERROR(VLOOKUP(MID(FI$27,5,4)&$A38,Lista_Ubigeo!$J:$K,2,0),\" \")","v":"SAN ANTON"},{"$f":"IFERROR(VLOOKUP(MID(FJ$27,5,4)&$A38,Lista_Ubigeo!$J:$K,2,0),\" \")","v":" "},{"$f":"IFERROR(VLOOKUP(MID(FK$27,5,4)&$A38,Lista_Ubigeo!$J:$K,2,0),\" \")","v":" "},{"$f":"IFERROR(VLOOKUP(MID(FL$27,5,4)&$A38,Lista_Ubigeo!$J:$K,2,0),\" \")","v":" "},{"$f":"IFERROR(VLOOKUP(MID(FM$27,5,4)&$A38,Lista_Ubigeo!$J:$K,2,0),\" \")","v":" "},{"$f":"IFERROR(VLOOKUP(MID(FN$27,5,4)&$A38,Lista_Ubigeo!$J:$K,2,0),\" \")","v":" "},{"$f":"IFERROR(VLOOKUP(MID(FO$27,5,4)&$A38,Lista_Ubigeo!$J:$K,2,0),\" \")","v":" "},{"$f":"IFERROR(VLOOKUP(MID(FP$27,5,4)&$A38,Lista_Ubigeo!$J:$K,2,0),\" \")","v":" "},{"$f":"IFERROR(VLOOKUP(MID(FQ$27,5,4)&$A38,Lista_Ubigeo!$J:$K,2,0),\" \")","v":" "},{"$f":"IFERROR(VLOOKUP(MID(FR$27,5,4)&$A38,Lista_Ubigeo!$J:$K,2,0),\" \")","v":" "},{"$f":"IFERROR(VLOOKUP(MID(FS$27,5,4)&$A38,Lista_Ubigeo!$J:$K,2,0),\" \")","v":" "},{"$f":"IFERROR(VLOOKUP(MID(FT$27,5,4)&$A38,Lista_Ubigeo!$J:$K,2,0),\" \")","v":" "},{"$f":"IFERROR(VLOOKUP(MID(FU$27,5,4)&$A38,Lista_Ubigeo!$J:$K,2,0),\" \")","v":" "},{"$f":"IFERROR(VLOOKUP(MID(FV$27,5,4)&$A38,Lista_Ubigeo!$J:$K,2,0),\" \")","v":" "},{"$f":"IFERROR(VLOOKUP(MID(FW$27,5,4)&$A38,Lista_Ubigeo!$J:$K,2,0),\" \")","v":" "},{"$f":"IFERROR(VLOOKUP(MID(FX$27,5,4)&$A38,Lista_Ubigeo!$J:$K,2,0),\" \")","v":" "},{"$f":"IFERROR(VLOOKUP(MID(FY$27,5,4)&$A38,Lista_Ubigeo!$J:$K,2,0),\" \")","v":"ZAPATERO"},{"$f":"IFERROR(VLOOKUP(MID(FZ$27,5,4)&$A38,Lista_Ubigeo!$J:$K,2,0),\" \")","v":" "},{"$f":"IFERROR(VLOOKUP(MID(GA$27,5,4)&$A38,Lista_Ubigeo!$J:$K,2,0),\" \")","v":" "},{"$f":"IFERROR(VLOOKUP(MID(GB$27,5,4)&$A38,Lista_Ubigeo!$J:$K,2,0),\" \")","v":" "},{"$f":"IFERROR(VLOOKUP(MID(GC$27,5,4)&$A38,Lista_Ubigeo!$J:$K,2,0),\" \")","v":"PAPAPLAYA"},{"$f":"IFERROR(VLOOKUP(MID(GD$27,5,4)&$A38,Lista_Ubigeo!$J:$K,2,0),\" \")","v":" "},{"$f":"IFERROR(VLOOKUP(MID(GE$27,5,4)&$A38,Lista_Ubigeo!$J:$K,2,0),\" \")","v":"LA YARADA-LOS PALOS"},{"$f":"IFERROR(VLOOKUP(MID(GF$27,5,4)&$A38,Lista_Ubigeo!$J:$K,2,0),\" \")","v":" "},{"$f":"IFERROR(VLOOKUP(MID(GG$27,5,4)&$A38,Lista_Ubigeo!$J:$K,2,0),\" \")","v":" "},{"$f":"IFERROR(VLOOKUP(MID(GH$27,5,4)&$A38,Lista_Ubigeo!$J:$K,2,0),\" \")","v":" "},{"$f":"IFERROR(VLOOKUP(MID(GI$27,5,4)&$A38,Lista_Ubigeo!$J:$K,2,0),\" \")","v":" "},{"$f":"IFERROR(VLOOKUP(MID(GJ$27,5,4)&$A38,Lista_Ubigeo!$J:$K,2,0),\" \")","v":" "},{"$f":"IFERROR(VLOOKUP(MID(GK$27,5,4)&$A38,Lista_Ubigeo!$J:$K,2,0),\" \")","v":" "},{"$f":"IFERROR(VLOOKUP(MID(GL$27,5,4)&$A38,Lista_Ubigeo!$J:$K,2,0),\" \")","v":" "},{"$f":"IFERROR(VLOOKUP(MID(GM$27,5,4)&$A38,Lista_Ubigeo!$J:$K,2,0),\" \")","v":" "},{"$f":"IFERROR(VLOOKUP(MID(GN$27,5,4)&$A38,Lista_Ubigeo!$J:$K,2,0),\" \")","v":" "},{"$f":"IFERROR(VLOOKUP(MID(GO$27,5,4)&$A38,Lista_Ubigeo!$J:$K,2,0),\" \")","v":" "},{"$f":"IFERROR(VLOOKUP(MID(GP$27,5,4)&$A38,Lista_Ubigeo!$J:$K,2,0),\" \")","v":"SAN ANTON"}]
["12",{"$f":"IFERROR(VLOOKUP(MID(B$27,5,4)&$A39,Lista_Ubigeo!$J:$K,2,0),\" \")","v":"MAGDALENA"},{"$f":"IFERROR(VLOOKUP(MID(C$27,5,4)&$A39,Lista_Ubigeo!$J:$K,2,0),\" \")","v":" "},{"$f":"IFERROR(VLOOKUP(MID(D$27,5,4)&$A39,Lista_Ubigeo!$J:$K,2,0),\" \")","v":"YAMBRASBAMBA"},{"$f":"IFERROR(VLOOKUP(MID(E$27,5,4)&$A39,Lista_Ubigeo!$J:$K,2,0),\" \")","v":" "},{"$f":"IFERROR(VLOOKUP(MID(F$27,5,4)&$A39,Lista_Ubigeo!$J:$K,2,0),\" \")","v":"OCALLI"},{"$f":"IFERROR(VLOOKUP(MID(G$27,5,4)&$A39,Lista_Ubigeo!$J:$K,2,0),\" \")","v":"VISTA ALEGRE"},{"$f":"IFERROR(VLOOKUP(MID(H$27,5,4)&$A39,Lista_Ubigeo!$J:$K,2,0),\" \")","v":" "},{"$f":"IFERROR(VLOOKUP(MID(I$27,5,4)&$A39,Lista_Ubigeo!$J:$K,2,0),\" \")","v":"TARICA"},{"$f":"IFERROR(VLOOKUP(MID(J$27,5,4)&$A39,Lista_Ubigeo!$J:$K,2,0),\" \")","v":" "},{"$f":"IFERROR(VLOOKUP(MID(K$27,5,4)&$A39,Lista_Ubigeo!$J:$K,2,0),\" \")","v":" "},{"$f":"IFERROR(VLOOKUP(MID(L$27,5,4)&$A39,Lista_Ubigeo!$J:$K,2,0),\" \")","v":" "},{"$f":"IFERROR(VLOOKUP(MID(M$27,5,4)&$A39,Lista_Ubigeo!$J:$K,2,0),\" \")","v":"MANGAS"},{"$f":"IFERROR(VLOOKUP(MID(N$27,5,4)&$A39,Lista_Ubigeo!$J:$K,2,0),\" \")","v":" "},{"$f":"IFERROR(VLOOKUP(MID(O$27,5,4)&$A39,Lista_Ubigeo!$J:$K,2,0),\" \")","v":" "},{"$f":"IFERROR(VLOOKUP(MID(P$27,5,4)&$A39,Lista_Ubigeo!$J:$K,2,0),\" \")","v":" "},{"$f":"IFERROR(VLOOKUP(MID(Q$27,5,4)&$A39,Lista_Ubigeo!$J:$K,2,0),\" \")","v":" "},{"$f":"IFERROR(VLOOKUP(MID(R$27,5,4)&$A39,Lista_Ubigeo!$J:$K,2,0),\" \")","v":"RAHUAPAMPA"},{"$f":"IFERROR(VLOOKUP(MID(S$27,5,4)&$A39,Lista_Ubigeo!$J:$K,2,0),\" \")","v":" "},{"$f":"IFERROR(VLOOKUP(MID(T$27,5,4)&$A39,Lista_Ubigeo!$J:$K,2,0),\" \")","v":" "},{"$f":"IFERROR(VLOOKUP(MID(U$27,5,4)&$A39,Lista_Ubigeo!$J:$K,2,0),\" \")","v":" "},{"$f":"IFERROR(VLOOKUP(MID(V$27,5,4)&$A39,Lista_Ubigeo!$J:$K,2,0),\" \")","v":" "},{"$f":"IFERROR(VLOOKUP(MID(W$27,5,4)&$A39,Lista_Ubigeo!$J:$K,2,0),\" \")","v":" "},{"$f":"IFERROR(VLOOKUP(MID(X$27,5,4)&$A39,Lista_Ubigeo!$J:$K,2,0),\" \")","v":" "},{"$f":"IFERROR(VLOOKUP(MID(Y$27,5,4)&$A39,Lista_Ubigeo!$J:$K,2,0),\" \")","v":" "},{"$f":"IFERROR(VLOOKUP(MID(Z$27,5,4)&$A39,Lista_Ubigeo!$J:$K,2,0),\" \")","v":" "},{"$f":"IFERROR(VLOOKUP(MID(AA$27,5,4)&$A39,Lista_Ubigeo!$J:$K,2,0),\" \")","v":" "},{"$f":"IFERROR(VLOOKUP(MID(AB$27,5,4)&$A39,Lista_Ubigeo!$J:$K,2,0),\" \")","v":" "},{"$f":"IFERROR(VLOOKUP(MID(AC$27,5,4)&$A39,Lista_Ubigeo!$J:$K,2,0),\" \")","v":" "},{"$f":"IFERROR(VLOOKUP(MID(AD$27,5,4)&$A39,Lista_Ubigeo!$J:$K,2,0),\" \")","v":"SAN ANTONIO DE CACHI"},{"$f":"IFERROR(VLOOKUP(MID(AE$27,5,4)&$A39,Lista_Ubigeo!$J:$K,2,0),\" \")","v":" "},{"$f":"IFERROR(VLOOKUP(MID(AF$27,5,4)&$A39,Lista_Ubigeo!$J:$K,2,0),\" \")","v":"SAÑAYCA"},{"$f":"IFERROR(VLOOKUP(MID(AG$27,5,4)&$A39,Lista_Ubigeo!$J:$K,2,0),\" \")","v":" "},{"$f":"IFERROR(VLOOKUP(MID(AH$27,5,4)&$A39,Lista_Ubigeo!$J:$K,2,0),\" \")","v":" "},{"$f":"IFERROR(VLOOKUP(MID(AI$27,5,4)&$A39,Lista_Ubigeo!$J:$K,2,0),\" \")","v":"VILCABAMBA"},{"$f":"IFERROR(VLOOKUP(MID(AJ$27,5,4)&$A39,Lista_Ubigeo!$J:$K,2,0),\" \")","v":"PAUCARPATA"},{"$f":"IFERROR(VLOOKUP(MID(AK$27,5,4)&$A39,Lista_Ubigeo!$J:$K,2,0),\" \")","v":" "},{"$f":"IFERROR(VLOOKUP(MID(AL$27,5,4)&$A39,Lista_Ubigeo!$J:$K,2,0),\" \")","v":"QUICACHA"},{"$f":"IFERROR(VLOOKUP(MID(AM$27,5,4)&$A39,Lista_Ubigeo!$J:$K,2,0),\" \")","v":"UÑON"},{"$f":"IFERROR(VLOOKUP(MID(AN$27,5,4)&$A39,Lista_Ubigeo!$J:$K,2,0),\" \")","v":"MACA"},{"$f":"IFERROR(VLOOKUP(MID(AO$27,5,4)&$A39,Lista_Ubigeo!$J:$K,2,0),\" \")","v":" "},{"$f":"IFERROR(VLOOKUP(MID(AP$27,5,4)&$A39,Lista_Ubigeo!$J:$K,2,0),\" \")","v":" "},{"$f":"IFERROR(VLOOKUP(MID(AQ$27,4,4)&$A39,Lista_Ubigeo!$J:$K,2,0),\" \")","v":" "},{"$f":"IFERROR(VLOOKUP(MID(AR$27,5,4)&$A39,Lista_Ubigeo!$J:$K,2,0),\" \")","v":"SOCOS"},{"$f":"IFERROR(VLOOKUP(MID(AS$27,5,4)&$A39,Lista_Ubigeo!$J:$K,2,0),\" \")","v":" "},{"$f":"IFERROR(VLOOKUP(MID(AT$27,5,4)&$A39,Lista_Ubigeo!$J:$K,2,0),\" \")","v":" "},{"$f":"IFERROR(VLOOKUP(MID(AU$27,5,4)&$A39,Lista_Ubigeo!$J:$K,2,0),\" \")","v":"CHACA"},{"$f":"IFERROR(VLOOKUP(MID(AV$27,5,4)&$A39,Lista_Ubigeo!$J:$K,2,0),\" \")","v":" "},{"$f":"IFERROR(VLOOKUP(MID(AW$27,5,4)&$A39,Lista_Ubigeo!$J:$K,2,0),\" \")","v":"OCAÑA"},{"$f":"IFERROR(VLOOKUP(MID(AX$27,5,4)&$A39,Lista_Ubigeo!$J:$K,2,0),\" \")","v":" "},{"$f":"IFERROR(VLOOKUP(MID(AY$27,5,4)&$A39,Lista_Ubigeo!$J:$K,2,0),\" \")","v":" "},{"$f":"IFERROR(VLOOKUP(MID(AZ$27,5,4)&$A39,Lista_Ubigeo!$J:$K,2,0),\" \")","v":" "},{"$f":"IFERROR(VLOOKUP(MID(BA$27,5,4)&$A39,Lista_Ubigeo!$J:$K,2,0),\" \")","v":"VILCANCHOS"},{"$f":"IFERROR(VLOOKUP(MID(BB$27,5,4)&$A39,Lista_Ubigeo!$J:$K,2,0),\" \")","v":" "},{"$f":"IFERROR(VLOOKUP(MID(BC$27,5,4)&$A39,Lista_Ubigeo!$J:$K,2,0),\" \")","v":"SAN JUAN"},{"$f":"IFERROR(VLOOKUP(MID(BD$27,5,4)&$A39,Lista_Ubigeo!$J:$K,2,0),\" \")","v":" "},{"$f":"IFERROR(VLOOKUP(MID(BE$27,5,4)&$A39,Lista_Ubigeo!$J:$K,2,0),\" \")","v":"LA LIBERTAD DE PALLAN"},{"$f":"IFERROR(VLOOKUP(MID(BF$27,5,4)&$A39,Lista_Ubigeo!$J:$K,2,0),\" \")","v":"MIRACOSTA"},{"$f":"IFERROR(VLOOKUP(MID(BG$27,5,4)&$A39,Lista_Ubigeo!$J:$K,2,0),\" \")","v":" "},{"$f":"IFERROR(VLOOKUP(MID(BH$27,5,4)&$A39,Lista_Ubigeo!$J:$K,2,0),\" \")","v":"SANTO DOMINGO DE LA CAPILLA"},{"$f":"IFERROR(VLOOKUP(MID(BI$27,5,4)&$A39,Lista_Ubigeo!$J:$K,2,0),\" \")","v":" "},{"$f":"IFERROR(VLOOKUP(MID(BJ$27,5,4)&$A39,Lista_Ubigeo!$J:$K,2,0),\" \")","v":"SANTA ROSA"},{"$f":"IFERROR(VLOOKUP(MID(BK$27,5,4)&$A39,Lista_Ubigeo!$J:$K,2,0),\" \")","v":" "},{"$f":"IFERROR(VLOOKUP(MID(BL$27,5,4)&$A39,Lista_Ubigeo!$J:$K,2,0),\" \")","v":" "},{"$f":"IFERROR(VLOOKUP(MID(BM$27,5,4)&$A39,Lista_Ubigeo!$J:$K,2,0),\" \")","v":"TONGOD"},{"$f":"IFERROR(VLOOKUP(MID(BN$27,5,4)&$A39,Lista_Ubigeo!$J:$K,2,0),\" \")","v":" "},{"$f":"IFERROR(VLOOKUP(MID(BO$27,5,4)&$A39,Lista_Ubigeo!$J:$K,2,0),\" \")","v":" "},{"$f":"IFERROR(VLOOKUP(MID(BP$27,5,4)&$A39,Lista_Ubigeo!$J:$K,2,0),\" \")","v":" "},{"$f":"IFERROR(VLOOKUP(MID(BQ$27,5,4)&$A39,Lista_Ubigeo!$J:$K,2,0),\" \")","v":" "},{"$f":"IFERROR(VLOOKUP(MID(BR$27,5,4)&$A39,Lista_Ubigeo!$J:$K,2,0),\" \")","v":" "},{"$f":"IFERROR(VLOOKUP(MID(BS$27,5,4)&$A39,Lista_Ubigeo!$J:$K,2,0),\" \")","v":" "},{"$f":"IFERROR(VLOOKUP(MID(BT$27,5,4)&$A39,Lista_Ubigeo!$J:$K,2,0),\" \")","v":" "},{"$f":"IFERROR(VLOOKUP(MID(BU$27,5,4)&$A39,Lista_Ubigeo!$J:$K,2,0),\" \")","v":" "},{"$f":"IFERROR(VLOOKUP(MID(BV$27,5,4)&$A39,Lista_Ubigeo!$J:$K,2,0),\" \")","v":" "},{"$f":"IFERROR(VLOOKUP(MID(BW$27,5,4)&$A39,Lista_Ubigeo!$J:$K,2,0),\" \")","v":" "},{"$f":"IFERROR(VLOOKUP(MID(BX$27,5,4)&$A39,Lista_Ubigeo!$J:$K,2,0),\" \")","v":" "},{"$f":"IFERROR(VLOOKUP(MID(BY$27,4,4)&$A39,Lista_Ubigeo!$J:$K,2,0),\" \")","v":"VILLA VIRGEN"},{"$f":"IFERROR(VLOOKUP(MID(BZ$27,5,4)&$A39,Lista_Ubigeo!$J:$K,2,0),\" \")","v":" "},{"$f":"IFERROR(VLOOKUP(MID(CA$27,5,4)&$A39,Lista_Ubigeo!$J:$K,2,0),\" \")","v":" "},{"$f":"IFERROR(VLOOKUP(MID(CB$27,5,4)&$A39,Lista_Ubigeo!$J:$K,2,0),\" \")","v":"QUIQUIJANA"},{"$f":"IFERROR(VLOOKUP(MID(CC$27,5,4)&$A39,Lista_Ubigeo!$J:$K,2,0),\" \")","v":" "},{"$f":"IFERROR(VLOOKUP(MID(CD$27,5,4)&$A39,Lista_Ubigeo!$J:$K,2,0),\" \")","v":"MOYA"},{"$f":"IFERROR(VLOOKUP(MID(CE$27,5,4)&$A39,Lista_Ubigeo!$J:$K,2,0),\" \")","v":" "},{"$f":"IFERROR(VLOOKUP(MID(CF$27,5,4)&$A39,Lista_Ubigeo!$J:$K,2,0),\" \")","v":"SECCLLA"},{"$f":"IFERROR(VLOOKUP(MID(CG$27,5,4)&$A39,Lista_Ubigeo!$J:$K,2,0),\" \")","v":"TANTARA"},{"$f":"IFERROR(VLOOKUP(MID(CH$27,5,4)&$A39,Lista_Ubigeo!$J:$K,2,0),\" \")","v":" "},{"$f":"IFERROR(VLOOKUP(MID(CI$27,5,4)&$A39,Lista_Ubigeo!$J:$K,2,0),\" \")","v":"SAN ISIDRO"},"SALCABAMBA",{"$f":"IFERROR(VLOOKUP(MID(CK$27,5,4)&$A39,Lista_Ubigeo!$J:$K,2,0),\" \")","v":"YACUS"},{"$f":"IFERROR(VLOOKUP(MID(CL$27,5,4)&$A39,Lista_Ubigeo!$J:$K,2,0),\" \")","v":" "},null,{"$f":"IFERROR(VLOOKUP(MID(CN$27,5,4)&$A39,Lista_Ubigeo!$J:$K,2,0),\" \")","v":" "},{"$f":"IFERROR(VLOOKUP(MID(CO$27,5,4)&$A39,Lista_Ubigeo!$J:$K,2,0),\" \")","v":" "},{"$f":"IFERROR(VLOOKUP(MID(CP$27,5,4)&$A39,Lista_Ubigeo!$J:$K,2,0),\" \")","v":" "},{"$f":"IFERROR(VLOOKUP(MID(CQ$27,5,4)&$A39,Lista_Ubigeo!$J:$K,2,0),\" \")","v":" "},{"$f":"IFERROR(VLOOKUP(MID(CR$27,5,4)&$A39,Lista_Ubigeo!$J:$K,2,0),\" \")","v":" "},{"$f":"IFERROR(VLOOKUP(MID(CS$27,5,4)&$A39,Lista_Ubigeo!$J:$K,2,0),\" \")","v":" "},{"$f":"IFERROR(VLOOKUP(MID(CT$27,5,4)&$A39,Lista_Ubigeo!$J:$K,2,0),\" \")","v":" "},{"$f":"IFERROR(VLOOKUP(MID(CU$27,5,4)&$A39,Lista_Ubigeo!$J:$K,2,0),\" \")","v":" "},{"$f":"IFERROR(VLOOKUP(MID(CV$27,5,4)&$A39,Lista_Ubigeo!$J:$K,2,0),\" \")","v":"SUBTANJALLA"},{"$f":"IFERROR(VLOOKUP(MID(CW$27,5,4)&$A39,Lista_Ubigeo!$J:$K,2,0),\" \")","v":" "},{"$f":"IFERROR(VLOOKUP(MID(CX$27,5,4)&$A39,Lista_Ubigeo!$J:$K,2,0),\" \")","v":" "},{"$f":"IFERROR(VLOOKUP(MID(CY$27,5,4)&$A39,Lista_Ubigeo!$J:$K,2,0),\" \")","v":" "},{"$f":"IFERROR(VLOOKUP(MID(CZ$27,5,4)&$A39,Lista_Ubigeo!$J:$K,2,0),\" \")","v":" "},"HUALHUAS",{"$f":"IFERROR(VLOOKUP(MID(DB$27,5,4)&$A39,Lista_Ubigeo!$J:$K,2,0),\" \")","v":"NUEVE DE JULIO"},{"$f":"IFERROR(VLOOKUP(MID(DC$27,5,4)&$A39,Lista_Ubigeo!$J:$K,2,0),\" \")","v":" "},{"$f":"IFERROR(VLOOKUP(MID(DD$27,5,4)&$A39,Lista_Ubigeo!$J:$K,2,0),\" \")","v":"JULCAN"},{"$f":"IFERROR(VLOOKUP(MID(DE$27,5,4)&$A39,Lista_Ubigeo!$J:$K,2,0),\" \")","v":" "},{"$f":"IFERROR(VLOOKUP(MID(DF$27,5,4)&$A39,Lista_Ubigeo!$J:$K,2,0),\" \")","v":" "},{"$f":"IFERROR(VLOOKUP(MID(DG$27,5,4)&$A39,Lista_Ubigeo!$J:$K,2,0),\" \")","v":" "},{"$f":"IFERROR(VLOOKUP(MID(DH$27,5,4)&$A39,Lista_Ubigeo!$J:$K,2,0),\" \")","v":" "},{"$f":"IFERROR(VLOOKUP(MID(DI$27,5,4)&$A39,Lista_Ubigeo!$J:$K,2,0),\" \")","v":" "},{"$f":"IFERROR(VLOOKUP(MID(DJ$27,5,4)&$A39,Lista_Ubigeo!$J:$K,2,0),\" \")","v":" "},{"$f":"IFERROR(VLOOKUP(MID(DK$27,5,4)&$A39,Lista_Ubigeo!$J:$K,2,0),\" \")","v":" "},{"$f":"IFERROR(VLOOKUP(MID(DL$27,5,4)&$A39,Lista_Ubigeo!$J:$K,2,0),\" \")","v":" "},{"$f":"IFERROR(VLOOKUP(MID(DM$27,5,4)&$A39,Lista_Ubigeo!$J:$K,2,0),\" \")","v":" "},{"$f":"IFERROR(VLOOKUP(MID(DN$27,5,4)&$A39,Lista_Ubigeo!$J:$K,2,0),\" \")","v":" "},null,{"$f":"IFERROR(VLOOKUP(MID(DP$27,5,4)&$A39,Lista_Ubigeo!$J:$K,2,0),\" \")","v":" "},{"$f":"IFERROR(VLOOKUP(MID(DQ$27,5,4)&$A39,Lista_Ubigeo!$J:$K,2,0),\" \")","v":"TAURIJA"},{"$f":"IFERROR(VLOOKUP(MID(DR$27,5,4)&$A39,Lista_Ubigeo!$J:$K,2,0),\" \")","v":" "},{"$f":"IFERROR(VLOOKUP(MID(DS$27,5,4)&$A39,Lista_Ubigeo!$J:$K,2,0),\" \")","v":" "},null,null,{"$f":"IFERROR(VLOOKUP(MID(DV$27,5,4)&$A39,Lista_Ubigeo!$J:$K,2,0),\" \")","v":"PIMENTEL"},{"$f":"IFERROR(VLOOKUP(MID(DW$27,5,4)&$A39,Lista_Ubigeo!$J:$K,2,0),\" \")","v":" "},{"$f":"IFERROR(VLOOKUP(MID(DX$27,5,4)&$A39,Lista_Ubigeo!$J:$K,2,0),\" \")","v":"TUCUME"},{"$f":"IFERROR(VLOOKUP(MID(DY$27,5,4)&$A39,Lista_Ubigeo!$J:$K,2,0),\" \")","v":"INDEPENDENCIA"},{"$f":"IFERROR(VLOOKUP(MID(DZ$27,5,4)&$A39,Lista_Ubigeo!$J:$K,2,0),\" \")","v":" "},{"$f":"IFERROR(VLOOKUP(MID(EA$27,5,4)&$A39,Lista_Ubigeo!$J:$K,2,0),\" \")","v":" "},{"$f":"IFERROR(VLOOKUP(MID(EB$27,5,4)&$A39,Lista_Ubigeo!$J:$K,2,0),\" \")","v":" "},{"$f":"IFERROR(VLOOKUP(MID(EC$27,5,4)&$A39,Lista_Ubigeo!$J:$K,2,0),\" \")","v":"QUILMANA"},{"$f":"IFERROR(VLOOKUP(MID(ED$27,5,4)&$A39,Lista_Ubigeo!$J:$K,2,0),\" \")","v":"VEINTISIETE DE NOVIEMBRE"},{"$f":"IFERROR(VLOOKUP(MID(EE$27,5,4)&$A39,Lista_Ubigeo!$J:$K,2,0),\" \")","v":"LARAOS"},{"$f":"IFERROR(VLOOKUP(MID(EF$27,5,4)&$A39,Lista_Ubigeo!$J:$K,2,0),\" \")","v":"VEGUETA"},{"$f":"IFERROR(VLOOKUP(MID(EG$27,5,4)&$A39,Lista_Ubigeo!$J:$K,2,0),\" \")","v":" "},{"$f":"IFERROR(VLOOKUP(MID(EH$27,5,4)&$A39,Lista_Ubigeo!$J:$K,2,0),\" \")","v":"HONGOS"},null,{"$f":"IFERROR(VLOOKUP(MID(EJ$27,5,4)&$A44,Lista_Ubigeo!$J:$K,2,0),\" \")","v":" "},{"$f":"IFERROR(VLOOKUP(MID(EK$27,5,4)&$A39,Lista_Ubigeo!$J:$K,2,0),\" \")","v":" "},{"$f":"IFERROR(VLOOKUP(MID(EL$27,5,4)&$A39,Lista_Ubigeo!$J:$K,2,0),\" \")","v":" "},{"$f":"IFERROR(VLOOKUP(MID(EM$27,5,4)&$A39,Lista_Ubigeo!$J:$K,2,0),\" \")","v":" "},{"$f":"IFERROR(VLOOKUP(MID(EN$27,5,4)&$A39,Lista_Ubigeo!$J:$K,2,0),\" \")","v":" "},{"$f":"IFERROR(VLOOKUP(MID(EO$27,5,4)&$A39,Lista_Ubigeo!$J:$K,2,0),\" \")","v":" "},{"$f":"IFERROR(VLOOKUP(MID(EP$27,5,4)&$A39,Lista_Ubigeo!$J:$K,2,0),\" \")","v":" "},{"$f":"IFERROR(VLOOKUP(MID(EQ$27,5,4)&$A39,Lista_Ubigeo!$J:$K,2,0),\" \")","v":" "},{"$f":"IFERROR(VLOOKUP(MID(ER$27,5,4)&$A39,Lista_Ubigeo!$J:$K,2,0),\" \")","v":" "},{"$f":"IFERROR(VLOOKUP(MID(ES$27,5,4)&$A39,Lista_Ubigeo!$J:$K,2,0),\" \")","v":" "},{"$f":"IFERROR(VLOOKUP(MID(ET$27,5,4)&$A39,Lista_Ubigeo!$J:$K,2,0),\" \")","v":" "},{"$f":"IFERROR(VLOOKUP(MID(EU$27,5,4)&$A39,Lista_Ubigeo!$J:$K,2,0),\" \")","v":" "},{"$f":"IFERROR(VLOOKUP(MID(EV$27,5,4)&$A39,Lista_Ubigeo!$J:$K,2,0),\" \")","v":" "},{"$f":"IFERROR(VLOOKUP(MID(EW$27,5,4)&$A39,Lista_Ubigeo!$J:$K,2,0),\" \")","v":"VICCO"},{"$f":"IFERROR(VLOOKUP(MID(EX$27,5,4)&$A39,Lista_Ubigeo!$J:$K,2,0),\" \")","v":" "},{"$f":"IFERROR(VLOOKUP(MID(EY$27,5,4)&$A39,Lista_Ubigeo!$J:$K,2,0),\" \")","v":" "},null,{"$f":"IFERROR(VLOOKUP(MID(FA$27,5,4)&$A39,Lista_Ubigeo!$J:$K,2,0),\" \")","v":" "},{"$f":"IFERROR(VLOOKUP(MID(FB$27,5,4)&$A39,Lista_Ubigeo!$J:$K,2,0),\" \")","v":" "},{"$f":"IFERROR(VLOOKUP(MID(FC$27,5,4)&$A39,Lista_Ubigeo!$J:$K,2,0),\" \")","v":" "},{"$f":"IFERROR(VLOOKUP(MID(FD$27,5,4)&$A39,Lista_Ubigeo!$J:$K,2,0),\" \")","v":" "},{"$f":"IFERROR(VLOOKUP(MID(FE$27,5,4)&$A39,Lista_Ubigeo!$J:$K,2,0),\" \")","v":" "},{"$f":"IFERROR(VLOOKUP(MID(FF$27,5,4)&$A39,Lista_Ubigeo!$J:$K,2,0),\" \")","v":" "},{"$f":"IFERROR(VLOOKUP(MID(FG$27,5,4)&$A39,Lista_Ubigeo!$J:$K,2,0),\" \")","v":" "},{"$f":"IFERROR(VLOOKUP(MID(FH$27,5,4)&$A39,Lista_Ubigeo!$J:$K,2,0),\" \")","v":"PLATERIA"},{"$f":"IFERROR(VLOOKUP(MID(FI$27,5,4)&$A39,Lista_Ubigeo!$J:$K,2,0),\" \")","v":"SAN JOSE"},{"$f":"IFERROR(VLOOKUP(MID(FJ$27,5,4)&$A39,Lista_Ubigeo!$J:$K,2,0),\" \")","v":" "},{"$f":"IFERROR(VLOOKUP(MID(FK$27,5,4)&$A39,Lista_Ubigeo!$J:$K,2,0),\" \")","v":" "},{"$f":"IFERROR(VLOOKUP(MID(FL$27,5,4)&$A39,Lista_Ubigeo!$J:$K,2,0),\" \")","v":" "},{"$f":"IFERROR(VLOOKUP(MID(FM$27,5,4)&$A39,Lista_Ubigeo!$J:$K,2,0),\" \")","v":" "},{"$f":"IFERROR(VLOOKUP(MID(FN$27,5,4)&$A39,Lista_Ubigeo!$J:$K,2,0),\" \")","v":" "},{"$f":"IFERROR(VLOOKUP(MID(FO$27,5,4)&$A39,Lista_Ubigeo!$J:$K,2,0),\" \")","v":" "},{"$f":"IFERROR(VLOOKUP(MID(FP$27,5,4)&$A39,Lista_Ubigeo!$J:$K,2,0),\" \")","v":" "},{"$f":"IFERROR(VLOOKUP(MID(FQ$27,5,4)&$A39,Lista_Ubigeo!$J:$K,2,0),\" \")","v":" "},{"$f":"IFERROR(VLOOKUP(MID(FR$27,5,4)&$A39,Lista_Ubigeo!$J:$K,2,0),\" \")","v":" "},{"$f":"IFERROR(VLOOKUP(MID(FS$27,5,4)&$A39,Lista_Ubigeo!$J:$K,2,0),\" \")","v":" "},{"$f":"IFERROR(VLOOKUP(MID(FT$27,5,4)&$A39,Lista_Ubigeo!$J:$K,2,0),\" \")","v":" "},{"$f":"IFERROR(VLOOKUP(MID(FU$27,5,4)&$A39,Lista_Ubigeo!$J:$K,2,0),\" \")","v":" "},{"$f":"IFERROR(VLOOKUP(MID(FV$27,5,4)&$A39,Lista_Ubigeo!$J:$K,2,0),\" \")","v":" "},{"$f":"IFERROR(VLOOKUP(MID(FW$27,5,4)&$A39,Lista_Ubigeo!$J:$K,2,0),\" \")","v":" "},{"$f":"IFERROR(VLOOKUP(MID(FX$27,5,4)&$A39,Lista_Ubigeo!$J:$K,2,0),\" \")","v":" "},{"$f":"IFERROR(VLOOKUP(MID(FY$27,5,4)&$A39,Lista_Ubigeo!$J:$K,2,0),\" \")","v":" "},{"$f":"IFERROR(VLOOKUP(MID(FZ$27,5,4)&$A39,Lista_Ubigeo!$J:$K,2,0),\" \")","v":" "},{"$f":"IFERROR(VLOOKUP(MID(GA$27,5,4)&$A39,Lista_Ubigeo!$J:$K,2,0),\" \")","v":" "},{"$f":"IFERROR(VLOOKUP(MID(GB$27,5,4)&$A39,Lista_Ubigeo!$J:$K,2,0),\" \")","v":" "},{"$f":"IFERROR(VLOOKUP(MID(GC$27,5,4)&$A39,Lista_Ubigeo!$J:$K,2,0),\" \")","v":"SAN ANTONIO"},{"$f":"IFERROR(VLOOKUP(MID(GD$27,5,4)&$A39,Lista_Ubigeo!$J:$K,2,0),\" \")","v":" "},{"$f":"IFERROR(VLOOKUP(MID(GE$27,5,4)&$A39,Lista_Ubigeo!$J:$K,2,0),\" \")","v":" "},{"$f":"IFERROR(VLOOKUP(MID(GF$27,5,4)&$A39,Lista_Ubigeo!$J:$K,2,0),\" \")","v":" "},{"$f":"IFERROR(VLOOKUP(MID(GG$27,5,4)&$A39,Lista_Ubigeo!$J:$K,2,0),\" \")","v":" "},{"$f":"IFERROR(VLOOKUP(MID(GH$27,5,4)&$A39,Lista_Ubigeo!$J:$K,2,0),\" \")","v":" "},{"$f":"IFERROR(VLOOKUP(MID(GI$27,5,4)&$A39,Lista_Ubigeo!$J:$K,2,0),\" \")","v":" "},{"$f":"IFERROR(VLOOKUP(MID(GJ$27,5,4)&$A39,Lista_Ubigeo!$J:$K,2,0),\" \")","v":" "},{"$f":"IFERROR(VLOOKUP(MID(GK$27,5,4)&$A39,Lista_Ubigeo!$J:$K,2,0),\" \")","v":" "},{"$f":"IFERROR(VLOOKUP(MID(GL$27,5,4)&$A39,Lista_Ubigeo!$J:$K,2,0),\" \")","v":" "},{"$f":"IFERROR(VLOOKUP(MID(GM$27,5,4)&$A39,Lista_Ubigeo!$J:$K,2,0),\" \")","v":" "},{"$f":"IFERROR(VLOOKUP(MID(GN$27,5,4)&$A39,Lista_Ubigeo!$J:$K,2,0),\" \")","v":" "},{"$f":"IFERROR(VLOOKUP(MID(GO$27,5,4)&$A39,Lista_Ubigeo!$J:$K,2,0),\" \")","v":" "},{"$f":"IFERROR(VLOOKUP(MID(GP$27,5,4)&$A39,Lista_Ubigeo!$J:$K,2,0),\" \")","v":"SAN JOSE"}]
["13",{"$f":"IFERROR(VLOOKUP(MID(B$27,5,4)&$A40,Lista_Ubigeo!$J:$K,2,0),\" \")","v":"MARISCAL CASTILLA"},{"$f":"IFERROR(VLOOKUP(MID(C$27,5,4)&$A40,Lista_Ubigeo!$J:$K,2,0),\" \")","v":" "},{"$f":"IFERROR(VLOOKUP(MID(D$27,5,4)&$A40,Lista_Ubigeo!$J:$K,2,0),\" \")","v":" "},{"$f":"IFERROR(VLOOKUP(MID(E$27,5,4)&$A40,Lista_Ubigeo!$J:$K,2,0),\" \")","v":" "},{"$f":"IFERROR(VLOOKUP(MID(F$27,5,4)&$A40,Lista_Ubigeo!$J:$K,2,0),\" \")","v":"OCUMAL"},{"$f":"IFERROR(VLOOKUP(MID(G$27,5,4)&$A40,Lista_Ubigeo!$J:$K,2,0),\" \")","v":" "},{"$f":"IFERROR(VLOOKUP(MID(H$27,5,4)&$A40,Lista_Ubigeo!$J:$K,2,0),\" \")","v":" "},{"$f":"IFERROR(VLOOKUP(MID(I$27,5,4)&$A40,Lista_Ubigeo!$J:$K,2,0),\" \")","v":" "},{"$f":"IFERROR(VLOOKUP(MID(J$27,5,4)&$A40,Lista_Ubigeo!$J:$K,2,0),\" \")","v":" "},{"$f":"IFERROR(VLOOKUP(MID(K$27,5,4)&$A40,Lista_Ubigeo!$J:$K,2,0),\" \")","v":" "},{"$f":"IFERROR(VLOOKUP(MID(L$27,5,4)&$A40,Lista_Ubigeo!$J:$K,2,0),\" \")","v":" "},{"$f":"IFERROR(VLOOKUP(MID(M$27,5,4)&$A40,Lista_Ubigeo!$J:$K,2,0),\" \")","v":"PACLLON"},{"$f":"IFERROR(VLOOKUP(MID(N$27,5,4)&$A40,Lista_Ubigeo!$J:$K,2,0),\" \")","v":" "},{"$f":"IFERROR(VLOOKUP(MID(O$27,5,4)&$A40,Lista_Ubigeo!$J:$K,2,0),\" \")","v":" "},{"$f":"IFERROR(VLOOKUP(MID(P$27,5,4)&$A40,Lista_Ubigeo!$J:$K,2,0),\" \")","v":" "},{"$f":"IFERROR(VLOOKUP(MID(Q$27,5,4)&$A40,Lista_Ubigeo!$J:$K,2,0),\" \")","v":" "},{"$f":"IFERROR(VLOOKUP(MID(R$27,5,4)&$A40,Lista_Ubigeo!$J:$K,2,0),\" \")","v":"RAPAYAN"},{"$f":"IFERROR(VLOOKUP(MID(S$27,5,4)&$A40,Lista_Ubigeo!$J:$K,2,0),\" \")","v":" "},{"$f":"IFERROR(VLOOKUP(MID(T$27,5,4)&$A40,Lista_Ubigeo!$J:$K,2,0),\" \")","v":" "},{"$f":"IFERROR(VLOOKUP(MID(U$27,5,4)&$A40,Lista_Ubigeo!$J:$K,2,0),\" \")","v":" "},{"$f":"IFERROR(VLOOKUP(MID(V$27,5,4)&$A40,Lista_Ubigeo!$J:$K,2,0),\" \")","v":" "},{"$f":"IFERROR(VLOOKUP(MID(W$27,5,4)&$A40,Lista_Ubigeo!$J:$K,2,0),\" \")","v":" "},{"$f":"IFERROR(VLOOKUP(MID(X$27,5,4)&$A40,Lista_Ubigeo!$J:$K,2,0),\" \")","v":" "},{"$f":"IFERROR(VLOOKUP(MID(Y$27,5,4)&$A40,Lista_Ubigeo!$J:$K,2,0),\" \")","v":" "},{"$f":"IFERROR(VLOOKUP(MID(Z$27,5,4)&$A40,Lista_Ubigeo!$J:$K,2,0),\" \")","v":" "},{"$f":"IFERROR(VLOOKUP(MID(AA$27,5,4)&$A40,Lista_Ubigeo!$J:$K,2,0),\" \")","v":" "},{"$f":"IFERROR(VLOOKUP(MID(AB$27,5,4)&$A40,Lista_Ubigeo!$J:$K,2,0),\" \")","v":" "},{"$f":"IFERROR(VLOOKUP(MID(AC$27,5,4)&$A40,Lista_Ubigeo!$J:$K,2,0),\" \")","v":" "},{"$f":"IFERROR(VLOOKUP(MID(AD$27,5,4)&$A40,Lista_Ubigeo!$J:$K,2,0),\" \")","v":"SAN JERONIMO"},{"$f":"IFERROR(VLOOKUP(MID(AE$27,5,4)&$A40,Lista_Ubigeo!$J:$K,2,0),\" \")","v":" "},{"$f":"IFERROR(VLOOKUP(MID(AF$27,5,4)&$A40,Lista_Ubigeo!$J:$K,2,0),\" \")","v":"SORAYA"},{"$f":"IFERROR(VLOOKUP(MID(AG$27,5,4)&$A40,Lista_Ubigeo!$J:$K,2,0),\" \")","v":" "},{"$f":"IFERROR(VLOOKUP(MID(AH$27,5,4)&$A40,Lista_Ubigeo!$J:$K,2,0),\" \")","v":" "},{"$f":"IFERROR(VLOOKUP(MID(AI$27,5,4)&$A40,Lista_Ubigeo!$J:$K,2,0),\" \")","v":"VIRUNDO"},{"$f":"IFERROR(VLOOKUP(MID(AJ$27,5,4)&$A40,Lista_Ubigeo!$J:$K,2,0),\" \")","v":"POCSI"},{"$f":"IFERROR(VLOOKUP(MID(AK$27,5,4)&$A40,Lista_Ubigeo!$J:$K,2,0),\" \")","v":" "},{"$f":"IFERROR(VLOOKUP(MID(AL$27,5,4)&$A40,Lista_Ubigeo!$J:$K,2,0),\" \")","v":"YAUCA"},{"$f":"IFERROR(VLOOKUP(MID(AM$27,5,4)&$A40,Lista_Ubigeo!$J:$K,2,0),\" \")","v":"URACA"},{"$f":"IFERROR(VLOOKUP(MID(AN$27,5,4)&$A40,Lista_Ubigeo!$J:$K,2,0),\" \")","v":"MADRIGAL"},{"$f":"IFERROR(VLOOKUP(MID(AO$27,5,4)&$A40,Lista_Ubigeo!$J:$K,2,0),\" \")","v":" "},{"$f":"IFERROR(VLOOKUP(MID(AP$27,5,4)&$A40,Lista_Ubigeo!$J:$K,2,0),\" \")","v":" "},{"$f":"IFERROR(VLOOKUP(MID(AQ$27,4,4)&$A40,Lista_Ubigeo!$J:$K,2,0),\" \")","v":" "},{"$f":"IFERROR(VLOOKUP(MID(AR$27,5,4)&$A40,Lista_Ubigeo!$J:$K,2,0),\" \")","v":"TAMBILLO"},{"$f":"IFERROR(VLOOKUP(MID(AS$27,5,4)&$A40,Lista_Ubigeo!$J:$K,2,0),\" \")","v":" "},{"$f":"IFERROR(VLOOKUP(MID(AT$27,5,4)&$A40,Lista_Ubigeo!$J:$K,2,0),\" \")","v":" "},{"$f":"IFERROR(VLOOKUP(MID(AU$27,5,4)&$A40,Lista_Ubigeo!$J:$K,2,0),\" \")","v":" "},{"$f":"IFERROR(VLOOKUP(MID(AV$27,5,4)&$A40,Lista_Ubigeo!$J:$K,2,0),\" \")","v":" "},{"$f":"IFERROR(VLOOKUP(MID(AW$27,5,4)&$A40,Lista_Ubigeo!$J:$K,2,0),\" \")","v":"OTOCA"},{"$f":"IFERROR(VLOOKUP(MID(AX$27,5,4)&$A40,Lista_Ubigeo!$J:$K,2,0),\" \")","v":" "},{"$f":"IFERROR(VLOOKUP(MID(AY$27,5,4)&$A40,Lista_Ubigeo!$J:$K,2,0),\" \")","v":" "},{"$f":"IFERROR(VLOOKUP(MID(AZ$27,5,4)&$A40,Lista_Ubigeo!$J:$K,2,0),\" \")","v":" "},{"$f":"IFERROR(VLOOKUP(MID(BA$27,5,4)&$A40,Lista_Ubigeo!$J:$K,2,0),\" \")","v":" "},{"$f":"IFERROR(VLOOKUP(MID(BB$27,5,4)&$A40,Lista_Ubigeo!$J:$K,2,0),\" \")","v":" "},{"$f":"IFERROR(VLOOKUP(MID(BC$27,5,4)&$A40,Lista_Ubigeo!$J:$K,2,0),\" \")","v":" "},{"$f":"IFERROR(VLOOKUP(MID(BD$27,5,4)&$A40,Lista_Ubigeo!$J:$K,2,0),\" \")","v":" "},{"$f":"IFERROR(VLOOKUP(MID(BE$27,5,4)&$A40,Lista_Ubigeo!$J:$K,2,0),\" \")","v":" "},{"$f":"IFERROR(VLOOKUP(MID(BF$27,5,4)&$A40,Lista_Ubigeo!$J:$K,2,0),\" \")","v":"PACCHA"},{"$f":"IFERROR(VLOOKUP(MID(BG$27,5,4)&$A40,Lista_Ubigeo!$J:$K,2,0),\" \")","v":" "},{"$f":"IFERROR(VLOOKUP(MID(BH$27,5,4)&$A40,Lista_Ubigeo!$J:$K,2,0),\" \")","v":"SANTO TOMAS"},{"$f":"IFERROR(VLOOKUP(MID(BI$27,5,4)&$A40,Lista_Ubigeo!$J:$K,2,0),\" \")","v":" "},{"$f":"IFERROR(VLOOKUP(MID(BJ$27,5,4)&$A40,Lista_Ubigeo!$J:$K,2,0),\" \")","v":" "},{"$f":"IFERROR(VLOOKUP(MID(BK$27,5,4)&$A40,Lista_Ubigeo!$J:$K,2,0),\" \")","v":" "},{"$f":"IFERROR(VLOOKUP(MID(BL$27,5,4)&$A40,Lista_Ubigeo!$J:$K,2,0),\" \")","v":" "},{"$f":"IFERROR(VLOOKUP(MID(BM$27,5,4)&$A40,Lista_Ubigeo!$J:$K,2,0),\" \")","v":"UNION AGUA BLANCA"},{"$f":"IFERROR(VLOOKUP(MID(BN$27,5,4)&$A40,Lista_Ubigeo!$J:$K,2,0),\" \")","v":" "},{"$f":"IFERROR(VLOOKUP(MID(BO$27,5,4)&$A40,Lista_Ubigeo!$J:$K,2,0),\" \")","v":" "},{"$f":"IFERROR(VLOOKUP(MID(BP$27,5,4)&$A40,Lista_Ubigeo!$J:$K,2,0),\" \")","v":" "},{"$f":"IFERROR(VLOOKUP(MID(BQ$27,5,4)&$A40,Lista_Ubigeo!$J:$K,2,0),\" \")","v":" "},{"$f":"IFERROR(VLOOKUP(MID(BR$27,5,4)&$A40,Lista_Ubigeo!$J:$K,2,0),\" \")","v":" "},{"$f":"IFERROR(VLOOKUP(MID(BS$27,5,4)&$A40,Lista_Ubigeo!$J:$K,2,0),\" \")","v":" "},{"$f":"IFERROR(VLOOKUP(MID(BT$27,5,4)&$A40,Lista_Ubigeo!$J:$K,2,0),\" \")","v":" "},{"$f":"IFERROR(VLOOKUP(MID(BU$27,5,4)&$A40,Lista_Ubigeo!$J:$K,2,0),\" \")","v":" "},{"$f":"IFERROR(VLOOKUP(MID(BV$27,5,4)&$A40,Lista_Ubigeo!$J:$K,2,0),\" \")","v":" "},{"$f":"IFERROR(VLOOKUP(MID(BW$27,5,4)&$A40,Lista_Ubigeo!$J:$K,2,0),\" \")","v":" "},{"$f":"IFERROR(VLOOKUP(MID(BX$27,5,4)&$A40,Lista_Ubigeo!$J:$K,2,0),\" \")","v":" "},{"$f":"IFERROR(VLOOKUP(MID(BY$27,4,4)&$A40,Lista_Ubigeo!$J:$K,2,0),\" \")","v":"VILLA KINTIARINA"},{"$f":"IFERROR(VLOOKUP(MID(BZ$27,5,4)&$A40,Lista_Ubigeo!$J:$K,2,0),\" \")","v":" "},{"$f":"IFERROR(VLOOKUP(MID(CA$27,5,4)&$A40,Lista_Ubigeo!$J:$K,2,0),\" \")","v":" "},{"$f":"IFERROR(VLOOKUP(MID(CB$27,5,4)&$A40,Lista_Ubigeo!$J:$K,2,0),\" \")","v":" "},{"$f":"IFERROR(VLOOKUP(MID(CC$27,5,4)&$A40,Lista_Ubigeo!$J:$K,2,0),\" \")","v":" "},{"$f":"IFERROR(VLOOKUP(MID(CD$27,5,4)&$A40,Lista_Ubigeo!$J:$K,2,0),\" \")","v":"NUEVO OCCORO"},{"$f":"IFERROR(VLOOKUP(MID(CE$27,5,4)&$A40,Lista_Ubigeo!$J:$K,2,0),\" \")","v":" "},{"$f":"IFERROR(VLOOKUP(MID(CF$27,5,4)&$A40,Lista_Ubigeo!$J:$K,2,0),\" \")","v":" "},{"$f":"IFERROR(VLOOKUP(MID(CG$27,5,4)&$A40,Lista_Ubigeo!$J:$K,2,0),\" \")","v":"TICRAPO"},{"$f":"IFERROR(VLOOKUP(MID(CH$27,5,4)&$A40,Lista_Ubigeo!$J:$K,2,0),\" \")","v":" "},{"$f":"IFERROR(VLOOKUP(MID(CI$27,5,4)&$A40,Lista_Ubigeo!$J:$K,2,0),\" \")","v":"SANTIAGO DE CHOCORVOS"},"SALCAHUASI",{"$f":"IFERROR(VLOOKUP(MID(CK$27,5,4)&$A40,Lista_Ubigeo!$J:$K,2,0),\" \")","v":"SAN PABLO DE PILLAO"},{"$f":"IFERROR(VLOOKUP(MID(CL$27,5,4)&$A40,Lista_Ubigeo!$J:$K,2,0),\" \")","v":" "},{"$f":"IFERROR(VLOOKUP(MID(CM$27,5,4)&$A51,Lista_Ubigeo!$J:$K,2,0),\" \")","v":" "},{"$f":"IFERROR(VLOOKUP(MID(CN$27,5,4)&$A40,Lista_Ubigeo!$J:$K,2,0),\" \")","v":" "},{"$f":"IFERROR(VLOOKUP(MID(CO$27,5,4)&$A40,Lista_Ubigeo!$J:$K,2,0),\" \")","v":" "},{"$f":"IFERROR(VLOOKUP(MID(CP$27,5,4)&$A40,Lista_Ubigeo!$J:$K,2,0),\" \")","v":" "},{"$f":"IFERROR(VLOOKUP(MID(CQ$27,5,4)&$A40,Lista_Ubigeo!$J:$K,2,0),\" \")","v":" "},{"$f":"IFERROR(VLOOKUP(MID(CR$27,5,4)&$A40,Lista_Ubigeo!$J:$K,2,0),\" \")","v":" "},{"$f":"IFERROR(VLOOKUP(MID(CS$27,5,4)&$A40,Lista_Ubigeo!$J:$K,2,0),\" \")","v":" "},{"$f":"IFERROR(VLOOKUP(MID(CT$27,5,4)&$A40,Lista_Ubigeo!$J:$K,2,0),\" \")","v":" "},{"$f":"IFERROR(VLOOKUP(MID(CU$27,5,4)&$A40,Lista_Ubigeo!$J:$K,2,0),\" \")","v":" "},{"$f":"IFERROR(VLOOKUP(MID(CV$27,5,4)&$A40,Lista_Ubigeo!$J:$K,2,0),\" \")","v":"TATE"},{"$f":"IFERROR(VLOOKUP(MID(CW$27,5,4)&$A40,Lista_Ubigeo!$J:$K,2,0),\" \")","v":" "},{"$f":"IFERROR(VLOOKUP(MID(CX$27,5,4)&$A40,Lista_Ubigeo!$J:$K,2,0),\" \")","v":" "},{"$f":"IFERROR(VLOOKUP(MID(CY$27,5,4)&$A40,Lista_Ubigeo!$J:$K,2,0),\" \")","v":" "},{"$f":"IFERROR(VLOOKUP(MID(CZ$27,5,4)&$A40,Lista_Ubigeo!$J:$K,2,0),\" \")","v":" "},"HUANCAN",{"$f":"IFERROR(VLOOKUP(MID(DB$27,5,4)&$A40,Lista_Ubigeo!$J:$K,2,0),\" \")","v":"ORCOTUNA"},{"$f":"IFERROR(VLOOKUP(MID(DC$27,5,4)&$A40,Lista_Ubigeo!$J:$K,2,0),\" \")","v":" "},{"$f":"IFERROR(VLOOKUP(MID(DD$27,5,4)&$A40,Lista_Ubigeo!$J:$K,2,0),\" \")","v":"LEONOR ORDOÑEZ"},{"$f":"IFERROR(VLOOKUP(MID(DE$27,5,4)&$A40,Lista_Ubigeo!$J:$K,2,0),\" \")","v":" "},{"$f":"IFERROR(VLOOKUP(MID(DF$27,5,4)&$A40,Lista_Ubigeo!$J:$K,2,0),\" \")","v":" "},{"$f":"IFERROR(VLOOKUP(MID(DG$27,5,4)&$A40,Lista_Ubigeo!$J:$K,2,0),\" \")","v":" "},{"$f":"IFERROR(VLOOKUP(MID(DH$27,5,4)&$A40,Lista_Ubigeo!$J:$K,2,0),\" \")","v":" "},{"$f":"IFERROR(VLOOKUP(MID(DI$27,5,4)&$A40,Lista_Ubigeo!$J:$K,2,0),\" \")","v":" "},{"$f":"IFERROR(VLOOKUP(MID(DJ$27,5,4)&$A40,Lista_Ubigeo!$J:$K,2,0),\" \")","v":" "},{"$f":"IFERROR(VLOOKUP(MID(DK$27,5,4)&$A40,Lista_Ubigeo!$J:$K,2,0),\" \")","v":" "},{"$f":"IFERROR(VLOOKUP(MID(DL$27,5,4)&$A40,Lista_Ubigeo!$J:$K,2,0),\" \")","v":" "},{"$f":"IFERROR(VLOOKUP(MID(DM$27,5,4)&$A40,Lista_Ubigeo!$J:$K,2,0),\" \")","v":" "},{"$f":"IFERROR(VLOOKUP(MID(DN$27,5,4)&$A40,Lista_Ubigeo!$J:$K,2,0),\" \")","v":" "},null,{"$f":"IFERROR(VLOOKUP(MID(DP$27,5,4)&$A40,Lista_Ubigeo!$J:$K,2,0),\" \")","v":" "},{"$f":"IFERROR(VLOOKUP(MID(DQ$27,5,4)&$A40,Lista_Ubigeo!$J:$K,2,0),\" \")","v":"URPAY"},{"$f":"IFERROR(VLOOKUP(MID(DR$27,5,4)&$A40,Lista_Ubigeo!$J:$K,2,0),\" \")","v":" "},{"$f":"IFERROR(VLOOKUP(MID(DS$27,5,4)&$A40,Lista_Ubigeo!$J:$K,2,0),\" \")","v":" "},null,null,{"$f":"IFERROR(VLOOKUP(MID(DV$27,5,4)&$A40,Lista_Ubigeo!$J:$K,2,0),\" \")","v":"REQUE"},{"$f":"IFERROR(VLOOKUP(MID(DW$27,5,4)&$A40,Lista_Ubigeo!$J:$K,2,0),\" \")","v":" "},{"$f":"IFERROR(VLOOKUP(MID(DX$27,5,4)&$A40,Lista_Ubigeo!$J:$K,2,0),\" \")","v":" "},{"$f":"IFERROR(VLOOKUP(MID(DY$27,5,4)&$A40,Lista_Ubigeo!$J:$K,2,0),\" \")","v":"JESUS MARIA"},{"$f":"IFERROR(VLOOKUP(MID(DZ$27,5,4)&$A40,Lista_Ubigeo!$J:$K,2,0),\" \")","v":" "},{"$f":"IFERROR(VLOOKUP(MID(EA$27,5,4)&$A40,Lista_Ubigeo!$J:$K,2,0),\" \")","v":" "},{"$f":"IFERROR(VLOOKUP(MID(EB$27,5,4)&$A40,Lista_Ubigeo!$J:$K,2,0),\" \")","v":" "},{"$f":"IFERROR(VLOOKUP(MID(EC$27,5,4)&$A40,Lista_Ubigeo!$J:$K,2,0),\" \")","v":"SAN ANTONIO"},{"$f":"IFERROR(VLOOKUP(MID(ED$27,5,4)&$A40,Lista_Ubigeo!$J:$K,2,0),\" \")","v":" "},{"$f":"IFERROR(VLOOKUP(MID(EE$27,5,4)&$A40,Lista_Ubigeo!$J:$K,2,0),\" \")","v":"MARIATANA"},{"$f":"IFERROR(VLOOKUP(MID(EF$27,5,4)&$A40,Lista_Ubigeo!$J:$K,2,0),\" \")","v":" "},{"$f":"IFERROR(VLOOKUP(MID(EG$27,5,4)&$A40,Lista_Ubigeo!$J:$K,2,0),\" \")","v":" "},{"$f":"IFERROR(VLOOKUP(MID(EH$27,5,4)&$A40,Lista_Ubigeo!$J:$K,2,0),\" \")","v":"HUAMPARA"},null,{"$f":"IFERROR(VLOOKUP(MID(EJ$27,5,4)&$A45,Lista_Ubigeo!$J:$K,2,0),\" \")","v":" "},{"$f":"IFERROR(VLOOKUP(MID(EK$27,5,4)&$A40,Lista_Ubigeo!$J:$K,2,0),\" \")","v":" "},{"$f":"IFERROR(VLOOKUP(MID(EL$27,5,4)&$A40,Lista_Ubigeo!$J:$K,2,0),\" \")","v":" "},{"$f":"IFERROR(VLOOKUP(MID(EM$27,5,4)&$A40,Lista_Ubigeo!$J:$K,2,0),\" \")","v":" "},{"$f":"IFERROR(VLOOKUP(MID(EN$27,5,4)&$A40,Lista_Ubigeo!$J:$K,2,0),\" \")","v":" "},{"$f":"IFERROR(VLOOKUP(MID(EO$27,5,4)&$A40,Lista_Ubigeo!$J:$K,2,0),\" \")","v":" "},{"$f":"IFERROR(VLOOKUP(MID(EP$27,5,4)&$A40,Lista_Ubigeo!$J:$K,2,0),\" \")","v":" "},{"$f":"IFERROR(VLOOKUP(MID(EQ$27,5,4)&$A40,Lista_Ubigeo!$J:$K,2,0),\" \")","v":" "},{"$f":"IFERROR(VLOOKUP(MID(ER$27,5,4)&$A40,Lista_Ubigeo!$J:$K,2,0),\" \")","v":" "},{"$f":"IFERROR(VLOOKUP(MID(ES$27,5,4)&$A40,Lista_Ubigeo!$J:$K,2,0),\" \")","v":" "},{"$f":"IFERROR(VLOOKUP(MID(ET$27,5,4)&$A40,Lista_Ubigeo!$J:$K,2,0),\" \")","v":" "},{"$f":"IFERROR(VLOOKUP(MID(EU$27,5,4)&$A40,Lista_Ubigeo!$J:$K,2,0),\" \")","v":" "},{"$f":"IFERROR(VLOOKUP(MID(EV$27,5,4)&$A40,Lista_Ubigeo!$J:$K,2,0),\" \")","v":" "},{"$f":"IFERROR(VLOOKUP(MID(EW$27,5,4)&$A40,Lista_Ubigeo!$J:$K,2,0),\" \")","v":"YANACANCHA"},{"$f":"IFERROR(VLOOKUP(MID(EX$27,5,4)&$A40,Lista_Ubigeo!$J:$K,2,0),\" \")","v":" "},{"$f":"IFERROR(VLOOKUP(MID(EY$27,5,4)&$A40,Lista_Ubigeo!$J:$K,2,0),\" \")","v":" "},{"$f":"IFERROR(VLOOKUP(MID(EZ$27,5,4)&$A43,Lista_Ubigeo!$J:$K,2,0),\" \")","v":" "},{"$f":"IFERROR(VLOOKUP(MID(FA$27,5,4)&$A40,Lista_Ubigeo!$J:$K,2,0),\" \")","v":" "},{"$f":"IFERROR(VLOOKUP(MID(FB$27,5,4)&$A40,Lista_Ubigeo!$J:$K,2,0),\" \")","v":" "},{"$f":"IFERROR(VLOOKUP(MID(FC$27,5,4)&$A40,Lista_Ubigeo!$J:$K,2,0),\" \")","v":" "},{"$f":"IFERROR(VLOOKUP(MID(FD$27,5,4)&$A40,Lista_Ubigeo!$J:$K,2,0),\" \")","v":" "},{"$f":"IFERROR(VLOOKUP(MID(FE$27,5,4)&$A40,Lista_Ubigeo!$J:$K,2,0),\" \")","v":" "},{"$f":"IFERROR(VLOOKUP(MID(FF$27,5,4)&$A40,Lista_Ubigeo!$J:$K,2,0),\" \")","v":" "},{"$f":"IFERROR(VLOOKUP(MID(FG$27,5,4)&$A40,Lista_Ubigeo!$J:$K,2,0),\" \")","v":" "},{"$f":"IFERROR(VLOOKUP(MID(FH$27,5,4)&$A40,Lista_Ubigeo!$J:$K,2,0),\" \")","v":"SAN ANTONIO"},{"$f":"IFERROR(VLOOKUP(MID(FI$27,5,4)&$A40,Lista_Ubigeo!$J:$K,2,0),\" \")","v":"SAN JUAN DE SALINAS"},{"$f":"IFERROR(VLOOKUP(MID(FJ$27,5,4)&$A40,Lista_Ubigeo!$J:$K,2,0),\" \")","v":" "},{"$f":"IFERROR(VLOOKUP(MID(FK$27,5,4)&$A40,Lista_Ubigeo!$J:$K,2,0),\" \")","v":" "},{"$f":"IFERROR(VLOOKUP(MID(FL$27,5,4)&$A40,Lista_Ubigeo!$J:$K,2,0),\" \")","v":" "},{"$f":"IFERROR(VLOOKUP(MID(FM$27,5,4)&$A40,Lista_Ubigeo!$J:$K,2,0),\" \")","v":" "},{"$f":"IFERROR(VLOOKUP(MID(FN$27,5,4)&$A40,Lista_Ubigeo!$J:$K,2,0),\" \")","v":" "},{"$f":"IFERROR(VLOOKUP(MID(FO$27,5,4)&$A40,Lista_Ubigeo!$J:$K,2,0),\" \")","v":" "},{"$f":"IFERROR(VLOOKUP(MID(FP$27,5,4)&$A40,Lista_Ubigeo!$J:$K,2,0),\" \")","v":" "},{"$f":"IFERROR(VLOOKUP(MID(FQ$27,5,4)&$A40,Lista_Ubigeo!$J:$K,2,0),\" \")","v":" "},{"$f":"IFERROR(VLOOKUP(MID(FR$27,5,4)&$A40,Lista_Ubigeo!$J:$K,2,0),\" \")","v":" "},{"$f":"IFERROR(VLOOKUP(MID(FS$27,5,4)&$A40,Lista_Ubigeo!$J:$K,2,0),\" \")","v":" "},{"$f":"IFERROR(VLOOKUP(MID(FT$27,5,4)&$A40,Lista_Ubigeo!$J:$K,2,0),\" \")","v":" "},{"$f":"IFERROR(VLOOKUP(MID(FU$27,5,4)&$A40,Lista_Ubigeo!$J:$K,2,0),\" \")","v":" "},{"$f":"IFERROR(VLOOKUP(MID(FV$27,5,4)&$A40,Lista_Ubigeo!$J:$K,2,0),\" \")","v":" "},{"$f":"IFERROR(VLOOKUP(MID(FW$27,5,4)&$A40,Lista_Ubigeo!$J:$K,2,0),\" \")","v":" "},{"$f":"IFERROR(VLOOKUP(MID(FX$27,5,4)&$A40,Lista_Ubigeo!$J:$K,2,0),\" \")","v":" "},{"$f":"IFERROR(VLOOKUP(MID(FY$27,5,4)&$A40,Lista_Ubigeo!$J:$K,2,0),\" \")","v":" "},{"$f":"IFERROR(VLOOKUP(MID(FZ$27,5,4)&$A40,Lista_Ubigeo!$J:$K,2,0),\" \")","v":" "},{"$f":"IFERROR(VLOOKUP(MID(GA$27,5,4)&$A40,Lista_Ubigeo!$J:$K,2,0),\" \")","v":" "},{"$f":"IFERROR(VLOOKUP(MID(GB$27,5,4)&$A40,Lista_Ubigeo!$J:$K,2,0),\" \")","v":" "},{"$f":"IFERROR(VLOOKUP(MID(GC$27,5,4)&$A40,Lista_Ubigeo!$J:$K,2,0),\" \")","v":"SAUCE"},{"$f":"IFERROR(VLOOKUP(MID(GD$27,5,4)&$A40,Lista_Ubigeo!$J:$K,2,0),\" \")","v":" "},{"$f":"IFERROR(VLOOKUP(MID(GE$27,5,4)&$A40,Lista_Ubigeo!$J:$K,2,0),\" \")","v":" "},{"$f":"IFERROR(VLOOKUP(MID(GF$27,5,4)&$A40,Lista_Ubigeo!$J:$K,2,0),\" \")","v":" "},{"$f":"IFERROR(VLOOKUP(MID(GG$27,5,4)&$A40,Lista_Ubigeo!$J:$K,2,0),\" \")","v":" "},{"$f":"IFERROR(VLOOKUP(MID(GH$27,5,4)&$A40,Lista_Ubigeo!$J:$K,2,0),\" \")","v":" "},{"$f":"IFERROR(VLOOKUP(MID(GI$27,5,4)&$A40,Lista_Ubigeo!$J:$K,2,0),\" \")","v":" "},{"$f":"IFERROR(VLOOKUP(MID(GJ$27,5,4)&$A40,Lista_Ubigeo!$J:$K,2,0),\" \")","v":" "},{"$f":"IFERROR(VLOOKUP(MID(GK$27,5,4)&$A40,Lista_Ubigeo!$J:$K,2,0),\" \")","v":" "},{"$f":"IFERROR(VLOOKUP(MID(GL$27,5,4)&$A40,Lista_Ubigeo!$J:$K,2,0),\" \")","v":" "},{"$f":"IFERROR(VLOOKUP(MID(GM$27,5,4)&$A40,Lista_Ubigeo!$J:$K,2,0),\" \")","v":" "},{"$f":"IFERROR(VLOOKUP(MID(GN$27,5,4)&$A40,Lista_Ubigeo!$J:$K,2,0),\" \")","v":" "},{"$f":"IFERROR(VLOOKUP(MID(GO$27,5,4)&$A40,Lista_Ubigeo!$J:$K,2,0),\" \")","v":" "},{"$f":"IFERROR(VLOOKUP(MID(GP$27,5,4)&$A40,Lista_Ubigeo!$J:$K,2,0),\" \")","v":"SAN JUAN DE SALINAS"}]
["14",{"$f":"IFERROR(VLOOKUP(MID(B$27,5,4)&$A41,Lista_Ubigeo!$J:$K,2,0),\" \")","v":"MOLINOPAMPA"},{"$f":"IFERROR(VLOOKUP(MID(C$27,5,4)&$A41,Lista_Ubigeo!$J:$K,2,0),\" \")","v":" "},{"$f":"IFERROR(VLOOKUP(MID(D$27,5,4)&$A41,Lista_Ubigeo!$J:$K,2,0),\" \")","v":" "},{"$f":"IFERROR(VLOOKUP(MID(E$27,5,4)&$A41,Lista_Ubigeo!$J:$K,2,0),\" \")","v":" "},{"$f":"IFERROR(VLOOKUP(MID(F$27,5,4)&$A41,Lista_Ubigeo!$J:$K,2,0),\" \")","v":"PISUQUIA"},{"$f":"IFERROR(VLOOKUP(MID(G$27,5,4)&$A41,Lista_Ubigeo!$J:$K,2,0),\" \")","v":" "},{"$f":"IFERROR(VLOOKUP(MID(H$27,5,4)&$A41,Lista_Ubigeo!$J:$K,2,0),\" \")","v":" "},{"$f":"IFERROR(VLOOKUP(MID(I$27,5,4)&$A41,Lista_Ubigeo!$J:$K,2,0),\" \")","v":" "},{"$f":"IFERROR(VLOOKUP(MID(J$27,5,4)&$A41,Lista_Ubigeo!$J:$K,2,0),\" \")","v":" "},{"$f":"IFERROR(VLOOKUP(MID(K$27,5,4)&$A41,Lista_Ubigeo!$J:$K,2,0),\" \")","v":" "},{"$f":"IFERROR(VLOOKUP(MID(L$27,5,4)&$A41,Lista_Ubigeo!$J:$K,2,0),\" \")","v":" "},{"$f":"IFERROR(VLOOKUP(MID(M$27,5,4)&$A41,Lista_Ubigeo!$J:$K,2,0),\" \")","v":"SAN MIGUEL DE CORPANQUI"},{"$f":"IFERROR(VLOOKUP(MID(N$27,5,4)&$A41,Lista_Ubigeo!$J:$K,2,0),\" \")","v":" "},{"$f":"IFERROR(VLOOKUP(MID(O$27,5,4)&$A41,Lista_Ubigeo!$J:$K,2,0),\" \")","v":" "},{"$f":"IFERROR(VLOOKUP(MID(P$27,5,4)&$A41,Lista_Ubigeo!$J:$K,2,0),\" \")","v":" "},{"$f":"IFERROR(VLOOKUP(MID(Q$27,5,4)&$A41,Lista_Ubigeo!$J:$K,2,0),\" \")","v":" "},{"$f":"IFERROR(VLOOKUP(MID(R$27,5,4)&$A41,Lista_Ubigeo!$J:$K,2,0),\" \")","v":"SAN MARCOS"},{"$f":"IFERROR(VLOOKUP(MID(S$27,5,4)&$A41,Lista_Ubigeo!$J:$K,2,0),\" \")","v":" "},{"$f":"IFERROR(VLOOKUP(MID(T$27,5,4)&$A41,Lista_Ubigeo!$J:$K,2,0),\" \")","v":" "},{"$f":"IFERROR(VLOOKUP(MID(U$27,5,4)&$A41,Lista_Ubigeo!$J:$K,2,0),\" \")","v":" "},{"$f":"IFERROR(VLOOKUP(MID(V$27,5,4)&$A41,Lista_Ubigeo!$J:$K,2,0),\" \")","v":" "},{"$f":"IFERROR(VLOOKUP(MID(W$27,5,4)&$A41,Lista_Ubigeo!$J:$K,2,0),\" \")","v":" "},{"$f":"IFERROR(VLOOKUP(MID(X$27,5,4)&$A41,Lista_Ubigeo!$J:$K,2,0),\" \")","v":" "},{"$f":"IFERROR(VLOOKUP(MID(Y$27,5,4)&$A41,Lista_Ubigeo!$J:$K,2,0),\" \")","v":" "},{"$f":"IFERROR(VLOOKUP(MID(Z$27,5,4)&$A41,Lista_Ubigeo!$J:$K,2,0),\" \")","v":" "},{"$f":"IFERROR(VLOOKUP(MID(AA$27,5,4)&$A41,Lista_Ubigeo!$J:$K,2,0),\" \")","v":" "},{"$f":"IFERROR(VLOOKUP(MID(AB$27,5,4)&$A41,Lista_Ubigeo!$J:$K,2,0),\" \")","v":" "},{"$f":"IFERROR(VLOOKUP(MID(AC$27,5,4)&$A41,Lista_Ubigeo!$J:$K,2,0),\" \")","v":" "},{"$f":"IFERROR(VLOOKUP(MID(AD$27,5,4)&$A41,Lista_Ubigeo!$J:$K,2,0),\" \")","v":"SAN MIGUEL DE CHACCRAMPA"},{"$f":"IFERROR(VLOOKUP(MID(AE$27,5,4)&$A41,Lista_Ubigeo!$J:$K,2,0),\" \")","v":" "},{"$f":"IFERROR(VLOOKUP(MID(AF$27,5,4)&$A41,Lista_Ubigeo!$J:$K,2,0),\" \")","v":"TAPAIRIHUA"},{"$f":"IFERROR(VLOOKUP(MID(AG$27,5,4)&$A41,Lista_Ubigeo!$J:$K,2,0),\" \")","v":" "},{"$f":"IFERROR(VLOOKUP(MID(AH$27,5,4)&$A41,Lista_Ubigeo!$J:$K,2,0),\" \")","v":" "},{"$f":"IFERROR(VLOOKUP(MID(AI$27,5,4)&$A41,Lista_Ubigeo!$J:$K,2,0),\" \")","v":"CURASCO"},{"$f":"IFERROR(VLOOKUP(MID(AJ$27,5,4)&$A41,Lista_Ubigeo!$J:$K,2,0),\" \")","v":"POLOBAYA"},{"$f":"IFERROR(VLOOKUP(MID(AK$27,5,4)&$A41,Lista_Ubigeo!$J:$K,2,0),\" \")","v":" "},{"$f":"IFERROR(VLOOKUP(MID(AL$27,5,4)&$A41,Lista_Ubigeo!$J:$K,2,0),\" \")","v":" "},{"$f":"IFERROR(VLOOKUP(MID(AM$27,5,4)&$A41,Lista_Ubigeo!$J:$K,2,0),\" \")","v":"VIRACO"},{"$f":"IFERROR(VLOOKUP(MID(AN$27,5,4)&$A41,Lista_Ubigeo!$J:$K,2,0),\" \")","v":"SAN ANTONIO DE CHUCA"},{"$f":"IFERROR(VLOOKUP(MID(AO$27,5,4)&$A41,Lista_Ubigeo!$J:$K,2,0),\" \")","v":" "},{"$f":"IFERROR(VLOOKUP(MID(AP$27,5,4)&$A41,Lista_Ubigeo!$J:$K,2,0),\" \")","v":" "},{"$f":"IFERROR(VLOOKUP(MID(AQ$27,4,4)&$A41,Lista_Ubigeo!$J:$K,2,0),\" \")","v":" "},{"$f":"IFERROR(VLOOKUP(MID(AR$27,5,4)&$A41,Lista_Ubigeo!$J:$K,2,0),\" \")","v":"VINCHOS"},{"$f":"IFERROR(VLOOKUP(MID(AS$27,5,4)&$A41,Lista_Ubigeo!$J:$K,2,0),\" \")","v":" "},{"$f":"IFERROR(VLOOKUP(MID(AT$27,5,4)&$A41,Lista_Ubigeo!$J:$K,2,0),\" \")","v":" "},{"$f":"IFERROR(VLOOKUP(MID(AU$27,5,4)&$A41,Lista_Ubigeo!$J:$K,2,0),\" \")","v":" "},{"$f":"IFERROR(VLOOKUP(MID(AV$27,5,4)&$A41,Lista_Ubigeo!$J:$K,2,0),\" \")","v":" "},{"$f":"IFERROR(VLOOKUP(MID(AW$27,5,4)&$A41,Lista_Ubigeo!$J:$K,2,0),\" \")","v":"SAISA"},{"$f":"IFERROR(VLOOKUP(MID(AX$27,5,4)&$A41,Lista_Ubigeo!$J:$K,2,0),\" \")","v":" "},{"$f":"IFERROR(VLOOKUP(MID(AY$27,5,4)&$A41,Lista_Ubigeo!$J:$K,2,0),\" \")","v":" "},{"$f":"IFERROR(VLOOKUP(MID(AZ$27,5,4)&$A41,Lista_Ubigeo!$J:$K,2,0),\" \")","v":" "},{"$f":"IFERROR(VLOOKUP(MID(BA$27,5,4)&$A41,Lista_Ubigeo!$J:$K,2,0),\" \")","v":" "},{"$f":"IFERROR(VLOOKUP(MID(BB$27,5,4)&$A41,Lista_Ubigeo!$J:$K,2,0),\" \")","v":" "},{"$f":"IFERROR(VLOOKUP(MID(BC$27,5,4)&$A41,Lista_Ubigeo!$J:$K,2,0),\" \")","v":" "},{"$f":"IFERROR(VLOOKUP(MID(BD$27,5,4)&$A41,Lista_Ubigeo!$J:$K,2,0),\" \")","v":" "},{"$f":"IFERROR(VLOOKUP(MID(BE$27,5,4)&$A41,Lista_Ubigeo!$J:$K,2,0),\" \")","v":" "},{"$f":"IFERROR(VLOOKUP(MID(BF$27,5,4)&$A41,Lista_Ubigeo!$J:$K,2,0),\" \")","v":"PION"},{"$f":"IFERROR(VLOOKUP(MID(BG$27,5,4)&$A41,Lista_Ubigeo!$J:$K,2,0),\" \")","v":" "},{"$f":"IFERROR(VLOOKUP(MID(BH$27,5,4)&$A41,Lista_Ubigeo!$J:$K,2,0),\" \")","v":"SOCOTA"},{"$f":"IFERROR(VLOOKUP(MID(BI$27,5,4)&$A41,Lista_Ubigeo!$J:$K,2,0),\" \")","v":" "},{"$f":"IFERROR(VLOOKUP(MID(BJ$27,5,4)&$A41,Lista_Ubigeo!$J:$K,2,0),\" \")","v":" "},{"$f":"IFERROR(VLOOKUP(MID(BK$27,5,4)&$A41,Lista_Ubigeo!$J:$K,2,0),\" \")","v":" "},{"$f":"IFERROR(VLOOKUP(MID(BL$27,5,4)&$A41,Lista_Ubigeo!$J:$K,2,0),\" \")","v":" "},{"$f":"IFERROR(VLOOKUP(MID(BM$27,5,4)&$A41,Lista_Ubigeo!$J:$K,2,0),\" \")","v":" "},{"$f":"IFERROR(VLOOKUP(MID(BN$27,5,4)&$A41,Lista_Ubigeo!$J:$K,2,0),\" \")","v":" "},{"$f":"IFERROR(VLOOKUP(MID(BO$27,5,4)&$A41,Lista_Ubigeo!$J:$K,2,0),\" \")","v":" "},{"$f":"IFERROR(VLOOKUP(MID(BP$27,5,4)&$A41,Lista_Ubigeo!$J:$K,2,0),\" \")","v":" "},{"$f":"IFERROR(VLOOKUP(MID(BQ$27,5,4)&$A41,Lista_Ubigeo!$J:$K,2,0),\" \")","v":" "},{"$f":"IFERROR(VLOOKUP(MID(BR$27,5,4)&$A41,Lista_Ubigeo!$J:$K,2,0),\" \")","v":" "},{"$f":"IFERROR(VLOOKUP(MID(BS$27,5,4)&$A41,Lista_Ubigeo!$J:$K,2,0),\" \")","v":" "},{"$f":"IFERROR(VLOOKUP(MID(BT$27,5,4)&$A41,Lista_Ubigeo!$J:$K,2,0),\" \")","v":" "},{"$f":"IFERROR(VLOOKUP(MID(BU$27,5,4)&$A41,Lista_Ubigeo!$J:$K,2,0),\" \")","v":" "},{"$f":"IFERROR(VLOOKUP(MID(BV$27,5,4)&$A41,Lista_Ubigeo!$J:$K,2,0),\" \")","v":" "},{"$f":"IFERROR(VLOOKUP(MID(BW$27,5,4)&$A41,Lista_Ubigeo!$J:$K,2,0),\" \")","v":" "},{"$f":"IFERROR(VLOOKUP(MID(BX$27,5,4)&$A41,Lista_Ubigeo!$J:$K,2,0),\" \")","v":" "},{"$f":"IFERROR(VLOOKUP(MID(BY$27,4,4)&$A41,Lista_Ubigeo!$J:$K,2,0),\" \")","v":"MEGANTONI"},{"$f":"IFERROR(VLOOKUP(MID(BZ$27,5,4)&$A41,Lista_Ubigeo!$J:$K,2,0),\" \")","v":" "},{"$f":"IFERROR(VLOOKUP(MID(CA$27,5,4)&$A41,Lista_Ubigeo!$J:$K,2,0),\" \")","v":" "},{"$f":"IFERROR(VLOOKUP(MID(CB$27,5,4)&$A41,Lista_Ubigeo!$J:$K,2,0),\" \")","v":" "},{"$f":"IFERROR(VLOOKUP(MID(CC$27,5,4)&$A41,Lista_Ubigeo!$J:$K,2,0),\" \")","v":" "},{"$f":"IFERROR(VLOOKUP(MID(CD$27,5,4)&$A41,Lista_Ubigeo!$J:$K,2,0),\" \")","v":"PALCA"},{"$f":"IFERROR(VLOOKUP(MID(CE$27,5,4)&$A41,Lista_Ubigeo!$J:$K,2,0),\" \")","v":" "},{"$f":"IFERROR(VLOOKUP(MID(CF$27,5,4)&$A41,Lista_Ubigeo!$J:$K,2,0),\" \")","v":" "},{"$f":"IFERROR(VLOOKUP(MID(CG$27,5,4)&$A41,Lista_Ubigeo!$J:$K,2,0),\" \")","v":" "},{"$f":"IFERROR(VLOOKUP(MID(CH$27,5,4)&$A41,Lista_Ubigeo!$J:$K,2,0),\" \")","v":" "},{"$f":"IFERROR(VLOOKUP(MID(CI$27,5,4)&$A41,Lista_Ubigeo!$J:$K,2,0),\" \")","v":"SANTIAGO DE QUIRAHUARA"},"SAN MARCOS DE ROCCHAC",{"$f":"IFERROR(VLOOKUP(MID(CK$27,5,4)&$A41,Lista_Ubigeo!$J:$K,2,0),\" \")","v":" "},{"$f":"IFERROR(VLOOKUP(MID(CL$27,5,4)&$A41,Lista_Ubigeo!$J:$K,2,0),\" \")","v":" "},{"$f":"IFERROR(VLOOKUP(MID(CM$27,5,4)&$A52,Lista_Ubigeo!$J:$K,2,0),\" \")","v":" "},{"$f":"IFERROR(VLOOKUP(MID(CN$27,5,4)&$A41,Lista_Ubigeo!$J:$K,2,0),\" \")","v":" "},{"$f":"IFERROR(VLOOKUP(MID(CO$27,5,4)&$A41,Lista_Ubigeo!$J:$K,2,0),\" \")","v":" "},{"$f":"IFERROR(VLOOKUP(MID(CP$27,5,4)&$A41,Lista_Ubigeo!$J:$K,2,0),\" \")","v":" "},{"$f":"IFERROR(VLOOKUP(MID(CQ$27,5,4)&$A41,Lista_Ubigeo!$J:$K,2,0),\" \")","v":" "},{"$f":"IFERROR(VLOOKUP(MID(CR$27,5,4)&$A41,Lista_Ubigeo!$J:$K,2,0),\" \")","v":" "},{"$f":"IFERROR(VLOOKUP(MID(CS$27,5,4)&$A41,Lista_Ubigeo!$J:$K,2,0),\" \")","v":" "},{"$f":"IFERROR(VLOOKUP(MID(CT$27,5,4)&$A41,Lista_Ubigeo!$J:$K,2,0),\" \")","v":" "},{"$f":"IFERROR(VLOOKUP(MID(CU$27,5,4)&$A41,Lista_Ubigeo!$J:$K,2,0),\" \")","v":" "},{"$f":"IFERROR(VLOOKUP(MID(CV$27,5,4)&$A41,Lista_Ubigeo!$J:$K,2,0),\" \")","v":"YAUCA DEL ROSARIO"},{"$f":"IFERROR(VLOOKUP(MID(CW$27,5,4)&$A41,Lista_Ubigeo!$J:$K,2,0),\" \")","v":" "},{"$f":"IFERROR(VLOOKUP(MID(CX$27,5,4)&$A41,Lista_Ubigeo!$J:$K,2,0),\" \")","v":" "},{"$f":"IFERROR(VLOOKUP(MID(CY$27,5,4)&$A41,Lista_Ubigeo!$J:$K,2,0),\" \")","v":" "},{"$f":"IFERROR(VLOOKUP(MID(CZ$27,5,4)&$A41,Lista_Ubigeo!$J:$K,2,0),\" \")","v":" "},"HUASICANCHA",{"$f":"IFERROR(VLOOKUP(MID(DB$27,5,4)&$A41,Lista_Ubigeo!$J:$K,2,0),\" \")","v":"SAN JOSE DE QUERO"},{"$f":"IFERROR(VLOOKUP(MID(DC$27,5,4)&$A41,Lista_Ubigeo!$J:$K,2,0),\" \")","v":" "},{"$f":"IFERROR(VLOOKUP(MID(DD$27,5,4)&$A41,Lista_Ubigeo!$J:$K,2,0),\" \")","v":"LLOCLLAPAMPA"},{"$f":"IFERROR(VLOOKUP(MID(DE$27,5,4)&$A41,Lista_Ubigeo!$J:$K,2,0),\" \")","v":" "},{"$f":"IFERROR(VLOOKUP(MID(DF$27,5,4)&$A41,Lista_Ubigeo!$J:$K,2,0),\" \")","v":" "},{"$f":"IFERROR(VLOOKUP(MID(DG$27,5,4)&$A41,Lista_Ubigeo!$J:$K,2,0),\" \")","v":" "},{"$f":"IFERROR(VLOOKUP(MID(DH$27,5,4)&$A41,Lista_Ubigeo!$J:$K,2,0),\" \")","v":" "},{"$f":"IFERROR(VLOOKUP(MID(DI$27,5,4)&$A41,Lista_Ubigeo!$J:$K,2,0),\" \")","v":" "},{"$f":"IFERROR(VLOOKUP(MID(DJ$27,5,4)&$A41,Lista_Ubigeo!$J:$K,2,0),\" \")","v":" "},{"$f":"IFERROR(VLOOKUP(MID(DK$27,5,4)&$A41,Lista_Ubigeo!$J:$K,2,0),\" \")","v":" "},{"$f":"IFERROR(VLOOKUP(MID(DL$27,5,4)&$A41,Lista_Ubigeo!$J:$K,2,0),\" \")","v":" "},{"$f":"IFERROR(VLOOKUP(MID(DM$27,5,4)&$A41,Lista_Ubigeo!$J:$K,2,0),\" \")","v":" "},{"$f":"IFERROR(VLOOKUP(MID(DN$27,5,4)&$A41,Lista_Ubigeo!$J:$K,2,0),\" \")","v":" "},{"$f":"IFERROR(VLOOKUP(MID(DO$27,5,4)&$A42,Lista_Ubigeo!$J:$K,2,0),\" \")","v":" "},{"$f":"IFERROR(VLOOKUP(MID(DP$27,5,4)&$A41,Lista_Ubigeo!$J:$K,2,0),\" \")","v":" "},{"$f":"IFERROR(VLOOKUP(MID(DQ$27,5,4)&$A41,Lista_Ubigeo!$J:$K,2,0),\" \")","v":" "},{"$f":"IFERROR(VLOOKUP(MID(DR$27,5,4)&$A41,Lista_Ubigeo!$J:$K,2,0),\" \")","v":" "},{"$f":"IFERROR(VLOOKUP(MID(DS$27,5,4)&$A41,Lista_Ubigeo!$J:$K,2,0),\" \")","v":" "},null,null,{"$f":"IFERROR(VLOOKUP(MID(DV$27,5,4)&$A41,Lista_Ubigeo!$J:$K,2,0),\" \")","v":"SANTA ROSA"},{"$f":"IFERROR(VLOOKUP(MID(DW$27,5,4)&$A41,Lista_Ubigeo!$J:$K,2,0),\" \")","v":" "},{"$f":"IFERROR(VLOOKUP(MID(DX$27,5,4)&$A41,Lista_Ubigeo!$J:$K,2,0),\" \")","v":" "},{"$f":"IFERROR(VLOOKUP(MID(DY$27,5,4)&$A41,Lista_Ubigeo!$J:$K,2,0),\" \")","v":"LA MOLINA"},{"$f":"IFERROR(VLOOKUP(MID(DZ$27,5,4)&$A41,Lista_Ubigeo!$J:$K,2,0),\" \")","v":" "},{"$f":"IFERROR(VLOOKUP(MID(EA$27,5,4)&$A41,Lista_Ubigeo!$J:$K,2,0),\" \")","v":" "},{"$f":"IFERROR(VLOOKUP(MID(EB$27,5,4)&$A41,Lista_Ubigeo!$J:$K,2,0),\" \")","v":" "},{"$f":"IFERROR(VLOOKUP(MID(EC$27,5,4)&$A41,Lista_Ubigeo!$J:$K,2,0),\" \")","v":"SAN LUIS"},{"$f":"IFERROR(VLOOKUP(MID(ED$27,5,4)&$A41,Lista_Ubigeo!$J:$K,2,0),\" \")","v":" "},{"$f":"IFERROR(VLOOKUP(MID(EE$27,5,4)&$A41,Lista_Ubigeo!$J:$K,2,0),\" \")","v":"RICARDO PALMA"},{"$f":"IFERROR(VLOOKUP(MID(EF$27,5,4)&$A41,Lista_Ubigeo!$J:$K,2,0),\" \")","v":" "},{"$f":"IFERROR(VLOOKUP(MID(EG$27,5,4)&$A41,Lista_Ubigeo!$J:$K,2,0),\" \")","v":" "},{"$f":"IFERROR(VLOOKUP(MID(EH$27,5,4)&$A41,Lista_Ubigeo!$J:$K,2,0),\" \")","v":"HUANCAYA"},{"$f":"IFERROR(VLOOKUP(MID(EI$27,5,4)&$A41,Lista_Ubigeo!$J:$K,2,0),\" \")","v":" "},{"$f":"IFERROR(VLOOKUP(MID(EJ$27,5,4)&$A46,Lista_Ubigeo!$J:$K,2,0),\" \")","v":" "},{"$f":"IFERROR(VLOOKUP(MID(EK$27,5,4)&$A41,Lista_Ubigeo!$J:$K,2,0),\" \")","v":" "},{"$f":"IFERROR(VLOOKUP(MID(EL$27,5,4)&$A41,Lista_Ubigeo!$J:$K,2,0),\" \")","v":" "},{"$f":"IFERROR(VLOOKUP(MID(EM$27,5,4)&$A41,Lista_Ubigeo!$J:$K,2,0),\" \")","v":" "},{"$f":"IFERROR(VLOOKUP(MID(EN$27,5,4)&$A41,Lista_Ubigeo!$J:$K,2,0),\" \")","v":" "},{"$f":"IFERROR(VLOOKUP(MID(EO$27,5,4)&$A41,Lista_Ubigeo!$J:$K,2,0),\" \")","v":" "},{"$f":"IFERROR(VLOOKUP(MID(EP$27,5,4)&$A41,Lista_Ubigeo!$J:$K,2,0),\" \")","v":" "},{"$f":"IFERROR(VLOOKUP(MID(EQ$27,5,4)&$A41,Lista_Ubigeo!$J:$K,2,0),\" \")","v":" "},{"$f":"IFERROR(VLOOKUP(MID(ER$27,5,4)&$A41,Lista_Ubigeo!$J:$K,2,0),\" \")","v":" "},{"$f":"IFERROR(VLOOKUP(MID(ES$27,5,4)&$A41,Lista_Ubigeo!$J:$K,2,0),\" \")","v":" "},{"$f":"IFERROR(VLOOKUP(MID(ET$27,5,4)&$A41,Lista_Ubigeo!$J:$K,2,0),\" \")","v":" "},{"$f":"IFERROR(VLOOKUP(MID(EU$27,5,4)&$A41,Lista_Ubigeo!$J:$K,2,0),\" \")","v":" "},{"$f":"IFERROR(VLOOKUP(MID(EV$27,5,4)&$A41,Lista_Ubigeo!$J:$K,2,0),\" \")","v":" "},{"$f":"IFERROR(VLOOKUP(MID(EW$27,5,4)&$A41,Lista_Ubigeo!$J:$K,2,0),\" \")","v":" "},{"$f":"IFERROR(VLOOKUP(MID(EX$27,5,4)&$A41,Lista_Ubigeo!$J:$K,2,0),\" \")","v":" "},{"$f":"IFERROR(VLOOKUP(MID(EY$27,5,4)&$A41,Lista_Ubigeo!$J:$K,2,0),\" \")","v":" "},{"$f":"IFERROR(VLOOKUP(MID(EZ$27,5,4)&$A44,Lista_Ubigeo!$J:$K,2,0),\" \")","v":" "},{"$f":"IFERROR(VLOOKUP(MID(FA$27,5,4)&$A41,Lista_Ubigeo!$J:$K,2,0),\" \")","v":" "},{"$f":"IFERROR(VLOOKUP(MID(FB$27,5,4)&$A41,Lista_Ubigeo!$J:$K,2,0),\" \")","v":" "},{"$f":"IFERROR(VLOOKUP(MID(FC$27,5,4)&$A41,Lista_Ubigeo!$J:$K,2,0),\" \")","v":" "},{"$f":"IFERROR(VLOOKUP(MID(FD$27,5,4)&$A41,Lista_Ubigeo!$J:$K,2,0),\" \")","v":" "},{"$f":"IFERROR(VLOOKUP(MID(FE$27,5,4)&$A41,Lista_Ubigeo!$J:$K,2,0),\" \")","v":" "},{"$f":"IFERROR(VLOOKUP(MID(FF$27,5,4)&$A41,Lista_Ubigeo!$J:$K,2,0),\" \")","v":" "},{"$f":"IFERROR(VLOOKUP(MID(FG$27,5,4)&$A41,Lista_Ubigeo!$J:$K,2,0),\" \")","v":" "},{"$f":"IFERROR(VLOOKUP(MID(FH$27,5,4)&$A41,Lista_Ubigeo!$J:$K,2,0),\" \")","v":"TIQUILLACA"},{"$f":"IFERROR(VLOOKUP(MID(FI$27,5,4)&$A41,Lista_Ubigeo!$J:$K,2,0),\" \")","v":"SANTIAGO DE PUPUJA"},{"$f":"IFERROR(VLOOKUP(MID(FJ$27,5,4)&$A41,Lista_Ubigeo!$J:$K,2,0),\" \")","v":" "},{"$f":"IFERROR(VLOOKUP(MID(FK$27,5,4)&$A41,Lista_Ubigeo!$J:$K,2,0),\" \")","v":" "},{"$f":"IFERROR(VLOOKUP(MID(FL$27,5,4)&$A41,Lista_Ubigeo!$J:$K,2,0),\" \")","v":" "},{"$f":"IFERROR(VLOOKUP(MID(FM$27,5,4)&$A41,Lista_Ubigeo!$J:$K,2,0),\" \")","v":" "},{"$f":"IFERROR(VLOOKUP(MID(FN$27,5,4)&$A41,Lista_Ubigeo!$J:$K,2,0),\" \")","v":" "},{"$f":"IFERROR(VLOOKUP(MID(FO$27,5,4)&$A41,Lista_Ubigeo!$J:$K,2,0),\" \")","v":" "},{"$f":"IFERROR(VLOOKUP(MID(FP$27,5,4)&$A41,Lista_Ubigeo!$J:$K,2,0),\" \")","v":" "},{"$f":"IFERROR(VLOOKUP(MID(FQ$27,5,4)&$A41,Lista_Ubigeo!$J:$K,2,0),\" \")","v":" "},{"$f":"IFERROR(VLOOKUP(MID(FR$27,5,4)&$A41,Lista_Ubigeo!$J:$K,2,0),\" \")","v":" "},{"$f":"IFERROR(VLOOKUP(MID(FS$27,5,4)&$A41,Lista_Ubigeo!$J:$K,2,0),\" \")","v":" "},{"$f":"IFERROR(VLOOKUP(MID(FT$27,5,4)&$A41,Lista_Ubigeo!$J:$K,2,0),\" \")","v":" "},{"$f":"IFERROR(VLOOKUP(MID(FU$27,5,4)&$A41,Lista_Ubigeo!$J:$K,2,0),\" \")","v":" "},{"$f":"IFERROR(VLOOKUP(MID(FV$27,5,4)&$A41,Lista_Ubigeo!$J:$K,2,0),\" \")","v":" "},{"$f":"IFERROR(VLOOKUP(MID(FW$27,5,4)&$A41,Lista_Ubigeo!$J:$K,2,0),\" \")","v":" "},{"$f":"IFERROR(VLOOKUP(MID(FX$27,5,4)&$A41,Lista_Ubigeo!$J:$K,2,0),\" \")","v":" "},{"$f":"IFERROR(VLOOKUP(MID(FY$27,5,4)&$A41,Lista_Ubigeo!$J:$K,2,0),\" \")","v":" "},{"$f":"IFERROR(VLOOKUP(MID(FZ$27,5,4)&$A41,Lista_Ubigeo!$J:$K,2,0),\" \")","v":" "},{"$f":"IFERROR(VLOOKUP(MID(GA$27,5,4)&$A41,Lista_Ubigeo!$J:$K,2,0),\" \")","v":" "},{"$f":"IFERROR(VLOOKUP(MID(GB$27,5,4)&$A41,Lista_Ubigeo!$J:$K,2,0),\" \")","v":" "},{"$f":"IFERROR(VLOOKUP(MID(GC$27,5,4)&$A41,Lista_Ubigeo!$J:$K,2,0),\" \")","v":"SHAPAJA"},{"$f":"IFERROR(VLOOKUP(MID(GD$27,5,4)&$A41,Lista_Ubigeo!$J:$K,2,0),\" \")","v":" "},{"$f":"IFERROR(VLOOKUP(MID(GE$27,5,4)&$A41,Lista_Ubigeo!$J:$K,2,0),\" \")","v":" "},{"$f":"IFERROR(VLOOKUP(MID(GF$27,5,4)&$A41,Lista_Ubigeo!$J:$K,2,0),\" \")","v":" "},{"$f":"IFERROR(VLOOKUP(MID(GG$27,5,4)&$A41,Lista_Ubigeo!$J:$K,2,0),\" \")","v":" "},{"$f":"IFERROR(VLOOKUP(MID(GH$27,5,4)&$A41,Lista_Ubigeo!$J:$K,2,0),\" \")","v":" "},{"$f":"IFERROR(VLOOKUP(MID(GI$27,5,4)&$A41,Lista_Ubigeo!$J:$K,2,0),\" \")","v":" "},{"$f":"IFERROR(VLOOKUP(MID(GJ$27,5,4)&$A41,Lista_Ubigeo!$J:$K,2,0),\" \")","v":" "},{"$f":"IFERROR(VLOOKUP(MID(GK$27,5,4)&$A41,Lista_Ubigeo!$J:$K,2,0),\" \")","v":" "},{"$f":"IFERROR(VLOOKUP(MID(GL$27,5,4)&$A41,Lista_Ubigeo!$J:$K,2,0),\" \")","v":" "},{"$f":"IFERROR(VLOOKUP(MID(GM$27,5,4)&$A41,Lista_Ubigeo!$J:$K,2,0),\" \")","v":" "},{"$f":"IFERROR(VLOOKUP(MID(GN$27,5,4)&$A41,Lista_Ubigeo!$J:$K,2,0),\" \")","v":" "},{"$f":"IFERROR(VLOOKUP(MID(GO$27,5,4)&$A41,Lista_Ubigeo!$J:$K,2,0),\" \")","v":" "},{"$f":"IFERROR(VLOOKUP(MID(GP$27,5,4)&$A41,Lista_Ubigeo!$J:$K,2,0),\" \")","v":"SANTIAGO DE PUPUJA"}]
["15",{"$f":"IFERROR(VLOOKUP(MID(B$27,5,4)&$A42,Lista_Ubigeo!$J:$K,2,0),\" \")","v":"MONTEVIDEO"},{"$f":"IFERROR(VLOOKUP(MID(C$27,5,4)&$A42,Lista_Ubigeo!$J:$K,2,0),\" \")","v":" "},{"$f":"IFERROR(VLOOKUP(MID(D$27,5,4)&$A42,Lista_Ubigeo!$J:$K,2,0),\" \")","v":" "},{"$f":"IFERROR(VLOOKUP(MID(E$27,5,4)&$A42,Lista_Ubigeo!$J:$K,2,0),\" \")","v":" "},{"$f":"IFERROR(VLOOKUP(MID(F$27,5,4)&$A42,Lista_Ubigeo!$J:$K,2,0),\" \")","v":"PROVIDENCIA"},{"$f":"IFERROR(VLOOKUP(MID(G$27,5,4)&$A42,Lista_Ubigeo!$J:$K,2,0),\" \")","v":" "},{"$f":"IFERROR(VLOOKUP(MID(H$27,5,4)&$A42,Lista_Ubigeo!$J:$K,2,0),\" \")","v":" "},{"$f":"IFERROR(VLOOKUP(MID(I$27,5,4)&$A42,Lista_Ubigeo!$J:$K,2,0),\" \")","v":" "},{"$f":"IFERROR(VLOOKUP(MID(J$27,5,4)&$A42,Lista_Ubigeo!$J:$K,2,0),\" \")","v":" "},{"$f":"IFERROR(VLOOKUP(MID(K$27,5,4)&$A42,Lista_Ubigeo!$J:$K,2,0),\" \")","v":" "},{"$f":"IFERROR(VLOOKUP(MID(L$27,5,4)&$A42,Lista_Ubigeo!$J:$K,2,0),\" \")","v":" "},{"$f":"IFERROR(VLOOKUP(MID(M$27,5,4)&$A42,Lista_Ubigeo!$J:$K,2,0),\" \")","v":"TICLLOS"},{"$f":"IFERROR(VLOOKUP(MID(N$27,5,4)&$A42,Lista_Ubigeo!$J:$K,2,0),\" \")","v":" "},{"$f":"IFERROR(VLOOKUP(MID(O$27,5,4)&$A42,Lista_Ubigeo!$J:$K,2,0),\" \")","v":" "},{"$f":"IFERROR(VLOOKUP(MID(P$27,5,4)&$A42,Lista_Ubigeo!$J:$K,2,0),\" \")","v":" "},{"$f":"IFERROR(VLOOKUP(MID(Q$27,5,4)&$A42,Lista_Ubigeo!$J:$K,2,0),\" \")","v":" "},{"$f":"IFERROR(VLOOKUP(MID(R$27,5,4)&$A42,Lista_Ubigeo!$J:$K,2,0),\" \")","v":"SAN PEDRO DE CHANA"},{"$f":"IFERROR(VLOOKUP(MID(S$27,5,4)&$A42,Lista_Ubigeo!$J:$K,2,0),\" \")","v":" "},{"$f":"IFERROR(VLOOKUP(MID(T$27,5,4)&$A42,Lista_Ubigeo!$J:$K,2,0),\" \")","v":" "},{"$f":"IFERROR(VLOOKUP(MID(U$27,5,4)&$A42,Lista_Ubigeo!$J:$K,2,0),\" \")","v":" "},{"$f":"IFERROR(VLOOKUP(MID(V$27,5,4)&$A42,Lista_Ubigeo!$J:$K,2,0),\" \")","v":" "},{"$f":"IFERROR(VLOOKUP(MID(W$27,5,4)&$A42,Lista_Ubigeo!$J:$K,2,0),\" \")","v":" "},{"$f":"IFERROR(VLOOKUP(MID(X$27,5,4)&$A42,Lista_Ubigeo!$J:$K,2,0),\" \")","v":" "},{"$f":"IFERROR(VLOOKUP(MID(Y$27,5,4)&$A42,Lista_Ubigeo!$J:$K,2,0),\" \")","v":" "},{"$f":"IFERROR(VLOOKUP(MID(Z$27,5,4)&$A42,Lista_Ubigeo!$J:$K,2,0),\" \")","v":" "},{"$f":"IFERROR(VLOOKUP(MID(AA$27,5,4)&$A42,Lista_Ubigeo!$J:$K,2,0),\" \")","v":" "},{"$f":"IFERROR(VLOOKUP(MID(AB$27,5,4)&$A42,Lista_Ubigeo!$J:$K,2,0),\" \")","v":" "},{"$f":"IFERROR(VLOOKUP(MID(AC$27,5,4)&$A42,Lista_Ubigeo!$J:$K,2,0),\" \")","v":" "},{"$f":"IFERROR(VLOOKUP(MID(AD$27,5,4)&$A42,Lista_Ubigeo!$J:$K,2,0),\" \")","v":"SANTA MARIA DE CHICMO"},{"$f":"IFERROR(VLOOKUP(MID(AE$27,5,4)&$A42,Lista_Ubigeo!$J:$K,2,0),\" \")","v":" "},{"$f":"IFERROR(VLOOKUP(MID(AF$27,5,4)&$A42,Lista_Ubigeo!$J:$K,2,0),\" \")","v":"TINTAY"},{"$f":"IFERROR(VLOOKUP(MID(AG$27,5,4)&$A42,Lista_Ubigeo!$J:$K,2,0),\" \")","v":" "},{"$f":"IFERROR(VLOOKUP(MID(AH$27,5,4)&$A42,Lista_Ubigeo!$J:$K,2,0),\" \")","v":" "},{"$f":"IFERROR(VLOOKUP(MID(AI$27,5,4)&$A42,Lista_Ubigeo!$J:$K,2,0),\" \")","v":" "},{"$f":"IFERROR(VLOOKUP(MID(AJ$27,5,4)&$A42,Lista_Ubigeo!$J:$K,2,0),\" \")","v":"QUEQUEÑA"},{"$f":"IFERROR(VLOOKUP(MID(AK$27,5,4)&$A42,Lista_Ubigeo!$J:$K,2,0),\" \")","v":" "},{"$f":"IFERROR(VLOOKUP(MID(AL$27,5,4)&$A42,Lista_Ubigeo!$J:$K,2,0),\" \")","v":" "},{"$f":"IFERROR(VLOOKUP(MID(AM$27,5,4)&$A42,Lista_Ubigeo!$J:$K,2,0),\" \")","v":" "},{"$f":"IFERROR(VLOOKUP(MID(AN$27,5,4)&$A42,Lista_Ubigeo!$J:$K,2,0),\" \")","v":"SIBAYO"},{"$f":"IFERROR(VLOOKUP(MID(AO$27,5,4)&$A42,Lista_Ubigeo!$J:$K,2,0),\" \")","v":" "},{"$f":"IFERROR(VLOOKUP(MID(AP$27,5,4)&$A42,Lista_Ubigeo!$J:$K,2,0),\" \")","v":" "},{"$f":"IFERROR(VLOOKUP(MID(AQ$27,4,4)&$A42,Lista_Ubigeo!$J:$K,2,0),\" \")","v":" "},{"$f":"IFERROR(VLOOKUP(MID(AR$27,5,4)&$A42,Lista_Ubigeo!$J:$K,2,0),\" \")","v":"JESUS NAZARENO"},{"$f":"IFERROR(VLOOKUP(MID(AS$27,5,4)&$A42,Lista_Ubigeo!$J:$K,2,0),\" \")","v":" "},{"$f":"IFERROR(VLOOKUP(MID(AT$27,5,4)&$A42,Lista_Ubigeo!$J:$K,2,0),\" \")","v":" "},{"$f":"IFERROR(VLOOKUP(MID(AU$27,5,4)&$A42,Lista_Ubigeo!$J:$K,2,0),\" \")","v":" "},{"$f":"IFERROR(VLOOKUP(MID(AV$27,5,4)&$A42,Lista_Ubigeo!$J:$K,2,0),\" \")","v":" "},{"$f":"IFERROR(VLOOKUP(MID(AW$27,5,4)&$A42,Lista_Ubigeo!$J:$K,2,0),\" \")","v":"SAN CRISTOBAL"},{"$f":"IFERROR(VLOOKUP(MID(AX$27,5,4)&$A42,Lista_Ubigeo!$J:$K,2,0),\" \")","v":" "},{"$f":"IFERROR(VLOOKUP(MID(AY$27,5,4)&$A42,Lista_Ubigeo!$J:$K,2,0),\" \")","v":" "},{"$f":"IFERROR(VLOOKUP(MID(AZ$27,5,4)&$A42,Lista_Ubigeo!$J:$K,2,0),\" \")","v":" "},{"$f":"IFERROR(VLOOKUP(MID(BA$27,5,4)&$A42,Lista_Ubigeo!$J:$K,2,0),\" \")","v":" "},{"$f":"IFERROR(VLOOKUP(MID(BB$27,5,4)&$A42,Lista_Ubigeo!$J:$K,2,0),\" \")","v":" "},{"$f":"IFERROR(VLOOKUP(MID(BC$27,5,4)&$A42,Lista_Ubigeo!$J:$K,2,0),\" \")","v":" "},{"$f":"IFERROR(VLOOKUP(MID(BD$27,5,4)&$A42,Lista_Ubigeo!$J:$K,2,0),\" \")","v":" "},{"$f":"IFERROR(VLOOKUP(MID(BE$27,5,4)&$A42,Lista_Ubigeo!$J:$K,2,0),\" \")","v":" "},{"$f":"IFERROR(VLOOKUP(MID(BF$27,5,4)&$A42,Lista_Ubigeo!$J:$K,2,0),\" \")","v":"QUEROCOTO"},{"$f":"IFERROR(VLOOKUP(MID(BG$27,5,4)&$A42,Lista_Ubigeo!$J:$K,2,0),\" \")","v":" "},{"$f":"IFERROR(VLOOKUP(MID(BH$27,5,4)&$A42,Lista_Ubigeo!$J:$K,2,0),\" \")","v":"TORIBIO CASANOVA"},{"$f":"IFERROR(VLOOKUP(MID(BI$27,5,4)&$A42,Lista_Ubigeo!$J:$K,2,0),\" \")","v":" "},{"$f":"IFERROR(VLOOKUP(MID(BJ$27,5,4)&$A42,Lista_Ubigeo!$J:$K,2,0),\" \")","v":" "},{"$f":"IFERROR(VLOOKUP(MID(BK$27,5,4)&$A42,Lista_Ubigeo!$J:$K,2,0),\" \")","v":" "},{"$f":"IFERROR(VLOOKUP(MID(BL$27,5,4)&$A42,Lista_Ubigeo!$J:$K,2,0),\" \")","v":" "},{"$f":"IFERROR(VLOOKUP(MID(BM$27,5,4)&$A42,Lista_Ubigeo!$J:$K,2,0),\" \")","v":" "},{"$f":"IFERROR(VLOOKUP(MID(BN$27,5,4)&$A42,Lista_Ubigeo!$J:$K,2,0),\" \")","v":" "},{"$f":"IFERROR(VLOOKUP(MID(BO$27,5,4)&$A42,Lista_Ubigeo!$J:$K,2,0),\" \")","v":" "},{"$f":"IFERROR(VLOOKUP(MID(BP$27,5,4)&$A42,Lista_Ubigeo!$J:$K,2,0),\" \")","v":" "},{"$f":"IFERROR(VLOOKUP(MID(BQ$27,5,4)&$A42,Lista_Ubigeo!$J:$K,2,0),\" \")","v":" "},{"$f":"IFERROR(VLOOKUP(MID(BR$27,5,4)&$A42,Lista_Ubigeo!$J:$K,2,0),\" \")","v":" "},{"$f":"IFERROR(VLOOKUP(MID(BS$27,5,4)&$A42,Lista_Ubigeo!$J:$K,2,0),\" \")","v":" "},{"$f":"IFERROR(VLOOKUP(MID(BT$27,5,4)&$A42,Lista_Ubigeo!$J:$K,2,0),\" \")","v":" "},{"$f":"IFERROR(VLOOKUP(MID(BU$27,5,4)&$A42,Lista_Ubigeo!$J:$K,2,0),\" \")","v":" "},{"$f":"IFERROR(VLOOKUP(MID(BV$27,5,4)&$A42,Lista_Ubigeo!$J:$K,2,0),\" \")","v":" "},{"$f":"IFERROR(VLOOKUP(MID(BW$27,5,4)&$A42,Lista_Ubigeo!$J:$K,2,0),\" \")","v":" "},{"$f":"IFERROR(VLOOKUP(MID(BX$27,5,4)&$A42,Lista_Ubigeo!$J:$K,2,0),\" \")","v":" "},{"$f":"IFERROR(VLOOKUP(MID(BY$27,4,4)&$A42,Lista_Ubigeo!$J:$K,2,0),\" \")","v":" "},{"$f":"IFERROR(VLOOKUP(MID(BZ$27,5,4)&$A42,Lista_Ubigeo!$J:$K,2,0),\" \")","v":" "},{"$f":"IFERROR(VLOOKUP(MID(CA$27,5,4)&$A42,Lista_Ubigeo!$J:$K,2,0),\" \")","v":" "},{"$f":"IFERROR(VLOOKUP(MID(CB$27,5,4)&$A42,Lista_Ubigeo!$J:$K,2,0),\" \")","v":" "},{"$f":"IFERROR(VLOOKUP(MID(CC$27,5,4)&$A42,Lista_Ubigeo!$J:$K,2,0),\" \")","v":" "},{"$f":"IFERROR(VLOOKUP(MID(CD$27,5,4)&$A42,Lista_Ubigeo!$J:$K,2,0),\" \")","v":"PILCHACA"},{"$f":"IFERROR(VLOOKUP(MID(CE$27,5,4)&$A42,Lista_Ubigeo!$J:$K,2,0),\" \")","v":" "},{"$f":"IFERROR(VLOOKUP(MID(CF$27,5,4)&$A42,Lista_Ubigeo!$J:$K,2,0),\" \")","v":" "},{"$f":"IFERROR(VLOOKUP(MID(CG$27,5,4)&$A42,Lista_Ubigeo!$J:$K,2,0),\" \")","v":" "},{"$f":"IFERROR(VLOOKUP(MID(CH$27,5,4)&$A42,Lista_Ubigeo!$J:$K,2,0),\" \")","v":" "},{"$f":"IFERROR(VLOOKUP(MID(CI$27,5,4)&$A42,Lista_Ubigeo!$J:$K,2,0),\" \")","v":"SANTO DOMINGO DE CAPILLAS"},"SURCUBAMBA",{"$f":"IFERROR(VLOOKUP(MID(CK$27,5,4)&$A42,Lista_Ubigeo!$J:$K,2,0),\" \")","v":" "},{"$f":"IFERROR(VLOOKUP(MID(CL$27,5,4)&$A42,Lista_Ubigeo!$J:$K,2,0),\" \")","v":" "},{"$f":"IFERROR(VLOOKUP(MID(CM$27,5,4)&$A53,Lista_Ubigeo!$J:$K,2,0),\" \")","v":" "},{"$f":"IFERROR(VLOOKUP(MID(CN$27,5,4)&$A42,Lista_Ubigeo!$J:$K,2,0),\" \")","v":" "},{"$f":"IFERROR(VLOOKUP(MID(CO$27,5,4)&$A42,Lista_Ubigeo!$J:$K,2,0),\" \")","v":" "},{"$f":"IFERROR(VLOOKUP(MID(CP$27,5,4)&$A42,Lista_Ubigeo!$J:$K,2,0),\" \")","v":" "},{"$f":"IFERROR(VLOOKUP(MID(CQ$27,5,4)&$A42,Lista_Ubigeo!$J:$K,2,0),\" \")","v":" "},{"$f":"IFERROR(VLOOKUP(MID(CR$27,5,4)&$A42,Lista_Ubigeo!$J:$K,2,0),\" \")","v":" "},{"$f":"IFERROR(VLOOKUP(MID(CS$27,5,4)&$A42,Lista_Ubigeo!$J:$K,2,0),\" \")","v":" "},{"$f":"IFERROR(VLOOKUP(MID(CT$27,5,4)&$A42,Lista_Ubigeo!$J:$K,2,0),\" \")","v":" "},{"$f":"IFERROR(VLOOKUP(MID(CU$27,5,4)&$A42,Lista_Ubigeo!$J:$K,2,0),\" \")","v":" "},{"$f":"IFERROR(VLOOKUP(MID(CV$27,5,4)&$A42,Lista_Ubigeo!$J:$K,2,0),\" \")","v":" "},{"$f":"IFERROR(VLOOKUP(MID(CW$27,5,4)&$A42,Lista_Ubigeo!$J:$K,2,0),\" \")","v":" "},{"$f":"IFERROR(VLOOKUP(MID(CX$27,5,4)&$A42,Lista_Ubigeo!$J:$K,2,0),\" \")","v":" "},{"$f":"IFERROR(VLOOKUP(MID(CY$27,5,4)&$A42,Lista_Ubigeo!$J:$K,2,0),\" \")","v":" "},{"$f":"IFERROR(VLOOKUP(MID(CZ$27,5,4)&$A42,Lista_Ubigeo!$J:$K,2,0),\" \")","v":" "},"HUAYUCACHI",{"$f":"IFERROR(VLOOKUP(MID(DB$27,5,4)&$A42,Lista_Ubigeo!$J:$K,2,0),\" \")","v":"SANTA ROSA DE OCOPA"},{"$f":"IFERROR(VLOOKUP(MID(DC$27,5,4)&$A42,Lista_Ubigeo!$J:$K,2,0),\" \")","v":" "},{"$f":"IFERROR(VLOOKUP(MID(DD$27,5,4)&$A42,Lista_Ubigeo!$J:$K,2,0),\" \")","v":"MARCO"},{"$f":"IFERROR(VLOOKUP(MID(DE$27,5,4)&$A42,Lista_Ubigeo!$J:$K,2,0),\" \")","v":" "},{"$f":"IFERROR(VLOOKUP(MID(DF$27,5,4)&$A42,Lista_Ubigeo!$J:$K,2,0),\" \")","v":" "},{"$f":"IFERROR(VLOOKUP(MID(DG$27,5,4)&$A42,Lista_Ubigeo!$J:$K,2,0),\" \")","v":" "},{"$f":"IFERROR(VLOOKUP(MID(DH$27,5,4)&$A42,Lista_Ubigeo!$J:$K,2,0),\" \")","v":" "},{"$f":"IFERROR(VLOOKUP(MID(DI$27,5,4)&$A42,Lista_Ubigeo!$J:$K,2,0),\" \")","v":" "},{"$f":"IFERROR(VLOOKUP(MID(DJ$27,5,4)&$A42,Lista_Ubigeo!$J:$K,2,0),\" \")","v":" "},{"$f":"IFERROR(VLOOKUP(MID(DK$27,5,4)&$A42,Lista_Ubigeo!$J:$K,2,0),\" \")","v":" "},{"$f":"IFERROR(VLOOKUP(MID(DL$27,5,4)&$A42,Lista_Ubigeo!$J:$K,2,0),\" \")","v":" "},{"$f":"IFERROR(VLOOKUP(MID(DM$27,5,4)&$A42,Lista_Ubigeo!$J:$K,2,0),\" \")","v":" "},{"$f":"IFERROR(VLOOKUP(MID(DN$27,5,4)&$A42,Lista_Ubigeo!$J:$K,2,0),\" \")","v":" "},{"$f":"IFERROR(VLOOKUP(MID(DO$27,5,4)&$A43,Lista_Ubigeo!$J:$K,2,0),\" \")","v":" "},{"$f":"IFERROR(VLOOKUP(MID(DP$27,5,4)&$A42,Lista_Ubigeo!$J:$K,2,0),\" \")","v":" "},{"$f":"IFERROR(VLOOKUP(MID(DQ$27,5,4)&$A42,Lista_Ubigeo!$J:$K,2,0),\" \")","v":" "},{"$f":"IFERROR(VLOOKUP(MID(DR$27,5,4)&$A42,Lista_Ubigeo!$J:$K,2,0),\" \")","v":" "},{"$f":"IFERROR(VLOOKUP(MID(DS$27,5,4)&$A42,Lista_Ubigeo!$J:$K,2,0),\" \")","v":" "},null,null,{"$f":"IFERROR(VLOOKUP(MID(DV$27,5,4)&$A42,Lista_Ubigeo!$J:$K,2,0),\" \")","v":"SAÑA"},{"$f":"IFERROR(VLOOKUP(MID(DW$27,5,4)&$A42,Lista_Ubigeo!$J:$K,2,0),\" \")","v":" "},{"$f":"IFERROR(VLOOKUP(MID(DX$27,5,4)&$A42,Lista_Ubigeo!$J:$K,2,0),\" \")","v":" "},{"$f":"IFERROR(VLOOKUP(MID(DY$27,5,4)&$A42,Lista_Ubigeo!$J:$K,2,0),\" \")","v":"LA VICTORIA"},{"$f":"IFERROR(VLOOKUP(MID(DZ$27,5,4)&$A42,Lista_Ubigeo!$J:$K,2,0),\" \")","v":" "},{"$f":"IFERROR(VLOOKUP(MID(EA$27,5,4)&$A42,Lista_Ubigeo!$J:$K,2,0),\" \")","v":" "},{"$f":"IFERROR(VLOOKUP(MID(EB$27,5,4)&$A42,Lista_Ubigeo!$J:$K,2,0),\" \")","v":" "},{"$f":"IFERROR(VLOOKUP(MID(EC$27,5,4)&$A42,Lista_Ubigeo!$J:$K,2,0),\" \")","v":"SANTA CRUZ DE FLORES"},{"$f":"IFERROR(VLOOKUP(MID(ED$27,5,4)&$A42,Lista_Ubigeo!$J:$K,2,0),\" \")","v":" "},{"$f":"IFERROR(VLOOKUP(MID(EE$27,5,4)&$A42,Lista_Ubigeo!$J:$K,2,0),\" \")","v":"SAN ANDRES DE TUPICOCHA"},{"$f":"IFERROR(VLOOKUP(MID(EF$27,5,4)&$A42,Lista_Ubigeo!$J:$K,2,0),\" \")","v":" "},{"$f":"IFERROR(VLOOKUP(MID(EG$27,5,4)&$A42,Lista_Ubigeo!$J:$K,2,0),\" \")","v":" "},{"$f":"IFERROR(VLOOKUP(MID(EH$27,5,4)&$A42,Lista_Ubigeo!$J:$K,2,0),\" \")","v":"HUANGASCAR"},{"$f":"IFERROR(VLOOKUP(MID(EI$27,5,4)&$A42,Lista_Ubigeo!$J:$K,2,0),\" \")","v":" "},{"$f":"IFERROR(VLOOKUP(MID(EJ$27,5,4)&$A47,Lista_Ubigeo!$J:$K,2,0),\" \")","v":" "},{"$f":"IFERROR(VLOOKUP(MID(EK$27,5,4)&$A42,Lista_Ubigeo!$J:$K,2,0),\" \")","v":" "},{"$f":"IFERROR(VLOOKUP(MID(EL$27,5,4)&$A42,Lista_Ubigeo!$J:$K,2,0),\" \")","v":" "},{"$f":"IFERROR(VLOOKUP(MID(EM$27,5,4)&$A42,Lista_Ubigeo!$J:$K,2,0),\" \")","v":" "},{"$f":"IFERROR(VLOOKUP(MID(EN$27,5,4)&$A42,Lista_Ubigeo!$J:$K,2,0),\" \")","v":" "},{"$f":"IFERROR(VLOOKUP(MID(EO$27,5,4)&$A42,Lista_Ubigeo!$J:$K,2,0),\" \")","v":" "},{"$f":"IFERROR(VLOOKUP(MID(EP$27,5,4)&$A42,Lista_Ubigeo!$J:$K,2,0),\" \")","v":" "},{"$f":"IFERROR(VLOOKUP(MID(EQ$27,5,4)&$A42,Lista_Ubigeo!$J:$K,2,0),\" \")","v":" "},{"$f":"IFERROR(VLOOKUP(MID(ER$27,5,4)&$A42,Lista_Ubigeo!$J:$K,2,0),\" \")","v":" "},{"$f":"IFERROR(VLOOKUP(MID(ES$27,5,4)&$A42,Lista_Ubigeo!$J:$K,2,0),\" \")","v":" "},{"$f":"IFERROR(VLOOKUP(MID(ET$27,5,4)&$A42,Lista_Ubigeo!$J:$K,2,0),\" \")","v":" "},{"$f":"IFERROR(VLOOKUP(MID(EU$27,5,4)&$A42,Lista_Ubigeo!$J:$K,2,0),\" \")","v":" "},{"$f":"IFERROR(VLOOKUP(MID(EV$27,5,4)&$A42,Lista_Ubigeo!$J:$K,2,0),\" \")","v":" "},{"$f":"IFERROR(VLOOKUP(MID(EW$27,5,4)&$A42,Lista_Ubigeo!$J:$K,2,0),\" \")","v":" "},{"$f":"IFERROR(VLOOKUP(MID(EX$27,5,4)&$A42,Lista_Ubigeo!$J:$K,2,0),\" \")","v":" "},{"$f":"IFERROR(VLOOKUP(MID(EY$27,5,4)&$A42,Lista_Ubigeo!$J:$K,2,0),\" \")","v":" "},{"$f":"IFERROR(VLOOKUP(MID(EZ$27,5,4)&$A45,Lista_Ubigeo!$J:$K,2,0),\" \")","v":" "},{"$f":"IFERROR(VLOOKUP(MID(FA$27,5,4)&$A42,Lista_Ubigeo!$J:$K,2,0),\" \")","v":" "},{"$f":"IFERROR(VLOOKUP(MID(FB$27,5,4)&$A42,Lista_Ubigeo!$J:$K,2,0),\" \")","v":" "},{"$f":"IFERROR(VLOOKUP(MID(FC$27,5,4)&$A42,Lista_Ubigeo!$J:$K,2,0),\" \")","v":" "},{"$f":"IFERROR(VLOOKUP(MID(FD$27,5,4)&$A42,Lista_Ubigeo!$J:$K,2,0),\" \")","v":" "},{"$f":"IFERROR(VLOOKUP(MID(FE$27,5,4)&$A42,Lista_Ubigeo!$J:$K,2,0),\" \")","v":" "},{"$f":"IFERROR(VLOOKUP(MID(FF$27,5,4)&$A42,Lista_Ubigeo!$J:$K,2,0),\" \")","v":" "},{"$f":"IFERROR(VLOOKUP(MID(FG$27,5,4)&$A42,Lista_Ubigeo!$J:$K,2,0),\" \")","v":" "},{"$f":"IFERROR(VLOOKUP(MID(FH$27,5,4)&$A42,Lista_Ubigeo!$J:$K,2,0),\" \")","v":"VILQUE"},{"$f":"IFERROR(VLOOKUP(MID(FI$27,5,4)&$A42,Lista_Ubigeo!$J:$K,2,0),\" \")","v":"TIRAPATA"},{"$f":"IFERROR(VLOOKUP(MID(FJ$27,5,4)&$A42,Lista_Ubigeo!$J:$K,2,0),\" \")","v":" "},{"$f":"IFERROR(VLOOKUP(MID(FK$27,5,4)&$A42,Lista_Ubigeo!$J:$K,2,0),\" \")","v":" "},{"$f":"IFERROR(VLOOKUP(MID(FL$27,5,4)&$A42,Lista_Ubigeo!$J:$K,2,0),\" \")","v":" "},{"$f":"IFERROR(VLOOKUP(MID(FM$27,5,4)&$A42,Lista_Ubigeo!$J:$K,2,0),\" \")","v":" "},{"$f":"IFERROR(VLOOKUP(MID(FN$27,5,4)&$A42,Lista_Ubigeo!$J:$K,2,0),\" \")","v":" "},{"$f":"IFERROR(VLOOKUP(MID(FO$27,5,4)&$A42,Lista_Ubigeo!$J:$K,2,0),\" \")","v":" "},{"$f":"IFERROR(VLOOKUP(MID(FP$27,5,4)&$A42,Lista_Ubigeo!$J:$K,2,0),\" \")","v":" "},{"$f":"IFERROR(VLOOKUP(MID(FQ$27,5,4)&$A42,Lista_Ubigeo!$J:$K,2,0),\" \")","v":" "},{"$f":"IFERROR(VLOOKUP(MID(FR$27,5,4)&$A42,Lista_Ubigeo!$J:$K,2,0),\" \")","v":" "},{"$f":"IFERROR(VLOOKUP(MID(FS$27,5,4)&$A42,Lista_Ubigeo!$J:$K,2,0),\" \")","v":" "},{"$f":"IFERROR(VLOOKUP(MID(FT$27,5,4)&$A42,Lista_Ubigeo!$J:$K,2,0),\" \")","v":" "},{"$f":"IFERROR(VLOOKUP(MID(FU$27,5,4)&$A42,Lista_Ubigeo!$J:$K,2,0),\" \")","v":" "},{"$f":"IFERROR(VLOOKUP(MID(FV$27,5,4)&$A42,Lista_Ubigeo!$J:$K,2,0),\" \")","v":" "},{"$f":"IFERROR(VLOOKUP(MID(FW$27,5,4)&$A42,Lista_Ubigeo!$J:$K,2,0),\" \")","v":" "},{"$f":"IFERROR(VLOOKUP(MID(FX$27,5,4)&$A42,Lista_Ubigeo!$J:$K,2,0),\" \")","v":" "},{"$f":"IFERROR(VLOOKUP(MID(FY$27,5,4)&$A42,Lista_Ubigeo!$J:$K,2,0),\" \")","v":" "},{"$f":"IFERROR(VLOOKUP(MID(FZ$27,5,4)&$A42,Lista_Ubigeo!$J:$K,2,0),\" \")","v":" "},{"$f":"IFERROR(VLOOKUP(MID(GA$27,5,4)&$A42,Lista_Ubigeo!$J:$K,2,0),\" \")","v":" "},{"$f":"IFERROR(VLOOKUP(MID(GB$27,5,4)&$A42,Lista_Ubigeo!$J:$K,2,0),\" \")","v":" "},{"$f":"IFERROR(VLOOKUP(MID(GC$27,5,4)&$A42,Lista_Ubigeo!$J:$K,2,0),\" \")","v":" "},{"$f":"IFERROR(VLOOKUP(MID(GD$27,5,4)&$A42,Lista_Ubigeo!$J:$K,2,0),\" \")","v":" "},{"$f":"IFERROR(VLOOKUP(MID(GE$27,5,4)&$A42,Lista_Ubigeo!$J:$K,2,0),\" \")","v":" "},{"$f":"IFERROR(VLOOKUP(MID(GF$27,5,4)&$A42,Lista_Ubigeo!$J:$K,2,0),\" \")","v":" "},{"$f":"IFERROR(VLOOKUP(MID(GG$27,5,4)&$A42,Lista_Ubigeo!$J:$K,2,0),\" \")","v":" "},{"$f":"IFERROR(VLOOKUP(MID(GH$27,5,4)&$A42,Lista_Ubigeo!$J:$K,2,0),\" \")","v":" "},{"$f":"IFERROR(VLOOKUP(MID(GI$27,5,4)&$A42,Lista_Ubigeo!$J:$K,2,0),\" \")","v":" "},{"$f":"IFERROR(VLOOKUP(MID(GJ$27,5,4)&$A42,Lista_Ubigeo!$J:$K,2,0),\" \")","v":" "},{"$f":"IFERROR(VLOOKUP(MID(GK$27,5,4)&$A42,Lista_Ubigeo!$J:$K,2,0),\" \")","v":" "},{"$f":"IFERROR(VLOOKUP(MID(GL$27,5,4)&$A42,Lista_Ubigeo!$J:$K,2,0),\" \")","v":" "},{"$f":"IFERROR(VLOOKUP(MID(GM$27,5,4)&$A42,Lista_Ubigeo!$J:$K,2,0),\" \")","v":" "},{"$f":"IFERROR(VLOOKUP(MID(GN$27,5,4)&$A42,Lista_Ubigeo!$J:$K,2,0),\" \")","v":" "},{"$f":"IFERROR(VLOOKUP(MID(GO$27,5,4)&$A42,Lista_Ubigeo!$J:$K,2,0),\" \")","v":" "},{"$f":"IFERROR(VLOOKUP(MID(GP$27,5,4)&$A42,Lista_Ubigeo!$J:$K,2,0),\" \")","v":"TIRAPATA"}]
["16",{"$f":"IFERROR(VLOOKUP(MID(B$27,5,4)&$A43,Lista_Ubigeo!$J:$K,2,0),\" \")","v":"OLLEROS"},{"$f":"IFERROR(VLOOKUP(MID(C$27,5,4)&$A43,Lista_Ubigeo!$J:$K,2,0),\" \")","v":" "},{"$f":"IFERROR(VLOOKUP(MID(D$27,5,4)&$A43,Lista_Ubigeo!$J:$K,2,0),\" \")","v":" "},{"$f":"IFERROR(VLOOKUP(MID(E$27,5,4)&$A43,Lista_Ubigeo!$J:$K,2,0),\" \")","v":" "},{"$f":"IFERROR(VLOOKUP(MID(F$27,5,4)&$A43,Lista_Ubigeo!$J:$K,2,0),\" \")","v":"SAN CRISTOBAL"},{"$f":"IFERROR(VLOOKUP(MID(G$27,5,4)&$A43,Lista_Ubigeo!$J:$K,2,0),\" \")","v":" "},{"$f":"IFERROR(VLOOKUP(MID(H$27,5,4)&$A43,Lista_Ubigeo!$J:$K,2,0),\" \")","v":" "},{"$f":"IFERROR(VLOOKUP(MID(I$27,5,4)&$A43,Lista_Ubigeo!$J:$K,2,0),\" \")","v":" "},{"$f":"IFERROR(VLOOKUP(MID(J$27,5,4)&$A43,Lista_Ubigeo!$J:$K,2,0),\" \")","v":" "},{"$f":"IFERROR(VLOOKUP(MID(K$27,5,4)&$A43,Lista_Ubigeo!$J:$K,2,0),\" \")","v":" "},{"$f":"IFERROR(VLOOKUP(MID(L$27,5,4)&$A43,Lista_Ubigeo!$J:$K,2,0),\" \")","v":" "},{"$f":"IFERROR(VLOOKUP(MID(M$27,5,4)&$A43,Lista_Ubigeo!$J:$K,2,0),\" \")","v":" "},{"$f":"IFERROR(VLOOKUP(MID(N$27,5,4)&$A43,Lista_Ubigeo!$J:$K,2,0),\" \")","v":" "},{"$f":"IFERROR(VLOOKUP(MID(O$27,5,4)&$A43,Lista_Ubigeo!$J:$K,2,0),\" \")","v":" "},{"$f":"IFERROR(VLOOKUP(MID(P$27,5,4)&$A43,Lista_Ubigeo!$J:$K,2,0),\" \")","v":" "},{"$f":"IFERROR(VLOOKUP(MID(Q$27,5,4)&$A43,Lista_Ubigeo!$J:$K,2,0),\" \")","v":" "},{"$f":"IFERROR(VLOOKUP(MID(R$27,5,4)&$A43,Lista_Ubigeo!$J:$K,2,0),\" \")","v":"UCO"},{"$f":"IFERROR(VLOOKUP(MID(S$27,5,4)&$A43,Lista_Ubigeo!$J:$K,2,0),\" \")","v":" "},{"$f":"IFERROR(VLOOKUP(MID(T$27,5,4)&$A43,Lista_Ubigeo!$J:$K,2,0),\" \")","v":" "},{"$f":"IFERROR(VLOOKUP(MID(U$27,5,4)&$A43,Lista_Ubigeo!$J:$K,2,0),\" \")","v":" "},{"$f":"IFERROR(VLOOKUP(MID(V$27,5,4)&$A43,Lista_Ubigeo!$J:$K,2,0),\" \")","v":" "},{"$f":"IFERROR(VLOOKUP(MID(W$27,5,4)&$A43,Lista_Ubigeo!$J:$K,2,0),\" \")","v":" "},{"$f":"IFERROR(VLOOKUP(MID(X$27,5,4)&$A43,Lista_Ubigeo!$J:$K,2,0),\" \")","v":" "},{"$f":"IFERROR(VLOOKUP(MID(Y$27,5,4)&$A43,Lista_Ubigeo!$J:$K,2,0),\" \")","v":" "},{"$f":"IFERROR(VLOOKUP(MID(Z$27,5,4)&$A43,Lista_Ubigeo!$J:$K,2,0),\" \")","v":" "},{"$f":"IFERROR(VLOOKUP(MID(AA$27,5,4)&$A43,Lista_Ubigeo!$J:$K,2,0),\" \")","v":" "},{"$f":"IFERROR(VLOOKUP(MID(AB$27,5,4)&$A43,Lista_Ubigeo!$J:$K,2,0),\" \")","v":" "},{"$f":"IFERROR(VLOOKUP(MID(AC$27,5,4)&$A43,Lista_Ubigeo!$J:$K,2,0),\" \")","v":" "},{"$f":"IFERROR(VLOOKUP(MID(AD$27,5,4)&$A43,Lista_Ubigeo!$J:$K,2,0),\" \")","v":"TALAVERA"},{"$f":"IFERROR(VLOOKUP(MID(AE$27,5,4)&$A43,Lista_Ubigeo!$J:$K,2,0),\" \")","v":" "},{"$f":"IFERROR(VLOOKUP(MID(AF$27,5,4)&$A43,Lista_Ubigeo!$J:$K,2,0),\" \")","v":"TORAYA"},{"$f":"IFERROR(VLOOKUP(MID(AG$27,5,4)&$A43,Lista_Ubigeo!$J:$K,2,0),\" \")","v":" "},{"$f":"IFERROR(VLOOKUP(MID(AH$27,5,4)&$A43,Lista_Ubigeo!$J:$K,2,0),\" \")","v":" "},{"$f":"IFERROR(VLOOKUP(MID(AI$27,5,4)&$A43,Lista_Ubigeo!$J:$K,2,0),\" \")","v":" "},{"$f":"IFERROR(VLOOKUP(MID(AJ$27,5,4)&$A43,Lista_Ubigeo!$J:$K,2,0),\" \")","v":"SABANDIA"},{"$f":"IFERROR(VLOOKUP(MID(AK$27,5,4)&$A43,Lista_Ubigeo!$J:$K,2,0),\" \")","v":" "},{"$f":"IFERROR(VLOOKUP(MID(AL$27,5,4)&$A43,Lista_Ubigeo!$J:$K,2,0),\" \")","v":" "},{"$f":"IFERROR(VLOOKUP(MID(AM$27,5,4)&$A43,Lista_Ubigeo!$J:$K,2,0),\" \")","v":" "},{"$f":"IFERROR(VLOOKUP(MID(AN$27,5,4)&$A43,Lista_Ubigeo!$J:$K,2,0),\" \")","v":"TAPAY"},{"$f":"IFERROR(VLOOKUP(MID(AO$27,5,4)&$A43,Lista_Ubigeo!$J:$K,2,0),\" \")","v":" "},{"$f":"IFERROR(VLOOKUP(MID(AP$27,5,4)&$A43,Lista_Ubigeo!$J:$K,2,0),\" \")","v":" "},{"$f":"IFERROR(VLOOKUP(MID(AQ$27,4,4)&$A43,Lista_Ubigeo!$J:$K,2,0),\" \")","v":" "},{"$f":"IFERROR(VLOOKUP(MID(AR$27,5,4)&$A43,Lista_Ubigeo!$J:$K,2,0),\" \")","v":"ANDRES AVELINO CACERES DORREGARAY"},{"$f":"IFERROR(VLOOKUP(MID(AS$27,5,4)&$A43,Lista_Ubigeo!$J:$K,2,0),\" \")","v":" "},{"$f":"IFERROR(VLOOKUP(MID(AT$27,5,4)&$A43,Lista_Ubigeo!$J:$K,2,0),\" \")","v":" "},{"$f":"IFERROR(VLOOKUP(MID(AU$27,5,4)&$A43,Lista_Ubigeo!$J:$K,2,0),\" \")","v":" "},{"$f":"IFERROR(VLOOKUP(MID(AV$27,5,4)&$A43,Lista_Ubigeo!$J:$K,2,0),\" \")","v":" "},{"$f":"IFERROR(VLOOKUP(MID(AW$27,5,4)&$A43,Lista_Ubigeo!$J:$K,2,0),\" \")","v":"SAN JUAN"},{"$f":"IFERROR(VLOOKUP(MID(AX$27,5,4)&$A43,Lista_Ubigeo!$J:$K,2,0),\" \")","v":" "},{"$f":"IFERROR(VLOOKUP(MID(AY$27,5,4)&$A43,Lista_Ubigeo!$J:$K,2,0),\" \")","v":" "},{"$f":"IFERROR(VLOOKUP(MID(AZ$27,5,4)&$A43,Lista_Ubigeo!$J:$K,2,0),\" \")","v":" "},{"$f":"IFERROR(VLOOKUP(MID(BA$27,5,4)&$A43,Lista_Ubigeo!$J:$K,2,0),\" \")","v":" "},{"$f":"IFERROR(VLOOKUP(MID(BB$27,5,4)&$A43,Lista_Ubigeo!$J:$K,2,0),\" \")","v":" "},{"$f":"IFERROR(VLOOKUP(MID(BC$27,5,4)&$A43,Lista_Ubigeo!$J:$K,2,0),\" \")","v":" "},{"$f":"IFERROR(VLOOKUP(MID(BD$27,5,4)&$A43,Lista_Ubigeo!$J:$K,2,0),\" \")","v":" "},{"$f":"IFERROR(VLOOKUP(MID(BE$27,5,4)&$A43,Lista_Ubigeo!$J:$K,2,0),\" \")","v":" "},{"$f":"IFERROR(VLOOKUP(MID(BF$27,5,4)&$A43,Lista_Ubigeo!$J:$K,2,0),\" \")","v":"SAN JUAN DE LICUPIS"},{"$f":"IFERROR(VLOOKUP(MID(BG$27,5,4)&$A43,Lista_Ubigeo!$J:$K,2,0),\" \")","v":" "},{"$f":"IFERROR(VLOOKUP(MID(BH$27,5,4)&$A43,Lista_Ubigeo!$J:$K,2,0),\" \")","v":" "},{"$f":"IFERROR(VLOOKUP(MID(BI$27,5,4)&$A43,Lista_Ubigeo!$J:$K,2,0),\" \")","v":" "},{"$f":"IFERROR(VLOOKUP(MID(BJ$27,5,4)&$A43,Lista_Ubigeo!$J:$K,2,0),\" \")","v":" "},{"$f":"IFERROR(VLOOKUP(MID(BK$27,5,4)&$A43,Lista_Ubigeo!$J:$K,2,0),\" \")","v":" "},{"$f":"IFERROR(VLOOKUP(MID(BL$27,5,4)&$A43,Lista_Ubigeo!$J:$K,2,0),\" \")","v":" "},{"$f":"IFERROR(VLOOKUP(MID(BM$27,5,4)&$A43,Lista_Ubigeo!$J:$K,2,0),\" \")","v":" "},{"$f":"IFERROR(VLOOKUP(MID(BN$27,5,4)&$A43,Lista_Ubigeo!$J:$K,2,0),\" \")","v":" "},{"$f":"IFERROR(VLOOKUP(MID(BO$27,5,4)&$A43,Lista_Ubigeo!$J:$K,2,0),\" \")","v":" "},{"$f":"IFERROR(VLOOKUP(MID(BP$27,5,4)&$A43,Lista_Ubigeo!$J:$K,2,0),\" \")","v":" "},{"$f":"IFERROR(VLOOKUP(MID(BQ$27,5,4)&$A43,Lista_Ubigeo!$J:$K,2,0),\" \")","v":" "},{"$f":"IFERROR(VLOOKUP(MID(BR$27,5,4)&$A43,Lista_Ubigeo!$J:$K,2,0),\" \")","v":" "},{"$f":"IFERROR(VLOOKUP(MID(BS$27,5,4)&$A43,Lista_Ubigeo!$J:$K,2,0),\" \")","v":" "},{"$f":"IFERROR(VLOOKUP(MID(BT$27,5,4)&$A43,Lista_Ubigeo!$J:$K,2,0),\" \")","v":" "},{"$f":"IFERROR(VLOOKUP(MID(BU$27,5,4)&$A43,Lista_Ubigeo!$J:$K,2,0),\" \")","v":" "},{"$f":"IFERROR(VLOOKUP(MID(BV$27,5,4)&$A43,Lista_Ubigeo!$J:$K,2,0),\" \")","v":" "},{"$f":"IFERROR(VLOOKUP(MID(BW$27,5,4)&$A43,Lista_Ubigeo!$J:$K,2,0),\" \")","v":" "},{"$f":"IFERROR(VLOOKUP(MID(BX$27,5,4)&$A43,Lista_Ubigeo!$J:$K,2,0),\" \")","v":" "},{"$f":"IFERROR(VLOOKUP(MID(BY$27,4,4)&$A43,Lista_Ubigeo!$J:$K,2,0),\" \")","v":" "},{"$f":"IFERROR(VLOOKUP(MID(BZ$27,5,4)&$A43,Lista_Ubigeo!$J:$K,2,0),\" \")","v":" "},{"$f":"IFERROR(VLOOKUP(MID(CA$27,5,4)&$A43,Lista_Ubigeo!$J:$K,2,0),\" \")","v":" "},{"$f":"IFERROR(VLOOKUP(MID(CB$27,5,4)&$A43,Lista_Ubigeo!$J:$K,2,0),\" \")","v":" "},{"$f":"IFERROR(VLOOKUP(MID(CC$27,5,4)&$A43,Lista_Ubigeo!$J:$K,2,0),\" \")","v":" "},{"$f":"IFERROR(VLOOKUP(MID(CD$27,5,4)&$A43,Lista_Ubigeo!$J:$K,2,0),\" \")","v":"VILCA"},{"$f":"IFERROR(VLOOKUP(MID(CE$27,5,4)&$A43,Lista_Ubigeo!$J:$K,2,0),\" \")","v":" "},{"$f":"IFERROR(VLOOKUP(MID(CF$27,5,4)&$A43,Lista_Ubigeo!$J:$K,2,0),\" \")","v":" "},{"$f":"IFERROR(VLOOKUP(MID(CG$27,5,4)&$A43,Lista_Ubigeo!$J:$K,2,0),\" \")","v":" "},{"$f":"IFERROR(VLOOKUP(MID(CH$27,5,4)&$A43,Lista_Ubigeo!$J:$K,2,0),\" \")","v":" "},{"$f":"IFERROR(VLOOKUP(MID(CI$27,5,4)&$A43,Lista_Ubigeo!$J:$K,2,0),\" \")","v":"TAMBO"},"TINTAY PUNCU",{"$f":"IFERROR(VLOOKUP(MID(CK$27,5,4)&$A43,Lista_Ubigeo!$J:$K,2,0),\" \")","v":" "},{"$f":"IFERROR(VLOOKUP(MID(CL$27,5,4)&$A43,Lista_Ubigeo!$J:$K,2,0),\" \")","v":" "},{"$f":"IFERROR(VLOOKUP(MID(CM$27,5,4)&$A54,Lista_Ubigeo!$J:$K,2,0),\" \")","v":" "},{"$f":"IFERROR(VLOOKUP(MID(CN$27,5,4)&$A43,Lista_Ubigeo!$J:$K,2,0),\" \")","v":" "},{"$f":"IFERROR(VLOOKUP(MID(CO$27,5,4)&$A43,Lista_Ubigeo!$J:$K,2,0),\" \")","v":" "},{"$f":"IFERROR(VLOOKUP(MID(CP$27,5,4)&$A43,Lista_Ubigeo!$J:$K,2,0),\" \")","v":" "},{"$f":"IFERROR(VLOOKUP(MID(CQ$27,5,4)&$A43,Lista_Ubigeo!$J:$K,2,0),\" \")","v":" "},{"$f":"IFERROR(VLOOKUP(MID(CR$27,5,4)&$A43,Lista_Ubigeo!$J:$K,2,0),\" \")","v":" "},{"$f":"IFERROR(VLOOKUP(MID(CS$27,5,4)&$A43,Lista_Ubigeo!$J:$K,2,0),\" \")","v":" "},{"$f":"IFERROR(VLOOKUP(MID(CT$27,5,4)&$A43,Lista_Ubigeo!$J:$K,2,0),\" \")","v":" "},{"$f":"IFERROR(VLOOKUP(MID(CU$27,5,4)&$A43,Lista_Ubigeo!$J:$K,2,0),\" \")","v":" "},{"$f":"IFERROR(VLOOKUP(MID(CV$27,5,4)&$A43,Lista_Ubigeo!$J:$K,2,0),\" \")","v":" "},{"$f":"IFERROR(VLOOKUP(MID(CW$27,5,4)&$A43,Lista_Ubigeo!$J:$K,2,0),\" \")","v":" "},{"$f":"IFERROR(VLOOKUP(MID(CX$27,5,4)&$A43,Lista_Ubigeo!$J:$K,2,0),\" \")","v":" "},{"$f":"IFERROR(VLOOKUP(MID(CY$27,5,4)&$A43,Lista_Ubigeo!$J:$K,2,0),\" \")","v":" "},{"$f":"IFERROR(VLOOKUP(MID(CZ$27,5,4)&$A43,Lista_Ubigeo!$J:$K,2,0),\" \")","v":" "},"INGENIO",{"$f":"IFERROR(VLOOKUP(MID(DB$27,5,4)&$A43,Lista_Ubigeo!$J:$K,2,0),\" \")","v":" "},{"$f":"IFERROR(VLOOKUP(MID(DC$27,5,4)&$A43,Lista_Ubigeo!$J:$K,2,0),\" \")","v":" "},{"$f":"IFERROR(VLOOKUP(MID(DD$27,5,4)&$A43,Lista_Ubigeo!$J:$K,2,0),\" \")","v":"MASMA"},{"$f":"IFERROR(VLOOKUP(MID(DE$27,5,4)&$A43,Lista_Ubigeo!$J:$K,2,0),\" \")","v":" "},{"$f":"IFERROR(VLOOKUP(MID(DF$27,5,4)&$A43,Lista_Ubigeo!$J:$K,2,0),\" \")","v":" "},{"$f":"IFERROR(VLOOKUP(MID(DG$27,5,4)&$A43,Lista_Ubigeo!$J:$K,2,0),\" \")","v":" "},{"$f":"IFERROR(VLOOKUP(MID(DH$27,5,4)&$A43,Lista_Ubigeo!$J:$K,2,0),\" \")","v":" "},{"$f":"IFERROR(VLOOKUP(MID(DI$27,5,4)&$A43,Lista_Ubigeo!$J:$K,2,0),\" \")","v":" "},{"$f":"IFERROR(VLOOKUP(MID(DJ$27,5,4)&$A43,Lista_Ubigeo!$J:$K,2,0),\" \")","v":" "},{"$f":"IFERROR(VLOOKUP(MID(DK$27,5,4)&$A43,Lista_Ubigeo!$J:$K,2,0),\" \")","v":" "},{"$f":"IFERROR(VLOOKUP(MID(DL$27,5,4)&$A43,Lista_Ubigeo!$J:$K,2,0),\" \")","v":" "},{"$f":"IFERROR(VLOOKUP(MID(DM$27,5,4)&$A43,Lista_Ubigeo!$J:$K,2,0),\" \")","v":" "},{"$f":"IFERROR(VLOOKUP(MID(DN$27,5,4)&$A43,Lista_Ubigeo!$J:$K,2,0),\" \")","v":" "},{"$f":"IFERROR(VLOOKUP(MID(DO$27,5,4)&$A44,Lista_Ubigeo!$J:$K,2,0),\" \")","v":" "},{"$f":"IFERROR(VLOOKUP(MID(DP$27,5,4)&$A43,Lista_Ubigeo!$J:$K,2,0),\" \")","v":" "},{"$f":"IFERROR(VLOOKUP(MID(DQ$27,5,4)&$A43,Lista_Ubigeo!$J:$K,2,0),\" \")","v":" "},{"$f":"IFERROR(VLOOKUP(MID(DR$27,5,4)&$A43,Lista_Ubigeo!$J:$K,2,0),\" \")","v":" "},{"$f":"IFERROR(VLOOKUP(MID(DS$27,5,4)&$A43,Lista_Ubigeo!$J:$K,2,0),\" \")","v":" "},null,null,{"$f":"IFERROR(VLOOKUP(MID(DV$27,5,4)&$A43,Lista_Ubigeo!$J:$K,2,0),\" \")","v":"CAYALTI"},{"$f":"IFERROR(VLOOKUP(MID(DW$27,5,4)&$A43,Lista_Ubigeo!$J:$K,2,0),\" \")","v":" "},{"$f":"IFERROR(VLOOKUP(MID(DX$27,5,4)&$A43,Lista_Ubigeo!$J:$K,2,0),\" \")","v":" "},{"$f":"IFERROR(VLOOKUP(MID(DY$27,5,4)&$A43,Lista_Ubigeo!$J:$K,2,0),\" \")","v":"LINCE"},{"$f":"IFERROR(VLOOKUP(MID(DZ$27,5,4)&$A43,Lista_Ubigeo!$J:$K,2,0),\" \")","v":" "},{"$f":"IFERROR(VLOOKUP(MID(EA$27,5,4)&$A43,Lista_Ubigeo!$J:$K,2,0),\" \")","v":" "},{"$f":"IFERROR(VLOOKUP(MID(EB$27,5,4)&$A43,Lista_Ubigeo!$J:$K,2,0),\" \")","v":" "},{"$f":"IFERROR(VLOOKUP(MID(EC$27,5,4)&$A43,Lista_Ubigeo!$J:$K,2,0),\" \")","v":"ZUÑIGA"},{"$f":"IFERROR(VLOOKUP(MID(ED$27,5,4)&$A43,Lista_Ubigeo!$J:$K,2,0),\" \")","v":" "},{"$f":"IFERROR(VLOOKUP(MID(EE$27,5,4)&$A43,Lista_Ubigeo!$J:$K,2,0),\" \")","v":"SAN ANTONIO"},{"$f":"IFERROR(VLOOKUP(MID(EF$27,5,4)&$A43,Lista_Ubigeo!$J:$K,2,0),\" \")","v":" "},{"$f":"IFERROR(VLOOKUP(MID(EG$27,5,4)&$A43,Lista_Ubigeo!$J:$K,2,0),\" \")","v":" "},{"$f":"IFERROR(VLOOKUP(MID(EH$27,5,4)&$A43,Lista_Ubigeo!$J:$K,2,0),\" \")","v":"HUANTAN"},{"$f":"IFERROR(VLOOKUP(MID(EI$27,5,4)&$A43,Lista_Ubigeo!$J:$K,2,0),\" \")","v":" "},{"$f":"IFERROR(VLOOKUP(MID(EJ$27,5,4)&$A48,Lista_Ubigeo!$J:$K,2,0),\" \")","v":" "},{"$f":"IFERROR(VLOOKUP(MID(EK$27,5,4)&$A43,Lista_Ubigeo!$J:$K,2,0),\" \")","v":" "},{"$f":"IFERROR(VLOOKUP(MID(EL$27,5,4)&$A43,Lista_Ubigeo!$J:$K,2,0),\" \")","v":" "},{"$f":"IFERROR(VLOOKUP(MID(EM$27,5,4)&$A43,Lista_Ubigeo!$J:$K,2,0),\" \")","v":" "},{"$f":"IFERROR(VLOOKUP(MID(EN$27,5,4)&$A43,Lista_Ubigeo!$J:$K,2,0),\" \")","v":" "},{"$f":"IFERROR(VLOOKUP(MID(EO$27,5,4)&$A43,Lista_Ubigeo!$J:$K,2,0),\" \")","v":" "},{"$f":"IFERROR(VLOOKUP(MID(EP$27,5,4)&$A43,Lista_Ubigeo!$J:$K,2,0),\" \")","v":" "},{"$f":"IFERROR(VLOOKUP(MID(EQ$27,5,4)&$A43,Lista_Ubigeo!$J:$K,2,0),\" \")","v":" "},{"$f":"IFERROR(VLOOKUP(MID(ER$27,5,4)&$A43,Lista_Ubigeo!$J:$K,2,0),\" \")","v":" "},{"$f":"IFERROR(VLOOKUP(MID(ES$27,5,4)&$A43,Lista_Ubigeo!$J:$K,2,0),\" \")","v":" "},{"$f":"IFERROR(VLOOKUP(MID(ET$27,5,4)&$A43,Lista_Ubigeo!$J:$K,2,0),\" \")","v":" "},{"$f":"IFERROR(VLOOKUP(MID(EU$27,5,4)&$A43,Lista_Ubigeo!$J:$K,2,0),\" \")","v":" "},{"$f":"IFERROR(VLOOKUP(MID(EV$27,5,4)&$A43,Lista_Ubigeo!$J:$K,2,0),\" \")","v":" "},{"$f":"IFERROR(VLOOKUP(MID(EW$27,5,4)&$A43,Lista_Ubigeo!$J:$K,2,0),\" \")","v":" "},{"$f":"IFERROR(VLOOKUP(MID(EX$27,5,4)&$A43,Lista_Ubigeo!$J:$K,2,0),\" \")","v":" "},{"$f":"IFERROR(VLOOKUP(MID(EY$27,5,4)&$A43,Lista_Ubigeo!$J:$K,2,0),\" \")","v":" "},{"$f":"IFERROR(VLOOKUP(MID(EZ$27,5,4)&$A46,Lista_Ubigeo!$J:$K,2,0),\" \")","v":" "},{"$f":"IFERROR(VLOOKUP(MID(FA$27,5,4)&$A43,Lista_Ubigeo!$J:$K,2,0),\" \")","v":" "},{"$f":"IFERROR(VLOOKUP(MID(FB$27,5,4)&$A43,Lista_Ubigeo!$J:$K,2,0),\" \")","v":" "},{"$f":"IFERROR(VLOOKUP(MID(FC$27,5,4)&$A43,Lista_Ubigeo!$J:$K,2,0),\" \")","v":" "},{"$f":"IFERROR(VLOOKUP(MID(FD$27,5,4)&$A43,Lista_Ubigeo!$J:$K,2,0),\" \")","v":" "},{"$f":"IFERROR(VLOOKUP(MID(FE$27,5,4)&$A43,Lista_Ubigeo!$J:$K,2,0),\" \")","v":" "},{"$f":"IFERROR(VLOOKUP(MID(FF$27,5,4)&$A43,Lista_Ubigeo!$J:$K,2,0),\" \")","v":" "},{"$f":"IFERROR(VLOOKUP(MID(FG$27,5,4)&$A43,Lista_Ubigeo!$J:$K,2,0),\" \")","v":" "},{"$f":"IFERROR(VLOOKUP(MID(FH$27,5,4)&$A43,Lista_Ubigeo!$J:$K,2,0),\" \")","v":" "},"HUATANASI",{"$f":"IFERROR(VLOOKUP(MID(FJ$27,5,4)&$A43,Lista_Ubigeo!$J:$K,2,0),\" \")","v":" "},{"$f":"IFERROR(VLOOKUP(MID(FK$27,5,4)&$A43,Lista_Ubigeo!$J:$K,2,0),\" \")","v":" "},{"$f":"IFERROR(VLOOKUP(MID(FL$27,5,4)&$A43,Lista_Ubigeo!$J:$K,2,0),\" \")","v":" "},{"$f":"IFERROR(VLOOKUP(MID(FM$27,5,4)&$A43,Lista_Ubigeo!$J:$K,2,0),\" \")","v":" "},{"$f":"IFERROR(VLOOKUP(MID(FN$27,5,4)&$A43,Lista_Ubigeo!$J:$K,2,0),\" \")","v":" "},{"$f":"IFERROR(VLOOKUP(MID(FO$27,5,4)&$A43,Lista_Ubigeo!$J:$K,2,0),\" \")","v":" "},{"$f":"IFERROR(VLOOKUP(MID(FP$27,5,4)&$A43,Lista_Ubigeo!$J:$K,2,0),\" \")","v":" "},{"$f":"IFERROR(VLOOKUP(MID(FQ$27,5,4)&$A43,Lista_Ubigeo!$J:$K,2,0),\" \")","v":" "},{"$f":"IFERROR(VLOOKUP(MID(FR$27,5,4)&$A43,Lista_Ubigeo!$J:$K,2,0),\" \")","v":" "},{"$f":"IFERROR(VLOOKUP(MID(FS$27,5,4)&$A43,Lista_Ubigeo!$J:$K,2,0),\" \")","v":" "},{"$f":"IFERROR(VLOOKUP(MID(FT$27,5,4)&$A43,Lista_Ubigeo!$J:$K,2,0),\" \")","v":" "},{"$f":"IFERROR(VLOOKUP(MID(FU$27,5,4)&$A43,Lista_Ubigeo!$J:$K,2,0),\" \")","v":" "},{"$f":"IFERROR(VLOOKUP(MID(FV$27,5,4)&$A43,Lista_Ubigeo!$J:$K,2,0),\" \")","v":" "},{"$f":"IFERROR(VLOOKUP(MID(FW$27,5,4)&$A43,Lista_Ubigeo!$J:$K,2,0),\" \")","v":" "},{"$f":"IFERROR(VLOOKUP(MID(FX$27,5,4)&$A43,Lista_Ubigeo!$J:$K,2,0),\" \")","v":" "},{"$f":"IFERROR(VLOOKUP(MID(FY$27,5,4)&$A43,Lista_Ubigeo!$J:$K,2,0),\" \")","v":" "},{"$f":"IFERROR(VLOOKUP(MID(FZ$27,5,4)&$A43,Lista_Ubigeo!$J:$K,2,0),\" \")","v":" "},{"$f":"IFERROR(VLOOKUP(MID(GA$27,5,4)&$A43,Lista_Ubigeo!$J:$K,2,0),\" \")","v":" "},{"$f":"IFERROR(VLOOKUP(MID(GB$27,5,4)&$A43,Lista_Ubigeo!$J:$K,2,0),\" \")","v":" "},{"$f":"IFERROR(VLOOKUP(MID(GC$27,5,4)&$A43,Lista_Ubigeo!$J:$K,2,0),\" \")","v":" "},{"$f":"IFERROR(VLOOKUP(MID(GD$27,5,4)&$A43,Lista_Ubigeo!$J:$K,2,0),\" \")","v":" "},{"$f":"IFERROR(VLOOKUP(MID(GE$27,5,4)&$A43,Lista_Ubigeo!$J:$K,2,0),\" \")","v":" "},{"$f":"IFERROR(VLOOKUP(MID(GF$27,5,4)&$A43,Lista_Ubigeo!$J:$K,2,0),\" \")","v":" "},{"$f":"IFERROR(VLOOKUP(MID(GG$27,5,4)&$A43,Lista_Ubigeo!$J:$K,2,0),\" \")","v":" "},{"$f":"IFERROR(VLOOKUP(MID(GH$27,5,4)&$A43,Lista_Ubigeo!$J:$K,2,0),\" \")","v":" "},{"$f":"IFERROR(VLOOKUP(MID(GI$27,5,4)&$A43,Lista_Ubigeo!$J:$K,2,0),\" \")","v":" "},{"$f":"IFERROR(VLOOKUP(MID(GJ$27,5,4)&$A43,Lista_Ubigeo!$J:$K,2,0),\" \")","v":" "},{"$f":"IFERROR(VLOOKUP(MID(GK$27,5,4)&$A43,Lista_Ubigeo!$J:$K,2,0),\" \")","v":" "},{"$f":"IFERROR(VLOOKUP(MID(GL$27,5,4)&$A43,Lista_Ubigeo!$J:$K,2,0),\" \")","v":" "},{"$f":"IFERROR(VLOOKUP(MID(GM$27,5,4)&$A43,Lista_Ubigeo!$J:$K,2,0),\" \")","v":" "},{"$f":"IFERROR(VLOOKUP(MID(GN$27,5,4)&$A43,Lista_Ubigeo!$J:$K,2,0),\" \")","v":" "},{"$f":"IFERROR(VLOOKUP(MID(GO$27,5,4)&$A43,Lista_Ubigeo!$J:$K,2,0),\" \")","v":" "},"HUATANASI"]
["17",{"$f":"IFERROR(VLOOKUP(MID(B$27,5,4)&$A44,Lista_Ubigeo!$J:$K,2,0),\" \")","v":"QUIJALCA"},{"$f":"IFERROR(VLOOKUP(MID(C$27,5,4)&$A44,Lista_Ubigeo!$J:$K,2,0),\" \")","v":" "},{"$f":"IFERROR(VLOOKUP(MID(D$27,5,4)&$A44,Lista_Ubigeo!$J:$K,2,0),\" \")","v":" "},{"$f":"IFERROR(VLOOKUP(MID(E$27,5,4)&$A44,Lista_Ubigeo!$J:$K,2,0),\" \")","v":" "},{"$f":"IFERROR(VLOOKUP(MID(F$27,5,4)&$A44,Lista_Ubigeo!$J:$K,2,0),\" \")","v":"SAN FRANCISCO DEL YESO"},{"$f":"IFERROR(VLOOKUP(MID(G$27,5,4)&$A44,Lista_Ubigeo!$J:$K,2,0),\" \")","v":" "},{"$f":"IFERROR(VLOOKUP(MID(H$27,5,4)&$A44,Lista_Ubigeo!$J:$K,2,0),\" \")","v":" "},{"$f":"IFERROR(VLOOKUP(MID(I$27,5,4)&$A44,Lista_Ubigeo!$J:$K,2,0),\" \")","v":" "},{"$f":"IFERROR(VLOOKUP(MID(J$27,5,4)&$A44,Lista_Ubigeo!$J:$K,2,0),\" \")","v":" "},{"$f":"IFERROR(VLOOKUP(MID(K$27,5,4)&$A44,Lista_Ubigeo!$J:$K,2,0),\" \")","v":" "},{"$f":"IFERROR(VLOOKUP(MID(L$27,5,4)&$A44,Lista_Ubigeo!$J:$K,2,0),\" \")","v":" "},{"$f":"IFERROR(VLOOKUP(MID(M$27,5,4)&$A44,Lista_Ubigeo!$J:$K,2,0),\" \")","v":" "},{"$f":"IFERROR(VLOOKUP(MID(N$27,5,4)&$A44,Lista_Ubigeo!$J:$K,2,0),\" \")","v":" "},{"$f":"IFERROR(VLOOKUP(MID(O$27,5,4)&$A44,Lista_Ubigeo!$J:$K,2,0),\" \")","v":" "},{"$f":"IFERROR(VLOOKUP(MID(P$27,5,4)&$A44,Lista_Ubigeo!$J:$K,2,0),\" \")","v":" "},{"$f":"IFERROR(VLOOKUP(MID(Q$27,5,4)&$A44,Lista_Ubigeo!$J:$K,2,0),\" \")","v":" "},{"$f":"IFERROR(VLOOKUP(MID(R$27,5,4)&$A44,Lista_Ubigeo!$J:$K,2,0),\" \")","v":" "},{"$f":"IFERROR(VLOOKUP(MID(S$27,5,4)&$A44,Lista_Ubigeo!$J:$K,2,0),\" \")","v":" "},{"$f":"IFERROR(VLOOKUP(MID(T$27,5,4)&$A44,Lista_Ubigeo!$J:$K,2,0),\" \")","v":" "},{"$f":"IFERROR(VLOOKUP(MID(U$27,5,4)&$A44,Lista_Ubigeo!$J:$K,2,0),\" \")","v":" "},{"$f":"IFERROR(VLOOKUP(MID(V$27,5,4)&$A44,Lista_Ubigeo!$J:$K,2,0),\" \")","v":" "},{"$f":"IFERROR(VLOOKUP(MID(W$27,5,4)&$A44,Lista_Ubigeo!$J:$K,2,0),\" \")","v":" "},{"$f":"IFERROR(VLOOKUP(MID(X$27,5,4)&$A44,Lista_Ubigeo!$J:$K,2,0),\" \")","v":" "},{"$f":"IFERROR(VLOOKUP(MID(Y$27,5,4)&$A44,Lista_Ubigeo!$J:$K,2,0),\" \")","v":" "},{"$f":"IFERROR(VLOOKUP(MID(Z$27,5,4)&$A44,Lista_Ubigeo!$J:$K,2,0),\" \")","v":" "},{"$f":"IFERROR(VLOOKUP(MID(AA$27,5,4)&$A44,Lista_Ubigeo!$J:$K,2,0),\" \")","v":" "},{"$f":"IFERROR(VLOOKUP(MID(AB$27,5,4)&$A44,Lista_Ubigeo!$J:$K,2,0),\" \")","v":" "},{"$f":"IFERROR(VLOOKUP(MID(AC$27,5,4)&$A44,Lista_Ubigeo!$J:$K,2,0),\" \")","v":" "},{"$f":"IFERROR(VLOOKUP(MID(AD$27,5,4)&$A44,Lista_Ubigeo!$J:$K,2,0),\" \")","v":"TUMAY HUARACA"},{"$f":"IFERROR(VLOOKUP(MID(AE$27,5,4)&$A44,Lista_Ubigeo!$J:$K,2,0),\" \")","v":" "},{"$f":"IFERROR(VLOOKUP(MID(AF$27,5,4)&$A44,Lista_Ubigeo!$J:$K,2,0),\" \")","v":"YANACA"},{"$f":"IFERROR(VLOOKUP(MID(AG$27,5,4)&$A44,Lista_Ubigeo!$J:$K,2,0),\" \")","v":" "},{"$f":"IFERROR(VLOOKUP(MID(AH$27,5,4)&$A44,Lista_Ubigeo!$J:$K,2,0),\" \")","v":" "},{"$f":"IFERROR(VLOOKUP(MID(AI$27,5,4)&$A44,Lista_Ubigeo!$J:$K,2,0),\" \")","v":" "},{"$f":"IFERROR(VLOOKUP(MID(AJ$27,5,4)&$A44,Lista_Ubigeo!$J:$K,2,0),\" \")","v":"SACHACA"},{"$f":"IFERROR(VLOOKUP(MID(AK$27,5,4)&$A44,Lista_Ubigeo!$J:$K,2,0),\" \")","v":" "},{"$f":"IFERROR(VLOOKUP(MID(AL$27,5,4)&$A44,Lista_Ubigeo!$J:$K,2,0),\" \")","v":" "},{"$f":"IFERROR(VLOOKUP(MID(AM$27,5,4)&$A44,Lista_Ubigeo!$J:$K,2,0),\" \")","v":" "},{"$f":"IFERROR(VLOOKUP(MID(AN$27,5,4)&$A44,Lista_Ubigeo!$J:$K,2,0),\" \")","v":"TISCO"},{"$f":"IFERROR(VLOOKUP(MID(AO$27,5,4)&$A44,Lista_Ubigeo!$J:$K,2,0),\" \")","v":" "},{"$f":"IFERROR(VLOOKUP(MID(AP$27,5,4)&$A44,Lista_Ubigeo!$J:$K,2,0),\" \")","v":" "},{"$f":"IFERROR(VLOOKUP(MID(AQ$27,4,4)&$A44,Lista_Ubigeo!$J:$K,2,0),\" \")","v":" "},{"$f":"IFERROR(VLOOKUP(MID(AR$27,5,4)&$A44,Lista_Ubigeo!$J:$K,2,0),\" \")","v":" "},{"$f":"IFERROR(VLOOKUP(MID(AS$27,5,4)&$A44,Lista_Ubigeo!$J:$K,2,0),\" \")","v":" "},{"$f":"IFERROR(VLOOKUP(MID(AT$27,5,4)&$A44,Lista_Ubigeo!$J:$K,2,0),\" \")","v":" "},{"$f":"IFERROR(VLOOKUP(MID(AU$27,5,4)&$A44,Lista_Ubigeo!$J:$K,2,0),\" \")","v":" "},{"$f":"IFERROR(VLOOKUP(MID(AV$27,5,4)&$A44,Lista_Ubigeo!$J:$K,2,0),\" \")","v":" "},{"$f":"IFERROR(VLOOKUP(MID(AW$27,5,4)&$A44,Lista_Ubigeo!$J:$K,2,0),\" \")","v":"SAN PEDRO"},{"$f":"IFERROR(VLOOKUP(MID(AX$27,5,4)&$A44,Lista_Ubigeo!$J:$K,2,0),\" \")","v":" "},{"$f":"IFERROR(VLOOKUP(MID(AY$27,5,4)&$A44,Lista_Ubigeo!$J:$K,2,0),\" \")","v":" "},{"$f":"IFERROR(VLOOKUP(MID(AZ$27,5,4)&$A44,Lista_Ubigeo!$J:$K,2,0),\" \")","v":" "},{"$f":"IFERROR(VLOOKUP(MID(BA$27,5,4)&$A44,Lista_Ubigeo!$J:$K,2,0),\" \")","v":" "},{"$f":"IFERROR(VLOOKUP(MID(BB$27,5,4)&$A44,Lista_Ubigeo!$J:$K,2,0),\" \")","v":" "},{"$f":"IFERROR(VLOOKUP(MID(BC$27,5,4)&$A44,Lista_Ubigeo!$J:$K,2,0),\" \")","v":" "},{"$f":"IFERROR(VLOOKUP(MID(BD$27,5,4)&$A44,Lista_Ubigeo!$J:$K,2,0),\" \")","v":" "},{"$f":"IFERROR(VLOOKUP(MID(BE$27,5,4)&$A44,Lista_Ubigeo!$J:$K,2,0),\" \")","v":" "},{"$f":"IFERROR(VLOOKUP(MID(BF$27,5,4)&$A44,Lista_Ubigeo!$J:$K,2,0),\" \")","v":"TACABAMBA"},{"$f":"IFERROR(VLOOKUP(MID(BG$27,5,4)&$A44,Lista_Ubigeo!$J:$K,2,0),\" \")","v":" "},{"$f":"IFERROR(VLOOKUP(MID(BH$27,5,4)&$A44,Lista_Ubigeo!$J:$K,2,0),\" \")","v":" "},{"$f":"IFERROR(VLOOKUP(MID(BI$27,5,4)&$A44,Lista_Ubigeo!$J:$K,2,0),\" \")","v":" "},{"$f":"IFERROR(VLOOKUP(MID(BJ$27,5,4)&$A44,Lista_Ubigeo!$J:$K,2,0),\" \")","v":" "},{"$f":"IFERROR(VLOOKUP(MID(BK$27,5,4)&$A44,Lista_Ubigeo!$J:$K,2,0),\" \")","v":" "},{"$f":"IFERROR(VLOOKUP(MID(BL$27,5,4)&$A44,Lista_Ubigeo!$J:$K,2,0),\" \")","v":" "},{"$f":"IFERROR(VLOOKUP(MID(BM$27,5,4)&$A44,Lista_Ubigeo!$J:$K,2,0),\" \")","v":" "},{"$f":"IFERROR(VLOOKUP(MID(BN$27,5,4)&$A44,Lista_Ubigeo!$J:$K,2,0),\" \")","v":" "},{"$f":"IFERROR(VLOOKUP(MID(BO$27,5,4)&$A44,Lista_Ubigeo!$J:$K,2,0),\" \")","v":" "},{"$f":"IFERROR(VLOOKUP(MID(BP$27,5,4)&$A44,Lista_Ubigeo!$J:$K,2,0),\" \")","v":" "},{"$f":"IFERROR(VLOOKUP(MID(BQ$27,5,4)&$A44,Lista_Ubigeo!$J:$K,2,0),\" \")","v":" "},{"$f":"IFERROR(VLOOKUP(MID(BR$27,5,4)&$A44,Lista_Ubigeo!$J:$K,2,0),\" \")","v":" "},{"$f":"IFERROR(VLOOKUP(MID(BS$27,5,4)&$A44,Lista_Ubigeo!$J:$K,2,0),\" \")","v":" "},{"$f":"IFERROR(VLOOKUP(MID(BT$27,5,4)&$A44,Lista_Ubigeo!$J:$K,2,0),\" \")","v":" "},{"$f":"IFERROR(VLOOKUP(MID(BU$27,5,4)&$A44,Lista_Ubigeo!$J:$K,2,0),\" \")","v":" "},{"$f":"IFERROR(VLOOKUP(MID(BV$27,5,4)&$A44,Lista_Ubigeo!$J:$K,2,0),\" \")","v":" "},{"$f":"IFERROR(VLOOKUP(MID(BW$27,5,4)&$A44,Lista_Ubigeo!$J:$K,2,0),\" \")","v":" "},{"$f":"IFERROR(VLOOKUP(MID(BX$27,5,4)&$A44,Lista_Ubigeo!$J:$K,2,0),\" \")","v":" "},{"$f":"IFERROR(VLOOKUP(MID(BY$27,4,4)&$A44,Lista_Ubigeo!$J:$K,2,0),\" \")","v":" "},{"$f":"IFERROR(VLOOKUP(MID(BZ$27,5,4)&$A44,Lista_Ubigeo!$J:$K,2,0),\" \")","v":" "},{"$f":"IFERROR(VLOOKUP(MID(CA$27,5,4)&$A44,Lista_Ubigeo!$J:$K,2,0),\" \")","v":" "},{"$f":"IFERROR(VLOOKUP(MID(CB$27,5,4)&$A44,Lista_Ubigeo!$J:$K,2,0),\" \")","v":" "},{"$f":"IFERROR(VLOOKUP(MID(CC$27,5,4)&$A44,Lista_Ubigeo!$J:$K,2,0),\" \")","v":" "},{"$f":"IFERROR(VLOOKUP(MID(CD$27,5,4)&$A44,Lista_Ubigeo!$J:$K,2,0),\" \")","v":"YAULI"},{"$f":"IFERROR(VLOOKUP(MID(CE$27,5,4)&$A44,Lista_Ubigeo!$J:$K,2,0),\" \")","v":" "},{"$f":"IFERROR(VLOOKUP(MID(CF$27,5,4)&$A44,Lista_Ubigeo!$J:$K,2,0),\" \")","v":" "},{"$f":"IFERROR(VLOOKUP(MID(CG$27,5,4)&$A44,Lista_Ubigeo!$J:$K,2,0),\" \")","v":" "},{"$f":"IFERROR(VLOOKUP(MID(CH$27,5,4)&$A44,Lista_Ubigeo!$J:$K,2,0),\" \")","v":" "},{"$f":"IFERROR(VLOOKUP(MID(CI$27,5,4)&$A44,Lista_Ubigeo!$J:$K,2,0),\" \")","v":" "},"QUICHUAS",{"$f":"IFERROR(VLOOKUP(MID(CK$27,5,4)&$A44,Lista_Ubigeo!$J:$K,2,0),\" \")","v":" "},{"$f":"IFERROR(VLOOKUP(MID(CL$27,5,4)&$A44,Lista_Ubigeo!$J:$K,2,0),\" \")","v":" "},{"$f":"IFERROR(VLOOKUP(MID(CM$27,5,4)&$A55,Lista_Ubigeo!$J:$K,2,0),\" \")","v":" "},{"$f":"IFERROR(VLOOKUP(MID(CN$27,5,4)&$A44,Lista_Ubigeo!$J:$K,2,0),\" \")","v":" "},{"$f":"IFERROR(VLOOKUP(MID(CO$27,5,4)&$A44,Lista_Ubigeo!$J:$K,2,0),\" \")","v":" "},{"$f":"IFERROR(VLOOKUP(MID(CP$27,5,4)&$A44,Lista_Ubigeo!$J:$K,2,0),\" \")","v":" "},{"$f":"IFERROR(VLOOKUP(MID(CQ$27,5,4)&$A44,Lista_Ubigeo!$J:$K,2,0),\" \")","v":" "},{"$f":"IFERROR(VLOOKUP(MID(CR$27,5,4)&$A44,Lista_Ubigeo!$J:$K,2,0),\" \")","v":" "},{"$f":"IFERROR(VLOOKUP(MID(CS$27,5,4)&$A44,Lista_Ubigeo!$J:$K,2,0),\" \")","v":" "},{"$f":"IFERROR(VLOOKUP(MID(CT$27,5,4)&$A44,Lista_Ubigeo!$J:$K,2,0),\" \")","v":" "},{"$f":"IFERROR(VLOOKUP(MID(CU$27,5,4)&$A44,Lista_Ubigeo!$J:$K,2,0),\" \")","v":" "},{"$f":"IFERROR(VLOOKUP(MID(CV$27,5,4)&$A44,Lista_Ubigeo!$J:$K,2,0),\" \")","v":" "},{"$f":"IFERROR(VLOOKUP(MID(CW$27,5,4)&$A44,Lista_Ubigeo!$J:$K,2,0),\" \")","v":" "},{"$f":"IFERROR(VLOOKUP(MID(CX$27,5,4)&$A44,Lista_Ubigeo!$J:$K,2,0),\" \")","v":" "},{"$f":"IFERROR(VLOOKUP(MID(CY$27,5,4)&$A44,Lista_Ubigeo!$J:$K,2,0),\" \")","v":" "},{"$f":"IFERROR(VLOOKUP(MID(CZ$27,5,4)&$A44,Lista_Ubigeo!$J:$K,2,0),\" \")","v":" "},"PARIAHUANCA",{"$f":"IFERROR(VLOOKUP(MID(DB$27,5,4)&$A44,Lista_Ubigeo!$J:$K,2,0),\" \")","v":" "},{"$f":"IFERROR(VLOOKUP(MID(DC$27,5,4)&$A44,Lista_Ubigeo!$J:$K,2,0),\" \")","v":" "},{"$f":"IFERROR(VLOOKUP(MID(DD$27,5,4)&$A44,Lista_Ubigeo!$J:$K,2,0),\" \")","v":"MASMA CHICCHE"},{"$f":"IFERROR(VLOOKUP(MID(DE$27,5,4)&$A44,Lista_Ubigeo!$J:$K,2,0),\" \")","v":" "},{"$f":"IFERROR(VLOOKUP(MID(DF$27,5,4)&$A44,Lista_Ubigeo!$J:$K,2,0),\" \")","v":" "},{"$f":"IFERROR(VLOOKUP(MID(DG$27,5,4)&$A44,Lista_Ubigeo!$J:$K,2,0),\" \")","v":" "},{"$f":"IFERROR(VLOOKUP(MID(DH$27,5,4)&$A44,Lista_Ubigeo!$J:$K,2,0),\" \")","v":" "},{"$f":"IFERROR(VLOOKUP(MID(DI$27,5,4)&$A44,Lista_Ubigeo!$J:$K,2,0),\" \")","v":" "},{"$f":"IFERROR(VLOOKUP(MID(DJ$27,5,4)&$A44,Lista_Ubigeo!$J:$K,2,0),\" \")","v":" "},{"$f":"IFERROR(VLOOKUP(MID(DK$27,5,4)&$A44,Lista_Ubigeo!$J:$K,2,0),\" \")","v":" "},{"$f":"IFERROR(VLOOKUP(MID(DL$27,5,4)&$A44,Lista_Ubigeo!$J:$K,2,0),\" \")","v":" "},{"$f":"IFERROR(VLOOKUP(MID(DM$27,5,4)&$A44,Lista_Ubigeo!$J:$K,2,0),\" \")","v":" "},{"$f":"IFERROR(VLOOKUP(MID(DN$27,5,4)&$A44,Lista_Ubigeo!$J:$K,2,0),\" \")","v":" "},{"$f":"IFERROR(VLOOKUP(MID(DO$27,5,4)&$A45,Lista_Ubigeo!$J:$K,2,0),\" \")","v":" "},{"$f":"IFERROR(VLOOKUP(MID(DP$27,5,4)&$A44,Lista_Ubigeo!$J:$K,2,0),\" \")","v":" "},{"$f":"IFERROR(VLOOKUP(MID(DQ$27,5,4)&$A44,Lista_Ubigeo!$J:$K,2,0),\" \")","v":" "},{"$f":"IFERROR(VLOOKUP(MID(DR$27,5,4)&$A44,Lista_Ubigeo!$J:$K,2,0),\" \")","v":" "},{"$f":"IFERROR(VLOOKUP(MID(DS$27,5,4)&$A44,Lista_Ubigeo!$J:$K,2,0),\" \")","v":" "},null,null,{"$f":"IFERROR(VLOOKUP(MID(DV$27,5,4)&$A44,Lista_Ubigeo!$J:$K,2,0),\" \")","v":"PATAPO"},{"$f":"IFERROR(VLOOKUP(MID(DW$27,5,4)&$A44,Lista_Ubigeo!$J:$K,2,0),\" \")","v":" "},{"$f":"IFERROR(VLOOKUP(MID(DX$27,5,4)&$A44,Lista_Ubigeo!$J:$K,2,0),\" \")","v":" "},{"$f":"IFERROR(VLOOKUP(MID(DY$27,5,4)&$A44,Lista_Ubigeo!$J:$K,2,0),\" \")","v":"LOS OLIVOS"},{"$f":"IFERROR(VLOOKUP(MID(DZ$27,5,4)&$A44,Lista_Ubigeo!$J:$K,2,0),\" \")","v":" "},{"$f":"IFERROR(VLOOKUP(MID(EA$27,5,4)&$A44,Lista_Ubigeo!$J:$K,2,0),\" \")","v":" "},{"$f":"IFERROR(VLOOKUP(MID(EB$27,5,4)&$A44,Lista_Ubigeo!$J:$K,2,0),\" \")","v":" "},{"$f":"IFERROR(VLOOKUP(MID(EC$27,5,4)&$A44,Lista_Ubigeo!$J:$K,2,0),\" \")","v":" "},{"$f":"IFERROR(VLOOKUP(MID(ED$27,5,4)&$A44,Lista_Ubigeo!$J:$K,2,0),\" \")","v":" "},{"$f":"IFERROR(VLOOKUP(MID(EE$27,5,4)&$A44,Lista_Ubigeo!$J:$K,2,0),\" \")","v":"SAN BARTOLOME"},{"$f":"IFERROR(VLOOKUP(MID(EF$27,5,4)&$A44,Lista_Ubigeo!$J:$K,2,0),\" \")","v":" "},{"$f":"IFERROR(VLOOKUP(MID(EG$27,5,4)&$A44,Lista_Ubigeo!$J:$K,2,0),\" \")","v":" "},{"$f":"IFERROR(VLOOKUP(MID(EH$27,5,4)&$A44,Lista_Ubigeo!$J:$K,2,0),\" \")","v":"HUAÑEC"},{"$f":"IFERROR(VLOOKUP(MID(EI$27,5,4)&$A44,Lista_Ubigeo!$J:$K,2,0),\" \")","v":" "},{"$f":"IFERROR(VLOOKUP(MID(EJ$27,5,4)&$A49,Lista_Ubigeo!$J:$K,2,0),\" \")","v":" "},{"$f":"IFERROR(VLOOKUP(MID(EK$27,5,4)&$A44,Lista_Ubigeo!$J:$K,2,0),\" \")","v":" "},{"$f":"IFERROR(VLOOKUP(MID(EL$27,5,4)&$A44,Lista_Ubigeo!$J:$K,2,0),\" \")","v":" "},{"$f":"IFERROR(VLOOKUP(MID(EM$27,5,4)&$A44,Lista_Ubigeo!$J:$K,2,0),\" \")","v":" "},{"$f":"IFERROR(VLOOKUP(MID(EN$27,5,4)&$A44,Lista_Ubigeo!$J:$K,2,0),\" \")","v":" "},{"$f":"IFERROR(VLOOKUP(MID(EO$27,5,4)&$A44,Lista_Ubigeo!$J:$K,2,0),\" \")","v":" "},{"$f":"IFERROR(VLOOKUP(MID(EP$27,5,4)&$A44,Lista_Ubigeo!$J:$K,2,0),\" \")","v":" "},{"$f":"IFERROR(VLOOKUP(MID(EQ$27,5,4)&$A44,Lista_Ubigeo!$J:$K,2,0),\" \")","v":" "},{"$f":"IFERROR(VLOOKUP(MID(ER$27,5,4)&$A44,Lista_Ubigeo!$J:$K,2,0),\" \")","v":" "},{"$f":"IFERROR(VLOOKUP(MID(ES$27,5,4)&$A44,Lista_Ubigeo!$J:$K,2,0),\" \")","v":" "},{"$f":"IFERROR(VLOOKUP(MID(ET$27,5,4)&$A44,Lista_Ubigeo!$J:$K,2,0),\" \")","v":" "},{"$f":"IFERROR(VLOOKUP(MID(EU$27,5,4)&$A44,Lista_Ubigeo!$J:$K,2,0),\" \")","v":" "},{"$f":"IFERROR(VLOOKUP(MID(EV$27,5,4)&$A44,Lista_Ubigeo!$J:$K,2,0),\" \")","v":" "},{"$f":"IFERROR(VLOOKUP(MID(EW$27,5,4)&$A44,Lista_Ubigeo!$J:$K,2,0),\" \")","v":" "},{"$f":"IFERROR(VLOOKUP(MID(EX$27,5,4)&$A44,Lista_Ubigeo!$J:$K,2,0),\" \")","v":" "},{"$f":"IFERROR(VLOOKUP(MID(EY$27,5,4)&$A44,Lista_Ubigeo!$J:$K,2,0),\" \")","v":" "},{"$f":"IFERROR(VLOOKUP(MID(EZ$27,5,4)&$A47,Lista_Ubigeo!$J:$K,2,0),\" \")","v":" "},{"$f":"IFERROR(VLOOKUP(MID(FA$27,5,4)&$A44,Lista_Ubigeo!$J:$K,2,0),\" \")","v":" "},{"$f":"IFERROR(VLOOKUP(MID(FB$27,5,4)&$A44,Lista_Ubigeo!$J:$K,2,0),\" \")","v":" "},{"$f":"IFERROR(VLOOKUP(MID(FC$27,5,4)&$A44,Lista_Ubigeo!$J:$K,2,0),\" \")","v":" "},{"$f":"IFERROR(VLOOKUP(MID(FD$27,5,4)&$A44,Lista_Ubigeo!$J:$K,2,0),\" \")","v":" "},{"$f":"IFERROR(VLOOKUP(MID(FE$27,5,4)&$A44,Lista_Ubigeo!$J:$K,2,0),\" \")","v":" "},{"$f":"IFERROR(VLOOKUP(MID(FF$27,5,4)&$A44,Lista_Ubigeo!$J:$K,2,0),\" \")","v":" "},{"$f":"IFERROR(VLOOKUP(MID(FG$27,5,4)&$A44,Lista_Ubigeo!$J:$K,2,0),\" \")","v":" "},{"$f":"IFERROR(VLOOKUP(MID(FH$27,5,4)&$A44,Lista_Ubigeo!$J:$K,2,0),\" \")","v":" "},{"$f":"IFERROR(VLOOKUP(MID(FI$27,5,4)&$A44,Lista_Ubigeo!$J:$K,2,0),\" \")","v":" "},{"$f":"IFERROR(VLOOKUP(MID(FJ$27,5,4)&$A44,Lista_Ubigeo!$J:$K,2,0),\" \")","v":" "},{"$f":"IFERROR(VLOOKUP(MID(FK$27,5,4)&$A44,Lista_Ubigeo!$J:$K,2,0),\" \")","v":" "},{"$f":"IFERROR(VLOOKUP(MID(FL$27,5,4)&$A44,Lista_Ubigeo!$J:$K,2,0),\" \")","v":" "},{"$f":"IFERROR(VLOOKUP(MID(FM$27,5,4)&$A44,Lista_Ubigeo!$J:$K,2,0),\" \")","v":" "},{"$f":"IFERROR(VLOOKUP(MID(FN$27,5,4)&$A44,Lista_Ubigeo!$J:$K,2,0),\" \")","v":" "},{"$f":"IFERROR(VLOOKUP(MID(FO$27,5,4)&$A44,Lista_Ubigeo!$J:$K,2,0),\" \")","v":" "},{"$f":"IFERROR(VLOOKUP(MID(FP$27,5,4)&$A44,Lista_Ubigeo!$J:$K,2,0),\" \")","v":" "},{"$f":"IFERROR(VLOOKUP(MID(FQ$27,5,4)&$A44,Lista_Ubigeo!$J:$K,2,0),\" \")","v":" "},{"$f":"IFERROR(VLOOKUP(MID(FR$27,5,4)&$A44,Lista_Ubigeo!$J:$K,2,0),\" \")","v":" "},{"$f":"IFERROR(VLOOKUP(MID(FS$27,5,4)&$A44,Lista_Ubigeo!$J:$K,2,0),\" \")","v":" "},{"$f":"IFERROR(VLOOKUP(MID(FT$27,5,4)&$A44,Lista_Ubigeo!$J:$K,2,0),\" \")","v":" "},{"$f":"IFERROR(VLOOKUP(MID(FU$27,5,4)&$A44,Lista_Ubigeo!$J:$K,2,0),\" \")","v":" "},{"$f":"IFERROR(VLOOKUP(MID(FV$27,5,4)&$A44,Lista_Ubigeo!$J:$K,2,0),\" \")","v":" "},{"$f":"IFERROR(VLOOKUP(MID(FW$27,5,4)&$A44,Lista_Ubigeo!$J:$K,2,0),\" \")","v":" "},{"$f":"IFERROR(VLOOKUP(MID(FX$27,5,4)&$A44,Lista_Ubigeo!$J:$K,2,0),\" \")","v":" "},{"$f":"IFERROR(VLOOKUP(MID(FY$27,5,4)&$A44,Lista_Ubigeo!$J:$K,2,0),\" \")","v":" "},{"$f":"IFERROR(VLOOKUP(MID(FZ$27,5,4)&$A44,Lista_Ubigeo!$J:$K,2,0),\" \")","v":" "},{"$f":"IFERROR(VLOOKUP(MID(GA$27,5,4)&$A44,Lista_Ubigeo!$J:$K,2,0),\" \")","v":" "},{"$f":"IFERROR(VLOOKUP(MID(GB$27,5,4)&$A44,Lista_Ubigeo!$J:$K,2,0),\" \")","v":" "},{"$f":"IFERROR(VLOOKUP(MID(GC$27,5,4)&$A44,Lista_Ubigeo!$J:$K,2,0),\" \")","v":" "},{"$f":"IFERROR(VLOOKUP(MID(GD$27,5,4)&$A44,Lista_Ubigeo!$J:$K,2,0),\" \")","v":" "},{"$f":"IFERROR(VLOOKUP(MID(GE$27,5,4)&$A44,Lista_Ubigeo!$J:$K,2,0),\" \")","v":" "},{"$f":"IFERROR(VLOOKUP(MID(GF$27,5,4)&$A44,Lista_Ubigeo!$J:$K,2,0),\" \")","v":" "},{"$f":"IFERROR(VLOOKUP(MID(GG$27,5,4)&$A44,Lista_Ubigeo!$J:$K,2,0),\" \")","v":" "},{"$f":"IFERROR(VLOOKUP(MID(GH$27,5,4)&$A44,Lista_Ubigeo!$J:$K,2,0),\" \")","v":" "},{"$f":"IFERROR(VLOOKUP(MID(GI$27,5,4)&$A44,Lista_Ubigeo!$J:$K,2,0),\" \")","v":" "},{"$f":"IFERROR(VLOOKUP(MID(GJ$27,5,4)&$A44,Lista_Ubigeo!$J:$K,2,0),\" \")","v":" "},{"$f":"IFERROR(VLOOKUP(MID(GK$27,5,4)&$A44,Lista_Ubigeo!$J:$K,2,0),\" \")","v":" "},{"$f":"IFERROR(VLOOKUP(MID(GL$27,5,4)&$A44,Lista_Ubigeo!$J:$K,2,0),\" \")","v":" "},{"$f":"IFERROR(VLOOKUP(MID(GM$27,5,4)&$A44,Lista_Ubigeo!$J:$K,2,0),\" \")","v":" "},{"$f":"IFERROR(VLOOKUP(MID(GN$27,5,4)&$A44,Lista_Ubigeo!$J:$K,2,0),\" \")","v":" "},{"$f":"IFERROR(VLOOKUP(MID(GO$27,5,4)&$A44,Lista_Ubigeo!$J:$K,2,0),\" \")","v":" "},{"$f":"IFERROR(VLOOKUP(MID(GP$27,5,4)&$A44,Lista_Ubigeo!$J:$K,2,0),\" \")","v":" "}]
["18",{"$f":"IFERROR(VLOOKUP(MID(B$27,5,4)&$A45,Lista_Ubigeo!$J:$K,2,0),\" \")","v":"SAN FRANCISCO DE DAGUAS"},{"$f":"IFERROR(VLOOKUP(MID(C$27,5,4)&$A45,Lista_Ubigeo!$J:$K,2,0),\" \")","v":" "},{"$f":"IFERROR(VLOOKUP(MID(D$27,5,4)&$A45,Lista_Ubigeo!$J:$K,2,0),\" \")","v":" "},{"$f":"IFERROR(VLOOKUP(MID(E$27,5,4)&$A45,Lista_Ubigeo!$J:$K,2,0),\" \")","v":" "},{"$f":"IFERROR(VLOOKUP(MID(F$27,5,4)&$A45,Lista_Ubigeo!$J:$K,2,0),\" \")","v":"SAN JERONIMO"},{"$f":"IFERROR(VLOOKUP(MID(G$27,5,4)&$A45,Lista_Ubigeo!$J:$K,2,0),\" \")","v":" "},{"$f":"IFERROR(VLOOKUP(MID(H$27,5,4)&$A45,Lista_Ubigeo!$J:$K,2,0),\" \")","v":" "},{"$f":"IFERROR(VLOOKUP(MID(I$27,5,4)&$A45,Lista_Ubigeo!$J:$K,2,0),\" \")","v":" "},{"$f":"IFERROR(VLOOKUP(MID(J$27,5,4)&$A45,Lista_Ubigeo!$J:$K,2,0),\" \")","v":" "},{"$f":"IFERROR(VLOOKUP(MID(K$27,5,4)&$A45,Lista_Ubigeo!$J:$K,2,0),\" \")","v":" "},{"$f":"IFERROR(VLOOKUP(MID(L$27,5,4)&$A45,Lista_Ubigeo!$J:$K,2,0),\" \")","v":" "},{"$f":"IFERROR(VLOOKUP(MID(M$27,5,4)&$A45,Lista_Ubigeo!$J:$K,2,0),\" \")","v":" "},{"$f":"IFERROR(VLOOKUP(MID(N$27,5,4)&$A45,Lista_Ubigeo!$J:$K,2,0),\" \")","v":" "},{"$f":"IFERROR(VLOOKUP(MID(O$27,5,4)&$A45,Lista_Ubigeo!$J:$K,2,0),\" \")","v":" "},{"$f":"IFERROR(VLOOKUP(MID(P$27,5,4)&$A45,Lista_Ubigeo!$J:$K,2,0),\" \")","v":" "},{"$f":"IFERROR(VLOOKUP(MID(Q$27,5,4)&$A45,Lista_Ubigeo!$J:$K,2,0),\" \")","v":" "},{"$f":"IFERROR(VLOOKUP(MID(R$27,5,4)&$A45,Lista_Ubigeo!$J:$K,2,0),\" \")","v":" "},{"$f":"IFERROR(VLOOKUP(MID(S$27,5,4)&$A45,Lista_Ubigeo!$J:$K,2,0),\" \")","v":" "},{"$f":"IFERROR(VLOOKUP(MID(T$27,5,4)&$A45,Lista_Ubigeo!$J:$K,2,0),\" \")","v":" "},{"$f":"IFERROR(VLOOKUP(MID(U$27,5,4)&$A45,Lista_Ubigeo!$J:$K,2,0),\" \")","v":" "},{"$f":"IFERROR(VLOOKUP(MID(V$27,5,4)&$A45,Lista_Ubigeo!$J:$K,2,0),\" \")","v":" "},{"$f":"IFERROR(VLOOKUP(MID(W$27,5,4)&$A45,Lista_Ubigeo!$J:$K,2,0),\" \")","v":" "},{"$f":"IFERROR(VLOOKUP(MID(X$27,5,4)&$A45,Lista_Ubigeo!$J:$K,2,0),\" \")","v":" "},{"$f":"IFERROR(VLOOKUP(MID(Y$27,5,4)&$A45,Lista_Ubigeo!$J:$K,2,0),\" \")","v":" "},{"$f":"IFERROR(VLOOKUP(MID(Z$27,5,4)&$A45,Lista_Ubigeo!$J:$K,2,0),\" \")","v":" "},{"$f":"IFERROR(VLOOKUP(MID(AA$27,5,4)&$A45,Lista_Ubigeo!$J:$K,2,0),\" \")","v":" "},{"$f":"IFERROR(VLOOKUP(MID(AB$27,5,4)&$A45,Lista_Ubigeo!$J:$K,2,0),\" \")","v":" "},{"$f":"IFERROR(VLOOKUP(MID(AC$27,5,4)&$A45,Lista_Ubigeo!$J:$K,2,0),\" \")","v":" "},{"$f":"IFERROR(VLOOKUP(MID(AD$27,5,4)&$A45,Lista_Ubigeo!$J:$K,2,0),\" \")","v":"TURPO"},{"$f":"IFERROR(VLOOKUP(MID(AE$27,5,4)&$A45,Lista_Ubigeo!$J:$K,2,0),\" \")","v":" "},{"$f":"IFERROR(VLOOKUP(MID(AF$27,5,4)&$A45,Lista_Ubigeo!$J:$K,2,0),\" \")","v":" "},{"$f":"IFERROR(VLOOKUP(MID(AG$27,5,4)&$A45,Lista_Ubigeo!$J:$K,2,0),\" \")","v":" "},{"$f":"IFERROR(VLOOKUP(MID(AH$27,5,4)&$A45,Lista_Ubigeo!$J:$K,2,0),\" \")","v":" "},{"$f":"IFERROR(VLOOKUP(MID(AI$27,5,4)&$A45,Lista_Ubigeo!$J:$K,2,0),\" \")","v":" "},{"$f":"IFERROR(VLOOKUP(MID(AJ$27,5,4)&$A45,Lista_Ubigeo!$J:$K,2,0),\" \")","v":"SAN JUAN DE SIGUAS"},{"$f":"IFERROR(VLOOKUP(MID(AK$27,5,4)&$A45,Lista_Ubigeo!$J:$K,2,0),\" \")","v":" "},{"$f":"IFERROR(VLOOKUP(MID(AL$27,5,4)&$A45,Lista_Ubigeo!$J:$K,2,0),\" \")","v":" "},{"$f":"IFERROR(VLOOKUP(MID(AM$27,5,4)&$A45,Lista_Ubigeo!$J:$K,2,0),\" \")","v":" "},{"$f":"IFERROR(VLOOKUP(MID(AN$27,5,4)&$A45,Lista_Ubigeo!$J:$K,2,0),\" \")","v":"TUTI"},{"$f":"IFERROR(VLOOKUP(MID(AO$27,5,4)&$A45,Lista_Ubigeo!$J:$K,2,0),\" \")","v":" "},{"$f":"IFERROR(VLOOKUP(MID(AP$27,5,4)&$A45,Lista_Ubigeo!$J:$K,2,0),\" \")","v":" "},{"$f":"IFERROR(VLOOKUP(MID(AQ$27,4,4)&$A45,Lista_Ubigeo!$J:$K,2,0),\" \")","v":" "},{"$f":"IFERROR(VLOOKUP(MID(AR$27,5,4)&$A45,Lista_Ubigeo!$J:$K,2,0),\" \")","v":" "},{"$f":"IFERROR(VLOOKUP(MID(AS$27,5,4)&$A45,Lista_Ubigeo!$J:$K,2,0),\" \")","v":" "},{"$f":"IFERROR(VLOOKUP(MID(AT$27,5,4)&$A45,Lista_Ubigeo!$J:$K,2,0),\" \")","v":" "},{"$f":"IFERROR(VLOOKUP(MID(AU$27,5,4)&$A45,Lista_Ubigeo!$J:$K,2,0),\" \")","v":" "},{"$f":"IFERROR(VLOOKUP(MID(AV$27,5,4)&$A45,Lista_Ubigeo!$J:$K,2,0),\" \")","v":" "},{"$f":"IFERROR(VLOOKUP(MID(AW$27,5,4)&$A45,Lista_Ubigeo!$J:$K,2,0),\" \")","v":"SAN PEDRO DE PALCO"},{"$f":"IFERROR(VLOOKUP(MID(AX$27,5,4)&$A45,Lista_Ubigeo!$J:$K,2,0),\" \")","v":" "},{"$f":"IFERROR(VLOOKUP(MID(AY$27,5,4)&$A45,Lista_Ubigeo!$J:$K,2,0),\" \")","v":" "},{"$f":"IFERROR(VLOOKUP(MID(AZ$27,5,4)&$A45,Lista_Ubigeo!$J:$K,2,0),\" \")","v":" "},{"$f":"IFERROR(VLOOKUP(MID(BA$27,5,4)&$A45,Lista_Ubigeo!$J:$K,2,0),\" \")","v":" "},{"$f":"IFERROR(VLOOKUP(MID(BB$27,5,4)&$A45,Lista_Ubigeo!$J:$K,2,0),\" \")","v":" "},{"$f":"IFERROR(VLOOKUP(MID(BC$27,5,4)&$A45,Lista_Ubigeo!$J:$K,2,0),\" \")","v":" "},{"$f":"IFERROR(VLOOKUP(MID(BD$27,5,4)&$A45,Lista_Ubigeo!$J:$K,2,0),\" \")","v":" "},{"$f":"IFERROR(VLOOKUP(MID(BE$27,5,4)&$A45,Lista_Ubigeo!$J:$K,2,0),\" \")","v":" "},{"$f":"IFERROR(VLOOKUP(MID(BF$27,5,4)&$A45,Lista_Ubigeo!$J:$K,2,0),\" \")","v":"TOCMOCHE"},{"$f":"IFERROR(VLOOKUP(MID(BG$27,5,4)&$A45,Lista_Ubigeo!$J:$K,2,0),\" \")","v":" "},{"$f":"IFERROR(VLOOKUP(MID(BH$27,5,4)&$A45,Lista_Ubigeo!$J:$K,2,0),\" \")","v":" "},{"$f":"IFERROR(VLOOKUP(MID(BI$27,5,4)&$A45,Lista_Ubigeo!$J:$K,2,0),\" \")","v":" "},{"$f":"IFERROR(VLOOKUP(MID(BJ$27,5,4)&$A45,Lista_Ubigeo!$J:$K,2,0),\" \")","v":" "},{"$f":"IFERROR(VLOOKUP(MID(BK$27,5,4)&$A45,Lista_Ubigeo!$J:$K,2,0),\" \")","v":" "},{"$f":"IFERROR(VLOOKUP(MID(BL$27,5,4)&$A45,Lista_Ubigeo!$J:$K,2,0),\" \")","v":" "},{"$f":"IFERROR(VLOOKUP(MID(BM$27,5,4)&$A45,Lista_Ubigeo!$J:$K,2,0),\" \")","v":" "},{"$f":"IFERROR(VLOOKUP(MID(BN$27,5,4)&$A45,Lista_Ubigeo!$J:$K,2,0),\" \")","v":" "},{"$f":"IFERROR(VLOOKUP(MID(BO$27,5,4)&$A45,Lista_Ubigeo!$J:$K,2,0),\" \")","v":" "},{"$f":"IFERROR(VLOOKUP(MID(BP$27,5,4)&$A45,Lista_Ubigeo!$J:$K,2,0),\" \")","v":" "},{"$f":"IFERROR(VLOOKUP(MID(BQ$27,5,4)&$A45,Lista_Ubigeo!$J:$K,2,0),\" \")","v":" "},{"$f":"IFERROR(VLOOKUP(MID(BR$27,5,4)&$A45,Lista_Ubigeo!$J:$K,2,0),\" \")","v":" "},{"$f":"IFERROR(VLOOKUP(MID(BS$27,5,4)&$A45,Lista_Ubigeo!$J:$K,2,0),\" \")","v":" "},{"$f":"IFERROR(VLOOKUP(MID(BT$27,5,4)&$A45,Lista_Ubigeo!$J:$K,2,0),\" \")","v":" "},{"$f":"IFERROR(VLOOKUP(MID(BU$27,5,4)&$A45,Lista_Ubigeo!$J:$K,2,0),\" \")","v":" "},{"$f":"IFERROR(VLOOKUP(MID(BV$27,5,4)&$A45,Lista_Ubigeo!$J:$K,2,0),\" \")","v":" "},{"$f":"IFERROR(VLOOKUP(MID(BW$27,5,4)&$A45,Lista_Ubigeo!$J:$K,2,0),\" \")","v":" "},{"$f":"IFERROR(VLOOKUP(MID(BX$27,5,4)&$A45,Lista_Ubigeo!$J:$K,2,0),\" \")","v":" "},{"$f":"IFERROR(VLOOKUP(MID(BY$27,4,4)&$A45,Lista_Ubigeo!$J:$K,2,0),\" \")","v":" "},{"$f":"IFERROR(VLOOKUP(MID(BZ$27,5,4)&$A45,Lista_Ubigeo!$J:$K,2,0),\" \")","v":" "},{"$f":"IFERROR(VLOOKUP(MID(CA$27,5,4)&$A45,Lista_Ubigeo!$J:$K,2,0),\" \")","v":" "},{"$f":"IFERROR(VLOOKUP(MID(CB$27,5,4)&$A45,Lista_Ubigeo!$J:$K,2,0),\" \")","v":" "},{"$f":"IFERROR(VLOOKUP(MID(CC$27,5,4)&$A45,Lista_Ubigeo!$J:$K,2,0),\" \")","v":" "},{"$f":"IFERROR(VLOOKUP(MID(CD$27,5,4)&$A45,Lista_Ubigeo!$J:$K,2,0),\" \")","v":"ASCENSION"},{"$f":"IFERROR(VLOOKUP(MID(CE$27,5,4)&$A45,Lista_Ubigeo!$J:$K,2,0),\" \")","v":" "},{"$f":"IFERROR(VLOOKUP(MID(CF$27,5,4)&$A45,Lista_Ubigeo!$J:$K,2,0),\" \")","v":" "},{"$f":"IFERROR(VLOOKUP(MID(CG$27,5,4)&$A45,Lista_Ubigeo!$J:$K,2,0),\" \")","v":" "},{"$f":"IFERROR(VLOOKUP(MID(CH$27,5,4)&$A45,Lista_Ubigeo!$J:$K,2,0),\" \")","v":" "},{"$f":"IFERROR(VLOOKUP(MID(CI$27,5,4)&$A45,Lista_Ubigeo!$J:$K,2,0),\" \")","v":" "},"ANDAYMARCA",{"$f":"IFERROR(VLOOKUP(MID(CK$27,5,4)&$A45,Lista_Ubigeo!$J:$K,2,0),\" \")","v":" "},{"$f":"IFERROR(VLOOKUP(MID(CL$27,5,4)&$A45,Lista_Ubigeo!$J:$K,2,0),\" \")","v":" "},{"$f":"IFERROR(VLOOKUP(MID(CM$27,5,4)&$A56,Lista_Ubigeo!$J:$K,2,0),\" \")","v":" "},{"$f":"IFERROR(VLOOKUP(MID(CN$27,5,4)&$A45,Lista_Ubigeo!$J:$K,2,0),\" \")","v":" "},{"$f":"IFERROR(VLOOKUP(MID(CO$27,5,4)&$A45,Lista_Ubigeo!$J:$K,2,0),\" \")","v":" "},{"$f":"IFERROR(VLOOKUP(MID(CP$27,5,4)&$A45,Lista_Ubigeo!$J:$K,2,0),\" \")","v":" "},{"$f":"IFERROR(VLOOKUP(MID(CQ$27,5,4)&$A45,Lista_Ubigeo!$J:$K,2,0),\" \")","v":" "},{"$f":"IFERROR(VLOOKUP(MID(CR$27,5,4)&$A45,Lista_Ubigeo!$J:$K,2,0),\" \")","v":" "},{"$f":"IFERROR(VLOOKUP(MID(CS$27,5,4)&$A45,Lista_Ubigeo!$J:$K,2,0),\" \")","v":" "},{"$f":"IFERROR(VLOOKUP(MID(CT$27,5,4)&$A45,Lista_Ubigeo!$J:$K,2,0),\" \")","v":" "},{"$f":"IFERROR(VLOOKUP(MID(CU$27,5,4)&$A45,Lista_Ubigeo!$J:$K,2,0),\" \")","v":" "},{"$f":"IFERROR(VLOOKUP(MID(CV$27,5,4)&$A45,Lista_Ubigeo!$J:$K,2,0),\" \")","v":" "},{"$f":"IFERROR(VLOOKUP(MID(CW$27,5,4)&$A45,Lista_Ubigeo!$J:$K,2,0),\" \")","v":" "},{"$f":"IFERROR(VLOOKUP(MID(CX$27,5,4)&$A45,Lista_Ubigeo!$J:$K,2,0),\" \")","v":" "},{"$f":"IFERROR(VLOOKUP(MID(CY$27,5,4)&$A45,Lista_Ubigeo!$J:$K,2,0),\" \")","v":" "},{"$f":"IFERROR(VLOOKUP(MID(CZ$27,5,4)&$A45,Lista_Ubigeo!$J:$K,2,0),\" \")","v":" "},"PILCOMAYO",{"$f":"IFERROR(VLOOKUP(MID(DB$27,5,4)&$A45,Lista_Ubigeo!$J:$K,2,0),\" \")","v":" "},{"$f":"IFERROR(VLOOKUP(MID(DC$27,5,4)&$A45,Lista_Ubigeo!$J:$K,2,0),\" \")","v":" "},{"$f":"IFERROR(VLOOKUP(MID(DD$27,5,4)&$A45,Lista_Ubigeo!$J:$K,2,0),\" \")","v":"MOLINOS"},{"$f":"IFERROR(VLOOKUP(MID(DE$27,5,4)&$A45,Lista_Ubigeo!$J:$K,2,0),\" \")","v":" "},{"$f":"IFERROR(VLOOKUP(MID(DF$27,5,4)&$A45,Lista_Ubigeo!$J:$K,2,0),\" \")","v":" "},{"$f":"IFERROR(VLOOKUP(MID(DG$27,5,4)&$A45,Lista_Ubigeo!$J:$K,2,0),\" \")","v":" "},{"$f":"IFERROR(VLOOKUP(MID(DH$27,5,4)&$A45,Lista_Ubigeo!$J:$K,2,0),\" \")","v":" "},{"$f":"IFERROR(VLOOKUP(MID(DI$27,5,4)&$A45,Lista_Ubigeo!$J:$K,2,0),\" \")","v":" "},{"$f":"IFERROR(VLOOKUP(MID(DJ$27,5,4)&$A45,Lista_Ubigeo!$J:$K,2,0),\" \")","v":" "},{"$f":"IFERROR(VLOOKUP(MID(DK$27,5,4)&$A45,Lista_Ubigeo!$J:$K,2,0),\" \")","v":" "},{"$f":"IFERROR(VLOOKUP(MID(DL$27,5,4)&$A45,Lista_Ubigeo!$J:$K,2,0),\" \")","v":" "},{"$f":"IFERROR(VLOOKUP(MID(DM$27,5,4)&$A45,Lista_Ubigeo!$J:$K,2,0),\" \")","v":" "},{"$f":"IFERROR(VLOOKUP(MID(DN$27,5,4)&$A45,Lista_Ubigeo!$J:$K,2,0),\" \")","v":" "},{"$f":"IFERROR(VLOOKUP(MID(DO$27,5,4)&$A46,Lista_Ubigeo!$J:$K,2,0),\" \")","v":" "},{"$f":"IFERROR(VLOOKUP(MID(DP$27,5,4)&$A45,Lista_Ubigeo!$J:$K,2,0),\" \")","v":" "},{"$f":"IFERROR(VLOOKUP(MID(DQ$27,5,4)&$A45,Lista_Ubigeo!$J:$K,2,0),\" \")","v":" "},{"$f":"IFERROR(VLOOKUP(MID(DR$27,5,4)&$A45,Lista_Ubigeo!$J:$K,2,0),\" \")","v":" "},{"$f":"IFERROR(VLOOKUP(MID(DS$27,5,4)&$A45,Lista_Ubigeo!$J:$K,2,0),\" \")","v":" "},null,null,{"$f":"IFERROR(VLOOKUP(MID(DV$27,5,4)&$A45,Lista_Ubigeo!$J:$K,2,0),\" \")","v":"POMALCA"},{"$f":"IFERROR(VLOOKUP(MID(DW$27,5,4)&$A45,Lista_Ubigeo!$J:$K,2,0),\" \")","v":" "},{"$f":"IFERROR(VLOOKUP(MID(DX$27,5,4)&$A45,Lista_Ubigeo!$J:$K,2,0),\" \")","v":" "},{"$f":"IFERROR(VLOOKUP(MID(DY$27,5,4)&$A45,Lista_Ubigeo!$J:$K,2,0),\" \")","v":"LURIGANCHO (CHOSICA)"},{"$f":"IFERROR(VLOOKUP(MID(DZ$27,5,4)&$A45,Lista_Ubigeo!$J:$K,2,0),\" \")","v":" "},{"$f":"IFERROR(VLOOKUP(MID(EA$27,5,4)&$A45,Lista_Ubigeo!$J:$K,2,0),\" \")","v":" "},{"$f":"IFERROR(VLOOKUP(MID(EB$27,5,4)&$A45,Lista_Ubigeo!$J:$K,2,0),\" \")","v":" "},{"$f":"IFERROR(VLOOKUP(MID(EC$27,5,4)&$A45,Lista_Ubigeo!$J:$K,2,0),\" \")","v":" "},{"$f":"IFERROR(VLOOKUP(MID(ED$27,5,4)&$A45,Lista_Ubigeo!$J:$K,2,0),\" \")","v":" "},{"$f":"IFERROR(VLOOKUP(MID(EE$27,5,4)&$A45,Lista_Ubigeo!$J:$K,2,0),\" \")","v":"SAN DAMIAN"},{"$f":"IFERROR(VLOOKUP(MID(EF$27,5,4)&$A45,Lista_Ubigeo!$J:$K,2,0),\" \")","v":" "},{"$f":"IFERROR(VLOOKUP(MID(EG$27,5,4)&$A45,Lista_Ubigeo!$J:$K,2,0),\" \")","v":" "},{"$f":"IFERROR(VLOOKUP(MID(EH$27,5,4)&$A45,Lista_Ubigeo!$J:$K,2,0),\" \")","v":"LARAOS"},{"$f":"IFERROR(VLOOKUP(MID(EI$27,5,4)&$A45,Lista_Ubigeo!$J:$K,2,0),\" \")","v":" "},{"$f":"IFERROR(VLOOKUP(MID(EJ$27,5,4)&$A50,Lista_Ubigeo!$J:$K,2,0),\" \")","v":" "},{"$f":"IFERROR(VLOOKUP(MID(EK$27,5,4)&$A45,Lista_Ubigeo!$J:$K,2,0),\" \")","v":" "},{"$f":"IFERROR(VLOOKUP(MID(EL$27,5,4)&$A45,Lista_Ubigeo!$J:$K,2,0),\" \")","v":" "},{"$f":"IFERROR(VLOOKUP(MID(EM$27,5,4)&$A45,Lista_Ubigeo!$J:$K,2,0),\" \")","v":" "},{"$f":"IFERROR(VLOOKUP(MID(EN$27,5,4)&$A45,Lista_Ubigeo!$J:$K,2,0),\" \")","v":" "},{"$f":"IFERROR(VLOOKUP(MID(EO$27,5,4)&$A45,Lista_Ubigeo!$J:$K,2,0),\" \")","v":" "},{"$f":"IFERROR(VLOOKUP(MID(EP$27,5,4)&$A45,Lista_Ubigeo!$J:$K,2,0),\" \")","v":" "},{"$f":"IFERROR(VLOOKUP(MID(EQ$27,5,4)&$A45,Lista_Ubigeo!$J:$K,2,0),\" \")","v":" "},{"$f":"IFERROR(VLOOKUP(MID(ER$27,5,4)&$A45,Lista_Ubigeo!$J:$K,2,0),\" \")","v":" "},{"$f":"IFERROR(VLOOKUP(MID(ES$27,5,4)&$A45,Lista_Ubigeo!$J:$K,2,0),\" \")","v":" "},{"$f":"IFERROR(VLOOKUP(MID(ET$27,5,4)&$A45,Lista_Ubigeo!$J:$K,2,0),\" \")","v":" "},{"$f":"IFERROR(VLOOKUP(MID(EU$27,5,4)&$A45,Lista_Ubigeo!$J:$K,2,0),\" \")","v":" "},{"$f":"IFERROR(VLOOKUP(MID(EV$27,5,4)&$A45,Lista_Ubigeo!$J:$K,2,0),\" \")","v":" "},{"$f":"IFERROR(VLOOKUP(MID(EW$27,5,4)&$A45,Lista_Ubigeo!$J:$K,2,0),\" \")","v":" "},{"$f":"IFERROR(VLOOKUP(MID(EX$27,5,4)&$A45,Lista_Ubigeo!$J:$K,2,0),\" \")","v":" "},{"$f":"IFERROR(VLOOKUP(MID(EY$27,5,4)&$A45,Lista_Ubigeo!$J:$K,2,0),\" \")","v":" "},{"$f":"IFERROR(VLOOKUP(MID(EZ$27,5,4)&$A48,Lista_Ubigeo!$J:$K,2,0),\" \")","v":" "},{"$f":"IFERROR(VLOOKUP(MID(FA$27,5,4)&$A45,Lista_Ubigeo!$J:$K,2,0),\" \")","v":" "},{"$f":"IFERROR(VLOOKUP(MID(FB$27,5,4)&$A45,Lista_Ubigeo!$J:$K,2,0),\" \")","v":" "},{"$f":"IFERROR(VLOOKUP(MID(FC$27,5,4)&$A45,Lista_Ubigeo!$J:$K,2,0),\" \")","v":" "},{"$f":"IFERROR(VLOOKUP(MID(FD$27,5,4)&$A45,Lista_Ubigeo!$J:$K,2,0),\" \")","v":" "},{"$f":"IFERROR(VLOOKUP(MID(FE$27,5,4)&$A45,Lista_Ubigeo!$J:$K,2,0),\" \")","v":" "},{"$f":"IFERROR(VLOOKUP(MID(FF$27,5,4)&$A45,Lista_Ubigeo!$J:$K,2,0),\" \")","v":" "},{"$f":"IFERROR(VLOOKUP(MID(FG$27,5,4)&$A45,Lista_Ubigeo!$J:$K,2,0),\" \")","v":" "},{"$f":"IFERROR(VLOOKUP(MID(FH$27,5,4)&$A45,Lista_Ubigeo!$J:$K,2,0),\" \")","v":" "},null,{"$f":"IFERROR(VLOOKUP(MID(FJ$27,5,4)&$A45,Lista_Ubigeo!$J:$K,2,0),\" \")","v":" "},{"$f":"IFERROR(VLOOKUP(MID(FK$27,5,4)&$A45,Lista_Ubigeo!$J:$K,2,0),\" \")","v":" "},{"$f":"IFERROR(VLOOKUP(MID(FL$27,5,4)&$A45,Lista_Ubigeo!$J:$K,2,0),\" \")","v":" "},{"$f":"IFERROR(VLOOKUP(MID(FM$27,5,4)&$A45,Lista_Ubigeo!$J:$K,2,0),\" \")","v":" "},{"$f":"IFERROR(VLOOKUP(MID(FN$27,5,4)&$A45,Lista_Ubigeo!$J:$K,2,0),\" \")","v":" "},{"$f":"IFERROR(VLOOKUP(MID(FO$27,5,4)&$A45,Lista_Ubigeo!$J:$K,2,0),\" \")","v":" "},{"$f":"IFERROR(VLOOKUP(MID(FP$27,5,4)&$A45,Lista_Ubigeo!$J:$K,2,0),\" \")","v":" "},{"$f":"IFERROR(VLOOKUP(MID(FQ$27,5,4)&$A45,Lista_Ubigeo!$J:$K,2,0),\" \")","v":" "},{"$f":"IFERROR(VLOOKUP(MID(FR$27,5,4)&$A45,Lista_Ubigeo!$J:$K,2,0),\" \")","v":" "},{"$f":"IFERROR(VLOOKUP(MID(FS$27,5,4)&$A45,Lista_Ubigeo!$J:$K,2,0),\" \")","v":" "},{"$f":"IFERROR(VLOOKUP(MID(FT$27,5,4)&$A45,Lista_Ubigeo!$J:$K,2,0),\" \")","v":" "},{"$f":"IFERROR(VLOOKUP(MID(FU$27,5,4)&$A45,Lista_Ubigeo!$J:$K,2,0),\" \")","v":" "},{"$f":"IFERROR(VLOOKUP(MID(FV$27,5,4)&$A45,Lista_Ubigeo!$J:$K,2,0),\" \")","v":" "},{"$f":"IFERROR(VLOOKUP(MID(FW$27,5,4)&$A45,Lista_Ubigeo!$J:$K,2,0),\" \")","v":" "},{"$f":"IFERROR(VLOOKUP(MID(FX$27,5,4)&$A45,Lista_Ubigeo!$J:$K,2,0),\" \")","v":" "},{"$f":"IFERROR(VLOOKUP(MID(FY$27,5,4)&$A45,Lista_Ubigeo!$J:$K,2,0),\" \")","v":" "},{"$f":"IFERROR(VLOOKUP(MID(FZ$27,5,4)&$A45,Lista_Ubigeo!$J:$K,2,0),\" \")","v":" "},{"$f":"IFERROR(VLOOKUP(MID(GA$27,5,4)&$A45,Lista_Ubigeo!$J:$K,2,0),\" \")","v":" "},{"$f":"IFERROR(VLOOKUP(MID(GB$27,5,4)&$A45,Lista_Ubigeo!$J:$K,2,0),\" \")","v":" "},{"$f":"IFERROR(VLOOKUP(MID(GC$27,5,4)&$A45,Lista_Ubigeo!$J:$K,2,0),\" \")","v":" "},{"$f":"IFERROR(VLOOKUP(MID(GD$27,5,4)&$A45,Lista_Ubigeo!$J:$K,2,0),\" \")","v":" "},{"$f":"IFERROR(VLOOKUP(MID(GE$27,5,4)&$A45,Lista_Ubigeo!$J:$K,2,0),\" \")","v":" "},{"$f":"IFERROR(VLOOKUP(MID(GF$27,5,4)&$A45,Lista_Ubigeo!$J:$K,2,0),\" \")","v":" "},{"$f":"IFERROR(VLOOKUP(MID(GG$27,5,4)&$A45,Lista_Ubigeo!$J:$K,2,0),\" \")","v":" "},{"$f":"IFERROR(VLOOKUP(MID(GH$27,5,4)&$A45,Lista_Ubigeo!$J:$K,2,0),\" \")","v":" "},{"$f":"IFERROR(VLOOKUP(MID(GI$27,5,4)&$A45,Lista_Ubigeo!$J:$K,2,0),\" \")","v":" "},{"$f":"IFERROR(VLOOKUP(MID(GJ$27,5,4)&$A45,Lista_Ubigeo!$J:$K,2,0),\" \")","v":" "},{"$f":"IFERROR(VLOOKUP(MID(GK$27,5,4)&$A45,Lista_Ubigeo!$J:$K,2,0),\" \")","v":" "},{"$f":"IFERROR(VLOOKUP(MID(GL$27,5,4)&$A45,Lista_Ubigeo!$J:$K,2,0),\" \")","v":" "},{"$f":"IFERROR(VLOOKUP(MID(GM$27,5,4)&$A45,Lista_Ubigeo!$J:$K,2,0),\" \")","v":" "},{"$f":"IFERROR(VLOOKUP(MID(GN$27,5,4)&$A45,Lista_Ubigeo!$J:$K,2,0),\" \")","v":" "},{"$f":"IFERROR(VLOOKUP(MID(GO$27,5,4)&$A45,Lista_Ubigeo!$J:$K,2,0),\" \")","v":" "}]
["19",{"$f":"IFERROR(VLOOKUP(MID(B$27,5,4)&$A46,Lista_Ubigeo!$J:$K,2,0),\" \")","v":"SAN ISIDRO DE MAINO"},{"$f":"IFERROR(VLOOKUP(MID(C$27,5,4)&$A46,Lista_Ubigeo!$J:$K,2,0),\" \")","v":" "},{"$f":"IFERROR(VLOOKUP(MID(D$27,5,4)&$A46,Lista_Ubigeo!$J:$K,2,0),\" \")","v":" "},{"$f":"IFERROR(VLOOKUP(MID(E$27,5,4)&$A46,Lista_Ubigeo!$J:$K,2,0),\" \")","v":" "},{"$f":"IFERROR(VLOOKUP(MID(F$27,5,4)&$A46,Lista_Ubigeo!$J:$K,2,0),\" \")","v":"SAN JUAN DE LOPECANCHA"},{"$f":"IFERROR(VLOOKUP(MID(G$27,5,4)&$A46,Lista_Ubigeo!$J:$K,2,0),\" \")","v":" "},{"$f":"IFERROR(VLOOKUP(MID(H$27,5,4)&$A46,Lista_Ubigeo!$J:$K,2,0),\" \")","v":" "},{"$f":"IFERROR(VLOOKUP(MID(I$27,5,4)&$A46,Lista_Ubigeo!$J:$K,2,0),\" \")","v":" "},{"$f":"IFERROR(VLOOKUP(MID(J$27,5,4)&$A46,Lista_Ubigeo!$J:$K,2,0),\" \")","v":" "},{"$f":"IFERROR(VLOOKUP(MID(K$27,5,4)&$A46,Lista_Ubigeo!$J:$K,2,0),\" \")","v":" "},{"$f":"IFERROR(VLOOKUP(MID(L$27,5,4)&$A46,Lista_Ubigeo!$J:$K,2,0),\" \")","v":" "},{"$f":"IFERROR(VLOOKUP(MID(M$27,5,4)&$A46,Lista_Ubigeo!$J:$K,2,0),\" \")","v":" "},{"$f":"IFERROR(VLOOKUP(MID(N$27,5,4)&$A46,Lista_Ubigeo!$J:$K,2,0),\" \")","v":" "},{"$f":"IFERROR(VLOOKUP(MID(O$27,5,4)&$A46,Lista_Ubigeo!$J:$K,2,0),\" \")","v":" "},{"$f":"IFERROR(VLOOKUP(MID(P$27,5,4)&$A46,Lista_Ubigeo!$J:$K,2,0),\" \")","v":" "},{"$f":"IFERROR(VLOOKUP(MID(Q$27,5,4)&$A46,Lista_Ubigeo!$J:$K,2,0),\" \")","v":" "},{"$f":"IFERROR(VLOOKUP(MID(R$27,5,4)&$A46,Lista_Ubigeo!$J:$K,2,0),\" \")","v":" "},{"$f":"IFERROR(VLOOKUP(MID(S$27,5,4)&$A46,Lista_Ubigeo!$J:$K,2,0),\" \")","v":" "},{"$f":"IFERROR(VLOOKUP(MID(T$27,5,4)&$A46,Lista_Ubigeo!$J:$K,2,0),\" \")","v":" "},{"$f":"IFERROR(VLOOKUP(MID(U$27,5,4)&$A46,Lista_Ubigeo!$J:$K,2,0),\" \")","v":" "},{"$f":"IFERROR(VLOOKUP(MID(V$27,5,4)&$A46,Lista_Ubigeo!$J:$K,2,0),\" \")","v":" "},{"$f":"IFERROR(VLOOKUP(MID(W$27,5,4)&$A46,Lista_Ubigeo!$J:$K,2,0),\" \")","v":" "},{"$f":"IFERROR(VLOOKUP(MID(X$27,5,4)&$A46,Lista_Ubigeo!$J:$K,2,0),\" \")","v":" "},{"$f":"IFERROR(VLOOKUP(MID(Y$27,5,4)&$A46,Lista_Ubigeo!$J:$K,2,0),\" \")","v":" "},{"$f":"IFERROR(VLOOKUP(MID(Z$27,5,4)&$A46,Lista_Ubigeo!$J:$K,2,0),\" \")","v":" "},{"$f":"IFERROR(VLOOKUP(MID(AA$27,5,4)&$A46,Lista_Ubigeo!$J:$K,2,0),\" \")","v":" "},{"$f":"IFERROR(VLOOKUP(MID(AB$27,5,4)&$A46,Lista_Ubigeo!$J:$K,2,0),\" \")","v":" "},{"$f":"IFERROR(VLOOKUP(MID(AC$27,5,4)&$A46,Lista_Ubigeo!$J:$K,2,0),\" \")","v":" "},{"$f":"IFERROR(VLOOKUP(MID(AD$27,5,4)&$A46,Lista_Ubigeo!$J:$K,2,0),\" \")","v":"KAQUIABAMBA"},{"$f":"IFERROR(VLOOKUP(MID(AE$27,5,4)&$A46,Lista_Ubigeo!$J:$K,2,0),\" \")","v":" "},{"$f":"IFERROR(VLOOKUP(MID(AF$27,5,4)&$A46,Lista_Ubigeo!$J:$K,2,0),\" \")","v":" "},{"$f":"IFERROR(VLOOKUP(MID(AG$27,5,4)&$A46,Lista_Ubigeo!$J:$K,2,0),\" \")","v":" "},{"$f":"IFERROR(VLOOKUP(MID(AH$27,5,4)&$A46,Lista_Ubigeo!$J:$K,2,0),\" \")","v":" "},{"$f":"IFERROR(VLOOKUP(MID(AI$27,5,4)&$A46,Lista_Ubigeo!$J:$K,2,0),\" \")","v":" "},{"$f":"IFERROR(VLOOKUP(MID(AJ$27,5,4)&$A46,Lista_Ubigeo!$J:$K,2,0),\" \")","v":"SAN JUAN DE TARUCANI"},{"$f":"IFERROR(VLOOKUP(MID(AK$27,5,4)&$A46,Lista_Ubigeo!$J:$K,2,0),\" \")","v":" "},{"$f":"IFERROR(VLOOKUP(MID(AL$27,5,4)&$A46,Lista_Ubigeo!$J:$K,2,0),\" \")","v":" "},{"$f":"IFERROR(VLOOKUP(MID(AM$27,5,4)&$A46,Lista_Ubigeo!$J:$K,2,0),\" \")","v":" "},{"$f":"IFERROR(VLOOKUP(MID(AN$27,5,4)&$A46,Lista_Ubigeo!$J:$K,2,0),\" \")","v":"YANQUE"},{"$f":"IFERROR(VLOOKUP(MID(AO$27,5,4)&$A46,Lista_Ubigeo!$J:$K,2,0),\" \")","v":" "},{"$f":"IFERROR(VLOOKUP(MID(AP$27,5,4)&$A46,Lista_Ubigeo!$J:$K,2,0),\" \")","v":" "},{"$f":"IFERROR(VLOOKUP(MID(AQ$27,4,4)&$A46,Lista_Ubigeo!$J:$K,2,0),\" \")","v":" "},{"$f":"IFERROR(VLOOKUP(MID(AR$27,5,4)&$A46,Lista_Ubigeo!$J:$K,2,0),\" \")","v":" "},{"$f":"IFERROR(VLOOKUP(MID(AS$27,5,4)&$A46,Lista_Ubigeo!$J:$K,2,0),\" \")","v":" "},{"$f":"IFERROR(VLOOKUP(MID(AT$27,5,4)&$A46,Lista_Ubigeo!$J:$K,2,0),\" \")","v":" "},{"$f":"IFERROR(VLOOKUP(MID(AU$27,5,4)&$A46,Lista_Ubigeo!$J:$K,2,0),\" \")","v":" "},{"$f":"IFERROR(VLOOKUP(MID(AV$27,5,4)&$A46,Lista_Ubigeo!$J:$K,2,0),\" \")","v":" "},{"$f":"IFERROR(VLOOKUP(MID(AW$27,5,4)&$A46,Lista_Ubigeo!$J:$K,2,0),\" \")","v":"SANCOS"},{"$f":"IFERROR(VLOOKUP(MID(AX$27,5,4)&$A46,Lista_Ubigeo!$J:$K,2,0),\" \")","v":" "},{"$f":"IFERROR(VLOOKUP(MID(AY$27,5,4)&$A46,Lista_Ubigeo!$J:$K,2,0),\" \")","v":" "},{"$f":"IFERROR(VLOOKUP(MID(AZ$27,5,4)&$A46,Lista_Ubigeo!$J:$K,2,0),\" \")","v":" "},{"$f":"IFERROR(VLOOKUP(MID(BA$27,5,4)&$A46,Lista_Ubigeo!$J:$K,2,0),\" \")","v":" "},{"$f":"IFERROR(VLOOKUP(MID(BB$27,5,4)&$A46,Lista_Ubigeo!$J:$K,2,0),\" \")","v":" "},{"$f":"IFERROR(VLOOKUP(MID(BC$27,5,4)&$A46,Lista_Ubigeo!$J:$K,2,0),\" \")","v":" "},{"$f":"IFERROR(VLOOKUP(MID(BD$27,5,4)&$A46,Lista_Ubigeo!$J:$K,2,0),\" \")","v":" "},{"$f":"IFERROR(VLOOKUP(MID(BE$27,5,4)&$A46,Lista_Ubigeo!$J:$K,2,0),\" \")","v":" "},{"$f":"IFERROR(VLOOKUP(MID(BF$27,5,4)&$A46,Lista_Ubigeo!$J:$K,2,0),\" \")","v":"CHALAMARCA"},{"$f":"IFERROR(VLOOKUP(MID(BG$27,5,4)&$A46,Lista_Ubigeo!$J:$K,2,0),\" \")","v":" "},{"$f":"IFERROR(VLOOKUP(MID(BH$27,5,4)&$A46,Lista_Ubigeo!$J:$K,2,0),\" \")","v":" "},{"$f":"IFERROR(VLOOKUP(MID(BI$27,5,4)&$A46,Lista_Ubigeo!$J:$K,2,0),\" \")","v":" "},{"$f":"IFERROR(VLOOKUP(MID(BJ$27,5,4)&$A46,Lista_Ubigeo!$J:$K,2,0),\" \")","v":" "},{"$f":"IFERROR(VLOOKUP(MID(BK$27,5,4)&$A46,Lista_Ubigeo!$J:$K,2,0),\" \")","v":" "},{"$f":"IFERROR(VLOOKUP(MID(BL$27,5,4)&$A46,Lista_Ubigeo!$J:$K,2,0),\" \")","v":" "},{"$f":"IFERROR(VLOOKUP(MID(BM$27,5,4)&$A46,Lista_Ubigeo!$J:$K,2,0),\" \")","v":" "},{"$f":"IFERROR(VLOOKUP(MID(BN$27,5,4)&$A46,Lista_Ubigeo!$J:$K,2,0),\" \")","v":" "},{"$f":"IFERROR(VLOOKUP(MID(BO$27,5,4)&$A46,Lista_Ubigeo!$J:$K,2,0),\" \")","v":" "},{"$f":"IFERROR(VLOOKUP(MID(BP$27,5,4)&$A46,Lista_Ubigeo!$J:$K,2,0),\" \")","v":" "},{"$f":"IFERROR(VLOOKUP(MID(BQ$27,5,4)&$A46,Lista_Ubigeo!$J:$K,2,0),\" \")","v":" "},{"$f":"IFERROR(VLOOKUP(MID(BR$27,5,4)&$A46,Lista_Ubigeo!$J:$K,2,0),\" \")","v":" "},{"$f":"IFERROR(VLOOKUP(MID(BS$27,5,4)&$A46,Lista_Ubigeo!$J:$K,2,0),\" \")","v":" "},{"$f":"IFERROR(VLOOKUP(MID(BT$27,5,4)&$A46,Lista_Ubigeo!$J:$K,2,0),\" \")","v":" "},{"$f":"IFERROR(VLOOKUP(MID(BU$27,5,4)&$A46,Lista_Ubigeo!$J:$K,2,0),\" \")","v":" "},{"$f":"IFERROR(VLOOKUP(MID(BV$27,5,4)&$A46,Lista_Ubigeo!$J:$K,2,0),\" \")","v":" "},{"$f":"IFERROR(VLOOKUP(MID(BW$27,5,4)&$A46,Lista_Ubigeo!$J:$K,2,0),\" \")","v":" "},{"$f":"IFERROR(VLOOKUP(MID(BX$27,5,4)&$A46,Lista_Ubigeo!$J:$K,2,0),\" \")","v":" "},{"$f":"IFERROR(VLOOKUP(MID(BY$27,4,4)&$A46,Lista_Ubigeo!$J:$K,2,0),\" \")","v":" "},{"$f":"IFERROR(VLOOKUP(MID(BZ$27,5,4)&$A46,Lista_Ubigeo!$J:$K,2,0),\" \")","v":" "},{"$f":"IFERROR(VLOOKUP(MID(CA$27,5,4)&$A46,Lista_Ubigeo!$J:$K,2,0),\" \")","v":" "},{"$f":"IFERROR(VLOOKUP(MID(CB$27,5,4)&$A46,Lista_Ubigeo!$J:$K,2,0),\" \")","v":" "},{"$f":"IFERROR(VLOOKUP(MID(CC$27,5,4)&$A46,Lista_Ubigeo!$J:$K,2,0),\" \")","v":" "},{"$f":"IFERROR(VLOOKUP(MID(CD$27,5,4)&$A46,Lista_Ubigeo!$J:$K,2,0),\" \")","v":"HUANDO"},{"$f":"IFERROR(VLOOKUP(MID(CE$27,5,4)&$A46,Lista_Ubigeo!$J:$K,2,0),\" \")","v":" "},{"$f":"IFERROR(VLOOKUP(MID(CF$27,5,4)&$A46,Lista_Ubigeo!$J:$K,2,0),\" \")","v":" "},{"$f":"IFERROR(VLOOKUP(MID(CG$27,5,4)&$A46,Lista_Ubigeo!$J:$K,2,0),\" \")","v":" "},{"$f":"IFERROR(VLOOKUP(MID(CH$27,5,4)&$A46,Lista_Ubigeo!$J:$K,2,0),\" \")","v":" "},{"$f":"IFERROR(VLOOKUP(MID(CI$27,5,4)&$A46,Lista_Ubigeo!$J:$K,2,0),\" \")","v":" "},"ROBLE",{"$f":"IFERROR(VLOOKUP(MID(CK$27,5,4)&$A46,Lista_Ubigeo!$J:$K,2,0),\" \")","v":" "},{"$f":"IFERROR(VLOOKUP(MID(CL$27,5,4)&$A46,Lista_Ubigeo!$J:$K,2,0),\" \")","v":" "},{"$f":"IFERROR(VLOOKUP(MID(CM$27,5,4)&$A57,Lista_Ubigeo!$J:$K,2,0),\" \")","v":" "},{"$f":"IFERROR(VLOOKUP(MID(CN$27,5,4)&$A46,Lista_Ubigeo!$J:$K,2,0),\" \")","v":" "},{"$f":"IFERROR(VLOOKUP(MID(CO$27,5,4)&$A46,Lista_Ubigeo!$J:$K,2,0),\" \")","v":" "},{"$f":"IFERROR(VLOOKUP(MID(CP$27,5,4)&$A46,Lista_Ubigeo!$J:$K,2,0),\" \")","v":" "},{"$f":"IFERROR(VLOOKUP(MID(CQ$27,5,4)&$A46,Lista_Ubigeo!$J:$K,2,0),\" \")","v":" "},{"$f":"IFERROR(VLOOKUP(MID(CR$27,5,4)&$A46,Lista_Ubigeo!$J:$K,2,0),\" \")","v":" "},{"$f":"IFERROR(VLOOKUP(MID(CS$27,5,4)&$A46,Lista_Ubigeo!$J:$K,2,0),\" \")","v":" "},{"$f":"IFERROR(VLOOKUP(MID(CT$27,5,4)&$A46,Lista_Ubigeo!$J:$K,2,0),\" \")","v":" "},{"$f":"IFERROR(VLOOKUP(MID(CU$27,5,4)&$A46,Lista_Ubigeo!$J:$K,2,0),\" \")","v":" "},{"$f":"IFERROR(VLOOKUP(MID(CV$27,5,4)&$A46,Lista_Ubigeo!$J:$K,2,0),\" \")","v":" "},{"$f":"IFERROR(VLOOKUP(MID(CW$27,5,4)&$A46,Lista_Ubigeo!$J:$K,2,0),\" \")","v":" "},{"$f":"IFERROR(VLOOKUP(MID(CX$27,5,4)&$A46,Lista_Ubigeo!$J:$K,2,0),\" \")","v":" "},{"$f":"IFERROR(VLOOKUP(MID(CY$27,5,4)&$A46,Lista_Ubigeo!$J:$K,2,0),\" \")","v":" "},{"$f":"IFERROR(VLOOKUP(MID(CZ$27,5,4)&$A46,Lista_Ubigeo!$J:$K,2,0),\" \")","v":" "},"PUCARA",{"$f":"IFERROR(VLOOKUP(MID(DB$27,5,4)&$A46,Lista_Ubigeo!$J:$K,2,0),\" \")","v":" "},{"$f":"IFERROR(VLOOKUP(MID(DC$27,5,4)&$A46,Lista_Ubigeo!$J:$K,2,0),\" \")","v":" "},{"$f":"IFERROR(VLOOKUP(MID(DD$27,5,4)&$A46,Lista_Ubigeo!$J:$K,2,0),\" \")","v":"MONOBAMBA"},{"$f":"IFERROR(VLOOKUP(MID(DE$27,5,4)&$A46,Lista_Ubigeo!$J:$K,2,0),\" \")","v":" "},{"$f":"IFERROR(VLOOKUP(MID(DF$27,5,4)&$A46,Lista_Ubigeo!$J:$K,2,0),\" \")","v":" "},{"$f":"IFERROR(VLOOKUP(MID(DG$27,5,4)&$A46,Lista_Ubigeo!$J:$K,2,0),\" \")","v":" "},{"$f":"IFERROR(VLOOKUP(MID(DH$27,5,4)&$A46,Lista_Ubigeo!$J:$K,2,0),\" \")","v":" "},{"$f":"IFERROR(VLOOKUP(MID(DI$27,5,4)&$A46,Lista_Ubigeo!$J:$K,2,0),\" \")","v":" "},{"$f":"IFERROR(VLOOKUP(MID(DJ$27,5,4)&$A46,Lista_Ubigeo!$J:$K,2,0),\" \")","v":" "},{"$f":"IFERROR(VLOOKUP(MID(DK$27,5,4)&$A46,Lista_Ubigeo!$J:$K,2,0),\" \")","v":" "},{"$f":"IFERROR(VLOOKUP(MID(DL$27,5,4)&$A46,Lista_Ubigeo!$J:$K,2,0),\" \")","v":" "},{"$f":"IFERROR(VLOOKUP(MID(DM$27,5,4)&$A46,Lista_Ubigeo!$J:$K,2,0),\" \")","v":" "},{"$f":"IFERROR(VLOOKUP(MID(DN$27,5,4)&$A46,Lista_Ubigeo!$J:$K,2,0),\" \")","v":" "},{"$f":"IFERROR(VLOOKUP(MID(DO$27,5,4)&$A47,Lista_Ubigeo!$J:$K,2,0),\" \")","v":" "},{"$f":"IFERROR(VLOOKUP(MID(DP$27,5,4)&$A46,Lista_Ubigeo!$J:$K,2,0),\" \")","v":" "},{"$f":"IFERROR(VLOOKUP(MID(DQ$27,5,4)&$A46,Lista_Ubigeo!$J:$K,2,0),\" \")","v":" "},{"$f":"IFERROR(VLOOKUP(MID(DR$27,5,4)&$A46,Lista_Ubigeo!$J:$K,2,0),\" \")","v":" "},{"$f":"IFERROR(VLOOKUP(MID(DS$27,5,4)&$A46,Lista_Ubigeo!$J:$K,2,0),\" \")","v":" "},null,null,{"$f":"IFERROR(VLOOKUP(MID(DV$27,5,4)&$A46,Lista_Ubigeo!$J:$K,2,0),\" \")","v":"PUCALA"},{"$f":"IFERROR(VLOOKUP(MID(DW$27,5,4)&$A46,Lista_Ubigeo!$J:$K,2,0),\" \")","v":" "},{"$f":"IFERROR(VLOOKUP(MID(DX$27,5,4)&$A46,Lista_Ubigeo!$J:$K,2,0),\" \")","v":" "},{"$f":"IFERROR(VLOOKUP(MID(DY$27,5,4)&$A46,Lista_Ubigeo!$J:$K,2,0),\" \")","v":"LURIN"},{"$f":"IFERROR(VLOOKUP(MID(DZ$27,5,4)&$A46,Lista_Ubigeo!$J:$K,2,0),\" \")","v":" "},{"$f":"IFERROR(VLOOKUP(MID(EA$27,5,4)&$A46,Lista_Ubigeo!$J:$K,2,0),\" \")","v":" "},{"$f":"IFERROR(VLOOKUP(MID(EB$27,5,4)&$A46,Lista_Ubigeo!$J:$K,2,0),\" \")","v":" "},{"$f":"IFERROR(VLOOKUP(MID(EC$27,5,4)&$A46,Lista_Ubigeo!$J:$K,2,0),\" \")","v":" "},{"$f":"IFERROR(VLOOKUP(MID(ED$27,5,4)&$A46,Lista_Ubigeo!$J:$K,2,0),\" \")","v":" "},{"$f":"IFERROR(VLOOKUP(MID(EE$27,5,4)&$A46,Lista_Ubigeo!$J:$K,2,0),\" \")","v":"SAN JUAN DE IRIS"},{"$f":"IFERROR(VLOOKUP(MID(EF$27,5,4)&$A46,Lista_Ubigeo!$J:$K,2,0),\" \")","v":" "},{"$f":"IFERROR(VLOOKUP(MID(EG$27,5,4)&$A46,Lista_Ubigeo!$J:$K,2,0),\" \")","v":" "},{"$f":"IFERROR(VLOOKUP(MID(EH$27,5,4)&$A46,Lista_Ubigeo!$J:$K,2,0),\" \")","v":"LINCHA"},{"$f":"IFERROR(VLOOKUP(MID(EI$27,5,4)&$A46,Lista_Ubigeo!$J:$K,2,0),\" \")","v":" "},{"$f":"IFERROR(VLOOKUP(MID(EJ$27,5,4)&$A51,Lista_Ubigeo!$J:$K,2,0),\" \")","v":" "},{"$f":"IFERROR(VLOOKUP(MID(EK$27,5,4)&$A46,Lista_Ubigeo!$J:$K,2,0),\" \")","v":" "},{"$f":"IFERROR(VLOOKUP(MID(EL$27,5,4)&$A46,Lista_Ubigeo!$J:$K,2,0),\" \")","v":" "},{"$f":"IFERROR(VLOOKUP(MID(EM$27,5,4)&$A46,Lista_Ubigeo!$J:$K,2,0),\" \")","v":" "},{"$f":"IFERROR(VLOOKUP(MID(EN$27,5,4)&$A46,Lista_Ubigeo!$J:$K,2,0),\" \")","v":" "},{"$f":"IFERROR(VLOOKUP(MID(EO$27,5,4)&$A46,Lista_Ubigeo!$J:$K,2,0),\" \")","v":" "},{"$f":"IFERROR(VLOOKUP(MID(EP$27,5,4)&$A46,Lista_Ubigeo!$J:$K,2,0),\" \")","v":" "},{"$f":"IFERROR(VLOOKUP(MID(EQ$27,5,4)&$A46,Lista_Ubigeo!$J:$K,2,0),\" \")","v":" "},{"$f":"IFERROR(VLOOKUP(MID(ER$27,5,4)&$A46,Lista_Ubigeo!$J:$K,2,0),\" \")","v":" "},{"$f":"IFERROR(VLOOKUP(MID(ES$27,5,4)&$A46,Lista_Ubigeo!$J:$K,2,0),\" \")","v":" "},{"$f":"IFERROR(VLOOKUP(MID(ET$27,5,4)&$A46,Lista_Ubigeo!$J:$K,2,0),\" \")","v":" "},{"$f":"IFERROR(VLOOKUP(MID(EU$27,5,4)&$A46,Lista_Ubigeo!$J:$K,2,0),\" \")","v":" "},{"$f":"IFERROR(VLOOKUP(MID(EV$27,5,4)&$A46,Lista_Ubigeo!$J:$K,2,0),\" \")","v":" "},{"$f":"IFERROR(VLOOKUP(MID(EW$27,5,4)&$A46,Lista_Ubigeo!$J:$K,2,0),\" \")","v":" "},{"$f":"IFERROR(VLOOKUP(MID(EX$27,5,4)&$A46,Lista_Ubigeo!$J:$K,2,0),\" \")","v":" "},{"$f":"IFERROR(VLOOKUP(MID(EY$27,5,4)&$A46,Lista_Ubigeo!$J:$K,2,0),\" \")","v":" "},{"$f":"IFERROR(VLOOKUP(MID(EZ$27,5,4)&$A49,Lista_Ubigeo!$J:$K,2,0),\" \")","v":" "},{"$f":"IFERROR(VLOOKUP(MID(FA$27,5,4)&$A46,Lista_Ubigeo!$J:$K,2,0),\" \")","v":" "},{"$f":"IFERROR(VLOOKUP(MID(FB$27,5,4)&$A46,Lista_Ubigeo!$J:$K,2,0),\" \")","v":" "},{"$f":"IFERROR(VLOOKUP(MID(FC$27,5,4)&$A46,Lista_Ubigeo!$J:$K,2,0),\" \")","v":" "},{"$f":"IFERROR(VLOOKUP(MID(FD$27,5,4)&$A46,Lista_Ubigeo!$J:$K,2,0),\" \")","v":" "},{"$f":"IFERROR(VLOOKUP(MID(FE$27,5,4)&$A46,Lista_Ubigeo!$J:$K,2,0),\" \")","v":" "},{"$f":"IFERROR(VLOOKUP(MID(FF$27,5,4)&$A46,Lista_Ubigeo!$J:$K,2,0),\" \")","v":" "},{"$f":"IFERROR(VLOOKUP(MID(FG$27,5,4)&$A46,Lista_Ubigeo!$J:$K,2,0),\" \")","v":" "},{"$f":"IFERROR(VLOOKUP(MID(FH$27,5,4)&$A46,Lista_Ubigeo!$J:$K,2,0),\" \")","v":" "},{"$f":"IFERROR(VLOOKUP(MID(FI$27,5,4)&$A46,Lista_Ubigeo!$J:$K,2,0),\" \")","v":" "},{"$f":"IFERROR(VLOOKUP(MID(FJ$27,5,4)&$A46,Lista_Ubigeo!$J:$K,2,0),\" \")","v":" "},{"$f":"IFERROR(VLOOKUP(MID(FK$27,5,4)&$A46,Lista_Ubigeo!$J:$K,2,0),\" \")","v":" "},{"$f":"IFERROR(VLOOKUP(MID(FL$27,5,4)&$A46,Lista_Ubigeo!$J:$K,2,0),\" \")","v":" "},{"$f":"IFERROR(VLOOKUP(MID(FM$27,5,4)&$A46,Lista_Ubigeo!$J:$K,2,0),\" \")","v":" "},{"$f":"IFERROR(VLOOKUP(MID(FN$27,5,4)&$A46,Lista_Ubigeo!$J:$K,2,0),\" \")","v":" "},{"$f":"IFERROR(VLOOKUP(MID(FO$27,5,4)&$A46,Lista_Ubigeo!$J:$K,2,0),\" \")","v":" "},{"$f":"IFERROR(VLOOKUP(MID(FP$27,5,4)&$A46,Lista_Ubigeo!$J:$K,2,0),\" \")","v":" "},{"$f":"IFERROR(VLOOKUP(MID(FQ$27,5,4)&$A46,Lista_Ubigeo!$J:$K,2,0),\" \")","v":" "},{"$f":"IFERROR(VLOOKUP(MID(FR$27,5,4)&$A46,Lista_Ubigeo!$J:$K,2,0),\" \")","v":" "},{"$f":"IFERROR(VLOOKUP(MID(FS$27,5,4)&$A46,Lista_Ubigeo!$J:$K,2,0),\" \")","v":" "},{"$f":"IFERROR(VLOOKUP(MID(FT$27,5,4)&$A46,Lista_Ubigeo!$J:$K,2,0),\" \")","v":" "},{"$f":"IFERROR(VLOOKUP(MID(FU$27,5,4)&$A46,Lista_Ubigeo!$J:$K,2,0),\" \")","v":" "},{"$f":"IFERROR(VLOOKUP(MID(FV$27,5,4)&$A46,Lista_Ubigeo!$J:$K,2,0),\" \")","v":" "},{"$f":"IFERROR(VLOOKUP(MID(FW$27,5,4)&$A46,Lista_Ubigeo!$J:$K,2,0),\" \")","v":" "},{"$f":"IFERROR(VLOOKUP(MID(FX$27,5,4)&$A46,Lista_Ubigeo!$J:$K,2,0),\" \")","v":" "},{"$f":"IFERROR(VLOOKUP(MID(FY$27,5,4)&$A46,Lista_Ubigeo!$J:$K,2,0),\" \")","v":" "},{"$f":"IFERROR(VLOOKUP(MID(FZ$27,5,4)&$A46,Lista_Ubigeo!$J:$K,2,0),\" \")","v":" "},{"$f":"IFERROR(VLOOKUP(MID(GA$27,5,4)&$A46,Lista_Ubigeo!$J:$K,2,0),\" \")","v":" "},{"$f":"IFERROR(VLOOKUP(MID(GB$27,5,4)&$A46,Lista_Ubigeo!$J:$K,2,0),\" \")","v":" "},{"$f":"IFERROR(VLOOKUP(MID(GC$27,5,4)&$A46,Lista_Ubigeo!$J:$K,2,0),\" \")","v":" "},{"$f":"IFERROR(VLOOKUP(MID(GD$27,5,4)&$A46,Lista_Ubigeo!$J:$K,2,0),\" \")","v":" "},{"$f":"IFERROR(VLOOKUP(MID(GE$27,5,4)&$A46,Lista_Ubigeo!$J:$K,2,0),\" \")","v":" "},{"$f":"IFERROR(VLOOKUP(MID(GF$27,5,4)&$A46,Lista_Ubigeo!$J:$K,2,0),\" \")","v":" "},{"$f":"IFERROR(VLOOKUP(MID(GG$27,5,4)&$A46,Lista_Ubigeo!$J:$K,2,0),\" \")","v":" "},{"$f":"IFERROR(VLOOKUP(MID(GH$27,5,4)&$A46,Lista_Ubigeo!$J:$K,2,0),\" \")","v":" "},{"$f":"IFERROR(VLOOKUP(MID(GI$27,5,4)&$A46,Lista_Ubigeo!$J:$K,2,0),\" \")","v":" "},{"$f":"IFERROR(VLOOKUP(MID(GJ$27,5,4)&$A46,Lista_Ubigeo!$J:$K,2,0),\" \")","v":" "},{"$f":"IFERROR(VLOOKUP(MID(GK$27,5,4)&$A46,Lista_Ubigeo!$J:$K,2,0),\" \")","v":" "},{"$f":"IFERROR(VLOOKUP(MID(GL$27,5,4)&$A46,Lista_Ubigeo!$J:$K,2,0),\" \")","v":" "},{"$f":"IFERROR(VLOOKUP(MID(GM$27,5,4)&$A46,Lista_Ubigeo!$J:$K,2,0),\" \")","v":" "},{"$f":"IFERROR(VLOOKUP(MID(GN$27,5,4)&$A46,Lista_Ubigeo!$J:$K,2,0),\" \")","v":" "},{"$f":"IFERROR(VLOOKUP(MID(GO$27,5,4)&$A46,Lista_Ubigeo!$J:$K,2,0),\" \")","v":" "},{"$f":"IFERROR(VLOOKUP(MID(GP$27,5,4)&$A46,Lista_Ubigeo!$J:$K,2,0),\" \")","v":" "}]
["20",{"$f":"IFERROR(VLOOKUP(MID(B$27,5,4)&$A47,Lista_Ubigeo!$J:$K,2,0),\" \")","v":"SOLOCO"},{"$f":"IFERROR(VLOOKUP(MID(C$27,5,4)&$A47,Lista_Ubigeo!$J:$K,2,0),\" \")","v":" "},{"$f":"IFERROR(VLOOKUP(MID(D$27,5,4)&$A47,Lista_Ubigeo!$J:$K,2,0),\" \")","v":" "},{"$f":"IFERROR(VLOOKUP(MID(E$27,5,4)&$A47,Lista_Ubigeo!$J:$K,2,0),\" \")","v":" "},{"$f":"IFERROR(VLOOKUP(MID(F$27,5,4)&$A47,Lista_Ubigeo!$J:$K,2,0),\" \")","v":"SANTA CATALINA"},{"$f":"IFERROR(VLOOKUP(MID(G$27,5,4)&$A47,Lista_Ubigeo!$J:$K,2,0),\" \")","v":" "},{"$f":"IFERROR(VLOOKUP(MID(H$27,5,4)&$A47,Lista_Ubigeo!$J:$K,2,0),\" \")","v":" "},{"$f":"IFERROR(VLOOKUP(MID(I$27,5,4)&$A47,Lista_Ubigeo!$J:$K,2,0),\" \")","v":" "},{"$f":"IFERROR(VLOOKUP(MID(J$27,5,4)&$A47,Lista_Ubigeo!$J:$K,2,0),\" \")","v":" "},{"$f":"IFERROR(VLOOKUP(MID(K$27,5,4)&$A47,Lista_Ubigeo!$J:$K,2,0),\" \")","v":" "},{"$f":"IFERROR(VLOOKUP(MID(L$27,5,4)&$A47,Lista_Ubigeo!$J:$K,2,0),\" \")","v":" "},{"$f":"IFERROR(VLOOKUP(MID(M$27,5,4)&$A47,Lista_Ubigeo!$J:$K,2,0),\" \")","v":" "},{"$f":"IFERROR(VLOOKUP(MID(N$27,5,4)&$A47,Lista_Ubigeo!$J:$K,2,0),\" \")","v":" "},{"$f":"IFERROR(VLOOKUP(MID(O$27,5,4)&$A47,Lista_Ubigeo!$J:$K,2,0),\" \")","v":" "},{"$f":"IFERROR(VLOOKUP(MID(P$27,5,4)&$A47,Lista_Ubigeo!$J:$K,2,0),\" \")","v":" "},{"$f":"IFERROR(VLOOKUP(MID(Q$27,5,4)&$A47,Lista_Ubigeo!$J:$K,2,0),\" \")","v":" "},{"$f":"IFERROR(VLOOKUP(MID(R$27,5,4)&$A47,Lista_Ubigeo!$J:$K,2,0),\" \")","v":" "},{"$f":"IFERROR(VLOOKUP(MID(S$27,5,4)&$A47,Lista_Ubigeo!$J:$K,2,0),\" \")","v":" "},{"$f":"IFERROR(VLOOKUP(MID(T$27,5,4)&$A47,Lista_Ubigeo!$J:$K,2,0),\" \")","v":" "},{"$f":"IFERROR(VLOOKUP(MID(U$27,5,4)&$A47,Lista_Ubigeo!$J:$K,2,0),\" \")","v":" "},{"$f":"IFERROR(VLOOKUP(MID(V$27,5,4)&$A47,Lista_Ubigeo!$J:$K,2,0),\" \")","v":" "},{"$f":"IFERROR(VLOOKUP(MID(W$27,5,4)&$A47,Lista_Ubigeo!$J:$K,2,0),\" \")","v":" "},{"$f":"IFERROR(VLOOKUP(MID(X$27,5,4)&$A47,Lista_Ubigeo!$J:$K,2,0),\" \")","v":" "},{"$f":"IFERROR(VLOOKUP(MID(Y$27,5,4)&$A47,Lista_Ubigeo!$J:$K,2,0),\" \")","v":" "},{"$f":"IFERROR(VLOOKUP(MID(Z$27,5,4)&$A47,Lista_Ubigeo!$J:$K,2,0),\" \")","v":" "},{"$f":"IFERROR(VLOOKUP(MID(AA$27,5,4)&$A47,Lista_Ubigeo!$J:$K,2,0),\" \")","v":" "},{"$f":"IFERROR(VLOOKUP(MID(AB$27,5,4)&$A47,Lista_Ubigeo!$J:$K,2,0),\" \")","v":" "},{"$f":"IFERROR(VLOOKUP(MID(AC$27,5,4)&$A47,Lista_Ubigeo!$J:$K,2,0),\" \")","v":" "},{"$f":"IFERROR(VLOOKUP(MID(AD$27,5,4)&$A47,Lista_Ubigeo!$J:$K,2,0),\" \")","v":"JOSE MARIA ARGUEDAZ"},{"$f":"IFERROR(VLOOKUP(MID(AE$27,5,4)&$A47,Lista_Ubigeo!$J:$K,2,0),\" \")","v":" "},{"$f":"IFERROR(VLOOKUP(MID(AF$27,5,4)&$A47,Lista_Ubigeo!$J:$K,2,0),\" \")","v":" "},{"$f":"IFERROR(VLOOKUP(MID(AG$27,5,4)&$A47,Lista_Ubigeo!$J:$K,2,0),\" \")","v":" "},{"$f":"IFERROR(VLOOKUP(MID(AH$27,5,4)&$A47,Lista_Ubigeo!$J:$K,2,0),\" \")","v":" "},{"$f":"IFERROR(VLOOKUP(MID(AI$27,5,4)&$A47,Lista_Ubigeo!$J:$K,2,0),\" \")","v":" "},{"$f":"IFERROR(VLOOKUP(MID(AJ$27,5,4)&$A47,Lista_Ubigeo!$J:$K,2,0),\" \")","v":"SANTA ISABEL DE SIGUAS"},{"$f":"IFERROR(VLOOKUP(MID(AK$27,5,4)&$A47,Lista_Ubigeo!$J:$K,2,0),\" \")","v":" "},{"$f":"IFERROR(VLOOKUP(MID(AL$27,5,4)&$A47,Lista_Ubigeo!$J:$K,2,0),\" \")","v":" "},{"$f":"IFERROR(VLOOKUP(MID(AM$27,5,4)&$A47,Lista_Ubigeo!$J:$K,2,0),\" \")","v":" "},{"$f":"IFERROR(VLOOKUP(MID(AN$27,5,4)&$A47,Lista_Ubigeo!$J:$K,2,0),\" \")","v":"MAJES"},{"$f":"IFERROR(VLOOKUP(MID(AO$27,5,4)&$A47,Lista_Ubigeo!$J:$K,2,0),\" \")","v":" "},{"$f":"IFERROR(VLOOKUP(MID(AP$27,5,4)&$A47,Lista_Ubigeo!$J:$K,2,0),\" \")","v":" "},{"$f":"IFERROR(VLOOKUP(MID(AQ$27,4,4)&$A47,Lista_Ubigeo!$J:$K,2,0),\" \")","v":" "},{"$f":"IFERROR(VLOOKUP(MID(AR$27,5,4)&$A47,Lista_Ubigeo!$J:$K,2,0),\" \")","v":" "},{"$f":"IFERROR(VLOOKUP(MID(AS$27,5,4)&$A47,Lista_Ubigeo!$J:$K,2,0),\" \")","v":" "},{"$f":"IFERROR(VLOOKUP(MID(AT$27,5,4)&$A47,Lista_Ubigeo!$J:$K,2,0),\" \")","v":" "},{"$f":"IFERROR(VLOOKUP(MID(AU$27,5,4)&$A47,Lista_Ubigeo!$J:$K,2,0),\" \")","v":" "},{"$f":"IFERROR(VLOOKUP(MID(AV$27,5,4)&$A47,Lista_Ubigeo!$J:$K,2,0),\" \")","v":" "},{"$f":"IFERROR(VLOOKUP(MID(AW$27,5,4)&$A47,Lista_Ubigeo!$J:$K,2,0),\" \")","v":"SANTA ANA DE HUAYCAHUACHO"},{"$f":"IFERROR(VLOOKUP(MID(AX$27,5,4)&$A47,Lista_Ubigeo!$J:$K,2,0),\" \")","v":" "},{"$f":"IFERROR(VLOOKUP(MID(AY$27,5,4)&$A47,Lista_Ubigeo!$J:$K,2,0),\" \")","v":" "},{"$f":"IFERROR(VLOOKUP(MID(AZ$27,5,4)&$A47,Lista_Ubigeo!$J:$K,2,0),\" \")","v":" "},{"$f":"IFERROR(VLOOKUP(MID(BA$27,5,4)&$A47,Lista_Ubigeo!$J:$K,2,0),\" \")","v":" "},{"$f":"IFERROR(VLOOKUP(MID(BB$27,5,4)&$A47,Lista_Ubigeo!$J:$K,2,0),\" \")","v":" "},{"$f":"IFERROR(VLOOKUP(MID(BC$27,5,4)&$A47,Lista_Ubigeo!$J:$K,2,0),\" \")","v":" "},{"$f":"IFERROR(VLOOKUP(MID(BD$27,5,4)&$A47,Lista_Ubigeo!$J:$K,2,0),\" \")","v":" "},{"$f":"IFERROR(VLOOKUP(MID(BE$27,5,4)&$A47,Lista_Ubigeo!$J:$K,2,0),\" \")","v":" "},{"$f":"IFERROR(VLOOKUP(MID(BF$27,5,4)&$A47,Lista_Ubigeo!$J:$K,2,0),\" \")","v":" "},{"$f":"IFERROR(VLOOKUP(MID(BG$27,5,4)&$A47,Lista_Ubigeo!$J:$K,2,0),\" \")","v":" "},{"$f":"IFERROR(VLOOKUP(MID(BH$27,5,4)&$A47,Lista_Ubigeo!$J:$K,2,0),\" \")","v":" "},{"$f":"IFERROR(VLOOKUP(MID(BI$27,5,4)&$A47,Lista_Ubigeo!$J:$K,2,0),\" \")","v":" "},{"$f":"IFERROR(VLOOKUP(MID(BJ$27,5,4)&$A47,Lista_Ubigeo!$J:$K,2,0),\" \")","v":" "},{"$f":"IFERROR(VLOOKUP(MID(BK$27,5,4)&$A47,Lista_Ubigeo!$J:$K,2,0),\" \")","v":" "},{"$f":"IFERROR(VLOOKUP(MID(BL$27,5,4)&$A47,Lista_Ubigeo!$J:$K,2,0),\" \")","v":" "},{"$f":"IFERROR(VLOOKUP(MID(BM$27,5,4)&$A47,Lista_Ubigeo!$J:$K,2,0),\" \")","v":" "},{"$f":"IFERROR(VLOOKUP(MID(BN$27,5,4)&$A47,Lista_Ubigeo!$J:$K,2,0),\" \")","v":" "},{"$f":"IFERROR(VLOOKUP(MID(BO$27,5,4)&$A47,Lista_Ubigeo!$J:$K,2,0),\" \")","v":" "},{"$f":"IFERROR(VLOOKUP(MID(BP$27,5,4)&$A47,Lista_Ubigeo!$J:$K,2,0),\" \")","v":" "},{"$f":"IFERROR(VLOOKUP(MID(BQ$27,5,4)&$A47,Lista_Ubigeo!$J:$K,2,0),\" \")","v":" "},{"$f":"IFERROR(VLOOKUP(MID(BR$27,5,4)&$A47,Lista_Ubigeo!$J:$K,2,0),\" \")","v":" "},{"$f":"IFERROR(VLOOKUP(MID(BS$27,5,4)&$A47,Lista_Ubigeo!$J:$K,2,0),\" \")","v":" "},{"$f":"IFERROR(VLOOKUP(MID(BT$27,5,4)&$A47,Lista_Ubigeo!$J:$K,2,0),\" \")","v":" "},{"$f":"IFERROR(VLOOKUP(MID(BU$27,5,4)&$A47,Lista_Ubigeo!$J:$K,2,0),\" \")","v":" "},{"$f":"IFERROR(VLOOKUP(MID(BV$27,5,4)&$A47,Lista_Ubigeo!$J:$K,2,0),\" \")","v":" "},{"$f":"IFERROR(VLOOKUP(MID(BW$27,5,4)&$A47,Lista_Ubigeo!$J:$K,2,0),\" \")","v":" "},{"$f":"IFERROR(VLOOKUP(MID(BX$27,5,4)&$A47,Lista_Ubigeo!$J:$K,2,0),\" \")","v":" "},{"$f":"IFERROR(VLOOKUP(MID(BY$27,4,4)&$A47,Lista_Ubigeo!$J:$K,2,0),\" \")","v":" "},{"$f":"IFERROR(VLOOKUP(MID(BZ$27,5,4)&$A47,Lista_Ubigeo!$J:$K,2,0),\" \")","v":" "},{"$f":"IFERROR(VLOOKUP(MID(CA$27,5,4)&$A47,Lista_Ubigeo!$J:$K,2,0),\" \")","v":" "},{"$f":"IFERROR(VLOOKUP(MID(CB$27,5,4)&$A47,Lista_Ubigeo!$J:$K,2,0),\" \")","v":" "},{"$f":"IFERROR(VLOOKUP(MID(CC$27,5,4)&$A47,Lista_Ubigeo!$J:$K,2,0),\" \")","v":" "},{"$f":"IFERROR(VLOOKUP(MID(CD$27,5,4)&$A47,Lista_Ubigeo!$J:$K,2,0),\" \")","v":" "},{"$f":"IFERROR(VLOOKUP(MID(CE$27,5,4)&$A47,Lista_Ubigeo!$J:$K,2,0),\" \")","v":" "},{"$f":"IFERROR(VLOOKUP(MID(CF$27,5,4)&$A47,Lista_Ubigeo!$J:$K,2,0),\" \")","v":" "},{"$f":"IFERROR(VLOOKUP(MID(CG$27,5,4)&$A47,Lista_Ubigeo!$J:$K,2,0),\" \")","v":" "},{"$f":"IFERROR(VLOOKUP(MID(CH$27,5,4)&$A47,Lista_Ubigeo!$J:$K,2,0),\" \")","v":" "},{"$f":"IFERROR(VLOOKUP(MID(CI$27,5,4)&$A47,Lista_Ubigeo!$J:$K,2,0),\" \")","v":" "},"PICHOS",{"$f":"IFERROR(VLOOKUP(MID(CK$27,5,4)&$A47,Lista_Ubigeo!$J:$K,2,0),\" \")","v":" "},{"$f":"IFERROR(VLOOKUP(MID(CL$27,5,4)&$A47,Lista_Ubigeo!$J:$K,2,0),\" \")","v":" "},{"$f":"IFERROR(VLOOKUP(MID(CM$27,5,4)&$A58,Lista_Ubigeo!$J:$K,2,0),\" \")","v":" "},{"$f":"IFERROR(VLOOKUP(MID(CN$27,5,4)&$A47,Lista_Ubigeo!$J:$K,2,0),\" \")","v":" "},{"$f":"IFERROR(VLOOKUP(MID(CO$27,5,4)&$A47,Lista_Ubigeo!$J:$K,2,0),\" \")","v":" "},{"$f":"IFERROR(VLOOKUP(MID(CP$27,5,4)&$A47,Lista_Ubigeo!$J:$K,2,0),\" \")","v":" "},{"$f":"IFERROR(VLOOKUP(MID(CQ$27,5,4)&$A47,Lista_Ubigeo!$J:$K,2,0),\" \")","v":" "},{"$f":"IFERROR(VLOOKUP(MID(CR$27,5,4)&$A47,Lista_Ubigeo!$J:$K,2,0),\" \")","v":" "},{"$f":"IFERROR(VLOOKUP(MID(CS$27,5,4)&$A47,Lista_Ubigeo!$J:$K,2,0),\" \")","v":" "},{"$f":"IFERROR(VLOOKUP(MID(CT$27,5,4)&$A47,Lista_Ubigeo!$J:$K,2,0),\" \")","v":" "},{"$f":"IFERROR(VLOOKUP(MID(CU$27,5,4)&$A47,Lista_Ubigeo!$J:$K,2,0),\" \")","v":" "},{"$f":"IFERROR(VLOOKUP(MID(CV$27,5,4)&$A47,Lista_Ubigeo!$J:$K,2,0),\" \")","v":" "},{"$f":"IFERROR(VLOOKUP(MID(CW$27,5,4)&$A47,Lista_Ubigeo!$J:$K,2,0),\" \")","v":" "},{"$f":"IFERROR(VLOOKUP(MID(CX$27,5,4)&$A47,Lista_Ubigeo!$J:$K,2,0),\" \")","v":" "},{"$f":"IFERROR(VLOOKUP(MID(CY$27,5,4)&$A47,Lista_Ubigeo!$J:$K,2,0),\" \")","v":" "},{"$f":"IFERROR(VLOOKUP(MID(CZ$27,5,4)&$A47,Lista_Ubigeo!$J:$K,2,0),\" \")","v":" "},"QUICHUAY",{"$f":"IFERROR(VLOOKUP(MID(DB$27,5,4)&$A47,Lista_Ubigeo!$J:$K,2,0),\" \")","v":" "},{"$f":"IFERROR(VLOOKUP(MID(DC$27,5,4)&$A47,Lista_Ubigeo!$J:$K,2,0),\" \")","v":" "},{"$f":"IFERROR(VLOOKUP(MID(DD$27,5,4)&$A47,Lista_Ubigeo!$J:$K,2,0),\" \")","v":"MUQUI"},{"$f":"IFERROR(VLOOKUP(MID(DE$27,5,4)&$A47,Lista_Ubigeo!$J:$K,2,0),\" \")","v":" "},{"$f":"IFERROR(VLOOKUP(MID(DF$27,5,4)&$A47,Lista_Ubigeo!$J:$K,2,0),\" \")","v":" "},{"$f":"IFERROR(VLOOKUP(MID(DG$27,5,4)&$A47,Lista_Ubigeo!$J:$K,2,0),\" \")","v":" "},{"$f":"IFERROR(VLOOKUP(MID(DH$27,5,4)&$A47,Lista_Ubigeo!$J:$K,2,0),\" \")","v":" "},{"$f":"IFERROR(VLOOKUP(MID(DI$27,5,4)&$A47,Lista_Ubigeo!$J:$K,2,0),\" \")","v":" "},{"$f":"IFERROR(VLOOKUP(MID(DJ$27,5,4)&$A47,Lista_Ubigeo!$J:$K,2,0),\" \")","v":" "},{"$f":"IFERROR(VLOOKUP(MID(DK$27,5,4)&$A47,Lista_Ubigeo!$J:$K,2,0),\" \")","v":" "},{"$f":"IFERROR(VLOOKUP(MID(DL$27,5,4)&$A47,Lista_Ubigeo!$J:$K,2,0),\" \")","v":" "},{"$f":"IFERROR(VLOOKUP(MID(DM$27,5,4)&$A47,Lista_Ubigeo!$J:$K,2,0),\" \")","v":" "},{"$f":"IFERROR(VLOOKUP(MID(DN$27,5,4)&$A47,Lista_Ubigeo!$J:$K,2,0),\" \")","v":" "},{"$f":"IFERROR(VLOOKUP(MID(DO$27,5,4)&$A48,Lista_Ubigeo!$J:$K,2,0),\" \")","v":" "},{"$f":"IFERROR(VLOOKUP(MID(DP$27,5,4)&$A47,Lista_Ubigeo!$J:$K,2,0),\" \")","v":" "},{"$f":"IFERROR(VLOOKUP(MID(DQ$27,5,4)&$A47,Lista_Ubigeo!$J:$K,2,0),\" \")","v":" "},{"$f":"IFERROR(VLOOKUP(MID(DR$27,5,4)&$A47,Lista_Ubigeo!$J:$K,2,0),\" \")","v":" "},{"$f":"IFERROR(VLOOKUP(MID(DS$27,5,4)&$A47,Lista_Ubigeo!$J:$K,2,0),\" \")","v":" "},null,null,{"$f":"IFERROR(VLOOKUP(MID(DV$27,5,4)&$A47,Lista_Ubigeo!$J:$K,2,0),\" \")","v":"TUMAN"},{"$f":"IFERROR(VLOOKUP(MID(DW$27,5,4)&$A47,Lista_Ubigeo!$J:$K,2,0),\" \")","v":" "},{"$f":"IFERROR(VLOOKUP(MID(DX$27,5,4)&$A47,Lista_Ubigeo!$J:$K,2,0),\" \")","v":" "},{"$f":"IFERROR(VLOOKUP(MID(DY$27,5,4)&$A47,Lista_Ubigeo!$J:$K,2,0),\" \")","v":"MAGDALENA DEL MAR"},{"$f":"IFERROR(VLOOKUP(MID(DZ$27,5,4)&$A47,Lista_Ubigeo!$J:$K,2,0),\" \")","v":" "},{"$f":"IFERROR(VLOOKUP(MID(EA$27,5,4)&$A47,Lista_Ubigeo!$J:$K,2,0),\" \")","v":" "},{"$f":"IFERROR(VLOOKUP(MID(EB$27,5,4)&$A47,Lista_Ubigeo!$J:$K,2,0),\" \")","v":" "},{"$f":"IFERROR(VLOOKUP(MID(EC$27,5,4)&$A47,Lista_Ubigeo!$J:$K,2,0),\" \")","v":" "},{"$f":"IFERROR(VLOOKUP(MID(ED$27,5,4)&$A47,Lista_Ubigeo!$J:$K,2,0),\" \")","v":" "},{"$f":"IFERROR(VLOOKUP(MID(EE$27,5,4)&$A47,Lista_Ubigeo!$J:$K,2,0),\" \")","v":"SAN JUAN DE TANTARANCHE"},{"$f":"IFERROR(VLOOKUP(MID(EF$27,5,4)&$A47,Lista_Ubigeo!$J:$K,2,0),\" \")","v":" "},{"$f":"IFERROR(VLOOKUP(MID(EG$27,5,4)&$A47,Lista_Ubigeo!$J:$K,2,0),\" \")","v":" "},{"$f":"IFERROR(VLOOKUP(MID(EH$27,5,4)&$A47,Lista_Ubigeo!$J:$K,2,0),\" \")","v":"MADEAN"},{"$f":"IFERROR(VLOOKUP(MID(EI$27,5,4)&$A47,Lista_Ubigeo!$J:$K,2,0),\" \")","v":" "},{"$f":"IFERROR(VLOOKUP(MID(EJ$27,5,4)&$A52,Lista_Ubigeo!$J:$K,2,0),\" \")","v":" "},{"$f":"IFERROR(VLOOKUP(MID(EK$27,5,4)&$A47,Lista_Ubigeo!$J:$K,2,0),\" \")","v":" "},{"$f":"IFERROR(VLOOKUP(MID(EL$27,5,4)&$A47,Lista_Ubigeo!$J:$K,2,0),\" \")","v":" "},{"$f":"IFERROR(VLOOKUP(MID(EM$27,5,4)&$A47,Lista_Ubigeo!$J:$K,2,0),\" \")","v":" "},{"$f":"IFERROR(VLOOKUP(MID(EN$27,5,4)&$A47,Lista_Ubigeo!$J:$K,2,0),\" \")","v":" "},{"$f":"IFERROR(VLOOKUP(MID(EO$27,5,4)&$A47,Lista_Ubigeo!$J:$K,2,0),\" \")","v":" "},{"$f":"IFERROR(VLOOKUP(MID(EP$27,5,4)&$A47,Lista_Ubigeo!$J:$K,2,0),\" \")","v":" "},{"$f":"IFERROR(VLOOKUP(MID(EQ$27,5,4)&$A47,Lista_Ubigeo!$J:$K,2,0),\" \")","v":" "},{"$f":"IFERROR(VLOOKUP(MID(ER$27,5,4)&$A47,Lista_Ubigeo!$J:$K,2,0),\" \")","v":" "},{"$f":"IFERROR(VLOOKUP(MID(ES$27,5,4)&$A47,Lista_Ubigeo!$J:$K,2,0),\" \")","v":" "},{"$f":"IFERROR(VLOOKUP(MID(ET$27,5,4)&$A47,Lista_Ubigeo!$J:$K,2,0),\" \")","v":" "},{"$f":"IFERROR(VLOOKUP(MID(EU$27,5,4)&$A47,Lista_Ubigeo!$J:$K,2,0),\" \")","v":" "},{"$f":"IFERROR(VLOOKUP(MID(EV$27,5,4)&$A47,Lista_Ubigeo!$J:$K,2,0),\" \")","v":" "},{"$f":"IFERROR(VLOOKUP(MID(EW$27,5,4)&$A47,Lista_Ubigeo!$J:$K,2,0),\" \")","v":" "},{"$f":"IFERROR(VLOOKUP(MID(EX$27,5,4)&$A47,Lista_Ubigeo!$J:$K,2,0),\" \")","v":" "},{"$f":"IFERROR(VLOOKUP(MID(EY$27,5,4)&$A47,Lista_Ubigeo!$J:$K,2,0),\" \")","v":" "},{"$f":"IFERROR(VLOOKUP(MID(EZ$27,5,4)&$A50,Lista_Ubigeo!$J:$K,2,0),\" \")","v":" "},{"$f":"IFERROR(VLOOKUP(MID(FA$27,5,4)&$A47,Lista_Ubigeo!$J:$K,2,0),\" \")","v":" "},{"$f":"IFERROR(VLOOKUP(MID(FB$27,5,4)&$A47,Lista_Ubigeo!$J:$K,2,0),\" \")","v":" "},{"$f":"IFERROR(VLOOKUP(MID(FC$27,5,4)&$A47,Lista_Ubigeo!$J:$K,2,0),\" \")","v":" "},{"$f":"IFERROR(VLOOKUP(MID(FD$27,5,4)&$A47,Lista_Ubigeo!$J:$K,2,0),\" \")","v":" "},{"$f":"IFERROR(VLOOKUP(MID(FE$27,5,4)&$A47,Lista_Ubigeo!$J:$K,2,0),\" \")","v":" "},{"$f":"IFERROR(VLOOKUP(MID(FF$27,5,4)&$A47,Lista_Ubigeo!$J:$K,2,0),\" \")","v":" "},{"$f":"IFERROR(VLOOKUP(MID(FG$27,5,4)&$A47,Lista_Ubigeo!$J:$K,2,0),\" \")","v":" "},{"$f":"IFERROR(VLOOKUP(MID(FH$27,5,4)&$A47,Lista_Ubigeo!$J:$K,2,0),\" \")","v":" "},{"$f":"IFERROR(VLOOKUP(MID(FI$27,5,4)&$A47,Lista_Ubigeo!$J:$K,2,0),\" \")","v":" "},{"$f":"IFERROR(VLOOKUP(MID(FJ$27,5,4)&$A47,Lista_Ubigeo!$J:$K,2,0),\" \")","v":" "},{"$f":"IFERROR(VLOOKUP(MID(FK$27,5,4)&$A47,Lista_Ubigeo!$J:$K,2,0),\" \")","v":" "},{"$f":"IFERROR(VLOOKUP(MID(FL$27,5,4)&$A47,Lista_Ubigeo!$J:$K,2,0),\" \")","v":" "},{"$f":"IFERROR(VLOOKUP(MID(FM$27,5,4)&$A47,Lista_Ubigeo!$J:$K,2,0),\" \")","v":" "},{"$f":"IFERROR(VLOOKUP(MID(FN$27,5,4)&$A47,Lista_Ubigeo!$J:$K,2,0),\" \")","v":" "},{"$f":"IFERROR(VLOOKUP(MID(FO$27,5,4)&$A47,Lista_Ubigeo!$J:$K,2,0),\" \")","v":" "},{"$f":"IFERROR(VLOOKUP(MID(FP$27,5,4)&$A47,Lista_Ubigeo!$J:$K,2,0),\" \")","v":" "},{"$f":"IFERROR(VLOOKUP(MID(FQ$27,5,4)&$A47,Lista_Ubigeo!$J:$K,2,0),\" \")","v":" "},{"$f":"IFERROR(VLOOKUP(MID(FR$27,5,4)&$A47,Lista_Ubigeo!$J:$K,2,0),\" \")","v":" "},{"$f":"IFERROR(VLOOKUP(MID(FS$27,5,4)&$A47,Lista_Ubigeo!$J:$K,2,0),\" \")","v":" "},{"$f":"IFERROR(VLOOKUP(MID(FT$27,5,4)&$A47,Lista_Ubigeo!$J:$K,2,0),\" \")","v":" "},{"$f":"IFERROR(VLOOKUP(MID(FU$27,5,4)&$A47,Lista_Ubigeo!$J:$K,2,0),\" \")","v":" "},{"$f":"IFERROR(VLOOKUP(MID(FV$27,5,4)&$A47,Lista_Ubigeo!$J:$K,2,0),\" \")","v":" "},{"$f":"IFERROR(VLOOKUP(MID(FW$27,5,4)&$A47,Lista_Ubigeo!$J:$K,2,0),\" \")","v":" "},{"$f":"IFERROR(VLOOKUP(MID(FX$27,5,4)&$A47,Lista_Ubigeo!$J:$K,2,0),\" \")","v":" "},{"$f":"IFERROR(VLOOKUP(MID(FY$27,5,4)&$A47,Lista_Ubigeo!$J:$K,2,0),\" \")","v":" "},{"$f":"IFERROR(VLOOKUP(MID(FZ$27,5,4)&$A47,Lista_Ubigeo!$J:$K,2,0),\" \")","v":" "},{"$f":"IFERROR(VLOOKUP(MID(GA$27,5,4)&$A47,Lista_Ubigeo!$J:$K,2,0),\" \")","v":" "},{"$f":"IFERROR(VLOOKUP(MID(GB$27,5,4)&$A47,Lista_Ubigeo!$J:$K,2,0),\" \")","v":" "},{"$f":"IFERROR(VLOOKUP(MID(GC$27,5,4)&$A47,Lista_Ubigeo!$J:$K,2,0),\" \")","v":" "},{"$f":"IFERROR(VLOOKUP(MID(GD$27,5,4)&$A47,Lista_Ubigeo!$J:$K,2,0),\" \")","v":" "},{"$f":"IFERROR(VLOOKUP(MID(GE$27,5,4)&$A47,Lista_Ubigeo!$J:$K,2,0),\" \")","v":" "},{"$f":"IFERROR(VLOOKUP(MID(GF$27,5,4)&$A47,Lista_Ubigeo!$J:$K,2,0),\" \")","v":" "},{"$f":"IFERROR(VLOOKUP(MID(GG$27,5,4)&$A47,Lista_Ubigeo!$J:$K,2,0),\" \")","v":" "},{"$f":"IFERROR(VLOOKUP(MID(GH$27,5,4)&$A47,Lista_Ubigeo!$J:$K,2,0),\" \")","v":" "},{"$f":"IFERROR(VLOOKUP(MID(GI$27,5,4)&$A47,Lista_Ubigeo!$J:$K,2,0),\" \")","v":" "},{"$f":"IFERROR(VLOOKUP(MID(GJ$27,5,4)&$A47,Lista_Ubigeo!$J:$K,2,0),\" \")","v":" "},{"$f":"IFERROR(VLOOKUP(MID(GK$27,5,4)&$A47,Lista_Ubigeo!$J:$K,2,0),\" \")","v":" "},{"$f":"IFERROR(VLOOKUP(MID(GL$27,5,4)&$A47,Lista_Ubigeo!$J:$K,2,0),\" \")","v":" "},{"$f":"IFERROR(VLOOKUP(MID(GM$27,5,4)&$A47,Lista_Ubigeo!$J:$K,2,0),\" \")","v":" "},{"$f":"IFERROR(VLOOKUP(MID(GN$27,5,4)&$A47,Lista_Ubigeo!$J:$K,2,0),\" \")","v":" "},{"$f":"IFERROR(VLOOKUP(MID(GO$27,5,4)&$A47,Lista_Ubigeo!$J:$K,2,0),\" \")","v":" "},{"$f":"IFERROR(VLOOKUP(MID(GP$27,5,4)&$A47,Lista_Ubigeo!$J:$K,2,0),\" \")","v":" "}]
["21",{"$f":"IFERROR(VLOOKUP(MID(B$27,5,4)&$A48,Lista_Ubigeo!$J:$K,2,0),\" \")","v":"SONCHE"},{"$f":"IFERROR(VLOOKUP(MID(C$27,5,4)&$A48,Lista_Ubigeo!$J:$K,2,0),\" \")","v":" "},{"$f":"IFERROR(VLOOKUP(MID(D$27,5,4)&$A48,Lista_Ubigeo!$J:$K,2,0),\" \")","v":" "},{"$f":"IFERROR(VLOOKUP(MID(E$27,5,4)&$A48,Lista_Ubigeo!$J:$K,2,0),\" \")","v":" "},{"$f":"IFERROR(VLOOKUP(MID(F$27,5,4)&$A48,Lista_Ubigeo!$J:$K,2,0),\" \")","v":"SANTO TOMAS"},{"$f":"IFERROR(VLOOKUP(MID(G$27,5,4)&$A48,Lista_Ubigeo!$J:$K,2,0),\" \")","v":" "},{"$f":"IFERROR(VLOOKUP(MID(H$27,5,4)&$A48,Lista_Ubigeo!$J:$K,2,0),\" \")","v":" "},{"$f":"IFERROR(VLOOKUP(MID(I$27,5,4)&$A48,Lista_Ubigeo!$J:$K,2,0),\" \")","v":" "},{"$f":"IFERROR(VLOOKUP(MID(J$27,5,4)&$A48,Lista_Ubigeo!$J:$K,2,0),\" \")","v":" "},{"$f":"IFERROR(VLOOKUP(MID(K$27,5,4)&$A48,Lista_Ubigeo!$J:$K,2,0),\" \")","v":" "},{"$f":"IFERROR(VLOOKUP(MID(L$27,5,4)&$A48,Lista_Ubigeo!$J:$K,2,0),\" \")","v":" "},{"$f":"IFERROR(VLOOKUP(MID(M$27,5,4)&$A48,Lista_Ubigeo!$J:$K,2,0),\" \")","v":" "},{"$f":"IFERROR(VLOOKUP(MID(N$27,5,4)&$A48,Lista_Ubigeo!$J:$K,2,0),\" \")","v":" "},{"$f":"IFERROR(VLOOKUP(MID(O$27,5,4)&$A48,Lista_Ubigeo!$J:$K,2,0),\" \")","v":" "},{"$f":"IFERROR(VLOOKUP(MID(P$27,5,4)&$A48,Lista_Ubigeo!$J:$K,2,0),\" \")","v":" "},{"$f":"IFERROR(VLOOKUP(MID(Q$27,5,4)&$A48,Lista_Ubigeo!$J:$K,2,0),\" \")","v":" "},{"$f":"IFERROR(VLOOKUP(MID(R$27,5,4)&$A48,Lista_Ubigeo!$J:$K,2,0),\" \")","v":" "},{"$f":"IFERROR(VLOOKUP(MID(S$27,5,4)&$A48,Lista_Ubigeo!$J:$K,2,0),\" \")","v":" "},{"$f":"IFERROR(VLOOKUP(MID(T$27,5,4)&$A48,Lista_Ubigeo!$J:$K,2,0),\" \")","v":" "},{"$f":"IFERROR(VLOOKUP(MID(U$27,5,4)&$A48,Lista_Ubigeo!$J:$K,2,0),\" \")","v":" "},{"$f":"IFERROR(VLOOKUP(MID(V$27,5,4)&$A48,Lista_Ubigeo!$J:$K,2,0),\" \")","v":" "},{"$f":"IFERROR(VLOOKUP(MID(W$27,5,4)&$A48,Lista_Ubigeo!$J:$K,2,0),\" \")","v":" "},{"$f":"IFERROR(VLOOKUP(MID(X$27,5,4)&$A48,Lista_Ubigeo!$J:$K,2,0),\" \")","v":" "},{"$f":"IFERROR(VLOOKUP(MID(Y$27,5,4)&$A48,Lista_Ubigeo!$J:$K,2,0),\" \")","v":" "},{"$f":"IFERROR(VLOOKUP(MID(Z$27,5,4)&$A48,Lista_Ubigeo!$J:$K,2,0),\" \")","v":" "},{"$f":"IFERROR(VLOOKUP(MID(AA$27,5,4)&$A48,Lista_Ubigeo!$J:$K,2,0),\" \")","v":" "},{"$f":"IFERROR(VLOOKUP(MID(AB$27,5,4)&$A48,Lista_Ubigeo!$J:$K,2,0),\" \")","v":" "},{"$f":"IFERROR(VLOOKUP(MID(AC$27,5,4)&$A48,Lista_Ubigeo!$J:$K,2,0),\" \")","v":" "},{"$f":"IFERROR(VLOOKUP(MID(AD$27,5,4)&$A48,Lista_Ubigeo!$J:$K,2,0),\" \")","v":" "},{"$f":"IFERROR(VLOOKUP(MID(AE$27,5,4)&$A48,Lista_Ubigeo!$J:$K,2,0),\" \")","v":" "},{"$f":"IFERROR(VLOOKUP(MID(AF$27,5,4)&$A48,Lista_Ubigeo!$J:$K,2,0),\" \")","v":" "},{"$f":"IFERROR(VLOOKUP(MID(AG$27,5,4)&$A48,Lista_Ubigeo!$J:$K,2,0),\" \")","v":" "},{"$f":"IFERROR(VLOOKUP(MID(AH$27,5,4)&$A48,Lista_Ubigeo!$J:$K,2,0),\" \")","v":" "},{"$f":"IFERROR(VLOOKUP(MID(AI$27,5,4)&$A48,Lista_Ubigeo!$J:$K,2,0),\" \")","v":" "},{"$f":"IFERROR(VLOOKUP(MID(AJ$27,5,4)&$A48,Lista_Ubigeo!$J:$K,2,0),\" \")","v":"SANTA RITA DE SIGUAS"},{"$f":"IFERROR(VLOOKUP(MID(AK$27,5,4)&$A48,Lista_Ubigeo!$J:$K,2,0),\" \")","v":" "},{"$f":"IFERROR(VLOOKUP(MID(AL$27,5,4)&$A48,Lista_Ubigeo!$J:$K,2,0),\" \")","v":" "},{"$f":"IFERROR(VLOOKUP(MID(AM$27,5,4)&$A48,Lista_Ubigeo!$J:$K,2,0),\" \")","v":" "},{"$f":"IFERROR(VLOOKUP(MID(AN$27,5,4)&$A48,Lista_Ubigeo!$J:$K,2,0),\" \")","v":" "},{"$f":"IFERROR(VLOOKUP(MID(AO$27,5,4)&$A48,Lista_Ubigeo!$J:$K,2,0),\" \")","v":" "},{"$f":"IFERROR(VLOOKUP(MID(AP$27,5,4)&$A48,Lista_Ubigeo!$J:$K,2,0),\" \")","v":" "},{"$f":"IFERROR(VLOOKUP(MID(AQ$27,4,4)&$A48,Lista_Ubigeo!$J:$K,2,0),\" \")","v":" "},{"$f":"IFERROR(VLOOKUP(MID(AR$27,5,4)&$A48,Lista_Ubigeo!$J:$K,2,0),\" \")","v":" "},{"$f":"IFERROR(VLOOKUP(MID(AS$27,5,4)&$A48,Lista_Ubigeo!$J:$K,2,0),\" \")","v":" "},{"$f":"IFERROR(VLOOKUP(MID(AT$27,5,4)&$A48,Lista_Ubigeo!$J:$K,2,0),\" \")","v":" "},{"$f":"IFERROR(VLOOKUP(MID(AU$27,5,4)&$A48,Lista_Ubigeo!$J:$K,2,0),\" \")","v":" "},{"$f":"IFERROR(VLOOKUP(MID(AV$27,5,4)&$A48,Lista_Ubigeo!$J:$K,2,0),\" \")","v":" "},{"$f":"IFERROR(VLOOKUP(MID(AW$27,5,4)&$A48,Lista_Ubigeo!$J:$K,2,0),\" \")","v":"SANTA LUCIA"},{"$f":"IFERROR(VLOOKUP(MID(AX$27,5,4)&$A48,Lista_Ubigeo!$J:$K,2,0),\" \")","v":" "},{"$f":"IFERROR(VLOOKUP(MID(AY$27,5,4)&$A48,Lista_Ubigeo!$J:$K,2,0),\" \")","v":" "},{"$f":"IFERROR(VLOOKUP(MID(AZ$27,5,4)&$A48,Lista_Ubigeo!$J:$K,2,0),\" \")","v":" "},{"$f":"IFERROR(VLOOKUP(MID(BA$27,5,4)&$A48,Lista_Ubigeo!$J:$K,2,0),\" \")","v":" "},{"$f":"IFERROR(VLOOKUP(MID(BB$27,5,4)&$A48,Lista_Ubigeo!$J:$K,2,0),\" \")","v":" "},{"$f":"IFERROR(VLOOKUP(MID(BC$27,5,4)&$A48,Lista_Ubigeo!$J:$K,2,0),\" \")","v":" "},{"$f":"IFERROR(VLOOKUP(MID(BD$27,5,4)&$A48,Lista_Ubigeo!$J:$K,2,0),\" \")","v":" "},{"$f":"IFERROR(VLOOKUP(MID(BE$27,5,4)&$A48,Lista_Ubigeo!$J:$K,2,0),\" \")","v":" "},{"$f":"IFERROR(VLOOKUP(MID(BF$27,5,4)&$A48,Lista_Ubigeo!$J:$K,2,0),\" \")","v":" "},{"$f":"IFERROR(VLOOKUP(MID(BG$27,5,4)&$A48,Lista_Ubigeo!$J:$K,2,0),\" \")","v":" "},{"$f":"IFERROR(VLOOKUP(MID(BH$27,5,4)&$A48,Lista_Ubigeo!$J:$K,2,0),\" \")","v":" "},{"$f":"IFERROR(VLOOKUP(MID(BI$27,5,4)&$A48,Lista_Ubigeo!$J:$K,2,0),\" \")","v":" "},{"$f":"IFERROR(VLOOKUP(MID(BJ$27,5,4)&$A48,Lista_Ubigeo!$J:$K,2,0),\" \")","v":" "},{"$f":"IFERROR(VLOOKUP(MID(BK$27,5,4)&$A48,Lista_Ubigeo!$J:$K,2,0),\" \")","v":" "},{"$f":"IFERROR(VLOOKUP(MID(BL$27,5,4)&$A48,Lista_Ubigeo!$J:$K,2,0),\" \")","v":" "},{"$f":"IFERROR(VLOOKUP(MID(BM$27,5,4)&$A48,Lista_Ubigeo!$J:$K,2,0),\" \")","v":" "},{"$f":"IFERROR(VLOOKUP(MID(BN$27,5,4)&$A48,Lista_Ubigeo!$J:$K,2,0),\" \")","v":" "},{"$f":"IFERROR(VLOOKUP(MID(BO$27,5,4)&$A48,Lista_Ubigeo!$J:$K,2,0),\" \")","v":" "},{"$f":"IFERROR(VLOOKUP(MID(BP$27,5,4)&$A48,Lista_Ubigeo!$J:$K,2,0),\" \")","v":" "},{"$f":"IFERROR(VLOOKUP(MID(BQ$27,5,4)&$A48,Lista_Ubigeo!$J:$K,2,0),\" \")","v":" "},{"$f":"IFERROR(VLOOKUP(MID(BR$27,5,4)&$A48,Lista_Ubigeo!$J:$K,2,0),\" \")","v":" "},{"$f":"IFERROR(VLOOKUP(MID(BS$27,5,4)&$A48,Lista_Ubigeo!$J:$K,2,0),\" \")","v":" "},{"$f":"IFERROR(VLOOKUP(MID(BT$27,5,4)&$A48,Lista_Ubigeo!$J:$K,2,0),\" \")","v":" "},{"$f":"IFERROR(VLOOKUP(MID(BU$27,5,4)&$A48,Lista_Ubigeo!$J:$K,2,0),\" \")","v":" "},{"$f":"IFERROR(VLOOKUP(MID(BV$27,5,4)&$A48,Lista_Ubigeo!$J:$K,2,0),\" \")","v":" "},{"$f":"IFERROR(VLOOKUP(MID(BW$27,5,4)&$A48,Lista_Ubigeo!$J:$K,2,0),\" \")","v":" "},{"$f":"IFERROR(VLOOKUP(MID(BX$27,5,4)&$A48,Lista_Ubigeo!$J:$K,2,0),\" \")","v":" "},{"$f":"IFERROR(VLOOKUP(MID(BY$27,4,4)&$A48,Lista_Ubigeo!$J:$K,2,0),\" \")","v":" "},{"$f":"IFERROR(VLOOKUP(MID(BZ$27,5,4)&$A48,Lista_Ubigeo!$J:$K,2,0),\" \")","v":" "},{"$f":"IFERROR(VLOOKUP(MID(CA$27,5,4)&$A48,Lista_Ubigeo!$J:$K,2,0),\" \")","v":" "},{"$f":"IFERROR(VLOOKUP(MID(CB$27,5,4)&$A48,Lista_Ubigeo!$J:$K,2,0),\" \")","v":" "},{"$f":"IFERROR(VLOOKUP(MID(CC$27,5,4)&$A48,Lista_Ubigeo!$J:$K,2,0),\" \")","v":" "},{"$f":"IFERROR(VLOOKUP(MID(CD$27,5,4)&$A48,Lista_Ubigeo!$J:$K,2,0),\" \")","v":" "},{"$f":"IFERROR(VLOOKUP(MID(CE$27,5,4)&$A48,Lista_Ubigeo!$J:$K,2,0),\" \")","v":" "},{"$f":"IFERROR(VLOOKUP(MID(CF$27,5,4)&$A48,Lista_Ubigeo!$J:$K,2,0),\" \")","v":" "},{"$f":"IFERROR(VLOOKUP(MID(CG$27,5,4)&$A48,Lista_Ubigeo!$J:$K,2,0),\" \")","v":" "},{"$f":"IFERROR(VLOOKUP(MID(CH$27,5,4)&$A48,Lista_Ubigeo!$J:$K,2,0),\" \")","v":" "},{"$f":"IFERROR(VLOOKUP(MID(CI$27,5,4)&$A48,Lista_Ubigeo!$J:$K,2,0),\" \")","v":" "},"SANTIAGO DE TUCUMA",{"$f":"IFERROR(VLOOKUP(MID(CK$27,5,4)&$A48,Lista_Ubigeo!$J:$K,2,0),\" \")","v":" "},{"$f":"IFERROR(VLOOKUP(MID(CL$27,5,4)&$A48,Lista_Ubigeo!$J:$K,2,0),\" \")","v":" "},{"$f":"IFERROR(VLOOKUP(MID(CM$27,5,4)&$A59,Lista_Ubigeo!$J:$K,2,0),\" \")","v":" "},{"$f":"IFERROR(VLOOKUP(MID(CN$27,5,4)&$A48,Lista_Ubigeo!$J:$K,2,0),\" \")","v":" "},{"$f":"IFERROR(VLOOKUP(MID(CO$27,5,4)&$A48,Lista_Ubigeo!$J:$K,2,0),\" \")","v":" "},{"$f":"IFERROR(VLOOKUP(MID(CP$27,5,4)&$A48,Lista_Ubigeo!$J:$K,2,0),\" \")","v":" "},{"$f":"IFERROR(VLOOKUP(MID(CQ$27,5,4)&$A48,Lista_Ubigeo!$J:$K,2,0),\" \")","v":" "},{"$f":"IFERROR(VLOOKUP(MID(CR$27,5,4)&$A48,Lista_Ubigeo!$J:$K,2,0),\" \")","v":" "},{"$f":"IFERROR(VLOOKUP(MID(CS$27,5,4)&$A48,Lista_Ubigeo!$J:$K,2,0),\" \")","v":" "},{"$f":"IFERROR(VLOOKUP(MID(CT$27,5,4)&$A48,Lista_Ubigeo!$J:$K,2,0),\" \")","v":" "},{"$f":"IFERROR(VLOOKUP(MID(CU$27,5,4)&$A48,Lista_Ubigeo!$J:$K,2,0),\" \")","v":" "},{"$f":"IFERROR(VLOOKUP(MID(CV$27,5,4)&$A48,Lista_Ubigeo!$J:$K,2,0),\" \")","v":" "},{"$f":"IFERROR(VLOOKUP(MID(CW$27,5,4)&$A48,Lista_Ubigeo!$J:$K,2,0),\" \")","v":" "},{"$f":"IFERROR(VLOOKUP(MID(CX$27,5,4)&$A48,Lista_Ubigeo!$J:$K,2,0),\" \")","v":" "},{"$f":"IFERROR(VLOOKUP(MID(CY$27,5,4)&$A48,Lista_Ubigeo!$J:$K,2,0),\" \")","v":" "},{"$f":"IFERROR(VLOOKUP(MID(CZ$27,5,4)&$A48,Lista_Ubigeo!$J:$K,2,0),\" \")","v":" "},"QUILCAS",{"$f":"IFERROR(VLOOKUP(MID(DB$27,5,4)&$A48,Lista_Ubigeo!$J:$K,2,0),\" \")","v":" "},{"$f":"IFERROR(VLOOKUP(MID(DC$27,5,4)&$A48,Lista_Ubigeo!$J:$K,2,0),\" \")","v":" "},{"$f":"IFERROR(VLOOKUP(MID(DD$27,5,4)&$A48,Lista_Ubigeo!$J:$K,2,0),\" \")","v":"MUQUIYAUYO"},{"$f":"IFERROR(VLOOKUP(MID(DE$27,5,4)&$A48,Lista_Ubigeo!$J:$K,2,0),\" \")","v":" "},{"$f":"IFERROR(VLOOKUP(MID(DF$27,5,4)&$A48,Lista_Ubigeo!$J:$K,2,0),\" \")","v":" "},{"$f":"IFERROR(VLOOKUP(MID(DG$27,5,4)&$A48,Lista_Ubigeo!$J:$K,2,0),\" \")","v":" "},{"$f":"IFERROR(VLOOKUP(MID(DH$27,5,4)&$A48,Lista_Ubigeo!$J:$K,2,0),\" \")","v":" "},{"$f":"IFERROR(VLOOKUP(MID(DI$27,5,4)&$A48,Lista_Ubigeo!$J:$K,2,0),\" \")","v":" "},{"$f":"IFERROR(VLOOKUP(MID(DJ$27,5,4)&$A48,Lista_Ubigeo!$J:$K,2,0),\" \")","v":" "},{"$f":"IFERROR(VLOOKUP(MID(DK$27,5,4)&$A48,Lista_Ubigeo!$J:$K,2,0),\" \")","v":" "},{"$f":"IFERROR(VLOOKUP(MID(DL$27,5,4)&$A48,Lista_Ubigeo!$J:$K,2,0),\" \")","v":" "},{"$f":"IFERROR(VLOOKUP(MID(DM$27,5,4)&$A48,Lista_Ubigeo!$J:$K,2,0),\" \")","v":" "},{"$f":"IFERROR(VLOOKUP(MID(DN$27,5,4)&$A48,Lista_Ubigeo!$J:$K,2,0),\" \")","v":" "},{"$f":"IFERROR(VLOOKUP(MID(DO$27,5,4)&$A49,Lista_Ubigeo!$J:$K,2,0),\" \")","v":" "},{"$f":"IFERROR(VLOOKUP(MID(DP$27,5,4)&$A48,Lista_Ubigeo!$J:$K,2,0),\" \")","v":" "},{"$f":"IFERROR(VLOOKUP(MID(DQ$27,5,4)&$A48,Lista_Ubigeo!$J:$K,2,0),\" \")","v":" "},{"$f":"IFERROR(VLOOKUP(MID(DR$27,5,4)&$A48,Lista_Ubigeo!$J:$K,2,0),\" \")","v":" "},{"$f":"IFERROR(VLOOKUP(MID(DS$27,5,4)&$A48,Lista_Ubigeo!$J:$K,2,0),\" \")","v":" "},null,null,{"$f":"IFERROR(VLOOKUP(MID(DV$27,5,4)&$A48,Lista_Ubigeo!$J:$K,2,0),\" \")","v":" "},{"$f":"IFERROR(VLOOKUP(MID(DW$27,5,4)&$A48,Lista_Ubigeo!$J:$K,2,0),\" \")","v":" "},{"$f":"IFERROR(VLOOKUP(MID(DX$27,5,4)&$A48,Lista_Ubigeo!$J:$K,2,0),\" \")","v":" "},{"$f":"IFERROR(VLOOKUP(MID(DY$27,5,4)&$A48,Lista_Ubigeo!$J:$K,2,0),\" \")","v":"PUEBLO LIBRE"},{"$f":"IFERROR(VLOOKUP(MID(DZ$27,5,4)&$A48,Lista_Ubigeo!$J:$K,2,0),\" \")","v":" "},{"$f":"IFERROR(VLOOKUP(MID(EA$27,5,4)&$A48,Lista_Ubigeo!$J:$K,2,0),\" \")","v":" "},{"$f":"IFERROR(VLOOKUP(MID(EB$27,5,4)&$A48,Lista_Ubigeo!$J:$K,2,0),\" \")","v":" "},{"$f":"IFERROR(VLOOKUP(MID(EC$27,5,4)&$A48,Lista_Ubigeo!$J:$K,2,0),\" \")","v":" "},{"$f":"IFERROR(VLOOKUP(MID(ED$27,5,4)&$A48,Lista_Ubigeo!$J:$K,2,0),\" \")","v":" "},{"$f":"IFERROR(VLOOKUP(MID(EE$27,5,4)&$A48,Lista_Ubigeo!$J:$K,2,0),\" \")","v":"SAN LORENZO DE QUINTI"},{"$f":"IFERROR(VLOOKUP(MID(EF$27,5,4)&$A48,Lista_Ubigeo!$J:$K,2,0),\" \")","v":" "},{"$f":"IFERROR(VLOOKUP(MID(EG$27,5,4)&$A48,Lista_Ubigeo!$J:$K,2,0),\" \")","v":" "},{"$f":"IFERROR(VLOOKUP(MID(EH$27,5,4)&$A48,Lista_Ubigeo!$J:$K,2,0),\" \")","v":"MIRAFLORES"},{"$f":"IFERROR(VLOOKUP(MID(EI$27,5,4)&$A48,Lista_Ubigeo!$J:$K,2,0),\" \")","v":" "},{"$f":"IFERROR(VLOOKUP(MID(EJ$27,5,4)&$A53,Lista_Ubigeo!$J:$K,2,0),\" \")","v":" "},{"$f":"IFERROR(VLOOKUP(MID(EK$27,5,4)&$A48,Lista_Ubigeo!$J:$K,2,0),\" \")","v":" "},{"$f":"IFERROR(VLOOKUP(MID(EL$27,5,4)&$A48,Lista_Ubigeo!$J:$K,2,0),\" \")","v":" "},{"$f":"IFERROR(VLOOKUP(MID(EM$27,5,4)&$A48,Lista_Ubigeo!$J:$K,2,0),\" \")","v":" "},{"$f":"IFERROR(VLOOKUP(MID(EN$27,5,4)&$A48,Lista_Ubigeo!$J:$K,2,0),\" \")","v":" "},{"$f":"IFERROR(VLOOKUP(MID(EO$27,5,4)&$A48,Lista_Ubigeo!$J:$K,2,0),\" \")","v":" "},{"$f":"IFERROR(VLOOKUP(MID(EP$27,5,4)&$A48,Lista_Ubigeo!$J:$K,2,0),\" \")","v":" "},{"$f":"IFERROR(VLOOKUP(MID(EQ$27,5,4)&$A48,Lista_Ubigeo!$J:$K,2,0),\" \")","v":" "},{"$f":"IFERROR(VLOOKUP(MID(ER$27,5,4)&$A48,Lista_Ubigeo!$J:$K,2,0),\" \")","v":" "},{"$f":"IFERROR(VLOOKUP(MID(ES$27,5,4)&$A48,Lista_Ubigeo!$J:$K,2,0),\" \")","v":" "},{"$f":"IFERROR(VLOOKUP(MID(ET$27,5,4)&$A48,Lista_Ubigeo!$J:$K,2,0),\" \")","v":" "},{"$f":"IFERROR(VLOOKUP(MID(EU$27,5,4)&$A48,Lista_Ubigeo!$J:$K,2,0),\" \")","v":" "},{"$f":"IFERROR(VLOOKUP(MID(EV$27,5,4)&$A48,Lista_Ubigeo!$J:$K,2,0),\" \")","v":" "},{"$f":"IFERROR(VLOOKUP(MID(EW$27,5,4)&$A48,Lista_Ubigeo!$J:$K,2,0),\" \")","v":" "},{"$f":"IFERROR(VLOOKUP(MID(EX$27,5,4)&$A48,Lista_Ubigeo!$J:$K,2,0),\" \")","v":" "},{"$f":"IFERROR(VLOOKUP(MID(EY$27,5,4)&$A48,Lista_Ubigeo!$J:$K,2,0),\" \")","v":" "},{"$f":"IFERROR(VLOOKUP(MID(EZ$27,5,4)&$A51,Lista_Ubigeo!$J:$K,2,0),\" \")","v":" "},{"$f":"IFERROR(VLOOKUP(MID(FA$27,5,4)&$A48,Lista_Ubigeo!$J:$K,2,0),\" \")","v":" "},{"$f":"IFERROR(VLOOKUP(MID(FB$27,5,4)&$A48,Lista_Ubigeo!$J:$K,2,0),\" \")","v":" "},{"$f":"IFERROR(VLOOKUP(MID(FC$27,5,4)&$A48,Lista_Ubigeo!$J:$K,2,0),\" \")","v":" "},{"$f":"IFERROR(VLOOKUP(MID(FD$27,5,4)&$A48,Lista_Ubigeo!$J:$K,2,0),\" \")","v":" "},{"$f":"IFERROR(VLOOKUP(MID(FE$27,5,4)&$A48,Lista_Ubigeo!$J:$K,2,0),\" \")","v":" "},{"$f":"IFERROR(VLOOKUP(MID(FF$27,5,4)&$A48,Lista_Ubigeo!$J:$K,2,0),\" \")","v":" "},{"$f":"IFERROR(VLOOKUP(MID(FG$27,5,4)&$A48,Lista_Ubigeo!$J:$K,2,0),\" \")","v":" "},{"$f":"IFERROR(VLOOKUP(MID(FH$27,5,4)&$A48,Lista_Ubigeo!$J:$K,2,0),\" \")","v":" "},{"$f":"IFERROR(VLOOKUP(MID(FI$27,5,4)&$A48,Lista_Ubigeo!$J:$K,2,0),\" \")","v":" "},{"$f":"IFERROR(VLOOKUP(MID(FJ$27,5,4)&$A48,Lista_Ubigeo!$J:$K,2,0),\" \")","v":" "},{"$f":"IFERROR(VLOOKUP(MID(FK$27,5,4)&$A48,Lista_Ubigeo!$J:$K,2,0),\" \")","v":" "},{"$f":"IFERROR(VLOOKUP(MID(FL$27,5,4)&$A48,Lista_Ubigeo!$J:$K,2,0),\" \")","v":" "},{"$f":"IFERROR(VLOOKUP(MID(FM$27,5,4)&$A48,Lista_Ubigeo!$J:$K,2,0),\" \")","v":" "},{"$f":"IFERROR(VLOOKUP(MID(FN$27,5,4)&$A48,Lista_Ubigeo!$J:$K,2,0),\" \")","v":" "},{"$f":"IFERROR(VLOOKUP(MID(FO$27,5,4)&$A48,Lista_Ubigeo!$J:$K,2,0),\" \")","v":" "},{"$f":"IFERROR(VLOOKUP(MID(FP$27,5,4)&$A48,Lista_Ubigeo!$J:$K,2,0),\" \")","v":" "},{"$f":"IFERROR(VLOOKUP(MID(FQ$27,5,4)&$A48,Lista_Ubigeo!$J:$K,2,0),\" \")","v":" "},{"$f":"IFERROR(VLOOKUP(MID(FR$27,5,4)&$A48,Lista_Ubigeo!$J:$K,2,0),\" \")","v":" "},{"$f":"IFERROR(VLOOKUP(MID(FS$27,5,4)&$A48,Lista_Ubigeo!$J:$K,2,0),\" \")","v":" "},{"$f":"IFERROR(VLOOKUP(MID(FT$27,5,4)&$A48,Lista_Ubigeo!$J:$K,2,0),\" \")","v":" "},{"$f":"IFERROR(VLOOKUP(MID(FU$27,5,4)&$A48,Lista_Ubigeo!$J:$K,2,0),\" \")","v":" "},{"$f":"IFERROR(VLOOKUP(MID(FV$27,5,4)&$A48,Lista_Ubigeo!$J:$K,2,0),\" \")","v":" "},{"$f":"IFERROR(VLOOKUP(MID(FW$27,5,4)&$A48,Lista_Ubigeo!$J:$K,2,0),\" \")","v":" "},{"$f":"IFERROR(VLOOKUP(MID(FX$27,5,4)&$A48,Lista_Ubigeo!$J:$K,2,0),\" \")","v":" "},{"$f":"IFERROR(VLOOKUP(MID(FY$27,5,4)&$A48,Lista_Ubigeo!$J:$K,2,0),\" \")","v":" "},{"$f":"IFERROR(VLOOKUP(MID(FZ$27,5,4)&$A48,Lista_Ubigeo!$J:$K,2,0),\" \")","v":" "},{"$f":"IFERROR(VLOOKUP(MID(GA$27,5,4)&$A48,Lista_Ubigeo!$J:$K,2,0),\" \")","v":" "},{"$f":"IFERROR(VLOOKUP(MID(GB$27,5,4)&$A48,Lista_Ubigeo!$J:$K,2,0),\" \")","v":" "},{"$f":"IFERROR(VLOOKUP(MID(GC$27,5,4)&$A48,Lista_Ubigeo!$J:$K,2,0),\" \")","v":" "},{"$f":"IFERROR(VLOOKUP(MID(GD$27,5,4)&$A48,Lista_Ubigeo!$J:$K,2,0),\" \")","v":" "},{"$f":"IFERROR(VLOOKUP(MID(GE$27,5,4)&$A48,Lista_Ubigeo!$J:$K,2,0),\" \")","v":" "},{"$f":"IFERROR(VLOOKUP(MID(GF$27,5,4)&$A48,Lista_Ubigeo!$J:$K,2,0),\" \")","v":" "},{"$f":"IFERROR(VLOOKUP(MID(GG$27,5,4)&$A48,Lista_Ubigeo!$J:$K,2,0),\" \")","v":" "},{"$f":"IFERROR(VLOOKUP(MID(GH$27,5,4)&$A48,Lista_Ubigeo!$J:$K,2,0),\" \")","v":" "},{"$f":"IFERROR(VLOOKUP(MID(GI$27,5,4)&$A48,Lista_Ubigeo!$J:$K,2,0),\" \")","v":" "},{"$f":"IFERROR(VLOOKUP(MID(GJ$27,5,4)&$A48,Lista_Ubigeo!$J:$K,2,0),\" \")","v":" "},{"$f":"IFERROR(VLOOKUP(MID(GK$27,5,4)&$A48,Lista_Ubigeo!$J:$K,2,0),\" \")","v":" "},{"$f":"IFERROR(VLOOKUP(MID(GL$27,5,4)&$A48,Lista_Ubigeo!$J:$K,2,0),\" \")","v":" "},{"$f":"IFERROR(VLOOKUP(MID(GM$27,5,4)&$A48,Lista_Ubigeo!$J:$K,2,0),\" \")","v":" "},{"$f":"IFERROR(VLOOKUP(MID(GN$27,5,4)&$A48,Lista_Ubigeo!$J:$K,2,0),\" \")","v":" "},{"$f":"IFERROR(VLOOKUP(MID(GO$27,5,4)&$A48,Lista_Ubigeo!$J:$K,2,0),\" \")","v":" "},{"$f":"IFERROR(VLOOKUP(MID(GP$27,5,4)&$A48,Lista_Ubigeo!$J:$K,2,0),\" \")","v":" "}]
["22",{"$f":"IFERROR(VLOOKUP(MID(B$27,5,4)&$A49,Lista_Ubigeo!$J:$K,2,0),\" \")","v":" "},{"$f":"IFERROR(VLOOKUP(MID(C$27,5,4)&$A49,Lista_Ubigeo!$J:$K,2,0),\" \")","v":" "},{"$f":"IFERROR(VLOOKUP(MID(D$27,5,4)&$A49,Lista_Ubigeo!$J:$K,2,0),\" \")","v":" "},{"$f":"IFERROR(VLOOKUP(MID(E$27,5,4)&$A49,Lista_Ubigeo!$J:$K,2,0),\" \")","v":" "},{"$f":"IFERROR(VLOOKUP(MID(F$27,5,4)&$A49,Lista_Ubigeo!$J:$K,2,0),\" \")","v":"TINGO"},{"$f":"IFERROR(VLOOKUP(MID(G$27,5,4)&$A49,Lista_Ubigeo!$J:$K,2,0),\" \")","v":" "},{"$f":"IFERROR(VLOOKUP(MID(H$27,5,4)&$A49,Lista_Ubigeo!$J:$K,2,0),\" \")","v":" "},{"$f":"IFERROR(VLOOKUP(MID(I$27,5,4)&$A49,Lista_Ubigeo!$J:$K,2,0),\" \")","v":" "},{"$f":"IFERROR(VLOOKUP(MID(J$27,5,4)&$A49,Lista_Ubigeo!$J:$K,2,0),\" \")","v":" "},{"$f":"IFERROR(VLOOKUP(MID(K$27,5,4)&$A49,Lista_Ubigeo!$J:$K,2,0),\" \")","v":" "},{"$f":"IFERROR(VLOOKUP(MID(L$27,5,4)&$A49,Lista_Ubigeo!$J:$K,2,0),\" \")","v":" "},{"$f":"IFERROR(VLOOKUP(MID(M$27,5,4)&$A49,Lista_Ubigeo!$J:$K,2,0),\" \")","v":" "},{"$f":"IFERROR(VLOOKUP(MID(N$27,5,4)&$A49,Lista_Ubigeo!$J:$K,2,0),\" \")","v":" "},{"$f":"IFERROR(VLOOKUP(MID(O$27,5,4)&$A49,Lista_Ubigeo!$J:$K,2,0),\" \")","v":" "},{"$f":"IFERROR(VLOOKUP(MID(P$27,5,4)&$A49,Lista_Ubigeo!$J:$K,2,0),\" \")","v":" "},{"$f":"IFERROR(VLOOKUP(MID(Q$27,5,4)&$A49,Lista_Ubigeo!$J:$K,2,0),\" \")","v":" "},{"$f":"IFERROR(VLOOKUP(MID(R$27,5,4)&$A49,Lista_Ubigeo!$J:$K,2,0),\" \")","v":" "},{"$f":"IFERROR(VLOOKUP(MID(S$27,5,4)&$A49,Lista_Ubigeo!$J:$K,2,0),\" \")","v":" "},{"$f":"IFERROR(VLOOKUP(MID(T$27,5,4)&$A49,Lista_Ubigeo!$J:$K,2,0),\" \")","v":" "},{"$f":"IFERROR(VLOOKUP(MID(U$27,5,4)&$A49,Lista_Ubigeo!$J:$K,2,0),\" \")","v":" "},{"$f":"IFERROR(VLOOKUP(MID(V$27,5,4)&$A49,Lista_Ubigeo!$J:$K,2,0),\" \")","v":" "},{"$f":"IFERROR(VLOOKUP(MID(W$27,5,4)&$A49,Lista_Ubigeo!$J:$K,2,0),\" \")","v":" "},{"$f":"IFERROR(VLOOKUP(MID(X$27,5,4)&$A49,Lista_Ubigeo!$J:$K,2,0),\" \")","v":" "},{"$f":"IFERROR(VLOOKUP(MID(Y$27,5,4)&$A49,Lista_Ubigeo!$J:$K,2,0),\" \")","v":" "},{"$f":"IFERROR(VLOOKUP(MID(Z$27,5,4)&$A49,Lista_Ubigeo!$J:$K,2,0),\" \")","v":" "},{"$f":"IFERROR(VLOOKUP(MID(AA$27,5,4)&$A49,Lista_Ubigeo!$J:$K,2,0),\" \")","v":" "},{"$f":"IFERROR(VLOOKUP(MID(AB$27,5,4)&$A49,Lista_Ubigeo!$J:$K,2,0),\" \")","v":" "},{"$f":"IFERROR(VLOOKUP(MID(AC$27,5,4)&$A49,Lista_Ubigeo!$J:$K,2,0),\" \")","v":" "},{"$f":"IFERROR(VLOOKUP(MID(AD$27,5,4)&$A49,Lista_Ubigeo!$J:$K,2,0),\" \")","v":" "},{"$f":"IFERROR(VLOOKUP(MID(AE$27,5,4)&$A49,Lista_Ubigeo!$J:$K,2,0),\" \")","v":" "},{"$f":"IFERROR(VLOOKUP(MID(AF$27,5,4)&$A49,Lista_Ubigeo!$J:$K,2,0),\" \")","v":" "},{"$f":"IFERROR(VLOOKUP(MID(AG$27,5,4)&$A49,Lista_Ubigeo!$J:$K,2,0),\" \")","v":" "},{"$f":"IFERROR(VLOOKUP(MID(AH$27,5,4)&$A49,Lista_Ubigeo!$J:$K,2,0),\" \")","v":" "},{"$f":"IFERROR(VLOOKUP(MID(AI$27,5,4)&$A49,Lista_Ubigeo!$J:$K,2,0),\" \")","v":" "},{"$f":"IFERROR(VLOOKUP(MID(AJ$27,5,4)&$A49,Lista_Ubigeo!$J:$K,2,0),\" \")","v":"SOCABAYA"},{"$f":"IFERROR(VLOOKUP(MID(AK$27,5,4)&$A49,Lista_Ubigeo!$J:$K,2,0),\" \")","v":" "},{"$f":"IFERROR(VLOOKUP(MID(AL$27,5,4)&$A49,Lista_Ubigeo!$J:$K,2,0),\" \")","v":" "},{"$f":"IFERROR(VLOOKUP(MID(AM$27,5,4)&$A49,Lista_Ubigeo!$J:$K,2,0),\" \")","v":" "},{"$f":"IFERROR(VLOOKUP(MID(AN$27,5,4)&$A49,Lista_Ubigeo!$J:$K,2,0),\" \")","v":" "},{"$f":"IFERROR(VLOOKUP(MID(AO$27,5,4)&$A49,Lista_Ubigeo!$J:$K,2,0),\" \")","v":" "},{"$f":"IFERROR(VLOOKUP(MID(AP$27,5,4)&$A49,Lista_Ubigeo!$J:$K,2,0),\" \")","v":" "},{"$f":"IFERROR(VLOOKUP(MID(AQ$27,4,4)&$A49,Lista_Ubigeo!$J:$K,2,0),\" \")","v":" "},{"$f":"IFERROR(VLOOKUP(MID(AR$27,5,4)&$A49,Lista_Ubigeo!$J:$K,2,0),\" \")","v":" "},{"$f":"IFERROR(VLOOKUP(MID(AS$27,5,4)&$A49,Lista_Ubigeo!$J:$K,2,0),\" \")","v":" "},{"$f":"IFERROR(VLOOKUP(MID(AT$27,5,4)&$A49,Lista_Ubigeo!$J:$K,2,0),\" \")","v":" "},{"$f":"IFERROR(VLOOKUP(MID(AU$27,5,4)&$A49,Lista_Ubigeo!$J:$K,2,0),\" \")","v":" "},{"$f":"IFERROR(VLOOKUP(MID(AV$27,5,4)&$A49,Lista_Ubigeo!$J:$K,2,0),\" \")","v":" "},{"$f":"IFERROR(VLOOKUP(MID(AW$27,5,4)&$A49,Lista_Ubigeo!$J:$K,2,0),\" \")","v":" "},{"$f":"IFERROR(VLOOKUP(MID(AX$27,5,4)&$A49,Lista_Ubigeo!$J:$K,2,0),\" \")","v":" "},{"$f":"IFERROR(VLOOKUP(MID(AY$27,5,4)&$A49,Lista_Ubigeo!$J:$K,2,0),\" \")","v":" "},{"$f":"IFERROR(VLOOKUP(MID(AZ$27,5,4)&$A49,Lista_Ubigeo!$J:$K,2,0),\" \")","v":" "},{"$f":"IFERROR(VLOOKUP(MID(BA$27,5,4)&$A49,Lista_Ubigeo!$J:$K,2,0),\" \")","v":" "},{"$f":"IFERROR(VLOOKUP(MID(BB$27,5,4)&$A49,Lista_Ubigeo!$J:$K,2,0),\" \")","v":" "},{"$f":"IFERROR(VLOOKUP(MID(BC$27,5,4)&$A49,Lista_Ubigeo!$J:$K,2,0),\" \")","v":" "},{"$f":"IFERROR(VLOOKUP(MID(BD$27,5,4)&$A49,Lista_Ubigeo!$J:$K,2,0),\" \")","v":" "},{"$f":"IFERROR(VLOOKUP(MID(BE$27,5,4)&$A49,Lista_Ubigeo!$J:$K,2,0),\" \")","v":" "},{"$f":"IFERROR(VLOOKUP(MID(BF$27,5,4)&$A49,Lista_Ubigeo!$J:$K,2,0),\" \")","v":" "},{"$f":"IFERROR(VLOOKUP(MID(BG$27,5,4)&$A49,Lista_Ubigeo!$J:$K,2,0),\" \")","v":" "},{"$f":"IFERROR(VLOOKUP(MID(BH$27,5,4)&$A49,Lista_Ubigeo!$J:$K,2,0),\" \")","v":" "},{"$f":"IFERROR(VLOOKUP(MID(BI$27,5,4)&$A49,Lista_Ubigeo!$J:$K,2,0),\" \")","v":" "},{"$f":"IFERROR(VLOOKUP(MID(BJ$27,5,4)&$A49,Lista_Ubigeo!$J:$K,2,0),\" \")","v":" "},{"$f":"IFERROR(VLOOKUP(MID(BK$27,5,4)&$A49,Lista_Ubigeo!$J:$K,2,0),\" \")","v":" "},{"$f":"IFERROR(VLOOKUP(MID(BL$27,5,4)&$A49,Lista_Ubigeo!$J:$K,2,0),\" \")","v":" "},{"$f":"IFERROR(VLOOKUP(MID(BM$27,5,4)&$A49,Lista_Ubigeo!$J:$K,2,0),\" \")","v":" "},{"$f":"IFERROR(VLOOKUP(MID(BN$27,5,4)&$A49,Lista_Ubigeo!$J:$K,2,0),\" \")","v":" "},{"$f":"IFERROR(VLOOKUP(MID(BO$27,5,4)&$A49,Lista_Ubigeo!$J:$K,2,0),\" \")","v":" "},{"$f":"IFERROR(VLOOKUP(MID(BP$27,5,4)&$A49,Lista_Ubigeo!$J:$K,2,0),\" \")","v":" "},{"$f":"IFERROR(VLOOKUP(MID(BQ$27,5,4)&$A49,Lista_Ubigeo!$J:$K,2,0),\" \")","v":" "},{"$f":"IFERROR(VLOOKUP(MID(BR$27,5,4)&$A49,Lista_Ubigeo!$J:$K,2,0),\" \")","v":" "},{"$f":"IFERROR(VLOOKUP(MID(BS$27,5,4)&$A49,Lista_Ubigeo!$J:$K,2,0),\" \")","v":" "},{"$f":"IFERROR(VLOOKUP(MID(BT$27,5,4)&$A49,Lista_Ubigeo!$J:$K,2,0),\" \")","v":" "},{"$f":"IFERROR(VLOOKUP(MID(BU$27,5,4)&$A49,Lista_Ubigeo!$J:$K,2,0),\" \")","v":" "},{"$f":"IFERROR(VLOOKUP(MID(BV$27,5,4)&$A49,Lista_Ubigeo!$J:$K,2,0),\" \")","v":" "},{"$f":"IFERROR(VLOOKUP(MID(BW$27,5,4)&$A49,Lista_Ubigeo!$J:$K,2,0),\" \")","v":" "},{"$f":"IFERROR(VLOOKUP(MID(BX$27,5,4)&$A49,Lista_Ubigeo!$J:$K,2,0),\" \")","v":" "},{"$f":"IFERROR(VLOOKUP(MID(BY$27,4,4)&$A49,Lista_Ubigeo!$J:$K,2,0),\" \")","v":" "},{"$f":"IFERROR(VLOOKUP(MID(BZ$27,5,4)&$A49,Lista_Ubigeo!$J:$K,2,0),\" \")","v":" "},{"$f":"IFERROR(VLOOKUP(MID(CA$27,5,4)&$A49,Lista_Ubigeo!$J:$K,2,0),\" \")","v":" "},{"$f":"IFERROR(VLOOKUP(MID(CB$27,5,4)&$A49,Lista_Ubigeo!$J:$K,2,0),\" \")","v":" "},{"$f":"IFERROR(VLOOKUP(MID(CC$27,5,4)&$A49,Lista_Ubigeo!$J:$K,2,0),\" \")","v":" "},{"$f":"IFERROR(VLOOKUP(MID(CD$27,5,4)&$A49,Lista_Ubigeo!$J:$K,2,0),\" \")","v":" "},{"$f":"IFERROR(VLOOKUP(MID(CE$27,5,4)&$A49,Lista_Ubigeo!$J:$K,2,0),\" \")","v":" "},{"$f":"IFERROR(VLOOKUP(MID(CF$27,5,4)&$A49,Lista_Ubigeo!$J:$K,2,0),\" \")","v":" "},{"$f":"IFERROR(VLOOKUP(MID(CG$27,5,4)&$A49,Lista_Ubigeo!$J:$K,2,0),\" \")","v":" "},{"$f":"IFERROR(VLOOKUP(MID(CH$27,5,4)&$A49,Lista_Ubigeo!$J:$K,2,0),\" \")","v":" "},{"$f":"IFERROR(VLOOKUP(MID(CI$27,5,4)&$A49,Lista_Ubigeo!$J:$K,2,0),\" \")","v":" "},null,{"$f":"IFERROR(VLOOKUP(MID(CK$27,5,4)&$A49,Lista_Ubigeo!$J:$K,2,0),\" \")","v":" "},{"$f":"IFERROR(VLOOKUP(MID(CL$27,5,4)&$A49,Lista_Ubigeo!$J:$K,2,0),\" \")","v":" "},{"$f":"IFERROR(VLOOKUP(MID(CM$27,5,4)&$A60,Lista_Ubigeo!$J:$K,2,0),\" \")","v":" "},{"$f":"IFERROR(VLOOKUP(MID(CN$27,5,4)&$A49,Lista_Ubigeo!$J:$K,2,0),\" \")","v":" "},{"$f":"IFERROR(VLOOKUP(MID(CO$27,5,4)&$A49,Lista_Ubigeo!$J:$K,2,0),\" \")","v":" "},{"$f":"IFERROR(VLOOKUP(MID(CP$27,5,4)&$A49,Lista_Ubigeo!$J:$K,2,0),\" \")","v":" "},{"$f":"IFERROR(VLOOKUP(MID(CQ$27,5,4)&$A49,Lista_Ubigeo!$J:$K,2,0),\" \")","v":" "},{"$f":"IFERROR(VLOOKUP(MID(CR$27,5,4)&$A49,Lista_Ubigeo!$J:$K,2,0),\" \")","v":" "},{"$f":"IFERROR(VLOOKUP(MID(CS$27,5,4)&$A49,Lista_Ubigeo!$J:$K,2,0),\" \")","v":" "},{"$f":"IFERROR(VLOOKUP(MID(CT$27,5,4)&$A49,Lista_Ubigeo!$J:$K,2,0),\" \")","v":" "},{"$f":"IFERROR(VLOOKUP(MID(CU$27,5,4)&$A49,Lista_Ubigeo!$J:$K,2,0),\" \")","v":" "},{"$f":"IFERROR(VLOOKUP(MID(CV$27,5,4)&$A49,Lista_Ubigeo!$J:$K,2,0),\" \")","v":" "},{"$f":"IFERROR(VLOOKUP(MID(CW$27,5,4)&$A49,Lista_Ubigeo!$J:$K,2,0),\" \")","v":" "},{"$f":"IFERROR(VLOOKUP(MID(CX$27,5,4)&$A49,Lista_Ubigeo!$J:$K,2,0),\" \")","v":" "},{"$f":"IFERROR(VLOOKUP(MID(CY$27,5,4)&$A49,Lista_Ubigeo!$J:$K,2,0),\" \")","v":" "},{"$f":"IFERROR(VLOOKUP(MID(CZ$27,5,4)&$A49,Lista_Ubigeo!$J:$K,2,0),\" \")","v":" "},"SAN AGUSTIN",{"$f":"IFERROR(VLOOKUP(MID(DB$27,5,4)&$A49,Lista_Ubigeo!$J:$K,2,0),\" \")","v":" "},{"$f":"IFERROR(VLOOKUP(MID(DC$27,5,4)&$A49,Lista_Ubigeo!$J:$K,2,0),\" \")","v":" "},{"$f":"IFERROR(VLOOKUP(MID(DD$27,5,4)&$A49,Lista_Ubigeo!$J:$K,2,0),\" \")","v":"PACA"},{"$f":"IFERROR(VLOOKUP(MID(DE$27,5,4)&$A49,Lista_Ubigeo!$J:$K,2,0),\" \")","v":" "},{"$f":"IFERROR(VLOOKUP(MID(DF$27,5,4)&$A49,Lista_Ubigeo!$J:$K,2,0),\" \")","v":" "},{"$f":"IFERROR(VLOOKUP(MID(DG$27,5,4)&$A49,Lista_Ubigeo!$J:$K,2,0),\" \")","v":" "},{"$f":"IFERROR(VLOOKUP(MID(DH$27,5,4)&$A49,Lista_Ubigeo!$J:$K,2,0),\" \")","v":" "},{"$f":"IFERROR(VLOOKUP(MID(DI$27,5,4)&$A49,Lista_Ubigeo!$J:$K,2,0),\" \")","v":" "},{"$f":"IFERROR(VLOOKUP(MID(DJ$27,5,4)&$A49,Lista_Ubigeo!$J:$K,2,0),\" \")","v":" "},{"$f":"IFERROR(VLOOKUP(MID(DK$27,5,4)&$A49,Lista_Ubigeo!$J:$K,2,0),\" \")","v":" "},{"$f":"IFERROR(VLOOKUP(MID(DL$27,5,4)&$A49,Lista_Ubigeo!$J:$K,2,0),\" \")","v":" "},{"$f":"IFERROR(VLOOKUP(MID(DM$27,5,4)&$A49,Lista_Ubigeo!$J:$K,2,0),\" \")","v":" "},{"$f":"IFERROR(VLOOKUP(MID(DN$27,5,4)&$A49,Lista_Ubigeo!$J:$K,2,0),\" \")","v":" "},{"$f":"IFERROR(VLOOKUP(MID(DO$27,5,4)&$A50,Lista_Ubigeo!$J:$K,2,0),\" \")","v":" "},{"$f":"IFERROR(VLOOKUP(MID(DP$27,5,4)&$A49,Lista_Ubigeo!$J:$K,2,0),\" \")","v":" "},{"$f":"IFERROR(VLOOKUP(MID(DQ$27,5,4)&$A49,Lista_Ubigeo!$J:$K,2,0),\" \")","v":" "},{"$f":"IFERROR(VLOOKUP(MID(DR$27,5,4)&$A49,Lista_Ubigeo!$J:$K,2,0),\" \")","v":" "},{"$f":"IFERROR(VLOOKUP(MID(DS$27,5,4)&$A49,Lista_Ubigeo!$J:$K,2,0),\" \")","v":" "},null,null,{"$f":"IFERROR(VLOOKUP(MID(DV$27,5,4)&$A49,Lista_Ubigeo!$J:$K,2,0),\" \")","v":" "},{"$f":"IFERROR(VLOOKUP(MID(DW$27,5,4)&$A49,Lista_Ubigeo!$J:$K,2,0),\" \")","v":" "},{"$f":"IFERROR(VLOOKUP(MID(DX$27,5,4)&$A49,Lista_Ubigeo!$J:$K,2,0),\" \")","v":" "},{"$f":"IFERROR(VLOOKUP(MID(DY$27,5,4)&$A49,Lista_Ubigeo!$J:$K,2,0),\" \")","v":"MIRAFLORES"},{"$f":"IFERROR(VLOOKUP(MID(DZ$27,5,4)&$A49,Lista_Ubigeo!$J:$K,2,0),\" \")","v":" "},{"$f":"IFERROR(VLOOKUP(MID(EA$27,5,4)&$A49,Lista_Ubigeo!$J:$K,2,0),\" \")","v":" "},{"$f":"IFERROR(VLOOKUP(MID(EB$27,5,4)&$A49,Lista_Ubigeo!$J:$K,2,0),\" \")","v":" "},{"$f":"IFERROR(VLOOKUP(MID(EC$27,5,4)&$A49,Lista_Ubigeo!$J:$K,2,0),\" \")","v":" "},{"$f":"IFERROR(VLOOKUP(MID(ED$27,5,4)&$A49,Lista_Ubigeo!$J:$K,2,0),\" \")","v":" "},{"$f":"IFERROR(VLOOKUP(MID(EE$27,5,4)&$A49,Lista_Ubigeo!$J:$K,2,0),\" \")","v":"SAN MATEO"},{"$f":"IFERROR(VLOOKUP(MID(EF$27,5,4)&$A49,Lista_Ubigeo!$J:$K,2,0),\" \")","v":" "},{"$f":"IFERROR(VLOOKUP(MID(EG$27,5,4)&$A49,Lista_Ubigeo!$J:$K,2,0),\" \")","v":" "},{"$f":"IFERROR(VLOOKUP(MID(EH$27,5,4)&$A49,Lista_Ubigeo!$J:$K,2,0),\" \")","v":"OMAS"},{"$f":"IFERROR(VLOOKUP(MID(EI$27,5,4)&$A49,Lista_Ubigeo!$J:$K,2,0),\" \")","v":" "},{"$f":"IFERROR(VLOOKUP(MID(EJ$27,5,4)&$A54,Lista_Ubigeo!$J:$K,2,0),\" \")","v":" "},{"$f":"IFERROR(VLOOKUP(MID(EK$27,5,4)&$A49,Lista_Ubigeo!$J:$K,2,0),\" \")","v":" "},{"$f":"IFERROR(VLOOKUP(MID(EL$27,5,4)&$A49,Lista_Ubigeo!$J:$K,2,0),\" \")","v":" "},{"$f":"IFERROR(VLOOKUP(MID(EM$27,5,4)&$A49,Lista_Ubigeo!$J:$K,2,0),\" \")","v":" "},{"$f":"IFERROR(VLOOKUP(MID(EN$27,5,4)&$A49,Lista_Ubigeo!$J:$K,2,0),\" \")","v":" "},{"$f":"IFERROR(VLOOKUP(MID(EO$27,5,4)&$A49,Lista_Ubigeo!$J:$K,2,0),\" \")","v":" "},{"$f":"IFERROR(VLOOKUP(MID(EP$27,5,4)&$A49,Lista_Ubigeo!$J:$K,2,0),\" \")","v":" "},{"$f":"IFERROR(VLOOKUP(MID(EQ$27,5,4)&$A49,Lista_Ubigeo!$J:$K,2,0),\" \")","v":" "},{"$f":"IFERROR(VLOOKUP(MID(ER$27,5,4)&$A49,Lista_Ubigeo!$J:$K,2,0),\" \")","v":" "},{"$f":"IFERROR(VLOOKUP(MID(ES$27,5,4)&$A49,Lista_Ubigeo!$J:$K,2,0),\" \")","v":" "},{"$f":"IFERROR(VLOOKUP(MID(ET$27,5,4)&$A49,Lista_Ubigeo!$J:$K,2,0),\" \")","v":" "},{"$f":"IFERROR(VLOOKUP(MID(EU$27,5,4)&$A49,Lista_Ubigeo!$J:$K,2,0),\" \")","v":" "},{"$f":"IFERROR(VLOOKUP(MID(EV$27,5,4)&$A49,Lista_Ubigeo!$J:$K,2,0),\" \")","v":" "},{"$f":"IFERROR(VLOOKUP(MID(EW$27,5,4)&$A49,Lista_Ubigeo!$J:$K,2,0),\" \")","v":" "},{"$f":"IFERROR(VLOOKUP(MID(EX$27,5,4)&$A49,Lista_Ubigeo!$J:$K,2,0),\" \")","v":" "},{"$f":"IFERROR(VLOOKUP(MID(EY$27,5,4)&$A49,Lista_Ubigeo!$J:$K,2,0),\" \")","v":" "},{"$f":"IFERROR(VLOOKUP(MID(EZ$27,5,4)&$A52,Lista_Ubigeo!$J:$K,2,0),\" \")","v":" "},{"$f":"IFERROR(VLOOKUP(MID(FA$27,5,4)&$A49,Lista_Ubigeo!$J:$K,2,0),\" \")","v":" "},{"$f":"IFERROR(VLOOKUP(MID(FB$27,5,4)&$A49,Lista_Ubigeo!$J:$K,2,0),\" \")","v":" "},{"$f":"IFERROR(VLOOKUP(MID(FC$27,5,4)&$A49,Lista_Ubigeo!$J:$K,2,0),\" \")","v":" "},{"$f":"IFERROR(VLOOKUP(MID(FD$27,5,4)&$A49,Lista_Ubigeo!$J:$K,2,0),\" \")","v":" "},{"$f":"IFERROR(VLOOKUP(MID(FE$27,5,4)&$A49,Lista_Ubigeo!$J:$K,2,0),\" \")","v":" "},{"$f":"IFERROR(VLOOKUP(MID(FF$27,5,4)&$A49,Lista_Ubigeo!$J:$K,2,0),\" \")","v":" "},{"$f":"IFERROR(VLOOKUP(MID(FG$27,5,4)&$A49,Lista_Ubigeo!$J:$K,2,0),\" \")","v":" "},{"$f":"IFERROR(VLOOKUP(MID(FH$27,5,4)&$A49,Lista_Ubigeo!$J:$K,2,0),\" \")","v":" "},{"$f":"IFERROR(VLOOKUP(MID(FI$27,5,4)&$A49,Lista_Ubigeo!$J:$K,2,0),\" \")","v":" "},{"$f":"IFERROR(VLOOKUP(MID(FJ$27,5,4)&$A49,Lista_Ubigeo!$J:$K,2,0),\" \")","v":" "},{"$f":"IFERROR(VLOOKUP(MID(FK$27,5,4)&$A49,Lista_Ubigeo!$J:$K,2,0),\" \")","v":" "},{"$f":"IFERROR(VLOOKUP(MID(FL$27,5,4)&$A49,Lista_Ubigeo!$J:$K,2,0),\" \")","v":" "},{"$f":"IFERROR(VLOOKUP(MID(FM$27,5,4)&$A49,Lista_Ubigeo!$J:$K,2,0),\" \")","v":" "},{"$f":"IFERROR(VLOOKUP(MID(FN$27,5,4)&$A49,Lista_Ubigeo!$J:$K,2,0),\" \")","v":" "},{"$f":"IFERROR(VLOOKUP(MID(FO$27,5,4)&$A49,Lista_Ubigeo!$J:$K,2,0),\" \")","v":" "},{"$f":"IFERROR(VLOOKUP(MID(FP$27,5,4)&$A49,Lista_Ubigeo!$J:$K,2,0),\" \")","v":" "},{"$f":"IFERROR(VLOOKUP(MID(FQ$27,5,4)&$A49,Lista_Ubigeo!$J:$K,2,0),\" \")","v":" "},{"$f":"IFERROR(VLOOKUP(MID(FR$27,5,4)&$A49,Lista_Ubigeo!$J:$K,2,0),\" \")","v":" "},{"$f":"IFERROR(VLOOKUP(MID(FS$27,5,4)&$A49,Lista_Ubigeo!$J:$K,2,0),\" \")","v":" "},{"$f":"IFERROR(VLOOKUP(MID(FT$27,5,4)&$A49,Lista_Ubigeo!$J:$K,2,0),\" \")","v":" "},{"$f":"IFERROR(VLOOKUP(MID(FU$27,5,4)&$A49,Lista_Ubigeo!$J:$K,2,0),\" \")","v":" "},{"$f":"IFERROR(VLOOKUP(MID(FV$27,5,4)&$A49,Lista_Ubigeo!$J:$K,2,0),\" \")","v":" "},{"$f":"IFERROR(VLOOKUP(MID(FW$27,5,4)&$A49,Lista_Ubigeo!$J:$K,2,0),\" \")","v":" "},{"$f":"IFERROR(VLOOKUP(MID(FX$27,5,4)&$A49,Lista_Ubigeo!$J:$K,2,0),\" \")","v":" "},{"$f":"IFERROR(VLOOKUP(MID(FY$27,5,4)&$A49,Lista_Ubigeo!$J:$K,2,0),\" \")","v":" "},{"$f":"IFERROR(VLOOKUP(MID(FZ$27,5,4)&$A49,Lista_Ubigeo!$J:$K,2,0),\" \")","v":" "},{"$f":"IFERROR(VLOOKUP(MID(GA$27,5,4)&$A49,Lista_Ubigeo!$J:$K,2,0),\" \")","v":" "},{"$f":"IFERROR(VLOOKUP(MID(GB$27,5,4)&$A49,Lista_Ubigeo!$J:$K,2,0),\" \")","v":" "},{"$f":"IFERROR(VLOOKUP(MID(GC$27,5,4)&$A49,Lista_Ubigeo!$J:$K,2,0),\" \")","v":" "},{"$f":"IFERROR(VLOOKUP(MID(GD$27,5,4)&$A49,Lista_Ubigeo!$J:$K,2,0),\" \")","v":" "},{"$f":"IFERROR(VLOOKUP(MID(GE$27,5,4)&$A49,Lista_Ubigeo!$J:$K,2,0),\" \")","v":" "},{"$f":"IFERROR(VLOOKUP(MID(GF$27,5,4)&$A49,Lista_Ubigeo!$J:$K,2,0),\" \")","v":" "},{"$f":"IFERROR(VLOOKUP(MID(GG$27,5,4)&$A49,Lista_Ubigeo!$J:$K,2,0),\" \")","v":" "},{"$f":"IFERROR(VLOOKUP(MID(GH$27,5,4)&$A49,Lista_Ubigeo!$J:$K,2,0),\" \")","v":" "},{"$f":"IFERROR(VLOOKUP(MID(GI$27,5,4)&$A49,Lista_Ubigeo!$J:$K,2,0),\" \")","v":" "},{"$f":"IFERROR(VLOOKUP(MID(GJ$27,5,4)&$A49,Lista_Ubigeo!$J:$K,2,0),\" \")","v":" "},{"$f":"IFERROR(VLOOKUP(MID(GK$27,5,4)&$A49,Lista_Ubigeo!$J:$K,2,0),\" \")","v":" "},{"$f":"IFERROR(VLOOKUP(MID(GL$27,5,4)&$A49,Lista_Ubigeo!$J:$K,2,0),\" \")","v":" "},{"$f":"IFERROR(VLOOKUP(MID(GM$27,5,4)&$A49,Lista_Ubigeo!$J:$K,2,0),\" \")","v":" "},{"$f":"IFERROR(VLOOKUP(MID(GN$27,5,4)&$A49,Lista_Ubigeo!$J:$K,2,0),\" \")","v":" "},{"$f":"IFERROR(VLOOKUP(MID(GO$27,5,4)&$A49,Lista_Ubigeo!$J:$K,2,0),\" \")","v":" "},{"$f":"IFERROR(VLOOKUP(MID(GP$27,5,4)&$A49,Lista_Ubigeo!$J:$K,2,0),\" \")","v":" "}]
["23",{"$f":"IFERROR(VLOOKUP(MID(B$27,5,4)&$A50,Lista_Ubigeo!$J:$K,2,0),\" \")","v":" "},{"$f":"IFERROR(VLOOKUP(MID(C$27,5,4)&$A50,Lista_Ubigeo!$J:$K,2,0),\" \")","v":" "},{"$f":"IFERROR(VLOOKUP(MID(D$27,5,4)&$A50,Lista_Ubigeo!$J:$K,2,0),\" \")","v":" "},{"$f":"IFERROR(VLOOKUP(MID(E$27,5,4)&$A50,Lista_Ubigeo!$J:$K,2,0),\" \")","v":" "},{"$f":"IFERROR(VLOOKUP(MID(F$27,5,4)&$A50,Lista_Ubigeo!$J:$K,2,0),\" \")","v":"TRITA"},{"$f":"IFERROR(VLOOKUP(MID(G$27,5,4)&$A50,Lista_Ubigeo!$J:$K,2,0),\" \")","v":" "},{"$f":"IFERROR(VLOOKUP(MID(H$27,5,4)&$A50,Lista_Ubigeo!$J:$K,2,0),\" \")","v":" "},{"$f":"IFERROR(VLOOKUP(MID(I$27,5,4)&$A50,Lista_Ubigeo!$J:$K,2,0),\" \")","v":" "},{"$f":"IFERROR(VLOOKUP(MID(J$27,5,4)&$A50,Lista_Ubigeo!$J:$K,2,0),\" \")","v":" "},{"$f":"IFERROR(VLOOKUP(MID(K$27,5,4)&$A50,Lista_Ubigeo!$J:$K,2,0),\" \")","v":" "},{"$f":"IFERROR(VLOOKUP(MID(L$27,5,4)&$A50,Lista_Ubigeo!$J:$K,2,0),\" \")","v":" "},{"$f":"IFERROR(VLOOKUP(MID(M$27,5,4)&$A50,Lista_Ubigeo!$J:$K,2,0),\" \")","v":" "},{"$f":"IFERROR(VLOOKUP(MID(N$27,5,4)&$A50,Lista_Ubigeo!$J:$K,2,0),\" \")","v":" "},{"$f":"IFERROR(VLOOKUP(MID(O$27,5,4)&$A50,Lista_Ubigeo!$J:$K,2,0),\" \")","v":" "},{"$f":"IFERROR(VLOOKUP(MID(P$27,5,4)&$A50,Lista_Ubigeo!$J:$K,2,0),\" \")","v":" "},{"$f":"IFERROR(VLOOKUP(MID(Q$27,5,4)&$A50,Lista_Ubigeo!$J:$K,2,0),\" \")","v":" "},{"$f":"IFERROR(VLOOKUP(MID(R$27,5,4)&$A50,Lista_Ubigeo!$J:$K,2,0),\" \")","v":" "},{"$f":"IFERROR(VLOOKUP(MID(S$27,5,4)&$A50,Lista_Ubigeo!$J:$K,2,0),\" \")","v":" "},{"$f":"IFERROR(VLOOKUP(MID(T$27,5,4)&$A50,Lista_Ubigeo!$J:$K,2,0),\" \")","v":" "},{"$f":"IFERROR(VLOOKUP(MID(U$27,5,4)&$A50,Lista_Ubigeo!$J:$K,2,0),\" \")","v":" "},{"$f":"IFERROR(VLOOKUP(MID(V$27,5,4)&$A50,Lista_Ubigeo!$J:$K,2,0),\" \")","v":" "},{"$f":"IFERROR(VLOOKUP(MID(W$27,5,4)&$A50,Lista_Ubigeo!$J:$K,2,0),\" \")","v":" "},{"$f":"IFERROR(VLOOKUP(MID(X$27,5,4)&$A50,Lista_Ubigeo!$J:$K,2,0),\" \")","v":" "},{"$f":"IFERROR(VLOOKUP(MID(Y$27,5,4)&$A50,Lista_Ubigeo!$J:$K,2,0),\" \")","v":" "},{"$f":"IFERROR(VLOOKUP(MID(Z$27,5,4)&$A50,Lista_Ubigeo!$J:$K,2,0),\" \")","v":" "},{"$f":"IFERROR(VLOOKUP(MID(AA$27,5,4)&$A50,Lista_Ubigeo!$J:$K,2,0),\" \")","v":" "},{"$f":"IFERROR(VLOOKUP(MID(AB$27,5,4)&$A50,Lista_Ubigeo!$J:$K,2,0),\" \")","v":" "},{"$f":"IFERROR(VLOOKUP(MID(AC$27,5,4)&$A50,Lista_Ubigeo!$J:$K,2,0),\" \")","v":" "},{"$f":"IFERROR(VLOOKUP(MID(AD$27,5,4)&$A50,Lista_Ubigeo!$J:$K,2,0),\" \")","v":" "},{"$f":"IFERROR(VLOOKUP(MID(AE$27,5,4)&$A50,Lista_Ubigeo!$J:$K,2,0),\" \")","v":" "},{"$f":"IFERROR(VLOOKUP(MID(AF$27,5,4)&$A50,Lista_Ubigeo!$J:$K,2,0),\" \")","v":" "},{"$f":"IFERROR(VLOOKUP(MID(AG$27,5,4)&$A50,Lista_Ubigeo!$J:$K,2,0),\" \")","v":" "},{"$f":"IFERROR(VLOOKUP(MID(AH$27,5,4)&$A50,Lista_Ubigeo!$J:$K,2,0),\" \")","v":" "},{"$f":"IFERROR(VLOOKUP(MID(AI$27,5,4)&$A50,Lista_Ubigeo!$J:$K,2,0),\" \")","v":" "},{"$f":"IFERROR(VLOOKUP(MID(AJ$27,5,4)&$A50,Lista_Ubigeo!$J:$K,2,0),\" \")","v":"TIABAYA"},{"$f":"IFERROR(VLOOKUP(MID(AK$27,5,4)&$A50,Lista_Ubigeo!$J:$K,2,0),\" \")","v":" "},{"$f":"IFERROR(VLOOKUP(MID(AL$27,5,4)&$A50,Lista_Ubigeo!$J:$K,2,0),\" \")","v":" "},{"$f":"IFERROR(VLOOKUP(MID(AM$27,5,4)&$A50,Lista_Ubigeo!$J:$K,2,0),\" \")","v":" "},{"$f":"IFERROR(VLOOKUP(MID(AN$27,5,4)&$A50,Lista_Ubigeo!$J:$K,2,0),\" \")","v":" "},{"$f":"IFERROR(VLOOKUP(MID(AO$27,5,4)&$A50,Lista_Ubigeo!$J:$K,2,0),\" \")","v":" "},{"$f":"IFERROR(VLOOKUP(MID(AP$27,5,4)&$A50,Lista_Ubigeo!$J:$K,2,0),\" \")","v":" "},{"$f":"IFERROR(VLOOKUP(MID(AQ$27,4,4)&$A50,Lista_Ubigeo!$J:$K,2,0),\" \")","v":" "},{"$f":"IFERROR(VLOOKUP(MID(AR$27,5,4)&$A50,Lista_Ubigeo!$J:$K,2,0),\" \")","v":" "},{"$f":"IFERROR(VLOOKUP(MID(AS$27,5,4)&$A50,Lista_Ubigeo!$J:$K,2,0),\" \")","v":" "},{"$f":"IFERROR(VLOOKUP(MID(AT$27,5,4)&$A50,Lista_Ubigeo!$J:$K,2,0),\" \")","v":" "},{"$f":"IFERROR(VLOOKUP(MID(AU$27,5,4)&$A50,Lista_Ubigeo!$J:$K,2,0),\" \")","v":" "},{"$f":"IFERROR(VLOOKUP(MID(AV$27,5,4)&$A50,Lista_Ubigeo!$J:$K,2,0),\" \")","v":" "},{"$f":"IFERROR(VLOOKUP(MID(AW$27,5,4)&$A50,Lista_Ubigeo!$J:$K,2,0),\" \")","v":" "},{"$f":"IFERROR(VLOOKUP(MID(AX$27,5,4)&$A50,Lista_Ubigeo!$J:$K,2,0),\" \")","v":" "},{"$f":"IFERROR(VLOOKUP(MID(AY$27,5,4)&$A50,Lista_Ubigeo!$J:$K,2,0),\" \")","v":" "},{"$f":"IFERROR(VLOOKUP(MID(AZ$27,5,4)&$A50,Lista_Ubigeo!$J:$K,2,0),\" \")","v":" "},{"$f":"IFERROR(VLOOKUP(MID(BA$27,5,4)&$A50,Lista_Ubigeo!$J:$K,2,0),\" \")","v":" "},{"$f":"IFERROR(VLOOKUP(MID(BB$27,5,4)&$A50,Lista_Ubigeo!$J:$K,2,0),\" \")","v":" "},{"$f":"IFERROR(VLOOKUP(MID(BC$27,5,4)&$A50,Lista_Ubigeo!$J:$K,2,0),\" \")","v":" "},{"$f":"IFERROR(VLOOKUP(MID(BD$27,5,4)&$A50,Lista_Ubigeo!$J:$K,2,0),\" \")","v":" "},{"$f":"IFERROR(VLOOKUP(MID(BE$27,5,4)&$A50,Lista_Ubigeo!$J:$K,2,0),\" \")","v":" "},{"$f":"IFERROR(VLOOKUP(MID(BF$27,5,4)&$A50,Lista_Ubigeo!$J:$K,2,0),\" \")","v":" "},{"$f":"IFERROR(VLOOKUP(MID(BG$27,5,4)&$A50,Lista_Ubigeo!$J:$K,2,0),\" \")","v":" "},{"$f":"IFERROR(VLOOKUP(MID(BH$27,5,4)&$A50,Lista_Ubigeo!$J:$K,2,0),\" \")","v":" "},{"$f":"IFERROR(VLOOKUP(MID(BI$27,5,4)&$A50,Lista_Ubigeo!$J:$K,2,0),\" \")","v":" "},{"$f":"IFERROR(VLOOKUP(MID(BJ$27,5,4)&$A50,Lista_Ubigeo!$J:$K,2,0),\" \")","v":" "},{"$f":"IFERROR(VLOOKUP(MID(BK$27,5,4)&$A50,Lista_Ubigeo!$J:$K,2,0),\" \")","v":" "},{"$f":"IFERROR(VLOOKUP(MID(BL$27,5,4)&$A50,Lista_Ubigeo!$J:$K,2,0),\" \")","v":" "},{"$f":"IFERROR(VLOOKUP(MID(BM$27,5,4)&$A50,Lista_Ubigeo!$J:$K,2,0),\" \")","v":" "},{"$f":"IFERROR(VLOOKUP(MID(BN$27,5,4)&$A50,Lista_Ubigeo!$J:$K,2,0),\" \")","v":" "},{"$f":"IFERROR(VLOOKUP(MID(BO$27,5,4)&$A50,Lista_Ubigeo!$J:$K,2,0),\" \")","v":" "},{"$f":"IFERROR(VLOOKUP(MID(BP$27,5,4)&$A50,Lista_Ubigeo!$J:$K,2,0),\" \")","v":" "},{"$f":"IFERROR(VLOOKUP(MID(BQ$27,5,4)&$A50,Lista_Ubigeo!$J:$K,2,0),\" \")","v":" "},{"$f":"IFERROR(VLOOKUP(MID(BR$27,5,4)&$A50,Lista_Ubigeo!$J:$K,2,0),\" \")","v":" "},{"$f":"IFERROR(VLOOKUP(MID(BS$27,5,4)&$A50,Lista_Ubigeo!$J:$K,2,0),\" \")","v":" "},{"$f":"IFERROR(VLOOKUP(MID(BT$27,5,4)&$A50,Lista_Ubigeo!$J:$K,2,0),\" \")","v":" "},{"$f":"IFERROR(VLOOKUP(MID(BU$27,5,4)&$A50,Lista_Ubigeo!$J:$K,2,0),\" \")","v":" "},{"$f":"IFERROR(VLOOKUP(MID(BV$27,5,4)&$A50,Lista_Ubigeo!$J:$K,2,0),\" \")","v":" "},{"$f":"IFERROR(VLOOKUP(MID(BW$27,5,4)&$A50,Lista_Ubigeo!$J:$K,2,0),\" \")","v":" "},{"$f":"IFERROR(VLOOKUP(MID(BX$27,5,4)&$A50,Lista_Ubigeo!$J:$K,2,0),\" \")","v":" "},{"$f":"IFERROR(VLOOKUP(MID(BY$27,4,4)&$A50,Lista_Ubigeo!$J:$K,2,0),\" \")","v":" "},{"$f":"IFERROR(VLOOKUP(MID(BZ$27,5,4)&$A50,Lista_Ubigeo!$J:$K,2,0),\" \")","v":" "},{"$f":"IFERROR(VLOOKUP(MID(CA$27,5,4)&$A50,Lista_Ubigeo!$J:$K,2,0),\" \")","v":" "},{"$f":"IFERROR(VLOOKUP(MID(CB$27,5,4)&$A50,Lista_Ubigeo!$J:$K,2,0),\" \")","v":" "},{"$f":"IFERROR(VLOOKUP(MID(CC$27,5,4)&$A50,Lista_Ubigeo!$J:$K,2,0),\" \")","v":" "},{"$f":"IFERROR(VLOOKUP(MID(CD$27,5,4)&$A50,Lista_Ubigeo!$J:$K,2,0),\" \")","v":" "},{"$f":"IFERROR(VLOOKUP(MID(CE$27,5,4)&$A50,Lista_Ubigeo!$J:$K,2,0),\" \")","v":" "},{"$f":"IFERROR(VLOOKUP(MID(CF$27,5,4)&$A50,Lista_Ubigeo!$J:$K,2,0),\" \")","v":" "},{"$f":"IFERROR(VLOOKUP(MID(CG$27,5,4)&$A50,Lista_Ubigeo!$J:$K,2,0),\" \")","v":" "},{"$f":"IFERROR(VLOOKUP(MID(CH$27,5,4)&$A50,Lista_Ubigeo!$J:$K,2,0),\" \")","v":" "},{"$f":"IFERROR(VLOOKUP(MID(CI$27,5,4)&$A50,Lista_Ubigeo!$J:$K,2,0),\" \")","v":" "},null,{"$f":"IFERROR(VLOOKUP(MID(CK$27,5,4)&$A50,Lista_Ubigeo!$J:$K,2,0),\" \")","v":" "},{"$f":"IFERROR(VLOOKUP(MID(CL$27,5,4)&$A50,Lista_Ubigeo!$J:$K,2,0),\" \")","v":" "},{"$f":"IFERROR(VLOOKUP(MID(CM$27,5,4)&$A61,Lista_Ubigeo!$J:$K,2,0),\" \")","v":" "},{"$f":"IFERROR(VLOOKUP(MID(CN$27,5,4)&$A50,Lista_Ubigeo!$J:$K,2,0),\" \")","v":" "},{"$f":"IFERROR(VLOOKUP(MID(CO$27,5,4)&$A50,Lista_Ubigeo!$J:$K,2,0),\" \")","v":" "},{"$f":"IFERROR(VLOOKUP(MID(CP$27,5,4)&$A50,Lista_Ubigeo!$J:$K,2,0),\" \")","v":" "},{"$f":"IFERROR(VLOOKUP(MID(CQ$27,5,4)&$A50,Lista_Ubigeo!$J:$K,2,0),\" \")","v":" "},{"$f":"IFERROR(VLOOKUP(MID(CR$27,5,4)&$A50,Lista_Ubigeo!$J:$K,2,0),\" \")","v":" "},{"$f":"IFERROR(VLOOKUP(MID(CS$27,5,4)&$A50,Lista_Ubigeo!$J:$K,2,0),\" \")","v":" "},{"$f":"IFERROR(VLOOKUP(MID(CT$27,5,4)&$A50,Lista_Ubigeo!$J:$K,2,0),\" \")","v":" "},{"$f":"IFERROR(VLOOKUP(MID(CU$27,5,4)&$A50,Lista_Ubigeo!$J:$K,2,0),\" \")","v":" "},{"$f":"IFERROR(VLOOKUP(MID(CV$27,5,4)&$A50,Lista_Ubigeo!$J:$K,2,0),\" \")","v":" "},{"$f":"IFERROR(VLOOKUP(MID(CW$27,5,4)&$A50,Lista_Ubigeo!$J:$K,2,0),\" \")","v":" "},{"$f":"IFERROR(VLOOKUP(MID(CX$27,5,4)&$A50,Lista_Ubigeo!$J:$K,2,0),\" \")","v":" "},{"$f":"IFERROR(VLOOKUP(MID(CY$27,5,4)&$A50,Lista_Ubigeo!$J:$K,2,0),\" \")","v":" "},{"$f":"IFERROR(VLOOKUP(MID(CZ$27,5,4)&$A50,Lista_Ubigeo!$J:$K,2,0),\" \")","v":" "},"SAN JERONIMO DE TUNAN",{"$f":"IFERROR(VLOOKUP(MID(DB$27,5,4)&$A50,Lista_Ubigeo!$J:$K,2,0),\" \")","v":" "},{"$f":"IFERROR(VLOOKUP(MID(DC$27,5,4)&$A50,Lista_Ubigeo!$J:$K,2,0),\" \")","v":" "},{"$f":"IFERROR(VLOOKUP(MID(DD$27,5,4)&$A50,Lista_Ubigeo!$J:$K,2,0),\" \")","v":"PACCHA"},{"$f":"IFERROR(VLOOKUP(MID(DE$27,5,4)&$A50,Lista_Ubigeo!$J:$K,2,0),\" \")","v":" "},{"$f":"IFERROR(VLOOKUP(MID(DF$27,5,4)&$A50,Lista_Ubigeo!$J:$K,2,0),\" \")","v":" "},{"$f":"IFERROR(VLOOKUP(MID(DG$27,5,4)&$A50,Lista_Ubigeo!$J:$K,2,0),\" \")","v":" "},{"$f":"IFERROR(VLOOKUP(MID(DH$27,5,4)&$A50,Lista_Ubigeo!$J:$K,2,0),\" \")","v":" "},{"$f":"IFERROR(VLOOKUP(MID(DI$27,5,4)&$A50,Lista_Ubigeo!$J:$K,2,0),\" \")","v":" "},{"$f":"IFERROR(VLOOKUP(MID(DJ$27,5,4)&$A50,Lista_Ubigeo!$J:$K,2,0),\" \")","v":" "},{"$f":"IFERROR(VLOOKUP(MID(DK$27,5,4)&$A50,Lista_Ubigeo!$J:$K,2,0),\" \")","v":" "},{"$f":"IFERROR(VLOOKUP(MID(DL$27,5,4)&$A50,Lista_Ubigeo!$J:$K,2,0),\" \")","v":" "},{"$f":"IFERROR(VLOOKUP(MID(DM$27,5,4)&$A50,Lista_Ubigeo!$J:$K,2,0),\" \")","v":" "},{"$f":"IFERROR(VLOOKUP(MID(DN$27,5,4)&$A50,Lista_Ubigeo!$J:$K,2,0),\" \")","v":" "},{"$f":"IFERROR(VLOOKUP(MID(DO$27,5,4)&$A51,Lista_Ubigeo!$J:$K,2,0),\" \")","v":" "},{"$f":"IFERROR(VLOOKUP(MID(DP$27,5,4)&$A50,Lista_Ubigeo!$J:$K,2,0),\" \")","v":" "},{"$f":"IFERROR(VLOOKUP(MID(DQ$27,5,4)&$A50,Lista_Ubigeo!$J:$K,2,0),\" \")","v":" "},{"$f":"IFERROR(VLOOKUP(MID(DR$27,5,4)&$A50,Lista_Ubigeo!$J:$K,2,0),\" \")","v":" "},{"$f":"IFERROR(VLOOKUP(MID(DS$27,5,4)&$A50,Lista_Ubigeo!$J:$K,2,0),\" \")","v":" "},null,null,{"$f":"IFERROR(VLOOKUP(MID(DV$27,5,4)&$A50,Lista_Ubigeo!$J:$K,2,0),\" \")","v":" "},{"$f":"IFERROR(VLOOKUP(MID(DW$27,5,4)&$A50,Lista_Ubigeo!$J:$K,2,0),\" \")","v":" "},{"$f":"IFERROR(VLOOKUP(MID(DX$27,5,4)&$A50,Lista_Ubigeo!$J:$K,2,0),\" \")","v":" "},{"$f":"IFERROR(VLOOKUP(MID(DY$27,5,4)&$A50,Lista_Ubigeo!$J:$K,2,0),\" \")","v":"PACHACAMAC"},{"$f":"IFERROR(VLOOKUP(MID(DZ$27,5,4)&$A50,Lista_Ubigeo!$J:$K,2,0),\" \")","v":" "},{"$f":"IFERROR(VLOOKUP(MID(EA$27,5,4)&$A50,Lista_Ubigeo!$J:$K,2,0),\" \")","v":" "},{"$f":"IFERROR(VLOOKUP(MID(EB$27,5,4)&$A50,Lista_Ubigeo!$J:$K,2,0),\" \")","v":" "},{"$f":"IFERROR(VLOOKUP(MID(EC$27,5,4)&$A50,Lista_Ubigeo!$J:$K,2,0),\" \")","v":" "},{"$f":"IFERROR(VLOOKUP(MID(ED$27,5,4)&$A50,Lista_Ubigeo!$J:$K,2,0),\" \")","v":" "},{"$f":"IFERROR(VLOOKUP(MID(EE$27,5,4)&$A50,Lista_Ubigeo!$J:$K,2,0),\" \")","v":"SAN MATEO DE OTAO"},{"$f":"IFERROR(VLOOKUP(MID(EF$27,5,4)&$A50,Lista_Ubigeo!$J:$K,2,0),\" \")","v":" "},{"$f":"IFERROR(VLOOKUP(MID(EG$27,5,4)&$A50,Lista_Ubigeo!$J:$K,2,0),\" \")","v":" "},{"$f":"IFERROR(VLOOKUP(MID(EH$27,5,4)&$A50,Lista_Ubigeo!$J:$K,2,0),\" \")","v":"PUTINZA"},{"$f":"IFERROR(VLOOKUP(MID(EI$27,5,4)&$A50,Lista_Ubigeo!$J:$K,2,0),\" \")","v":" "},{"$f":"IFERROR(VLOOKUP(MID(EJ$27,5,4)&$A55,Lista_Ubigeo!$J:$K,2,0),\" \")","v":" "},{"$f":"IFERROR(VLOOKUP(MID(EK$27,5,4)&$A50,Lista_Ubigeo!$J:$K,2,0),\" \")","v":" "},{"$f":"IFERROR(VLOOKUP(MID(EL$27,5,4)&$A50,Lista_Ubigeo!$J:$K,2,0),\" \")","v":" "},{"$f":"IFERROR(VLOOKUP(MID(EM$27,5,4)&$A50,Lista_Ubigeo!$J:$K,2,0),\" \")","v":" "},{"$f":"IFERROR(VLOOKUP(MID(EN$27,5,4)&$A50,Lista_Ubigeo!$J:$K,2,0),\" \")","v":" "},{"$f":"IFERROR(VLOOKUP(MID(EO$27,5,4)&$A50,Lista_Ubigeo!$J:$K,2,0),\" \")","v":" "},{"$f":"IFERROR(VLOOKUP(MID(EP$27,5,4)&$A50,Lista_Ubigeo!$J:$K,2,0),\" \")","v":" "},{"$f":"IFERROR(VLOOKUP(MID(EQ$27,5,4)&$A50,Lista_Ubigeo!$J:$K,2,0),\" \")","v":" "},{"$f":"IFERROR(VLOOKUP(MID(ER$27,5,4)&$A50,Lista_Ubigeo!$J:$K,2,0),\" \")","v":" "},{"$f":"IFERROR(VLOOKUP(MID(ES$27,5,4)&$A50,Lista_Ubigeo!$J:$K,2,0),\" \")","v":" "},{"$f":"IFERROR(VLOOKUP(MID(ET$27,5,4)&$A50,Lista_Ubigeo!$J:$K,2,0),\" \")","v":" "},{"$f":"IFERROR(VLOOKUP(MID(EU$27,5,4)&$A50,Lista_Ubigeo!$J:$K,2,0),\" \")","v":" "},{"$f":"IFERROR(VLOOKUP(MID(EV$27,5,4)&$A50,Lista_Ubigeo!$J:$K,2,0),\" \")","v":" "},{"$f":"IFERROR(VLOOKUP(MID(EW$27,5,4)&$A50,Lista_Ubigeo!$J:$K,2,0),\" \")","v":" "},{"$f":"IFERROR(VLOOKUP(MID(EX$27,5,4)&$A50,Lista_Ubigeo!$J:$K,2,0),\" \")","v":" "},{"$f":"IFERROR(VLOOKUP(MID(EY$27,5,4)&$A50,Lista_Ubigeo!$J:$K,2,0),\" \")","v":" "},{"$f":"IFERROR(VLOOKUP(MID(EZ$27,5,4)&$A53,Lista_Ubigeo!$J:$K,2,0),\" \")","v":" "},{"$f":"IFERROR(VLOOKUP(MID(FA$27,5,4)&$A50,Lista_Ubigeo!$J:$K,2,0),\" \")","v":" "},{"$f":"IFERROR(VLOOKUP(MID(FB$27,5,4)&$A50,Lista_Ubigeo!$J:$K,2,0),\" \")","v":" "},{"$f":"IFERROR(VLOOKUP(MID(FC$27,5,4)&$A50,Lista_Ubigeo!$J:$K,2,0),\" \")","v":" "},{"$f":"IFERROR(VLOOKUP(MID(FD$27,5,4)&$A50,Lista_Ubigeo!$J:$K,2,0),\" \")","v":" "},{"$f":"IFERROR(VLOOKUP(MID(FE$27,5,4)&$A50,Lista_Ubigeo!$J:$K,2,0),\" \")","v":" "},{"$f":"IFERROR(VLOOKUP(MID(FF$27,5,4)&$A50,Lista_Ubigeo!$J:$K,2,0),\" \")","v":" "},{"$f":"IFERROR(VLOOKUP(MID(FG$27,5,4)&$A50,Lista_Ubigeo!$J:$K,2,0),\" \")","v":" "},{"$f":"IFERROR(VLOOKUP(MID(FH$27,5,4)&$A50,Lista_Ubigeo!$J:$K,2,0),\" \")","v":" "},{"$f":"IFERROR(VLOOKUP(MID(FI$27,5,4)&$A50,Lista_Ubigeo!$J:$K,2,0),\" \")","v":" "},{"$f":"IFERROR(VLOOKUP(MID(FJ$27,5,4)&$A50,Lista_Ubigeo!$J:$K,2,0),\" \")","v":" "},{"$f":"IFERROR(VLOOKUP(MID(FK$27,5,4)&$A50,Lista_Ubigeo!$J:$K,2,0),\" \")","v":" "},{"$f":"IFERROR(VLOOKUP(MID(FL$27,5,4)&$A50,Lista_Ubigeo!$J:$K,2,0),\" \")","v":" "},{"$f":"IFERROR(VLOOKUP(MID(FM$27,5,4)&$A50,Lista_Ubigeo!$J:$K,2,0),\" \")","v":" "},{"$f":"IFERROR(VLOOKUP(MID(FN$27,5,4)&$A50,Lista_Ubigeo!$J:$K,2,0),\" \")","v":" "},{"$f":"IFERROR(VLOOKUP(MID(FO$27,5,4)&$A50,Lista_Ubigeo!$J:$K,2,0),\" \")","v":" "},{"$f":"IFERROR(VLOOKUP(MID(FP$27,5,4)&$A50,Lista_Ubigeo!$J:$K,2,0),\" \")","v":" "},{"$f":"IFERROR(VLOOKUP(MID(FQ$27,5,4)&$A50,Lista_Ubigeo!$J:$K,2,0),\" \")","v":" "},{"$f":"IFERROR(VLOOKUP(MID(FR$27,5,4)&$A50,Lista_Ubigeo!$J:$K,2,0),\" \")","v":" "},{"$f":"IFERROR(VLOOKUP(MID(FS$27,5,4)&$A50,Lista_Ubigeo!$J:$K,2,0),\" \")","v":" "},{"$f":"IFERROR(VLOOKUP(MID(FT$27,5,4)&$A50,Lista_Ubigeo!$J:$K,2,0),\" \")","v":" "},{"$f":"IFERROR(VLOOKUP(MID(FU$27,5,4)&$A50,Lista_Ubigeo!$J:$K,2,0),\" \")","v":" "},{"$f":"IFERROR(VLOOKUP(MID(FV$27,5,4)&$A50,Lista_Ubigeo!$J:$K,2,0),\" \")","v":" "},{"$f":"IFERROR(VLOOKUP(MID(FW$27,5,4)&$A50,Lista_Ubigeo!$J:$K,2,0),\" \")","v":" "},{"$f":"IFERROR(VLOOKUP(MID(FX$27,5,4)&$A50,Lista_Ubigeo!$J:$K,2,0),\" \")","v":" "},{"$f":"IFERROR(VLOOKUP(MID(FY$27,5,4)&$A50,Lista_Ubigeo!$J:$K,2,0),\" \")","v":" "},{"$f":"IFERROR(VLOOKUP(MID(FZ$27,5,4)&$A50,Lista_Ubigeo!$J:$K,2,0),\" \")","v":" "},{"$f":"IFERROR(VLOOKUP(MID(GA$27,5,4)&$A50,Lista_Ubigeo!$J:$K,2,0),\" \")","v":" "},{"$f":"IFERROR(VLOOKUP(MID(GB$27,5,4)&$A50,Lista_Ubigeo!$J:$K,2,0),\" \")","v":" "},{"$f":"IFERROR(VLOOKUP(MID(GC$27,5,4)&$A50,Lista_Ubigeo!$J:$K,2,0),\" \")","v":" "},{"$f":"IFERROR(VLOOKUP(MID(GD$27,5,4)&$A50,Lista_Ubigeo!$J:$K,2,0),\" \")","v":" "},{"$f":"IFERROR(VLOOKUP(MID(GE$27,5,4)&$A50,Lista_Ubigeo!$J:$K,2,0),\" \")","v":" "},{"$f":"IFERROR(VLOOKUP(MID(GF$27,5,4)&$A50,Lista_Ubigeo!$J:$K,2,0),\" \")","v":" "},{"$f":"IFERROR(VLOOKUP(MID(GG$27,5,4)&$A50,Lista_Ubigeo!$J:$K,2,0),\" \")","v":" "},{"$f":"IFERROR(VLOOKUP(MID(GH$27,5,4)&$A50,Lista_Ubigeo!$J:$K,2,0),\" \")","v":" "},{"$f":"IFERROR(VLOOKUP(MID(GI$27,5,4)&$A50,Lista_Ubigeo!$J:$K,2,0),\" \")","v":" "},{"$f":"IFERROR(VLOOKUP(MID(GJ$27,5,4)&$A50,Lista_Ubigeo!$J:$K,2,0),\" \")","v":" "},{"$f":"IFERROR(VLOOKUP(MID(GK$27,5,4)&$A50,Lista_Ubigeo!$J:$K,2,0),\" \")","v":" "},{"$f":"IFERROR(VLOOKUP(MID(GL$27,5,4)&$A50,Lista_Ubigeo!$J:$K,2,0),\" \")","v":" "},{"$f":"IFERROR(VLOOKUP(MID(GM$27,5,4)&$A50,Lista_Ubigeo!$J:$K,2,0),\" \")","v":" "},{"$f":"IFERROR(VLOOKUP(MID(GN$27,5,4)&$A50,Lista_Ubigeo!$J:$K,2,0),\" \")","v":" "},{"$f":"IFERROR(VLOOKUP(MID(GO$27,5,4)&$A50,Lista_Ubigeo!$J:$K,2,0),\" \")","v":" "},{"$f":"IFERROR(VLOOKUP(MID(GP$27,5,4)&$A50,Lista_Ubigeo!$J:$K,2,0),\" \")","v":" "}]
["24",{"$f":"IFERROR(VLOOKUP(MID(B$27,5,4)&$A51,Lista_Ubigeo!$J:$K,2,0),\" \")","v":" "},{"$f":"IFERROR(VLOOKUP(MID(C$27,5,4)&$A51,Lista_Ubigeo!$J:$K,2,0),\" \")","v":" "},{"$f":"IFERROR(VLOOKUP(MID(D$27,5,4)&$A51,Lista_Ubigeo!$J:$K,2,0),\" \")","v":" "},{"$f":"IFERROR(VLOOKUP(MID(E$27,5,4)&$A51,Lista_Ubigeo!$J:$K,2,0),\" \")","v":" "},{"$f":"IFERROR(VLOOKUP(MID(F$27,5,4)&$A51,Lista_Ubigeo!$J:$K,2,0),\" \")","v":" "},{"$f":"IFERROR(VLOOKUP(MID(G$27,5,4)&$A51,Lista_Ubigeo!$J:$K,2,0),\" \")","v":" "},{"$f":"IFERROR(VLOOKUP(MID(H$27,5,4)&$A51,Lista_Ubigeo!$J:$K,2,0),\" \")","v":" "},{"$f":"IFERROR(VLOOKUP(MID(I$27,5,4)&$A51,Lista_Ubigeo!$J:$K,2,0),\" \")","v":" "},{"$f":"IFERROR(VLOOKUP(MID(J$27,5,4)&$A51,Lista_Ubigeo!$J:$K,2,0),\" \")","v":" "},{"$f":"IFERROR(VLOOKUP(MID(K$27,5,4)&$A51,Lista_Ubigeo!$J:$K,2,0),\" \")","v":" "},{"$f":"IFERROR(VLOOKUP(MID(L$27,5,4)&$A51,Lista_Ubigeo!$J:$K,2,0),\" \")","v":" "},{"$f":"IFERROR(VLOOKUP(MID(M$27,5,4)&$A51,Lista_Ubigeo!$J:$K,2,0),\" \")","v":" "},{"$f":"IFERROR(VLOOKUP(MID(N$27,5,4)&$A51,Lista_Ubigeo!$J:$K,2,0),\" \")","v":" "},{"$f":"IFERROR(VLOOKUP(MID(O$27,5,4)&$A51,Lista_Ubigeo!$J:$K,2,0),\" \")","v":" "},{"$f":"IFERROR(VLOOKUP(MID(P$27,5,4)&$A51,Lista_Ubigeo!$J:$K,2,0),\" \")","v":" "},{"$f":"IFERROR(VLOOKUP(MID(Q$27,5,4)&$A51,Lista_Ubigeo!$J:$K,2,0),\" \")","v":" "},{"$f":"IFERROR(VLOOKUP(MID(R$27,5,4)&$A51,Lista_Ubigeo!$J:$K,2,0),\" \")","v":" "},{"$f":"IFERROR(VLOOKUP(MID(S$27,5,4)&$A51,Lista_Ubigeo!$J:$K,2,0),\" \")","v":" "},{"$f":"IFERROR(VLOOKUP(MID(T$27,5,4)&$A51,Lista_Ubigeo!$J:$K,2,0),\" \")","v":" "},{"$f":"IFERROR(VLOOKUP(MID(U$27,5,4)&$A51,Lista_Ubigeo!$J:$K,2,0),\" \")","v":" "},{"$f":"IFERROR(VLOOKUP(MID(V$27,5,4)&$A51,Lista_Ubigeo!$J:$K,2,0),\" \")","v":" "},{"$f":"IFERROR(VLOOKUP(MID(W$27,5,4)&$A51,Lista_Ubigeo!$J:$K,2,0),\" \")","v":" "},{"$f":"IFERROR(VLOOKUP(MID(X$27,5,4)&$A51,Lista_Ubigeo!$J:$K,2,0),\" \")","v":" "},{"$f":"IFERROR(VLOOKUP(MID(Y$27,5,4)&$A51,Lista_Ubigeo!$J:$K,2,0),\" \")","v":" "},{"$f":"IFERROR(VLOOKUP(MID(Z$27,5,4)&$A51,Lista_Ubigeo!$J:$K,2,0),\" \")","v":" "},{"$f":"IFERROR(VLOOKUP(MID(AA$27,5,4)&$A51,Lista_Ubigeo!$J:$K,2,0),\" \")","v":" "},{"$f":"IFERROR(VLOOKUP(MID(AB$27,5,4)&$A51,Lista_Ubigeo!$J:$K,2,0),\" \")","v":" "},{"$f":"IFERROR(VLOOKUP(MID(AC$27,5,4)&$A51,Lista_Ubigeo!$J:$K,2,0),\" \")","v":" "},{"$f":"IFERROR(VLOOKUP(MID(AD$27,5,4)&$A51,Lista_Ubigeo!$J:$K,2,0),\" \")","v":" "},{"$f":"IFERROR(VLOOKUP(MID(AE$27,5,4)&$A51,Lista_Ubigeo!$J:$K,2,0),\" \")","v":" "},{"$f":"IFERROR(VLOOKUP(MID(AF$27,5,4)&$A51,Lista_Ubigeo!$J:$K,2,0),\" \")","v":" "},{"$f":"IFERROR(VLOOKUP(MID(AG$27,5,4)&$A51,Lista_Ubigeo!$J:$K,2,0),\" \")","v":" "},{"$f":"IFERROR(VLOOKUP(MID(AH$27,5,4)&$A51,Lista_Ubigeo!$J:$K,2,0),\" \")","v":" "},{"$f":"IFERROR(VLOOKUP(MID(AI$27,5,4)&$A51,Lista_Ubigeo!$J:$K,2,0),\" \")","v":" "},{"$f":"IFERROR(VLOOKUP(MID(AJ$27,5,4)&$A51,Lista_Ubigeo!$J:$K,2,0),\" \")","v":"UCHUMAYO"},{"$f":"IFERROR(VLOOKUP(MID(AK$27,5,4)&$A51,Lista_Ubigeo!$J:$K,2,0),\" \")","v":" "},{"$f":"IFERROR(VLOOKUP(MID(AL$27,5,4)&$A51,Lista_Ubigeo!$J:$K,2,0),\" \")","v":" "},{"$f":"IFERROR(VLOOKUP(MID(AM$27,5,4)&$A51,Lista_Ubigeo!$J:$K,2,0),\" \")","v":" "},{"$f":"IFERROR(VLOOKUP(MID(AN$27,5,4)&$A51,Lista_Ubigeo!$J:$K,2,0),\" \")","v":" "},{"$f":"IFERROR(VLOOKUP(MID(AO$27,5,4)&$A51,Lista_Ubigeo!$J:$K,2,0),\" \")","v":" "},{"$f":"IFERROR(VLOOKUP(MID(AP$27,5,4)&$A51,Lista_Ubigeo!$J:$K,2,0),\" \")","v":" "},{"$f":"IFERROR(VLOOKUP(MID(AQ$27,4,4)&$A51,Lista_Ubigeo!$J:$K,2,0),\" \")","v":" "},{"$f":"IFERROR(VLOOKUP(MID(AR$27,5,4)&$A51,Lista_Ubigeo!$J:$K,2,0),\" \")","v":" "},{"$f":"IFERROR(VLOOKUP(MID(AS$27,5,4)&$A51,Lista_Ubigeo!$J:$K,2,0),\" \")","v":" "},{"$f":"IFERROR(VLOOKUP(MID(AT$27,5,4)&$A51,Lista_Ubigeo!$J:$K,2,0),\" \")","v":" "},{"$f":"IFERROR(VLOOKUP(MID(AU$27,5,4)&$A51,Lista_Ubigeo!$J:$K,2,0),\" \")","v":" "},{"$f":"IFERROR(VLOOKUP(MID(AV$27,5,4)&$A51,Lista_Ubigeo!$J:$K,2,0),\" \")","v":" "},{"$f":"IFERROR(VLOOKUP(MID(AW$27,5,4)&$A51,Lista_Ubigeo!$J:$K,2,0),\" \")","v":" "},{"$f":"IFERROR(VLOOKUP(MID(AX$27,5,4)&$A51,Lista_Ubigeo!$J:$K,2,0),\" \")","v":" "},{"$f":"IFERROR(VLOOKUP(MID(AY$27,5,4)&$A51,Lista_Ubigeo!$J:$K,2,0),\" \")","v":" "},{"$f":"IFERROR(VLOOKUP(MID(AZ$27,5,4)&$A51,Lista_Ubigeo!$J:$K,2,0),\" \")","v":" "},{"$f":"IFERROR(VLOOKUP(MID(BA$27,5,4)&$A51,Lista_Ubigeo!$J:$K,2,0),\" \")","v":" "},{"$f":"IFERROR(VLOOKUP(MID(BB$27,5,4)&$A51,Lista_Ubigeo!$J:$K,2,0),\" \")","v":" "},{"$f":"IFERROR(VLOOKUP(MID(BC$27,5,4)&$A51,Lista_Ubigeo!$J:$K,2,0),\" \")","v":" "},{"$f":"IFERROR(VLOOKUP(MID(BD$27,5,4)&$A51,Lista_Ubigeo!$J:$K,2,0),\" \")","v":" "},{"$f":"IFERROR(VLOOKUP(MID(BE$27,5,4)&$A51,Lista_Ubigeo!$J:$K,2,0),\" \")","v":" "},{"$f":"IFERROR(VLOOKUP(MID(BF$27,5,4)&$A51,Lista_Ubigeo!$J:$K,2,0),\" \")","v":" "},{"$f":"IFERROR(VLOOKUP(MID(BG$27,5,4)&$A51,Lista_Ubigeo!$J:$K,2,0),\" \")","v":" "},{"$f":"IFERROR(VLOOKUP(MID(BH$27,5,4)&$A51,Lista_Ubigeo!$J:$K,2,0),\" \")","v":" "},{"$f":"IFERROR(VLOOKUP(MID(BI$27,5,4)&$A51,Lista_Ubigeo!$J:$K,2,0),\" \")","v":" "},{"$f":"IFERROR(VLOOKUP(MID(BJ$27,5,4)&$A51,Lista_Ubigeo!$J:$K,2,0),\" \")","v":" "},{"$f":"IFERROR(VLOOKUP(MID(BK$27,5,4)&$A51,Lista_Ubigeo!$J:$K,2,0),\" \")","v":" "},{"$f":"IFERROR(VLOOKUP(MID(BL$27,5,4)&$A51,Lista_Ubigeo!$J:$K,2,0),\" \")","v":" "},{"$f":"IFERROR(VLOOKUP(MID(BM$27,5,4)&$A51,Lista_Ubigeo!$J:$K,2,0),\" \")","v":" "},{"$f":"IFERROR(VLOOKUP(MID(BN$27,5,4)&$A51,Lista_Ubigeo!$J:$K,2,0),\" \")","v":" "},{"$f":"IFERROR(VLOOKUP(MID(BO$27,5,4)&$A51,Lista_Ubigeo!$J:$K,2,0),\" \")","v":" "},{"$f":"IFERROR(VLOOKUP(MID(BP$27,5,4)&$A51,Lista_Ubigeo!$J:$K,2,0),\" \")","v":" "},{"$f":"IFERROR(VLOOKUP(MID(BQ$27,5,4)&$A51,Lista_Ubigeo!$J:$K,2,0),\" \")","v":" "},{"$f":"IFERROR(VLOOKUP(MID(BR$27,5,4)&$A51,Lista_Ubigeo!$J:$K,2,0),\" \")","v":" "},{"$f":"IFERROR(VLOOKUP(MID(BS$27,5,4)&$A51,Lista_Ubigeo!$J:$K,2,0),\" \")","v":" "},{"$f":"IFERROR(VLOOKUP(MID(BT$27,5,4)&$A51,Lista_Ubigeo!$J:$K,2,0),\" \")","v":" "},{"$f":"IFERROR(VLOOKUP(MID(BU$27,5,4)&$A51,Lista_Ubigeo!$J:$K,2,0),\" \")","v":" "},{"$f":"IFERROR(VLOOKUP(MID(BV$27,5,4)&$A51,Lista_Ubigeo!$J:$K,2,0),\" \")","v":" "},{"$f":"IFERROR(VLOOKUP(MID(BW$27,5,4)&$A51,Lista_Ubigeo!$J:$K,2,0),\" \")","v":" "},{"$f":"IFERROR(VLOOKUP(MID(BX$27,5,4)&$A51,Lista_Ubigeo!$J:$K,2,0),\" \")","v":" "},{"$f":"IFERROR(VLOOKUP(MID(BY$27,4,4)&$A51,Lista_Ubigeo!$J:$K,2,0),\" \")","v":" "},{"$f":"IFERROR(VLOOKUP(MID(BZ$27,5,4)&$A51,Lista_Ubigeo!$J:$K,2,0),\" \")","v":" "},{"$f":"IFERROR(VLOOKUP(MID(CA$27,5,4)&$A51,Lista_Ubigeo!$J:$K,2,0),\" \")","v":" "},{"$f":"IFERROR(VLOOKUP(MID(CB$27,5,4)&$A51,Lista_Ubigeo!$J:$K,2,0),\" \")","v":" "},{"$f":"IFERROR(VLOOKUP(MID(CC$27,5,4)&$A51,Lista_Ubigeo!$J:$K,2,0),\" \")","v":" "},{"$f":"IFERROR(VLOOKUP(MID(CD$27,5,4)&$A51,Lista_Ubigeo!$J:$K,2,0),\" \")","v":" "},{"$f":"IFERROR(VLOOKUP(MID(CE$27,5,4)&$A51,Lista_Ubigeo!$J:$K,2,0),\" \")","v":" "},{"$f":"IFERROR(VLOOKUP(MID(CF$27,5,4)&$A51,Lista_Ubigeo!$J:$K,2,0),\" \")","v":" "},{"$f":"IFERROR(VLOOKUP(MID(CG$27,5,4)&$A51,Lista_Ubigeo!$J:$K,2,0),\" \")","v":" "},{"$f":"IFERROR(VLOOKUP(MID(CH$27,5,4)&$A51,Lista_Ubigeo!$J:$K,2,0),\" \")","v":" "},{"$f":"IFERROR(VLOOKUP(MID(CI$27,5,4)&$A51,Lista_Ubigeo!$J:$K,2,0),\" \")","v":" "},{"$f":"IFERROR(VLOOKUP(MID(CJ$27,5,4)&$A51,Lista_Ubigeo!$J:$K,2,0),\" \")","v":" "},{"$f":"IFERROR(VLOOKUP(MID(CK$27,5,4)&$A51,Lista_Ubigeo!$J:$K,2,0),\" \")","v":" "},{"$f":"IFERROR(VLOOKUP(MID(CL$27,5,4)&$A51,Lista_Ubigeo!$J:$K,2,0),\" \")","v":" "},{"$f":"IFERROR(VLOOKUP(MID(CM$27,5,4)&$A62,Lista_Ubigeo!$J:$K,2,0),\" \")","v":" "},{"$f":"IFERROR(VLOOKUP(MID(CN$27,5,4)&$A51,Lista_Ubigeo!$J:$K,2,0),\" \")","v":" "},{"$f":"IFERROR(VLOOKUP(MID(CO$27,5,4)&$A51,Lista_Ubigeo!$J:$K,2,0),\" \")","v":" "},{"$f":"IFERROR(VLOOKUP(MID(CP$27,5,4)&$A51,Lista_Ubigeo!$J:$K,2,0),\" \")","v":" "},{"$f":"IFERROR(VLOOKUP(MID(CQ$27,5,4)&$A51,Lista_Ubigeo!$J:$K,2,0),\" \")","v":" "},{"$f":"IFERROR(VLOOKUP(MID(CR$27,5,4)&$A51,Lista_Ubigeo!$J:$K,2,0),\" \")","v":" "},{"$f":"IFERROR(VLOOKUP(MID(CS$27,5,4)&$A51,Lista_Ubigeo!$J:$K,2,0),\" \")","v":" "},{"$f":"IFERROR(VLOOKUP(MID(CT$27,5,4)&$A51,Lista_Ubigeo!$J:$K,2,0),\" \")","v":" "},{"$f":"IFERROR(VLOOKUP(MID(CU$27,5,4)&$A51,Lista_Ubigeo!$J:$K,2,0),\" \")","v":" "},{"$f":"IFERROR(VLOOKUP(MID(CV$27,5,4)&$A51,Lista_Ubigeo!$J:$K,2,0),\" \")","v":" "},{"$f":"IFERROR(VLOOKUP(MID(CW$27,5,4)&$A51,Lista_Ubigeo!$J:$K,2,0),\" \")","v":" "},{"$f":"IFERROR(VLOOKUP(MID(CX$27,5,4)&$A51,Lista_Ubigeo!$J:$K,2,0),\" \")","v":" "},{"$f":"IFERROR(VLOOKUP(MID(CY$27,5,4)&$A51,Lista_Ubigeo!$J:$K,2,0),\" \")","v":" "},{"$f":"IFERROR(VLOOKUP(MID(CZ$27,5,4)&$A51,Lista_Ubigeo!$J:$K,2,0),\" \")","v":" "},"SAÑO",{"$f":"IFERROR(VLOOKUP(MID(DB$27,5,4)&$A51,Lista_Ubigeo!$J:$K,2,0),\" \")","v":" "},{"$f":"IFERROR(VLOOKUP(MID(DC$27,5,4)&$A51,Lista_Ubigeo!$J:$K,2,0),\" \")","v":" "},{"$f":"IFERROR(VLOOKUP(MID(DD$27,5,4)&$A51,Lista_Ubigeo!$J:$K,2,0),\" \")","v":"PANCAN"},{"$f":"IFERROR(VLOOKUP(MID(DE$27,5,4)&$A51,Lista_Ubigeo!$J:$K,2,0),\" \")","v":" "},{"$f":"IFERROR(VLOOKUP(MID(DF$27,5,4)&$A51,Lista_Ubigeo!$J:$K,2,0),\" \")","v":" "},{"$f":"IFERROR(VLOOKUP(MID(DG$27,5,4)&$A51,Lista_Ubigeo!$J:$K,2,0),\" \")","v":" "},{"$f":"IFERROR(VLOOKUP(MID(DH$27,5,4)&$A51,Lista_Ubigeo!$J:$K,2,0),\" \")","v":" "},{"$f":"IFERROR(VLOOKUP(MID(DI$27,5,4)&$A51,Lista_Ubigeo!$J:$K,2,0),\" \")","v":" "},{"$f":"IFERROR(VLOOKUP(MID(DJ$27,5,4)&$A51,Lista_Ubigeo!$J:$K,2,0),\" \")","v":" "},{"$f":"IFERROR(VLOOKUP(MID(DK$27,5,4)&$A51,Lista_Ubigeo!$J:$K,2,0),\" \")","v":" "},{"$f":"IFERROR(VLOOKUP(MID(DL$27,5,4)&$A51,Lista_Ubigeo!$J:$K,2,0),\" \")","v":" "},{"$f":"IFERROR(VLOOKUP(MID(DM$27,5,4)&$A51,Lista_Ubigeo!$J:$K,2,0),\" \")","v":" "},{"$f":"IFERROR(VLOOKUP(MID(DN$27,5,4)&$A51,Lista_Ubigeo!$J:$K,2,0),\" \")","v":" "},{"$f":"IFERROR(VLOOKUP(MID(DO$27,5,4)&$A52,Lista_Ubigeo!$J:$K,2,0),\" \")","v":" "},{"$f":"IFERROR(VLOOKUP(MID(DP$27,5,4)&$A51,Lista_Ubigeo!$J:$K,2,0),\" \")","v":" "},{"$f":"IFERROR(VLOOKUP(MID(DQ$27,5,4)&$A51,Lista_Ubigeo!$J:$K,2,0),\" \")","v":" "},{"$f":"IFERROR(VLOOKUP(MID(DR$27,5,4)&$A51,Lista_Ubigeo!$J:$K,2,0),\" \")","v":" "},{"$f":"IFERROR(VLOOKUP(MID(DS$27,5,4)&$A51,Lista_Ubigeo!$J:$K,2,0),\" \")","v":" "},null,null,{"$f":"IFERROR(VLOOKUP(MID(DV$27,5,4)&$A51,Lista_Ubigeo!$J:$K,2,0),\" \")","v":" "},{"$f":"IFERROR(VLOOKUP(MID(DW$27,5,4)&$A51,Lista_Ubigeo!$J:$K,2,0),\" \")","v":" "},{"$f":"IFERROR(VLOOKUP(MID(DX$27,5,4)&$A51,Lista_Ubigeo!$J:$K,2,0),\" \")","v":" "},{"$f":"IFERROR(VLOOKUP(MID(DY$27,5,4)&$A51,Lista_Ubigeo!$J:$K,2,0),\" \")","v":"PUCUSANA"},{"$f":"IFERROR(VLOOKUP(MID(DZ$27,5,4)&$A51,Lista_Ubigeo!$J:$K,2,0),\" \")","v":" "},{"$f":"IFERROR(VLOOKUP(MID(EA$27,5,4)&$A51,Lista_Ubigeo!$J:$K,2,0),\" \")","v":" "},{"$f":"IFERROR(VLOOKUP(MID(EB$27,5,4)&$A51,Lista_Ubigeo!$J:$K,2,0),\" \")","v":" "},{"$f":"IFERROR(VLOOKUP(MID(EC$27,5,4)&$A51,Lista_Ubigeo!$J:$K,2,0),\" \")","v":" "},{"$f":"IFERROR(VLOOKUP(MID(ED$27,5,4)&$A51,Lista_Ubigeo!$J:$K,2,0),\" \")","v":" "},{"$f":"IFERROR(VLOOKUP(MID(EE$27,5,4)&$A51,Lista_Ubigeo!$J:$K,2,0),\" \")","v":"SAN PEDRO DE CASTA"},{"$f":"IFERROR(VLOOKUP(MID(EF$27,5,4)&$A51,Lista_Ubigeo!$J:$K,2,0),\" \")","v":" "},{"$f":"IFERROR(VLOOKUP(MID(EG$27,5,4)&$A51,Lista_Ubigeo!$J:$K,2,0),\" \")","v":" "},{"$f":"IFERROR(VLOOKUP(MID(EH$27,5,4)&$A51,Lista_Ubigeo!$J:$K,2,0),\" \")","v":"QUINCHES"},{"$f":"IFERROR(VLOOKUP(MID(EI$27,5,4)&$A51,Lista_Ubigeo!$J:$K,2,0),\" \")","v":" "},{"$f":"IFERROR(VLOOKUP(MID(EJ$27,5,4)&$A56,Lista_Ubigeo!$J:$K,2,0),\" \")","v":" "},{"$f":"IFERROR(VLOOKUP(MID(EK$27,5,4)&$A51,Lista_Ubigeo!$J:$K,2,0),\" \")","v":" "},{"$f":"IFERROR(VLOOKUP(MID(EL$27,5,4)&$A51,Lista_Ubigeo!$J:$K,2,0),\" \")","v":" "},{"$f":"IFERROR(VLOOKUP(MID(EM$27,5,4)&$A51,Lista_Ubigeo!$J:$K,2,0),\" \")","v":" "},{"$f":"IFERROR(VLOOKUP(MID(EN$27,5,4)&$A51,Lista_Ubigeo!$J:$K,2,0),\" \")","v":" "},{"$f":"IFERROR(VLOOKUP(MID(EO$27,5,4)&$A51,Lista_Ubigeo!$J:$K,2,0),\" \")","v":" "},{"$f":"IFERROR(VLOOKUP(MID(EP$27,5,4)&$A51,Lista_Ubigeo!$J:$K,2,0),\" \")","v":" "},{"$f":"IFERROR(VLOOKUP(MID(EQ$27,5,4)&$A51,Lista_Ubigeo!$J:$K,2,0),\" \")","v":" "},{"$f":"IFERROR(VLOOKUP(MID(ER$27,5,4)&$A51,Lista_Ubigeo!$J:$K,2,0),\" \")","v":" "},{"$f":"IFERROR(VLOOKUP(MID(ES$27,5,4)&$A51,Lista_Ubigeo!$J:$K,2,0),\" \")","v":" "},{"$f":"IFERROR(VLOOKUP(MID(ET$27,5,4)&$A51,Lista_Ubigeo!$J:$K,2,0),\" \")","v":" "},{"$f":"IFERROR(VLOOKUP(MID(EU$27,5,4)&$A51,Lista_Ubigeo!$J:$K,2,0),\" \")","v":" "},{"$f":"IFERROR(VLOOKUP(MID(EV$27,5,4)&$A51,Lista_Ubigeo!$J:$K,2,0),\" \")","v":" "},{"$f":"IFERROR(VLOOKUP(MID(EW$27,5,4)&$A51,Lista_Ubigeo!$J:$K,2,0),\" \")","v":" "},{"$f":"IFERROR(VLOOKUP(MID(EX$27,5,4)&$A51,Lista_Ubigeo!$J:$K,2,0),\" \")","v":" "},{"$f":"IFERROR(VLOOKUP(MID(EY$27,5,4)&$A51,Lista_Ubigeo!$J:$K,2,0),\" \")","v":" "},{"$f":"IFERROR(VLOOKUP(MID(EZ$27,5,4)&$A54,Lista_Ubigeo!$J:$K,2,0),\" \")","v":" "},{"$f":"IFERROR(VLOOKUP(MID(FA$27,5,4)&$A51,Lista_Ubigeo!$J:$K,2,0),\" \")","v":" "},{"$f":"IFERROR(VLOOKUP(MID(FB$27,5,4)&$A51,Lista_Ubigeo!$J:$K,2,0),\" \")","v":" "},{"$f":"IFERROR(VLOOKUP(MID(FC$27,5,4)&$A51,Lista_Ubigeo!$J:$K,2,0),\" \")","v":" "},{"$f":"IFERROR(VLOOKUP(MID(FD$27,5,4)&$A51,Lista_Ubigeo!$J:$K,2,0),\" \")","v":" "},{"$f":"IFERROR(VLOOKUP(MID(FE$27,5,4)&$A51,Lista_Ubigeo!$J:$K,2,0),\" \")","v":" "},{"$f":"IFERROR(VLOOKUP(MID(FF$27,5,4)&$A51,Lista_Ubigeo!$J:$K,2,0),\" \")","v":" "},{"$f":"IFERROR(VLOOKUP(MID(FG$27,5,4)&$A51,Lista_Ubigeo!$J:$K,2,0),\" \")","v":" "},{"$f":"IFERROR(VLOOKUP(MID(FH$27,5,4)&$A51,Lista_Ubigeo!$J:$K,2,0),\" \")","v":" "},{"$f":"IFERROR(VLOOKUP(MID(FI$27,5,4)&$A51,Lista_Ubigeo!$J:$K,2,0),\" \")","v":" "},{"$f":"IFERROR(VLOOKUP(MID(FJ$27,5,4)&$A51,Lista_Ubigeo!$J:$K,2,0),\" \")","v":" "},{"$f":"IFERROR(VLOOKUP(MID(FK$27,5,4)&$A51,Lista_Ubigeo!$J:$K,2,0),\" \")","v":" "},{"$f":"IFERROR(VLOOKUP(MID(FL$27,5,4)&$A51,Lista_Ubigeo!$J:$K,2,0),\" \")","v":" "},{"$f":"IFERROR(VLOOKUP(MID(FM$27,5,4)&$A51,Lista_Ubigeo!$J:$K,2,0),\" \")","v":" "},{"$f":"IFERROR(VLOOKUP(MID(FN$27,5,4)&$A51,Lista_Ubigeo!$J:$K,2,0),\" \")","v":" "},{"$f":"IFERROR(VLOOKUP(MID(FO$27,5,4)&$A51,Lista_Ubigeo!$J:$K,2,0),\" \")","v":" "},{"$f":"IFERROR(VLOOKUP(MID(FP$27,5,4)&$A51,Lista_Ubigeo!$J:$K,2,0),\" \")","v":" "},{"$f":"IFERROR(VLOOKUP(MID(FQ$27,5,4)&$A51,Lista_Ubigeo!$J:$K,2,0),\" \")","v":" "},{"$f":"IFERROR(VLOOKUP(MID(FR$27,5,4)&$A51,Lista_Ubigeo!$J:$K,2,0),\" \")","v":" "},{"$f":"IFERROR(VLOOKUP(MID(FS$27,5,4)&$A51,Lista_Ubigeo!$J:$K,2,0),\" \")","v":" "},{"$f":"IFERROR(VLOOKUP(MID(FT$27,5,4)&$A51,Lista_Ubigeo!$J:$K,2,0),\" \")","v":" "},{"$f":"IFERROR(VLOOKUP(MID(FU$27,5,4)&$A51,Lista_Ubigeo!$J:$K,2,0),\" \")","v":" "},{"$f":"IFERROR(VLOOKUP(MID(FV$27,5,4)&$A51,Lista_Ubigeo!$J:$K,2,0),\" \")","v":" "},{"$f":"IFERROR(VLOOKUP(MID(FW$27,5,4)&$A51,Lista_Ubigeo!$J:$K,2,0),\" \")","v":" "},{"$f":"IFERROR(VLOOKUP(MID(FX$27,5,4)&$A51,Lista_Ubigeo!$J:$K,2,0),\" \")","v":" "},{"$f":"IFERROR(VLOOKUP(MID(FY$27,5,4)&$A51,Lista_Ubigeo!$J:$K,2,0),\" \")","v":" "},{"$f":"IFERROR(VLOOKUP(MID(FZ$27,5,4)&$A51,Lista_Ubigeo!$J:$K,2,0),\" \")","v":" "},{"$f":"IFERROR(VLOOKUP(MID(GA$27,5,4)&$A51,Lista_Ubigeo!$J:$K,2,0),\" \")","v":" "},{"$f":"IFERROR(VLOOKUP(MID(GB$27,5,4)&$A51,Lista_Ubigeo!$J:$K,2,0),\" \")","v":" "},{"$f":"IFERROR(VLOOKUP(MID(GC$27,5,4)&$A51,Lista_Ubigeo!$J:$K,2,0),\" \")","v":" "},{"$f":"IFERROR(VLOOKUP(MID(GD$27,5,4)&$A51,Lista_Ubigeo!$J:$K,2,0),\" \")","v":" "},{"$f":"IFERROR(VLOOKUP(MID(GE$27,5,4)&$A51,Lista_Ubigeo!$J:$K,2,0),\" \")","v":" "},{"$f":"IFERROR(VLOOKUP(MID(GF$27,5,4)&$A51,Lista_Ubigeo!$J:$K,2,0),\" \")","v":" "},{"$f":"IFERROR(VLOOKUP(MID(GG$27,5,4)&$A51,Lista_Ubigeo!$J:$K,2,0),\" \")","v":" "},{"$f":"IFERROR(VLOOKUP(MID(GH$27,5,4)&$A51,Lista_Ubigeo!$J:$K,2,0),\" \")","v":" "},{"$f":"IFERROR(VLOOKUP(MID(GI$27,5,4)&$A51,Lista_Ubigeo!$J:$K,2,0),\" \")","v":" "},{"$f":"IFERROR(VLOOKUP(MID(GJ$27,5,4)&$A51,Lista_Ubigeo!$J:$K,2,0),\" \")","v":" "},{"$f":"IFERROR(VLOOKUP(MID(GK$27,5,4)&$A51,Lista_Ubigeo!$J:$K,2,0),\" \")","v":" "},{"$f":"IFERROR(VLOOKUP(MID(GL$27,5,4)&$A51,Lista_Ubigeo!$J:$K,2,0),\" \")","v":" "},{"$f":"IFERROR(VLOOKUP(MID(GM$27,5,4)&$A51,Lista_Ubigeo!$J:$K,2,0),\" \")","v":" "},{"$f":"IFERROR(VLOOKUP(MID(GN$27,5,4)&$A51,Lista_Ubigeo!$J:$K,2,0),\" \")","v":" "},{"$f":"IFERROR(VLOOKUP(MID(GO$27,5,4)&$A51,Lista_Ubigeo!$J:$K,2,0),\" \")","v":" "},{"$f":"IFERROR(VLOOKUP(MID(GP$27,5,4)&$A51,Lista_Ubigeo!$J:$K,2,0),\" \")","v":" "}]
["25",{"$f":"IFERROR(VLOOKUP(MID(B$27,5,4)&$A52,Lista_Ubigeo!$J:$K,2,0),\" \")","v":" "},{"$f":"IFERROR(VLOOKUP(MID(C$27,5,4)&$A52,Lista_Ubigeo!$J:$K,2,0),\" \")","v":" "},{"$f":"IFERROR(VLOOKUP(MID(D$27,5,4)&$A52,Lista_Ubigeo!$J:$K,2,0),\" \")","v":" "},{"$f":"IFERROR(VLOOKUP(MID(E$27,5,4)&$A52,Lista_Ubigeo!$J:$K,2,0),\" \")","v":" "},{"$f":"IFERROR(VLOOKUP(MID(F$27,5,4)&$A52,Lista_Ubigeo!$J:$K,2,0),\" \")","v":" "},{"$f":"IFERROR(VLOOKUP(MID(G$27,5,4)&$A52,Lista_Ubigeo!$J:$K,2,0),\" \")","v":" "},{"$f":"IFERROR(VLOOKUP(MID(H$27,5,4)&$A52,Lista_Ubigeo!$J:$K,2,0),\" \")","v":" "},{"$f":"IFERROR(VLOOKUP(MID(I$27,5,4)&$A52,Lista_Ubigeo!$J:$K,2,0),\" \")","v":" "},{"$f":"IFERROR(VLOOKUP(MID(J$27,5,4)&$A52,Lista_Ubigeo!$J:$K,2,0),\" \")","v":" "},{"$f":"IFERROR(VLOOKUP(MID(K$27,5,4)&$A52,Lista_Ubigeo!$J:$K,2,0),\" \")","v":" "},{"$f":"IFERROR(VLOOKUP(MID(L$27,5,4)&$A52,Lista_Ubigeo!$J:$K,2,0),\" \")","v":" "},{"$f":"IFERROR(VLOOKUP(MID(M$27,5,4)&$A52,Lista_Ubigeo!$J:$K,2,0),\" \")","v":" "},{"$f":"IFERROR(VLOOKUP(MID(N$27,5,4)&$A52,Lista_Ubigeo!$J:$K,2,0),\" \")","v":" "},{"$f":"IFERROR(VLOOKUP(MID(O$27,5,4)&$A52,Lista_Ubigeo!$J:$K,2,0),\" \")","v":" "},{"$f":"IFERROR(VLOOKUP(MID(P$27,5,4)&$A52,Lista_Ubigeo!$J:$K,2,0),\" \")","v":" "},{"$f":"IFERROR(VLOOKUP(MID(Q$27,5,4)&$A52,Lista_Ubigeo!$J:$K,2,0),\" \")","v":" "},{"$f":"IFERROR(VLOOKUP(MID(R$27,5,4)&$A52,Lista_Ubigeo!$J:$K,2,0),\" \")","v":" "},{"$f":"IFERROR(VLOOKUP(MID(S$27,5,4)&$A52,Lista_Ubigeo!$J:$K,2,0),\" \")","v":" "},{"$f":"IFERROR(VLOOKUP(MID(T$27,5,4)&$A52,Lista_Ubigeo!$J:$K,2,0),\" \")","v":" "},{"$f":"IFERROR(VLOOKUP(MID(U$27,5,4)&$A52,Lista_Ubigeo!$J:$K,2,0),\" \")","v":" "},{"$f":"IFERROR(VLOOKUP(MID(V$27,5,4)&$A52,Lista_Ubigeo!$J:$K,2,0),\" \")","v":" "},{"$f":"IFERROR(VLOOKUP(MID(W$27,5,4)&$A52,Lista_Ubigeo!$J:$K,2,0),\" \")","v":" "},{"$f":"IFERROR(VLOOKUP(MID(X$27,5,4)&$A52,Lista_Ubigeo!$J:$K,2,0),\" \")","v":" "},{"$f":"IFERROR(VLOOKUP(MID(Y$27,5,4)&$A52,Lista_Ubigeo!$J:$K,2,0),\" \")","v":" "},{"$f":"IFERROR(VLOOKUP(MID(Z$27,5,4)&$A52,Lista_Ubigeo!$J:$K,2,0),\" \")","v":" "},{"$f":"IFERROR(VLOOKUP(MID(AA$27,5,4)&$A52,Lista_Ubigeo!$J:$K,2,0),\" \")","v":" "},{"$f":"IFERROR(VLOOKUP(MID(AB$27,5,4)&$A52,Lista_Ubigeo!$J:$K,2,0),\" \")","v":" "},{"$f":"IFERROR(VLOOKUP(MID(AC$27,5,4)&$A52,Lista_Ubigeo!$J:$K,2,0),\" \")","v":" "},{"$f":"IFERROR(VLOOKUP(MID(AD$27,5,4)&$A52,Lista_Ubigeo!$J:$K,2,0),\" \")","v":" "},{"$f":"IFERROR(VLOOKUP(MID(AE$27,5,4)&$A52,Lista_Ubigeo!$J:$K,2,0),\" \")","v":" "},{"$f":"IFERROR(VLOOKUP(MID(AF$27,5,4)&$A52,Lista_Ubigeo!$J:$K,2,0),\" \")","v":" "},{"$f":"IFERROR(VLOOKUP(MID(AG$27,5,4)&$A52,Lista_Ubigeo!$J:$K,2,0),\" \")","v":" "},{"$f":"IFERROR(VLOOKUP(MID(AH$27,5,4)&$A52,Lista_Ubigeo!$J:$K,2,0),\" \")","v":" "},{"$f":"IFERROR(VLOOKUP(MID(AI$27,5,4)&$A52,Lista_Ubigeo!$J:$K,2,0),\" \")","v":" "},{"$f":"IFERROR(VLOOKUP(MID(AJ$27,5,4)&$A52,Lista_Ubigeo!$J:$K,2,0),\" \")","v":"VITOR"},{"$f":"IFERROR(VLOOKUP(MID(AK$27,5,4)&$A52,Lista_Ubigeo!$J:$K,2,0),\" \")","v":" "},{"$f":"IFERROR(VLOOKUP(MID(AL$27,5,4)&$A52,Lista_Ubigeo!$J:$K,2,0),\" \")","v":" "},{"$f":"IFERROR(VLOOKUP(MID(AM$27,5,4)&$A52,Lista_Ubigeo!$J:$K,2,0),\" \")","v":" "},{"$f":"IFERROR(VLOOKUP(MID(AN$27,5,4)&$A52,Lista_Ubigeo!$J:$K,2,0),\" \")","v":" "},{"$f":"IFERROR(VLOOKUP(MID(AO$27,5,4)&$A52,Lista_Ubigeo!$J:$K,2,0),\" \")","v":" "},{"$f":"IFERROR(VLOOKUP(MID(AP$27,5,4)&$A52,Lista_Ubigeo!$J:$K,2,0),\" \")","v":" "},{"$f":"IFERROR(VLOOKUP(MID(AQ$27,4,4)&$A52,Lista_Ubigeo!$J:$K,2,0),\" \")","v":" "},{"$f":"IFERROR(VLOOKUP(MID(AR$27,5,4)&$A52,Lista_Ubigeo!$J:$K,2,0),\" \")","v":" "},{"$f":"IFERROR(VLOOKUP(MID(AS$27,5,4)&$A52,Lista_Ubigeo!$J:$K,2,0),\" \")","v":" "},{"$f":"IFERROR(VLOOKUP(MID(AT$27,5,4)&$A52,Lista_Ubigeo!$J:$K,2,0),\" \")","v":" "},{"$f":"IFERROR(VLOOKUP(MID(AU$27,5,4)&$A52,Lista_Ubigeo!$J:$K,2,0),\" \")","v":" "},{"$f":"IFERROR(VLOOKUP(MID(AV$27,5,4)&$A52,Lista_Ubigeo!$J:$K,2,0),\" \")","v":" "},{"$f":"IFERROR(VLOOKUP(MID(AW$27,5,4)&$A52,Lista_Ubigeo!$J:$K,2,0),\" \")","v":" "},{"$f":"IFERROR(VLOOKUP(MID(AX$27,5,4)&$A52,Lista_Ubigeo!$J:$K,2,0),\" \")","v":" "},{"$f":"IFERROR(VLOOKUP(MID(AY$27,5,4)&$A52,Lista_Ubigeo!$J:$K,2,0),\" \")","v":" "},{"$f":"IFERROR(VLOOKUP(MID(AZ$27,5,4)&$A52,Lista_Ubigeo!$J:$K,2,0),\" \")","v":" "},{"$f":"IFERROR(VLOOKUP(MID(BA$27,5,4)&$A52,Lista_Ubigeo!$J:$K,2,0),\" \")","v":" "},{"$f":"IFERROR(VLOOKUP(MID(BB$27,5,4)&$A52,Lista_Ubigeo!$J:$K,2,0),\" \")","v":" "},{"$f":"IFERROR(VLOOKUP(MID(BC$27,5,4)&$A52,Lista_Ubigeo!$J:$K,2,0),\" \")","v":" "},{"$f":"IFERROR(VLOOKUP(MID(BD$27,5,4)&$A52,Lista_Ubigeo!$J:$K,2,0),\" \")","v":" "},{"$f":"IFERROR(VLOOKUP(MID(BE$27,5,4)&$A52,Lista_Ubigeo!$J:$K,2,0),\" \")","v":" "},{"$f":"IFERROR(VLOOKUP(MID(BF$27,5,4)&$A52,Lista_Ubigeo!$J:$K,2,0),\" \")","v":" "},{"$f":"IFERROR(VLOOKUP(MID(BG$27,5,4)&$A52,Lista_Ubigeo!$J:$K,2,0),\" \")","v":" "},{"$f":"IFERROR(VLOOKUP(MID(BH$27,5,4)&$A52,Lista_Ubigeo!$J:$K,2,0),\" \")","v":" "},{"$f":"IFERROR(VLOOKUP(MID(BI$27,5,4)&$A52,Lista_Ubigeo!$J:$K,2,0),\" \")","v":" "},{"$f":"IFERROR(VLOOKUP(MID(BJ$27,5,4)&$A52,Lista_Ubigeo!$J:$K,2,0),\" \")","v":" "},{"$f":"IFERROR(VLOOKUP(MID(BK$27,5,4)&$A52,Lista_Ubigeo!$J:$K,2,0),\" \")","v":" "},{"$f":"IFERROR(VLOOKUP(MID(BL$27,5,4)&$A52,Lista_Ubigeo!$J:$K,2,0),\" \")","v":" "},{"$f":"IFERROR(VLOOKUP(MID(BM$27,5,4)&$A52,Lista_Ubigeo!$J:$K,2,0),\" \")","v":" "},{"$f":"IFERROR(VLOOKUP(MID(BN$27,5,4)&$A52,Lista_Ubigeo!$J:$K,2,0),\" \")","v":" "},{"$f":"IFERROR(VLOOKUP(MID(BO$27,5,4)&$A52,Lista_Ubigeo!$J:$K,2,0),\" \")","v":" "},{"$f":"IFERROR(VLOOKUP(MID(BP$27,5,4)&$A52,Lista_Ubigeo!$J:$K,2,0),\" \")","v":" "},{"$f":"IFERROR(VLOOKUP(MID(BQ$27,5,4)&$A52,Lista_Ubigeo!$J:$K,2,0),\" \")","v":" "},{"$f":"IFERROR(VLOOKUP(MID(BR$27,5,4)&$A52,Lista_Ubigeo!$J:$K,2,0),\" \")","v":" "},{"$f":"IFERROR(VLOOKUP(MID(BS$27,5,4)&$A52,Lista_Ubigeo!$J:$K,2,0),\" \")","v":" "},{"$f":"IFERROR(VLOOKUP(MID(BT$27,5,4)&$A52,Lista_Ubigeo!$J:$K,2,0),\" \")","v":" "},{"$f":"IFERROR(VLOOKUP(MID(BU$27,5,4)&$A52,Lista_Ubigeo!$J:$K,2,0),\" \")","v":" "},{"$f":"IFERROR(VLOOKUP(MID(BV$27,5,4)&$A52,Lista_Ubigeo!$J:$K,2,0),\" \")","v":" "},{"$f":"IFERROR(VLOOKUP(MID(BW$27,5,4)&$A52,Lista_Ubigeo!$J:$K,2,0),\" \")","v":" "},{"$f":"IFERROR(VLOOKUP(MID(BX$27,5,4)&$A52,Lista_Ubigeo!$J:$K,2,0),\" \")","v":" "},{"$f":"IFERROR(VLOOKUP(MID(BY$27,4,4)&$A52,Lista_Ubigeo!$J:$K,2,0),\" \")","v":" "},{"$f":"IFERROR(VLOOKUP(MID(BZ$27,5,4)&$A52,Lista_Ubigeo!$J:$K,2,0),\" \")","v":" "},{"$f":"IFERROR(VLOOKUP(MID(CA$27,5,4)&$A52,Lista_Ubigeo!$J:$K,2,0),\" \")","v":" "},{"$f":"IFERROR(VLOOKUP(MID(CB$27,5,4)&$A52,Lista_Ubigeo!$J:$K,2,0),\" \")","v":" "},{"$f":"IFERROR(VLOOKUP(MID(CC$27,5,4)&$A52,Lista_Ubigeo!$J:$K,2,0),\" \")","v":" "},{"$f":"IFERROR(VLOOKUP(MID(CD$27,5,4)&$A52,Lista_Ubigeo!$J:$K,2,0),\" \")","v":" "},{"$f":"IFERROR(VLOOKUP(MID(CE$27,5,4)&$A52,Lista_Ubigeo!$J:$K,2,0),\" \")","v":" "},{"$f":"IFERROR(VLOOKUP(MID(CF$27,5,4)&$A52,Lista_Ubigeo!$J:$K,2,0),\" \")","v":" "},{"$f":"IFERROR(VLOOKUP(MID(CG$27,5,4)&$A52,Lista_Ubigeo!$J:$K,2,0),\" \")","v":" "},{"$f":"IFERROR(VLOOKUP(MID(CH$27,5,4)&$A52,Lista_Ubigeo!$J:$K,2,0),\" \")","v":" "},{"$f":"IFERROR(VLOOKUP(MID(CI$27,5,4)&$A52,Lista_Ubigeo!$J:$K,2,0),\" \")","v":" "},{"$f":"IFERROR(VLOOKUP(MID(CJ$27,5,4)&$A52,Lista_Ubigeo!$J:$K,2,0),\" \")","v":" "},{"$f":"IFERROR(VLOOKUP(MID(CK$27,5,4)&$A52,Lista_Ubigeo!$J:$K,2,0),\" \")","v":" "},{"$f":"IFERROR(VLOOKUP(MID(CL$27,5,4)&$A52,Lista_Ubigeo!$J:$K,2,0),\" \")","v":" "},{"$f":"IFERROR(VLOOKUP(MID(CM$27,5,4)&$A63,Lista_Ubigeo!$J:$K,2,0),\" \")","v":" "},{"$f":"IFERROR(VLOOKUP(MID(CN$27,5,4)&$A52,Lista_Ubigeo!$J:$K,2,0),\" \")","v":" "},{"$f":"IFERROR(VLOOKUP(MID(CO$27,5,4)&$A52,Lista_Ubigeo!$J:$K,2,0),\" \")","v":" "},{"$f":"IFERROR(VLOOKUP(MID(CP$27,5,4)&$A52,Lista_Ubigeo!$J:$K,2,0),\" \")","v":" "},{"$f":"IFERROR(VLOOKUP(MID(CQ$27,5,4)&$A52,Lista_Ubigeo!$J:$K,2,0),\" \")","v":" "},{"$f":"IFERROR(VLOOKUP(MID(CR$27,5,4)&$A52,Lista_Ubigeo!$J:$K,2,0),\" \")","v":" "},{"$f":"IFERROR(VLOOKUP(MID(CS$27,5,4)&$A52,Lista_Ubigeo!$J:$K,2,0),\" \")","v":" "},{"$f":"IFERROR(VLOOKUP(MID(CT$27,5,4)&$A52,Lista_Ubigeo!$J:$K,2,0),\" \")","v":" "},{"$f":"IFERROR(VLOOKUP(MID(CU$27,5,4)&$A52,Lista_Ubigeo!$J:$K,2,0),\" \")","v":" "},{"$f":"IFERROR(VLOOKUP(MID(CV$27,5,4)&$A52,Lista_Ubigeo!$J:$K,2,0),\" \")","v":" "},{"$f":"IFERROR(VLOOKUP(MID(CW$27,5,4)&$A52,Lista_Ubigeo!$J:$K,2,0),\" \")","v":" "},{"$f":"IFERROR(VLOOKUP(MID(CX$27,5,4)&$A52,Lista_Ubigeo!$J:$K,2,0),\" \")","v":" "},{"$f":"IFERROR(VLOOKUP(MID(CY$27,5,4)&$A52,Lista_Ubigeo!$J:$K,2,0),\" \")","v":" "},{"$f":"IFERROR(VLOOKUP(MID(CZ$27,5,4)&$A52,Lista_Ubigeo!$J:$K,2,0),\" \")","v":" "},"SAPALLANGA",{"$f":"IFERROR(VLOOKUP(MID(DB$27,5,4)&$A52,Lista_Ubigeo!$J:$K,2,0),\" \")","v":" "},{"$f":"IFERROR(VLOOKUP(MID(DC$27,5,4)&$A52,Lista_Ubigeo!$J:$K,2,0),\" \")","v":" "},{"$f":"IFERROR(VLOOKUP(MID(DD$27,5,4)&$A52,Lista_Ubigeo!$J:$K,2,0),\" \")","v":"PARCO"},{"$f":"IFERROR(VLOOKUP(MID(DE$27,5,4)&$A52,Lista_Ubigeo!$J:$K,2,0),\" \")","v":" "},{"$f":"IFERROR(VLOOKUP(MID(DF$27,5,4)&$A52,Lista_Ubigeo!$J:$K,2,0),\" \")","v":" "},{"$f":"IFERROR(VLOOKUP(MID(DG$27,5,4)&$A52,Lista_Ubigeo!$J:$K,2,0),\" \")","v":" "},{"$f":"IFERROR(VLOOKUP(MID(DH$27,5,4)&$A52,Lista_Ubigeo!$J:$K,2,0),\" \")","v":" "},{"$f":"IFERROR(VLOOKUP(MID(DI$27,5,4)&$A52,Lista_Ubigeo!$J:$K,2,0),\" \")","v":" "},{"$f":"IFERROR(VLOOKUP(MID(DJ$27,5,4)&$A52,Lista_Ubigeo!$J:$K,2,0),\" \")","v":" "},{"$f":"IFERROR(VLOOKUP(MID(DK$27,5,4)&$A52,Lista_Ubigeo!$J:$K,2,0),\" \")","v":" "},{"$f":"IFERROR(VLOOKUP(MID(DL$27,5,4)&$A52,Lista_Ubigeo!$J:$K,2,0),\" \")","v":" "},{"$f":"IFERROR(VLOOKUP(MID(DM$27,5,4)&$A52,Lista_Ubigeo!$J:$K,2,0),\" \")","v":" "},{"$f":"IFERROR(VLOOKUP(MID(DN$27,5,4)&$A52,Lista_Ubigeo!$J:$K,2,0),\" \")","v":" "},{"$f":"IFERROR(VLOOKUP(MID(DO$27,5,4)&$A53,Lista_Ubigeo!$J:$K,2,0),\" \")","v":" "},{"$f":"IFERROR(VLOOKUP(MID(DP$27,5,4)&$A52,Lista_Ubigeo!$J:$K,2,0),\" \")","v":" "},{"$f":"IFERROR(VLOOKUP(MID(DQ$27,5,4)&$A52,Lista_Ubigeo!$J:$K,2,0),\" \")","v":" "},{"$f":"IFERROR(VLOOKUP(MID(DR$27,5,4)&$A52,Lista_Ubigeo!$J:$K,2,0),\" \")","v":" "},{"$f":"IFERROR(VLOOKUP(MID(DS$27,5,4)&$A52,Lista_Ubigeo!$J:$K,2,0),\" \")","v":" "},null,null,{"$f":"IFERROR(VLOOKUP(MID(DV$27,5,4)&$A52,Lista_Ubigeo!$J:$K,2,0),\" \")","v":" "},{"$f":"IFERROR(VLOOKUP(MID(DW$27,5,4)&$A52,Lista_Ubigeo!$J:$K,2,0),\" \")","v":" "},{"$f":"IFERROR(VLOOKUP(MID(DX$27,5,4)&$A52,Lista_Ubigeo!$J:$K,2,0),\" \")","v":" "},{"$f":"IFERROR(VLOOKUP(MID(DY$27,5,4)&$A52,Lista_Ubigeo!$J:$K,2,0),\" \")","v":"PUENTE PIEDRA"},{"$f":"IFERROR(VLOOKUP(MID(DZ$27,5,4)&$A52,Lista_Ubigeo!$J:$K,2,0),\" \")","v":" "},{"$f":"IFERROR(VLOOKUP(MID(EA$27,5,4)&$A52,Lista_Ubigeo!$J:$K,2,0),\" \")","v":" "},{"$f":"IFERROR(VLOOKUP(MID(EB$27,5,4)&$A52,Lista_Ubigeo!$J:$K,2,0),\" \")","v":" "},{"$f":"IFERROR(VLOOKUP(MID(EC$27,5,4)&$A52,Lista_Ubigeo!$J:$K,2,0),\" \")","v":" "},{"$f":"IFERROR(VLOOKUP(MID(ED$27,5,4)&$A52,Lista_Ubigeo!$J:$K,2,0),\" \")","v":" "},{"$f":"IFERROR(VLOOKUP(MID(EE$27,5,4)&$A52,Lista_Ubigeo!$J:$K,2,0),\" \")","v":"SAN PEDRO DE HUANCAYRE"},{"$f":"IFERROR(VLOOKUP(MID(EF$27,5,4)&$A52,Lista_Ubigeo!$J:$K,2,0),\" \")","v":" "},{"$f":"IFERROR(VLOOKUP(MID(EG$27,5,4)&$A52,Lista_Ubigeo!$J:$K,2,0),\" \")","v":" "},{"$f":"IFERROR(VLOOKUP(MID(EH$27,5,4)&$A52,Lista_Ubigeo!$J:$K,2,0),\" \")","v":"QUINOCAY"},{"$f":"IFERROR(VLOOKUP(MID(EI$27,5,4)&$A52,Lista_Ubigeo!$J:$K,2,0),\" \")","v":" "},{"$f":"IFERROR(VLOOKUP(MID(EJ$27,5,4)&$A57,Lista_Ubigeo!$J:$K,2,0),\" \")","v":" "},{"$f":"IFERROR(VLOOKUP(MID(EK$27,5,4)&$A52,Lista_Ubigeo!$J:$K,2,0),\" \")","v":" "},{"$f":"IFERROR(VLOOKUP(MID(EL$27,5,4)&$A52,Lista_Ubigeo!$J:$K,2,0),\" \")","v":" "},{"$f":"IFERROR(VLOOKUP(MID(EM$27,5,4)&$A52,Lista_Ubigeo!$J:$K,2,0),\" \")","v":" "},{"$f":"IFERROR(VLOOKUP(MID(EN$27,5,4)&$A52,Lista_Ubigeo!$J:$K,2,0),\" \")","v":" "},{"$f":"IFERROR(VLOOKUP(MID(EO$27,5,4)&$A52,Lista_Ubigeo!$J:$K,2,0),\" \")","v":" "},{"$f":"IFERROR(VLOOKUP(MID(EP$27,5,4)&$A52,Lista_Ubigeo!$J:$K,2,0),\" \")","v":" "},{"$f":"IFERROR(VLOOKUP(MID(EQ$27,5,4)&$A52,Lista_Ubigeo!$J:$K,2,0),\" \")","v":" "},{"$f":"IFERROR(VLOOKUP(MID(ER$27,5,4)&$A52,Lista_Ubigeo!$J:$K,2,0),\" \")","v":" "},{"$f":"IFERROR(VLOOKUP(MID(ES$27,5,4)&$A52,Lista_Ubigeo!$J:$K,2,0),\" \")","v":" "},{"$f":"IFERROR(VLOOKUP(MID(ET$27,5,4)&$A52,Lista_Ubigeo!$J:$K,2,0),\" \")","v":" "},{"$f":"IFERROR(VLOOKUP(MID(EU$27,5,4)&$A52,Lista_Ubigeo!$J:$K,2,0),\" \")","v":" "},{"$f":"IFERROR(VLOOKUP(MID(EV$27,5,4)&$A52,Lista_Ubigeo!$J:$K,2,0),\" \")","v":" "},{"$f":"IFERROR(VLOOKUP(MID(EW$27,5,4)&$A52,Lista_Ubigeo!$J:$K,2,0),\" \")","v":" "},{"$f":"IFERROR(VLOOKUP(MID(EX$27,5,4)&$A52,Lista_Ubigeo!$J:$K,2,0),\" \")","v":" "},{"$f":"IFERROR(VLOOKUP(MID(EY$27,5,4)&$A52,Lista_Ubigeo!$J:$K,2,0),\" \")","v":" "},{"$f":"IFERROR(VLOOKUP(MID(EZ$27,5,4)&$A55,Lista_Ubigeo!$J:$K,2,0),\" \")","v":" "},{"$f":"IFERROR(VLOOKUP(MID(FA$27,5,4)&$A52,Lista_Ubigeo!$J:$K,2,0),\" \")","v":" "},{"$f":"IFERROR(VLOOKUP(MID(FB$27,5,4)&$A52,Lista_Ubigeo!$J:$K,2,0),\" \")","v":" "},{"$f":"IFERROR(VLOOKUP(MID(FC$27,5,4)&$A52,Lista_Ubigeo!$J:$K,2,0),\" \")","v":" "},{"$f":"IFERROR(VLOOKUP(MID(FD$27,5,4)&$A52,Lista_Ubigeo!$J:$K,2,0),\" \")","v":" "},{"$f":"IFERROR(VLOOKUP(MID(FE$27,5,4)&$A52,Lista_Ubigeo!$J:$K,2,0),\" \")","v":" "},{"$f":"IFERROR(VLOOKUP(MID(FF$27,5,4)&$A52,Lista_Ubigeo!$J:$K,2,0),\" \")","v":" "},{"$f":"IFERROR(VLOOKUP(MID(FG$27,5,4)&$A52,Lista_Ubigeo!$J:$K,2,0),\" \")","v":" "},{"$f":"IFERROR(VLOOKUP(MID(FH$27,5,4)&$A52,Lista_Ubigeo!$J:$K,2,0),\" \")","v":" "},{"$f":"IFERROR(VLOOKUP(MID(FI$27,5,4)&$A52,Lista_Ubigeo!$J:$K,2,0),\" \")","v":" "},{"$f":"IFERROR(VLOOKUP(MID(FJ$27,5,4)&$A52,Lista_Ubigeo!$J:$K,2,0),\" \")","v":" "},{"$f":"IFERROR(VLOOKUP(MID(FK$27,5,4)&$A52,Lista_Ubigeo!$J:$K,2,0),\" \")","v":" "},{"$f":"IFERROR(VLOOKUP(MID(FL$27,5,4)&$A52,Lista_Ubigeo!$J:$K,2,0),\" \")","v":" "},{"$f":"IFERROR(VLOOKUP(MID(FM$27,5,4)&$A52,Lista_Ubigeo!$J:$K,2,0),\" \")","v":" "},{"$f":"IFERROR(VLOOKUP(MID(FN$27,5,4)&$A52,Lista_Ubigeo!$J:$K,2,0),\" \")","v":" "},{"$f":"IFERROR(VLOOKUP(MID(FO$27,5,4)&$A52,Lista_Ubigeo!$J:$K,2,0),\" \")","v":" "},{"$f":"IFERROR(VLOOKUP(MID(FP$27,5,4)&$A52,Lista_Ubigeo!$J:$K,2,0),\" \")","v":" "},{"$f":"IFERROR(VLOOKUP(MID(FQ$27,5,4)&$A52,Lista_Ubigeo!$J:$K,2,0),\" \")","v":" "},{"$f":"IFERROR(VLOOKUP(MID(FR$27,5,4)&$A52,Lista_Ubigeo!$J:$K,2,0),\" \")","v":" "},{"$f":"IFERROR(VLOOKUP(MID(FS$27,5,4)&$A52,Lista_Ubigeo!$J:$K,2,0),\" \")","v":" "},{"$f":"IFERROR(VLOOKUP(MID(FT$27,5,4)&$A52,Lista_Ubigeo!$J:$K,2,0),\" \")","v":" "},{"$f":"IFERROR(VLOOKUP(MID(FU$27,5,4)&$A52,Lista_Ubigeo!$J:$K,2,0),\" \")","v":" "},{"$f":"IFERROR(VLOOKUP(MID(FV$27,5,4)&$A52,Lista_Ubigeo!$J:$K,2,0),\" \")","v":" "},{"$f":"IFERROR(VLOOKUP(MID(FW$27,5,4)&$A52,Lista_Ubigeo!$J:$K,2,0),\" \")","v":" "},{"$f":"IFERROR(VLOOKUP(MID(FX$27,5,4)&$A52,Lista_Ubigeo!$J:$K,2,0),\" \")","v":" "},{"$f":"IFERROR(VLOOKUP(MID(FY$27,5,4)&$A52,Lista_Ubigeo!$J:$K,2,0),\" \")","v":" "},{"$f":"IFERROR(VLOOKUP(MID(FZ$27,5,4)&$A52,Lista_Ubigeo!$J:$K,2,0),\" \")","v":" "},{"$f":"IFERROR(VLOOKUP(MID(GA$27,5,4)&$A52,Lista_Ubigeo!$J:$K,2,0),\" \")","v":" "},{"$f":"IFERROR(VLOOKUP(MID(GB$27,5,4)&$A52,Lista_Ubigeo!$J:$K,2,0),\" \")","v":" "},{"$f":"IFERROR(VLOOKUP(MID(GC$27,5,4)&$A52,Lista_Ubigeo!$J:$K,2,0),\" \")","v":" "},{"$f":"IFERROR(VLOOKUP(MID(GD$27,5,4)&$A52,Lista_Ubigeo!$J:$K,2,0),\" \")","v":" "},{"$f":"IFERROR(VLOOKUP(MID(GE$27,5,4)&$A52,Lista_Ubigeo!$J:$K,2,0),\" \")","v":" "},{"$f":"IFERROR(VLOOKUP(MID(GF$27,5,4)&$A52,Lista_Ubigeo!$J:$K,2,0),\" \")","v":" "},{"$f":"IFERROR(VLOOKUP(MID(GG$27,5,4)&$A52,Lista_Ubigeo!$J:$K,2,0),\" \")","v":" "},{"$f":"IFERROR(VLOOKUP(MID(GH$27,5,4)&$A52,Lista_Ubigeo!$J:$K,2,0),\" \")","v":" "},{"$f":"IFERROR(VLOOKUP(MID(GI$27,5,4)&$A52,Lista_Ubigeo!$J:$K,2,0),\" \")","v":" "},{"$f":"IFERROR(VLOOKUP(MID(GJ$27,5,4)&$A52,Lista_Ubigeo!$J:$K,2,0),\" \")","v":" "},{"$f":"IFERROR(VLOOKUP(MID(GK$27,5,4)&$A52,Lista_Ubigeo!$J:$K,2,0),\" \")","v":" "},{"$f":"IFERROR(VLOOKUP(MID(GL$27,5,4)&$A52,Lista_Ubigeo!$J:$K,2,0),\" \")","v":" "},{"$f":"IFERROR(VLOOKUP(MID(GM$27,5,4)&$A52,Lista_Ubigeo!$J:$K,2,0),\" \")","v":" "},{"$f":"IFERROR(VLOOKUP(MID(GN$27,5,4)&$A52,Lista_Ubigeo!$J:$K,2,0),\" \")","v":" "},{"$f":"IFERROR(VLOOKUP(MID(GO$27,5,4)&$A52,Lista_Ubigeo!$J:$K,2,0),\" \")","v":" "},{"$f":"IFERROR(VLOOKUP(MID(GP$27,5,4)&$A52,Lista_Ubigeo!$J:$K,2,0),\" \")","v":" "}]
["26",{"$f":"IFERROR(VLOOKUP(MID(B$27,5,4)&$A53,Lista_Ubigeo!$J:$K,2,0),\" \")","v":" "},{"$f":"IFERROR(VLOOKUP(MID(C$27,5,4)&$A53,Lista_Ubigeo!$J:$K,2,0),\" \")","v":" "},{"$f":"IFERROR(VLOOKUP(MID(D$27,5,4)&$A53,Lista_Ubigeo!$J:$K,2,0),\" \")","v":" "},{"$f":"IFERROR(VLOOKUP(MID(E$27,5,4)&$A53,Lista_Ubigeo!$J:$K,2,0),\" \")","v":" "},{"$f":"IFERROR(VLOOKUP(MID(F$27,5,4)&$A53,Lista_Ubigeo!$J:$K,2,0),\" \")","v":" "},{"$f":"IFERROR(VLOOKUP(MID(G$27,5,4)&$A53,Lista_Ubigeo!$J:$K,2,0),\" \")","v":" "},{"$f":"IFERROR(VLOOKUP(MID(H$27,5,4)&$A53,Lista_Ubigeo!$J:$K,2,0),\" \")","v":" "},{"$f":"IFERROR(VLOOKUP(MID(I$27,5,4)&$A53,Lista_Ubigeo!$J:$K,2,0),\" \")","v":" "},{"$f":"IFERROR(VLOOKUP(MID(J$27,5,4)&$A53,Lista_Ubigeo!$J:$K,2,0),\" \")","v":" "},{"$f":"IFERROR(VLOOKUP(MID(K$27,5,4)&$A53,Lista_Ubigeo!$J:$K,2,0),\" \")","v":" "},{"$f":"IFERROR(VLOOKUP(MID(L$27,5,4)&$A53,Lista_Ubigeo!$J:$K,2,0),\" \")","v":" "},{"$f":"IFERROR(VLOOKUP(MID(M$27,5,4)&$A53,Lista_Ubigeo!$J:$K,2,0),\" \")","v":" "},{"$f":"IFERROR(VLOOKUP(MID(N$27,5,4)&$A53,Lista_Ubigeo!$J:$K,2,0),\" \")","v":" "},{"$f":"IFERROR(VLOOKUP(MID(O$27,5,4)&$A53,Lista_Ubigeo!$J:$K,2,0),\" \")","v":" "},{"$f":"IFERROR(VLOOKUP(MID(P$27,5,4)&$A53,Lista_Ubigeo!$J:$K,2,0),\" \")","v":" "},{"$f":"IFERROR(VLOOKUP(MID(Q$27,5,4)&$A53,Lista_Ubigeo!$J:$K,2,0),\" \")","v":" "},{"$f":"IFERROR(VLOOKUP(MID(R$27,5,4)&$A53,Lista_Ubigeo!$J:$K,2,0),\" \")","v":" "},{"$f":"IFERROR(VLOOKUP(MID(S$27,5,4)&$A53,Lista_Ubigeo!$J:$K,2,0),\" \")","v":" "},{"$f":"IFERROR(VLOOKUP(MID(T$27,5,4)&$A53,Lista_Ubigeo!$J:$K,2,0),\" \")","v":" "},{"$f":"IFERROR(VLOOKUP(MID(U$27,5,4)&$A53,Lista_Ubigeo!$J:$K,2,0),\" \")","v":" "},{"$f":"IFERROR(VLOOKUP(MID(V$27,5,4)&$A53,Lista_Ubigeo!$J:$K,2,0),\" \")","v":" "},{"$f":"IFERROR(VLOOKUP(MID(W$27,5,4)&$A53,Lista_Ubigeo!$J:$K,2,0),\" \")","v":" "},{"$f":"IFERROR(VLOOKUP(MID(X$27,5,4)&$A53,Lista_Ubigeo!$J:$K,2,0),\" \")","v":" "},{"$f":"IFERROR(VLOOKUP(MID(Y$27,5,4)&$A53,Lista_Ubigeo!$J:$K,2,0),\" \")","v":" "},{"$f":"IFERROR(VLOOKUP(MID(Z$27,5,4)&$A53,Lista_Ubigeo!$J:$K,2,0),\" \")","v":" "},{"$f":"IFERROR(VLOOKUP(MID(AA$27,5,4)&$A53,Lista_Ubigeo!$J:$K,2,0),\" \")","v":" "},{"$f":"IFERROR(VLOOKUP(MID(AB$27,5,4)&$A53,Lista_Ubigeo!$J:$K,2,0),\" \")","v":" "},{"$f":"IFERROR(VLOOKUP(MID(AC$27,5,4)&$A53,Lista_Ubigeo!$J:$K,2,0),\" \")","v":" "},{"$f":"IFERROR(VLOOKUP(MID(AD$27,5,4)&$A53,Lista_Ubigeo!$J:$K,2,0),\" \")","v":" "},{"$f":"IFERROR(VLOOKUP(MID(AE$27,5,4)&$A53,Lista_Ubigeo!$J:$K,2,0),\" \")","v":" "},{"$f":"IFERROR(VLOOKUP(MID(AF$27,5,4)&$A53,Lista_Ubigeo!$J:$K,2,0),\" \")","v":" "},{"$f":"IFERROR(VLOOKUP(MID(AG$27,5,4)&$A53,Lista_Ubigeo!$J:$K,2,0),\" \")","v":" "},{"$f":"IFERROR(VLOOKUP(MID(AH$27,5,4)&$A53,Lista_Ubigeo!$J:$K,2,0),\" \")","v":" "},{"$f":"IFERROR(VLOOKUP(MID(AI$27,5,4)&$A53,Lista_Ubigeo!$J:$K,2,0),\" \")","v":" "},{"$f":"IFERROR(VLOOKUP(MID(AJ$27,5,4)&$A53,Lista_Ubigeo!$J:$K,2,0),\" \")","v":"YANAHUARA"},{"$f":"IFERROR(VLOOKUP(MID(AK$27,5,4)&$A53,Lista_Ubigeo!$J:$K,2,0),\" \")","v":" "},{"$f":"IFERROR(VLOOKUP(MID(AL$27,5,4)&$A53,Lista_Ubigeo!$J:$K,2,0),\" \")","v":" "},{"$f":"IFERROR(VLOOKUP(MID(AM$27,5,4)&$A53,Lista_Ubigeo!$J:$K,2,0),\" \")","v":" "},{"$f":"IFERROR(VLOOKUP(MID(AN$27,5,4)&$A53,Lista_Ubigeo!$J:$K,2,0),\" \")","v":" "},{"$f":"IFERROR(VLOOKUP(MID(AO$27,5,4)&$A53,Lista_Ubigeo!$J:$K,2,0),\" \")","v":" "},{"$f":"IFERROR(VLOOKUP(MID(AP$27,5,4)&$A53,Lista_Ubigeo!$J:$K,2,0),\" \")","v":" "},{"$f":"IFERROR(VLOOKUP(MID(AQ$27,4,4)&$A53,Lista_Ubigeo!$J:$K,2,0),\" \")","v":" "},{"$f":"IFERROR(VLOOKUP(MID(AR$27,5,4)&$A53,Lista_Ubigeo!$J:$K,2,0),\" \")","v":" "},{"$f":"IFERROR(VLOOKUP(MID(AS$27,5,4)&$A53,Lista_Ubigeo!$J:$K,2,0),\" \")","v":" "},{"$f":"IFERROR(VLOOKUP(MID(AT$27,5,4)&$A53,Lista_Ubigeo!$J:$K,2,0),\" \")","v":" "},{"$f":"IFERROR(VLOOKUP(MID(AU$27,5,4)&$A53,Lista_Ubigeo!$J:$K,2,0),\" \")","v":" "},{"$f":"IFERROR(VLOOKUP(MID(AV$27,5,4)&$A53,Lista_Ubigeo!$J:$K,2,0),\" \")","v":" "},{"$f":"IFERROR(VLOOKUP(MID(AW$27,5,4)&$A53,Lista_Ubigeo!$J:$K,2,0),\" \")","v":" "},{"$f":"IFERROR(VLOOKUP(MID(AX$27,5,4)&$A53,Lista_Ubigeo!$J:$K,2,0),\" \")","v":" "},{"$f":"IFERROR(VLOOKUP(MID(AY$27,5,4)&$A53,Lista_Ubigeo!$J:$K,2,0),\" \")","v":" "},{"$f":"IFERROR(VLOOKUP(MID(AZ$27,5,4)&$A53,Lista_Ubigeo!$J:$K,2,0),\" \")","v":" "},{"$f":"IFERROR(VLOOKUP(MID(BA$27,5,4)&$A53,Lista_Ubigeo!$J:$K,2,0),\" \")","v":" "},{"$f":"IFERROR(VLOOKUP(MID(BB$27,5,4)&$A53,Lista_Ubigeo!$J:$K,2,0),\" \")","v":" "},{"$f":"IFERROR(VLOOKUP(MID(BC$27,5,4)&$A53,Lista_Ubigeo!$J:$K,2,0),\" \")","v":" "},{"$f":"IFERROR(VLOOKUP(MID(BD$27,5,4)&$A53,Lista_Ubigeo!$J:$K,2,0),\" \")","v":" "},{"$f":"IFERROR(VLOOKUP(MID(BE$27,5,4)&$A53,Lista_Ubigeo!$J:$K,2,0),\" \")","v":" "},{"$f":"IFERROR(VLOOKUP(MID(BF$27,5,4)&$A53,Lista_Ubigeo!$J:$K,2,0),\" \")","v":" "},{"$f":"IFERROR(VLOOKUP(MID(BG$27,5,4)&$A53,Lista_Ubigeo!$J:$K,2,0),\" \")","v":" "},{"$f":"IFERROR(VLOOKUP(MID(BH$27,5,4)&$A53,Lista_Ubigeo!$J:$K,2,0),\" \")","v":" "},{"$f":"IFERROR(VLOOKUP(MID(BI$27,5,4)&$A53,Lista_Ubigeo!$J:$K,2,0),\" \")","v":" "},{"$f":"IFERROR(VLOOKUP(MID(BJ$27,5,4)&$A53,Lista_Ubigeo!$J:$K,2,0),\" \")","v":" "},{"$f":"IFERROR(VLOOKUP(MID(BK$27,5,4)&$A53,Lista_Ubigeo!$J:$K,2,0),\" \")","v":" "},{"$f":"IFERROR(VLOOKUP(MID(BL$27,5,4)&$A53,Lista_Ubigeo!$J:$K,2,0),\" \")","v":" "},{"$f":"IFERROR(VLOOKUP(MID(BM$27,5,4)&$A53,Lista_Ubigeo!$J:$K,2,0),\" \")","v":" "},{"$f":"IFERROR(VLOOKUP(MID(BN$27,5,4)&$A53,Lista_Ubigeo!$J:$K,2,0),\" \")","v":" "},{"$f":"IFERROR(VLOOKUP(MID(BO$27,5,4)&$A53,Lista_Ubigeo!$J:$K,2,0),\" \")","v":" "},{"$f":"IFERROR(VLOOKUP(MID(BP$27,5,4)&$A53,Lista_Ubigeo!$J:$K,2,0),\" \")","v":" "},{"$f":"IFERROR(VLOOKUP(MID(BQ$27,5,4)&$A53,Lista_Ubigeo!$J:$K,2,0),\" \")","v":" "},{"$f":"IFERROR(VLOOKUP(MID(BR$27,5,4)&$A53,Lista_Ubigeo!$J:$K,2,0),\" \")","v":" "},{"$f":"IFERROR(VLOOKUP(MID(BS$27,5,4)&$A53,Lista_Ubigeo!$J:$K,2,0),\" \")","v":" "},{"$f":"IFERROR(VLOOKUP(MID(BT$27,5,4)&$A53,Lista_Ubigeo!$J:$K,2,0),\" \")","v":" "},{"$f":"IFERROR(VLOOKUP(MID(BU$27,5,4)&$A53,Lista_Ubigeo!$J:$K,2,0),\" \")","v":" "},{"$f":"IFERROR(VLOOKUP(MID(BV$27,5,4)&$A53,Lista_Ubigeo!$J:$K,2,0),\" \")","v":" "},{"$f":"IFERROR(VLOOKUP(MID(BW$27,5,4)&$A53,Lista_Ubigeo!$J:$K,2,0),\" \")","v":" "},{"$f":"IFERROR(VLOOKUP(MID(BX$27,5,4)&$A53,Lista_Ubigeo!$J:$K,2,0),\" \")","v":" "},{"$f":"IFERROR(VLOOKUP(MID(BY$27,4,4)&$A53,Lista_Ubigeo!$J:$K,2,0),\" \")","v":" "},{"$f":"IFERROR(VLOOKUP(MID(BZ$27,5,4)&$A53,Lista_Ubigeo!$J:$K,2,0),\" \")","v":" "},{"$f":"IFERROR(VLOOKUP(MID(CA$27,5,4)&$A53,Lista_Ubigeo!$J:$K,2,0),\" \")","v":" "},{"$f":"IFERROR(VLOOKUP(MID(CB$27,5,4)&$A53,Lista_Ubigeo!$J:$K,2,0),\" \")","v":" "},{"$f":"IFERROR(VLOOKUP(MID(CC$27,5,4)&$A53,Lista_Ubigeo!$J:$K,2,0),\" \")","v":" "},{"$f":"IFERROR(VLOOKUP(MID(CD$27,5,4)&$A53,Lista_Ubigeo!$J:$K,2,0),\" \")","v":" "},{"$f":"IFERROR(VLOOKUP(MID(CE$27,5,4)&$A53,Lista_Ubigeo!$J:$K,2,0),\" \")","v":" "},{"$f":"IFERROR(VLOOKUP(MID(CF$27,5,4)&$A53,Lista_Ubigeo!$J:$K,2,0),\" \")","v":" "},{"$f":"IFERROR(VLOOKUP(MID(CG$27,5,4)&$A53,Lista_Ubigeo!$J:$K,2,0),\" \")","v":" "},{"$f":"IFERROR(VLOOKUP(MID(CH$27,5,4)&$A53,Lista_Ubigeo!$J:$K,2,0),\" \")","v":" "},{"$f":"IFERROR(VLOOKUP(MID(CI$27,5,4)&$A53,Lista_Ubigeo!$J:$K,2,0),\" \")","v":" "},{"$f":"IFERROR(VLOOKUP(MID(CJ$27,5,4)&$A53,Lista_Ubigeo!$J:$K,2,0),\" \")","v":" "},{"$f":"IFERROR(VLOOKUP(MID(CK$27,5,4)&$A53,Lista_Ubigeo!$J:$K,2,0),\" \")","v":" "},{"$f":"IFERROR(VLOOKUP(MID(CL$27,5,4)&$A53,Lista_Ubigeo!$J:$K,2,0),\" \")","v":" "},{"$f":"IFERROR(VLOOKUP(MID(CM$27,5,4)&$A64,Lista_Ubigeo!$J:$K,2,0),\" \")","v":" "},{"$f":"IFERROR(VLOOKUP(MID(CN$27,5,4)&$A53,Lista_Ubigeo!$J:$K,2,0),\" \")","v":" "},{"$f":"IFERROR(VLOOKUP(MID(CO$27,5,4)&$A53,Lista_Ubigeo!$J:$K,2,0),\" \")","v":" "},{"$f":"IFERROR(VLOOKUP(MID(CP$27,5,4)&$A53,Lista_Ubigeo!$J:$K,2,0),\" \")","v":" "},{"$f":"IFERROR(VLOOKUP(MID(CQ$27,5,4)&$A53,Lista_Ubigeo!$J:$K,2,0),\" \")","v":" "},{"$f":"IFERROR(VLOOKUP(MID(CR$27,5,4)&$A53,Lista_Ubigeo!$J:$K,2,0),\" \")","v":" "},{"$f":"IFERROR(VLOOKUP(MID(CS$27,5,4)&$A53,Lista_Ubigeo!$J:$K,2,0),\" \")","v":" "},{"$f":"IFERROR(VLOOKUP(MID(CT$27,5,4)&$A53,Lista_Ubigeo!$J:$K,2,0),\" \")","v":" "},{"$f":"IFERROR(VLOOKUP(MID(CU$27,5,4)&$A53,Lista_Ubigeo!$J:$K,2,0),\" \")","v":" "},{"$f":"IFERROR(VLOOKUP(MID(CV$27,5,4)&$A53,Lista_Ubigeo!$J:$K,2,0),\" \")","v":" "},{"$f":"IFERROR(VLOOKUP(MID(CW$27,5,4)&$A53,Lista_Ubigeo!$J:$K,2,0),\" \")","v":" "},{"$f":"IFERROR(VLOOKUP(MID(CX$27,5,4)&$A53,Lista_Ubigeo!$J:$K,2,0),\" \")","v":" "},{"$f":"IFERROR(VLOOKUP(MID(CY$27,5,4)&$A53,Lista_Ubigeo!$J:$K,2,0),\" \")","v":" "},{"$f":"IFERROR(VLOOKUP(MID(CZ$27,5,4)&$A53,Lista_Ubigeo!$J:$K,2,0),\" \")","v":" "},"SICAYA",{"$f":"IFERROR(VLOOKUP(MID(DB$27,5,4)&$A53,Lista_Ubigeo!$J:$K,2,0),\" \")","v":" "},{"$f":"IFERROR(VLOOKUP(MID(DC$27,5,4)&$A53,Lista_Ubigeo!$J:$K,2,0),\" \")","v":" "},{"$f":"IFERROR(VLOOKUP(MID(DD$27,5,4)&$A53,Lista_Ubigeo!$J:$K,2,0),\" \")","v":"POMACANCHA"},{"$f":"IFERROR(VLOOKUP(MID(DE$27,5,4)&$A53,Lista_Ubigeo!$J:$K,2,0),\" \")","v":" "},{"$f":"IFERROR(VLOOKUP(MID(DF$27,5,4)&$A53,Lista_Ubigeo!$J:$K,2,0),\" \")","v":" "},{"$f":"IFERROR(VLOOKUP(MID(DG$27,5,4)&$A53,Lista_Ubigeo!$J:$K,2,0),\" \")","v":" "},{"$f":"IFERROR(VLOOKUP(MID(DH$27,5,4)&$A53,Lista_Ubigeo!$J:$K,2,0),\" \")","v":" "},{"$f":"IFERROR(VLOOKUP(MID(DI$27,5,4)&$A53,Lista_Ubigeo!$J:$K,2,0),\" \")","v":" "},{"$f":"IFERROR(VLOOKUP(MID(DJ$27,5,4)&$A53,Lista_Ubigeo!$J:$K,2,0),\" \")","v":" "},{"$f":"IFERROR(VLOOKUP(MID(DK$27,5,4)&$A53,Lista_Ubigeo!$J:$K,2,0),\" \")","v":" "},{"$f":"IFERROR(VLOOKUP(MID(DL$27,5,4)&$A53,Lista_Ubigeo!$J:$K,2,0),\" \")","v":" "},{"$f":"IFERROR(VLOOKUP(MID(DM$27,5,4)&$A53,Lista_Ubigeo!$J:$K,2,0),\" \")","v":" "},{"$f":"IFERROR(VLOOKUP(MID(DN$27,5,4)&$A53,Lista_Ubigeo!$J:$K,2,0),\" \")","v":" "},{"$f":"IFERROR(VLOOKUP(MID(DO$27,5,4)&$A54,Lista_Ubigeo!$J:$K,2,0),\" \")","v":" "},{"$f":"IFERROR(VLOOKUP(MID(DP$27,5,4)&$A53,Lista_Ubigeo!$J:$K,2,0),\" \")","v":" "},{"$f":"IFERROR(VLOOKUP(MID(DQ$27,5,4)&$A53,Lista_Ubigeo!$J:$K,2,0),\" \")","v":" "},{"$f":"IFERROR(VLOOKUP(MID(DR$27,5,4)&$A53,Lista_Ubigeo!$J:$K,2,0),\" \")","v":" "},{"$f":"IFERROR(VLOOKUP(MID(DS$27,5,4)&$A53,Lista_Ubigeo!$J:$K,2,0),\" \")","v":" "},null,null,{"$f":"IFERROR(VLOOKUP(MID(DV$27,5,4)&$A53,Lista_Ubigeo!$J:$K,2,0),\" \")","v":" "},{"$f":"IFERROR(VLOOKUP(MID(DW$27,5,4)&$A53,Lista_Ubigeo!$J:$K,2,0),\" \")","v":" "},{"$f":"IFERROR(VLOOKUP(MID(DX$27,5,4)&$A53,Lista_Ubigeo!$J:$K,2,0),\" \")","v":" "},{"$f":"IFERROR(VLOOKUP(MID(DY$27,5,4)&$A53,Lista_Ubigeo!$J:$K,2,0),\" \")","v":"PUNTA HERMOSA"},{"$f":"IFERROR(VLOOKUP(MID(DZ$27,5,4)&$A53,Lista_Ubigeo!$J:$K,2,0),\" \")","v":" "},{"$f":"IFERROR(VLOOKUP(MID(EA$27,5,4)&$A53,Lista_Ubigeo!$J:$K,2,0),\" \")","v":" "},{"$f":"IFERROR(VLOOKUP(MID(EB$27,5,4)&$A53,Lista_Ubigeo!$J:$K,2,0),\" \")","v":" "},{"$f":"IFERROR(VLOOKUP(MID(EC$27,5,4)&$A53,Lista_Ubigeo!$J:$K,2,0),\" \")","v":" "},{"$f":"IFERROR(VLOOKUP(MID(ED$27,5,4)&$A53,Lista_Ubigeo!$J:$K,2,0),\" \")","v":" "},{"$f":"IFERROR(VLOOKUP(MID(EE$27,5,4)&$A53,Lista_Ubigeo!$J:$K,2,0),\" \")","v":"SANGALLAYA"},{"$f":"IFERROR(VLOOKUP(MID(EF$27,5,4)&$A53,Lista_Ubigeo!$J:$K,2,0),\" \")","v":" "},{"$f":"IFERROR(VLOOKUP(MID(EG$27,5,4)&$A53,Lista_Ubigeo!$J:$K,2,0),\" \")","v":" "},{"$f":"IFERROR(VLOOKUP(MID(EH$27,5,4)&$A53,Lista_Ubigeo!$J:$K,2,0),\" \")","v":"SAN JOAQUIN"},{"$f":"IFERROR(VLOOKUP(MID(EI$27,5,4)&$A53,Lista_Ubigeo!$J:$K,2,0),\" \")","v":" "},{"$f":"IFERROR(VLOOKUP(MID(EJ$27,5,4)&$A58,Lista_Ubigeo!$J:$K,2,0),\" \")","v":" "},{"$f":"IFERROR(VLOOKUP(MID(EK$27,5,4)&$A53,Lista_Ubigeo!$J:$K,2,0),\" \")","v":" "},{"$f":"IFERROR(VLOOKUP(MID(EL$27,5,4)&$A53,Lista_Ubigeo!$J:$K,2,0),\" \")","v":" "},{"$f":"IFERROR(VLOOKUP(MID(EM$27,5,4)&$A53,Lista_Ubigeo!$J:$K,2,0),\" \")","v":" "},{"$f":"IFERROR(VLOOKUP(MID(EN$27,5,4)&$A53,Lista_Ubigeo!$J:$K,2,0),\" \")","v":" "},{"$f":"IFERROR(VLOOKUP(MID(EO$27,5,4)&$A53,Lista_Ubigeo!$J:$K,2,0),\" \")","v":" "},{"$f":"IFERROR(VLOOKUP(MID(EP$27,5,4)&$A53,Lista_Ubigeo!$J:$K,2,0),\" \")","v":" "},{"$f":"IFERROR(VLOOKUP(MID(EQ$27,5,4)&$A53,Lista_Ubigeo!$J:$K,2,0),\" \")","v":" "},{"$f":"IFERROR(VLOOKUP(MID(ER$27,5,4)&$A53,Lista_Ubigeo!$J:$K,2,0),\" \")","v":" "},{"$f":"IFERROR(VLOOKUP(MID(ES$27,5,4)&$A53,Lista_Ubigeo!$J:$K,2,0),\" \")","v":" "},{"$f":"IFERROR(VLOOKUP(MID(ET$27,5,4)&$A53,Lista_Ubigeo!$J:$K,2,0),\" \")","v":" "},{"$f":"IFERROR(VLOOKUP(MID(EU$27,5,4)&$A53,Lista_Ubigeo!$J:$K,2,0),\" \")","v":" "},{"$f":"IFERROR(VLOOKUP(MID(EV$27,5,4)&$A53,Lista_Ubigeo!$J:$K,2,0),\" \")","v":" "},{"$f":"IFERROR(VLOOKUP(MID(EW$27,5,4)&$A53,Lista_Ubigeo!$J:$K,2,0),\" \")","v":" "},{"$f":"IFERROR(VLOOKUP(MID(EX$27,5,4)&$A53,Lista_Ubigeo!$J:$K,2,0),\" \")","v":" "},{"$f":"IFERROR(VLOOKUP(MID(EY$27,5,4)&$A53,Lista_Ubigeo!$J:$K,2,0),\" \")","v":" "},{"$f":"IFERROR(VLOOKUP(MID(EZ$27,5,4)&$A56,Lista_Ubigeo!$J:$K,2,0),\" \")","v":" "},{"$f":"IFERROR(VLOOKUP(MID(FA$27,5,4)&$A53,Lista_Ubigeo!$J:$K,2,0),\" \")","v":" "},{"$f":"IFERROR(VLOOKUP(MID(FB$27,5,4)&$A53,Lista_Ubigeo!$J:$K,2,0),\" \")","v":" "},{"$f":"IFERROR(VLOOKUP(MID(FC$27,5,4)&$A53,Lista_Ubigeo!$J:$K,2,0),\" \")","v":" "},{"$f":"IFERROR(VLOOKUP(MID(FD$27,5,4)&$A53,Lista_Ubigeo!$J:$K,2,0),\" \")","v":" "},{"$f":"IFERROR(VLOOKUP(MID(FE$27,5,4)&$A53,Lista_Ubigeo!$J:$K,2,0),\" \")","v":" "},{"$f":"IFERROR(VLOOKUP(MID(FF$27,5,4)&$A53,Lista_Ubigeo!$J:$K,2,0),\" \")","v":" "},{"$f":"IFERROR(VLOOKUP(MID(FG$27,5,4)&$A53,Lista_Ubigeo!$J:$K,2,0),\" \")","v":" "},{"$f":"IFERROR(VLOOKUP(MID(FH$27,5,4)&$A53,Lista_Ubigeo!$J:$K,2,0),\" \")","v":" "},{"$f":"IFERROR(VLOOKUP(MID(FI$27,5,4)&$A53,Lista_Ubigeo!$J:$K,2,0),\" \")","v":" "},{"$f":"IFERROR(VLOOKUP(MID(FJ$27,5,4)&$A53,Lista_Ubigeo!$J:$K,2,0),\" \")","v":" "},{"$f":"IFERROR(VLOOKUP(MID(FK$27,5,4)&$A53,Lista_Ubigeo!$J:$K,2,0),\" \")","v":" "},{"$f":"IFERROR(VLOOKUP(MID(FL$27,5,4)&$A53,Lista_Ubigeo!$J:$K,2,0),\" \")","v":" "},{"$f":"IFERROR(VLOOKUP(MID(FM$27,5,4)&$A53,Lista_Ubigeo!$J:$K,2,0),\" \")","v":" "},{"$f":"IFERROR(VLOOKUP(MID(FN$27,5,4)&$A53,Lista_Ubigeo!$J:$K,2,0),\" \")","v":" "},{"$f":"IFERROR(VLOOKUP(MID(FO$27,5,4)&$A53,Lista_Ubigeo!$J:$K,2,0),\" \")","v":" "},{"$f":"IFERROR(VLOOKUP(MID(FP$27,5,4)&$A53,Lista_Ubigeo!$J:$K,2,0),\" \")","v":" "},{"$f":"IFERROR(VLOOKUP(MID(FQ$27,5,4)&$A53,Lista_Ubigeo!$J:$K,2,0),\" \")","v":" "},{"$f":"IFERROR(VLOOKUP(MID(FR$27,5,4)&$A53,Lista_Ubigeo!$J:$K,2,0),\" \")","v":" "},{"$f":"IFERROR(VLOOKUP(MID(FS$27,5,4)&$A53,Lista_Ubigeo!$J:$K,2,0),\" \")","v":" "},{"$f":"IFERROR(VLOOKUP(MID(FT$27,5,4)&$A53,Lista_Ubigeo!$J:$K,2,0),\" \")","v":" "},{"$f":"IFERROR(VLOOKUP(MID(FU$27,5,4)&$A53,Lista_Ubigeo!$J:$K,2,0),\" \")","v":" "},{"$f":"IFERROR(VLOOKUP(MID(FV$27,5,4)&$A53,Lista_Ubigeo!$J:$K,2,0),\" \")","v":" "},{"$f":"IFERROR(VLOOKUP(MID(FW$27,5,4)&$A53,Lista_Ubigeo!$J:$K,2,0),\" \")","v":" "},{"$f":"IFERROR(VLOOKUP(MID(FX$27,5,4)&$A53,Lista_Ubigeo!$J:$K,2,0),\" \")","v":" "},{"$f":"IFERROR(VLOOKUP(MID(FY$27,5,4)&$A53,Lista_Ubigeo!$J:$K,2,0),\" \")","v":" "},{"$f":"IFERROR(VLOOKUP(MID(FZ$27,5,4)&$A53,Lista_Ubigeo!$J:$K,2,0),\" \")","v":" "},{"$f":"IFERROR(VLOOKUP(MID(GA$27,5,4)&$A53,Lista_Ubigeo!$J:$K,2,0),\" \")","v":" "},{"$f":"IFERROR(VLOOKUP(MID(GB$27,5,4)&$A53,Lista_Ubigeo!$J:$K,2,0),\" \")","v":" "},{"$f":"IFERROR(VLOOKUP(MID(GC$27,5,4)&$A53,Lista_Ubigeo!$J:$K,2,0),\" \")","v":" "},{"$f":"IFERROR(VLOOKUP(MID(GD$27,5,4)&$A53,Lista_Ubigeo!$J:$K,2,0),\" \")","v":" "},{"$f":"IFERROR(VLOOKUP(MID(GE$27,5,4)&$A53,Lista_Ubigeo!$J:$K,2,0),\" \")","v":" "},{"$f":"IFERROR(VLOOKUP(MID(GF$27,5,4)&$A53,Lista_Ubigeo!$J:$K,2,0),\" \")","v":" "},{"$f":"IFERROR(VLOOKUP(MID(GG$27,5,4)&$A53,Lista_Ubigeo!$J:$K,2,0),\" \")","v":" "},{"$f":"IFERROR(VLOOKUP(MID(GH$27,5,4)&$A53,Lista_Ubigeo!$J:$K,2,0),\" \")","v":" "},{"$f":"IFERROR(VLOOKUP(MID(GI$27,5,4)&$A53,Lista_Ubigeo!$J:$K,2,0),\" \")","v":" "},{"$f":"IFERROR(VLOOKUP(MID(GJ$27,5,4)&$A53,Lista_Ubigeo!$J:$K,2,0),\" \")","v":" "},{"$f":"IFERROR(VLOOKUP(MID(GK$27,5,4)&$A53,Lista_Ubigeo!$J:$K,2,0),\" \")","v":" "},{"$f":"IFERROR(VLOOKUP(MID(GL$27,5,4)&$A53,Lista_Ubigeo!$J:$K,2,0),\" \")","v":" "},{"$f":"IFERROR(VLOOKUP(MID(GM$27,5,4)&$A53,Lista_Ubigeo!$J:$K,2,0),\" \")","v":" "},{"$f":"IFERROR(VLOOKUP(MID(GN$27,5,4)&$A53,Lista_Ubigeo!$J:$K,2,0),\" \")","v":" "},{"$f":"IFERROR(VLOOKUP(MID(GO$27,5,4)&$A53,Lista_Ubigeo!$J:$K,2,0),\" \")","v":" "},{"$f":"IFERROR(VLOOKUP(MID(GP$27,5,4)&$A53,Lista_Ubigeo!$J:$K,2,0),\" \")","v":" "}]
["27",{"$f":"IFERROR(VLOOKUP(MID(B$27,5,4)&$A54,Lista_Ubigeo!$J:$K,2,0),\" \")","v":" "},{"$f":"IFERROR(VLOOKUP(MID(C$27,5,4)&$A54,Lista_Ubigeo!$J:$K,2,0),\" \")","v":" "},{"$f":"IFERROR(VLOOKUP(MID(D$27,5,4)&$A54,Lista_Ubigeo!$J:$K,2,0),\" \")","v":" "},{"$f":"IFERROR(VLOOKUP(MID(E$27,5,4)&$A54,Lista_Ubigeo!$J:$K,2,0),\" \")","v":" "},{"$f":"IFERROR(VLOOKUP(MID(F$27,5,4)&$A54,Lista_Ubigeo!$J:$K,2,0),\" \")","v":" "},{"$f":"IFERROR(VLOOKUP(MID(G$27,5,4)&$A54,Lista_Ubigeo!$J:$K,2,0),\" \")","v":" "},{"$f":"IFERROR(VLOOKUP(MID(H$27,5,4)&$A54,Lista_Ubigeo!$J:$K,2,0),\" \")","v":" "},{"$f":"IFERROR(VLOOKUP(MID(I$27,5,4)&$A54,Lista_Ubigeo!$J:$K,2,0),\" \")","v":" "},{"$f":"IFERROR(VLOOKUP(MID(J$27,5,4)&$A54,Lista_Ubigeo!$J:$K,2,0),\" \")","v":" "},{"$f":"IFERROR(VLOOKUP(MID(K$27,5,4)&$A54,Lista_Ubigeo!$J:$K,2,0),\" \")","v":" "},{"$f":"IFERROR(VLOOKUP(MID(L$27,5,4)&$A54,Lista_Ubigeo!$J:$K,2,0),\" \")","v":" "},{"$f":"IFERROR(VLOOKUP(MID(M$27,5,4)&$A54,Lista_Ubigeo!$J:$K,2,0),\" \")","v":" "},{"$f":"IFERROR(VLOOKUP(MID(N$27,5,4)&$A54,Lista_Ubigeo!$J:$K,2,0),\" \")","v":" "},{"$f":"IFERROR(VLOOKUP(MID(O$27,5,4)&$A54,Lista_Ubigeo!$J:$K,2,0),\" \")","v":" "},{"$f":"IFERROR(VLOOKUP(MID(P$27,5,4)&$A54,Lista_Ubigeo!$J:$K,2,0),\" \")","v":" "},{"$f":"IFERROR(VLOOKUP(MID(Q$27,5,4)&$A54,Lista_Ubigeo!$J:$K,2,0),\" \")","v":" "},{"$f":"IFERROR(VLOOKUP(MID(R$27,5,4)&$A54,Lista_Ubigeo!$J:$K,2,0),\" \")","v":" "},{"$f":"IFERROR(VLOOKUP(MID(S$27,5,4)&$A54,Lista_Ubigeo!$J:$K,2,0),\" \")","v":" "},{"$f":"IFERROR(VLOOKUP(MID(T$27,5,4)&$A54,Lista_Ubigeo!$J:$K,2,0),\" \")","v":" "},{"$f":"IFERROR(VLOOKUP(MID(U$27,5,4)&$A54,Lista_Ubigeo!$J:$K,2,0),\" \")","v":" "},{"$f":"IFERROR(VLOOKUP(MID(V$27,5,4)&$A54,Lista_Ubigeo!$J:$K,2,0),\" \")","v":" "},{"$f":"IFERROR(VLOOKUP(MID(W$27,5,4)&$A54,Lista_Ubigeo!$J:$K,2,0),\" \")","v":" "},{"$f":"IFERROR(VLOOKUP(MID(X$27,5,4)&$A54,Lista_Ubigeo!$J:$K,2,0),\" \")","v":" "},{"$f":"IFERROR(VLOOKUP(MID(Y$27,5,4)&$A54,Lista_Ubigeo!$J:$K,2,0),\" \")","v":" "},{"$f":"IFERROR(VLOOKUP(MID(Z$27,5,4)&$A54,Lista_Ubigeo!$J:$K,2,0),\" \")","v":" "},{"$f":"IFERROR(VLOOKUP(MID(AA$27,5,4)&$A54,Lista_Ubigeo!$J:$K,2,0),\" \")","v":" "},{"$f":"IFERROR(VLOOKUP(MID(AB$27,5,4)&$A54,Lista_Ubigeo!$J:$K,2,0),\" \")","v":" "},{"$f":"IFERROR(VLOOKUP(MID(AC$27,5,4)&$A54,Lista_Ubigeo!$J:$K,2,0),\" \")","v":" "},{"$f":"IFERROR(VLOOKUP(MID(AD$27,5,4)&$A54,Lista_Ubigeo!$J:$K,2,0),\" \")","v":" "},{"$f":"IFERROR(VLOOKUP(MID(AE$27,5,4)&$A54,Lista_Ubigeo!$J:$K,2,0),\" \")","v":" "},{"$f":"IFERROR(VLOOKUP(MID(AF$27,5,4)&$A54,Lista_Ubigeo!$J:$K,2,0),\" \")","v":" "},{"$f":"IFERROR(VLOOKUP(MID(AG$27,5,4)&$A54,Lista_Ubigeo!$J:$K,2,0),\" \")","v":" "},{"$f":"IFERROR(VLOOKUP(MID(AH$27,5,4)&$A54,Lista_Ubigeo!$J:$K,2,0),\" \")","v":" "},{"$f":"IFERROR(VLOOKUP(MID(AI$27,5,4)&$A54,Lista_Ubigeo!$J:$K,2,0),\" \")","v":" "},{"$f":"IFERROR(VLOOKUP(MID(AJ$27,5,4)&$A54,Lista_Ubigeo!$J:$K,2,0),\" \")","v":"YARABAMBA"},{"$f":"IFERROR(VLOOKUP(MID(AK$27,5,4)&$A54,Lista_Ubigeo!$J:$K,2,0),\" \")","v":" "},{"$f":"IFERROR(VLOOKUP(MID(AL$27,5,4)&$A54,Lista_Ubigeo!$J:$K,2,0),\" \")","v":" "},{"$f":"IFERROR(VLOOKUP(MID(AM$27,5,4)&$A54,Lista_Ubigeo!$J:$K,2,0),\" \")","v":" "},{"$f":"IFERROR(VLOOKUP(MID(AN$27,5,4)&$A54,Lista_Ubigeo!$J:$K,2,0),\" \")","v":" "},{"$f":"IFERROR(VLOOKUP(MID(AO$27,5,4)&$A54,Lista_Ubigeo!$J:$K,2,0),\" \")","v":" "},{"$f":"IFERROR(VLOOKUP(MID(AP$27,5,4)&$A54,Lista_Ubigeo!$J:$K,2,0),\" \")","v":" "},{"$f":"IFERROR(VLOOKUP(MID(AQ$27,4,4)&$A54,Lista_Ubigeo!$J:$K,2,0),\" \")","v":" "},{"$f":"IFERROR(VLOOKUP(MID(AR$27,5,4)&$A54,Lista_Ubigeo!$J:$K,2,0),\" \")","v":" "},{"$f":"IFERROR(VLOOKUP(MID(AS$27,5,4)&$A54,Lista_Ubigeo!$J:$K,2,0),\" \")","v":" "},{"$f":"IFERROR(VLOOKUP(MID(AT$27,5,4)&$A54,Lista_Ubigeo!$J:$K,2,0),\" \")","v":" "},{"$f":"IFERROR(VLOOKUP(MID(AU$27,5,4)&$A54,Lista_Ubigeo!$J:$K,2,0),\" \")","v":" "},{"$f":"IFERROR(VLOOKUP(MID(AV$27,5,4)&$A54,Lista_Ubigeo!$J:$K,2,0),\" \")","v":" "},{"$f":"IFERROR(VLOOKUP(MID(AW$27,5,4)&$A54,Lista_Ubigeo!$J:$K,2,0),\" \")","v":" "},{"$f":"IFERROR(VLOOKUP(MID(AX$27,5,4)&$A54,Lista_Ubigeo!$J:$K,2,0),\" \")","v":" "},{"$f":"IFERROR(VLOOKUP(MID(AY$27,5,4)&$A54,Lista_Ubigeo!$J:$K,2,0),\" \")","v":" "},{"$f":"IFERROR(VLOOKUP(MID(AZ$27,5,4)&$A54,Lista_Ubigeo!$J:$K,2,0),\" \")","v":" "},{"$f":"IFERROR(VLOOKUP(MID(BA$27,5,4)&$A54,Lista_Ubigeo!$J:$K,2,0),\" \")","v":" "},{"$f":"IFERROR(VLOOKUP(MID(BB$27,5,4)&$A54,Lista_Ubigeo!$J:$K,2,0),\" \")","v":" "},{"$f":"IFERROR(VLOOKUP(MID(BC$27,5,4)&$A54,Lista_Ubigeo!$J:$K,2,0),\" \")","v":" "},{"$f":"IFERROR(VLOOKUP(MID(BD$27,5,4)&$A54,Lista_Ubigeo!$J:$K,2,0),\" \")","v":" "},{"$f":"IFERROR(VLOOKUP(MID(BE$27,5,4)&$A54,Lista_Ubigeo!$J:$K,2,0),\" \")","v":" "},{"$f":"IFERROR(VLOOKUP(MID(BF$27,5,4)&$A54,Lista_Ubigeo!$J:$K,2,0),\" \")","v":" "},{"$f":"IFERROR(VLOOKUP(MID(BG$27,5,4)&$A54,Lista_Ubigeo!$J:$K,2,0),\" \")","v":" "},{"$f":"IFERROR(VLOOKUP(MID(BH$27,5,4)&$A54,Lista_Ubigeo!$J:$K,2,0),\" \")","v":" "},{"$f":"IFERROR(VLOOKUP(MID(BI$27,5,4)&$A54,Lista_Ubigeo!$J:$K,2,0),\" \")","v":" "},{"$f":"IFERROR(VLOOKUP(MID(BJ$27,5,4)&$A54,Lista_Ubigeo!$J:$K,2,0),\" \")","v":" "},{"$f":"IFERROR(VLOOKUP(MID(BK$27,5,4)&$A54,Lista_Ubigeo!$J:$K,2,0),\" \")","v":" "},{"$f":"IFERROR(VLOOKUP(MID(BL$27,5,4)&$A54,Lista_Ubigeo!$J:$K,2,0),\" \")","v":" "},{"$f":"IFERROR(VLOOKUP(MID(BM$27,5,4)&$A54,Lista_Ubigeo!$J:$K,2,0),\" \")","v":" "},{"$f":"IFERROR(VLOOKUP(MID(BN$27,5,4)&$A54,Lista_Ubigeo!$J:$K,2,0),\" \")","v":" "},{"$f":"IFERROR(VLOOKUP(MID(BO$27,5,4)&$A54,Lista_Ubigeo!$J:$K,2,0),\" \")","v":" "},{"$f":"IFERROR(VLOOKUP(MID(BP$27,5,4)&$A54,Lista_Ubigeo!$J:$K,2,0),\" \")","v":" "},{"$f":"IFERROR(VLOOKUP(MID(BQ$27,5,4)&$A54,Lista_Ubigeo!$J:$K,2,0),\" \")","v":" "},{"$f":"IFERROR(VLOOKUP(MID(BR$27,5,4)&$A54,Lista_Ubigeo!$J:$K,2,0),\" \")","v":" "},{"$f":"IFERROR(VLOOKUP(MID(BS$27,5,4)&$A54,Lista_Ubigeo!$J:$K,2,0),\" \")","v":" "},{"$f":"IFERROR(VLOOKUP(MID(BT$27,5,4)&$A54,Lista_Ubigeo!$J:$K,2,0),\" \")","v":" "},{"$f":"IFERROR(VLOOKUP(MID(BU$27,5,4)&$A54,Lista_Ubigeo!$J:$K,2,0),\" \")","v":" "},{"$f":"IFERROR(VLOOKUP(MID(BV$27,5,4)&$A54,Lista_Ubigeo!$J:$K,2,0),\" \")","v":" "},{"$f":"IFERROR(VLOOKUP(MID(BW$27,5,4)&$A54,Lista_Ubigeo!$J:$K,2,0),\" \")","v":" "},{"$f":"IFERROR(VLOOKUP(MID(BX$27,5,4)&$A54,Lista_Ubigeo!$J:$K,2,0),\" \")","v":" "},{"$f":"IFERROR(VLOOKUP(MID(BY$27,4,4)&$A54,Lista_Ubigeo!$J:$K,2,0),\" \")","v":" "},{"$f":"IFERROR(VLOOKUP(MID(BZ$27,5,4)&$A54,Lista_Ubigeo!$J:$K,2,0),\" \")","v":" "},{"$f":"IFERROR(VLOOKUP(MID(CA$27,5,4)&$A54,Lista_Ubigeo!$J:$K,2,0),\" \")","v":" "},{"$f":"IFERROR(VLOOKUP(MID(CB$27,5,4)&$A54,Lista_Ubigeo!$J:$K,2,0),\" \")","v":" "},{"$f":"IFERROR(VLOOKUP(MID(CC$27,5,4)&$A54,Lista_Ubigeo!$J:$K,2,0),\" \")","v":" "},{"$f":"IFERROR(VLOOKUP(MID(CD$27,5,4)&$A54,Lista_Ubigeo!$J:$K,2,0),\" \")","v":" "},{"$f":"IFERROR(VLOOKUP(MID(CE$27,5,4)&$A54,Lista_Ubigeo!$J:$K,2,0),\" \")","v":" "},{"$f":"IFERROR(VLOOKUP(MID(CF$27,5,4)&$A54,Lista_Ubigeo!$J:$K,2,0),\" \")","v":" "},{"$f":"IFERROR(VLOOKUP(MID(CG$27,5,4)&$A54,Lista_Ubigeo!$J:$K,2,0),\" \")","v":" "},{"$f":"IFERROR(VLOOKUP(MID(CH$27,5,4)&$A54,Lista_Ubigeo!$J:$K,2,0),\" \")","v":" "},{"$f":"IFERROR(VLOOKUP(MID(CI$27,5,4)&$A54,Lista_Ubigeo!$J:$K,2,0),\" \")","v":" "},{"$f":"IFERROR(VLOOKUP(MID(CJ$27,5,4)&$A54,Lista_Ubigeo!$J:$K,2,0),\" \")","v":" "},{"$f":"IFERROR(VLOOKUP(MID(CK$27,5,4)&$A54,Lista_Ubigeo!$J:$K,2,0),\" \")","v":" "},{"$f":"IFERROR(VLOOKUP(MID(CL$27,5,4)&$A54,Lista_Ubigeo!$J:$K,2,0),\" \")","v":" "},{"$f":"IFERROR(VLOOKUP(MID(CM$27,5,4)&$A65,Lista_Ubigeo!$J:$K,2,0),\" \")","v":" "},{"$f":"IFERROR(VLOOKUP(MID(CN$27,5,4)&$A54,Lista_Ubigeo!$J:$K,2,0),\" \")","v":" "},{"$f":"IFERROR(VLOOKUP(MID(CO$27,5,4)&$A54,Lista_Ubigeo!$J:$K,2,0),\" \")","v":" "},{"$f":"IFERROR(VLOOKUP(MID(CP$27,5,4)&$A54,Lista_Ubigeo!$J:$K,2,0),\" \")","v":" "},{"$f":"IFERROR(VLOOKUP(MID(CQ$27,5,4)&$A54,Lista_Ubigeo!$J:$K,2,0),\" \")","v":" "},{"$f":"IFERROR(VLOOKUP(MID(CR$27,5,4)&$A54,Lista_Ubigeo!$J:$K,2,0),\" \")","v":" "},{"$f":"IFERROR(VLOOKUP(MID(CS$27,5,4)&$A54,Lista_Ubigeo!$J:$K,2,0),\" \")","v":" "},{"$f":"IFERROR(VLOOKUP(MID(CT$27,5,4)&$A54,Lista_Ubigeo!$J:$K,2,0),\" \")","v":" "},{"$f":"IFERROR(VLOOKUP(MID(CU$27,5,4)&$A54,Lista_Ubigeo!$J:$K,2,0),\" \")","v":" "},{"$f":"IFERROR(VLOOKUP(MID(CV$27,5,4)&$A54,Lista_Ubigeo!$J:$K,2,0),\" \")","v":" "},{"$f":"IFERROR(VLOOKUP(MID(CW$27,5,4)&$A54,Lista_Ubigeo!$J:$K,2,0),\" \")","v":" "},{"$f":"IFERROR(VLOOKUP(MID(CX$27,5,4)&$A54,Lista_Ubigeo!$J:$K,2,0),\" \")","v":" "},{"$f":"IFERROR(VLOOKUP(MID(CY$27,5,4)&$A54,Lista_Ubigeo!$J:$K,2,0),\" \")","v":" "},{"$f":"IFERROR(VLOOKUP(MID(CZ$27,5,4)&$A54,Lista_Ubigeo!$J:$K,2,0),\" \")","v":" "},"SANTO DOMINGO DE ACOBAMBA",{"$f":"IFERROR(VLOOKUP(MID(DB$27,5,4)&$A54,Lista_Ubigeo!$J:$K,2,0),\" \")","v":" "},{"$f":"IFERROR(VLOOKUP(MID(DC$27,5,4)&$A54,Lista_Ubigeo!$J:$K,2,0),\" \")","v":" "},{"$f":"IFERROR(VLOOKUP(MID(DD$27,5,4)&$A54,Lista_Ubigeo!$J:$K,2,0),\" \")","v":"RICRAN"},{"$f":"IFERROR(VLOOKUP(MID(DE$27,5,4)&$A54,Lista_Ubigeo!$J:$K,2,0),\" \")","v":" "},{"$f":"IFERROR(VLOOKUP(MID(DF$27,5,4)&$A54,Lista_Ubigeo!$J:$K,2,0),\" \")","v":" "},{"$f":"IFERROR(VLOOKUP(MID(DG$27,5,4)&$A54,Lista_Ubigeo!$J:$K,2,0),\" \")","v":" "},{"$f":"IFERROR(VLOOKUP(MID(DH$27,5,4)&$A54,Lista_Ubigeo!$J:$K,2,0),\" \")","v":" "},{"$f":"IFERROR(VLOOKUP(MID(DI$27,5,4)&$A54,Lista_Ubigeo!$J:$K,2,0),\" \")","v":" "},{"$f":"IFERROR(VLOOKUP(MID(DJ$27,5,4)&$A54,Lista_Ubigeo!$J:$K,2,0),\" \")","v":" "},{"$f":"IFERROR(VLOOKUP(MID(DK$27,5,4)&$A54,Lista_Ubigeo!$J:$K,2,0),\" \")","v":" "},{"$f":"IFERROR(VLOOKUP(MID(DL$27,5,4)&$A54,Lista_Ubigeo!$J:$K,2,0),\" \")","v":" "},{"$f":"IFERROR(VLOOKUP(MID(DM$27,5,4)&$A54,Lista_Ubigeo!$J:$K,2,0),\" \")","v":" "},{"$f":"IFERROR(VLOOKUP(MID(DN$27,5,4)&$A54,Lista_Ubigeo!$J:$K,2,0),\" \")","v":" "},{"$f":"IFERROR(VLOOKUP(MID(DO$27,5,4)&$A55,Lista_Ubigeo!$J:$K,2,0),\" \")","v":" "},{"$f":"IFERROR(VLOOKUP(MID(DP$27,5,4)&$A54,Lista_Ubigeo!$J:$K,2,0),\" \")","v":" "},{"$f":"IFERROR(VLOOKUP(MID(DQ$27,5,4)&$A54,Lista_Ubigeo!$J:$K,2,0),\" \")","v":" "},{"$f":"IFERROR(VLOOKUP(MID(DR$27,5,4)&$A54,Lista_Ubigeo!$J:$K,2,0),\" \")","v":" "},{"$f":"IFERROR(VLOOKUP(MID(DS$27,5,4)&$A54,Lista_Ubigeo!$J:$K,2,0),\" \")","v":" "},null,null,{"$f":"IFERROR(VLOOKUP(MID(DV$27,5,4)&$A54,Lista_Ubigeo!$J:$K,2,0),\" \")","v":" "},{"$f":"IFERROR(VLOOKUP(MID(DW$27,5,4)&$A54,Lista_Ubigeo!$J:$K,2,0),\" \")","v":" "},{"$f":"IFERROR(VLOOKUP(MID(DX$27,5,4)&$A54,Lista_Ubigeo!$J:$K,2,0),\" \")","v":" "},{"$f":"IFERROR(VLOOKUP(MID(DY$27,5,4)&$A54,Lista_Ubigeo!$J:$K,2,0),\" \")","v":"PUNTA NEGRA"},{"$f":"IFERROR(VLOOKUP(MID(DZ$27,5,4)&$A54,Lista_Ubigeo!$J:$K,2,0),\" \")","v":" "},{"$f":"IFERROR(VLOOKUP(MID(EA$27,5,4)&$A54,Lista_Ubigeo!$J:$K,2,0),\" \")","v":" "},{"$f":"IFERROR(VLOOKUP(MID(EB$27,5,4)&$A54,Lista_Ubigeo!$J:$K,2,0),\" \")","v":" "},{"$f":"IFERROR(VLOOKUP(MID(EC$27,5,4)&$A54,Lista_Ubigeo!$J:$K,2,0),\" \")","v":" "},{"$f":"IFERROR(VLOOKUP(MID(ED$27,5,4)&$A54,Lista_Ubigeo!$J:$K,2,0),\" \")","v":" "},{"$f":"IFERROR(VLOOKUP(MID(EE$27,5,4)&$A54,Lista_Ubigeo!$J:$K,2,0),\" \")","v":"SANTA CRUZ DE COCACHACRA"},{"$f":"IFERROR(VLOOKUP(MID(EF$27,5,4)&$A54,Lista_Ubigeo!$J:$K,2,0),\" \")","v":" "},{"$f":"IFERROR(VLOOKUP(MID(EG$27,5,4)&$A54,Lista_Ubigeo!$J:$K,2,0),\" \")","v":" "},{"$f":"IFERROR(VLOOKUP(MID(EH$27,5,4)&$A54,Lista_Ubigeo!$J:$K,2,0),\" \")","v":"SAN PEDRO DE PILAS"},{"$f":"IFERROR(VLOOKUP(MID(EI$27,5,4)&$A54,Lista_Ubigeo!$J:$K,2,0),\" \")","v":" "},{"$f":"IFERROR(VLOOKUP(MID(EJ$27,5,4)&$A59,Lista_Ubigeo!$J:$K,2,0),\" \")","v":" "},{"$f":"IFERROR(VLOOKUP(MID(EK$27,5,4)&$A54,Lista_Ubigeo!$J:$K,2,0),\" \")","v":" "},{"$f":"IFERROR(VLOOKUP(MID(EL$27,5,4)&$A54,Lista_Ubigeo!$J:$K,2,0),\" \")","v":" "},{"$f":"IFERROR(VLOOKUP(MID(EM$27,5,4)&$A54,Lista_Ubigeo!$J:$K,2,0),\" \")","v":" "},{"$f":"IFERROR(VLOOKUP(MID(EN$27,5,4)&$A54,Lista_Ubigeo!$J:$K,2,0),\" \")","v":" "},{"$f":"IFERROR(VLOOKUP(MID(EO$27,5,4)&$A54,Lista_Ubigeo!$J:$K,2,0),\" \")","v":" "},{"$f":"IFERROR(VLOOKUP(MID(EP$27,5,4)&$A54,Lista_Ubigeo!$J:$K,2,0),\" \")","v":" "},{"$f":"IFERROR(VLOOKUP(MID(EQ$27,5,4)&$A54,Lista_Ubigeo!$J:$K,2,0),\" \")","v":" "},{"$f":"IFERROR(VLOOKUP(MID(ER$27,5,4)&$A54,Lista_Ubigeo!$J:$K,2,0),\" \")","v":" "},{"$f":"IFERROR(VLOOKUP(MID(ES$27,5,4)&$A54,Lista_Ubigeo!$J:$K,2,0),\" \")","v":" "},{"$f":"IFERROR(VLOOKUP(MID(ET$27,5,4)&$A54,Lista_Ubigeo!$J:$K,2,0),\" \")","v":" "},{"$f":"IFERROR(VLOOKUP(MID(EU$27,5,4)&$A54,Lista_Ubigeo!$J:$K,2,0),\" \")","v":" "},{"$f":"IFERROR(VLOOKUP(MID(EV$27,5,4)&$A54,Lista_Ubigeo!$J:$K,2,0),\" \")","v":" "},{"$f":"IFERROR(VLOOKUP(MID(EW$27,5,4)&$A54,Lista_Ubigeo!$J:$K,2,0),\" \")","v":" "},{"$f":"IFERROR(VLOOKUP(MID(EX$27,5,4)&$A54,Lista_Ubigeo!$J:$K,2,0),\" \")","v":" "},{"$f":"IFERROR(VLOOKUP(MID(EY$27,5,4)&$A54,Lista_Ubigeo!$J:$K,2,0),\" \")","v":" "},{"$f":"IFERROR(VLOOKUP(MID(EZ$27,5,4)&$A57,Lista_Ubigeo!$J:$K,2,0),\" \")","v":" "},{"$f":"IFERROR(VLOOKUP(MID(FA$27,5,4)&$A54,Lista_Ubigeo!$J:$K,2,0),\" \")","v":" "},{"$f":"IFERROR(VLOOKUP(MID(FB$27,5,4)&$A54,Lista_Ubigeo!$J:$K,2,0),\" \")","v":" "},{"$f":"IFERROR(VLOOKUP(MID(FC$27,5,4)&$A54,Lista_Ubigeo!$J:$K,2,0),\" \")","v":" "},{"$f":"IFERROR(VLOOKUP(MID(FD$27,5,4)&$A54,Lista_Ubigeo!$J:$K,2,0),\" \")","v":" "},{"$f":"IFERROR(VLOOKUP(MID(FE$27,5,4)&$A54,Lista_Ubigeo!$J:$K,2,0),\" \")","v":" "},{"$f":"IFERROR(VLOOKUP(MID(FF$27,5,4)&$A54,Lista_Ubigeo!$J:$K,2,0),\" \")","v":" "},{"$f":"IFERROR(VLOOKUP(MID(FG$27,5,4)&$A54,Lista_Ubigeo!$J:$K,2,0),\" \")","v":" "},{"$f":"IFERROR(VLOOKUP(MID(FH$27,5,4)&$A54,Lista_Ubigeo!$J:$K,2,0),\" \")","v":" "},{"$f":"IFERROR(VLOOKUP(MID(FI$27,5,4)&$A54,Lista_Ubigeo!$J:$K,2,0),\" \")","v":" "},{"$f":"IFERROR(VLOOKUP(MID(FJ$27,5,4)&$A54,Lista_Ubigeo!$J:$K,2,0),\" \")","v":" "},{"$f":"IFERROR(VLOOKUP(MID(FK$27,5,4)&$A54,Lista_Ubigeo!$J:$K,2,0),\" \")","v":" "},{"$f":"IFERROR(VLOOKUP(MID(FL$27,5,4)&$A54,Lista_Ubigeo!$J:$K,2,0),\" \")","v":" "},{"$f":"IFERROR(VLOOKUP(MID(FM$27,5,4)&$A54,Lista_Ubigeo!$J:$K,2,0),\" \")","v":" "},{"$f":"IFERROR(VLOOKUP(MID(FN$27,5,4)&$A54,Lista_Ubigeo!$J:$K,2,0),\" \")","v":" "},{"$f":"IFERROR(VLOOKUP(MID(FO$27,5,4)&$A54,Lista_Ubigeo!$J:$K,2,0),\" \")","v":" "},{"$f":"IFERROR(VLOOKUP(MID(FP$27,5,4)&$A54,Lista_Ubigeo!$J:$K,2,0),\" \")","v":" "},{"$f":"IFERROR(VLOOKUP(MID(FQ$27,5,4)&$A54,Lista_Ubigeo!$J:$K,2,0),\" \")","v":" "},{"$f":"IFERROR(VLOOKUP(MID(FR$27,5,4)&$A54,Lista_Ubigeo!$J:$K,2,0),\" \")","v":" "},{"$f":"IFERROR(VLOOKUP(MID(FS$27,5,4)&$A54,Lista_Ubigeo!$J:$K,2,0),\" \")","v":" "},{"$f":"IFERROR(VLOOKUP(MID(FT$27,5,4)&$A54,Lista_Ubigeo!$J:$K,2,0),\" \")","v":" "},{"$f":"IFERROR(VLOOKUP(MID(FU$27,5,4)&$A54,Lista_Ubigeo!$J:$K,2,0),\" \")","v":" "},{"$f":"IFERROR(VLOOKUP(MID(FV$27,5,4)&$A54,Lista_Ubigeo!$J:$K,2,0),\" \")","v":" "},{"$f":"IFERROR(VLOOKUP(MID(FW$27,5,4)&$A54,Lista_Ubigeo!$J:$K,2,0),\" \")","v":" "},{"$f":"IFERROR(VLOOKUP(MID(FX$27,5,4)&$A54,Lista_Ubigeo!$J:$K,2,0),\" \")","v":" "},{"$f":"IFERROR(VLOOKUP(MID(FY$27,5,4)&$A54,Lista_Ubigeo!$J:$K,2,0),\" \")","v":" "},{"$f":"IFERROR(VLOOKUP(MID(FZ$27,5,4)&$A54,Lista_Ubigeo!$J:$K,2,0),\" \")","v":" "},{"$f":"IFERROR(VLOOKUP(MID(GA$27,5,4)&$A54,Lista_Ubigeo!$J:$K,2,0),\" \")","v":" "},{"$f":"IFERROR(VLOOKUP(MID(GB$27,5,4)&$A54,Lista_Ubigeo!$J:$K,2,0),\" \")","v":" "},{"$f":"IFERROR(VLOOKUP(MID(GC$27,5,4)&$A54,Lista_Ubigeo!$J:$K,2,0),\" \")","v":" "},{"$f":"IFERROR(VLOOKUP(MID(GD$27,5,4)&$A54,Lista_Ubigeo!$J:$K,2,0),\" \")","v":" "},{"$f":"IFERROR(VLOOKUP(MID(GE$27,5,4)&$A54,Lista_Ubigeo!$J:$K,2,0),\" \")","v":" "},{"$f":"IFERROR(VLOOKUP(MID(GF$27,5,4)&$A54,Lista_Ubigeo!$J:$K,2,0),\" \")","v":" "},{"$f":"IFERROR(VLOOKUP(MID(GG$27,5,4)&$A54,Lista_Ubigeo!$J:$K,2,0),\" \")","v":" "},{"$f":"IFERROR(VLOOKUP(MID(GH$27,5,4)&$A54,Lista_Ubigeo!$J:$K,2,0),\" \")","v":" "},{"$f":"IFERROR(VLOOKUP(MID(GI$27,5,4)&$A54,Lista_Ubigeo!$J:$K,2,0),\" \")","v":" "},{"$f":"IFERROR(VLOOKUP(MID(GJ$27,5,4)&$A54,Lista_Ubigeo!$J:$K,2,0),\" \")","v":" "},{"$f":"IFERROR(VLOOKUP(MID(GK$27,5,4)&$A54,Lista_Ubigeo!$J:$K,2,0),\" \")","v":" "},{"$f":"IFERROR(VLOOKUP(MID(GL$27,5,4)&$A54,Lista_Ubigeo!$J:$K,2,0),\" \")","v":" "},{"$f":"IFERROR(VLOOKUP(MID(GM$27,5,4)&$A54,Lista_Ubigeo!$J:$K,2,0),\" \")","v":" "},{"$f":"IFERROR(VLOOKUP(MID(GN$27,5,4)&$A54,Lista_Ubigeo!$J:$K,2,0),\" \")","v":" "},{"$f":"IFERROR(VLOOKUP(MID(GO$27,5,4)&$A54,Lista_Ubigeo!$J:$K,2,0),\" \")","v":" "},{"$f":"IFERROR(VLOOKUP(MID(GP$27,5,4)&$A54,Lista_Ubigeo!$J:$K,2,0),\" \")","v":" "}]
["28",{"$f":"IFERROR(VLOOKUP(MID(B$27,5,4)&$A55,Lista_Ubigeo!$J:$K,2,0),\" \")","v":" "},{"$f":"IFERROR(VLOOKUP(MID(C$27,5,4)&$A55,Lista_Ubigeo!$J:$K,2,0),\" \")","v":" "},{"$f":"IFERROR(VLOOKUP(MID(D$27,5,4)&$A55,Lista_Ubigeo!$J:$K,2,0),\" \")","v":" "},{"$f":"IFERROR(VLOOKUP(MID(E$27,5,4)&$A55,Lista_Ubigeo!$J:$K,2,0),\" \")","v":" "},{"$f":"IFERROR(VLOOKUP(MID(F$27,5,4)&$A55,Lista_Ubigeo!$J:$K,2,0),\" \")","v":" "},{"$f":"IFERROR(VLOOKUP(MID(G$27,5,4)&$A55,Lista_Ubigeo!$J:$K,2,0),\" \")","v":" "},{"$f":"IFERROR(VLOOKUP(MID(H$27,5,4)&$A55,Lista_Ubigeo!$J:$K,2,0),\" \")","v":" "},{"$f":"IFERROR(VLOOKUP(MID(I$27,5,4)&$A55,Lista_Ubigeo!$J:$K,2,0),\" \")","v":" "},{"$f":"IFERROR(VLOOKUP(MID(J$27,5,4)&$A55,Lista_Ubigeo!$J:$K,2,0),\" \")","v":" "},{"$f":"IFERROR(VLOOKUP(MID(K$27,5,4)&$A55,Lista_Ubigeo!$J:$K,2,0),\" \")","v":" "},{"$f":"IFERROR(VLOOKUP(MID(L$27,5,4)&$A55,Lista_Ubigeo!$J:$K,2,0),\" \")","v":" "},{"$f":"IFERROR(VLOOKUP(MID(M$27,5,4)&$A55,Lista_Ubigeo!$J:$K,2,0),\" \")","v":" "},{"$f":"IFERROR(VLOOKUP(MID(N$27,5,4)&$A55,Lista_Ubigeo!$J:$K,2,0),\" \")","v":" "},{"$f":"IFERROR(VLOOKUP(MID(O$27,5,4)&$A55,Lista_Ubigeo!$J:$K,2,0),\" \")","v":" "},{"$f":"IFERROR(VLOOKUP(MID(P$27,5,4)&$A55,Lista_Ubigeo!$J:$K,2,0),\" \")","v":" "},{"$f":"IFERROR(VLOOKUP(MID(Q$27,5,4)&$A55,Lista_Ubigeo!$J:$K,2,0),\" \")","v":" "},{"$f":"IFERROR(VLOOKUP(MID(R$27,5,4)&$A55,Lista_Ubigeo!$J:$K,2,0),\" \")","v":" "},{"$f":"IFERROR(VLOOKUP(MID(S$27,5,4)&$A55,Lista_Ubigeo!$J:$K,2,0),\" \")","v":" "},{"$f":"IFERROR(VLOOKUP(MID(T$27,5,4)&$A55,Lista_Ubigeo!$J:$K,2,0),\" \")","v":" "},{"$f":"IFERROR(VLOOKUP(MID(U$27,5,4)&$A55,Lista_Ubigeo!$J:$K,2,0),\" \")","v":" "},{"$f":"IFERROR(VLOOKUP(MID(V$27,5,4)&$A55,Lista_Ubigeo!$J:$K,2,0),\" \")","v":" "},{"$f":"IFERROR(VLOOKUP(MID(W$27,5,4)&$A55,Lista_Ubigeo!$J:$K,2,0),\" \")","v":" "},{"$f":"IFERROR(VLOOKUP(MID(X$27,5,4)&$A55,Lista_Ubigeo!$J:$K,2,0),\" \")","v":" "},{"$f":"IFERROR(VLOOKUP(MID(Y$27,5,4)&$A55,Lista_Ubigeo!$J:$K,2,0),\" \")","v":" "},{"$f":"IFERROR(VLOOKUP(MID(Z$27,5,4)&$A55,Lista_Ubigeo!$J:$K,2,0),\" \")","v":" "},{"$f":"IFERROR(VLOOKUP(MID(AA$27,5,4)&$A55,Lista_Ubigeo!$J:$K,2,0),\" \")","v":" "},{"$f":"IFERROR(VLOOKUP(MID(AB$27,5,4)&$A55,Lista_Ubigeo!$J:$K,2,0),\" \")","v":" "},{"$f":"IFERROR(VLOOKUP(MID(AC$27,5,4)&$A55,Lista_Ubigeo!$J:$K,2,0),\" \")","v":" "},{"$f":"IFERROR(VLOOKUP(MID(AD$27,5,4)&$A55,Lista_Ubigeo!$J:$K,2,0),\" \")","v":" "},{"$f":"IFERROR(VLOOKUP(MID(AE$27,5,4)&$A55,Lista_Ubigeo!$J:$K,2,0),\" \")","v":" "},{"$f":"IFERROR(VLOOKUP(MID(AF$27,5,4)&$A55,Lista_Ubigeo!$J:$K,2,0),\" \")","v":" "},{"$f":"IFERROR(VLOOKUP(MID(AG$27,5,4)&$A55,Lista_Ubigeo!$J:$K,2,0),\" \")","v":" "},{"$f":"IFERROR(VLOOKUP(MID(AH$27,5,4)&$A55,Lista_Ubigeo!$J:$K,2,0),\" \")","v":" "},{"$f":"IFERROR(VLOOKUP(MID(AI$27,5,4)&$A55,Lista_Ubigeo!$J:$K,2,0),\" \")","v":" "},{"$f":"IFERROR(VLOOKUP(MID(AJ$27,5,4)&$A55,Lista_Ubigeo!$J:$K,2,0),\" \")","v":"YURA"},{"$f":"IFERROR(VLOOKUP(MID(AK$27,5,4)&$A55,Lista_Ubigeo!$J:$K,2,0),\" \")","v":" "},{"$f":"IFERROR(VLOOKUP(MID(AL$27,5,4)&$A55,Lista_Ubigeo!$J:$K,2,0),\" \")","v":" "},{"$f":"IFERROR(VLOOKUP(MID(AM$27,5,4)&$A55,Lista_Ubigeo!$J:$K,2,0),\" \")","v":" "},{"$f":"IFERROR(VLOOKUP(MID(AN$27,5,4)&$A55,Lista_Ubigeo!$J:$K,2,0),\" \")","v":" "},{"$f":"IFERROR(VLOOKUP(MID(AO$27,5,4)&$A55,Lista_Ubigeo!$J:$K,2,0),\" \")","v":" "},{"$f":"IFERROR(VLOOKUP(MID(AP$27,5,4)&$A55,Lista_Ubigeo!$J:$K,2,0),\" \")","v":" "},{"$f":"IFERROR(VLOOKUP(MID(AQ$27,4,4)&$A55,Lista_Ubigeo!$J:$K,2,0),\" \")","v":" "},{"$f":"IFERROR(VLOOKUP(MID(AR$27,5,4)&$A55,Lista_Ubigeo!$J:$K,2,0),\" \")","v":" "},{"$f":"IFERROR(VLOOKUP(MID(AS$27,5,4)&$A55,Lista_Ubigeo!$J:$K,2,0),\" \")","v":" "},{"$f":"IFERROR(VLOOKUP(MID(AT$27,5,4)&$A55,Lista_Ubigeo!$J:$K,2,0),\" \")","v":" "},{"$f":"IFERROR(VLOOKUP(MID(AU$27,5,4)&$A55,Lista_Ubigeo!$J:$K,2,0),\" \")","v":" "},{"$f":"IFERROR(VLOOKUP(MID(AV$27,5,4)&$A55,Lista_Ubigeo!$J:$K,2,0),\" \")","v":" "},{"$f":"IFERROR(VLOOKUP(MID(AW$27,5,4)&$A55,Lista_Ubigeo!$J:$K,2,0),\" \")","v":" "},{"$f":"IFERROR(VLOOKUP(MID(AX$27,5,4)&$A55,Lista_Ubigeo!$J:$K,2,0),\" \")","v":" "},{"$f":"IFERROR(VLOOKUP(MID(AY$27,5,4)&$A55,Lista_Ubigeo!$J:$K,2,0),\" \")","v":" "},{"$f":"IFERROR(VLOOKUP(MID(AZ$27,5,4)&$A55,Lista_Ubigeo!$J:$K,2,0),\" \")","v":" "},{"$f":"IFERROR(VLOOKUP(MID(BA$27,5,4)&$A55,Lista_Ubigeo!$J:$K,2,0),\" \")","v":" "},{"$f":"IFERROR(VLOOKUP(MID(BB$27,5,4)&$A55,Lista_Ubigeo!$J:$K,2,0),\" \")","v":" "},{"$f":"IFERROR(VLOOKUP(MID(BC$27,5,4)&$A55,Lista_Ubigeo!$J:$K,2,0),\" \")","v":" "},{"$f":"IFERROR(VLOOKUP(MID(BD$27,5,4)&$A55,Lista_Ubigeo!$J:$K,2,0),\" \")","v":" "},{"$f":"IFERROR(VLOOKUP(MID(BE$27,5,4)&$A55,Lista_Ubigeo!$J:$K,2,0),\" \")","v":" "},{"$f":"IFERROR(VLOOKUP(MID(BF$27,5,4)&$A55,Lista_Ubigeo!$J:$K,2,0),\" \")","v":" "},{"$f":"IFERROR(VLOOKUP(MID(BG$27,5,4)&$A55,Lista_Ubigeo!$J:$K,2,0),\" \")","v":" "},{"$f":"IFERROR(VLOOKUP(MID(BH$27,5,4)&$A55,Lista_Ubigeo!$J:$K,2,0),\" \")","v":" "},{"$f":"IFERROR(VLOOKUP(MID(BI$27,5,4)&$A55,Lista_Ubigeo!$J:$K,2,0),\" \")","v":" "},{"$f":"IFERROR(VLOOKUP(MID(BJ$27,5,4)&$A55,Lista_Ubigeo!$J:$K,2,0),\" \")","v":" "},{"$f":"IFERROR(VLOOKUP(MID(BK$27,5,4)&$A55,Lista_Ubigeo!$J:$K,2,0),\" \")","v":" "},{"$f":"IFERROR(VLOOKUP(MID(BL$27,5,4)&$A55,Lista_Ubigeo!$J:$K,2,0),\" \")","v":" "},{"$f":"IFERROR(VLOOKUP(MID(BM$27,5,4)&$A55,Lista_Ubigeo!$J:$K,2,0),\" \")","v":" "},{"$f":"IFERROR(VLOOKUP(MID(BN$27,5,4)&$A55,Lista_Ubigeo!$J:$K,2,0),\" \")","v":" "},{"$f":"IFERROR(VLOOKUP(MID(BO$27,5,4)&$A55,Lista_Ubigeo!$J:$K,2,0),\" \")","v":" "},{"$f":"IFERROR(VLOOKUP(MID(BP$27,5,4)&$A55,Lista_Ubigeo!$J:$K,2,0),\" \")","v":" "},{"$f":"IFERROR(VLOOKUP(MID(BQ$27,5,4)&$A55,Lista_Ubigeo!$J:$K,2,0),\" \")","v":" "},{"$f":"IFERROR(VLOOKUP(MID(BR$27,5,4)&$A55,Lista_Ubigeo!$J:$K,2,0),\" \")","v":" "},{"$f":"IFERROR(VLOOKUP(MID(BS$27,5,4)&$A55,Lista_Ubigeo!$J:$K,2,0),\" \")","v":" "},{"$f":"IFERROR(VLOOKUP(MID(BT$27,5,4)&$A55,Lista_Ubigeo!$J:$K,2,0),\" \")","v":" "},{"$f":"IFERROR(VLOOKUP(MID(BU$27,5,4)&$A55,Lista_Ubigeo!$J:$K,2,0),\" \")","v":" "},{"$f":"IFERROR(VLOOKUP(MID(BV$27,5,4)&$A55,Lista_Ubigeo!$J:$K,2,0),\" \")","v":" "},{"$f":"IFERROR(VLOOKUP(MID(BW$27,5,4)&$A55,Lista_Ubigeo!$J:$K,2,0),\" \")","v":" "},{"$f":"IFERROR(VLOOKUP(MID(BX$27,5,4)&$A55,Lista_Ubigeo!$J:$K,2,0),\" \")","v":" "},{"$f":"IFERROR(VLOOKUP(MID(BY$27,4,4)&$A55,Lista_Ubigeo!$J:$K,2,0),\" \")","v":" "},{"$f":"IFERROR(VLOOKUP(MID(BZ$27,5,4)&$A55,Lista_Ubigeo!$J:$K,2,0),\" \")","v":" "},{"$f":"IFERROR(VLOOKUP(MID(CA$27,5,4)&$A55,Lista_Ubigeo!$J:$K,2,0),\" \")","v":" "},{"$f":"IFERROR(VLOOKUP(MID(CB$27,5,4)&$A55,Lista_Ubigeo!$J:$K,2,0),\" \")","v":" "},{"$f":"IFERROR(VLOOKUP(MID(CC$27,5,4)&$A55,Lista_Ubigeo!$J:$K,2,0),\" \")","v":" "},{"$f":"IFERROR(VLOOKUP(MID(CD$27,5,4)&$A55,Lista_Ubigeo!$J:$K,2,0),\" \")","v":" "},{"$f":"IFERROR(VLOOKUP(MID(CE$27,5,4)&$A55,Lista_Ubigeo!$J:$K,2,0),\" \")","v":" "},{"$f":"IFERROR(VLOOKUP(MID(CF$27,5,4)&$A55,Lista_Ubigeo!$J:$K,2,0),\" \")","v":" "},{"$f":"IFERROR(VLOOKUP(MID(CG$27,5,4)&$A55,Lista_Ubigeo!$J:$K,2,0),\" \")","v":" "},{"$f":"IFERROR(VLOOKUP(MID(CH$27,5,4)&$A55,Lista_Ubigeo!$J:$K,2,0),\" \")","v":" "},{"$f":"IFERROR(VLOOKUP(MID(CI$27,5,4)&$A55,Lista_Ubigeo!$J:$K,2,0),\" \")","v":" "},{"$f":"IFERROR(VLOOKUP(MID(CJ$27,5,4)&$A55,Lista_Ubigeo!$J:$K,2,0),\" \")","v":" "},{"$f":"IFERROR(VLOOKUP(MID(CK$27,5,4)&$A55,Lista_Ubigeo!$J:$K,2,0),\" \")","v":" "},{"$f":"IFERROR(VLOOKUP(MID(CL$27,5,4)&$A55,Lista_Ubigeo!$J:$K,2,0),\" \")","v":" "},{"$f":"IFERROR(VLOOKUP(MID(CM$27,5,4)&$A66,Lista_Ubigeo!$J:$K,2,0),\" \")","v":" "},{"$f":"IFERROR(VLOOKUP(MID(CN$27,5,4)&$A55,Lista_Ubigeo!$J:$K,2,0),\" \")","v":" "},{"$f":"IFERROR(VLOOKUP(MID(CO$27,5,4)&$A55,Lista_Ubigeo!$J:$K,2,0),\" \")","v":" "},{"$f":"IFERROR(VLOOKUP(MID(CP$27,5,4)&$A55,Lista_Ubigeo!$J:$K,2,0),\" \")","v":" "},{"$f":"IFERROR(VLOOKUP(MID(CQ$27,5,4)&$A55,Lista_Ubigeo!$J:$K,2,0),\" \")","v":" "},{"$f":"IFERROR(VLOOKUP(MID(CR$27,5,4)&$A55,Lista_Ubigeo!$J:$K,2,0),\" \")","v":" "},{"$f":"IFERROR(VLOOKUP(MID(CS$27,5,4)&$A55,Lista_Ubigeo!$J:$K,2,0),\" \")","v":" "},{"$f":"IFERROR(VLOOKUP(MID(CT$27,5,4)&$A55,Lista_Ubigeo!$J:$K,2,0),\" \")","v":" "},{"$f":"IFERROR(VLOOKUP(MID(CU$27,5,4)&$A55,Lista_Ubigeo!$J:$K,2,0),\" \")","v":" "},{"$f":"IFERROR(VLOOKUP(MID(CV$27,5,4)&$A55,Lista_Ubigeo!$J:$K,2,0),\" \")","v":" "},{"$f":"IFERROR(VLOOKUP(MID(CW$27,5,4)&$A55,Lista_Ubigeo!$J:$K,2,0),\" \")","v":" "},{"$f":"IFERROR(VLOOKUP(MID(CX$27,5,4)&$A55,Lista_Ubigeo!$J:$K,2,0),\" \")","v":" "},{"$f":"IFERROR(VLOOKUP(MID(CY$27,5,4)&$A55,Lista_Ubigeo!$J:$K,2,0),\" \")","v":" "},{"$f":"IFERROR(VLOOKUP(MID(CZ$27,5,4)&$A55,Lista_Ubigeo!$J:$K,2,0),\" \")","v":" "},"VIQUES",{"$f":"IFERROR(VLOOKUP(MID(DB$27,5,4)&$A55,Lista_Ubigeo!$J:$K,2,0),\" \")","v":" "},{"$f":"IFERROR(VLOOKUP(MID(DC$27,5,4)&$A55,Lista_Ubigeo!$J:$K,2,0),\" \")","v":" "},{"$f":"IFERROR(VLOOKUP(MID(DD$27,5,4)&$A55,Lista_Ubigeo!$J:$K,2,0),\" \")","v":"SAN LORENZO"},{"$f":"IFERROR(VLOOKUP(MID(DE$27,5,4)&$A55,Lista_Ubigeo!$J:$K,2,0),\" \")","v":" "},{"$f":"IFERROR(VLOOKUP(MID(DF$27,5,4)&$A55,Lista_Ubigeo!$J:$K,2,0),\" \")","v":" "},{"$f":"IFERROR(VLOOKUP(MID(DG$27,5,4)&$A55,Lista_Ubigeo!$J:$K,2,0),\" \")","v":" "},{"$f":"IFERROR(VLOOKUP(MID(DH$27,5,4)&$A55,Lista_Ubigeo!$J:$K,2,0),\" \")","v":" "},{"$f":"IFERROR(VLOOKUP(MID(DI$27,5,4)&$A55,Lista_Ubigeo!$J:$K,2,0),\" \")","v":" "},{"$f":"IFERROR(VLOOKUP(MID(DJ$27,5,4)&$A55,Lista_Ubigeo!$J:$K,2,0),\" \")","v":" "},{"$f":"IFERROR(VLOOKUP(MID(DK$27,5,4)&$A55,Lista_Ubigeo!$J:$K,2,0),\" \")","v":" "},{"$f":"IFERROR(VLOOKUP(MID(DL$27,5,4)&$A55,Lista_Ubigeo!$J:$K,2,0),\" \")","v":" "},{"$f":"IFERROR(VLOOKUP(MID(DM$27,5,4)&$A55,Lista_Ubigeo!$J:$K,2,0),\" \")","v":" "},{"$f":"IFERROR(VLOOKUP(MID(DN$27,5,4)&$A55,Lista_Ubigeo!$J:$K,2,0),\" \")","v":" "},{"$f":"IFERROR(VLOOKUP(MID(DO$27,5,4)&$A56,Lista_Ubigeo!$J:$K,2,0),\" \")","v":" "},{"$f":"IFERROR(VLOOKUP(MID(DP$27,5,4)&$A55,Lista_Ubigeo!$J:$K,2,0),\" \")","v":" "},{"$f":"IFERROR(VLOOKUP(MID(DQ$27,5,4)&$A55,Lista_Ubigeo!$J:$K,2,0),\" \")","v":" "},{"$f":"IFERROR(VLOOKUP(MID(DR$27,5,4)&$A55,Lista_Ubigeo!$J:$K,2,0),\" \")","v":" "},{"$f":"IFERROR(VLOOKUP(MID(DS$27,5,4)&$A55,Lista_Ubigeo!$J:$K,2,0),\" \")","v":" "},null,null,{"$f":"IFERROR(VLOOKUP(MID(DV$27,5,4)&$A55,Lista_Ubigeo!$J:$K,2,0),\" \")","v":" "},{"$f":"IFERROR(VLOOKUP(MID(DW$27,5,4)&$A55,Lista_Ubigeo!$J:$K,2,0),\" \")","v":" "},{"$f":"IFERROR(VLOOKUP(MID(DX$27,5,4)&$A55,Lista_Ubigeo!$J:$K,2,0),\" \")","v":" "},{"$f":"IFERROR(VLOOKUP(MID(DY$27,5,4)&$A55,Lista_Ubigeo!$J:$K,2,0),\" \")","v":"RIMAC"},{"$f":"IFERROR(VLOOKUP(MID(DZ$27,5,4)&$A55,Lista_Ubigeo!$J:$K,2,0),\" \")","v":" "},{"$f":"IFERROR(VLOOKUP(MID(EA$27,5,4)&$A55,Lista_Ubigeo!$J:$K,2,0),\" \")","v":" "},{"$f":"IFERROR(VLOOKUP(MID(EB$27,5,4)&$A55,Lista_Ubigeo!$J:$K,2,0),\" \")","v":" "},{"$f":"IFERROR(VLOOKUP(MID(EC$27,5,4)&$A55,Lista_Ubigeo!$J:$K,2,0),\" \")","v":" "},{"$f":"IFERROR(VLOOKUP(MID(ED$27,5,4)&$A55,Lista_Ubigeo!$J:$K,2,0),\" \")","v":" "},{"$f":"IFERROR(VLOOKUP(MID(EE$27,5,4)&$A55,Lista_Ubigeo!$J:$K,2,0),\" \")","v":"SANTA EULALIA"},{"$f":"IFERROR(VLOOKUP(MID(EF$27,5,4)&$A55,Lista_Ubigeo!$J:$K,2,0),\" \")","v":" "},{"$f":"IFERROR(VLOOKUP(MID(EG$27,5,4)&$A55,Lista_Ubigeo!$J:$K,2,0),\" \")","v":" "},{"$f":"IFERROR(VLOOKUP(MID(EH$27,5,4)&$A55,Lista_Ubigeo!$J:$K,2,0),\" \")","v":"TANTA"},{"$f":"IFERROR(VLOOKUP(MID(EI$27,5,4)&$A55,Lista_Ubigeo!$J:$K,2,0),\" \")","v":" "},{"$f":"IFERROR(VLOOKUP(MID(EJ$27,5,4)&$A60,Lista_Ubigeo!$J:$K,2,0),\" \")","v":" "},{"$f":"IFERROR(VLOOKUP(MID(EK$27,5,4)&$A55,Lista_Ubigeo!$J:$K,2,0),\" \")","v":" "},{"$f":"IFERROR(VLOOKUP(MID(EL$27,5,4)&$A55,Lista_Ubigeo!$J:$K,2,0),\" \")","v":" "},{"$f":"IFERROR(VLOOKUP(MID(EM$27,5,4)&$A55,Lista_Ubigeo!$J:$K,2,0),\" \")","v":" "},{"$f":"IFERROR(VLOOKUP(MID(EN$27,5,4)&$A55,Lista_Ubigeo!$J:$K,2,0),\" \")","v":" "},{"$f":"IFERROR(VLOOKUP(MID(EO$27,5,4)&$A55,Lista_Ubigeo!$J:$K,2,0),\" \")","v":" "},{"$f":"IFERROR(VLOOKUP(MID(EP$27,5,4)&$A55,Lista_Ubigeo!$J:$K,2,0),\" \")","v":" "},{"$f":"IFERROR(VLOOKUP(MID(EQ$27,5,4)&$A55,Lista_Ubigeo!$J:$K,2,0),\" \")","v":" "},{"$f":"IFERROR(VLOOKUP(MID(ER$27,5,4)&$A55,Lista_Ubigeo!$J:$K,2,0),\" \")","v":" "},{"$f":"IFERROR(VLOOKUP(MID(ES$27,5,4)&$A55,Lista_Ubigeo!$J:$K,2,0),\" \")","v":" "},{"$f":"IFERROR(VLOOKUP(MID(ET$27,5,4)&$A55,Lista_Ubigeo!$J:$K,2,0),\" \")","v":" "},{"$f":"IFERROR(VLOOKUP(MID(EU$27,5,4)&$A55,Lista_Ubigeo!$J:$K,2,0),\" \")","v":" "},{"$f":"IFERROR(VLOOKUP(MID(EV$27,5,4)&$A55,Lista_Ubigeo!$J:$K,2,0),\" \")","v":" "},{"$f":"IFERROR(VLOOKUP(MID(EW$27,5,4)&$A55,Lista_Ubigeo!$J:$K,2,0),\" \")","v":" "},{"$f":"IFERROR(VLOOKUP(MID(EX$27,5,4)&$A55,Lista_Ubigeo!$J:$K,2,0),\" \")","v":" "},{"$f":"IFERROR(VLOOKUP(MID(EY$27,5,4)&$A55,Lista_Ubigeo!$J:$K,2,0),\" \")","v":" "},{"$f":"IFERROR(VLOOKUP(MID(EZ$27,5,4)&$A58,Lista_Ubigeo!$J:$K,2,0),\" \")","v":" "},{"$f":"IFERROR(VLOOKUP(MID(FA$27,5,4)&$A55,Lista_Ubigeo!$J:$K,2,0),\" \")","v":" "},{"$f":"IFERROR(VLOOKUP(MID(FB$27,5,4)&$A55,Lista_Ubigeo!$J:$K,2,0),\" \")","v":" "},{"$f":"IFERROR(VLOOKUP(MID(FC$27,5,4)&$A55,Lista_Ubigeo!$J:$K,2,0),\" \")","v":" "},{"$f":"IFERROR(VLOOKUP(MID(FD$27,5,4)&$A55,Lista_Ubigeo!$J:$K,2,0),\" \")","v":" "},{"$f":"IFERROR(VLOOKUP(MID(FE$27,5,4)&$A55,Lista_Ubigeo!$J:$K,2,0),\" \")","v":" "},{"$f":"IFERROR(VLOOKUP(MID(FF$27,5,4)&$A55,Lista_Ubigeo!$J:$K,2,0),\" \")","v":" "},{"$f":"IFERROR(VLOOKUP(MID(FG$27,5,4)&$A55,Lista_Ubigeo!$J:$K,2,0),\" \")","v":" "},{"$f":"IFERROR(VLOOKUP(MID(FH$27,5,4)&$A55,Lista_Ubigeo!$J:$K,2,0),\" \")","v":" "},{"$f":"IFERROR(VLOOKUP(MID(FI$27,5,4)&$A55,Lista_Ubigeo!$J:$K,2,0),\" \")","v":" "},{"$f":"IFERROR(VLOOKUP(MID(FJ$27,5,4)&$A55,Lista_Ubigeo!$J:$K,2,0),\" \")","v":" "},{"$f":"IFERROR(VLOOKUP(MID(FK$27,5,4)&$A55,Lista_Ubigeo!$J:$K,2,0),\" \")","v":" "},{"$f":"IFERROR(VLOOKUP(MID(FL$27,5,4)&$A55,Lista_Ubigeo!$J:$K,2,0),\" \")","v":" "},{"$f":"IFERROR(VLOOKUP(MID(FM$27,5,4)&$A55,Lista_Ubigeo!$J:$K,2,0),\" \")","v":" "},{"$f":"IFERROR(VLOOKUP(MID(FN$27,5,4)&$A55,Lista_Ubigeo!$J:$K,2,0),\" \")","v":" "},{"$f":"IFERROR(VLOOKUP(MID(FO$27,5,4)&$A55,Lista_Ubigeo!$J:$K,2,0),\" \")","v":" "},{"$f":"IFERROR(VLOOKUP(MID(FP$27,5,4)&$A55,Lista_Ubigeo!$J:$K,2,0),\" \")","v":" "},{"$f":"IFERROR(VLOOKUP(MID(FQ$27,5,4)&$A55,Lista_Ubigeo!$J:$K,2,0),\" \")","v":" "},{"$f":"IFERROR(VLOOKUP(MID(FR$27,5,4)&$A55,Lista_Ubigeo!$J:$K,2,0),\" \")","v":" "},{"$f":"IFERROR(VLOOKUP(MID(FS$27,5,4)&$A55,Lista_Ubigeo!$J:$K,2,0),\" \")","v":" "},{"$f":"IFERROR(VLOOKUP(MID(FT$27,5,4)&$A55,Lista_Ubigeo!$J:$K,2,0),\" \")","v":" "},{"$f":"IFERROR(VLOOKUP(MID(FU$27,5,4)&$A55,Lista_Ubigeo!$J:$K,2,0),\" \")","v":" "},{"$f":"IFERROR(VLOOKUP(MID(FV$27,5,4)&$A55,Lista_Ubigeo!$J:$K,2,0),\" \")","v":" "},{"$f":"IFERROR(VLOOKUP(MID(FW$27,5,4)&$A55,Lista_Ubigeo!$J:$K,2,0),\" \")","v":" "},{"$f":"IFERROR(VLOOKUP(MID(FX$27,5,4)&$A55,Lista_Ubigeo!$J:$K,2,0),\" \")","v":" "},{"$f":"IFERROR(VLOOKUP(MID(FY$27,5,4)&$A55,Lista_Ubigeo!$J:$K,2,0),\" \")","v":" "},{"$f":"IFERROR(VLOOKUP(MID(FZ$27,5,4)&$A55,Lista_Ubigeo!$J:$K,2,0),\" \")","v":" "},{"$f":"IFERROR(VLOOKUP(MID(GA$27,5,4)&$A55,Lista_Ubigeo!$J:$K,2,0),\" \")","v":" "},{"$f":"IFERROR(VLOOKUP(MID(GB$27,5,4)&$A55,Lista_Ubigeo!$J:$K,2,0),\" \")","v":" "},{"$f":"IFERROR(VLOOKUP(MID(GC$27,5,4)&$A55,Lista_Ubigeo!$J:$K,2,0),\" \")","v":" "},{"$f":"IFERROR(VLOOKUP(MID(GD$27,5,4)&$A55,Lista_Ubigeo!$J:$K,2,0),\" \")","v":" "},{"$f":"IFERROR(VLOOKUP(MID(GE$27,5,4)&$A55,Lista_Ubigeo!$J:$K,2,0),\" \")","v":" "},{"$f":"IFERROR(VLOOKUP(MID(GF$27,5,4)&$A55,Lista_Ubigeo!$J:$K,2,0),\" \")","v":" "},{"$f":"IFERROR(VLOOKUP(MID(GG$27,5,4)&$A55,Lista_Ubigeo!$J:$K,2,0),\" \")","v":" "},{"$f":"IFERROR(VLOOKUP(MID(GH$27,5,4)&$A55,Lista_Ubigeo!$J:$K,2,0),\" \")","v":" "},{"$f":"IFERROR(VLOOKUP(MID(GI$27,5,4)&$A55,Lista_Ubigeo!$J:$K,2,0),\" \")","v":" "},{"$f":"IFERROR(VLOOKUP(MID(GJ$27,5,4)&$A55,Lista_Ubigeo!$J:$K,2,0),\" \")","v":" "},{"$f":"IFERROR(VLOOKUP(MID(GK$27,5,4)&$A55,Lista_Ubigeo!$J:$K,2,0),\" \")","v":" "},{"$f":"IFERROR(VLOOKUP(MID(GL$27,5,4)&$A55,Lista_Ubigeo!$J:$K,2,0),\" \")","v":" "},{"$f":"IFERROR(VLOOKUP(MID(GM$27,5,4)&$A55,Lista_Ubigeo!$J:$K,2,0),\" \")","v":" "},{"$f":"IFERROR(VLOOKUP(MID(GN$27,5,4)&$A55,Lista_Ubigeo!$J:$K,2,0),\" \")","v":" "},{"$f":"IFERROR(VLOOKUP(MID(GO$27,5,4)&$A55,Lista_Ubigeo!$J:$K,2,0),\" \")","v":" "},{"$f":"IFERROR(VLOOKUP(MID(GP$27,5,4)&$A55,Lista_Ubigeo!$J:$K,2,0),\" \")","v":" "}]
["29",{"$f":"IFERROR(VLOOKUP(MID(B$27,5,4)&$A56,Lista_Ubigeo!$J:$K,2,0),\" \")","v":" "},{"$f":"IFERROR(VLOOKUP(MID(C$27,5,4)&$A56,Lista_Ubigeo!$J:$K,2,0),\" \")","v":" "},{"$f":"IFERROR(VLOOKUP(MID(D$27,5,4)&$A56,Lista_Ubigeo!$J:$K,2,0),\" \")","v":" "},{"$f":"IFERROR(VLOOKUP(MID(E$27,5,4)&$A56,Lista_Ubigeo!$J:$K,2,0),\" \")","v":" "},{"$f":"IFERROR(VLOOKUP(MID(F$27,5,4)&$A56,Lista_Ubigeo!$J:$K,2,0),\" \")","v":" "},{"$f":"IFERROR(VLOOKUP(MID(G$27,5,4)&$A56,Lista_Ubigeo!$J:$K,2,0),\" \")","v":" "},{"$f":"IFERROR(VLOOKUP(MID(H$27,5,4)&$A56,Lista_Ubigeo!$J:$K,2,0),\" \")","v":" "},{"$f":"IFERROR(VLOOKUP(MID(I$27,5,4)&$A56,Lista_Ubigeo!$J:$K,2,0),\" \")","v":" "},{"$f":"IFERROR(VLOOKUP(MID(J$27,5,4)&$A56,Lista_Ubigeo!$J:$K,2,0),\" \")","v":" "},{"$f":"IFERROR(VLOOKUP(MID(K$27,5,4)&$A56,Lista_Ubigeo!$J:$K,2,0),\" \")","v":" "},{"$f":"IFERROR(VLOOKUP(MID(L$27,5,4)&$A56,Lista_Ubigeo!$J:$K,2,0),\" \")","v":" "},{"$f":"IFERROR(VLOOKUP(MID(M$27,5,4)&$A56,Lista_Ubigeo!$J:$K,2,0),\" \")","v":" "},{"$f":"IFERROR(VLOOKUP(MID(N$27,5,4)&$A56,Lista_Ubigeo!$J:$K,2,0),\" \")","v":" "},{"$f":"IFERROR(VLOOKUP(MID(O$27,5,4)&$A56,Lista_Ubigeo!$J:$K,2,0),\" \")","v":" "},{"$f":"IFERROR(VLOOKUP(MID(P$27,5,4)&$A56,Lista_Ubigeo!$J:$K,2,0),\" \")","v":" "},{"$f":"IFERROR(VLOOKUP(MID(Q$27,5,4)&$A56,Lista_Ubigeo!$J:$K,2,0),\" \")","v":" "},{"$f":"IFERROR(VLOOKUP(MID(R$27,5,4)&$A56,Lista_Ubigeo!$J:$K,2,0),\" \")","v":" "},{"$f":"IFERROR(VLOOKUP(MID(S$27,5,4)&$A56,Lista_Ubigeo!$J:$K,2,0),\" \")","v":" "},{"$f":"IFERROR(VLOOKUP(MID(T$27,5,4)&$A56,Lista_Ubigeo!$J:$K,2,0),\" \")","v":" "},{"$f":"IFERROR(VLOOKUP(MID(U$27,5,4)&$A56,Lista_Ubigeo!$J:$K,2,0),\" \")","v":" "},{"$f":"IFERROR(VLOOKUP(MID(V$27,5,4)&$A56,Lista_Ubigeo!$J:$K,2,0),\" \")","v":" "},{"$f":"IFERROR(VLOOKUP(MID(W$27,5,4)&$A56,Lista_Ubigeo!$J:$K,2,0),\" \")","v":" "},{"$f":"IFERROR(VLOOKUP(MID(X$27,5,4)&$A56,Lista_Ubigeo!$J:$K,2,0),\" \")","v":" "},{"$f":"IFERROR(VLOOKUP(MID(Y$27,5,4)&$A56,Lista_Ubigeo!$J:$K,2,0),\" \")","v":" "},{"$f":"IFERROR(VLOOKUP(MID(Z$27,5,4)&$A56,Lista_Ubigeo!$J:$K,2,0),\" \")","v":" "},{"$f":"IFERROR(VLOOKUP(MID(AA$27,5,4)&$A56,Lista_Ubigeo!$J:$K,2,0),\" \")","v":" "},{"$f":"IFERROR(VLOOKUP(MID(AB$27,5,4)&$A56,Lista_Ubigeo!$J:$K,2,0),\" \")","v":" "},{"$f":"IFERROR(VLOOKUP(MID(AC$27,5,4)&$A56,Lista_Ubigeo!$J:$K,2,0),\" \")","v":" "},{"$f":"IFERROR(VLOOKUP(MID(AD$27,5,4)&$A56,Lista_Ubigeo!$J:$K,2,0),\" \")","v":" "},{"$f":"IFERROR(VLOOKUP(MID(AE$27,5,4)&$A56,Lista_Ubigeo!$J:$K,2,0),\" \")","v":" "},{"$f":"IFERROR(VLOOKUP(MID(AF$27,5,4)&$A56,Lista_Ubigeo!$J:$K,2,0),\" \")","v":" "},{"$f":"IFERROR(VLOOKUP(MID(AG$27,5,4)&$A56,Lista_Ubigeo!$J:$K,2,0),\" \")","v":" "},{"$f":"IFERROR(VLOOKUP(MID(AH$27,5,4)&$A56,Lista_Ubigeo!$J:$K,2,0),\" \")","v":" "},{"$f":"IFERROR(VLOOKUP(MID(AI$27,5,4)&$A56,Lista_Ubigeo!$J:$K,2,0),\" \")","v":" "},{"$f":"IFERROR(VLOOKUP(MID(AJ$27,5,4)&$A56,Lista_Ubigeo!$J:$K,2,0),\" \")","v":"JOSE LUIS BUSTAMANTE Y RIVERO"},{"$f":"IFERROR(VLOOKUP(MID(AK$27,5,4)&$A56,Lista_Ubigeo!$J:$K,2,0),\" \")","v":" "},{"$f":"IFERROR(VLOOKUP(MID(AL$27,5,4)&$A56,Lista_Ubigeo!$J:$K,2,0),\" \")","v":" "},{"$f":"IFERROR(VLOOKUP(MID(AM$27,5,4)&$A56,Lista_Ubigeo!$J:$K,2,0),\" \")","v":" "},{"$f":"IFERROR(VLOOKUP(MID(AN$27,5,4)&$A56,Lista_Ubigeo!$J:$K,2,0),\" \")","v":" "},{"$f":"IFERROR(VLOOKUP(MID(AO$27,5,4)&$A56,Lista_Ubigeo!$J:$K,2,0),\" \")","v":" "},{"$f":"IFERROR(VLOOKUP(MID(AP$27,5,4)&$A56,Lista_Ubigeo!$J:$K,2,0),\" \")","v":" "},{"$f":"IFERROR(VLOOKUP(MID(AQ$27,4,4)&$A56,Lista_Ubigeo!$J:$K,2,0),\" \")","v":" "},{"$f":"IFERROR(VLOOKUP(MID(AR$27,5,4)&$A56,Lista_Ubigeo!$J:$K,2,0),\" \")","v":" "},{"$f":"IFERROR(VLOOKUP(MID(AS$27,5,4)&$A56,Lista_Ubigeo!$J:$K,2,0),\" \")","v":" "},{"$f":"IFERROR(VLOOKUP(MID(AT$27,5,4)&$A56,Lista_Ubigeo!$J:$K,2,0),\" \")","v":" "},{"$f":"IFERROR(VLOOKUP(MID(AU$27,5,4)&$A56,Lista_Ubigeo!$J:$K,2,0),\" \")","v":" "},{"$f":"IFERROR(VLOOKUP(MID(AV$27,5,4)&$A56,Lista_Ubigeo!$J:$K,2,0),\" \")","v":" "},{"$f":"IFERROR(VLOOKUP(MID(AW$27,5,4)&$A56,Lista_Ubigeo!$J:$K,2,0),\" \")","v":" "},{"$f":"IFERROR(VLOOKUP(MID(AX$27,5,4)&$A56,Lista_Ubigeo!$J:$K,2,0),\" \")","v":" "},{"$f":"IFERROR(VLOOKUP(MID(AY$27,5,4)&$A56,Lista_Ubigeo!$J:$K,2,0),\" \")","v":" "},{"$f":"IFERROR(VLOOKUP(MID(AZ$27,5,4)&$A56,Lista_Ubigeo!$J:$K,2,0),\" \")","v":" "},{"$f":"IFERROR(VLOOKUP(MID(BA$27,5,4)&$A56,Lista_Ubigeo!$J:$K,2,0),\" \")","v":" "},{"$f":"IFERROR(VLOOKUP(MID(BB$27,5,4)&$A56,Lista_Ubigeo!$J:$K,2,0),\" \")","v":" "},{"$f":"IFERROR(VLOOKUP(MID(BC$27,5,4)&$A56,Lista_Ubigeo!$J:$K,2,0),\" \")","v":" "},{"$f":"IFERROR(VLOOKUP(MID(BD$27,5,4)&$A56,Lista_Ubigeo!$J:$K,2,0),\" \")","v":" "},{"$f":"IFERROR(VLOOKUP(MID(BE$27,5,4)&$A56,Lista_Ubigeo!$J:$K,2,0),\" \")","v":" "},{"$f":"IFERROR(VLOOKUP(MID(BF$27,5,4)&$A56,Lista_Ubigeo!$J:$K,2,0),\" \")","v":" "},{"$f":"IFERROR(VLOOKUP(MID(BG$27,5,4)&$A56,Lista_Ubigeo!$J:$K,2,0),\" \")","v":" "},{"$f":"IFERROR(VLOOKUP(MID(BH$27,5,4)&$A56,Lista_Ubigeo!$J:$K,2,0),\" \")","v":" "},{"$f":"IFERROR(VLOOKUP(MID(BI$27,5,4)&$A56,Lista_Ubigeo!$J:$K,2,0),\" \")","v":" "},{"$f":"IFERROR(VLOOKUP(MID(BJ$27,5,4)&$A56,Lista_Ubigeo!$J:$K,2,0),\" \")","v":" "},{"$f":"IFERROR(VLOOKUP(MID(BK$27,5,4)&$A56,Lista_Ubigeo!$J:$K,2,0),\" \")","v":" "},{"$f":"IFERROR(VLOOKUP(MID(BL$27,5,4)&$A56,Lista_Ubigeo!$J:$K,2,0),\" \")","v":" "},{"$f":"IFERROR(VLOOKUP(MID(BM$27,5,4)&$A56,Lista_Ubigeo!$J:$K,2,0),\" \")","v":" "},{"$f":"IFERROR(VLOOKUP(MID(BN$27,5,4)&$A56,Lista_Ubigeo!$J:$K,2,0),\" \")","v":" "},{"$f":"IFERROR(VLOOKUP(MID(BO$27,5,4)&$A56,Lista_Ubigeo!$J:$K,2,0),\" \")","v":" "},{"$f":"IFERROR(VLOOKUP(MID(BP$27,5,4)&$A56,Lista_Ubigeo!$J:$K,2,0),\" \")","v":" "},{"$f":"IFERROR(VLOOKUP(MID(BQ$27,5,4)&$A56,Lista_Ubigeo!$J:$K,2,0),\" \")","v":" "},{"$f":"IFERROR(VLOOKUP(MID(BR$27,5,4)&$A56,Lista_Ubigeo!$J:$K,2,0),\" \")","v":" "},{"$f":"IFERROR(VLOOKUP(MID(BS$27,5,4)&$A56,Lista_Ubigeo!$J:$K,2,0),\" \")","v":" "},{"$f":"IFERROR(VLOOKUP(MID(BT$27,5,4)&$A56,Lista_Ubigeo!$J:$K,2,0),\" \")","v":" "},{"$f":"IFERROR(VLOOKUP(MID(BU$27,5,4)&$A56,Lista_Ubigeo!$J:$K,2,0),\" \")","v":" "},{"$f":"IFERROR(VLOOKUP(MID(BV$27,5,4)&$A56,Lista_Ubigeo!$J:$K,2,0),\" \")","v":" "},{"$f":"IFERROR(VLOOKUP(MID(BW$27,5,4)&$A56,Lista_Ubigeo!$J:$K,2,0),\" \")","v":" "},{"$f":"IFERROR(VLOOKUP(MID(BX$27,5,4)&$A56,Lista_Ubigeo!$J:$K,2,0),\" \")","v":" "},{"$f":"IFERROR(VLOOKUP(MID(BY$27,4,4)&$A56,Lista_Ubigeo!$J:$K,2,0),\" \")","v":" "},{"$f":"IFERROR(VLOOKUP(MID(BZ$27,5,4)&$A56,Lista_Ubigeo!$J:$K,2,0),\" \")","v":" "},{"$f":"IFERROR(VLOOKUP(MID(CA$27,5,4)&$A56,Lista_Ubigeo!$J:$K,2,0),\" \")","v":" "},{"$f":"IFERROR(VLOOKUP(MID(CB$27,5,4)&$A56,Lista_Ubigeo!$J:$K,2,0),\" \")","v":" "},{"$f":"IFERROR(VLOOKUP(MID(CC$27,5,4)&$A56,Lista_Ubigeo!$J:$K,2,0),\" \")","v":" "},{"$f":"IFERROR(VLOOKUP(MID(CD$27,5,4)&$A56,Lista_Ubigeo!$J:$K,2,0),\" \")","v":" "},{"$f":"IFERROR(VLOOKUP(MID(CE$27,5,4)&$A56,Lista_Ubigeo!$J:$K,2,0),\" \")","v":" "},{"$f":"IFERROR(VLOOKUP(MID(CF$27,5,4)&$A56,Lista_Ubigeo!$J:$K,2,0),\" \")","v":" "},{"$f":"IFERROR(VLOOKUP(MID(CG$27,5,4)&$A56,Lista_Ubigeo!$J:$K,2,0),\" \")","v":" "},{"$f":"IFERROR(VLOOKUP(MID(CH$27,5,4)&$A56,Lista_Ubigeo!$J:$K,2,0),\" \")","v":" "},{"$f":"IFERROR(VLOOKUP(MID(CI$27,5,4)&$A56,Lista_Ubigeo!$J:$K,2,0),\" \")","v":" "},{"$f":"IFERROR(VLOOKUP(MID(CJ$27,5,4)&$A56,Lista_Ubigeo!$J:$K,2,0),\" \")","v":" "},{"$f":"IFERROR(VLOOKUP(MID(CK$27,5,4)&$A56,Lista_Ubigeo!$J:$K,2,0),\" \")","v":" "},{"$f":"IFERROR(VLOOKUP(MID(CL$27,5,4)&$A56,Lista_Ubigeo!$J:$K,2,0),\" \")","v":" "},{"$f":"IFERROR(VLOOKUP(MID(CM$27,5,4)&$A67,Lista_Ubigeo!$J:$K,2,0),\" \")","v":" "},{"$f":"IFERROR(VLOOKUP(MID(CN$27,5,4)&$A56,Lista_Ubigeo!$J:$K,2,0),\" \")","v":" "},{"$f":"IFERROR(VLOOKUP(MID(CO$27,5,4)&$A56,Lista_Ubigeo!$J:$K,2,0),\" \")","v":" "},{"$f":"IFERROR(VLOOKUP(MID(CP$27,5,4)&$A56,Lista_Ubigeo!$J:$K,2,0),\" \")","v":" "},{"$f":"IFERROR(VLOOKUP(MID(CQ$27,5,4)&$A56,Lista_Ubigeo!$J:$K,2,0),\" \")","v":" "},{"$f":"IFERROR(VLOOKUP(MID(CR$27,5,4)&$A56,Lista_Ubigeo!$J:$K,2,0),\" \")","v":" "},{"$f":"IFERROR(VLOOKUP(MID(CS$27,5,4)&$A56,Lista_Ubigeo!$J:$K,2,0),\" \")","v":" "},{"$f":"IFERROR(VLOOKUP(MID(CT$27,5,4)&$A56,Lista_Ubigeo!$J:$K,2,0),\" \")","v":" "},{"$f":"IFERROR(VLOOKUP(MID(CU$27,5,4)&$A56,Lista_Ubigeo!$J:$K,2,0),\" \")","v":" "},{"$f":"IFERROR(VLOOKUP(MID(CV$27,5,4)&$A56,Lista_Ubigeo!$J:$K,2,0),\" \")","v":" "},{"$f":"IFERROR(VLOOKUP(MID(CW$27,5,4)&$A56,Lista_Ubigeo!$J:$K,2,0),\" \")","v":" "},{"$f":"IFERROR(VLOOKUP(MID(CX$27,5,4)&$A56,Lista_Ubigeo!$J:$K,2,0),\" \")","v":" "},{"$f":"IFERROR(VLOOKUP(MID(CY$27,5,4)&$A56,Lista_Ubigeo!$J:$K,2,0),\" \")","v":" "},{"$f":"IFERROR(VLOOKUP(MID(CZ$27,5,4)&$A56,Lista_Ubigeo!$J:$K,2,0),\" \")","v":" "},null,{"$f":"IFERROR(VLOOKUP(MID(DB$27,5,4)&$A56,Lista_Ubigeo!$J:$K,2,0),\" \")","v":" "},{"$f":"IFERROR(VLOOKUP(MID(DC$27,5,4)&$A56,Lista_Ubigeo!$J:$K,2,0),\" \")","v":" "},{"$f":"IFERROR(VLOOKUP(MID(DD$27,5,4)&$A56,Lista_Ubigeo!$J:$K,2,0),\" \")","v":"SAN PEDRO DE CHUNAN"},{"$f":"IFERROR(VLOOKUP(MID(DE$27,5,4)&$A56,Lista_Ubigeo!$J:$K,2,0),\" \")","v":" "},{"$f":"IFERROR(VLOOKUP(MID(DF$27,5,4)&$A56,Lista_Ubigeo!$J:$K,2,0),\" \")","v":" "},{"$f":"IFERROR(VLOOKUP(MID(DG$27,5,4)&$A56,Lista_Ubigeo!$J:$K,2,0),\" \")","v":" "},{"$f":"IFERROR(VLOOKUP(MID(DH$27,5,4)&$A56,Lista_Ubigeo!$J:$K,2,0),\" \")","v":" "},{"$f":"IFERROR(VLOOKUP(MID(DI$27,5,4)&$A56,Lista_Ubigeo!$J:$K,2,0),\" \")","v":" "},{"$f":"IFERROR(VLOOKUP(MID(DJ$27,5,4)&$A56,Lista_Ubigeo!$J:$K,2,0),\" \")","v":" "},{"$f":"IFERROR(VLOOKUP(MID(DK$27,5,4)&$A56,Lista_Ubigeo!$J:$K,2,0),\" \")","v":" "},{"$f":"IFERROR(VLOOKUP(MID(DL$27,5,4)&$A56,Lista_Ubigeo!$J:$K,2,0),\" \")","v":" "},{"$f":"IFERROR(VLOOKUP(MID(DM$27,5,4)&$A56,Lista_Ubigeo!$J:$K,2,0),\" \")","v":" "},{"$f":"IFERROR(VLOOKUP(MID(DN$27,5,4)&$A56,Lista_Ubigeo!$J:$K,2,0),\" \")","v":" "},{"$f":"IFERROR(VLOOKUP(MID(DO$27,5,4)&$A57,Lista_Ubigeo!$J:$K,2,0),\" \")","v":" "},{"$f":"IFERROR(VLOOKUP(MID(DP$27,5,4)&$A56,Lista_Ubigeo!$J:$K,2,0),\" \")","v":" "},{"$f":"IFERROR(VLOOKUP(MID(DQ$27,5,4)&$A56,Lista_Ubigeo!$J:$K,2,0),\" \")","v":" "},{"$f":"IFERROR(VLOOKUP(MID(DR$27,5,4)&$A56,Lista_Ubigeo!$J:$K,2,0),\" \")","v":" "},{"$f":"IFERROR(VLOOKUP(MID(DS$27,5,4)&$A56,Lista_Ubigeo!$J:$K,2,0),\" \")","v":" "},null,null,{"$f":"IFERROR(VLOOKUP(MID(DV$27,5,4)&$A56,Lista_Ubigeo!$J:$K,2,0),\" \")","v":" "},{"$f":"IFERROR(VLOOKUP(MID(DW$27,5,4)&$A56,Lista_Ubigeo!$J:$K,2,0),\" \")","v":" "},{"$f":"IFERROR(VLOOKUP(MID(DX$27,5,4)&$A56,Lista_Ubigeo!$J:$K,2,0),\" \")","v":" "},{"$f":"IFERROR(VLOOKUP(MID(DY$27,5,4)&$A56,Lista_Ubigeo!$J:$K,2,0),\" \")","v":"SAN BARTOLO"},{"$f":"IFERROR(VLOOKUP(MID(DZ$27,5,4)&$A56,Lista_Ubigeo!$J:$K,2,0),\" \")","v":" "},{"$f":"IFERROR(VLOOKUP(MID(EA$27,5,4)&$A56,Lista_Ubigeo!$J:$K,2,0),\" \")","v":" "},{"$f":"IFERROR(VLOOKUP(MID(EB$27,5,4)&$A56,Lista_Ubigeo!$J:$K,2,0),\" \")","v":" "},{"$f":"IFERROR(VLOOKUP(MID(EC$27,5,4)&$A56,Lista_Ubigeo!$J:$K,2,0),\" \")","v":" "},{"$f":"IFERROR(VLOOKUP(MID(ED$27,5,4)&$A56,Lista_Ubigeo!$J:$K,2,0),\" \")","v":" "},{"$f":"IFERROR(VLOOKUP(MID(EE$27,5,4)&$A56,Lista_Ubigeo!$J:$K,2,0),\" \")","v":"SANTIAGO DE ANCHUCAYA"},{"$f":"IFERROR(VLOOKUP(MID(EF$27,5,4)&$A56,Lista_Ubigeo!$J:$K,2,0),\" \")","v":" "},{"$f":"IFERROR(VLOOKUP(MID(EG$27,5,4)&$A56,Lista_Ubigeo!$J:$K,2,0),\" \")","v":" "},{"$f":"IFERROR(VLOOKUP(MID(EH$27,5,4)&$A56,Lista_Ubigeo!$J:$K,2,0),\" \")","v":"TAURIPAMPA"},{"$f":"IFERROR(VLOOKUP(MID(EI$27,5,4)&$A56,Lista_Ubigeo!$J:$K,2,0),\" \")","v":" "},{"$f":"IFERROR(VLOOKUP(MID(EJ$27,5,4)&$A61,Lista_Ubigeo!$J:$K,2,0),\" \")","v":" "},{"$f":"IFERROR(VLOOKUP(MID(EK$27,5,4)&$A56,Lista_Ubigeo!$J:$K,2,0),\" \")","v":" "},{"$f":"IFERROR(VLOOKUP(MID(EL$27,5,4)&$A56,Lista_Ubigeo!$J:$K,2,0),\" \")","v":" "},{"$f":"IFERROR(VLOOKUP(MID(EM$27,5,4)&$A56,Lista_Ubigeo!$J:$K,2,0),\" \")","v":" "},{"$f":"IFERROR(VLOOKUP(MID(EN$27,5,4)&$A56,Lista_Ubigeo!$J:$K,2,0),\" \")","v":" "},{"$f":"IFERROR(VLOOKUP(MID(EO$27,5,4)&$A56,Lista_Ubigeo!$J:$K,2,0),\" \")","v":" "},{"$f":"IFERROR(VLOOKUP(MID(EP$27,5,4)&$A56,Lista_Ubigeo!$J:$K,2,0),\" \")","v":" "},{"$f":"IFERROR(VLOOKUP(MID(EQ$27,5,4)&$A56,Lista_Ubigeo!$J:$K,2,0),\" \")","v":" "},{"$f":"IFERROR(VLOOKUP(MID(ER$27,5,4)&$A56,Lista_Ubigeo!$J:$K,2,0),\" \")","v":" "},{"$f":"IFERROR(VLOOKUP(MID(ES$27,5,4)&$A56,Lista_Ubigeo!$J:$K,2,0),\" \")","v":" "},{"$f":"IFERROR(VLOOKUP(MID(ET$27,5,4)&$A56,Lista_Ubigeo!$J:$K,2,0),\" \")","v":" "},{"$f":"IFERROR(VLOOKUP(MID(EU$27,5,4)&$A56,Lista_Ubigeo!$J:$K,2,0),\" \")","v":" "},{"$f":"IFERROR(VLOOKUP(MID(EV$27,5,4)&$A56,Lista_Ubigeo!$J:$K,2,0),\" \")","v":" "},{"$f":"IFERROR(VLOOKUP(MID(EW$27,5,4)&$A56,Lista_Ubigeo!$J:$K,2,0),\" \")","v":" "},{"$f":"IFERROR(VLOOKUP(MID(EX$27,5,4)&$A56,Lista_Ubigeo!$J:$K,2,0),\" \")","v":" "},{"$f":"IFERROR(VLOOKUP(MID(EY$27,5,4)&$A56,Lista_Ubigeo!$J:$K,2,0),\" \")","v":" "},{"$f":"IFERROR(VLOOKUP(MID(EZ$27,5,4)&$A59,Lista_Ubigeo!$J:$K,2,0),\" \")","v":" "},{"$f":"IFERROR(VLOOKUP(MID(FA$27,5,4)&$A56,Lista_Ubigeo!$J:$K,2,0),\" \")","v":" "},{"$f":"IFERROR(VLOOKUP(MID(FB$27,5,4)&$A56,Lista_Ubigeo!$J:$K,2,0),\" \")","v":" "},{"$f":"IFERROR(VLOOKUP(MID(FC$27,5,4)&$A56,Lista_Ubigeo!$J:$K,2,0),\" \")","v":" "},{"$f":"IFERROR(VLOOKUP(MID(FD$27,5,4)&$A56,Lista_Ubigeo!$J:$K,2,0),\" \")","v":" "},{"$f":"IFERROR(VLOOKUP(MID(FE$27,5,4)&$A56,Lista_Ubigeo!$J:$K,2,0),\" \")","v":" "},{"$f":"IFERROR(VLOOKUP(MID(FF$27,5,4)&$A56,Lista_Ubigeo!$J:$K,2,0),\" \")","v":" "},{"$f":"IFERROR(VLOOKUP(MID(FG$27,5,4)&$A56,Lista_Ubigeo!$J:$K,2,0),\" \")","v":" "},{"$f":"IFERROR(VLOOKUP(MID(FH$27,5,4)&$A56,Lista_Ubigeo!$J:$K,2,0),\" \")","v":" "},{"$f":"IFERROR(VLOOKUP(MID(FI$27,5,4)&$A56,Lista_Ubigeo!$J:$K,2,0),\" \")","v":" "},{"$f":"IFERROR(VLOOKUP(MID(FJ$27,5,4)&$A56,Lista_Ubigeo!$J:$K,2,0),\" \")","v":" "},{"$f":"IFERROR(VLOOKUP(MID(FK$27,5,4)&$A56,Lista_Ubigeo!$J:$K,2,0),\" \")","v":" "},{"$f":"IFERROR(VLOOKUP(MID(FL$27,5,4)&$A56,Lista_Ubigeo!$J:$K,2,0),\" \")","v":" "},{"$f":"IFERROR(VLOOKUP(MID(FM$27,5,4)&$A56,Lista_Ubigeo!$J:$K,2,0),\" \")","v":" "},{"$f":"IFERROR(VLOOKUP(MID(FN$27,5,4)&$A56,Lista_Ubigeo!$J:$K,2,0),\" \")","v":" "},{"$f":"IFERROR(VLOOKUP(MID(FO$27,5,4)&$A56,Lista_Ubigeo!$J:$K,2,0),\" \")","v":" "},{"$f":"IFERROR(VLOOKUP(MID(FP$27,5,4)&$A56,Lista_Ubigeo!$J:$K,2,0),\" \")","v":" "},{"$f":"IFERROR(VLOOKUP(MID(FQ$27,5,4)&$A56,Lista_Ubigeo!$J:$K,2,0),\" \")","v":" "},{"$f":"IFERROR(VLOOKUP(MID(FR$27,5,4)&$A56,Lista_Ubigeo!$J:$K,2,0),\" \")","v":" "},{"$f":"IFERROR(VLOOKUP(MID(FS$27,5,4)&$A56,Lista_Ubigeo!$J:$K,2,0),\" \")","v":" "},{"$f":"IFERROR(VLOOKUP(MID(FT$27,5,4)&$A56,Lista_Ubigeo!$J:$K,2,0),\" \")","v":" "},{"$f":"IFERROR(VLOOKUP(MID(FU$27,5,4)&$A56,Lista_Ubigeo!$J:$K,2,0),\" \")","v":" "},{"$f":"IFERROR(VLOOKUP(MID(FV$27,5,4)&$A56,Lista_Ubigeo!$J:$K,2,0),\" \")","v":" "},{"$f":"IFERROR(VLOOKUP(MID(FW$27,5,4)&$A56,Lista_Ubigeo!$J:$K,2,0),\" \")","v":" "},{"$f":"IFERROR(VLOOKUP(MID(FX$27,5,4)&$A56,Lista_Ubigeo!$J:$K,2,0),\" \")","v":" "},{"$f":"IFERROR(VLOOKUP(MID(FY$27,5,4)&$A56,Lista_Ubigeo!$J:$K,2,0),\" \")","v":" "},{"$f":"IFERROR(VLOOKUP(MID(FZ$27,5,4)&$A56,Lista_Ubigeo!$J:$K,2,0),\" \")","v":" "},{"$f":"IFERROR(VLOOKUP(MID(GA$27,5,4)&$A56,Lista_Ubigeo!$J:$K,2,0),\" \")","v":" "},{"$f":"IFERROR(VLOOKUP(MID(GB$27,5,4)&$A56,Lista_Ubigeo!$J:$K,2,0),\" \")","v":" "},{"$f":"IFERROR(VLOOKUP(MID(GC$27,5,4)&$A56,Lista_Ubigeo!$J:$K,2,0),\" \")","v":" "},{"$f":"IFERROR(VLOOKUP(MID(GD$27,5,4)&$A56,Lista_Ubigeo!$J:$K,2,0),\" \")","v":" "},{"$f":"IFERROR(VLOOKUP(MID(GE$27,5,4)&$A56,Lista_Ubigeo!$J:$K,2,0),\" \")","v":" "},{"$f":"IFERROR(VLOOKUP(MID(GF$27,5,4)&$A56,Lista_Ubigeo!$J:$K,2,0),\" \")","v":" "},{"$f":"IFERROR(VLOOKUP(MID(GG$27,5,4)&$A56,Lista_Ubigeo!$J:$K,2,0),\" \")","v":" "},{"$f":"IFERROR(VLOOKUP(MID(GH$27,5,4)&$A56,Lista_Ubigeo!$J:$K,2,0),\" \")","v":" "},{"$f":"IFERROR(VLOOKUP(MID(GI$27,5,4)&$A56,Lista_Ubigeo!$J:$K,2,0),\" \")","v":" "},{"$f":"IFERROR(VLOOKUP(MID(GJ$27,5,4)&$A56,Lista_Ubigeo!$J:$K,2,0),\" \")","v":" "},{"$f":"IFERROR(VLOOKUP(MID(GK$27,5,4)&$A56,Lista_Ubigeo!$J:$K,2,0),\" \")","v":" "},{"$f":"IFERROR(VLOOKUP(MID(GL$27,5,4)&$A56,Lista_Ubigeo!$J:$K,2,0),\" \")","v":" "},{"$f":"IFERROR(VLOOKUP(MID(GM$27,5,4)&$A56,Lista_Ubigeo!$J:$K,2,0),\" \")","v":" "},{"$f":"IFERROR(VLOOKUP(MID(GN$27,5,4)&$A56,Lista_Ubigeo!$J:$K,2,0),\" \")","v":" "},{"$f":"IFERROR(VLOOKUP(MID(GO$27,5,4)&$A56,Lista_Ubigeo!$J:$K,2,0),\" \")","v":" "},{"$f":"IFERROR(VLOOKUP(MID(GP$27,5,4)&$A56,Lista_Ubigeo!$J:$K,2,0),\" \")","v":" "}]
["30",{"$f":"IFERROR(VLOOKUP(MID(B$27,5,4)&$A57,Lista_Ubigeo!$J:$K,2,0),\" \")","v":" "},{"$f":"IFERROR(VLOOKUP(MID(C$27,5,4)&$A57,Lista_Ubigeo!$J:$K,2,0),\" \")","v":" "},{"$f":"IFERROR(VLOOKUP(MID(D$27,5,4)&$A57,Lista_Ubigeo!$J:$K,2,0),\" \")","v":" "},{"$f":"IFERROR(VLOOKUP(MID(E$27,5,4)&$A57,Lista_Ubigeo!$J:$K,2,0),\" \")","v":" "},{"$f":"IFERROR(VLOOKUP(MID(F$27,5,4)&$A57,Lista_Ubigeo!$J:$K,2,0),\" \")","v":" "},{"$f":"IFERROR(VLOOKUP(MID(G$27,5,4)&$A57,Lista_Ubigeo!$J:$K,2,0),\" \")","v":" "},{"$f":"IFERROR(VLOOKUP(MID(H$27,5,4)&$A57,Lista_Ubigeo!$J:$K,2,0),\" \")","v":" "},{"$f":"IFERROR(VLOOKUP(MID(I$27,5,4)&$A57,Lista_Ubigeo!$J:$K,2,0),\" \")","v":" "},{"$f":"IFERROR(VLOOKUP(MID(J$27,5,4)&$A57,Lista_Ubigeo!$J:$K,2,0),\" \")","v":" "},{"$f":"IFERROR(VLOOKUP(MID(K$27,5,4)&$A57,Lista_Ubigeo!$J:$K,2,0),\" \")","v":" "},{"$f":"IFERROR(VLOOKUP(MID(L$27,5,4)&$A57,Lista_Ubigeo!$J:$K,2,0),\" \")","v":" "},{"$f":"IFERROR(VLOOKUP(MID(M$27,5,4)&$A57,Lista_Ubigeo!$J:$K,2,0),\" \")","v":" "},{"$f":"IFERROR(VLOOKUP(MID(N$27,5,4)&$A57,Lista_Ubigeo!$J:$K,2,0),\" \")","v":" "},{"$f":"IFERROR(VLOOKUP(MID(O$27,5,4)&$A57,Lista_Ubigeo!$J:$K,2,0),\" \")","v":" "},{"$f":"IFERROR(VLOOKUP(MID(P$27,5,4)&$A57,Lista_Ubigeo!$J:$K,2,0),\" \")","v":" "},{"$f":"IFERROR(VLOOKUP(MID(Q$27,5,4)&$A57,Lista_Ubigeo!$J:$K,2,0),\" \")","v":" "},{"$f":"IFERROR(VLOOKUP(MID(R$27,5,4)&$A57,Lista_Ubigeo!$J:$K,2,0),\" \")","v":" "},{"$f":"IFERROR(VLOOKUP(MID(S$27,5,4)&$A57,Lista_Ubigeo!$J:$K,2,0),\" \")","v":" "},{"$f":"IFERROR(VLOOKUP(MID(T$27,5,4)&$A57,Lista_Ubigeo!$J:$K,2,0),\" \")","v":" "},{"$f":"IFERROR(VLOOKUP(MID(U$27,5,4)&$A57,Lista_Ubigeo!$J:$K,2,0),\" \")","v":" "},{"$f":"IFERROR(VLOOKUP(MID(V$27,5,4)&$A57,Lista_Ubigeo!$J:$K,2,0),\" \")","v":" "},{"$f":"IFERROR(VLOOKUP(MID(W$27,5,4)&$A57,Lista_Ubigeo!$J:$K,2,0),\" \")","v":" "},{"$f":"IFERROR(VLOOKUP(MID(X$27,5,4)&$A57,Lista_Ubigeo!$J:$K,2,0),\" \")","v":" "},{"$f":"IFERROR(VLOOKUP(MID(Y$27,5,4)&$A57,Lista_Ubigeo!$J:$K,2,0),\" \")","v":" "},{"$f":"IFERROR(VLOOKUP(MID(Z$27,5,4)&$A57,Lista_Ubigeo!$J:$K,2,0),\" \")","v":" "},{"$f":"IFERROR(VLOOKUP(MID(AA$27,5,4)&$A57,Lista_Ubigeo!$J:$K,2,0),\" \")","v":" "},{"$f":"IFERROR(VLOOKUP(MID(AB$27,5,4)&$A57,Lista_Ubigeo!$J:$K,2,0),\" \")","v":" "},{"$f":"IFERROR(VLOOKUP(MID(AC$27,5,4)&$A57,Lista_Ubigeo!$J:$K,2,0),\" \")","v":" "},{"$f":"IFERROR(VLOOKUP(MID(AD$27,5,4)&$A57,Lista_Ubigeo!$J:$K,2,0),\" \")","v":" "},{"$f":"IFERROR(VLOOKUP(MID(AE$27,5,4)&$A57,Lista_Ubigeo!$J:$K,2,0),\" \")","v":" "},{"$f":"IFERROR(VLOOKUP(MID(AF$27,5,4)&$A57,Lista_Ubigeo!$J:$K,2,0),\" \")","v":" "},{"$f":"IFERROR(VLOOKUP(MID(AG$27,5,4)&$A57,Lista_Ubigeo!$J:$K,2,0),\" \")","v":" "},{"$f":"IFERROR(VLOOKUP(MID(AH$27,5,4)&$A57,Lista_Ubigeo!$J:$K,2,0),\" \")","v":" "},{"$f":"IFERROR(VLOOKUP(MID(AI$27,5,4)&$A57,Lista_Ubigeo!$J:$K,2,0),\" \")","v":" "},{"$f":"IFERROR(VLOOKUP(MID(AJ$27,5,4)&$A57,Lista_Ubigeo!$J:$K,2,0),\" \")","v":" "},{"$f":"IFERROR(VLOOKUP(MID(AK$27,5,4)&$A57,Lista_Ubigeo!$J:$K,2,0),\" \")","v":" "},{"$f":"IFERROR(VLOOKUP(MID(AL$27,5,4)&$A57,Lista_Ubigeo!$J:$K,2,0),\" \")","v":" "},{"$f":"IFERROR(VLOOKUP(MID(AM$27,5,4)&$A57,Lista_Ubigeo!$J:$K,2,0),\" \")","v":" "},{"$f":"IFERROR(VLOOKUP(MID(AN$27,5,4)&$A57,Lista_Ubigeo!$J:$K,2,0),\" \")","v":" "},{"$f":"IFERROR(VLOOKUP(MID(AO$27,5,4)&$A57,Lista_Ubigeo!$J:$K,2,0),\" \")","v":" "},{"$f":"IFERROR(VLOOKUP(MID(AP$27,5,4)&$A57,Lista_Ubigeo!$J:$K,2,0),\" \")","v":" "},{"$f":"IFERROR(VLOOKUP(MID(AQ$27,4,4)&$A57,Lista_Ubigeo!$J:$K,2,0),\" \")","v":" "},{"$f":"IFERROR(VLOOKUP(MID(AR$27,5,4)&$A57,Lista_Ubigeo!$J:$K,2,0),\" \")","v":" "},{"$f":"IFERROR(VLOOKUP(MID(AS$27,5,4)&$A57,Lista_Ubigeo!$J:$K,2,0),\" \")","v":" "},{"$f":"IFERROR(VLOOKUP(MID(AT$27,5,4)&$A57,Lista_Ubigeo!$J:$K,2,0),\" \")","v":" "},{"$f":"IFERROR(VLOOKUP(MID(AU$27,5,4)&$A57,Lista_Ubigeo!$J:$K,2,0),\" \")","v":" "},{"$f":"IFERROR(VLOOKUP(MID(AV$27,5,4)&$A57,Lista_Ubigeo!$J:$K,2,0),\" \")","v":" "},{"$f":"IFERROR(VLOOKUP(MID(AW$27,5,4)&$A57,Lista_Ubigeo!$J:$K,2,0),\" \")","v":" "},{"$f":"IFERROR(VLOOKUP(MID(AX$27,5,4)&$A57,Lista_Ubigeo!$J:$K,2,0),\" \")","v":" "},{"$f":"IFERROR(VLOOKUP(MID(AY$27,5,4)&$A57,Lista_Ubigeo!$J:$K,2,0),\" \")","v":" "},{"$f":"IFERROR(VLOOKUP(MID(AZ$27,5,4)&$A57,Lista_Ubigeo!$J:$K,2,0),\" \")","v":" "},{"$f":"IFERROR(VLOOKUP(MID(BA$27,5,4)&$A57,Lista_Ubigeo!$J:$K,2,0),\" \")","v":" "},{"$f":"IFERROR(VLOOKUP(MID(BB$27,5,4)&$A57,Lista_Ubigeo!$J:$K,2,0),\" \")","v":" "},{"$f":"IFERROR(VLOOKUP(MID(BC$27,5,4)&$A57,Lista_Ubigeo!$J:$K,2,0),\" \")","v":" "},{"$f":"IFERROR(VLOOKUP(MID(BD$27,5,4)&$A57,Lista_Ubigeo!$J:$K,2,0),\" \")","v":" "},{"$f":"IFERROR(VLOOKUP(MID(BE$27,5,4)&$A57,Lista_Ubigeo!$J:$K,2,0),\" \")","v":" "},{"$f":"IFERROR(VLOOKUP(MID(BF$27,5,4)&$A57,Lista_Ubigeo!$J:$K,2,0),\" \")","v":" "},{"$f":"IFERROR(VLOOKUP(MID(BG$27,5,4)&$A57,Lista_Ubigeo!$J:$K,2,0),\" \")","v":" "},{"$f":"IFERROR(VLOOKUP(MID(BH$27,5,4)&$A57,Lista_Ubigeo!$J:$K,2,0),\" \")","v":" "},{"$f":"IFERROR(VLOOKUP(MID(BI$27,5,4)&$A57,Lista_Ubigeo!$J:$K,2,0),\" \")","v":" "},{"$f":"IFERROR(VLOOKUP(MID(BJ$27,5,4)&$A57,Lista_Ubigeo!$J:$K,2,0),\" \")","v":" "},{"$f":"IFERROR(VLOOKUP(MID(BK$27,5,4)&$A57,Lista_Ubigeo!$J:$K,2,0),\" \")","v":" "},{"$f":"IFERROR(VLOOKUP(MID(BL$27,5,4)&$A57,Lista_Ubigeo!$J:$K,2,0),\" \")","v":" "},{"$f":"IFERROR(VLOOKUP(MID(BM$27,5,4)&$A57,Lista_Ubigeo!$J:$K,2,0),\" \")","v":" "},{"$f":"IFERROR(VLOOKUP(MID(BN$27,5,4)&$A57,Lista_Ubigeo!$J:$K,2,0),\" \")","v":" "},{"$f":"IFERROR(VLOOKUP(MID(BO$27,5,4)&$A57,Lista_Ubigeo!$J:$K,2,0),\" \")","v":" "},{"$f":"IFERROR(VLOOKUP(MID(BP$27,5,4)&$A57,Lista_Ubigeo!$J:$K,2,0),\" \")","v":" "},{"$f":"IFERROR(VLOOKUP(MID(BQ$27,5,4)&$A57,Lista_Ubigeo!$J:$K,2,0),\" \")","v":" "},{"$f":"IFERROR(VLOOKUP(MID(BR$27,5,4)&$A57,Lista_Ubigeo!$J:$K,2,0),\" \")","v":" "},{"$f":"IFERROR(VLOOKUP(MID(BS$27,5,4)&$A57,Lista_Ubigeo!$J:$K,2,0),\" \")","v":" "},{"$f":"IFERROR(VLOOKUP(MID(BT$27,5,4)&$A57,Lista_Ubigeo!$J:$K,2,0),\" \")","v":" "},{"$f":"IFERROR(VLOOKUP(MID(BU$27,5,4)&$A57,Lista_Ubigeo!$J:$K,2,0),\" \")","v":" "},{"$f":"IFERROR(VLOOKUP(MID(BV$27,5,4)&$A57,Lista_Ubigeo!$J:$K,2,0),\" \")","v":" "},{"$f":"IFERROR(VLOOKUP(MID(BW$27,5,4)&$A57,Lista_Ubigeo!$J:$K,2,0),\" \")","v":" "},{"$f":"IFERROR(VLOOKUP(MID(BX$27,5,4)&$A57,Lista_Ubigeo!$J:$K,2,0),\" \")","v":" "},{"$f":"IFERROR(VLOOKUP(MID(BY$27,4,4)&$A57,Lista_Ubigeo!$J:$K,2,0),\" \")","v":" "},{"$f":"IFERROR(VLOOKUP(MID(BZ$27,5,4)&$A57,Lista_Ubigeo!$J:$K,2,0),\" \")","v":" "},{"$f":"IFERROR(VLOOKUP(MID(CA$27,5,4)&$A57,Lista_Ubigeo!$J:$K,2,0),\" \")","v":" "},{"$f":"IFERROR(VLOOKUP(MID(CB$27,5,4)&$A57,Lista_Ubigeo!$J:$K,2,0),\" \")","v":" "},{"$f":"IFERROR(VLOOKUP(MID(CC$27,5,4)&$A57,Lista_Ubigeo!$J:$K,2,0),\" \")","v":" "},{"$f":"IFERROR(VLOOKUP(MID(CD$27,5,4)&$A57,Lista_Ubigeo!$J:$K,2,0),\" \")","v":" "},{"$f":"IFERROR(VLOOKUP(MID(CE$27,5,4)&$A57,Lista_Ubigeo!$J:$K,2,0),\" \")","v":" "},{"$f":"IFERROR(VLOOKUP(MID(CF$27,5,4)&$A57,Lista_Ubigeo!$J:$K,2,0),\" \")","v":" "},{"$f":"IFERROR(VLOOKUP(MID(CG$27,5,4)&$A57,Lista_Ubigeo!$J:$K,2,0),\" \")","v":" "},{"$f":"IFERROR(VLOOKUP(MID(CH$27,5,4)&$A57,Lista_Ubigeo!$J:$K,2,0),\" \")","v":" "},{"$f":"IFERROR(VLOOKUP(MID(CI$27,5,4)&$A57,Lista_Ubigeo!$J:$K,2,0),\" \")","v":" "},{"$f":"IFERROR(VLOOKUP(MID(CJ$27,5,4)&$A57,Lista_Ubigeo!$J:$K,2,0),\" \")","v":" "},{"$f":"IFERROR(VLOOKUP(MID(CK$27,5,4)&$A57,Lista_Ubigeo!$J:$K,2,0),\" \")","v":" "},{"$f":"IFERROR(VLOOKUP(MID(CL$27,5,4)&$A57,Lista_Ubigeo!$J:$K,2,0),\" \")","v":" "},{"$f":"IFERROR(VLOOKUP(MID(CM$27,5,4)&$A68,Lista_Ubigeo!$J:$K,2,0),\" \")","v":" "},{"$f":"IFERROR(VLOOKUP(MID(CN$27,5,4)&$A57,Lista_Ubigeo!$J:$K,2,0),\" \")","v":" "},{"$f":"IFERROR(VLOOKUP(MID(CO$27,5,4)&$A57,Lista_Ubigeo!$J:$K,2,0),\" \")","v":" "},{"$f":"IFERROR(VLOOKUP(MID(CP$27,5,4)&$A57,Lista_Ubigeo!$J:$K,2,0),\" \")","v":" "},{"$f":"IFERROR(VLOOKUP(MID(CQ$27,5,4)&$A57,Lista_Ubigeo!$J:$K,2,0),\" \")","v":" "},{"$f":"IFERROR(VLOOKUP(MID(CR$27,5,4)&$A57,Lista_Ubigeo!$J:$K,2,0),\" \")","v":" "},{"$f":"IFERROR(VLOOKUP(MID(CS$27,5,4)&$A57,Lista_Ubigeo!$J:$K,2,0),\" \")","v":" "},{"$f":"IFERROR(VLOOKUP(MID(CT$27,5,4)&$A57,Lista_Ubigeo!$J:$K,2,0),\" \")","v":" "},{"$f":"IFERROR(VLOOKUP(MID(CU$27,5,4)&$A57,Lista_Ubigeo!$J:$K,2,0),\" \")","v":" "},{"$f":"IFERROR(VLOOKUP(MID(CV$27,5,4)&$A57,Lista_Ubigeo!$J:$K,2,0),\" \")","v":" "},{"$f":"IFERROR(VLOOKUP(MID(CW$27,5,4)&$A57,Lista_Ubigeo!$J:$K,2,0),\" \")","v":" "},{"$f":"IFERROR(VLOOKUP(MID(CX$27,5,4)&$A57,Lista_Ubigeo!$J:$K,2,0),\" \")","v":" "},{"$f":"IFERROR(VLOOKUP(MID(CY$27,5,4)&$A57,Lista_Ubigeo!$J:$K,2,0),\" \")","v":" "},{"$f":"IFERROR(VLOOKUP(MID(CZ$27,5,4)&$A57,Lista_Ubigeo!$J:$K,2,0),\" \")","v":" "},null,{"$f":"IFERROR(VLOOKUP(MID(DB$27,5,4)&$A57,Lista_Ubigeo!$J:$K,2,0),\" \")","v":" "},{"$f":"IFERROR(VLOOKUP(MID(DC$27,5,4)&$A57,Lista_Ubigeo!$J:$K,2,0),\" \")","v":" "},{"$f":"IFERROR(VLOOKUP(MID(DD$27,5,4)&$A57,Lista_Ubigeo!$J:$K,2,0),\" \")","v":"SAUSA"},{"$f":"IFERROR(VLOOKUP(MID(DE$27,5,4)&$A57,Lista_Ubigeo!$J:$K,2,0),\" \")","v":" "},{"$f":"IFERROR(VLOOKUP(MID(DF$27,5,4)&$A57,Lista_Ubigeo!$J:$K,2,0),\" \")","v":" "},{"$f":"IFERROR(VLOOKUP(MID(DG$27,5,4)&$A57,Lista_Ubigeo!$J:$K,2,0),\" \")","v":" "},{"$f":"IFERROR(VLOOKUP(MID(DH$27,5,4)&$A57,Lista_Ubigeo!$J:$K,2,0),\" \")","v":" "},{"$f":"IFERROR(VLOOKUP(MID(DI$27,5,4)&$A57,Lista_Ubigeo!$J:$K,2,0),\" \")","v":" "},{"$f":"IFERROR(VLOOKUP(MID(DJ$27,5,4)&$A57,Lista_Ubigeo!$J:$K,2,0),\" \")","v":" "},{"$f":"IFERROR(VLOOKUP(MID(DK$27,5,4)&$A57,Lista_Ubigeo!$J:$K,2,0),\" \")","v":" "},{"$f":"IFERROR(VLOOKUP(MID(DL$27,5,4)&$A57,Lista_Ubigeo!$J:$K,2,0),\" \")","v":" "},{"$f":"IFERROR(VLOOKUP(MID(DM$27,5,4)&$A57,Lista_Ubigeo!$J:$K,2,0),\" \")","v":" "},{"$f":"IFERROR(VLOOKUP(MID(DN$27,5,4)&$A57,Lista_Ubigeo!$J:$K,2,0),\" \")","v":" "},{"$f":"IFERROR(VLOOKUP(MID(DO$27,5,4)&$A58,Lista_Ubigeo!$J:$K,2,0),\" \")","v":" "},{"$f":"IFERROR(VLOOKUP(MID(DP$27,5,4)&$A57,Lista_Ubigeo!$J:$K,2,0),\" \")","v":" "},{"$f":"IFERROR(VLOOKUP(MID(DQ$27,5,4)&$A57,Lista_Ubigeo!$J:$K,2,0),\" \")","v":" "},{"$f":"IFERROR(VLOOKUP(MID(DR$27,5,4)&$A57,Lista_Ubigeo!$J:$K,2,0),\" \")","v":" "},{"$f":"IFERROR(VLOOKUP(MID(DS$27,5,4)&$A57,Lista_Ubigeo!$J:$K,2,0),\" \")","v":" "},null,null,{"$f":"IFERROR(VLOOKUP(MID(DV$27,5,4)&$A57,Lista_Ubigeo!$J:$K,2,0),\" \")","v":" "},{"$f":"IFERROR(VLOOKUP(MID(DW$27,5,4)&$A57,Lista_Ubigeo!$J:$K,2,0),\" \")","v":" "},{"$f":"IFERROR(VLOOKUP(MID(DX$27,5,4)&$A57,Lista_Ubigeo!$J:$K,2,0),\" \")","v":" "},{"$f":"IFERROR(VLOOKUP(MID(DY$27,5,4)&$A57,Lista_Ubigeo!$J:$K,2,0),\" \")","v":"SAN BORJA"},{"$f":"IFERROR(VLOOKUP(MID(DZ$27,5,4)&$A57,Lista_Ubigeo!$J:$K,2,0),\" \")","v":" "},{"$f":"IFERROR(VLOOKUP(MID(EA$27,5,4)&$A57,Lista_Ubigeo!$J:$K,2,0),\" \")","v":" "},{"$f":"IFERROR(VLOOKUP(MID(EB$27,5,4)&$A57,Lista_Ubigeo!$J:$K,2,0),\" \")","v":" "},{"$f":"IFERROR(VLOOKUP(MID(EC$27,5,4)&$A57,Lista_Ubigeo!$J:$K,2,0),\" \")","v":" "},{"$f":"IFERROR(VLOOKUP(MID(ED$27,5,4)&$A57,Lista_Ubigeo!$J:$K,2,0),\" \")","v":" "},{"$f":"IFERROR(VLOOKUP(MID(EE$27,5,4)&$A57,Lista_Ubigeo!$J:$K,2,0),\" \")","v":"SANTIAGO DE TUNA"},{"$f":"IFERROR(VLOOKUP(MID(EF$27,5,4)&$A57,Lista_Ubigeo!$J:$K,2,0),\" \")","v":" "},{"$f":"IFERROR(VLOOKUP(MID(EG$27,5,4)&$A57,Lista_Ubigeo!$J:$K,2,0),\" \")","v":" "},{"$f":"IFERROR(VLOOKUP(MID(EH$27,5,4)&$A57,Lista_Ubigeo!$J:$K,2,0),\" \")","v":"TOMAS"},{"$f":"IFERROR(VLOOKUP(MID(EI$27,5,4)&$A57,Lista_Ubigeo!$J:$K,2,0),\" \")","v":" "},{"$f":"IFERROR(VLOOKUP(MID(EJ$27,5,4)&$A62,Lista_Ubigeo!$J:$K,2,0),\" \")","v":" "},{"$f":"IFERROR(VLOOKUP(MID(EK$27,5,4)&$A57,Lista_Ubigeo!$J:$K,2,0),\" \")","v":" "},{"$f":"IFERROR(VLOOKUP(MID(EL$27,5,4)&$A57,Lista_Ubigeo!$J:$K,2,0),\" \")","v":" "},{"$f":"IFERROR(VLOOKUP(MID(EM$27,5,4)&$A57,Lista_Ubigeo!$J:$K,2,0),\" \")","v":" "},{"$f":"IFERROR(VLOOKUP(MID(EN$27,5,4)&$A57,Lista_Ubigeo!$J:$K,2,0),\" \")","v":" "},{"$f":"IFERROR(VLOOKUP(MID(EO$27,5,4)&$A57,Lista_Ubigeo!$J:$K,2,0),\" \")","v":" "},{"$f":"IFERROR(VLOOKUP(MID(EP$27,5,4)&$A57,Lista_Ubigeo!$J:$K,2,0),\" \")","v":" "},{"$f":"IFERROR(VLOOKUP(MID(EQ$27,5,4)&$A57,Lista_Ubigeo!$J:$K,2,0),\" \")","v":" "},{"$f":"IFERROR(VLOOKUP(MID(ER$27,5,4)&$A57,Lista_Ubigeo!$J:$K,2,0),\" \")","v":" "},{"$f":"IFERROR(VLOOKUP(MID(ES$27,5,4)&$A57,Lista_Ubigeo!$J:$K,2,0),\" \")","v":" "},{"$f":"IFERROR(VLOOKUP(MID(ET$27,5,4)&$A57,Lista_Ubigeo!$J:$K,2,0),\" \")","v":" "},{"$f":"IFERROR(VLOOKUP(MID(EU$27,5,4)&$A57,Lista_Ubigeo!$J:$K,2,0),\" \")","v":" "},{"$f":"IFERROR(VLOOKUP(MID(EV$27,5,4)&$A57,Lista_Ubigeo!$J:$K,2,0),\" \")","v":" "},{"$f":"IFERROR(VLOOKUP(MID(EW$27,5,4)&$A57,Lista_Ubigeo!$J:$K,2,0),\" \")","v":" "},{"$f":"IFERROR(VLOOKUP(MID(EX$27,5,4)&$A57,Lista_Ubigeo!$J:$K,2,0),\" \")","v":" "},{"$f":"IFERROR(VLOOKUP(MID(EY$27,5,4)&$A57,Lista_Ubigeo!$J:$K,2,0),\" \")","v":" "},{"$f":"IFERROR(VLOOKUP(MID(EZ$27,5,4)&$A60,Lista_Ubigeo!$J:$K,2,0),\" \")","v":" "},{"$f":"IFERROR(VLOOKUP(MID(FA$27,5,4)&$A57,Lista_Ubigeo!$J:$K,2,0),\" \")","v":" "},{"$f":"IFERROR(VLOOKUP(MID(FB$27,5,4)&$A57,Lista_Ubigeo!$J:$K,2,0),\" \")","v":" "},{"$f":"IFERROR(VLOOKUP(MID(FC$27,5,4)&$A57,Lista_Ubigeo!$J:$K,2,0),\" \")","v":" "},{"$f":"IFERROR(VLOOKUP(MID(FD$27,5,4)&$A57,Lista_Ubigeo!$J:$K,2,0),\" \")","v":" "},{"$f":"IFERROR(VLOOKUP(MID(FE$27,5,4)&$A57,Lista_Ubigeo!$J:$K,2,0),\" \")","v":" "},{"$f":"IFERROR(VLOOKUP(MID(FF$27,5,4)&$A57,Lista_Ubigeo!$J:$K,2,0),\" \")","v":" "},{"$f":"IFERROR(VLOOKUP(MID(FG$27,5,4)&$A57,Lista_Ubigeo!$J:$K,2,0),\" \")","v":" "},{"$f":"IFERROR(VLOOKUP(MID(FH$27,5,4)&$A57,Lista_Ubigeo!$J:$K,2,0),\" \")","v":" "},{"$f":"IFERROR(VLOOKUP(MID(FI$27,5,4)&$A57,Lista_Ubigeo!$J:$K,2,0),\" \")","v":" "},{"$f":"IFERROR(VLOOKUP(MID(FJ$27,5,4)&$A57,Lista_Ubigeo!$J:$K,2,0),\" \")","v":" "},{"$f":"IFERROR(VLOOKUP(MID(FK$27,5,4)&$A57,Lista_Ubigeo!$J:$K,2,0),\" \")","v":" "},{"$f":"IFERROR(VLOOKUP(MID(FL$27,5,4)&$A57,Lista_Ubigeo!$J:$K,2,0),\" \")","v":" "},{"$f":"IFERROR(VLOOKUP(MID(FM$27,5,4)&$A57,Lista_Ubigeo!$J:$K,2,0),\" \")","v":" "},{"$f":"IFERROR(VLOOKUP(MID(FN$27,5,4)&$A57,Lista_Ubigeo!$J:$K,2,0),\" \")","v":" "},{"$f":"IFERROR(VLOOKUP(MID(FO$27,5,4)&$A57,Lista_Ubigeo!$J:$K,2,0),\" \")","v":" "},{"$f":"IFERROR(VLOOKUP(MID(FP$27,5,4)&$A57,Lista_Ubigeo!$J:$K,2,0),\" \")","v":" "},{"$f":"IFERROR(VLOOKUP(MID(FQ$27,5,4)&$A57,Lista_Ubigeo!$J:$K,2,0),\" \")","v":" "},{"$f":"IFERROR(VLOOKUP(MID(FR$27,5,4)&$A57,Lista_Ubigeo!$J:$K,2,0),\" \")","v":" "},{"$f":"IFERROR(VLOOKUP(MID(FS$27,5,4)&$A57,Lista_Ubigeo!$J:$K,2,0),\" \")","v":" "},{"$f":"IFERROR(VLOOKUP(MID(FT$27,5,4)&$A57,Lista_Ubigeo!$J:$K,2,0),\" \")","v":" "},{"$f":"IFERROR(VLOOKUP(MID(FU$27,5,4)&$A57,Lista_Ubigeo!$J:$K,2,0),\" \")","v":" "},{"$f":"IFERROR(VLOOKUP(MID(FV$27,5,4)&$A57,Lista_Ubigeo!$J:$K,2,0),\" \")","v":" "},{"$f":"IFERROR(VLOOKUP(MID(FW$27,5,4)&$A57,Lista_Ubigeo!$J:$K,2,0),\" \")","v":" "},{"$f":"IFERROR(VLOOKUP(MID(FX$27,5,4)&$A57,Lista_Ubigeo!$J:$K,2,0),\" \")","v":" "},{"$f":"IFERROR(VLOOKUP(MID(FY$27,5,4)&$A57,Lista_Ubigeo!$J:$K,2,0),\" \")","v":" "},{"$f":"IFERROR(VLOOKUP(MID(FZ$27,5,4)&$A57,Lista_Ubigeo!$J:$K,2,0),\" \")","v":" "},{"$f":"IFERROR(VLOOKUP(MID(GA$27,5,4)&$A57,Lista_Ubigeo!$J:$K,2,0),\" \")","v":" "},{"$f":"IFERROR(VLOOKUP(MID(GB$27,5,4)&$A57,Lista_Ubigeo!$J:$K,2,0),\" \")","v":" "},{"$f":"IFERROR(VLOOKUP(MID(GC$27,5,4)&$A57,Lista_Ubigeo!$J:$K,2,0),\" \")","v":" "},{"$f":"IFERROR(VLOOKUP(MID(GD$27,5,4)&$A57,Lista_Ubigeo!$J:$K,2,0),\" \")","v":" "},{"$f":"IFERROR(VLOOKUP(MID(GE$27,5,4)&$A57,Lista_Ubigeo!$J:$K,2,0),\" \")","v":" "},{"$f":"IFERROR(VLOOKUP(MID(GF$27,5,4)&$A57,Lista_Ubigeo!$J:$K,2,0),\" \")","v":" "},{"$f":"IFERROR(VLOOKUP(MID(GG$27,5,4)&$A57,Lista_Ubigeo!$J:$K,2,0),\" \")","v":" "},{"$f":"IFERROR(VLOOKUP(MID(GH$27,5,4)&$A57,Lista_Ubigeo!$J:$K,2,0),\" \")","v":" "},{"$f":"IFERROR(VLOOKUP(MID(GI$27,5,4)&$A57,Lista_Ubigeo!$J:$K,2,0),\" \")","v":" "},{"$f":"IFERROR(VLOOKUP(MID(GJ$27,5,4)&$A57,Lista_Ubigeo!$J:$K,2,0),\" \")","v":" "},{"$f":"IFERROR(VLOOKUP(MID(GK$27,5,4)&$A57,Lista_Ubigeo!$J:$K,2,0),\" \")","v":" "},{"$f":"IFERROR(VLOOKUP(MID(GL$27,5,4)&$A57,Lista_Ubigeo!$J:$K,2,0),\" \")","v":" "},{"$f":"IFERROR(VLOOKUP(MID(GM$27,5,4)&$A57,Lista_Ubigeo!$J:$K,2,0),\" \")","v":" "},{"$f":"IFERROR(VLOOKUP(MID(GN$27,5,4)&$A57,Lista_Ubigeo!$J:$K,2,0),\" \")","v":" "},{"$f":"IFERROR(VLOOKUP(MID(GO$27,5,4)&$A57,Lista_Ubigeo!$J:$K,2,0),\" \")","v":" "},{"$f":"IFERROR(VLOOKUP(MID(GP$27,5,4)&$A57,Lista_Ubigeo!$J:$K,2,0),\" \")","v":" "}]
["31",{"$f":"IFERROR(VLOOKUP(MID(B$27,5,4)&$A58,Lista_Ubigeo!$J:$K,2,0),\" \")","v":" "},{"$f":"IFERROR(VLOOKUP(MID(C$27,5,4)&$A58,Lista_Ubigeo!$J:$K,2,0),\" \")","v":" "},{"$f":"IFERROR(VLOOKUP(MID(D$27,5,4)&$A58,Lista_Ubigeo!$J:$K,2,0),\" \")","v":" "},{"$f":"IFERROR(VLOOKUP(MID(E$27,5,4)&$A58,Lista_Ubigeo!$J:$K,2,0),\" \")","v":" "},{"$f":"IFERROR(VLOOKUP(MID(F$27,5,4)&$A58,Lista_Ubigeo!$J:$K,2,0),\" \")","v":" "},{"$f":"IFERROR(VLOOKUP(MID(G$27,5,4)&$A58,Lista_Ubigeo!$J:$K,2,0),\" \")","v":" "},{"$f":"IFERROR(VLOOKUP(MID(H$27,5,4)&$A58,Lista_Ubigeo!$J:$K,2,0),\" \")","v":" "},{"$f":"IFERROR(VLOOKUP(MID(I$27,5,4)&$A58,Lista_Ubigeo!$J:$K,2,0),\" \")","v":" "},{"$f":"IFERROR(VLOOKUP(MID(J$27,5,4)&$A58,Lista_Ubigeo!$J:$K,2,0),\" \")","v":" "},{"$f":"IFERROR(VLOOKUP(MID(K$27,5,4)&$A58,Lista_Ubigeo!$J:$K,2,0),\" \")","v":" "},{"$f":"IFERROR(VLOOKUP(MID(L$27,5,4)&$A58,Lista_Ubigeo!$J:$K,2,0),\" \")","v":" "},{"$f":"IFERROR(VLOOKUP(MID(M$27,5,4)&$A58,Lista_Ubigeo!$J:$K,2,0),\" \")","v":" "},{"$f":"IFERROR(VLOOKUP(MID(N$27,5,4)&$A58,Lista_Ubigeo!$J:$K,2,0),\" \")","v":" "},{"$f":"IFERROR(VLOOKUP(MID(O$27,5,4)&$A58,Lista_Ubigeo!$J:$K,2,0),\" \")","v":" "},{"$f":"IFERROR(VLOOKUP(MID(P$27,5,4)&$A58,Lista_Ubigeo!$J:$K,2,0),\" \")","v":" "},{"$f":"IFERROR(VLOOKUP(MID(Q$27,5,4)&$A58,Lista_Ubigeo!$J:$K,2,0),\" \")","v":" "},{"$f":"IFERROR(VLOOKUP(MID(R$27,5,4)&$A58,Lista_Ubigeo!$J:$K,2,0),\" \")","v":" "},{"$f":"IFERROR(VLOOKUP(MID(S$27,5,4)&$A58,Lista_Ubigeo!$J:$K,2,0),\" \")","v":" "},{"$f":"IFERROR(VLOOKUP(MID(T$27,5,4)&$A58,Lista_Ubigeo!$J:$K,2,0),\" \")","v":" "},{"$f":"IFERROR(VLOOKUP(MID(U$27,5,4)&$A58,Lista_Ubigeo!$J:$K,2,0),\" \")","v":" "},{"$f":"IFERROR(VLOOKUP(MID(V$27,5,4)&$A58,Lista_Ubigeo!$J:$K,2,0),\" \")","v":" "},{"$f":"IFERROR(VLOOKUP(MID(W$27,5,4)&$A58,Lista_Ubigeo!$J:$K,2,0),\" \")","v":" "},{"$f":"IFERROR(VLOOKUP(MID(X$27,5,4)&$A58,Lista_Ubigeo!$J:$K,2,0),\" \")","v":" "},{"$f":"IFERROR(VLOOKUP(MID(Y$27,5,4)&$A58,Lista_Ubigeo!$J:$K,2,0),\" \")","v":" "},{"$f":"IFERROR(VLOOKUP(MID(Z$27,5,4)&$A58,Lista_Ubigeo!$J:$K,2,0),\" \")","v":" "},{"$f":"IFERROR(VLOOKUP(MID(AA$27,5,4)&$A58,Lista_Ubigeo!$J:$K,2,0),\" \")","v":" "},{"$f":"IFERROR(VLOOKUP(MID(AB$27,5,4)&$A58,Lista_Ubigeo!$J:$K,2,0),\" \")","v":" "},{"$f":"IFERROR(VLOOKUP(MID(AC$27,5,4)&$A58,Lista_Ubigeo!$J:$K,2,0),\" \")","v":" "},{"$f":"IFERROR(VLOOKUP(MID(AD$27,5,4)&$A58,Lista_Ubigeo!$J:$K,2,0),\" \")","v":" "},{"$f":"IFERROR(VLOOKUP(MID(AE$27,5,4)&$A58,Lista_Ubigeo!$J:$K,2,0),\" \")","v":" "},{"$f":"IFERROR(VLOOKUP(MID(AF$27,5,4)&$A58,Lista_Ubigeo!$J:$K,2,0),\" \")","v":" "},{"$f":"IFERROR(VLOOKUP(MID(AG$27,5,4)&$A58,Lista_Ubigeo!$J:$K,2,0),\" \")","v":" "},{"$f":"IFERROR(VLOOKUP(MID(AH$27,5,4)&$A58,Lista_Ubigeo!$J:$K,2,0),\" \")","v":" "},{"$f":"IFERROR(VLOOKUP(MID(AI$27,5,4)&$A58,Lista_Ubigeo!$J:$K,2,0),\" \")","v":" "},{"$f":"IFERROR(VLOOKUP(MID(AJ$27,5,4)&$A58,Lista_Ubigeo!$J:$K,2,0),\" \")","v":" "},{"$f":"IFERROR(VLOOKUP(MID(AK$27,5,4)&$A58,Lista_Ubigeo!$J:$K,2,0),\" \")","v":" "},{"$f":"IFERROR(VLOOKUP(MID(AL$27,5,4)&$A58,Lista_Ubigeo!$J:$K,2,0),\" \")","v":" "},{"$f":"IFERROR(VLOOKUP(MID(AM$27,5,4)&$A58,Lista_Ubigeo!$J:$K,2,0),\" \")","v":" "},{"$f":"IFERROR(VLOOKUP(MID(AN$27,5,4)&$A58,Lista_Ubigeo!$J:$K,2,0),\" \")","v":" "},{"$f":"IFERROR(VLOOKUP(MID(AO$27,5,4)&$A58,Lista_Ubigeo!$J:$K,2,0),\" \")","v":" "},{"$f":"IFERROR(VLOOKUP(MID(AP$27,5,4)&$A58,Lista_Ubigeo!$J:$K,2,0),\" \")","v":" "},{"$f":"IFERROR(VLOOKUP(MID(AQ$27,4,4)&$A58,Lista_Ubigeo!$J:$K,2,0),\" \")","v":" "},{"$f":"IFERROR(VLOOKUP(MID(AR$27,5,4)&$A58,Lista_Ubigeo!$J:$K,2,0),\" \")","v":" "},{"$f":"IFERROR(VLOOKUP(MID(AS$27,5,4)&$A58,Lista_Ubigeo!$J:$K,2,0),\" \")","v":" "},{"$f":"IFERROR(VLOOKUP(MID(AT$27,5,4)&$A58,Lista_Ubigeo!$J:$K,2,0),\" \")","v":" "},{"$f":"IFERROR(VLOOKUP(MID(AU$27,5,4)&$A58,Lista_Ubigeo!$J:$K,2,0),\" \")","v":" "},{"$f":"IFERROR(VLOOKUP(MID(AV$27,5,4)&$A58,Lista_Ubigeo!$J:$K,2,0),\" \")","v":" "},{"$f":"IFERROR(VLOOKUP(MID(AW$27,5,4)&$A58,Lista_Ubigeo!$J:$K,2,0),\" \")","v":" "},{"$f":"IFERROR(VLOOKUP(MID(AX$27,5,4)&$A58,Lista_Ubigeo!$J:$K,2,0),\" \")","v":" "},{"$f":"IFERROR(VLOOKUP(MID(AY$27,5,4)&$A58,Lista_Ubigeo!$J:$K,2,0),\" \")","v":" "},{"$f":"IFERROR(VLOOKUP(MID(AZ$27,5,4)&$A58,Lista_Ubigeo!$J:$K,2,0),\" \")","v":" "},{"$f":"IFERROR(VLOOKUP(MID(BA$27,5,4)&$A58,Lista_Ubigeo!$J:$K,2,0),\" \")","v":" "},{"$f":"IFERROR(VLOOKUP(MID(BB$27,5,4)&$A58,Lista_Ubigeo!$J:$K,2,0),\" \")","v":" "},{"$f":"IFERROR(VLOOKUP(MID(BC$27,5,4)&$A58,Lista_Ubigeo!$J:$K,2,0),\" \")","v":" "},{"$f":"IFERROR(VLOOKUP(MID(BD$27,5,4)&$A58,Lista_Ubigeo!$J:$K,2,0),\" \")","v":" "},{"$f":"IFERROR(VLOOKUP(MID(BE$27,5,4)&$A58,Lista_Ubigeo!$J:$K,2,0),\" \")","v":" "},{"$f":"IFERROR(VLOOKUP(MID(BF$27,5,4)&$A58,Lista_Ubigeo!$J:$K,2,0),\" \")","v":" "},{"$f":"IFERROR(VLOOKUP(MID(BG$27,5,4)&$A58,Lista_Ubigeo!$J:$K,2,0),\" \")","v":" "},{"$f":"IFERROR(VLOOKUP(MID(BH$27,5,4)&$A58,Lista_Ubigeo!$J:$K,2,0),\" \")","v":" "},{"$f":"IFERROR(VLOOKUP(MID(BI$27,5,4)&$A58,Lista_Ubigeo!$J:$K,2,0),\" \")","v":" "},{"$f":"IFERROR(VLOOKUP(MID(BJ$27,5,4)&$A58,Lista_Ubigeo!$J:$K,2,0),\" \")","v":" "},{"$f":"IFERROR(VLOOKUP(MID(BK$27,5,4)&$A58,Lista_Ubigeo!$J:$K,2,0),\" \")","v":" "},{"$f":"IFERROR(VLOOKUP(MID(BL$27,5,4)&$A58,Lista_Ubigeo!$J:$K,2,0),\" \")","v":" "},{"$f":"IFERROR(VLOOKUP(MID(BM$27,5,4)&$A58,Lista_Ubigeo!$J:$K,2,0),\" \")","v":" "},{"$f":"IFERROR(VLOOKUP(MID(BN$27,5,4)&$A58,Lista_Ubigeo!$J:$K,2,0),\" \")","v":" "},{"$f":"IFERROR(VLOOKUP(MID(BO$27,5,4)&$A58,Lista_Ubigeo!$J:$K,2,0),\" \")","v":" "},{"$f":"IFERROR(VLOOKUP(MID(BP$27,5,4)&$A58,Lista_Ubigeo!$J:$K,2,0),\" \")","v":" "},{"$f":"IFERROR(VLOOKUP(MID(BQ$27,5,4)&$A58,Lista_Ubigeo!$J:$K,2,0),\" \")","v":" "},{"$f":"IFERROR(VLOOKUP(MID(BR$27,5,4)&$A58,Lista_Ubigeo!$J:$K,2,0),\" \")","v":" "},{"$f":"IFERROR(VLOOKUP(MID(BS$27,5,4)&$A58,Lista_Ubigeo!$J:$K,2,0),\" \")","v":" "},{"$f":"IFERROR(VLOOKUP(MID(BT$27,5,4)&$A58,Lista_Ubigeo!$J:$K,2,0),\" \")","v":" "},{"$f":"IFERROR(VLOOKUP(MID(BU$27,5,4)&$A58,Lista_Ubigeo!$J:$K,2,0),\" \")","v":" "},{"$f":"IFERROR(VLOOKUP(MID(BV$27,5,4)&$A58,Lista_Ubigeo!$J:$K,2,0),\" \")","v":" "},{"$f":"IFERROR(VLOOKUP(MID(BW$27,5,4)&$A58,Lista_Ubigeo!$J:$K,2,0),\" \")","v":" "},{"$f":"IFERROR(VLOOKUP(MID(BX$27,5,4)&$A58,Lista_Ubigeo!$J:$K,2,0),\" \")","v":" "},{"$f":"IFERROR(VLOOKUP(MID(BY$27,4,4)&$A58,Lista_Ubigeo!$J:$K,2,0),\" \")","v":" "},{"$f":"IFERROR(VLOOKUP(MID(BZ$27,5,4)&$A58,Lista_Ubigeo!$J:$K,2,0),\" \")","v":" "},{"$f":"IFERROR(VLOOKUP(MID(CA$27,5,4)&$A58,Lista_Ubigeo!$J:$K,2,0),\" \")","v":" "},{"$f":"IFERROR(VLOOKUP(MID(CB$27,5,4)&$A58,Lista_Ubigeo!$J:$K,2,0),\" \")","v":" "},{"$f":"IFERROR(VLOOKUP(MID(CC$27,5,4)&$A58,Lista_Ubigeo!$J:$K,2,0),\" \")","v":" "},{"$f":"IFERROR(VLOOKUP(MID(CD$27,5,4)&$A58,Lista_Ubigeo!$J:$K,2,0),\" \")","v":" "},{"$f":"IFERROR(VLOOKUP(MID(CE$27,5,4)&$A58,Lista_Ubigeo!$J:$K,2,0),\" \")","v":" "},{"$f":"IFERROR(VLOOKUP(MID(CF$27,5,4)&$A58,Lista_Ubigeo!$J:$K,2,0),\" \")","v":" "},{"$f":"IFERROR(VLOOKUP(MID(CG$27,5,4)&$A58,Lista_Ubigeo!$J:$K,2,0),\" \")","v":" "},{"$f":"IFERROR(VLOOKUP(MID(CH$27,5,4)&$A58,Lista_Ubigeo!$J:$K,2,0),\" \")","v":" "},{"$f":"IFERROR(VLOOKUP(MID(CI$27,5,4)&$A58,Lista_Ubigeo!$J:$K,2,0),\" \")","v":" "},{"$f":"IFERROR(VLOOKUP(MID(CJ$27,5,4)&$A58,Lista_Ubigeo!$J:$K,2,0),\" \")","v":" "},{"$f":"IFERROR(VLOOKUP(MID(CK$27,5,4)&$A58,Lista_Ubigeo!$J:$K,2,0),\" \")","v":" "},{"$f":"IFERROR(VLOOKUP(MID(CL$27,5,4)&$A58,Lista_Ubigeo!$J:$K,2,0),\" \")","v":" "},{"$f":"IFERROR(VLOOKUP(MID(CM$27,5,4)&$A69,Lista_Ubigeo!$J:$K,2,0),\" \")","v":" "},{"$f":"IFERROR(VLOOKUP(MID(CN$27,5,4)&$A58,Lista_Ubigeo!$J:$K,2,0),\" \")","v":" "},{"$f":"IFERROR(VLOOKUP(MID(CO$27,5,4)&$A58,Lista_Ubigeo!$J:$K,2,0),\" \")","v":" "},{"$f":"IFERROR(VLOOKUP(MID(CP$27,5,4)&$A58,Lista_Ubigeo!$J:$K,2,0),\" \")","v":" "},{"$f":"IFERROR(VLOOKUP(MID(CQ$27,5,4)&$A58,Lista_Ubigeo!$J:$K,2,0),\" \")","v":" "},{"$f":"IFERROR(VLOOKUP(MID(CR$27,5,4)&$A58,Lista_Ubigeo!$J:$K,2,0),\" \")","v":" "},{"$f":"IFERROR(VLOOKUP(MID(CS$27,5,4)&$A58,Lista_Ubigeo!$J:$K,2,0),\" \")","v":" "},{"$f":"IFERROR(VLOOKUP(MID(CT$27,5,4)&$A58,Lista_Ubigeo!$J:$K,2,0),\" \")","v":" "},{"$f":"IFERROR(VLOOKUP(MID(CU$27,5,4)&$A58,Lista_Ubigeo!$J:$K,2,0),\" \")","v":" "},{"$f":"IFERROR(VLOOKUP(MID(CV$27,5,4)&$A58,Lista_Ubigeo!$J:$K,2,0),\" \")","v":" "},{"$f":"IFERROR(VLOOKUP(MID(CW$27,5,4)&$A58,Lista_Ubigeo!$J:$K,2,0),\" \")","v":" "},{"$f":"IFERROR(VLOOKUP(MID(CX$27,5,4)&$A58,Lista_Ubigeo!$J:$K,2,0),\" \")","v":" "},{"$f":"IFERROR(VLOOKUP(MID(CY$27,5,4)&$A58,Lista_Ubigeo!$J:$K,2,0),\" \")","v":" "},{"$f":"IFERROR(VLOOKUP(MID(CZ$27,5,4)&$A58,Lista_Ubigeo!$J:$K,2,0),\" \")","v":" "},null,{"$f":"IFERROR(VLOOKUP(MID(DB$27,5,4)&$A58,Lista_Ubigeo!$J:$K,2,0),\" \")","v":" "},{"$f":"IFERROR(VLOOKUP(MID(DC$27,5,4)&$A58,Lista_Ubigeo!$J:$K,2,0),\" \")","v":" "},{"$f":"IFERROR(VLOOKUP(MID(DD$27,5,4)&$A58,Lista_Ubigeo!$J:$K,2,0),\" \")","v":"SINCOS"},{"$f":"IFERROR(VLOOKUP(MID(DE$27,5,4)&$A58,Lista_Ubigeo!$J:$K,2,0),\" \")","v":" "},{"$f":"IFERROR(VLOOKUP(MID(DF$27,5,4)&$A58,Lista_Ubigeo!$J:$K,2,0),\" \")","v":" "},{"$f":"IFERROR(VLOOKUP(MID(DG$27,5,4)&$A58,Lista_Ubigeo!$J:$K,2,0),\" \")","v":" "},{"$f":"IFERROR(VLOOKUP(MID(DH$27,5,4)&$A58,Lista_Ubigeo!$J:$K,2,0),\" \")","v":" "},{"$f":"IFERROR(VLOOKUP(MID(DI$27,5,4)&$A58,Lista_Ubigeo!$J:$K,2,0),\" \")","v":" "},{"$f":"IFERROR(VLOOKUP(MID(DJ$27,5,4)&$A58,Lista_Ubigeo!$J:$K,2,0),\" \")","v":" "},{"$f":"IFERROR(VLOOKUP(MID(DK$27,5,4)&$A58,Lista_Ubigeo!$J:$K,2,0),\" \")","v":" "},{"$f":"IFERROR(VLOOKUP(MID(DL$27,5,4)&$A58,Lista_Ubigeo!$J:$K,2,0),\" \")","v":" "},{"$f":"IFERROR(VLOOKUP(MID(DM$27,5,4)&$A58,Lista_Ubigeo!$J:$K,2,0),\" \")","v":" "},{"$f":"IFERROR(VLOOKUP(MID(DN$27,5,4)&$A58,Lista_Ubigeo!$J:$K,2,0),\" \")","v":" "},{"$f":"IFERROR(VLOOKUP(MID(DO$27,5,4)&$A59,Lista_Ubigeo!$J:$K,2,0),\" \")","v":" "},{"$f":"IFERROR(VLOOKUP(MID(DP$27,5,4)&$A58,Lista_Ubigeo!$J:$K,2,0),\" \")","v":" "},{"$f":"IFERROR(VLOOKUP(MID(DQ$27,5,4)&$A58,Lista_Ubigeo!$J:$K,2,0),\" \")","v":" "},{"$f":"IFERROR(VLOOKUP(MID(DR$27,5,4)&$A58,Lista_Ubigeo!$J:$K,2,0),\" \")","v":" "},{"$f":"IFERROR(VLOOKUP(MID(DS$27,5,4)&$A58,Lista_Ubigeo!$J:$K,2,0),\" \")","v":" "},null,null,{"$f":"IFERROR(VLOOKUP(MID(DV$27,5,4)&$A58,Lista_Ubigeo!$J:$K,2,0),\" \")","v":" "},{"$f":"IFERROR(VLOOKUP(MID(DW$27,5,4)&$A58,Lista_Ubigeo!$J:$K,2,0),\" \")","v":" "},{"$f":"IFERROR(VLOOKUP(MID(DX$27,5,4)&$A58,Lista_Ubigeo!$J:$K,2,0),\" \")","v":" "},{"$f":"IFERROR(VLOOKUP(MID(DY$27,5,4)&$A58,Lista_Ubigeo!$J:$K,2,0),\" \")","v":"SAN ISIDRO"},{"$f":"IFERROR(VLOOKUP(MID(DZ$27,5,4)&$A58,Lista_Ubigeo!$J:$K,2,0),\" \")","v":" "},{"$f":"IFERROR(VLOOKUP(MID(EA$27,5,4)&$A58,Lista_Ubigeo!$J:$K,2,0),\" \")","v":" "},{"$f":"IFERROR(VLOOKUP(MID(EB$27,5,4)&$A58,Lista_Ubigeo!$J:$K,2,0),\" \")","v":" "},{"$f":"IFERROR(VLOOKUP(MID(EC$27,5,4)&$A58,Lista_Ubigeo!$J:$K,2,0),\" \")","v":" "},{"$f":"IFERROR(VLOOKUP(MID(ED$27,5,4)&$A58,Lista_Ubigeo!$J:$K,2,0),\" \")","v":" "},{"$f":"IFERROR(VLOOKUP(MID(EE$27,5,4)&$A58,Lista_Ubigeo!$J:$K,2,0),\" \")","v":"SANTO DOMINGO DE LOS OLLERO"},{"$f":"IFERROR(VLOOKUP(MID(EF$27,5,4)&$A58,Lista_Ubigeo!$J:$K,2,0),\" \")","v":" "},{"$f":"IFERROR(VLOOKUP(MID(EG$27,5,4)&$A58,Lista_Ubigeo!$J:$K,2,0),\" \")","v":" "},{"$f":"IFERROR(VLOOKUP(MID(EH$27,5,4)&$A58,Lista_Ubigeo!$J:$K,2,0),\" \")","v":"TUPE"},{"$f":"IFERROR(VLOOKUP(MID(EI$27,5,4)&$A58,Lista_Ubigeo!$J:$K,2,0),\" \")","v":" "},{"$f":"IFERROR(VLOOKUP(MID(EJ$27,5,4)&$A63,Lista_Ubigeo!$J:$K,2,0),\" \")","v":" "},{"$f":"IFERROR(VLOOKUP(MID(EK$27,5,4)&$A58,Lista_Ubigeo!$J:$K,2,0),\" \")","v":" "},{"$f":"IFERROR(VLOOKUP(MID(EL$27,5,4)&$A58,Lista_Ubigeo!$J:$K,2,0),\" \")","v":" "},{"$f":"IFERROR(VLOOKUP(MID(EM$27,5,4)&$A58,Lista_Ubigeo!$J:$K,2,0),\" \")","v":" "},{"$f":"IFERROR(VLOOKUP(MID(EN$27,5,4)&$A58,Lista_Ubigeo!$J:$K,2,0),\" \")","v":" "},{"$f":"IFERROR(VLOOKUP(MID(EO$27,5,4)&$A58,Lista_Ubigeo!$J:$K,2,0),\" \")","v":" "},{"$f":"IFERROR(VLOOKUP(MID(EP$27,5,4)&$A58,Lista_Ubigeo!$J:$K,2,0),\" \")","v":" "},{"$f":"IFERROR(VLOOKUP(MID(EQ$27,5,4)&$A58,Lista_Ubigeo!$J:$K,2,0),\" \")","v":" "},{"$f":"IFERROR(VLOOKUP(MID(ER$27,5,4)&$A58,Lista_Ubigeo!$J:$K,2,0),\" \")","v":" "},{"$f":"IFERROR(VLOOKUP(MID(ES$27,5,4)&$A58,Lista_Ubigeo!$J:$K,2,0),\" \")","v":" "},{"$f":"IFERROR(VLOOKUP(MID(ET$27,5,4)&$A58,Lista_Ubigeo!$J:$K,2,0),\" \")","v":" "},{"$f":"IFERROR(VLOOKUP(MID(EU$27,5,4)&$A58,Lista_Ubigeo!$J:$K,2,0),\" \")","v":" "},{"$f":"IFERROR(VLOOKUP(MID(EV$27,5,4)&$A58,Lista_Ubigeo!$J:$K,2,0),\" \")","v":" "},{"$f":"IFERROR(VLOOKUP(MID(EW$27,5,4)&$A58,Lista_Ubigeo!$J:$K,2,0),\" \")","v":" "},{"$f":"IFERROR(VLOOKUP(MID(EX$27,5,4)&$A58,Lista_Ubigeo!$J:$K,2,0),\" \")","v":" "},{"$f":"IFERROR(VLOOKUP(MID(EY$27,5,4)&$A58,Lista_Ubigeo!$J:$K,2,0),\" \")","v":" "},{"$f":"IFERROR(VLOOKUP(MID(EZ$27,5,4)&$A61,Lista_Ubigeo!$J:$K,2,0),\" \")","v":" "},{"$f":"IFERROR(VLOOKUP(MID(FA$27,5,4)&$A58,Lista_Ubigeo!$J:$K,2,0),\" \")","v":" "},{"$f":"IFERROR(VLOOKUP(MID(FB$27,5,4)&$A58,Lista_Ubigeo!$J:$K,2,0),\" \")","v":" "},{"$f":"IFERROR(VLOOKUP(MID(FC$27,5,4)&$A58,Lista_Ubigeo!$J:$K,2,0),\" \")","v":" "},{"$f":"IFERROR(VLOOKUP(MID(FD$27,5,4)&$A58,Lista_Ubigeo!$J:$K,2,0),\" \")","v":" "},{"$f":"IFERROR(VLOOKUP(MID(FE$27,5,4)&$A58,Lista_Ubigeo!$J:$K,2,0),\" \")","v":" "},{"$f":"IFERROR(VLOOKUP(MID(FF$27,5,4)&$A58,Lista_Ubigeo!$J:$K,2,0),\" \")","v":" "},{"$f":"IFERROR(VLOOKUP(MID(FG$27,5,4)&$A58,Lista_Ubigeo!$J:$K,2,0),\" \")","v":" "},{"$f":"IFERROR(VLOOKUP(MID(FH$27,5,4)&$A58,Lista_Ubigeo!$J:$K,2,0),\" \")","v":" "},{"$f":"IFERROR(VLOOKUP(MID(FI$27,5,4)&$A58,Lista_Ubigeo!$J:$K,2,0),\" \")","v":" "},{"$f":"IFERROR(VLOOKUP(MID(FJ$27,5,4)&$A58,Lista_Ubigeo!$J:$K,2,0),\" \")","v":" "},{"$f":"IFERROR(VLOOKUP(MID(FK$27,5,4)&$A58,Lista_Ubigeo!$J:$K,2,0),\" \")","v":" "},{"$f":"IFERROR(VLOOKUP(MID(FL$27,5,4)&$A58,Lista_Ubigeo!$J:$K,2,0),\" \")","v":" "},{"$f":"IFERROR(VLOOKUP(MID(FM$27,5,4)&$A58,Lista_Ubigeo!$J:$K,2,0),\" \")","v":" "},{"$f":"IFERROR(VLOOKUP(MID(FN$27,5,4)&$A58,Lista_Ubigeo!$J:$K,2,0),\" \")","v":" "},{"$f":"IFERROR(VLOOKUP(MID(FO$27,5,4)&$A58,Lista_Ubigeo!$J:$K,2,0),\" \")","v":" "},{"$f":"IFERROR(VLOOKUP(MID(FP$27,5,4)&$A58,Lista_Ubigeo!$J:$K,2,0),\" \")","v":" "},{"$f":"IFERROR(VLOOKUP(MID(FQ$27,5,4)&$A58,Lista_Ubigeo!$J:$K,2,0),\" \")","v":" "},{"$f":"IFERROR(VLOOKUP(MID(FR$27,5,4)&$A58,Lista_Ubigeo!$J:$K,2,0),\" \")","v":" "},{"$f":"IFERROR(VLOOKUP(MID(FS$27,5,4)&$A58,Lista_Ubigeo!$J:$K,2,0),\" \")","v":" "},{"$f":"IFERROR(VLOOKUP(MID(FT$27,5,4)&$A58,Lista_Ubigeo!$J:$K,2,0),\" \")","v":" "},{"$f":"IFERROR(VLOOKUP(MID(FU$27,5,4)&$A58,Lista_Ubigeo!$J:$K,2,0),\" \")","v":" "},{"$f":"IFERROR(VLOOKUP(MID(FV$27,5,4)&$A58,Lista_Ubigeo!$J:$K,2,0),\" \")","v":" "},{"$f":"IFERROR(VLOOKUP(MID(FW$27,5,4)&$A58,Lista_Ubigeo!$J:$K,2,0),\" \")","v":" "},{"$f":"IFERROR(VLOOKUP(MID(FX$27,5,4)&$A58,Lista_Ubigeo!$J:$K,2,0),\" \")","v":" "},{"$f":"IFERROR(VLOOKUP(MID(FY$27,5,4)&$A58,Lista_Ubigeo!$J:$K,2,0),\" \")","v":" "},{"$f":"IFERROR(VLOOKUP(MID(FZ$27,5,4)&$A58,Lista_Ubigeo!$J:$K,2,0),\" \")","v":" "},{"$f":"IFERROR(VLOOKUP(MID(GA$27,5,4)&$A58,Lista_Ubigeo!$J:$K,2,0),\" \")","v":" "},{"$f":"IFERROR(VLOOKUP(MID(GB$27,5,4)&$A58,Lista_Ubigeo!$J:$K,2,0),\" \")","v":" "},{"$f":"IFERROR(VLOOKUP(MID(GC$27,5,4)&$A58,Lista_Ubigeo!$J:$K,2,0),\" \")","v":" "},{"$f":"IFERROR(VLOOKUP(MID(GD$27,5,4)&$A58,Lista_Ubigeo!$J:$K,2,0),\" \")","v":" "},{"$f":"IFERROR(VLOOKUP(MID(GE$27,5,4)&$A58,Lista_Ubigeo!$J:$K,2,0),\" \")","v":" "},{"$f":"IFERROR(VLOOKUP(MID(GF$27,5,4)&$A58,Lista_Ubigeo!$J:$K,2,0),\" \")","v":" "},{"$f":"IFERROR(VLOOKUP(MID(GG$27,5,4)&$A58,Lista_Ubigeo!$J:$K,2,0),\" \")","v":" "},{"$f":"IFERROR(VLOOKUP(MID(GH$27,5,4)&$A58,Lista_Ubigeo!$J:$K,2,0),\" \")","v":" "},{"$f":"IFERROR(VLOOKUP(MID(GI$27,5,4)&$A58,Lista_Ubigeo!$J:$K,2,0),\" \")","v":" "},{"$f":"IFERROR(VLOOKUP(MID(GJ$27,5,4)&$A58,Lista_Ubigeo!$J:$K,2,0),\" \")","v":" "},{"$f":"IFERROR(VLOOKUP(MID(GK$27,5,4)&$A58,Lista_Ubigeo!$J:$K,2,0),\" \")","v":" "},{"$f":"IFERROR(VLOOKUP(MID(GL$27,5,4)&$A58,Lista_Ubigeo!$J:$K,2,0),\" \")","v":" "},{"$f":"IFERROR(VLOOKUP(MID(GM$27,5,4)&$A58,Lista_Ubigeo!$J:$K,2,0),\" \")","v":" "},{"$f":"IFERROR(VLOOKUP(MID(GN$27,5,4)&$A58,Lista_Ubigeo!$J:$K,2,0),\" \")","v":" "},{"$f":"IFERROR(VLOOKUP(MID(GO$27,5,4)&$A58,Lista_Ubigeo!$J:$K,2,0),\" \")","v":" "},{"$f":"IFERROR(VLOOKUP(MID(GP$27,5,4)&$A58,Lista_Ubigeo!$J:$K,2,0),\" \")","v":" "}]
["32",{"$f":"IFERROR(VLOOKUP(MID(B$27,5,4)&$A59,Lista_Ubigeo!$J:$K,2,0),\" \")","v":" "},{"$f":"IFERROR(VLOOKUP(MID(C$27,5,4)&$A59,Lista_Ubigeo!$J:$K,2,0),\" \")","v":" "},{"$f":"IFERROR(VLOOKUP(MID(D$27,5,4)&$A59,Lista_Ubigeo!$J:$K,2,0),\" \")","v":" "},{"$f":"IFERROR(VLOOKUP(MID(E$27,5,4)&$A59,Lista_Ubigeo!$J:$K,2,0),\" \")","v":" "},{"$f":"IFERROR(VLOOKUP(MID(F$27,5,4)&$A59,Lista_Ubigeo!$J:$K,2,0),\" \")","v":" "},{"$f":"IFERROR(VLOOKUP(MID(G$27,5,4)&$A59,Lista_Ubigeo!$J:$K,2,0),\" \")","v":" "},{"$f":"IFERROR(VLOOKUP(MID(H$27,5,4)&$A59,Lista_Ubigeo!$J:$K,2,0),\" \")","v":" "},{"$f":"IFERROR(VLOOKUP(MID(I$27,5,4)&$A59,Lista_Ubigeo!$J:$K,2,0),\" \")","v":" "},{"$f":"IFERROR(VLOOKUP(MID(J$27,5,4)&$A59,Lista_Ubigeo!$J:$K,2,0),\" \")","v":" "},{"$f":"IFERROR(VLOOKUP(MID(K$27,5,4)&$A59,Lista_Ubigeo!$J:$K,2,0),\" \")","v":" "},{"$f":"IFERROR(VLOOKUP(MID(L$27,5,4)&$A59,Lista_Ubigeo!$J:$K,2,0),\" \")","v":" "},{"$f":"IFERROR(VLOOKUP(MID(M$27,5,4)&$A59,Lista_Ubigeo!$J:$K,2,0),\" \")","v":" "},{"$f":"IFERROR(VLOOKUP(MID(N$27,5,4)&$A59,Lista_Ubigeo!$J:$K,2,0),\" \")","v":" "},{"$f":"IFERROR(VLOOKUP(MID(O$27,5,4)&$A59,Lista_Ubigeo!$J:$K,2,0),\" \")","v":" "},{"$f":"IFERROR(VLOOKUP(MID(P$27,5,4)&$A59,Lista_Ubigeo!$J:$K,2,0),\" \")","v":" "},{"$f":"IFERROR(VLOOKUP(MID(Q$27,5,4)&$A59,Lista_Ubigeo!$J:$K,2,0),\" \")","v":" "},{"$f":"IFERROR(VLOOKUP(MID(R$27,5,4)&$A59,Lista_Ubigeo!$J:$K,2,0),\" \")","v":" "},{"$f":"IFERROR(VLOOKUP(MID(S$27,5,4)&$A59,Lista_Ubigeo!$J:$K,2,0),\" \")","v":" "},{"$f":"IFERROR(VLOOKUP(MID(T$27,5,4)&$A59,Lista_Ubigeo!$J:$K,2,0),\" \")","v":" "},{"$f":"IFERROR(VLOOKUP(MID(U$27,5,4)&$A59,Lista_Ubigeo!$J:$K,2,0),\" \")","v":" "},{"$f":"IFERROR(VLOOKUP(MID(V$27,5,4)&$A59,Lista_Ubigeo!$J:$K,2,0),\" \")","v":" "},{"$f":"IFERROR(VLOOKUP(MID(W$27,5,4)&$A59,Lista_Ubigeo!$J:$K,2,0),\" \")","v":" "},{"$f":"IFERROR(VLOOKUP(MID(X$27,5,4)&$A59,Lista_Ubigeo!$J:$K,2,0),\" \")","v":" "},{"$f":"IFERROR(VLOOKUP(MID(Y$27,5,4)&$A59,Lista_Ubigeo!$J:$K,2,0),\" \")","v":" "},{"$f":"IFERROR(VLOOKUP(MID(Z$27,5,4)&$A59,Lista_Ubigeo!$J:$K,2,0),\" \")","v":" "},{"$f":"IFERROR(VLOOKUP(MID(AA$27,5,4)&$A59,Lista_Ubigeo!$J:$K,2,0),\" \")","v":" "},{"$f":"IFERROR(VLOOKUP(MID(AB$27,5,4)&$A59,Lista_Ubigeo!$J:$K,2,0),\" \")","v":" "},{"$f":"IFERROR(VLOOKUP(MID(AC$27,5,4)&$A59,Lista_Ubigeo!$J:$K,2,0),\" \")","v":" "},{"$f":"IFERROR(VLOOKUP(MID(AD$27,5,4)&$A59,Lista_Ubigeo!$J:$K,2,0),\" \")","v":" "},{"$f":"IFERROR(VLOOKUP(MID(AE$27,5,4)&$A59,Lista_Ubigeo!$J:$K,2,0),\" \")","v":" "},{"$f":"IFERROR(VLOOKUP(MID(AF$27,5,4)&$A59,Lista_Ubigeo!$J:$K,2,0),\" \")","v":" "},{"$f":"IFERROR(VLOOKUP(MID(AG$27,5,4)&$A59,Lista_Ubigeo!$J:$K,2,0),\" \")","v":" "},{"$f":"IFERROR(VLOOKUP(MID(AH$27,5,4)&$A59,Lista_Ubigeo!$J:$K,2,0),\" \")","v":" "},{"$f":"IFERROR(VLOOKUP(MID(AI$27,5,4)&$A59,Lista_Ubigeo!$J:$K,2,0),\" \")","v":" "},{"$f":"IFERROR(VLOOKUP(MID(AJ$27,5,4)&$A59,Lista_Ubigeo!$J:$K,2,0),\" \")","v":" "},{"$f":"IFERROR(VLOOKUP(MID(AK$27,5,4)&$A59,Lista_Ubigeo!$J:$K,2,0),\" \")","v":" "},{"$f":"IFERROR(VLOOKUP(MID(AL$27,5,4)&$A59,Lista_Ubigeo!$J:$K,2,0),\" \")","v":" "},{"$f":"IFERROR(VLOOKUP(MID(AM$27,5,4)&$A59,Lista_Ubigeo!$J:$K,2,0),\" \")","v":" "},{"$f":"IFERROR(VLOOKUP(MID(AN$27,5,4)&$A59,Lista_Ubigeo!$J:$K,2,0),\" \")","v":" "},{"$f":"IFERROR(VLOOKUP(MID(AO$27,5,4)&$A59,Lista_Ubigeo!$J:$K,2,0),\" \")","v":" "},{"$f":"IFERROR(VLOOKUP(MID(AP$27,5,4)&$A59,Lista_Ubigeo!$J:$K,2,0),\" \")","v":" "},{"$f":"IFERROR(VLOOKUP(MID(AQ$27,4,4)&$A59,Lista_Ubigeo!$J:$K,2,0),\" \")","v":" "},{"$f":"IFERROR(VLOOKUP(MID(AR$27,5,4)&$A59,Lista_Ubigeo!$J:$K,2,0),\" \")","v":" "},{"$f":"IFERROR(VLOOKUP(MID(AS$27,5,4)&$A59,Lista_Ubigeo!$J:$K,2,0),\" \")","v":" "},{"$f":"IFERROR(VLOOKUP(MID(AT$27,5,4)&$A59,Lista_Ubigeo!$J:$K,2,0),\" \")","v":" "},{"$f":"IFERROR(VLOOKUP(MID(AU$27,5,4)&$A59,Lista_Ubigeo!$J:$K,2,0),\" \")","v":" "},{"$f":"IFERROR(VLOOKUP(MID(AV$27,5,4)&$A59,Lista_Ubigeo!$J:$K,2,0),\" \")","v":" "},{"$f":"IFERROR(VLOOKUP(MID(AW$27,5,4)&$A59,Lista_Ubigeo!$J:$K,2,0),\" \")","v":" "},{"$f":"IFERROR(VLOOKUP(MID(AX$27,5,4)&$A59,Lista_Ubigeo!$J:$K,2,0),\" \")","v":" "},{"$f":"IFERROR(VLOOKUP(MID(AY$27,5,4)&$A59,Lista_Ubigeo!$J:$K,2,0),\" \")","v":" "},{"$f":"IFERROR(VLOOKUP(MID(AZ$27,5,4)&$A59,Lista_Ubigeo!$J:$K,2,0),\" \")","v":" "},{"$f":"IFERROR(VLOOKUP(MID(BA$27,5,4)&$A59,Lista_Ubigeo!$J:$K,2,0),\" \")","v":" "},{"$f":"IFERROR(VLOOKUP(MID(BB$27,5,4)&$A59,Lista_Ubigeo!$J:$K,2,0),\" \")","v":" "},{"$f":"IFERROR(VLOOKUP(MID(BC$27,5,4)&$A59,Lista_Ubigeo!$J:$K,2,0),\" \")","v":" "},{"$f":"IFERROR(VLOOKUP(MID(BD$27,5,4)&$A59,Lista_Ubigeo!$J:$K,2,0),\" \")","v":" "},{"$f":"IFERROR(VLOOKUP(MID(BE$27,5,4)&$A59,Lista_Ubigeo!$J:$K,2,0),\" \")","v":" "},{"$f":"IFERROR(VLOOKUP(MID(BF$27,5,4)&$A59,Lista_Ubigeo!$J:$K,2,0),\" \")","v":" "},{"$f":"IFERROR(VLOOKUP(MID(BG$27,5,4)&$A59,Lista_Ubigeo!$J:$K,2,0),\" \")","v":" "},{"$f":"IFERROR(VLOOKUP(MID(BH$27,5,4)&$A59,Lista_Ubigeo!$J:$K,2,0),\" \")","v":" "},{"$f":"IFERROR(VLOOKUP(MID(BI$27,5,4)&$A59,Lista_Ubigeo!$J:$K,2,0),\" \")","v":" "},{"$f":"IFERROR(VLOOKUP(MID(BJ$27,5,4)&$A59,Lista_Ubigeo!$J:$K,2,0),\" \")","v":" "},{"$f":"IFERROR(VLOOKUP(MID(BK$27,5,4)&$A59,Lista_Ubigeo!$J:$K,2,0),\" \")","v":" "},{"$f":"IFERROR(VLOOKUP(MID(BL$27,5,4)&$A59,Lista_Ubigeo!$J:$K,2,0),\" \")","v":" "},{"$f":"IFERROR(VLOOKUP(MID(BM$27,5,4)&$A59,Lista_Ubigeo!$J:$K,2,0),\" \")","v":" "},{"$f":"IFERROR(VLOOKUP(MID(BN$27,5,4)&$A59,Lista_Ubigeo!$J:$K,2,0),\" \")","v":" "},{"$f":"IFERROR(VLOOKUP(MID(BO$27,5,4)&$A59,Lista_Ubigeo!$J:$K,2,0),\" \")","v":" "},{"$f":"IFERROR(VLOOKUP(MID(BP$27,5,4)&$A59,Lista_Ubigeo!$J:$K,2,0),\" \")","v":" "},{"$f":"IFERROR(VLOOKUP(MID(BQ$27,5,4)&$A59,Lista_Ubigeo!$J:$K,2,0),\" \")","v":" "},{"$f":"IFERROR(VLOOKUP(MID(BR$27,5,4)&$A59,Lista_Ubigeo!$J:$K,2,0),\" \")","v":" "},{"$f":"IFERROR(VLOOKUP(MID(BS$27,5,4)&$A59,Lista_Ubigeo!$J:$K,2,0),\" \")","v":" "},{"$f":"IFERROR(VLOOKUP(MID(BT$27,5,4)&$A59,Lista_Ubigeo!$J:$K,2,0),\" \")","v":" "},{"$f":"IFERROR(VLOOKUP(MID(BU$27,5,4)&$A59,Lista_Ubigeo!$J:$K,2,0),\" \")","v":" "},{"$f":"IFERROR(VLOOKUP(MID(BV$27,5,4)&$A59,Lista_Ubigeo!$J:$K,2,0),\" \")","v":" "},{"$f":"IFERROR(VLOOKUP(MID(BW$27,5,4)&$A59,Lista_Ubigeo!$J:$K,2,0),\" \")","v":" "},{"$f":"IFERROR(VLOOKUP(MID(BX$27,5,4)&$A59,Lista_Ubigeo!$J:$K,2,0),\" \")","v":" "},{"$f":"IFERROR(VLOOKUP(MID(BY$27,4,4)&$A59,Lista_Ubigeo!$J:$K,2,0),\" \")","v":" "},{"$f":"IFERROR(VLOOKUP(MID(BZ$27,5,4)&$A59,Lista_Ubigeo!$J:$K,2,0),\" \")","v":" "},{"$f":"IFERROR(VLOOKUP(MID(CA$27,5,4)&$A59,Lista_Ubigeo!$J:$K,2,0),\" \")","v":" "},{"$f":"IFERROR(VLOOKUP(MID(CB$27,5,4)&$A59,Lista_Ubigeo!$J:$K,2,0),\" \")","v":" "},{"$f":"IFERROR(VLOOKUP(MID(CC$27,5,4)&$A59,Lista_Ubigeo!$J:$K,2,0),\" \")","v":" "},{"$f":"IFERROR(VLOOKUP(MID(CD$27,5,4)&$A59,Lista_Ubigeo!$J:$K,2,0),\" \")","v":" "},{"$f":"IFERROR(VLOOKUP(MID(CE$27,5,4)&$A59,Lista_Ubigeo!$J:$K,2,0),\" \")","v":" "},{"$f":"IFERROR(VLOOKUP(MID(CF$27,5,4)&$A59,Lista_Ubigeo!$J:$K,2,0),\" \")","v":" "},{"$f":"IFERROR(VLOOKUP(MID(CG$27,5,4)&$A59,Lista_Ubigeo!$J:$K,2,0),\" \")","v":" "},{"$f":"IFERROR(VLOOKUP(MID(CH$27,5,4)&$A59,Lista_Ubigeo!$J:$K,2,0),\" \")","v":" "},{"$f":"IFERROR(VLOOKUP(MID(CI$27,5,4)&$A59,Lista_Ubigeo!$J:$K,2,0),\" \")","v":" "},{"$f":"IFERROR(VLOOKUP(MID(CJ$27,5,4)&$A59,Lista_Ubigeo!$J:$K,2,0),\" \")","v":" "},{"$f":"IFERROR(VLOOKUP(MID(CK$27,5,4)&$A59,Lista_Ubigeo!$J:$K,2,0),\" \")","v":" "},{"$f":"IFERROR(VLOOKUP(MID(CL$27,5,4)&$A59,Lista_Ubigeo!$J:$K,2,0),\" \")","v":" "},{"$f":"IFERROR(VLOOKUP(MID(CM$27,5,4)&$A70,Lista_Ubigeo!$J:$K,2,0),\" \")","v":" "},{"$f":"IFERROR(VLOOKUP(MID(CN$27,5,4)&$A59,Lista_Ubigeo!$J:$K,2,0),\" \")","v":" "},{"$f":"IFERROR(VLOOKUP(MID(CO$27,5,4)&$A59,Lista_Ubigeo!$J:$K,2,0),\" \")","v":" "},{"$f":"IFERROR(VLOOKUP(MID(CP$27,5,4)&$A59,Lista_Ubigeo!$J:$K,2,0),\" \")","v":" "},{"$f":"IFERROR(VLOOKUP(MID(CQ$27,5,4)&$A59,Lista_Ubigeo!$J:$K,2,0),\" \")","v":" "},{"$f":"IFERROR(VLOOKUP(MID(CR$27,5,4)&$A59,Lista_Ubigeo!$J:$K,2,0),\" \")","v":" "},{"$f":"IFERROR(VLOOKUP(MID(CS$27,5,4)&$A59,Lista_Ubigeo!$J:$K,2,0),\" \")","v":" "},{"$f":"IFERROR(VLOOKUP(MID(CT$27,5,4)&$A59,Lista_Ubigeo!$J:$K,2,0),\" \")","v":" "},{"$f":"IFERROR(VLOOKUP(MID(CU$27,5,4)&$A59,Lista_Ubigeo!$J:$K,2,0),\" \")","v":" "},{"$f":"IFERROR(VLOOKUP(MID(CV$27,5,4)&$A59,Lista_Ubigeo!$J:$K,2,0),\" \")","v":" "},{"$f":"IFERROR(VLOOKUP(MID(CW$27,5,4)&$A59,Lista_Ubigeo!$J:$K,2,0),\" \")","v":" "},{"$f":"IFERROR(VLOOKUP(MID(CX$27,5,4)&$A59,Lista_Ubigeo!$J:$K,2,0),\" \")","v":" "},{"$f":"IFERROR(VLOOKUP(MID(CY$27,5,4)&$A59,Lista_Ubigeo!$J:$K,2,0),\" \")","v":" "},{"$f":"IFERROR(VLOOKUP(MID(CZ$27,5,4)&$A59,Lista_Ubigeo!$J:$K,2,0),\" \")","v":" "},null,{"$f":"IFERROR(VLOOKUP(MID(DB$27,5,4)&$A59,Lista_Ubigeo!$J:$K,2,0),\" \")","v":" "},{"$f":"IFERROR(VLOOKUP(MID(DC$27,5,4)&$A59,Lista_Ubigeo!$J:$K,2,0),\" \")","v":" "},{"$f":"IFERROR(VLOOKUP(MID(DD$27,5,4)&$A59,Lista_Ubigeo!$J:$K,2,0),\" \")","v":"TUNAN MARCA"},{"$f":"IFERROR(VLOOKUP(MID(DE$27,5,4)&$A59,Lista_Ubigeo!$J:$K,2,0),\" \")","v":" "},{"$f":"IFERROR(VLOOKUP(MID(DF$27,5,4)&$A59,Lista_Ubigeo!$J:$K,2,0),\" \")","v":" "},{"$f":"IFERROR(VLOOKUP(MID(DG$27,5,4)&$A59,Lista_Ubigeo!$J:$K,2,0),\" \")","v":" "},{"$f":"IFERROR(VLOOKUP(MID(DH$27,5,4)&$A59,Lista_Ubigeo!$J:$K,2,0),\" \")","v":" "},{"$f":"IFERROR(VLOOKUP(MID(DI$27,5,4)&$A59,Lista_Ubigeo!$J:$K,2,0),\" \")","v":" "},{"$f":"IFERROR(VLOOKUP(MID(DJ$27,5,4)&$A59,Lista_Ubigeo!$J:$K,2,0),\" \")","v":" "},{"$f":"IFERROR(VLOOKUP(MID(DK$27,5,4)&$A59,Lista_Ubigeo!$J:$K,2,0),\" \")","v":" "},{"$f":"IFERROR(VLOOKUP(MID(DL$27,5,4)&$A59,Lista_Ubigeo!$J:$K,2,0),\" \")","v":" "},{"$f":"IFERROR(VLOOKUP(MID(DM$27,5,4)&$A59,Lista_Ubigeo!$J:$K,2,0),\" \")","v":" "},{"$f":"IFERROR(VLOOKUP(MID(DN$27,5,4)&$A59,Lista_Ubigeo!$J:$K,2,0),\" \")","v":" "},{"$f":"IFERROR(VLOOKUP(MID(DO$27,5,4)&$A60,Lista_Ubigeo!$J:$K,2,0),\" \")","v":" "},{"$f":"IFERROR(VLOOKUP(MID(DP$27,5,4)&$A59,Lista_Ubigeo!$J:$K,2,0),\" \")","v":" "},{"$f":"IFERROR(VLOOKUP(MID(DQ$27,5,4)&$A59,Lista_Ubigeo!$J:$K,2,0),\" \")","v":" "},{"$f":"IFERROR(VLOOKUP(MID(DR$27,5,4)&$A59,Lista_Ubigeo!$J:$K,2,0),\" \")","v":" "},{"$f":"IFERROR(VLOOKUP(MID(DS$27,5,4)&$A59,Lista_Ubigeo!$J:$K,2,0),\" \")","v":" "},null,null,{"$f":"IFERROR(VLOOKUP(MID(DV$27,5,4)&$A59,Lista_Ubigeo!$J:$K,2,0),\" \")","v":" "},{"$f":"IFERROR(VLOOKUP(MID(DW$27,5,4)&$A59,Lista_Ubigeo!$J:$K,2,0),\" \")","v":" "},{"$f":"IFERROR(VLOOKUP(MID(DX$27,5,4)&$A59,Lista_Ubigeo!$J:$K,2,0),\" \")","v":" "},{"$f":"IFERROR(VLOOKUP(MID(DY$27,5,4)&$A59,Lista_Ubigeo!$J:$K,2,0),\" \")","v":"SAN JUAN DE LURIGANCHO"},{"$f":"IFERROR(VLOOKUP(MID(DZ$27,5,4)&$A59,Lista_Ubigeo!$J:$K,2,0),\" \")","v":" "},{"$f":"IFERROR(VLOOKUP(MID(EA$27,5,4)&$A59,Lista_Ubigeo!$J:$K,2,0),\" \")","v":" "},{"$f":"IFERROR(VLOOKUP(MID(EB$27,5,4)&$A59,Lista_Ubigeo!$J:$K,2,0),\" \")","v":" "},{"$f":"IFERROR(VLOOKUP(MID(EC$27,5,4)&$A59,Lista_Ubigeo!$J:$K,2,0),\" \")","v":" "},{"$f":"IFERROR(VLOOKUP(MID(ED$27,5,4)&$A59,Lista_Ubigeo!$J:$K,2,0),\" \")","v":" "},{"$f":"IFERROR(VLOOKUP(MID(EE$27,5,4)&$A59,Lista_Ubigeo!$J:$K,2,0),\" \")","v":"SURCO"},{"$f":"IFERROR(VLOOKUP(MID(EF$27,5,4)&$A59,Lista_Ubigeo!$J:$K,2,0),\" \")","v":" "},{"$f":"IFERROR(VLOOKUP(MID(EG$27,5,4)&$A59,Lista_Ubigeo!$J:$K,2,0),\" \")","v":" "},{"$f":"IFERROR(VLOOKUP(MID(EH$27,5,4)&$A59,Lista_Ubigeo!$J:$K,2,0),\" \")","v":"VIÑAC"},{"$f":"IFERROR(VLOOKUP(MID(EI$27,5,4)&$A59,Lista_Ubigeo!$J:$K,2,0),\" \")","v":" "},{"$f":"IFERROR(VLOOKUP(MID(EJ$27,5,4)&$A64,Lista_Ubigeo!$J:$K,2,0),\" \")","v":" "},{"$f":"IFERROR(VLOOKUP(MID(EK$27,5,4)&$A59,Lista_Ubigeo!$J:$K,2,0),\" \")","v":" "},{"$f":"IFERROR(VLOOKUP(MID(EL$27,5,4)&$A59,Lista_Ubigeo!$J:$K,2,0),\" \")","v":" "},{"$f":"IFERROR(VLOOKUP(MID(EM$27,5,4)&$A59,Lista_Ubigeo!$J:$K,2,0),\" \")","v":" "},{"$f":"IFERROR(VLOOKUP(MID(EN$27,5,4)&$A59,Lista_Ubigeo!$J:$K,2,0),\" \")","v":" "},{"$f":"IFERROR(VLOOKUP(MID(EO$27,5,4)&$A59,Lista_Ubigeo!$J:$K,2,0),\" \")","v":" "},{"$f":"IFERROR(VLOOKUP(MID(EP$27,5,4)&$A59,Lista_Ubigeo!$J:$K,2,0),\" \")","v":" "},{"$f":"IFERROR(VLOOKUP(MID(EQ$27,5,4)&$A59,Lista_Ubigeo!$J:$K,2,0),\" \")","v":" "},{"$f":"IFERROR(VLOOKUP(MID(ER$27,5,4)&$A59,Lista_Ubigeo!$J:$K,2,0),\" \")","v":" "},{"$f":"IFERROR(VLOOKUP(MID(ES$27,5,4)&$A59,Lista_Ubigeo!$J:$K,2,0),\" \")","v":" "},{"$f":"IFERROR(VLOOKUP(MID(ET$27,5,4)&$A59,Lista_Ubigeo!$J:$K,2,0),\" \")","v":" "},{"$f":"IFERROR(VLOOKUP(MID(EU$27,5,4)&$A59,Lista_Ubigeo!$J:$K,2,0),\" \")","v":" "},{"$f":"IFERROR(VLOOKUP(MID(EV$27,5,4)&$A59,Lista_Ubigeo!$J:$K,2,0),\" \")","v":" "},{"$f":"IFERROR(VLOOKUP(MID(EW$27,5,4)&$A59,Lista_Ubigeo!$J:$K,2,0),\" \")","v":" "},{"$f":"IFERROR(VLOOKUP(MID(EX$27,5,4)&$A59,Lista_Ubigeo!$J:$K,2,0),\" \")","v":" "},{"$f":"IFERROR(VLOOKUP(MID(EY$27,5,4)&$A59,Lista_Ubigeo!$J:$K,2,0),\" \")","v":" "},{"$f":"IFERROR(VLOOKUP(MID(EZ$27,5,4)&$A62,Lista_Ubigeo!$J:$K,2,0),\" \")","v":" "},{"$f":"IFERROR(VLOOKUP(MID(FA$27,5,4)&$A59,Lista_Ubigeo!$J:$K,2,0),\" \")","v":" "},{"$f":"IFERROR(VLOOKUP(MID(FB$27,5,4)&$A59,Lista_Ubigeo!$J:$K,2,0),\" \")","v":" "},{"$f":"IFERROR(VLOOKUP(MID(FC$27,5,4)&$A59,Lista_Ubigeo!$J:$K,2,0),\" \")","v":" "},{"$f":"IFERROR(VLOOKUP(MID(FD$27,5,4)&$A59,Lista_Ubigeo!$J:$K,2,0),\" \")","v":" "},{"$f":"IFERROR(VLOOKUP(MID(FE$27,5,4)&$A59,Lista_Ubigeo!$J:$K,2,0),\" \")","v":" "},{"$f":"IFERROR(VLOOKUP(MID(FF$27,5,4)&$A59,Lista_Ubigeo!$J:$K,2,0),\" \")","v":" "},{"$f":"IFERROR(VLOOKUP(MID(FG$27,5,4)&$A59,Lista_Ubigeo!$J:$K,2,0),\" \")","v":" "},{"$f":"IFERROR(VLOOKUP(MID(FH$27,5,4)&$A59,Lista_Ubigeo!$J:$K,2,0),\" \")","v":" "},{"$f":"IFERROR(VLOOKUP(MID(FI$27,5,4)&$A59,Lista_Ubigeo!$J:$K,2,0),\" \")","v":" "},{"$f":"IFERROR(VLOOKUP(MID(FJ$27,5,4)&$A59,Lista_Ubigeo!$J:$K,2,0),\" \")","v":" "},{"$f":"IFERROR(VLOOKUP(MID(FK$27,5,4)&$A59,Lista_Ubigeo!$J:$K,2,0),\" \")","v":" "},{"$f":"IFERROR(VLOOKUP(MID(FL$27,5,4)&$A59,Lista_Ubigeo!$J:$K,2,0),\" \")","v":" "},{"$f":"IFERROR(VLOOKUP(MID(FM$27,5,4)&$A59,Lista_Ubigeo!$J:$K,2,0),\" \")","v":" "},{"$f":"IFERROR(VLOOKUP(MID(FN$27,5,4)&$A59,Lista_Ubigeo!$J:$K,2,0),\" \")","v":" "},{"$f":"IFERROR(VLOOKUP(MID(FO$27,5,4)&$A59,Lista_Ubigeo!$J:$K,2,0),\" \")","v":" "},{"$f":"IFERROR(VLOOKUP(MID(FP$27,5,4)&$A59,Lista_Ubigeo!$J:$K,2,0),\" \")","v":" "},{"$f":"IFERROR(VLOOKUP(MID(FQ$27,5,4)&$A59,Lista_Ubigeo!$J:$K,2,0),\" \")","v":" "},{"$f":"IFERROR(VLOOKUP(MID(FR$27,5,4)&$A59,Lista_Ubigeo!$J:$K,2,0),\" \")","v":" "},{"$f":"IFERROR(VLOOKUP(MID(FS$27,5,4)&$A59,Lista_Ubigeo!$J:$K,2,0),\" \")","v":" "},{"$f":"IFERROR(VLOOKUP(MID(FT$27,5,4)&$A59,Lista_Ubigeo!$J:$K,2,0),\" \")","v":" "},{"$f":"IFERROR(VLOOKUP(MID(FU$27,5,4)&$A59,Lista_Ubigeo!$J:$K,2,0),\" \")","v":" "},{"$f":"IFERROR(VLOOKUP(MID(FV$27,5,4)&$A59,Lista_Ubigeo!$J:$K,2,0),\" \")","v":" "},{"$f":"IFERROR(VLOOKUP(MID(FW$27,5,4)&$A59,Lista_Ubigeo!$J:$K,2,0),\" \")","v":" "},{"$f":"IFERROR(VLOOKUP(MID(FX$27,5,4)&$A59,Lista_Ubigeo!$J:$K,2,0),\" \")","v":" "},{"$f":"IFERROR(VLOOKUP(MID(FY$27,5,4)&$A59,Lista_Ubigeo!$J:$K,2,0),\" \")","v":" "},{"$f":"IFERROR(VLOOKUP(MID(FZ$27,5,4)&$A59,Lista_Ubigeo!$J:$K,2,0),\" \")","v":" "},{"$f":"IFERROR(VLOOKUP(MID(GA$27,5,4)&$A59,Lista_Ubigeo!$J:$K,2,0),\" \")","v":" "},{"$f":"IFERROR(VLOOKUP(MID(GB$27,5,4)&$A59,Lista_Ubigeo!$J:$K,2,0),\" \")","v":" "},{"$f":"IFERROR(VLOOKUP(MID(GC$27,5,4)&$A59,Lista_Ubigeo!$J:$K,2,0),\" \")","v":" "},{"$f":"IFERROR(VLOOKUP(MID(GD$27,5,4)&$A59,Lista_Ubigeo!$J:$K,2,0),\" \")","v":" "},{"$f":"IFERROR(VLOOKUP(MID(GE$27,5,4)&$A59,Lista_Ubigeo!$J:$K,2,0),\" \")","v":" "},{"$f":"IFERROR(VLOOKUP(MID(GF$27,5,4)&$A59,Lista_Ubigeo!$J:$K,2,0),\" \")","v":" "},{"$f":"IFERROR(VLOOKUP(MID(GG$27,5,4)&$A59,Lista_Ubigeo!$J:$K,2,0),\" \")","v":" "},{"$f":"IFERROR(VLOOKUP(MID(GH$27,5,4)&$A59,Lista_Ubigeo!$J:$K,2,0),\" \")","v":" "},{"$f":"IFERROR(VLOOKUP(MID(GI$27,5,4)&$A59,Lista_Ubigeo!$J:$K,2,0),\" \")","v":" "},{"$f":"IFERROR(VLOOKUP(MID(GJ$27,5,4)&$A59,Lista_Ubigeo!$J:$K,2,0),\" \")","v":" "},{"$f":"IFERROR(VLOOKUP(MID(GK$27,5,4)&$A59,Lista_Ubigeo!$J:$K,2,0),\" \")","v":" "},{"$f":"IFERROR(VLOOKUP(MID(GL$27,5,4)&$A59,Lista_Ubigeo!$J:$K,2,0),\" \")","v":" "},{"$f":"IFERROR(VLOOKUP(MID(GM$27,5,4)&$A59,Lista_Ubigeo!$J:$K,2,0),\" \")","v":" "},{"$f":"IFERROR(VLOOKUP(MID(GN$27,5,4)&$A59,Lista_Ubigeo!$J:$K,2,0),\" \")","v":" "},{"$f":"IFERROR(VLOOKUP(MID(GO$27,5,4)&$A59,Lista_Ubigeo!$J:$K,2,0),\" \")","v":" "},{"$f":"IFERROR(VLOOKUP(MID(GP$27,5,4)&$A59,Lista_Ubigeo!$J:$K,2,0),\" \")","v":" "}]
["33",{"$f":"IFERROR(VLOOKUP(MID(B$27,5,4)&$A60,Lista_Ubigeo!$J:$K,2,0),\" \")","v":" "},{"$f":"IFERROR(VLOOKUP(MID(C$27,5,4)&$A60,Lista_Ubigeo!$J:$K,2,0),\" \")","v":" "},{"$f":"IFERROR(VLOOKUP(MID(D$27,5,4)&$A60,Lista_Ubigeo!$J:$K,2,0),\" \")","v":" "},{"$f":"IFERROR(VLOOKUP(MID(E$27,5,4)&$A60,Lista_Ubigeo!$J:$K,2,0),\" \")","v":" "},{"$f":"IFERROR(VLOOKUP(MID(F$27,5,4)&$A60,Lista_Ubigeo!$J:$K,2,0),\" \")","v":" "},{"$f":"IFERROR(VLOOKUP(MID(G$27,5,4)&$A60,Lista_Ubigeo!$J:$K,2,0),\" \")","v":" "},{"$f":"IFERROR(VLOOKUP(MID(H$27,5,4)&$A60,Lista_Ubigeo!$J:$K,2,0),\" \")","v":" "},{"$f":"IFERROR(VLOOKUP(MID(I$27,5,4)&$A60,Lista_Ubigeo!$J:$K,2,0),\" \")","v":" "},{"$f":"IFERROR(VLOOKUP(MID(J$27,5,4)&$A60,Lista_Ubigeo!$J:$K,2,0),\" \")","v":" "},{"$f":"IFERROR(VLOOKUP(MID(K$27,5,4)&$A60,Lista_Ubigeo!$J:$K,2,0),\" \")","v":" "},{"$f":"IFERROR(VLOOKUP(MID(L$27,5,4)&$A60,Lista_Ubigeo!$J:$K,2,0),\" \")","v":" "},{"$f":"IFERROR(VLOOKUP(MID(M$27,5,4)&$A60,Lista_Ubigeo!$J:$K,2,0),\" \")","v":" "},{"$f":"IFERROR(VLOOKUP(MID(N$27,5,4)&$A60,Lista_Ubigeo!$J:$K,2,0),\" \")","v":" "},{"$f":"IFERROR(VLOOKUP(MID(O$27,5,4)&$A60,Lista_Ubigeo!$J:$K,2,0),\" \")","v":" "},{"$f":"IFERROR(VLOOKUP(MID(P$27,5,4)&$A60,Lista_Ubigeo!$J:$K,2,0),\" \")","v":" "},{"$f":"IFERROR(VLOOKUP(MID(Q$27,5,4)&$A60,Lista_Ubigeo!$J:$K,2,0),\" \")","v":" "},{"$f":"IFERROR(VLOOKUP(MID(R$27,5,4)&$A60,Lista_Ubigeo!$J:$K,2,0),\" \")","v":" "},{"$f":"IFERROR(VLOOKUP(MID(S$27,5,4)&$A60,Lista_Ubigeo!$J:$K,2,0),\" \")","v":" "},{"$f":"IFERROR(VLOOKUP(MID(T$27,5,4)&$A60,Lista_Ubigeo!$J:$K,2,0),\" \")","v":" "},{"$f":"IFERROR(VLOOKUP(MID(U$27,5,4)&$A60,Lista_Ubigeo!$J:$K,2,0),\" \")","v":" "},{"$f":"IFERROR(VLOOKUP(MID(V$27,5,4)&$A60,Lista_Ubigeo!$J:$K,2,0),\" \")","v":" "},{"$f":"IFERROR(VLOOKUP(MID(W$27,5,4)&$A60,Lista_Ubigeo!$J:$K,2,0),\" \")","v":" "},{"$f":"IFERROR(VLOOKUP(MID(X$27,5,4)&$A60,Lista_Ubigeo!$J:$K,2,0),\" \")","v":" "},{"$f":"IFERROR(VLOOKUP(MID(Y$27,5,4)&$A60,Lista_Ubigeo!$J:$K,2,0),\" \")","v":" "},{"$f":"IFERROR(VLOOKUP(MID(Z$27,5,4)&$A60,Lista_Ubigeo!$J:$K,2,0),\" \")","v":" "},{"$f":"IFERROR(VLOOKUP(MID(AA$27,5,4)&$A60,Lista_Ubigeo!$J:$K,2,0),\" \")","v":" "},{"$f":"IFERROR(VLOOKUP(MID(AB$27,5,4)&$A60,Lista_Ubigeo!$J:$K,2,0),\" \")","v":" "},{"$f":"IFERROR(VLOOKUP(MID(AC$27,5,4)&$A60,Lista_Ubigeo!$J:$K,2,0),\" \")","v":" "},{"$f":"IFERROR(VLOOKUP(MID(AD$27,5,4)&$A60,Lista_Ubigeo!$J:$K,2,0),\" \")","v":" "},{"$f":"IFERROR(VLOOKUP(MID(AE$27,5,4)&$A60,Lista_Ubigeo!$J:$K,2,0),\" \")","v":" "},{"$f":"IFERROR(VLOOKUP(MID(AF$27,5,4)&$A60,Lista_Ubigeo!$J:$K,2,0),\" \")","v":" "},{"$f":"IFERROR(VLOOKUP(MID(AG$27,5,4)&$A60,Lista_Ubigeo!$J:$K,2,0),\" \")","v":" "},{"$f":"IFERROR(VLOOKUP(MID(AH$27,5,4)&$A60,Lista_Ubigeo!$J:$K,2,0),\" \")","v":" "},{"$f":"IFERROR(VLOOKUP(MID(AI$27,5,4)&$A60,Lista_Ubigeo!$J:$K,2,0),\" \")","v":" "},{"$f":"IFERROR(VLOOKUP(MID(AJ$27,5,4)&$A60,Lista_Ubigeo!$J:$K,2,0),\" \")","v":" "},{"$f":"IFERROR(VLOOKUP(MID(AK$27,5,4)&$A60,Lista_Ubigeo!$J:$K,2,0),\" \")","v":" "},{"$f":"IFERROR(VLOOKUP(MID(AL$27,5,4)&$A60,Lista_Ubigeo!$J:$K,2,0),\" \")","v":" "},{"$f":"IFERROR(VLOOKUP(MID(AM$27,5,4)&$A60,Lista_Ubigeo!$J:$K,2,0),\" \")","v":" "},{"$f":"IFERROR(VLOOKUP(MID(AN$27,5,4)&$A60,Lista_Ubigeo!$J:$K,2,0),\" \")","v":" "},{"$f":"IFERROR(VLOOKUP(MID(AO$27,5,4)&$A60,Lista_Ubigeo!$J:$K,2,0),\" \")","v":" "},{"$f":"IFERROR(VLOOKUP(MID(AP$27,5,4)&$A60,Lista_Ubigeo!$J:$K,2,0),\" \")","v":" "},{"$f":"IFERROR(VLOOKUP(MID(AQ$27,4,4)&$A60,Lista_Ubigeo!$J:$K,2,0),\" \")","v":" "},{"$f":"IFERROR(VLOOKUP(MID(AR$27,5,4)&$A60,Lista_Ubigeo!$J:$K,2,0),\" \")","v":" "},{"$f":"IFERROR(VLOOKUP(MID(AS$27,5,4)&$A60,Lista_Ubigeo!$J:$K,2,0),\" \")","v":" "},{"$f":"IFERROR(VLOOKUP(MID(AT$27,5,4)&$A60,Lista_Ubigeo!$J:$K,2,0),\" \")","v":" "},{"$f":"IFERROR(VLOOKUP(MID(AU$27,5,4)&$A60,Lista_Ubigeo!$J:$K,2,0),\" \")","v":" "},{"$f":"IFERROR(VLOOKUP(MID(AV$27,5,4)&$A60,Lista_Ubigeo!$J:$K,2,0),\" \")","v":" "},{"$f":"IFERROR(VLOOKUP(MID(AW$27,5,4)&$A60,Lista_Ubigeo!$J:$K,2,0),\" \")","v":" "},{"$f":"IFERROR(VLOOKUP(MID(AX$27,5,4)&$A60,Lista_Ubigeo!$J:$K,2,0),\" \")","v":" "},{"$f":"IFERROR(VLOOKUP(MID(AY$27,5,4)&$A60,Lista_Ubigeo!$J:$K,2,0),\" \")","v":" "},{"$f":"IFERROR(VLOOKUP(MID(AZ$27,5,4)&$A60,Lista_Ubigeo!$J:$K,2,0),\" \")","v":" "},{"$f":"IFERROR(VLOOKUP(MID(BA$27,5,4)&$A60,Lista_Ubigeo!$J:$K,2,0),\" \")","v":" "},{"$f":"IFERROR(VLOOKUP(MID(BB$27,5,4)&$A60,Lista_Ubigeo!$J:$K,2,0),\" \")","v":" "},{"$f":"IFERROR(VLOOKUP(MID(BC$27,5,4)&$A60,Lista_Ubigeo!$J:$K,2,0),\" \")","v":" "},{"$f":"IFERROR(VLOOKUP(MID(BD$27,5,4)&$A60,Lista_Ubigeo!$J:$K,2,0),\" \")","v":" "},{"$f":"IFERROR(VLOOKUP(MID(BE$27,5,4)&$A60,Lista_Ubigeo!$J:$K,2,0),\" \")","v":" "},{"$f":"IFERROR(VLOOKUP(MID(BF$27,5,4)&$A60,Lista_Ubigeo!$J:$K,2,0),\" \")","v":" "},{"$f":"IFERROR(VLOOKUP(MID(BG$27,5,4)&$A60,Lista_Ubigeo!$J:$K,2,0),\" \")","v":" "},{"$f":"IFERROR(VLOOKUP(MID(BH$27,5,4)&$A60,Lista_Ubigeo!$J:$K,2,0),\" \")","v":" "},{"$f":"IFERROR(VLOOKUP(MID(BI$27,5,4)&$A60,Lista_Ubigeo!$J:$K,2,0),\" \")","v":" "},{"$f":"IFERROR(VLOOKUP(MID(BJ$27,5,4)&$A60,Lista_Ubigeo!$J:$K,2,0),\" \")","v":" "},{"$f":"IFERROR(VLOOKUP(MID(BK$27,5,4)&$A60,Lista_Ubigeo!$J:$K,2,0),\" \")","v":" "},{"$f":"IFERROR(VLOOKUP(MID(BL$27,5,4)&$A60,Lista_Ubigeo!$J:$K,2,0),\" \")","v":" "},{"$f":"IFERROR(VLOOKUP(MID(BM$27,5,4)&$A60,Lista_Ubigeo!$J:$K,2,0),\" \")","v":" "},{"$f":"IFERROR(VLOOKUP(MID(BN$27,5,4)&$A60,Lista_Ubigeo!$J:$K,2,0),\" \")","v":" "},{"$f":"IFERROR(VLOOKUP(MID(BO$27,5,4)&$A60,Lista_Ubigeo!$J:$K,2,0),\" \")","v":" "},{"$f":"IFERROR(VLOOKUP(MID(BP$27,5,4)&$A60,Lista_Ubigeo!$J:$K,2,0),\" \")","v":" "},{"$f":"IFERROR(VLOOKUP(MID(BQ$27,5,4)&$A60,Lista_Ubigeo!$J:$K,2,0),\" \")","v":" "},{"$f":"IFERROR(VLOOKUP(MID(BR$27,5,4)&$A60,Lista_Ubigeo!$J:$K,2,0),\" \")","v":" "},{"$f":"IFERROR(VLOOKUP(MID(BS$27,5,4)&$A60,Lista_Ubigeo!$J:$K,2,0),\" \")","v":" "},{"$f":"IFERROR(VLOOKUP(MID(BT$27,5,4)&$A60,Lista_Ubigeo!$J:$K,2,0),\" \")","v":" "},{"$f":"IFERROR(VLOOKUP(MID(BU$27,5,4)&$A60,Lista_Ubigeo!$J:$K,2,0),\" \")","v":" "},{"$f":"IFERROR(VLOOKUP(MID(BV$27,5,4)&$A60,Lista_Ubigeo!$J:$K,2,0),\" \")","v":" "},{"$f":"IFERROR(VLOOKUP(MID(BW$27,5,4)&$A60,Lista_Ubigeo!$J:$K,2,0),\" \")","v":" "},{"$f":"IFERROR(VLOOKUP(MID(BX$27,5,4)&$A60,Lista_Ubigeo!$J:$K,2,0),\" \")","v":" "},{"$f":"IFERROR(VLOOKUP(MID(BY$27,4,4)&$A60,Lista_Ubigeo!$J:$K,2,0),\" \")","v":" "},{"$f":"IFERROR(VLOOKUP(MID(BZ$27,5,4)&$A60,Lista_Ubigeo!$J:$K,2,0),\" \")","v":" "},{"$f":"IFERROR(VLOOKUP(MID(CA$27,5,4)&$A60,Lista_Ubigeo!$J:$K,2,0),\" \")","v":" "},{"$f":"IFERROR(VLOOKUP(MID(CB$27,5,4)&$A60,Lista_Ubigeo!$J:$K,2,0),\" \")","v":" "},{"$f":"IFERROR(VLOOKUP(MID(CC$27,5,4)&$A60,Lista_Ubigeo!$J:$K,2,0),\" \")","v":" "},{"$f":"IFERROR(VLOOKUP(MID(CD$27,5,4)&$A60,Lista_Ubigeo!$J:$K,2,0),\" \")","v":" "},{"$f":"IFERROR(VLOOKUP(MID(CE$27,5,4)&$A60,Lista_Ubigeo!$J:$K,2,0),\" \")","v":" "},{"$f":"IFERROR(VLOOKUP(MID(CF$27,5,4)&$A60,Lista_Ubigeo!$J:$K,2,0),\" \")","v":" "},{"$f":"IFERROR(VLOOKUP(MID(CG$27,5,4)&$A60,Lista_Ubigeo!$J:$K,2,0),\" \")","v":" "},{"$f":"IFERROR(VLOOKUP(MID(CH$27,5,4)&$A60,Lista_Ubigeo!$J:$K,2,0),\" \")","v":" "},{"$f":"IFERROR(VLOOKUP(MID(CI$27,5,4)&$A60,Lista_Ubigeo!$J:$K,2,0),\" \")","v":" "},{"$f":"IFERROR(VLOOKUP(MID(CJ$27,5,4)&$A60,Lista_Ubigeo!$J:$K,2,0),\" \")","v":" "},{"$f":"IFERROR(VLOOKUP(MID(CK$27,5,4)&$A60,Lista_Ubigeo!$J:$K,2,0),\" \")","v":" "},{"$f":"IFERROR(VLOOKUP(MID(CL$27,5,4)&$A60,Lista_Ubigeo!$J:$K,2,0),\" \")","v":" "},{"$f":"IFERROR(VLOOKUP(MID(CM$27,5,4)&$A71,Lista_Ubigeo!$J:$K,2,0),\" \")","v":" "},{"$f":"IFERROR(VLOOKUP(MID(CN$27,5,4)&$A60,Lista_Ubigeo!$J:$K,2,0),\" \")","v":" "},{"$f":"IFERROR(VLOOKUP(MID(CO$27,5,4)&$A60,Lista_Ubigeo!$J:$K,2,0),\" \")","v":" "},{"$f":"IFERROR(VLOOKUP(MID(CP$27,5,4)&$A60,Lista_Ubigeo!$J:$K,2,0),\" \")","v":" "},{"$f":"IFERROR(VLOOKUP(MID(CQ$27,5,4)&$A60,Lista_Ubigeo!$J:$K,2,0),\" \")","v":" "},{"$f":"IFERROR(VLOOKUP(MID(CR$27,5,4)&$A60,Lista_Ubigeo!$J:$K,2,0),\" \")","v":" "},{"$f":"IFERROR(VLOOKUP(MID(CS$27,5,4)&$A60,Lista_Ubigeo!$J:$K,2,0),\" \")","v":" "},{"$f":"IFERROR(VLOOKUP(MID(CT$27,5,4)&$A60,Lista_Ubigeo!$J:$K,2,0),\" \")","v":" "},{"$f":"IFERROR(VLOOKUP(MID(CU$27,5,4)&$A60,Lista_Ubigeo!$J:$K,2,0),\" \")","v":" "},{"$f":"IFERROR(VLOOKUP(MID(CV$27,5,4)&$A60,Lista_Ubigeo!$J:$K,2,0),\" \")","v":" "},{"$f":"IFERROR(VLOOKUP(MID(CW$27,5,4)&$A60,Lista_Ubigeo!$J:$K,2,0),\" \")","v":" "},{"$f":"IFERROR(VLOOKUP(MID(CX$27,5,4)&$A60,Lista_Ubigeo!$J:$K,2,0),\" \")","v":" "},{"$f":"IFERROR(VLOOKUP(MID(CY$27,5,4)&$A60,Lista_Ubigeo!$J:$K,2,0),\" \")","v":" "},{"$f":"IFERROR(VLOOKUP(MID(CZ$27,5,4)&$A60,Lista_Ubigeo!$J:$K,2,0),\" \")","v":" "},null,{"$f":"IFERROR(VLOOKUP(MID(DB$27,5,4)&$A60,Lista_Ubigeo!$J:$K,2,0),\" \")","v":" "},{"$f":"IFERROR(VLOOKUP(MID(DC$27,5,4)&$A60,Lista_Ubigeo!$J:$K,2,0),\" \")","v":" "},{"$f":"IFERROR(VLOOKUP(MID(DD$27,5,4)&$A60,Lista_Ubigeo!$J:$K,2,0),\" \")","v":"YAULI"},{"$f":"IFERROR(VLOOKUP(MID(DE$27,5,4)&$A60,Lista_Ubigeo!$J:$K,2,0),\" \")","v":" "},{"$f":"IFERROR(VLOOKUP(MID(DF$27,5,4)&$A60,Lista_Ubigeo!$J:$K,2,0),\" \")","v":" "},{"$f":"IFERROR(VLOOKUP(MID(DG$27,5,4)&$A60,Lista_Ubigeo!$J:$K,2,0),\" \")","v":" "},{"$f":"IFERROR(VLOOKUP(MID(DH$27,5,4)&$A60,Lista_Ubigeo!$J:$K,2,0),\" \")","v":" "},{"$f":"IFERROR(VLOOKUP(MID(DI$27,5,4)&$A60,Lista_Ubigeo!$J:$K,2,0),\" \")","v":" "},{"$f":"IFERROR(VLOOKUP(MID(DJ$27,5,4)&$A60,Lista_Ubigeo!$J:$K,2,0),\" \")","v":" "},{"$f":"IFERROR(VLOOKUP(MID(DK$27,5,4)&$A60,Lista_Ubigeo!$J:$K,2,0),\" \")","v":" "},{"$f":"IFERROR(VLOOKUP(MID(DL$27,5,4)&$A60,Lista_Ubigeo!$J:$K,2,0),\" \")","v":" "},{"$f":"IFERROR(VLOOKUP(MID(DM$27,5,4)&$A60,Lista_Ubigeo!$J:$K,2,0),\" \")","v":" "},{"$f":"IFERROR(VLOOKUP(MID(DN$27,5,4)&$A60,Lista_Ubigeo!$J:$K,2,0),\" \")","v":" "},{"$f":"IFERROR(VLOOKUP(MID(DO$27,5,4)&$A61,Lista_Ubigeo!$J:$K,2,0),\" \")","v":" "},{"$f":"IFERROR(VLOOKUP(MID(DP$27,5,4)&$A60,Lista_Ubigeo!$J:$K,2,0),\" \")","v":" "},{"$f":"IFERROR(VLOOKUP(MID(DQ$27,5,4)&$A60,Lista_Ubigeo!$J:$K,2,0),\" \")","v":" "},{"$f":"IFERROR(VLOOKUP(MID(DR$27,5,4)&$A60,Lista_Ubigeo!$J:$K,2,0),\" \")","v":" "},{"$f":"IFERROR(VLOOKUP(MID(DS$27,5,4)&$A60,Lista_Ubigeo!$J:$K,2,0),\" \")","v":" "},null,null,{"$f":"IFERROR(VLOOKUP(MID(DV$27,5,4)&$A60,Lista_Ubigeo!$J:$K,2,0),\" \")","v":" "},{"$f":"IFERROR(VLOOKUP(MID(DW$27,5,4)&$A60,Lista_Ubigeo!$J:$K,2,0),\" \")","v":" "},{"$f":"IFERROR(VLOOKUP(MID(DX$27,5,4)&$A60,Lista_Ubigeo!$J:$K,2,0),\" \")","v":" "},{"$f":"IFERROR(VLOOKUP(MID(DY$27,5,4)&$A60,Lista_Ubigeo!$J:$K,2,0),\" \")","v":"SAN JUAN DE MIRAFLORES"},{"$f":"IFERROR(VLOOKUP(MID(DZ$27,5,4)&$A60,Lista_Ubigeo!$J:$K,2,0),\" \")","v":" "},{"$f":"IFERROR(VLOOKUP(MID(EA$27,5,4)&$A60,Lista_Ubigeo!$J:$K,2,0),\" \")","v":" "},{"$f":"IFERROR(VLOOKUP(MID(EB$27,5,4)&$A60,Lista_Ubigeo!$J:$K,2,0),\" \")","v":" "},{"$f":"IFERROR(VLOOKUP(MID(EC$27,5,4)&$A60,Lista_Ubigeo!$J:$K,2,0),\" \")","v":" "},{"$f":"IFERROR(VLOOKUP(MID(ED$27,5,4)&$A60,Lista_Ubigeo!$J:$K,2,0),\" \")","v":" "},{"$f":"IFERROR(VLOOKUP(MID(EE$27,5,4)&$A60,Lista_Ubigeo!$J:$K,2,0),\" \")","v":" "},{"$f":"IFERROR(VLOOKUP(MID(EF$27,5,4)&$A60,Lista_Ubigeo!$J:$K,2,0),\" \")","v":" "},{"$f":"IFERROR(VLOOKUP(MID(EG$27,5,4)&$A60,Lista_Ubigeo!$J:$K,2,0),\" \")","v":" "},{"$f":"IFERROR(VLOOKUP(MID(EH$27,5,4)&$A60,Lista_Ubigeo!$J:$K,2,0),\" \")","v":"VITIS"},{"$f":"IFERROR(VLOOKUP(MID(EI$27,5,4)&$A60,Lista_Ubigeo!$J:$K,2,0),\" \")","v":" "},{"$f":"IFERROR(VLOOKUP(MID(EJ$27,5,4)&$A65,Lista_Ubigeo!$J:$K,2,0),\" \")","v":" "},{"$f":"IFERROR(VLOOKUP(MID(EK$27,5,4)&$A60,Lista_Ubigeo!$J:$K,2,0),\" \")","v":" "},{"$f":"IFERROR(VLOOKUP(MID(EL$27,5,4)&$A60,Lista_Ubigeo!$J:$K,2,0),\" \")","v":" "},{"$f":"IFERROR(VLOOKUP(MID(EM$27,5,4)&$A60,Lista_Ubigeo!$J:$K,2,0),\" \")","v":" "},{"$f":"IFERROR(VLOOKUP(MID(EN$27,5,4)&$A60,Lista_Ubigeo!$J:$K,2,0),\" \")","v":" "},{"$f":"IFERROR(VLOOKUP(MID(EO$27,5,4)&$A60,Lista_Ubigeo!$J:$K,2,0),\" \")","v":" "},{"$f":"IFERROR(VLOOKUP(MID(EP$27,5,4)&$A60,Lista_Ubigeo!$J:$K,2,0),\" \")","v":" "},{"$f":"IFERROR(VLOOKUP(MID(EQ$27,5,4)&$A60,Lista_Ubigeo!$J:$K,2,0),\" \")","v":" "},{"$f":"IFERROR(VLOOKUP(MID(ER$27,5,4)&$A60,Lista_Ubigeo!$J:$K,2,0),\" \")","v":" "},{"$f":"IFERROR(VLOOKUP(MID(ES$27,5,4)&$A60,Lista_Ubigeo!$J:$K,2,0),\" \")","v":" "},{"$f":"IFERROR(VLOOKUP(MID(ET$27,5,4)&$A60,Lista_Ubigeo!$J:$K,2,0),\" \")","v":" "},{"$f":"IFERROR(VLOOKUP(MID(EU$27,5,4)&$A60,Lista_Ubigeo!$J:$K,2,0),\" \")","v":" "},{"$f":"IFERROR(VLOOKUP(MID(EV$27,5,4)&$A60,Lista_Ubigeo!$J:$K,2,0),\" \")","v":" "},{"$f":"IFERROR(VLOOKUP(MID(EW$27,5,4)&$A60,Lista_Ubigeo!$J:$K,2,0),\" \")","v":" "},{"$f":"IFERROR(VLOOKUP(MID(EX$27,5,4)&$A60,Lista_Ubigeo!$J:$K,2,0),\" \")","v":" "},{"$f":"IFERROR(VLOOKUP(MID(EY$27,5,4)&$A60,Lista_Ubigeo!$J:$K,2,0),\" \")","v":" "},{"$f":"IFERROR(VLOOKUP(MID(EZ$27,5,4)&$A63,Lista_Ubigeo!$J:$K,2,0),\" \")","v":" "},{"$f":"IFERROR(VLOOKUP(MID(FA$27,5,4)&$A60,Lista_Ubigeo!$J:$K,2,0),\" \")","v":" "},{"$f":"IFERROR(VLOOKUP(MID(FB$27,5,4)&$A60,Lista_Ubigeo!$J:$K,2,0),\" \")","v":" "},{"$f":"IFERROR(VLOOKUP(MID(FC$27,5,4)&$A60,Lista_Ubigeo!$J:$K,2,0),\" \")","v":" "},{"$f":"IFERROR(VLOOKUP(MID(FD$27,5,4)&$A60,Lista_Ubigeo!$J:$K,2,0),\" \")","v":" "},{"$f":"IFERROR(VLOOKUP(MID(FE$27,5,4)&$A60,Lista_Ubigeo!$J:$K,2,0),\" \")","v":" "},{"$f":"IFERROR(VLOOKUP(MID(FF$27,5,4)&$A60,Lista_Ubigeo!$J:$K,2,0),\" \")","v":" "},{"$f":"IFERROR(VLOOKUP(MID(FG$27,5,4)&$A60,Lista_Ubigeo!$J:$K,2,0),\" \")","v":" "},{"$f":"IFERROR(VLOOKUP(MID(FH$27,5,4)&$A60,Lista_Ubigeo!$J:$K,2,0),\" \")","v":" "},{"$f":"IFERROR(VLOOKUP(MID(FI$27,5,4)&$A60,Lista_Ubigeo!$J:$K,2,0),\" \")","v":" "},{"$f":"IFERROR(VLOOKUP(MID(FJ$27,5,4)&$A60,Lista_Ubigeo!$J:$K,2,0),\" \")","v":" "},{"$f":"IFERROR(VLOOKUP(MID(FK$27,5,4)&$A60,Lista_Ubigeo!$J:$K,2,0),\" \")","v":" "},{"$f":"IFERROR(VLOOKUP(MID(FL$27,5,4)&$A60,Lista_Ubigeo!$J:$K,2,0),\" \")","v":" "},{"$f":"IFERROR(VLOOKUP(MID(FM$27,5,4)&$A60,Lista_Ubigeo!$J:$K,2,0),\" \")","v":" "},{"$f":"IFERROR(VLOOKUP(MID(FN$27,5,4)&$A60,Lista_Ubigeo!$J:$K,2,0),\" \")","v":" "},{"$f":"IFERROR(VLOOKUP(MID(FO$27,5,4)&$A60,Lista_Ubigeo!$J:$K,2,0),\" \")","v":" "},{"$f":"IFERROR(VLOOKUP(MID(FP$27,5,4)&$A60,Lista_Ubigeo!$J:$K,2,0),\" \")","v":" "},{"$f":"IFERROR(VLOOKUP(MID(FQ$27,5,4)&$A60,Lista_Ubigeo!$J:$K,2,0),\" \")","v":" "},{"$f":"IFERROR(VLOOKUP(MID(FR$27,5,4)&$A60,Lista_Ubigeo!$J:$K,2,0),\" \")","v":" "},{"$f":"IFERROR(VLOOKUP(MID(FS$27,5,4)&$A60,Lista_Ubigeo!$J:$K,2,0),\" \")","v":" "},{"$f":"IFERROR(VLOOKUP(MID(FT$27,5,4)&$A60,Lista_Ubigeo!$J:$K,2,0),\" \")","v":" "},{"$f":"IFERROR(VLOOKUP(MID(FU$27,5,4)&$A60,Lista_Ubigeo!$J:$K,2,0),\" \")","v":" "},{"$f":"IFERROR(VLOOKUP(MID(FV$27,5,4)&$A60,Lista_Ubigeo!$J:$K,2,0),\" \")","v":" "},{"$f":"IFERROR(VLOOKUP(MID(FW$27,5,4)&$A60,Lista_Ubigeo!$J:$K,2,0),\" \")","v":" "},{"$f":"IFERROR(VLOOKUP(MID(FX$27,5,4)&$A60,Lista_Ubigeo!$J:$K,2,0),\" \")","v":" "},{"$f":"IFERROR(VLOOKUP(MID(FY$27,5,4)&$A60,Lista_Ubigeo!$J:$K,2,0),\" \")","v":" "},{"$f":"IFERROR(VLOOKUP(MID(FZ$27,5,4)&$A60,Lista_Ubigeo!$J:$K,2,0),\" \")","v":" "},{"$f":"IFERROR(VLOOKUP(MID(GA$27,5,4)&$A60,Lista_Ubigeo!$J:$K,2,0),\" \")","v":" "},{"$f":"IFERROR(VLOOKUP(MID(GB$27,5,4)&$A60,Lista_Ubigeo!$J:$K,2,0),\" \")","v":" "},{"$f":"IFERROR(VLOOKUP(MID(GC$27,5,4)&$A60,Lista_Ubigeo!$J:$K,2,0),\" \")","v":" "},{"$f":"IFERROR(VLOOKUP(MID(GD$27,5,4)&$A60,Lista_Ubigeo!$J:$K,2,0),\" \")","v":" "},{"$f":"IFERROR(VLOOKUP(MID(GE$27,5,4)&$A60,Lista_Ubigeo!$J:$K,2,0),\" \")","v":" "},{"$f":"IFERROR(VLOOKUP(MID(GF$27,5,4)&$A60,Lista_Ubigeo!$J:$K,2,0),\" \")","v":" "},{"$f":"IFERROR(VLOOKUP(MID(GG$27,5,4)&$A60,Lista_Ubigeo!$J:$K,2,0),\" \")","v":" "},{"$f":"IFERROR(VLOOKUP(MID(GH$27,5,4)&$A60,Lista_Ubigeo!$J:$K,2,0),\" \")","v":" "},{"$f":"IFERROR(VLOOKUP(MID(GI$27,5,4)&$A60,Lista_Ubigeo!$J:$K,2,0),\" \")","v":" "},{"$f":"IFERROR(VLOOKUP(MID(GJ$27,5,4)&$A60,Lista_Ubigeo!$J:$K,2,0),\" \")","v":" "},{"$f":"IFERROR(VLOOKUP(MID(GK$27,5,4)&$A60,Lista_Ubigeo!$J:$K,2,0),\" \")","v":" "},{"$f":"IFERROR(VLOOKUP(MID(GL$27,5,4)&$A60,Lista_Ubigeo!$J:$K,2,0),\" \")","v":" "},{"$f":"IFERROR(VLOOKUP(MID(GM$27,5,4)&$A60,Lista_Ubigeo!$J:$K,2,0),\" \")","v":" "},{"$f":"IFERROR(VLOOKUP(MID(GN$27,5,4)&$A60,Lista_Ubigeo!$J:$K,2,0),\" \")","v":" "},{"$f":"IFERROR(VLOOKUP(MID(GO$27,5,4)&$A60,Lista_Ubigeo!$J:$K,2,0),\" \")","v":" "},{"$f":"IFERROR(VLOOKUP(MID(GP$27,5,4)&$A60,Lista_Ubigeo!$J:$K,2,0),\" \")","v":" "}]
["34",{"$f":"IFERROR(VLOOKUP(MID(B$27,5,4)&$A61,Lista_Ubigeo!$J:$K,2,0),\" \")","v":" "},{"$f":"IFERROR(VLOOKUP(MID(C$27,5,4)&$A61,Lista_Ubigeo!$J:$K,2,0),\" \")","v":" "},{"$f":"IFERROR(VLOOKUP(MID(D$27,5,4)&$A61,Lista_Ubigeo!$J:$K,2,0),\" \")","v":" "},{"$f":"IFERROR(VLOOKUP(MID(E$27,5,4)&$A61,Lista_Ubigeo!$J:$K,2,0),\" \")","v":" "},{"$f":"IFERROR(VLOOKUP(MID(F$27,5,4)&$A61,Lista_Ubigeo!$J:$K,2,0),\" \")","v":" "},{"$f":"IFERROR(VLOOKUP(MID(G$27,5,4)&$A61,Lista_Ubigeo!$J:$K,2,0),\" \")","v":" "},{"$f":"IFERROR(VLOOKUP(MID(H$27,5,4)&$A61,Lista_Ubigeo!$J:$K,2,0),\" \")","v":" "},{"$f":"IFERROR(VLOOKUP(MID(I$27,5,4)&$A61,Lista_Ubigeo!$J:$K,2,0),\" \")","v":" "},{"$f":"IFERROR(VLOOKUP(MID(J$27,5,4)&$A61,Lista_Ubigeo!$J:$K,2,0),\" \")","v":" "},{"$f":"IFERROR(VLOOKUP(MID(K$27,5,4)&$A61,Lista_Ubigeo!$J:$K,2,0),\" \")","v":" "},{"$f":"IFERROR(VLOOKUP(MID(L$27,5,4)&$A61,Lista_Ubigeo!$J:$K,2,0),\" \")","v":" "},{"$f":"IFERROR(VLOOKUP(MID(M$27,5,4)&$A61,Lista_Ubigeo!$J:$K,2,0),\" \")","v":" "},{"$f":"IFERROR(VLOOKUP(MID(N$27,5,4)&$A61,Lista_Ubigeo!$J:$K,2,0),\" \")","v":" "},{"$f":"IFERROR(VLOOKUP(MID(O$27,5,4)&$A61,Lista_Ubigeo!$J:$K,2,0),\" \")","v":" "},{"$f":"IFERROR(VLOOKUP(MID(P$27,5,4)&$A61,Lista_Ubigeo!$J:$K,2,0),\" \")","v":" "},{"$f":"IFERROR(VLOOKUP(MID(Q$27,5,4)&$A61,Lista_Ubigeo!$J:$K,2,0),\" \")","v":" "},{"$f":"IFERROR(VLOOKUP(MID(R$27,5,4)&$A61,Lista_Ubigeo!$J:$K,2,0),\" \")","v":" "},{"$f":"IFERROR(VLOOKUP(MID(S$27,5,4)&$A61,Lista_Ubigeo!$J:$K,2,0),\" \")","v":" "},{"$f":"IFERROR(VLOOKUP(MID(T$27,5,4)&$A61,Lista_Ubigeo!$J:$K,2,0),\" \")","v":" "},{"$f":"IFERROR(VLOOKUP(MID(U$27,5,4)&$A61,Lista_Ubigeo!$J:$K,2,0),\" \")","v":" "},{"$f":"IFERROR(VLOOKUP(MID(V$27,5,4)&$A61,Lista_Ubigeo!$J:$K,2,0),\" \")","v":" "},{"$f":"IFERROR(VLOOKUP(MID(W$27,5,4)&$A61,Lista_Ubigeo!$J:$K,2,0),\" \")","v":" "},{"$f":"IFERROR(VLOOKUP(MID(X$27,5,4)&$A61,Lista_Ubigeo!$J:$K,2,0),\" \")","v":" "},{"$f":"IFERROR(VLOOKUP(MID(Y$27,5,4)&$A61,Lista_Ubigeo!$J:$K,2,0),\" \")","v":" "},{"$f":"IFERROR(VLOOKUP(MID(Z$27,5,4)&$A61,Lista_Ubigeo!$J:$K,2,0),\" \")","v":" "},{"$f":"IFERROR(VLOOKUP(MID(AA$27,5,4)&$A61,Lista_Ubigeo!$J:$K,2,0),\" \")","v":" "},{"$f":"IFERROR(VLOOKUP(MID(AB$27,5,4)&$A61,Lista_Ubigeo!$J:$K,2,0),\" \")","v":" "},{"$f":"IFERROR(VLOOKUP(MID(AC$27,5,4)&$A61,Lista_Ubigeo!$J:$K,2,0),\" \")","v":" "},{"$f":"IFERROR(VLOOKUP(MID(AD$27,5,4)&$A61,Lista_Ubigeo!$J:$K,2,0),\" \")","v":" "},{"$f":"IFERROR(VLOOKUP(MID(AE$27,5,4)&$A61,Lista_Ubigeo!$J:$K,2,0),\" \")","v":" "},{"$f":"IFERROR(VLOOKUP(MID(AF$27,5,4)&$A61,Lista_Ubigeo!$J:$K,2,0),\" \")","v":" "},{"$f":"IFERROR(VLOOKUP(MID(AG$27,5,4)&$A61,Lista_Ubigeo!$J:$K,2,0),\" \")","v":" "},{"$f":"IFERROR(VLOOKUP(MID(AH$27,5,4)&$A61,Lista_Ubigeo!$J:$K,2,0),\" \")","v":" "},{"$f":"IFERROR(VLOOKUP(MID(AI$27,5,4)&$A61,Lista_Ubigeo!$J:$K,2,0),\" \")","v":" "},{"$f":"IFERROR(VLOOKUP(MID(AJ$27,5,4)&$A61,Lista_Ubigeo!$J:$K,2,0),\" \")","v":" "},{"$f":"IFERROR(VLOOKUP(MID(AK$27,5,4)&$A61,Lista_Ubigeo!$J:$K,2,0),\" \")","v":" "},{"$f":"IFERROR(VLOOKUP(MID(AL$27,5,4)&$A61,Lista_Ubigeo!$J:$K,2,0),\" \")","v":" "},{"$f":"IFERROR(VLOOKUP(MID(AM$27,5,4)&$A61,Lista_Ubigeo!$J:$K,2,0),\" \")","v":" "},{"$f":"IFERROR(VLOOKUP(MID(AN$27,5,4)&$A61,Lista_Ubigeo!$J:$K,2,0),\" \")","v":" "},{"$f":"IFERROR(VLOOKUP(MID(AO$27,5,4)&$A61,Lista_Ubigeo!$J:$K,2,0),\" \")","v":" "},{"$f":"IFERROR(VLOOKUP(MID(AP$27,5,4)&$A61,Lista_Ubigeo!$J:$K,2,0),\" \")","v":" "},{"$f":"IFERROR(VLOOKUP(MID(AQ$27,4,4)&$A61,Lista_Ubigeo!$J:$K,2,0),\" \")","v":" "},{"$f":"IFERROR(VLOOKUP(MID(AR$27,5,4)&$A61,Lista_Ubigeo!$J:$K,2,0),\" \")","v":" "},{"$f":"IFERROR(VLOOKUP(MID(AS$27,5,4)&$A61,Lista_Ubigeo!$J:$K,2,0),\" \")","v":" "},{"$f":"IFERROR(VLOOKUP(MID(AT$27,5,4)&$A61,Lista_Ubigeo!$J:$K,2,0),\" \")","v":" "},{"$f":"IFERROR(VLOOKUP(MID(AU$27,5,4)&$A61,Lista_Ubigeo!$J:$K,2,0),\" \")","v":" "},{"$f":"IFERROR(VLOOKUP(MID(AV$27,5,4)&$A61,Lista_Ubigeo!$J:$K,2,0),\" \")","v":" "},{"$f":"IFERROR(VLOOKUP(MID(AW$27,5,4)&$A61,Lista_Ubigeo!$J:$K,2,0),\" \")","v":" "},{"$f":"IFERROR(VLOOKUP(MID(AX$27,5,4)&$A61,Lista_Ubigeo!$J:$K,2,0),\" \")","v":" "},{"$f":"IFERROR(VLOOKUP(MID(AY$27,5,4)&$A61,Lista_Ubigeo!$J:$K,2,0),\" \")","v":" "},{"$f":"IFERROR(VLOOKUP(MID(AZ$27,5,4)&$A61,Lista_Ubigeo!$J:$K,2,0),\" \")","v":" "},{"$f":"IFERROR(VLOOKUP(MID(BA$27,5,4)&$A61,Lista_Ubigeo!$J:$K,2,0),\" \")","v":" "},{"$f":"IFERROR(VLOOKUP(MID(BB$27,5,4)&$A61,Lista_Ubigeo!$J:$K,2,0),\" \")","v":" "},{"$f":"IFERROR(VLOOKUP(MID(BC$27,5,4)&$A61,Lista_Ubigeo!$J:$K,2,0),\" \")","v":" "},{"$f":"IFERROR(VLOOKUP(MID(BD$27,5,4)&$A61,Lista_Ubigeo!$J:$K,2,0),\" \")","v":" "},{"$f":"IFERROR(VLOOKUP(MID(BE$27,5,4)&$A61,Lista_Ubigeo!$J:$K,2,0),\" \")","v":" "},{"$f":"IFERROR(VLOOKUP(MID(BF$27,5,4)&$A61,Lista_Ubigeo!$J:$K,2,0),\" \")","v":" "},{"$f":"IFERROR(VLOOKUP(MID(BG$27,5,4)&$A61,Lista_Ubigeo!$J:$K,2,0),\" \")","v":" "},{"$f":"IFERROR(VLOOKUP(MID(BH$27,5,4)&$A61,Lista_Ubigeo!$J:$K,2,0),\" \")","v":" "},{"$f":"IFERROR(VLOOKUP(MID(BI$27,5,4)&$A61,Lista_Ubigeo!$J:$K,2,0),\" \")","v":" "},{"$f":"IFERROR(VLOOKUP(MID(BJ$27,5,4)&$A61,Lista_Ubigeo!$J:$K,2,0),\" \")","v":" "},{"$f":"IFERROR(VLOOKUP(MID(BK$27,5,4)&$A61,Lista_Ubigeo!$J:$K,2,0),\" \")","v":" "},{"$f":"IFERROR(VLOOKUP(MID(BL$27,5,4)&$A61,Lista_Ubigeo!$J:$K,2,0),\" \")","v":" "},{"$f":"IFERROR(VLOOKUP(MID(BM$27,5,4)&$A61,Lista_Ubigeo!$J:$K,2,0),\" \")","v":" "},{"$f":"IFERROR(VLOOKUP(MID(BN$27,5,4)&$A61,Lista_Ubigeo!$J:$K,2,0),\" \")","v":" "},{"$f":"IFERROR(VLOOKUP(MID(BO$27,5,4)&$A61,Lista_Ubigeo!$J:$K,2,0),\" \")","v":" "},{"$f":"IFERROR(VLOOKUP(MID(BP$27,5,4)&$A61,Lista_Ubigeo!$J:$K,2,0),\" \")","v":" "},{"$f":"IFERROR(VLOOKUP(MID(BQ$27,5,4)&$A61,Lista_Ubigeo!$J:$K,2,0),\" \")","v":" "},{"$f":"IFERROR(VLOOKUP(MID(BR$27,5,4)&$A61,Lista_Ubigeo!$J:$K,2,0),\" \")","v":" "},{"$f":"IFERROR(VLOOKUP(MID(BS$27,5,4)&$A61,Lista_Ubigeo!$J:$K,2,0),\" \")","v":" "},{"$f":"IFERROR(VLOOKUP(MID(BT$27,5,4)&$A61,Lista_Ubigeo!$J:$K,2,0),\" \")","v":" "},{"$f":"IFERROR(VLOOKUP(MID(BU$27,5,4)&$A61,Lista_Ubigeo!$J:$K,2,0),\" \")","v":" "},{"$f":"IFERROR(VLOOKUP(MID(BV$27,5,4)&$A61,Lista_Ubigeo!$J:$K,2,0),\" \")","v":" "},{"$f":"IFERROR(VLOOKUP(MID(BW$27,5,4)&$A61,Lista_Ubigeo!$J:$K,2,0),\" \")","v":" "},{"$f":"IFERROR(VLOOKUP(MID(BX$27,5,4)&$A61,Lista_Ubigeo!$J:$K,2,0),\" \")","v":" "},{"$f":"IFERROR(VLOOKUP(MID(BY$27,4,4)&$A61,Lista_Ubigeo!$J:$K,2,0),\" \")","v":" "},{"$f":"IFERROR(VLOOKUP(MID(BZ$27,5,4)&$A61,Lista_Ubigeo!$J:$K,2,0),\" \")","v":" "},{"$f":"IFERROR(VLOOKUP(MID(CA$27,5,4)&$A61,Lista_Ubigeo!$J:$K,2,0),\" \")","v":" "},{"$f":"IFERROR(VLOOKUP(MID(CB$27,5,4)&$A61,Lista_Ubigeo!$J:$K,2,0),\" \")","v":" "},{"$f":"IFERROR(VLOOKUP(MID(CC$27,5,4)&$A61,Lista_Ubigeo!$J:$K,2,0),\" \")","v":" "},{"$f":"IFERROR(VLOOKUP(MID(CD$27,5,4)&$A61,Lista_Ubigeo!$J:$K,2,0),\" \")","v":" "},{"$f":"IFERROR(VLOOKUP(MID(CE$27,5,4)&$A61,Lista_Ubigeo!$J:$K,2,0),\" \")","v":" "},{"$f":"IFERROR(VLOOKUP(MID(CF$27,5,4)&$A61,Lista_Ubigeo!$J:$K,2,0),\" \")","v":" "},{"$f":"IFERROR(VLOOKUP(MID(CG$27,5,4)&$A61,Lista_Ubigeo!$J:$K,2,0),\" \")","v":" "},{"$f":"IFERROR(VLOOKUP(MID(CH$27,5,4)&$A61,Lista_Ubigeo!$J:$K,2,0),\" \")","v":" "},{"$f":"IFERROR(VLOOKUP(MID(CI$27,5,4)&$A61,Lista_Ubigeo!$J:$K,2,0),\" \")","v":" "},{"$f":"IFERROR(VLOOKUP(MID(CJ$27,5,4)&$A61,Lista_Ubigeo!$J:$K,2,0),\" \")","v":" "},{"$f":"IFERROR(VLOOKUP(MID(CK$27,5,4)&$A61,Lista_Ubigeo!$J:$K,2,0),\" \")","v":" "},{"$f":"IFERROR(VLOOKUP(MID(CL$27,5,4)&$A61,Lista_Ubigeo!$J:$K,2,0),\" \")","v":" "},{"$f":"IFERROR(VLOOKUP(MID(CM$27,5,4)&$A72,Lista_Ubigeo!$J:$K,2,0),\" \")","v":" "},{"$f":"IFERROR(VLOOKUP(MID(CN$27,5,4)&$A61,Lista_Ubigeo!$J:$K,2,0),\" \")","v":" "},{"$f":"IFERROR(VLOOKUP(MID(CO$27,5,4)&$A61,Lista_Ubigeo!$J:$K,2,0),\" \")","v":" "},{"$f":"IFERROR(VLOOKUP(MID(CP$27,5,4)&$A61,Lista_Ubigeo!$J:$K,2,0),\" \")","v":" "},{"$f":"IFERROR(VLOOKUP(MID(CQ$27,5,4)&$A61,Lista_Ubigeo!$J:$K,2,0),\" \")","v":" "},{"$f":"IFERROR(VLOOKUP(MID(CR$27,5,4)&$A61,Lista_Ubigeo!$J:$K,2,0),\" \")","v":" "},{"$f":"IFERROR(VLOOKUP(MID(CS$27,5,4)&$A61,Lista_Ubigeo!$J:$K,2,0),\" \")","v":" "},{"$f":"IFERROR(VLOOKUP(MID(CT$27,5,4)&$A61,Lista_Ubigeo!$J:$K,2,0),\" \")","v":" "},{"$f":"IFERROR(VLOOKUP(MID(CU$27,5,4)&$A61,Lista_Ubigeo!$J:$K,2,0),\" \")","v":" "},{"$f":"IFERROR(VLOOKUP(MID(CV$27,5,4)&$A61,Lista_Ubigeo!$J:$K,2,0),\" \")","v":" "},{"$f":"IFERROR(VLOOKUP(MID(CW$27,5,4)&$A61,Lista_Ubigeo!$J:$K,2,0),\" \")","v":" "},{"$f":"IFERROR(VLOOKUP(MID(CX$27,5,4)&$A61,Lista_Ubigeo!$J:$K,2,0),\" \")","v":" "},{"$f":"IFERROR(VLOOKUP(MID(CY$27,5,4)&$A61,Lista_Ubigeo!$J:$K,2,0),\" \")","v":" "},{"$f":"IFERROR(VLOOKUP(MID(CZ$27,5,4)&$A61,Lista_Ubigeo!$J:$K,2,0),\" \")","v":" "},null,{"$f":"IFERROR(VLOOKUP(MID(DB$27,5,4)&$A61,Lista_Ubigeo!$J:$K,2,0),\" \")","v":" "},{"$f":"IFERROR(VLOOKUP(MID(DC$27,5,4)&$A61,Lista_Ubigeo!$J:$K,2,0),\" \")","v":" "},{"$f":"IFERROR(VLOOKUP(MID(DD$27,5,4)&$A61,Lista_Ubigeo!$J:$K,2,0),\" \")","v":"YAUYOS"},{"$f":"IFERROR(VLOOKUP(MID(DE$27,5,4)&$A61,Lista_Ubigeo!$J:$K,2,0),\" \")","v":" "},{"$f":"IFERROR(VLOOKUP(MID(DF$27,5,4)&$A61,Lista_Ubigeo!$J:$K,2,0),\" \")","v":" "},{"$f":"IFERROR(VLOOKUP(MID(DG$27,5,4)&$A61,Lista_Ubigeo!$J:$K,2,0),\" \")","v":" "},{"$f":"IFERROR(VLOOKUP(MID(DH$27,5,4)&$A61,Lista_Ubigeo!$J:$K,2,0),\" \")","v":" "},{"$f":"IFERROR(VLOOKUP(MID(DI$27,5,4)&$A61,Lista_Ubigeo!$J:$K,2,0),\" \")","v":" "},{"$f":"IFERROR(VLOOKUP(MID(DJ$27,5,4)&$A61,Lista_Ubigeo!$J:$K,2,0),\" \")","v":" "},{"$f":"IFERROR(VLOOKUP(MID(DK$27,5,4)&$A61,Lista_Ubigeo!$J:$K,2,0),\" \")","v":" "},{"$f":"IFERROR(VLOOKUP(MID(DL$27,5,4)&$A61,Lista_Ubigeo!$J:$K,2,0),\" \")","v":" "},{"$f":"IFERROR(VLOOKUP(MID(DM$27,5,4)&$A61,Lista_Ubigeo!$J:$K,2,0),\" \")","v":" "},{"$f":"IFERROR(VLOOKUP(MID(DN$27,5,4)&$A61,Lista_Ubigeo!$J:$K,2,0),\" \")","v":" "},{"$f":"IFERROR(VLOOKUP(MID(DO$27,5,4)&$A62,Lista_Ubigeo!$J:$K,2,0),\" \")","v":" "},{"$f":"IFERROR(VLOOKUP(MID(DP$27,5,4)&$A61,Lista_Ubigeo!$J:$K,2,0),\" \")","v":" "},{"$f":"IFERROR(VLOOKUP(MID(DQ$27,5,4)&$A61,Lista_Ubigeo!$J:$K,2,0),\" \")","v":" "},{"$f":"IFERROR(VLOOKUP(MID(DR$27,5,4)&$A61,Lista_Ubigeo!$J:$K,2,0),\" \")","v":" "},{"$f":"IFERROR(VLOOKUP(MID(DS$27,5,4)&$A61,Lista_Ubigeo!$J:$K,2,0),\" \")","v":" "},null,null,{"$f":"IFERROR(VLOOKUP(MID(DV$27,5,4)&$A61,Lista_Ubigeo!$J:$K,2,0),\" \")","v":" "},{"$f":"IFERROR(VLOOKUP(MID(DW$27,5,4)&$A61,Lista_Ubigeo!$J:$K,2,0),\" \")","v":" "},{"$f":"IFERROR(VLOOKUP(MID(DX$27,5,4)&$A61,Lista_Ubigeo!$J:$K,2,0),\" \")","v":" "},{"$f":"IFERROR(VLOOKUP(MID(DY$27,5,4)&$A61,Lista_Ubigeo!$J:$K,2,0),\" \")","v":"SAN LUIS"},{"$f":"IFERROR(VLOOKUP(MID(DZ$27,5,4)&$A61,Lista_Ubigeo!$J:$K,2,0),\" \")","v":" "},{"$f":"IFERROR(VLOOKUP(MID(EA$27,5,4)&$A61,Lista_Ubigeo!$J:$K,2,0),\" \")","v":" "},{"$f":"IFERROR(VLOOKUP(MID(EB$27,5,4)&$A61,Lista_Ubigeo!$J:$K,2,0),\" \")","v":" "},{"$f":"IFERROR(VLOOKUP(MID(EC$27,5,4)&$A61,Lista_Ubigeo!$J:$K,2,0),\" \")","v":" "},{"$f":"IFERROR(VLOOKUP(MID(ED$27,5,4)&$A61,Lista_Ubigeo!$J:$K,2,0),\" \")","v":" "},{"$f":"IFERROR(VLOOKUP(MID(EE$27,5,4)&$A61,Lista_Ubigeo!$J:$K,2,0),\" \")","v":" "},{"$f":"IFERROR(VLOOKUP(MID(EF$27,5,4)&$A61,Lista_Ubigeo!$J:$K,2,0),\" \")","v":" "},{"$f":"IFERROR(VLOOKUP(MID(EG$27,5,4)&$A61,Lista_Ubigeo!$J:$K,2,0),\" \")","v":" "},{"$f":"IFERROR(VLOOKUP(MID(EH$27,5,4)&$A61,Lista_Ubigeo!$J:$K,2,0),\" \")","v":" "},{"$f":"IFERROR(VLOOKUP(MID(EI$27,5,4)&$A61,Lista_Ubigeo!$J:$K,2,0),\" \")","v":" "},{"$f":"IFERROR(VLOOKUP(MID(EJ$27,5,4)&$A66,Lista_Ubigeo!$J:$K,2,0),\" \")","v":" "},{"$f":"IFERROR(VLOOKUP(MID(EK$27,5,4)&$A61,Lista_Ubigeo!$J:$K,2,0),\" \")","v":" "},{"$f":"IFERROR(VLOOKUP(MID(EL$27,5,4)&$A61,Lista_Ubigeo!$J:$K,2,0),\" \")","v":" "},{"$f":"IFERROR(VLOOKUP(MID(EM$27,5,4)&$A61,Lista_Ubigeo!$J:$K,2,0),\" \")","v":" "},{"$f":"IFERROR(VLOOKUP(MID(EN$27,5,4)&$A61,Lista_Ubigeo!$J:$K,2,0),\" \")","v":" "},{"$f":"IFERROR(VLOOKUP(MID(EO$27,5,4)&$A61,Lista_Ubigeo!$J:$K,2,0),\" \")","v":" "},{"$f":"IFERROR(VLOOKUP(MID(EP$27,5,4)&$A61,Lista_Ubigeo!$J:$K,2,0),\" \")","v":" "},{"$f":"IFERROR(VLOOKUP(MID(EQ$27,5,4)&$A61,Lista_Ubigeo!$J:$K,2,0),\" \")","v":" "},{"$f":"IFERROR(VLOOKUP(MID(ER$27,5,4)&$A61,Lista_Ubigeo!$J:$K,2,0),\" \")","v":" "},{"$f":"IFERROR(VLOOKUP(MID(ES$27,5,4)&$A61,Lista_Ubigeo!$J:$K,2,0),\" \")","v":" "},{"$f":"IFERROR(VLOOKUP(MID(ET$27,5,4)&$A61,Lista_Ubigeo!$J:$K,2,0),\" \")","v":" "},{"$f":"IFERROR(VLOOKUP(MID(EU$27,5,4)&$A61,Lista_Ubigeo!$J:$K,2,0),\" \")","v":" "},{"$f":"IFERROR(VLOOKUP(MID(EV$27,5,4)&$A61,Lista_Ubigeo!$J:$K,2,0),\" \")","v":" "},{"$f":"IFERROR(VLOOKUP(MID(EW$27,5,4)&$A61,Lista_Ubigeo!$J:$K,2,0),\" \")","v":" "},{"$f":"IFERROR(VLOOKUP(MID(EX$27,5,4)&$A61,Lista_Ubigeo!$J:$K,2,0),\" \")","v":" "},{"$f":"IFERROR(VLOOKUP(MID(EY$27,5,4)&$A61,Lista_Ubigeo!$J:$K,2,0),\" \")","v":" "},{"$f":"IFERROR(VLOOKUP(MID(EZ$27,5,4)&$A64,Lista_Ubigeo!$J:$K,2,0),\" \")","v":" "},{"$f":"IFERROR(VLOOKUP(MID(FA$27,5,4)&$A61,Lista_Ubigeo!$J:$K,2,0),\" \")","v":" "},{"$f":"IFERROR(VLOOKUP(MID(FB$27,5,4)&$A61,Lista_Ubigeo!$J:$K,2,0),\" \")","v":" "},{"$f":"IFERROR(VLOOKUP(MID(FC$27,5,4)&$A61,Lista_Ubigeo!$J:$K,2,0),\" \")","v":" "},{"$f":"IFERROR(VLOOKUP(MID(FD$27,5,4)&$A61,Lista_Ubigeo!$J:$K,2,0),\" \")","v":" "},{"$f":"IFERROR(VLOOKUP(MID(FE$27,5,4)&$A61,Lista_Ubigeo!$J:$K,2,0),\" \")","v":" "},{"$f":"IFERROR(VLOOKUP(MID(FF$27,5,4)&$A61,Lista_Ubigeo!$J:$K,2,0),\" \")","v":" "},{"$f":"IFERROR(VLOOKUP(MID(FG$27,5,4)&$A61,Lista_Ubigeo!$J:$K,2,0),\" \")","v":" "},{"$f":"IFERROR(VLOOKUP(MID(FH$27,5,4)&$A61,Lista_Ubigeo!$J:$K,2,0),\" \")","v":" "},{"$f":"IFERROR(VLOOKUP(MID(FI$27,5,4)&$A61,Lista_Ubigeo!$J:$K,2,0),\" \")","v":" "},{"$f":"IFERROR(VLOOKUP(MID(FJ$27,5,4)&$A61,Lista_Ubigeo!$J:$K,2,0),\" \")","v":" "},{"$f":"IFERROR(VLOOKUP(MID(FK$27,5,4)&$A61,Lista_Ubigeo!$J:$K,2,0),\" \")","v":" "},{"$f":"IFERROR(VLOOKUP(MID(FL$27,5,4)&$A61,Lista_Ubigeo!$J:$K,2,0),\" \")","v":" "},{"$f":"IFERROR(VLOOKUP(MID(FM$27,5,4)&$A61,Lista_Ubigeo!$J:$K,2,0),\" \")","v":" "},{"$f":"IFERROR(VLOOKUP(MID(FN$27,5,4)&$A61,Lista_Ubigeo!$J:$K,2,0),\" \")","v":" "},{"$f":"IFERROR(VLOOKUP(MID(FO$27,5,4)&$A61,Lista_Ubigeo!$J:$K,2,0),\" \")","v":" "},{"$f":"IFERROR(VLOOKUP(MID(FP$27,5,4)&$A61,Lista_Ubigeo!$J:$K,2,0),\" \")","v":" "},{"$f":"IFERROR(VLOOKUP(MID(FQ$27,5,4)&$A61,Lista_Ubigeo!$J:$K,2,0),\" \")","v":" "},{"$f":"IFERROR(VLOOKUP(MID(FR$27,5,4)&$A61,Lista_Ubigeo!$J:$K,2,0),\" \")","v":" "},{"$f":"IFERROR(VLOOKUP(MID(FS$27,5,4)&$A61,Lista_Ubigeo!$J:$K,2,0),\" \")","v":" "},{"$f":"IFERROR(VLOOKUP(MID(FT$27,5,4)&$A61,Lista_Ubigeo!$J:$K,2,0),\" \")","v":" "},{"$f":"IFERROR(VLOOKUP(MID(FU$27,5,4)&$A61,Lista_Ubigeo!$J:$K,2,0),\" \")","v":" "},{"$f":"IFERROR(VLOOKUP(MID(FV$27,5,4)&$A61,Lista_Ubigeo!$J:$K,2,0),\" \")","v":" "},{"$f":"IFERROR(VLOOKUP(MID(FW$27,5,4)&$A61,Lista_Ubigeo!$J:$K,2,0),\" \")","v":" "},{"$f":"IFERROR(VLOOKUP(MID(FX$27,5,4)&$A61,Lista_Ubigeo!$J:$K,2,0),\" \")","v":" "},{"$f":"IFERROR(VLOOKUP(MID(FY$27,5,4)&$A61,Lista_Ubigeo!$J:$K,2,0),\" \")","v":" "},{"$f":"IFERROR(VLOOKUP(MID(FZ$27,5,4)&$A61,Lista_Ubigeo!$J:$K,2,0),\" \")","v":" "},{"$f":"IFERROR(VLOOKUP(MID(GA$27,5,4)&$A61,Lista_Ubigeo!$J:$K,2,0),\" \")","v":" "},{"$f":"IFERROR(VLOOKUP(MID(GB$27,5,4)&$A61,Lista_Ubigeo!$J:$K,2,0),\" \")","v":" "},{"$f":"IFERROR(VLOOKUP(MID(GC$27,5,4)&$A61,Lista_Ubigeo!$J:$K,2,0),\" \")","v":" "},{"$f":"IFERROR(VLOOKUP(MID(GD$27,5,4)&$A61,Lista_Ubigeo!$J:$K,2,0),\" \")","v":" "},{"$f":"IFERROR(VLOOKUP(MID(GE$27,5,4)&$A61,Lista_Ubigeo!$J:$K,2,0),\" \")","v":" "},{"$f":"IFERROR(VLOOKUP(MID(GF$27,5,4)&$A61,Lista_Ubigeo!$J:$K,2,0),\" \")","v":" "},{"$f":"IFERROR(VLOOKUP(MID(GG$27,5,4)&$A61,Lista_Ubigeo!$J:$K,2,0),\" \")","v":" "},{"$f":"IFERROR(VLOOKUP(MID(GH$27,5,4)&$A61,Lista_Ubigeo!$J:$K,2,0),\" \")","v":" "},{"$f":"IFERROR(VLOOKUP(MID(GI$27,5,4)&$A61,Lista_Ubigeo!$J:$K,2,0),\" \")","v":" "},{"$f":"IFERROR(VLOOKUP(MID(GJ$27,5,4)&$A61,Lista_Ubigeo!$J:$K,2,0),\" \")","v":" "},{"$f":"IFERROR(VLOOKUP(MID(GK$27,5,4)&$A61,Lista_Ubigeo!$J:$K,2,0),\" \")","v":" "},{"$f":"IFERROR(VLOOKUP(MID(GL$27,5,4)&$A61,Lista_Ubigeo!$J:$K,2,0),\" \")","v":" "},{"$f":"IFERROR(VLOOKUP(MID(GM$27,5,4)&$A61,Lista_Ubigeo!$J:$K,2,0),\" \")","v":" "},{"$f":"IFERROR(VLOOKUP(MID(GN$27,5,4)&$A61,Lista_Ubigeo!$J:$K,2,0),\" \")","v":" "},{"$f":"IFERROR(VLOOKUP(MID(GO$27,5,4)&$A61,Lista_Ubigeo!$J:$K,2,0),\" \")","v":" "},{"$f":"IFERROR(VLOOKUP(MID(GP$27,5,4)&$A61,Lista_Ubigeo!$J:$K,2,0),\" \")","v":" "}]
["35",{"$f":"IFERROR(VLOOKUP(MID(B$27,5,4)&$A62,Lista_Ubigeo!$J:$K,2,0),\" \")","v":" "},{"$f":"IFERROR(VLOOKUP(MID(C$27,5,4)&$A62,Lista_Ubigeo!$J:$K,2,0),\" \")","v":" "},{"$f":"IFERROR(VLOOKUP(MID(D$27,5,4)&$A62,Lista_Ubigeo!$J:$K,2,0),\" \")","v":" "},{"$f":"IFERROR(VLOOKUP(MID(E$27,5,4)&$A62,Lista_Ubigeo!$J:$K,2,0),\" \")","v":" "},{"$f":"IFERROR(VLOOKUP(MID(F$27,5,4)&$A62,Lista_Ubigeo!$J:$K,2,0),\" \")","v":" "},{"$f":"IFERROR(VLOOKUP(MID(G$27,5,4)&$A62,Lista_Ubigeo!$J:$K,2,0),\" \")","v":" "},{"$f":"IFERROR(VLOOKUP(MID(H$27,5,4)&$A62,Lista_Ubigeo!$J:$K,2,0),\" \")","v":" "},{"$f":"IFERROR(VLOOKUP(MID(I$27,5,4)&$A62,Lista_Ubigeo!$J:$K,2,0),\" \")","v":" "},{"$f":"IFERROR(VLOOKUP(MID(J$27,5,4)&$A62,Lista_Ubigeo!$J:$K,2,0),\" \")","v":" "},{"$f":"IFERROR(VLOOKUP(MID(K$27,5,4)&$A62,Lista_Ubigeo!$J:$K,2,0),\" \")","v":" "},{"$f":"IFERROR(VLOOKUP(MID(L$27,5,4)&$A62,Lista_Ubigeo!$J:$K,2,0),\" \")","v":" "},{"$f":"IFERROR(VLOOKUP(MID(M$27,5,4)&$A62,Lista_Ubigeo!$J:$K,2,0),\" \")","v":" "},{"$f":"IFERROR(VLOOKUP(MID(N$27,5,4)&$A62,Lista_Ubigeo!$J:$K,2,0),\" \")","v":" "},{"$f":"IFERROR(VLOOKUP(MID(O$27,5,4)&$A62,Lista_Ubigeo!$J:$K,2,0),\" \")","v":" "},{"$f":"IFERROR(VLOOKUP(MID(P$27,5,4)&$A62,Lista_Ubigeo!$J:$K,2,0),\" \")","v":" "},{"$f":"IFERROR(VLOOKUP(MID(Q$27,5,4)&$A62,Lista_Ubigeo!$J:$K,2,0),\" \")","v":" "},{"$f":"IFERROR(VLOOKUP(MID(R$27,5,4)&$A62,Lista_Ubigeo!$J:$K,2,0),\" \")","v":" "},{"$f":"IFERROR(VLOOKUP(MID(S$27,5,4)&$A62,Lista_Ubigeo!$J:$K,2,0),\" \")","v":" "},{"$f":"IFERROR(VLOOKUP(MID(T$27,5,4)&$A62,Lista_Ubigeo!$J:$K,2,0),\" \")","v":" "},{"$f":"IFERROR(VLOOKUP(MID(U$27,5,4)&$A62,Lista_Ubigeo!$J:$K,2,0),\" \")","v":" "},{"$f":"IFERROR(VLOOKUP(MID(V$27,5,4)&$A62,Lista_Ubigeo!$J:$K,2,0),\" \")","v":" "},{"$f":"IFERROR(VLOOKUP(MID(W$27,5,4)&$A62,Lista_Ubigeo!$J:$K,2,0),\" \")","v":" "},{"$f":"IFERROR(VLOOKUP(MID(X$27,5,4)&$A62,Lista_Ubigeo!$J:$K,2,0),\" \")","v":" "},{"$f":"IFERROR(VLOOKUP(MID(Y$27,5,4)&$A62,Lista_Ubigeo!$J:$K,2,0),\" \")","v":" "},{"$f":"IFERROR(VLOOKUP(MID(Z$27,5,4)&$A62,Lista_Ubigeo!$J:$K,2,0),\" \")","v":" "},{"$f":"IFERROR(VLOOKUP(MID(AA$27,5,4)&$A62,Lista_Ubigeo!$J:$K,2,0),\" \")","v":" "},{"$f":"IFERROR(VLOOKUP(MID(AB$27,5,4)&$A62,Lista_Ubigeo!$J:$K,2,0),\" \")","v":" "},{"$f":"IFERROR(VLOOKUP(MID(AC$27,5,4)&$A62,Lista_Ubigeo!$J:$K,2,0),\" \")","v":" "},{"$f":"IFERROR(VLOOKUP(MID(AD$27,5,4)&$A62,Lista_Ubigeo!$J:$K,2,0),\" \")","v":" "},{"$f":"IFERROR(VLOOKUP(MID(AE$27,5,4)&$A62,Lista_Ubigeo!$J:$K,2,0),\" \")","v":" "},{"$f":"IFERROR(VLOOKUP(MID(AF$27,5,4)&$A62,Lista_Ubigeo!$J:$K,2,0),\" \")","v":" "},{"$f":"IFERROR(VLOOKUP(MID(AG$27,5,4)&$A62,Lista_Ubigeo!$J:$K,2,0),\" \")","v":" "},{"$f":"IFERROR(VLOOKUP(MID(AH$27,5,4)&$A62,Lista_Ubigeo!$J:$K,2,0),\" \")","v":" "},{"$f":"IFERROR(VLOOKUP(MID(AI$27,5,4)&$A62,Lista_Ubigeo!$J:$K,2,0),\" \")","v":" "},{"$f":"IFERROR(VLOOKUP(MID(AJ$27,5,4)&$A62,Lista_Ubigeo!$J:$K,2,0),\" \")","v":" "},{"$f":"IFERROR(VLOOKUP(MID(AK$27,5,4)&$A62,Lista_Ubigeo!$J:$K,2,0),\" \")","v":" "},{"$f":"IFERROR(VLOOKUP(MID(AL$27,5,4)&$A62,Lista_Ubigeo!$J:$K,2,0),\" \")","v":" "},{"$f":"IFERROR(VLOOKUP(MID(AM$27,5,4)&$A62,Lista_Ubigeo!$J:$K,2,0),\" \")","v":" "},{"$f":"IFERROR(VLOOKUP(MID(AN$27,5,4)&$A62,Lista_Ubigeo!$J:$K,2,0),\" \")","v":" "},{"$f":"IFERROR(VLOOKUP(MID(AO$27,5,4)&$A62,Lista_Ubigeo!$J:$K,2,0),\" \")","v":" "},{"$f":"IFERROR(VLOOKUP(MID(AP$27,5,4)&$A62,Lista_Ubigeo!$J:$K,2,0),\" \")","v":" "},{"$f":"IFERROR(VLOOKUP(MID(AQ$27,4,4)&$A62,Lista_Ubigeo!$J:$K,2,0),\" \")","v":" "},{"$f":"IFERROR(VLOOKUP(MID(AR$27,5,4)&$A62,Lista_Ubigeo!$J:$K,2,0),\" \")","v":" "},{"$f":"IFERROR(VLOOKUP(MID(AS$27,5,4)&$A62,Lista_Ubigeo!$J:$K,2,0),\" \")","v":" "},{"$f":"IFERROR(VLOOKUP(MID(AT$27,5,4)&$A62,Lista_Ubigeo!$J:$K,2,0),\" \")","v":" "},{"$f":"IFERROR(VLOOKUP(MID(AU$27,5,4)&$A62,Lista_Ubigeo!$J:$K,2,0),\" \")","v":" "},{"$f":"IFERROR(VLOOKUP(MID(AV$27,5,4)&$A62,Lista_Ubigeo!$J:$K,2,0),\" \")","v":" "},{"$f":"IFERROR(VLOOKUP(MID(AW$27,5,4)&$A62,Lista_Ubigeo!$J:$K,2,0),\" \")","v":" "},{"$f":"IFERROR(VLOOKUP(MID(AX$27,5,4)&$A62,Lista_Ubigeo!$J:$K,2,0),\" \")","v":" "},{"$f":"IFERROR(VLOOKUP(MID(AY$27,5,4)&$A62,Lista_Ubigeo!$J:$K,2,0),\" \")","v":" "},{"$f":"IFERROR(VLOOKUP(MID(AZ$27,5,4)&$A62,Lista_Ubigeo!$J:$K,2,0),\" \")","v":" "},{"$f":"IFERROR(VLOOKUP(MID(BA$27,5,4)&$A62,Lista_Ubigeo!$J:$K,2,0),\" \")","v":" "},{"$f":"IFERROR(VLOOKUP(MID(BB$27,5,4)&$A62,Lista_Ubigeo!$J:$K,2,0),\" \")","v":" "},{"$f":"IFERROR(VLOOKUP(MID(BC$27,5,4)&$A62,Lista_Ubigeo!$J:$K,2,0),\" \")","v":" "},{"$f":"IFERROR(VLOOKUP(MID(BD$27,5,4)&$A62,Lista_Ubigeo!$J:$K,2,0),\" \")","v":" "},{"$f":"IFERROR(VLOOKUP(MID(BE$27,5,4)&$A62,Lista_Ubigeo!$J:$K,2,0),\" \")","v":" "},{"$f":"IFERROR(VLOOKUP(MID(BF$27,5,4)&$A62,Lista_Ubigeo!$J:$K,2,0),\" \")","v":" "},{"$f":"IFERROR(VLOOKUP(MID(BG$27,5,4)&$A62,Lista_Ubigeo!$J:$K,2,0),\" \")","v":" "},{"$f":"IFERROR(VLOOKUP(MID(BH$27,5,4)&$A62,Lista_Ubigeo!$J:$K,2,0),\" \")","v":" "},{"$f":"IFERROR(VLOOKUP(MID(BI$27,5,4)&$A62,Lista_Ubigeo!$J:$K,2,0),\" \")","v":" "},{"$f":"IFERROR(VLOOKUP(MID(BJ$27,5,4)&$A62,Lista_Ubigeo!$J:$K,2,0),\" \")","v":" "},{"$f":"IFERROR(VLOOKUP(MID(BK$27,5,4)&$A62,Lista_Ubigeo!$J:$K,2,0),\" \")","v":" "},{"$f":"IFERROR(VLOOKUP(MID(BL$27,5,4)&$A62,Lista_Ubigeo!$J:$K,2,0),\" \")","v":" "},{"$f":"IFERROR(VLOOKUP(MID(BM$27,5,4)&$A62,Lista_Ubigeo!$J:$K,2,0),\" \")","v":" "},{"$f":"IFERROR(VLOOKUP(MID(BN$27,5,4)&$A62,Lista_Ubigeo!$J:$K,2,0),\" \")","v":" "},{"$f":"IFERROR(VLOOKUP(MID(BO$27,5,4)&$A62,Lista_Ubigeo!$J:$K,2,0),\" \")","v":" "},{"$f":"IFERROR(VLOOKUP(MID(BP$27,5,4)&$A62,Lista_Ubigeo!$J:$K,2,0),\" \")","v":" "},{"$f":"IFERROR(VLOOKUP(MID(BQ$27,5,4)&$A62,Lista_Ubigeo!$J:$K,2,0),\" \")","v":" "},{"$f":"IFERROR(VLOOKUP(MID(BR$27,5,4)&$A62,Lista_Ubigeo!$J:$K,2,0),\" \")","v":" "},{"$f":"IFERROR(VLOOKUP(MID(BS$27,5,4)&$A62,Lista_Ubigeo!$J:$K,2,0),\" \")","v":" "},{"$f":"IFERROR(VLOOKUP(MID(BT$27,5,4)&$A62,Lista_Ubigeo!$J:$K,2,0),\" \")","v":" "},{"$f":"IFERROR(VLOOKUP(MID(BU$27,5,4)&$A62,Lista_Ubigeo!$J:$K,2,0),\" \")","v":" "},{"$f":"IFERROR(VLOOKUP(MID(BV$27,5,4)&$A62,Lista_Ubigeo!$J:$K,2,0),\" \")","v":" "},{"$f":"IFERROR(VLOOKUP(MID(BW$27,5,4)&$A62,Lista_Ubigeo!$J:$K,2,0),\" \")","v":" "},{"$f":"IFERROR(VLOOKUP(MID(BX$27,5,4)&$A62,Lista_Ubigeo!$J:$K,2,0),\" \")","v":" "},{"$f":"IFERROR(VLOOKUP(MID(BY$27,4,4)&$A62,Lista_Ubigeo!$J:$K,2,0),\" \")","v":" "},{"$f":"IFERROR(VLOOKUP(MID(BZ$27,5,4)&$A62,Lista_Ubigeo!$J:$K,2,0),\" \")","v":" "},{"$f":"IFERROR(VLOOKUP(MID(CA$27,5,4)&$A62,Lista_Ubigeo!$J:$K,2,0),\" \")","v":" "},{"$f":"IFERROR(VLOOKUP(MID(CB$27,5,4)&$A62,Lista_Ubigeo!$J:$K,2,0),\" \")","v":" "},{"$f":"IFERROR(VLOOKUP(MID(CC$27,5,4)&$A62,Lista_Ubigeo!$J:$K,2,0),\" \")","v":" "},{"$f":"IFERROR(VLOOKUP(MID(CD$27,5,4)&$A62,Lista_Ubigeo!$J:$K,2,0),\" \")","v":" "},{"$f":"IFERROR(VLOOKUP(MID(CE$27,5,4)&$A62,Lista_Ubigeo!$J:$K,2,0),\" \")","v":" "},{"$f":"IFERROR(VLOOKUP(MID(CF$27,5,4)&$A62,Lista_Ubigeo!$J:$K,2,0),\" \")","v":" "},{"$f":"IFERROR(VLOOKUP(MID(CG$27,5,4)&$A62,Lista_Ubigeo!$J:$K,2,0),\" \")","v":" "},{"$f":"IFERROR(VLOOKUP(MID(CH$27,5,4)&$A62,Lista_Ubigeo!$J:$K,2,0),\" \")","v":" "},{"$f":"IFERROR(VLOOKUP(MID(CI$27,5,4)&$A62,Lista_Ubigeo!$J:$K,2,0),\" \")","v":" "},{"$f":"IFERROR(VLOOKUP(MID(CJ$27,5,4)&$A62,Lista_Ubigeo!$J:$K,2,0),\" \")","v":" "},{"$f":"IFERROR(VLOOKUP(MID(CK$27,5,4)&$A62,Lista_Ubigeo!$J:$K,2,0),\" \")","v":" "},{"$f":"IFERROR(VLOOKUP(MID(CL$27,5,4)&$A62,Lista_Ubigeo!$J:$K,2,0),\" \")","v":" "},{"$f":"IFERROR(VLOOKUP(MID(CM$27,5,4)&$A73,Lista_Ubigeo!$J:$K,2,0),\" \")","v":" "},{"$f":"IFERROR(VLOOKUP(MID(CN$27,5,4)&$A62,Lista_Ubigeo!$J:$K,2,0),\" \")","v":" "},{"$f":"IFERROR(VLOOKUP(MID(CO$27,5,4)&$A62,Lista_Ubigeo!$J:$K,2,0),\" \")","v":" "},{"$f":"IFERROR(VLOOKUP(MID(CP$27,5,4)&$A62,Lista_Ubigeo!$J:$K,2,0),\" \")","v":" "},{"$f":"IFERROR(VLOOKUP(MID(CQ$27,5,4)&$A62,Lista_Ubigeo!$J:$K,2,0),\" \")","v":" "},{"$f":"IFERROR(VLOOKUP(MID(CR$27,5,4)&$A62,Lista_Ubigeo!$J:$K,2,0),\" \")","v":" "},{"$f":"IFERROR(VLOOKUP(MID(CS$27,5,4)&$A62,Lista_Ubigeo!$J:$K,2,0),\" \")","v":" "},{"$f":"IFERROR(VLOOKUP(MID(CT$27,5,4)&$A62,Lista_Ubigeo!$J:$K,2,0),\" \")","v":" "},{"$f":"IFERROR(VLOOKUP(MID(CU$27,5,4)&$A62,Lista_Ubigeo!$J:$K,2,0),\" \")","v":" "},{"$f":"IFERROR(VLOOKUP(MID(CV$27,5,4)&$A62,Lista_Ubigeo!$J:$K,2,0),\" \")","v":" "},{"$f":"IFERROR(VLOOKUP(MID(CW$27,5,4)&$A62,Lista_Ubigeo!$J:$K,2,0),\" \")","v":" "},{"$f":"IFERROR(VLOOKUP(MID(CX$27,5,4)&$A62,Lista_Ubigeo!$J:$K,2,0),\" \")","v":" "},{"$f":"IFERROR(VLOOKUP(MID(CY$27,5,4)&$A62,Lista_Ubigeo!$J:$K,2,0),\" \")","v":" "},{"$f":"IFERROR(VLOOKUP(MID(CZ$27,5,4)&$A62,Lista_Ubigeo!$J:$K,2,0),\" \")","v":" "},null,{"$f":"IFERROR(VLOOKUP(MID(DB$27,5,4)&$A62,Lista_Ubigeo!$J:$K,2,0),\" \")","v":" "},{"$f":"IFERROR(VLOOKUP(MID(DC$27,5,4)&$A62,Lista_Ubigeo!$J:$K,2,0),\" \")","v":" "},{"$f":"IFERROR(VLOOKUP(MID(DD$27,5,4)&$A62,Lista_Ubigeo!$J:$K,2,0),\" \")","v":" "},{"$f":"IFERROR(VLOOKUP(MID(DE$27,5,4)&$A62,Lista_Ubigeo!$J:$K,2,0),\" \")","v":" "},{"$f":"IFERROR(VLOOKUP(MID(DF$27,5,4)&$A62,Lista_Ubigeo!$J:$K,2,0),\" \")","v":" "},{"$f":"IFERROR(VLOOKUP(MID(DG$27,5,4)&$A62,Lista_Ubigeo!$J:$K,2,0),\" \")","v":" "},{"$f":"IFERROR(VLOOKUP(MID(DH$27,5,4)&$A62,Lista_Ubigeo!$J:$K,2,0),\" \")","v":" "},{"$f":"IFERROR(VLOOKUP(MID(DI$27,5,4)&$A62,Lista_Ubigeo!$J:$K,2,0),\" \")","v":" "},{"$f":"IFERROR(VLOOKUP(MID(DJ$27,5,4)&$A62,Lista_Ubigeo!$J:$K,2,0),\" \")","v":" "},{"$f":"IFERROR(VLOOKUP(MID(DK$27,5,4)&$A62,Lista_Ubigeo!$J:$K,2,0),\" \")","v":" "},{"$f":"IFERROR(VLOOKUP(MID(DL$27,5,4)&$A62,Lista_Ubigeo!$J:$K,2,0),\" \")","v":" "},{"$f":"IFERROR(VLOOKUP(MID(DM$27,5,4)&$A62,Lista_Ubigeo!$J:$K,2,0),\" \")","v":" "},{"$f":"IFERROR(VLOOKUP(MID(DN$27,5,4)&$A62,Lista_Ubigeo!$J:$K,2,0),\" \")","v":" "},{"$f":"IFERROR(VLOOKUP(MID(DO$27,5,4)&$A63,Lista_Ubigeo!$J:$K,2,0),\" \")","v":" "},{"$f":"IFERROR(VLOOKUP(MID(DP$27,5,4)&$A62,Lista_Ubigeo!$J:$K,2,0),\" \")","v":" "},{"$f":"IFERROR(VLOOKUP(MID(DQ$27,5,4)&$A62,Lista_Ubigeo!$J:$K,2,0),\" \")","v":" "},{"$f":"IFERROR(VLOOKUP(MID(DR$27,5,4)&$A62,Lista_Ubigeo!$J:$K,2,0),\" \")","v":" "},{"$f":"IFERROR(VLOOKUP(MID(DS$27,5,4)&$A62,Lista_Ubigeo!$J:$K,2,0),\" \")","v":" "},null,null,{"$f":"IFERROR(VLOOKUP(MID(DV$27,5,4)&$A62,Lista_Ubigeo!$J:$K,2,0),\" \")","v":" "},{"$f":"IFERROR(VLOOKUP(MID(DW$27,5,4)&$A62,Lista_Ubigeo!$J:$K,2,0),\" \")","v":" "},{"$f":"IFERROR(VLOOKUP(MID(DX$27,5,4)&$A62,Lista_Ubigeo!$J:$K,2,0),\" \")","v":" "},{"$f":"IFERROR(VLOOKUP(MID(DY$27,5,4)&$A62,Lista_Ubigeo!$J:$K,2,0),\" \")","v":"SAN MARTIN DE PORRES"},{"$f":"IFERROR(VLOOKUP(MID(DZ$27,5,4)&$A62,Lista_Ubigeo!$J:$K,2,0),\" \")","v":" "},{"$f":"IFERROR(VLOOKUP(MID(EA$27,5,4)&$A62,Lista_Ubigeo!$J:$K,2,0),\" \")","v":" "},{"$f":"IFERROR(VLOOKUP(MID(EB$27,5,4)&$A62,Lista_Ubigeo!$J:$K,2,0),\" \")","v":" "},{"$f":"IFERROR(VLOOKUP(MID(EC$27,5,4)&$A62,Lista_Ubigeo!$J:$K,2,0),\" \")","v":" "},{"$f":"IFERROR(VLOOKUP(MID(ED$27,5,4)&$A62,Lista_Ubigeo!$J:$K,2,0),\" \")","v":" "},{"$f":"IFERROR(VLOOKUP(MID(EE$27,5,4)&$A62,Lista_Ubigeo!$J:$K,2,0),\" \")","v":" "},{"$f":"IFERROR(VLOOKUP(MID(EF$27,5,4)&$A62,Lista_Ubigeo!$J:$K,2,0),\" \")","v":" "},{"$f":"IFERROR(VLOOKUP(MID(EG$27,5,4)&$A62,Lista_Ubigeo!$J:$K,2,0),\" \")","v":" "},{"$f":"IFERROR(VLOOKUP(MID(EH$27,5,4)&$A62,Lista_Ubigeo!$J:$K,2,0),\" \")","v":" "},{"$f":"IFERROR(VLOOKUP(MID(EI$27,5,4)&$A62,Lista_Ubigeo!$J:$K,2,0),\" \")","v":" "},{"$f":"IFERROR(VLOOKUP(MID(EJ$27,5,4)&$A67,Lista_Ubigeo!$J:$K,2,0),\" \")","v":" "},{"$f":"IFERROR(VLOOKUP(MID(EK$27,5,4)&$A62,Lista_Ubigeo!$J:$K,2,0),\" \")","v":" "},{"$f":"IFERROR(VLOOKUP(MID(EL$27,5,4)&$A62,Lista_Ubigeo!$J:$K,2,0),\" \")","v":" "},{"$f":"IFERROR(VLOOKUP(MID(EM$27,5,4)&$A62,Lista_Ubigeo!$J:$K,2,0),\" \")","v":" "},{"$f":"IFERROR(VLOOKUP(MID(EN$27,5,4)&$A62,Lista_Ubigeo!$J:$K,2,0),\" \")","v":" "},{"$f":"IFERROR(VLOOKUP(MID(EO$27,5,4)&$A62,Lista_Ubigeo!$J:$K,2,0),\" \")","v":" "},{"$f":"IFERROR(VLOOKUP(MID(EP$27,5,4)&$A62,Lista_Ubigeo!$J:$K,2,0),\" \")","v":" "},{"$f":"IFERROR(VLOOKUP(MID(EQ$27,5,4)&$A62,Lista_Ubigeo!$J:$K,2,0),\" \")","v":" "},{"$f":"IFERROR(VLOOKUP(MID(ER$27,5,4)&$A62,Lista_Ubigeo!$J:$K,2,0),\" \")","v":" "},{"$f":"IFERROR(VLOOKUP(MID(ES$27,5,4)&$A62,Lista_Ubigeo!$J:$K,2,0),\" \")","v":" "},{"$f":"IFERROR(VLOOKUP(MID(ET$27,5,4)&$A62,Lista_Ubigeo!$J:$K,2,0),\" \")","v":" "},{"$f":"IFERROR(VLOOKUP(MID(EU$27,5,4)&$A62,Lista_Ubigeo!$J:$K,2,0),\" \")","v":" "},{"$f":"IFERROR(VLOOKUP(MID(EV$27,5,4)&$A62,Lista_Ubigeo!$J:$K,2,0),\" \")","v":" "},{"$f":"IFERROR(VLOOKUP(MID(EW$27,5,4)&$A62,Lista_Ubigeo!$J:$K,2,0),\" \")","v":" "},{"$f":"IFERROR(VLOOKUP(MID(EX$27,5,4)&$A62,Lista_Ubigeo!$J:$K,2,0),\" \")","v":" "},{"$f":"IFERROR(VLOOKUP(MID(EY$27,5,4)&$A62,Lista_Ubigeo!$J:$K,2,0),\" \")","v":" "},{"$f":"IFERROR(VLOOKUP(MID(EZ$27,5,4)&$A65,Lista_Ubigeo!$J:$K,2,0),\" \")","v":" "},{"$f":"IFERROR(VLOOKUP(MID(FA$27,5,4)&$A62,Lista_Ubigeo!$J:$K,2,0),\" \")","v":" "},{"$f":"IFERROR(VLOOKUP(MID(FB$27,5,4)&$A62,Lista_Ubigeo!$J:$K,2,0),\" \")","v":" "},{"$f":"IFERROR(VLOOKUP(MID(FC$27,5,4)&$A62,Lista_Ubigeo!$J:$K,2,0),\" \")","v":" "},{"$f":"IFERROR(VLOOKUP(MID(FD$27,5,4)&$A62,Lista_Ubigeo!$J:$K,2,0),\" \")","v":" "},{"$f":"IFERROR(VLOOKUP(MID(FE$27,5,4)&$A62,Lista_Ubigeo!$J:$K,2,0),\" \")","v":" "},{"$f":"IFERROR(VLOOKUP(MID(FF$27,5,4)&$A62,Lista_Ubigeo!$J:$K,2,0),\" \")","v":" "},{"$f":"IFERROR(VLOOKUP(MID(FG$27,5,4)&$A62,Lista_Ubigeo!$J:$K,2,0),\" \")","v":" "},{"$f":"IFERROR(VLOOKUP(MID(FH$27,5,4)&$A62,Lista_Ubigeo!$J:$K,2,0),\" \")","v":" "},{"$f":"IFERROR(VLOOKUP(MID(FI$27,5,4)&$A62,Lista_Ubigeo!$J:$K,2,0),\" \")","v":" "},{"$f":"IFERROR(VLOOKUP(MID(FJ$27,5,4)&$A62,Lista_Ubigeo!$J:$K,2,0),\" \")","v":" "},{"$f":"IFERROR(VLOOKUP(MID(FK$27,5,4)&$A62,Lista_Ubigeo!$J:$K,2,0),\" \")","v":" "},{"$f":"IFERROR(VLOOKUP(MID(FL$27,5,4)&$A62,Lista_Ubigeo!$J:$K,2,0),\" \")","v":" "},{"$f":"IFERROR(VLOOKUP(MID(FM$27,5,4)&$A62,Lista_Ubigeo!$J:$K,2,0),\" \")","v":" "},{"$f":"IFERROR(VLOOKUP(MID(FN$27,5,4)&$A62,Lista_Ubigeo!$J:$K,2,0),\" \")","v":" "},{"$f":"IFERROR(VLOOKUP(MID(FO$27,5,4)&$A62,Lista_Ubigeo!$J:$K,2,0),\" \")","v":" "},{"$f":"IFERROR(VLOOKUP(MID(FP$27,5,4)&$A62,Lista_Ubigeo!$J:$K,2,0),\" \")","v":" "},{"$f":"IFERROR(VLOOKUP(MID(FQ$27,5,4)&$A62,Lista_Ubigeo!$J:$K,2,0),\" \")","v":" "},{"$f":"IFERROR(VLOOKUP(MID(FR$27,5,4)&$A62,Lista_Ubigeo!$J:$K,2,0),\" \")","v":" "},{"$f":"IFERROR(VLOOKUP(MID(FS$27,5,4)&$A62,Lista_Ubigeo!$J:$K,2,0),\" \")","v":" "},{"$f":"IFERROR(VLOOKUP(MID(FT$27,5,4)&$A62,Lista_Ubigeo!$J:$K,2,0),\" \")","v":" "},{"$f":"IFERROR(VLOOKUP(MID(FU$27,5,4)&$A62,Lista_Ubigeo!$J:$K,2,0),\" \")","v":" "},{"$f":"IFERROR(VLOOKUP(MID(FV$27,5,4)&$A62,Lista_Ubigeo!$J:$K,2,0),\" \")","v":" "},{"$f":"IFERROR(VLOOKUP(MID(FW$27,5,4)&$A62,Lista_Ubigeo!$J:$K,2,0),\" \")","v":" "},{"$f":"IFERROR(VLOOKUP(MID(FX$27,5,4)&$A62,Lista_Ubigeo!$J:$K,2,0),\" \")","v":" "},{"$f":"IFERROR(VLOOKUP(MID(FY$27,5,4)&$A62,Lista_Ubigeo!$J:$K,2,0),\" \")","v":" "},{"$f":"IFERROR(VLOOKUP(MID(FZ$27,5,4)&$A62,Lista_Ubigeo!$J:$K,2,0),\" \")","v":" "},{"$f":"IFERROR(VLOOKUP(MID(GA$27,5,4)&$A62,Lista_Ubigeo!$J:$K,2,0),\" \")","v":" "},{"$f":"IFERROR(VLOOKUP(MID(GB$27,5,4)&$A62,Lista_Ubigeo!$J:$K,2,0),\" \")","v":" "},{"$f":"IFERROR(VLOOKUP(MID(GC$27,5,4)&$A62,Lista_Ubigeo!$J:$K,2,0),\" \")","v":" "},{"$f":"IFERROR(VLOOKUP(MID(GD$27,5,4)&$A62,Lista_Ubigeo!$J:$K,2,0),\" \")","v":" "},{"$f":"IFERROR(VLOOKUP(MID(GE$27,5,4)&$A62,Lista_Ubigeo!$J:$K,2,0),\" \")","v":" "},{"$f":"IFERROR(VLOOKUP(MID(GF$27,5,4)&$A62,Lista_Ubigeo!$J:$K,2,0),\" \")","v":" "},{"$f":"IFERROR(VLOOKUP(MID(GG$27,5,4)&$A62,Lista_Ubigeo!$J:$K,2,0),\" \")","v":" "},{"$f":"IFERROR(VLOOKUP(MID(GH$27,5,4)&$A62,Lista_Ubigeo!$J:$K,2,0),\" \")","v":" "},{"$f":"IFERROR(VLOOKUP(MID(GI$27,5,4)&$A62,Lista_Ubigeo!$J:$K,2,0),\" \")","v":" "},{"$f":"IFERROR(VLOOKUP(MID(GJ$27,5,4)&$A62,Lista_Ubigeo!$J:$K,2,0),\" \")","v":" "},{"$f":"IFERROR(VLOOKUP(MID(GK$27,5,4)&$A62,Lista_Ubigeo!$J:$K,2,0),\" \")","v":" "},{"$f":"IFERROR(VLOOKUP(MID(GL$27,5,4)&$A62,Lista_Ubigeo!$J:$K,2,0),\" \")","v":" "},{"$f":"IFERROR(VLOOKUP(MID(GM$27,5,4)&$A62,Lista_Ubigeo!$J:$K,2,0),\" \")","v":" "},{"$f":"IFERROR(VLOOKUP(MID(GN$27,5,4)&$A62,Lista_Ubigeo!$J:$K,2,0),\" \")","v":" "},{"$f":"IFERROR(VLOOKUP(MID(GO$27,5,4)&$A62,Lista_Ubigeo!$J:$K,2,0),\" \")","v":" "},{"$f":"IFERROR(VLOOKUP(MID(GP$27,5,4)&$A62,Lista_Ubigeo!$J:$K,2,0),\" \")","v":" "}]
["36",{"$f":"IFERROR(VLOOKUP(MID(B$27,5,4)&$A63,Lista_Ubigeo!$J:$K,2,0),\" \")","v":" "},{"$f":"IFERROR(VLOOKUP(MID(C$27,5,4)&$A63,Lista_Ubigeo!$J:$K,2,0),\" \")","v":" "},{"$f":"IFERROR(VLOOKUP(MID(D$27,5,4)&$A63,Lista_Ubigeo!$J:$K,2,0),\" \")","v":" "},{"$f":"IFERROR(VLOOKUP(MID(E$27,5,4)&$A63,Lista_Ubigeo!$J:$K,2,0),\" \")","v":" "},{"$f":"IFERROR(VLOOKUP(MID(F$27,5,4)&$A63,Lista_Ubigeo!$J:$K,2,0),\" \")","v":" "},{"$f":"IFERROR(VLOOKUP(MID(G$27,5,4)&$A63,Lista_Ubigeo!$J:$K,2,0),\" \")","v":" "},{"$f":"IFERROR(VLOOKUP(MID(H$27,5,4)&$A63,Lista_Ubigeo!$J:$K,2,0),\" \")","v":" "},{"$f":"IFERROR(VLOOKUP(MID(I$27,5,4)&$A63,Lista_Ubigeo!$J:$K,2,0),\" \")","v":" "},{"$f":"IFERROR(VLOOKUP(MID(J$27,5,4)&$A63,Lista_Ubigeo!$J:$K,2,0),\" \")","v":" "},{"$f":"IFERROR(VLOOKUP(MID(K$27,5,4)&$A63,Lista_Ubigeo!$J:$K,2,0),\" \")","v":" "},{"$f":"IFERROR(VLOOKUP(MID(L$27,5,4)&$A63,Lista_Ubigeo!$J:$K,2,0),\" \")","v":" "},{"$f":"IFERROR(VLOOKUP(MID(M$27,5,4)&$A63,Lista_Ubigeo!$J:$K,2,0),\" \")","v":" "},{"$f":"IFERROR(VLOOKUP(MID(N$27,5,4)&$A63,Lista_Ubigeo!$J:$K,2,0),\" \")","v":" "},{"$f":"IFERROR(VLOOKUP(MID(O$27,5,4)&$A63,Lista_Ubigeo!$J:$K,2,0),\" \")","v":" "},{"$f":"IFERROR(VLOOKUP(MID(P$27,5,4)&$A63,Lista_Ubigeo!$J:$K,2,0),\" \")","v":" "},{"$f":"IFERROR(VLOOKUP(MID(Q$27,5,4)&$A63,Lista_Ubigeo!$J:$K,2,0),\" \")","v":" "},{"$f":"IFERROR(VLOOKUP(MID(R$27,5,4)&$A63,Lista_Ubigeo!$J:$K,2,0),\" \")","v":" "},{"$f":"IFERROR(VLOOKUP(MID(S$27,5,4)&$A63,Lista_Ubigeo!$J:$K,2,0),\" \")","v":" "},{"$f":"IFERROR(VLOOKUP(MID(T$27,5,4)&$A63,Lista_Ubigeo!$J:$K,2,0),\" \")","v":" "},{"$f":"IFERROR(VLOOKUP(MID(U$27,5,4)&$A63,Lista_Ubigeo!$J:$K,2,0),\" \")","v":" "},{"$f":"IFERROR(VLOOKUP(MID(V$27,5,4)&$A63,Lista_Ubigeo!$J:$K,2,0),\" \")","v":" "},{"$f":"IFERROR(VLOOKUP(MID(W$27,5,4)&$A63,Lista_Ubigeo!$J:$K,2,0),\" \")","v":" "},{"$f":"IFERROR(VLOOKUP(MID(X$27,5,4)&$A63,Lista_Ubigeo!$J:$K,2,0),\" \")","v":" "},{"$f":"IFERROR(VLOOKUP(MID(Y$27,5,4)&$A63,Lista_Ubigeo!$J:$K,2,0),\" \")","v":" "},{"$f":"IFERROR(VLOOKUP(MID(Z$27,5,4)&$A63,Lista_Ubigeo!$J:$K,2,0),\" \")","v":" "},{"$f":"IFERROR(VLOOKUP(MID(AA$27,5,4)&$A63,Lista_Ubigeo!$J:$K,2,0),\" \")","v":" "},{"$f":"IFERROR(VLOOKUP(MID(AB$27,5,4)&$A63,Lista_Ubigeo!$J:$K,2,0),\" \")","v":" "},{"$f":"IFERROR(VLOOKUP(MID(AC$27,5,4)&$A63,Lista_Ubigeo!$J:$K,2,0),\" \")","v":" "},{"$f":"IFERROR(VLOOKUP(MID(AD$27,5,4)&$A63,Lista_Ubigeo!$J:$K,2,0),\" \")","v":" "},{"$f":"IFERROR(VLOOKUP(MID(AE$27,5,4)&$A63,Lista_Ubigeo!$J:$K,2,0),\" \")","v":" "},{"$f":"IFERROR(VLOOKUP(MID(AF$27,5,4)&$A63,Lista_Ubigeo!$J:$K,2,0),\" \")","v":" "},{"$f":"IFERROR(VLOOKUP(MID(AG$27,5,4)&$A63,Lista_Ubigeo!$J:$K,2,0),\" \")","v":" "},{"$f":"IFERROR(VLOOKUP(MID(AH$27,5,4)&$A63,Lista_Ubigeo!$J:$K,2,0),\" \")","v":" "},{"$f":"IFERROR(VLOOKUP(MID(AI$27,5,4)&$A63,Lista_Ubigeo!$J:$K,2,0),\" \")","v":" "},{"$f":"IFERROR(VLOOKUP(MID(AJ$27,5,4)&$A63,Lista_Ubigeo!$J:$K,2,0),\" \")","v":" "},{"$f":"IFERROR(VLOOKUP(MID(AK$27,5,4)&$A63,Lista_Ubigeo!$J:$K,2,0),\" \")","v":" "},{"$f":"IFERROR(VLOOKUP(MID(AL$27,5,4)&$A63,Lista_Ubigeo!$J:$K,2,0),\" \")","v":" "},{"$f":"IFERROR(VLOOKUP(MID(AM$27,5,4)&$A63,Lista_Ubigeo!$J:$K,2,0),\" \")","v":" "},{"$f":"IFERROR(VLOOKUP(MID(AN$27,5,4)&$A63,Lista_Ubigeo!$J:$K,2,0),\" \")","v":" "},{"$f":"IFERROR(VLOOKUP(MID(AO$27,5,4)&$A63,Lista_Ubigeo!$J:$K,2,0),\" \")","v":" "},{"$f":"IFERROR(VLOOKUP(MID(AP$27,5,4)&$A63,Lista_Ubigeo!$J:$K,2,0),\" \")","v":" "},{"$f":"IFERROR(VLOOKUP(MID(AQ$27,4,4)&$A63,Lista_Ubigeo!$J:$K,2,0),\" \")","v":" "},{"$f":"IFERROR(VLOOKUP(MID(AR$27,5,4)&$A63,Lista_Ubigeo!$J:$K,2,0),\" \")","v":" "},{"$f":"IFERROR(VLOOKUP(MID(AS$27,5,4)&$A63,Lista_Ubigeo!$J:$K,2,0),\" \")","v":" "},{"$f":"IFERROR(VLOOKUP(MID(AT$27,5,4)&$A63,Lista_Ubigeo!$J:$K,2,0),\" \")","v":" "},{"$f":"IFERROR(VLOOKUP(MID(AU$27,5,4)&$A63,Lista_Ubigeo!$J:$K,2,0),\" \")","v":" "},{"$f":"IFERROR(VLOOKUP(MID(AV$27,5,4)&$A63,Lista_Ubigeo!$J:$K,2,0),\" \")","v":" "},{"$f":"IFERROR(VLOOKUP(MID(AW$27,5,4)&$A63,Lista_Ubigeo!$J:$K,2,0),\" \")","v":" "},{"$f":"IFERROR(VLOOKUP(MID(AX$27,5,4)&$A63,Lista_Ubigeo!$J:$K,2,0),\" \")","v":" "},{"$f":"IFERROR(VLOOKUP(MID(AY$27,5,4)&$A63,Lista_Ubigeo!$J:$K,2,0),\" \")","v":" "},{"$f":"IFERROR(VLOOKUP(MID(AZ$27,5,4)&$A63,Lista_Ubigeo!$J:$K,2,0),\" \")","v":" "},{"$f":"IFERROR(VLOOKUP(MID(BA$27,5,4)&$A63,Lista_Ubigeo!$J:$K,2,0),\" \")","v":" "},{"$f":"IFERROR(VLOOKUP(MID(BB$27,5,4)&$A63,Lista_Ubigeo!$J:$K,2,0),\" \")","v":" "},{"$f":"IFERROR(VLOOKUP(MID(BC$27,5,4)&$A63,Lista_Ubigeo!$J:$K,2,0),\" \")","v":" "},{"$f":"IFERROR(VLOOKUP(MID(BD$27,5,4)&$A63,Lista_Ubigeo!$J:$K,2,0),\" \")","v":" "},{"$f":"IFERROR(VLOOKUP(MID(BE$27,5,4)&$A63,Lista_Ubigeo!$J:$K,2,0),\" \")","v":" "},{"$f":"IFERROR(VLOOKUP(MID(BF$27,5,4)&$A63,Lista_Ubigeo!$J:$K,2,0),\" \")","v":" "},{"$f":"IFERROR(VLOOKUP(MID(BG$27,5,4)&$A63,Lista_Ubigeo!$J:$K,2,0),\" \")","v":" "},{"$f":"IFERROR(VLOOKUP(MID(BH$27,5,4)&$A63,Lista_Ubigeo!$J:$K,2,0),\" \")","v":" "},{"$f":"IFERROR(VLOOKUP(MID(BI$27,5,4)&$A63,Lista_Ubigeo!$J:$K,2,0),\" \")","v":" "},{"$f":"IFERROR(VLOOKUP(MID(BJ$27,5,4)&$A63,Lista_Ubigeo!$J:$K,2,0),\" \")","v":" "},{"$f":"IFERROR(VLOOKUP(MID(BK$27,5,4)&$A63,Lista_Ubigeo!$J:$K,2,0),\" \")","v":" "},{"$f":"IFERROR(VLOOKUP(MID(BL$27,5,4)&$A63,Lista_Ubigeo!$J:$K,2,0),\" \")","v":" "},{"$f":"IFERROR(VLOOKUP(MID(BM$27,5,4)&$A63,Lista_Ubigeo!$J:$K,2,0),\" \")","v":" "},{"$f":"IFERROR(VLOOKUP(MID(BN$27,5,4)&$A63,Lista_Ubigeo!$J:$K,2,0),\" \")","v":" "},{"$f":"IFERROR(VLOOKUP(MID(BO$27,5,4)&$A63,Lista_Ubigeo!$J:$K,2,0),\" \")","v":" "},{"$f":"IFERROR(VLOOKUP(MID(BP$27,5,4)&$A63,Lista_Ubigeo!$J:$K,2,0),\" \")","v":" "},{"$f":"IFERROR(VLOOKUP(MID(BQ$27,5,4)&$A63,Lista_Ubigeo!$J:$K,2,0),\" \")","v":" "},{"$f":"IFERROR(VLOOKUP(MID(BR$27,5,4)&$A63,Lista_Ubigeo!$J:$K,2,0),\" \")","v":" "},{"$f":"IFERROR(VLOOKUP(MID(BS$27,5,4)&$A63,Lista_Ubigeo!$J:$K,2,0),\" \")","v":" "},{"$f":"IFERROR(VLOOKUP(MID(BT$27,5,4)&$A63,Lista_Ubigeo!$J:$K,2,0),\" \")","v":" "},{"$f":"IFERROR(VLOOKUP(MID(BU$27,5,4)&$A63,Lista_Ubigeo!$J:$K,2,0),\" \")","v":" "},{"$f":"IFERROR(VLOOKUP(MID(BV$27,5,4)&$A63,Lista_Ubigeo!$J:$K,2,0),\" \")","v":" "},{"$f":"IFERROR(VLOOKUP(MID(BW$27,5,4)&$A63,Lista_Ubigeo!$J:$K,2,0),\" \")","v":" "},{"$f":"IFERROR(VLOOKUP(MID(BX$27,5,4)&$A63,Lista_Ubigeo!$J:$K,2,0),\" \")","v":" "},{"$f":"IFERROR(VLOOKUP(MID(BY$27,4,4)&$A63,Lista_Ubigeo!$J:$K,2,0),\" \")","v":" "},{"$f":"IFERROR(VLOOKUP(MID(BZ$27,5,4)&$A63,Lista_Ubigeo!$J:$K,2,0),\" \")","v":" "},{"$f":"IFERROR(VLOOKUP(MID(CA$27,5,4)&$A63,Lista_Ubigeo!$J:$K,2,0),\" \")","v":" "},{"$f":"IFERROR(VLOOKUP(MID(CB$27,5,4)&$A63,Lista_Ubigeo!$J:$K,2,0),\" \")","v":" "},{"$f":"IFERROR(VLOOKUP(MID(CC$27,5,4)&$A63,Lista_Ubigeo!$J:$K,2,0),\" \")","v":" "},{"$f":"IFERROR(VLOOKUP(MID(CD$27,5,4)&$A63,Lista_Ubigeo!$J:$K,2,0),\" \")","v":" "},{"$f":"IFERROR(VLOOKUP(MID(CE$27,5,4)&$A63,Lista_Ubigeo!$J:$K,2,0),\" \")","v":" "},{"$f":"IFERROR(VLOOKUP(MID(CF$27,5,4)&$A63,Lista_Ubigeo!$J:$K,2,0),\" \")","v":" "},{"$f":"IFERROR(VLOOKUP(MID(CG$27,5,4)&$A63,Lista_Ubigeo!$J:$K,2,0),\" \")","v":" "},{"$f":"IFERROR(VLOOKUP(MID(CH$27,5,4)&$A63,Lista_Ubigeo!$J:$K,2,0),\" \")","v":" "},{"$f":"IFERROR(VLOOKUP(MID(CI$27,5,4)&$A63,Lista_Ubigeo!$J:$K,2,0),\" \")","v":" "},{"$f":"IFERROR(VLOOKUP(MID(CJ$27,5,4)&$A63,Lista_Ubigeo!$J:$K,2,0),\" \")","v":" "},{"$f":"IFERROR(VLOOKUP(MID(CK$27,5,4)&$A63,Lista_Ubigeo!$J:$K,2,0),\" \")","v":" "},{"$f":"IFERROR(VLOOKUP(MID(CL$27,5,4)&$A63,Lista_Ubigeo!$J:$K,2,0),\" \")","v":" "},{"$f":"IFERROR(VLOOKUP(MID(CM$27,5,4)&$A74,Lista_Ubigeo!$J:$K,2,0),\" \")","v":" "},{"$f":"IFERROR(VLOOKUP(MID(CN$27,5,4)&$A63,Lista_Ubigeo!$J:$K,2,0),\" \")","v":" "},{"$f":"IFERROR(VLOOKUP(MID(CO$27,5,4)&$A63,Lista_Ubigeo!$J:$K,2,0),\" \")","v":" "},{"$f":"IFERROR(VLOOKUP(MID(CP$27,5,4)&$A63,Lista_Ubigeo!$J:$K,2,0),\" \")","v":" "},{"$f":"IFERROR(VLOOKUP(MID(CQ$27,5,4)&$A63,Lista_Ubigeo!$J:$K,2,0),\" \")","v":" "},{"$f":"IFERROR(VLOOKUP(MID(CR$27,5,4)&$A63,Lista_Ubigeo!$J:$K,2,0),\" \")","v":" "},{"$f":"IFERROR(VLOOKUP(MID(CS$27,5,4)&$A63,Lista_Ubigeo!$J:$K,2,0),\" \")","v":" "},{"$f":"IFERROR(VLOOKUP(MID(CT$27,5,4)&$A63,Lista_Ubigeo!$J:$K,2,0),\" \")","v":" "},{"$f":"IFERROR(VLOOKUP(MID(CU$27,5,4)&$A63,Lista_Ubigeo!$J:$K,2,0),\" \")","v":" "},{"$f":"IFERROR(VLOOKUP(MID(CV$27,5,4)&$A63,Lista_Ubigeo!$J:$K,2,0),\" \")","v":" "},{"$f":"IFERROR(VLOOKUP(MID(CW$27,5,4)&$A63,Lista_Ubigeo!$J:$K,2,0),\" \")","v":" "},{"$f":"IFERROR(VLOOKUP(MID(CX$27,5,4)&$A63,Lista_Ubigeo!$J:$K,2,0),\" \")","v":" "},{"$f":"IFERROR(VLOOKUP(MID(CY$27,5,4)&$A63,Lista_Ubigeo!$J:$K,2,0),\" \")","v":" "},{"$f":"IFERROR(VLOOKUP(MID(CZ$27,5,4)&$A63,Lista_Ubigeo!$J:$K,2,0),\" \")","v":" "},null,{"$f":"IFERROR(VLOOKUP(MID(DB$27,5,4)&$A63,Lista_Ubigeo!$J:$K,2,0),\" \")","v":" "},{"$f":"IFERROR(VLOOKUP(MID(DC$27,5,4)&$A63,Lista_Ubigeo!$J:$K,2,0),\" \")","v":" "},{"$f":"IFERROR(VLOOKUP(MID(DD$27,5,4)&$A63,Lista_Ubigeo!$J:$K,2,0),\" \")","v":" "},{"$f":"IFERROR(VLOOKUP(MID(DE$27,5,4)&$A63,Lista_Ubigeo!$J:$K,2,0),\" \")","v":" "},{"$f":"IFERROR(VLOOKUP(MID(DF$27,5,4)&$A63,Lista_Ubigeo!$J:$K,2,0),\" \")","v":" "},{"$f":"IFERROR(VLOOKUP(MID(DG$27,5,4)&$A63,Lista_Ubigeo!$J:$K,2,0),\" \")","v":" "},{"$f":"IFERROR(VLOOKUP(MID(DH$27,5,4)&$A63,Lista_Ubigeo!$J:$K,2,0),\" \")","v":" "},{"$f":"IFERROR(VLOOKUP(MID(DI$27,5,4)&$A63,Lista_Ubigeo!$J:$K,2,0),\" \")","v":" "},{"$f":"IFERROR(VLOOKUP(MID(DJ$27,5,4)&$A63,Lista_Ubigeo!$J:$K,2,0),\" \")","v":" "},{"$f":"IFERROR(VLOOKUP(MID(DK$27,5,4)&$A63,Lista_Ubigeo!$J:$K,2,0),\" \")","v":" "},{"$f":"IFERROR(VLOOKUP(MID(DL$27,5,4)&$A63,Lista_Ubigeo!$J:$K,2,0),\" \")","v":" "},{"$f":"IFERROR(VLOOKUP(MID(DM$27,5,4)&$A63,Lista_Ubigeo!$J:$K,2,0),\" \")","v":" "},{"$f":"IFERROR(VLOOKUP(MID(DN$27,5,4)&$A63,Lista_Ubigeo!$J:$K,2,0),\" \")","v":" "},{"$f":"IFERROR(VLOOKUP(MID(DO$27,5,4)&$A64,Lista_Ubigeo!$J:$K,2,0),\" \")","v":" "},{"$f":"IFERROR(VLOOKUP(MID(DP$27,5,4)&$A63,Lista_Ubigeo!$J:$K,2,0),\" \")","v":" "},{"$f":"IFERROR(VLOOKUP(MID(DQ$27,5,4)&$A63,Lista_Ubigeo!$J:$K,2,0),\" \")","v":" "},{"$f":"IFERROR(VLOOKUP(MID(DR$27,5,4)&$A63,Lista_Ubigeo!$J:$K,2,0),\" \")","v":" "},{"$f":"IFERROR(VLOOKUP(MID(DS$27,5,4)&$A63,Lista_Ubigeo!$J:$K,2,0),\" \")","v":" "},null,null,{"$f":"IFERROR(VLOOKUP(MID(DV$27,5,4)&$A63,Lista_Ubigeo!$J:$K,2,0),\" \")","v":" "},{"$f":"IFERROR(VLOOKUP(MID(DW$27,5,4)&$A63,Lista_Ubigeo!$J:$K,2,0),\" \")","v":" "},{"$f":"IFERROR(VLOOKUP(MID(DX$27,5,4)&$A63,Lista_Ubigeo!$J:$K,2,0),\" \")","v":" "},{"$f":"IFERROR(VLOOKUP(MID(DY$27,5,4)&$A63,Lista_Ubigeo!$J:$K,2,0),\" \")","v":"SAN MIGUEL"},{"$f":"IFERROR(VLOOKUP(MID(DZ$27,5,4)&$A63,Lista_Ubigeo!$J:$K,2,0),\" \")","v":" "},{"$f":"IFERROR(VLOOKUP(MID(EA$27,5,4)&$A63,Lista_Ubigeo!$J:$K,2,0),\" \")","v":" "},{"$f":"IFERROR(VLOOKUP(MID(EB$27,5,4)&$A63,Lista_Ubigeo!$J:$K,2,0),\" \")","v":" "},{"$f":"IFERROR(VLOOKUP(MID(EC$27,5,4)&$A63,Lista_Ubigeo!$J:$K,2,0),\" \")","v":" "},{"$f":"IFERROR(VLOOKUP(MID(ED$27,5,4)&$A63,Lista_Ubigeo!$J:$K,2,0),\" \")","v":" "},{"$f":"IFERROR(VLOOKUP(MID(EE$27,5,4)&$A63,Lista_Ubigeo!$J:$K,2,0),\" \")","v":" "},{"$f":"IFERROR(VLOOKUP(MID(EF$27,5,4)&$A63,Lista_Ubigeo!$J:$K,2,0),\" \")","v":" "},{"$f":"IFERROR(VLOOKUP(MID(EG$27,5,4)&$A63,Lista_Ubigeo!$J:$K,2,0),\" \")","v":" "},{"$f":"IFERROR(VLOOKUP(MID(EH$27,5,4)&$A63,Lista_Ubigeo!$J:$K,2,0),\" \")","v":" "},{"$f":"IFERROR(VLOOKUP(MID(EI$27,5,4)&$A63,Lista_Ubigeo!$J:$K,2,0),\" \")","v":" "},{"$f":"IFERROR(VLOOKUP(MID(EJ$27,5,4)&$A68,Lista_Ubigeo!$J:$K,2,0),\" \")","v":" "},{"$f":"IFERROR(VLOOKUP(MID(EK$27,5,4)&$A63,Lista_Ubigeo!$J:$K,2,0),\" \")","v":" "},{"$f":"IFERROR(VLOOKUP(MID(EL$27,5,4)&$A63,Lista_Ubigeo!$J:$K,2,0),\" \")","v":" "},{"$f":"IFERROR(VLOOKUP(MID(EM$27,5,4)&$A63,Lista_Ubigeo!$J:$K,2,0),\" \")","v":" "},{"$f":"IFERROR(VLOOKUP(MID(EN$27,5,4)&$A63,Lista_Ubigeo!$J:$K,2,0),\" \")","v":" "},{"$f":"IFERROR(VLOOKUP(MID(EO$27,5,4)&$A63,Lista_Ubigeo!$J:$K,2,0),\" \")","v":" "},{"$f":"IFERROR(VLOOKUP(MID(EP$27,5,4)&$A63,Lista_Ubigeo!$J:$K,2,0),\" \")","v":" "},{"$f":"IFERROR(VLOOKUP(MID(EQ$27,5,4)&$A63,Lista_Ubigeo!$J:$K,2,0),\" \")","v":" "},{"$f":"IFERROR(VLOOKUP(MID(ER$27,5,4)&$A63,Lista_Ubigeo!$J:$K,2,0),\" \")","v":" "},{"$f":"IFERROR(VLOOKUP(MID(ES$27,5,4)&$A63,Lista_Ubigeo!$J:$K,2,0),\" \")","v":" "},{"$f":"IFERROR(VLOOKUP(MID(ET$27,5,4)&$A63,Lista_Ubigeo!$J:$K,2,0),\" \")","v":" "},{"$f":"IFERROR(VLOOKUP(MID(EU$27,5,4)&$A63,Lista_Ubigeo!$J:$K,2,0),\" \")","v":" "},{"$f":"IFERROR(VLOOKUP(MID(EV$27,5,4)&$A63,Lista_Ubigeo!$J:$K,2,0),\" \")","v":" "},{"$f":"IFERROR(VLOOKUP(MID(EW$27,5,4)&$A63,Lista_Ubigeo!$J:$K,2,0),\" \")","v":" "},{"$f":"IFERROR(VLOOKUP(MID(EX$27,5,4)&$A63,Lista_Ubigeo!$J:$K,2,0),\" \")","v":" "},{"$f":"IFERROR(VLOOKUP(MID(EY$27,5,4)&$A63,Lista_Ubigeo!$J:$K,2,0),\" \")","v":" "},{"$f":"IFERROR(VLOOKUP(MID(EZ$27,5,4)&$A66,Lista_Ubigeo!$J:$K,2,0),\" \")","v":" "},{"$f":"IFERROR(VLOOKUP(MID(FA$27,5,4)&$A63,Lista_Ubigeo!$J:$K,2,0),\" \")","v":" "},{"$f":"IFERROR(VLOOKUP(MID(FB$27,5,4)&$A63,Lista_Ubigeo!$J:$K,2,0),\" \")","v":" "},{"$f":"IFERROR(VLOOKUP(MID(FC$27,5,4)&$A63,Lista_Ubigeo!$J:$K,2,0),\" \")","v":" "},{"$f":"IFERROR(VLOOKUP(MID(FD$27,5,4)&$A63,Lista_Ubigeo!$J:$K,2,0),\" \")","v":" "},{"$f":"IFERROR(VLOOKUP(MID(FE$27,5,4)&$A63,Lista_Ubigeo!$J:$K,2,0),\" \")","v":" "},{"$f":"IFERROR(VLOOKUP(MID(FF$27,5,4)&$A63,Lista_Ubigeo!$J:$K,2,0),\" \")","v":" "},{"$f":"IFERROR(VLOOKUP(MID(FG$27,5,4)&$A63,Lista_Ubigeo!$J:$K,2,0),\" \")","v":" "},{"$f":"IFERROR(VLOOKUP(MID(FH$27,5,4)&$A63,Lista_Ubigeo!$J:$K,2,0),\" \")","v":" "},{"$f":"IFERROR(VLOOKUP(MID(FI$27,5,4)&$A63,Lista_Ubigeo!$J:$K,2,0),\" \")","v":" "},{"$f":"IFERROR(VLOOKUP(MID(FJ$27,5,4)&$A63,Lista_Ubigeo!$J:$K,2,0),\" \")","v":" "},{"$f":"IFERROR(VLOOKUP(MID(FK$27,5,4)&$A63,Lista_Ubigeo!$J:$K,2,0),\" \")","v":" "},{"$f":"IFERROR(VLOOKUP(MID(FL$27,5,4)&$A63,Lista_Ubigeo!$J:$K,2,0),\" \")","v":" "},{"$f":"IFERROR(VLOOKUP(MID(FM$27,5,4)&$A63,Lista_Ubigeo!$J:$K,2,0),\" \")","v":" "},{"$f":"IFERROR(VLOOKUP(MID(FN$27,5,4)&$A63,Lista_Ubigeo!$J:$K,2,0),\" \")","v":" "},{"$f":"IFERROR(VLOOKUP(MID(FO$27,5,4)&$A63,Lista_Ubigeo!$J:$K,2,0),\" \")","v":" "},{"$f":"IFERROR(VLOOKUP(MID(FP$27,5,4)&$A63,Lista_Ubigeo!$J:$K,2,0),\" \")","v":" "},{"$f":"IFERROR(VLOOKUP(MID(FQ$27,5,4)&$A63,Lista_Ubigeo!$J:$K,2,0),\" \")","v":" "},{"$f":"IFERROR(VLOOKUP(MID(FR$27,5,4)&$A63,Lista_Ubigeo!$J:$K,2,0),\" \")","v":" "},{"$f":"IFERROR(VLOOKUP(MID(FS$27,5,4)&$A63,Lista_Ubigeo!$J:$K,2,0),\" \")","v":" "},{"$f":"IFERROR(VLOOKUP(MID(FT$27,5,4)&$A63,Lista_Ubigeo!$J:$K,2,0),\" \")","v":" "},{"$f":"IFERROR(VLOOKUP(MID(FU$27,5,4)&$A63,Lista_Ubigeo!$J:$K,2,0),\" \")","v":" "},{"$f":"IFERROR(VLOOKUP(MID(FV$27,5,4)&$A63,Lista_Ubigeo!$J:$K,2,0),\" \")","v":" "},{"$f":"IFERROR(VLOOKUP(MID(FW$27,5,4)&$A63,Lista_Ubigeo!$J:$K,2,0),\" \")","v":" "},{"$f":"IFERROR(VLOOKUP(MID(FX$27,5,4)&$A63,Lista_Ubigeo!$J:$K,2,0),\" \")","v":" "},{"$f":"IFERROR(VLOOKUP(MID(FY$27,5,4)&$A63,Lista_Ubigeo!$J:$K,2,0),\" \")","v":" "},{"$f":"IFERROR(VLOOKUP(MID(FZ$27,5,4)&$A63,Lista_Ubigeo!$J:$K,2,0),\" \")","v":" "},{"$f":"IFERROR(VLOOKUP(MID(GA$27,5,4)&$A63,Lista_Ubigeo!$J:$K,2,0),\" \")","v":" "},{"$f":"IFERROR(VLOOKUP(MID(GB$27,5,4)&$A63,Lista_Ubigeo!$J:$K,2,0),\" \")","v":" "},{"$f":"IFERROR(VLOOKUP(MID(GC$27,5,4)&$A63,Lista_Ubigeo!$J:$K,2,0),\" \")","v":" "},{"$f":"IFERROR(VLOOKUP(MID(GD$27,5,4)&$A63,Lista_Ubigeo!$J:$K,2,0),\" \")","v":" "},{"$f":"IFERROR(VLOOKUP(MID(GE$27,5,4)&$A63,Lista_Ubigeo!$J:$K,2,0),\" \")","v":" "},{"$f":"IFERROR(VLOOKUP(MID(GF$27,5,4)&$A63,Lista_Ubigeo!$J:$K,2,0),\" \")","v":" "},{"$f":"IFERROR(VLOOKUP(MID(GG$27,5,4)&$A63,Lista_Ubigeo!$J:$K,2,0),\" \")","v":" "},{"$f":"IFERROR(VLOOKUP(MID(GH$27,5,4)&$A63,Lista_Ubigeo!$J:$K,2,0),\" \")","v":" "},{"$f":"IFERROR(VLOOKUP(MID(GI$27,5,4)&$A63,Lista_Ubigeo!$J:$K,2,0),\" \")","v":" "},{"$f":"IFERROR(VLOOKUP(MID(GJ$27,5,4)&$A63,Lista_Ubigeo!$J:$K,2,0),\" \")","v":" "},{"$f":"IFERROR(VLOOKUP(MID(GK$27,5,4)&$A63,Lista_Ubigeo!$J:$K,2,0),\" \")","v":" "},{"$f":"IFERROR(VLOOKUP(MID(GL$27,5,4)&$A63,Lista_Ubigeo!$J:$K,2,0),\" \")","v":" "},{"$f":"IFERROR(VLOOKUP(MID(GM$27,5,4)&$A63,Lista_Ubigeo!$J:$K,2,0),\" \")","v":" "},{"$f":"IFERROR(VLOOKUP(MID(GN$27,5,4)&$A63,Lista_Ubigeo!$J:$K,2,0),\" \")","v":" "},{"$f":"IFERROR(VLOOKUP(MID(GO$27,5,4)&$A63,Lista_Ubigeo!$J:$K,2,0),\" \")","v":" "},{"$f":"IFERROR(VLOOKUP(MID(GP$27,5,4)&$A63,Lista_Ubigeo!$J:$K,2,0),\" \")","v":" "}]
["37",{"$f":"IFERROR(VLOOKUP(MID(B$27,5,4)&$A64,Lista_Ubigeo!$J:$K,2,0),\" \")","v":" "},{"$f":"IFERROR(VLOOKUP(MID(C$27,5,4)&$A64,Lista_Ubigeo!$J:$K,2,0),\" \")","v":" "},{"$f":"IFERROR(VLOOKUP(MID(D$27,5,4)&$A64,Lista_Ubigeo!$J:$K,2,0),\" \")","v":" "},{"$f":"IFERROR(VLOOKUP(MID(E$27,5,4)&$A64,Lista_Ubigeo!$J:$K,2,0),\" \")","v":" "},{"$f":"IFERROR(VLOOKUP(MID(F$27,5,4)&$A64,Lista_Ubigeo!$J:$K,2,0),\" \")","v":" "},{"$f":"IFERROR(VLOOKUP(MID(G$27,5,4)&$A64,Lista_Ubigeo!$J:$K,2,0),\" \")","v":" "},{"$f":"IFERROR(VLOOKUP(MID(H$27,5,4)&$A64,Lista_Ubigeo!$J:$K,2,0),\" \")","v":" "},{"$f":"IFERROR(VLOOKUP(MID(I$27,5,4)&$A64,Lista_Ubigeo!$J:$K,2,0),\" \")","v":" "},{"$f":"IFERROR(VLOOKUP(MID(J$27,5,4)&$A64,Lista_Ubigeo!$J:$K,2,0),\" \")","v":" "},{"$f":"IFERROR(VLOOKUP(MID(K$27,5,4)&$A64,Lista_Ubigeo!$J:$K,2,0),\" \")","v":" "},{"$f":"IFERROR(VLOOKUP(MID(L$27,5,4)&$A64,Lista_Ubigeo!$J:$K,2,0),\" \")","v":" "},{"$f":"IFERROR(VLOOKUP(MID(M$27,5,4)&$A64,Lista_Ubigeo!$J:$K,2,0),\" \")","v":" "},{"$f":"IFERROR(VLOOKUP(MID(N$27,5,4)&$A64,Lista_Ubigeo!$J:$K,2,0),\" \")","v":" "},{"$f":"IFERROR(VLOOKUP(MID(O$27,5,4)&$A64,Lista_Ubigeo!$J:$K,2,0),\" \")","v":" "},{"$f":"IFERROR(VLOOKUP(MID(P$27,5,4)&$A64,Lista_Ubigeo!$J:$K,2,0),\" \")","v":" "},{"$f":"IFERROR(VLOOKUP(MID(Q$27,5,4)&$A64,Lista_Ubigeo!$J:$K,2,0),\" \")","v":" "},{"$f":"IFERROR(VLOOKUP(MID(R$27,5,4)&$A64,Lista_Ubigeo!$J:$K,2,0),\" \")","v":" "},{"$f":"IFERROR(VLOOKUP(MID(S$27,5,4)&$A64,Lista_Ubigeo!$J:$K,2,0),\" \")","v":" "},{"$f":"IFERROR(VLOOKUP(MID(T$27,5,4)&$A64,Lista_Ubigeo!$J:$K,2,0),\" \")","v":" "},{"$f":"IFERROR(VLOOKUP(MID(U$27,5,4)&$A64,Lista_Ubigeo!$J:$K,2,0),\" \")","v":" "},{"$f":"IFERROR(VLOOKUP(MID(V$27,5,4)&$A64,Lista_Ubigeo!$J:$K,2,0),\" \")","v":" "},{"$f":"IFERROR(VLOOKUP(MID(W$27,5,4)&$A64,Lista_Ubigeo!$J:$K,2,0),\" \")","v":" "},{"$f":"IFERROR(VLOOKUP(MID(X$27,5,4)&$A64,Lista_Ubigeo!$J:$K,2,0),\" \")","v":" "},{"$f":"IFERROR(VLOOKUP(MID(Y$27,5,4)&$A64,Lista_Ubigeo!$J:$K,2,0),\" \")","v":" "},{"$f":"IFERROR(VLOOKUP(MID(Z$27,5,4)&$A64,Lista_Ubigeo!$J:$K,2,0),\" \")","v":" "},{"$f":"IFERROR(VLOOKUP(MID(AA$27,5,4)&$A64,Lista_Ubigeo!$J:$K,2,0),\" \")","v":" "},{"$f":"IFERROR(VLOOKUP(MID(AB$27,5,4)&$A64,Lista_Ubigeo!$J:$K,2,0),\" \")","v":" "},{"$f":"IFERROR(VLOOKUP(MID(AC$27,5,4)&$A64,Lista_Ubigeo!$J:$K,2,0),\" \")","v":" "},{"$f":"IFERROR(VLOOKUP(MID(AD$27,5,4)&$A64,Lista_Ubigeo!$J:$K,2,0),\" \")","v":" "},{"$f":"IFERROR(VLOOKUP(MID(AE$27,5,4)&$A64,Lista_Ubigeo!$J:$K,2,0),\" \")","v":" "},{"$f":"IFERROR(VLOOKUP(MID(AF$27,5,4)&$A64,Lista_Ubigeo!$J:$K,2,0),\" \")","v":" "},{"$f":"IFERROR(VLOOKUP(MID(AG$27,5,4)&$A64,Lista_Ubigeo!$J:$K,2,0),\" \")","v":" "},{"$f":"IFERROR(VLOOKUP(MID(AH$27,5,4)&$A64,Lista_Ubigeo!$J:$K,2,0),\" \")","v":" "},{"$f":"IFERROR(VLOOKUP(MID(AI$27,5,4)&$A64,Lista_Ubigeo!$J:$K,2,0),\" \")","v":" "},{"$f":"IFERROR(VLOOKUP(MID(AJ$27,5,4)&$A64,Lista_Ubigeo!$J:$K,2,0),\" \")","v":" "},{"$f":"IFERROR(VLOOKUP(MID(AK$27,5,4)&$A64,Lista_Ubigeo!$J:$K,2,0),\" \")","v":" "},{"$f":"IFERROR(VLOOKUP(MID(AL$27,5,4)&$A64,Lista_Ubigeo!$J:$K,2,0),\" \")","v":" "},{"$f":"IFERROR(VLOOKUP(MID(AM$27,5,4)&$A64,Lista_Ubigeo!$J:$K,2,0),\" \")","v":" "},{"$f":"IFERROR(VLOOKUP(MID(AN$27,5,4)&$A64,Lista_Ubigeo!$J:$K,2,0),\" \")","v":" "},{"$f":"IFERROR(VLOOKUP(MID(AO$27,5,4)&$A64,Lista_Ubigeo!$J:$K,2,0),\" \")","v":" "},{"$f":"IFERROR(VLOOKUP(MID(AP$27,5,4)&$A64,Lista_Ubigeo!$J:$K,2,0),\" \")","v":" "},{"$f":"IFERROR(VLOOKUP(MID(AQ$27,4,4)&$A64,Lista_Ubigeo!$J:$K,2,0),\" \")","v":" "},{"$f":"IFERROR(VLOOKUP(MID(AR$27,5,4)&$A64,Lista_Ubigeo!$J:$K,2,0),\" \")","v":" "},{"$f":"IFERROR(VLOOKUP(MID(AS$27,5,4)&$A64,Lista_Ubigeo!$J:$K,2,0),\" \")","v":" "},{"$f":"IFERROR(VLOOKUP(MID(AT$27,5,4)&$A64,Lista_Ubigeo!$J:$K,2,0),\" \")","v":" "},{"$f":"IFERROR(VLOOKUP(MID(AU$27,5,4)&$A64,Lista_Ubigeo!$J:$K,2,0),\" \")","v":" "},{"$f":"IFERROR(VLOOKUP(MID(AV$27,5,4)&$A64,Lista_Ubigeo!$J:$K,2,0),\" \")","v":" "},{"$f":"IFERROR(VLOOKUP(MID(AW$27,5,4)&$A64,Lista_Ubigeo!$J:$K,2,0),\" \")","v":" "},{"$f":"IFERROR(VLOOKUP(MID(AX$27,5,4)&$A64,Lista_Ubigeo!$J:$K,2,0),\" \")","v":" "},{"$f":"IFERROR(VLOOKUP(MID(AY$27,5,4)&$A64,Lista_Ubigeo!$J:$K,2,0),\" \")","v":" "},{"$f":"IFERROR(VLOOKUP(MID(AZ$27,5,4)&$A64,Lista_Ubigeo!$J:$K,2,0),\" \")","v":" "},{"$f":"IFERROR(VLOOKUP(MID(BA$27,5,4)&$A64,Lista_Ubigeo!$J:$K,2,0),\" \")","v":" "},{"$f":"IFERROR(VLOOKUP(MID(BB$27,5,4)&$A64,Lista_Ubigeo!$J:$K,2,0),\" \")","v":" "},{"$f":"IFERROR(VLOOKUP(MID(BC$27,5,4)&$A64,Lista_Ubigeo!$J:$K,2,0),\" \")","v":" "},{"$f":"IFERROR(VLOOKUP(MID(BD$27,5,4)&$A64,Lista_Ubigeo!$J:$K,2,0),\" \")","v":" "},{"$f":"IFERROR(VLOOKUP(MID(BE$27,5,4)&$A64,Lista_Ubigeo!$J:$K,2,0),\" \")","v":" "},{"$f":"IFERROR(VLOOKUP(MID(BF$27,5,4)&$A64,Lista_Ubigeo!$J:$K,2,0),\" \")","v":" "},{"$f":"IFERROR(VLOOKUP(MID(BG$27,5,4)&$A64,Lista_Ubigeo!$J:$K,2,0),\" \")","v":" "},{"$f":"IFERROR(VLOOKUP(MID(BH$27,5,4)&$A64,Lista_Ubigeo!$J:$K,2,0),\" \")","v":" "},{"$f":"IFERROR(VLOOKUP(MID(BI$27,5,4)&$A64,Lista_Ubigeo!$J:$K,2,0),\" \")","v":" "},{"$f":"IFERROR(VLOOKUP(MID(BJ$27,5,4)&$A64,Lista_Ubigeo!$J:$K,2,0),\" \")","v":" "},{"$f":"IFERROR(VLOOKUP(MID(BK$27,5,4)&$A64,Lista_Ubigeo!$J:$K,2,0),\" \")","v":" "},{"$f":"IFERROR(VLOOKUP(MID(BL$27,5,4)&$A64,Lista_Ubigeo!$J:$K,2,0),\" \")","v":" "},{"$f":"IFERROR(VLOOKUP(MID(BM$27,5,4)&$A64,Lista_Ubigeo!$J:$K,2,0),\" \")","v":" "},{"$f":"IFERROR(VLOOKUP(MID(BN$27,5,4)&$A64,Lista_Ubigeo!$J:$K,2,0),\" \")","v":" "},{"$f":"IFERROR(VLOOKUP(MID(BO$27,5,4)&$A64,Lista_Ubigeo!$J:$K,2,0),\" \")","v":" "},{"$f":"IFERROR(VLOOKUP(MID(BP$27,5,4)&$A64,Lista_Ubigeo!$J:$K,2,0),\" \")","v":" "},{"$f":"IFERROR(VLOOKUP(MID(BQ$27,5,4)&$A64,Lista_Ubigeo!$J:$K,2,0),\" \")","v":" "},{"$f":"IFERROR(VLOOKUP(MID(BR$27,5,4)&$A64,Lista_Ubigeo!$J:$K,2,0),\" \")","v":" "},{"$f":"IFERROR(VLOOKUP(MID(BS$27,5,4)&$A64,Lista_Ubigeo!$J:$K,2,0),\" \")","v":" "},{"$f":"IFERROR(VLOOKUP(MID(BT$27,5,4)&$A64,Lista_Ubigeo!$J:$K,2,0),\" \")","v":" "},{"$f":"IFERROR(VLOOKUP(MID(BU$27,5,4)&$A64,Lista_Ubigeo!$J:$K,2,0),\" \")","v":" "},{"$f":"IFERROR(VLOOKUP(MID(BV$27,5,4)&$A64,Lista_Ubigeo!$J:$K,2,0),\" \")","v":" "},{"$f":"IFERROR(VLOOKUP(MID(BW$27,5,4)&$A64,Lista_Ubigeo!$J:$K,2,0),\" \")","v":" "},{"$f":"IFERROR(VLOOKUP(MID(BX$27,5,4)&$A64,Lista_Ubigeo!$J:$K,2,0),\" \")","v":" "},{"$f":"IFERROR(VLOOKUP(MID(BY$27,4,4)&$A64,Lista_Ubigeo!$J:$K,2,0),\" \")","v":" "},{"$f":"IFERROR(VLOOKUP(MID(BZ$27,5,4)&$A64,Lista_Ubigeo!$J:$K,2,0),\" \")","v":" "},{"$f":"IFERROR(VLOOKUP(MID(CA$27,5,4)&$A64,Lista_Ubigeo!$J:$K,2,0),\" \")","v":" "},{"$f":"IFERROR(VLOOKUP(MID(CB$27,5,4)&$A64,Lista_Ubigeo!$J:$K,2,0),\" \")","v":" "},{"$f":"IFERROR(VLOOKUP(MID(CC$27,5,4)&$A64,Lista_Ubigeo!$J:$K,2,0),\" \")","v":" "},{"$f":"IFERROR(VLOOKUP(MID(CD$27,5,4)&$A64,Lista_Ubigeo!$J:$K,2,0),\" \")","v":" "},{"$f":"IFERROR(VLOOKUP(MID(CE$27,5,4)&$A64,Lista_Ubigeo!$J:$K,2,0),\" \")","v":" "},{"$f":"IFERROR(VLOOKUP(MID(CF$27,5,4)&$A64,Lista_Ubigeo!$J:$K,2,0),\" \")","v":" "},{"$f":"IFERROR(VLOOKUP(MID(CG$27,5,4)&$A64,Lista_Ubigeo!$J:$K,2,0),\" \")","v":" "},{"$f":"IFERROR(VLOOKUP(MID(CH$27,5,4)&$A64,Lista_Ubigeo!$J:$K,2,0),\" \")","v":" "},{"$f":"IFERROR(VLOOKUP(MID(CI$27,5,4)&$A64,Lista_Ubigeo!$J:$K,2,0),\" \")","v":" "},{"$f":"IFERROR(VLOOKUP(MID(CJ$27,5,4)&$A64,Lista_Ubigeo!$J:$K,2,0),\" \")","v":" "},{"$f":"IFERROR(VLOOKUP(MID(CK$27,5,4)&$A64,Lista_Ubigeo!$J:$K,2,0),\" \")","v":" "},{"$f":"IFERROR(VLOOKUP(MID(CL$27,5,4)&$A64,Lista_Ubigeo!$J:$K,2,0),\" \")","v":" "},{"$f":"IFERROR(VLOOKUP(MID(CM$27,5,4)&$A75,Lista_Ubigeo!$J:$K,2,0),\" \")","v":" "},{"$f":"IFERROR(VLOOKUP(MID(CN$27,5,4)&$A64,Lista_Ubigeo!$J:$K,2,0),\" \")","v":" "},{"$f":"IFERROR(VLOOKUP(MID(CO$27,5,4)&$A64,Lista_Ubigeo!$J:$K,2,0),\" \")","v":" "},{"$f":"IFERROR(VLOOKUP(MID(CP$27,5,4)&$A64,Lista_Ubigeo!$J:$K,2,0),\" \")","v":" "},{"$f":"IFERROR(VLOOKUP(MID(CQ$27,5,4)&$A64,Lista_Ubigeo!$J:$K,2,0),\" \")","v":" "},{"$f":"IFERROR(VLOOKUP(MID(CR$27,5,4)&$A64,Lista_Ubigeo!$J:$K,2,0),\" \")","v":" "},{"$f":"IFERROR(VLOOKUP(MID(CS$27,5,4)&$A64,Lista_Ubigeo!$J:$K,2,0),\" \")","v":" "},{"$f":"IFERROR(VLOOKUP(MID(CT$27,5,4)&$A64,Lista_Ubigeo!$J:$K,2,0),\" \")","v":" "},{"$f":"IFERROR(VLOOKUP(MID(CU$27,5,4)&$A64,Lista_Ubigeo!$J:$K,2,0),\" \")","v":" "},{"$f":"IFERROR(VLOOKUP(MID(CV$27,5,4)&$A64,Lista_Ubigeo!$J:$K,2,0),\" \")","v":" "},{"$f":"IFERROR(VLOOKUP(MID(CW$27,5,4)&$A64,Lista_Ubigeo!$J:$K,2,0),\" \")","v":" "},{"$f":"IFERROR(VLOOKUP(MID(CX$27,5,4)&$A64,Lista_Ubigeo!$J:$K,2,0),\" \")","v":" "},{"$f":"IFERROR(VLOOKUP(MID(CY$27,5,4)&$A64,Lista_Ubigeo!$J:$K,2,0),\" \")","v":" "},{"$f":"IFERROR(VLOOKUP(MID(CZ$27,5,4)&$A64,Lista_Ubigeo!$J:$K,2,0),\" \")","v":" "},{"$f":"IFERROR(VLOOKUP(MID(DA$27,5,4)&$A64,Lista_Ubigeo!$J:$K,2,0),\" \")","v":" "},{"$f":"IFERROR(VLOOKUP(MID(DB$27,5,4)&$A64,Lista_Ubigeo!$J:$K,2,0),\" \")","v":" "},{"$f":"IFERROR(VLOOKUP(MID(DC$27,5,4)&$A64,Lista_Ubigeo!$J:$K,2,0),\" \")","v":" "},{"$f":"IFERROR(VLOOKUP(MID(DD$27,5,4)&$A64,Lista_Ubigeo!$J:$K,2,0),\" \")","v":" "},{"$f":"IFERROR(VLOOKUP(MID(DE$27,5,4)&$A64,Lista_Ubigeo!$J:$K,2,0),\" \")","v":" "},{"$f":"IFERROR(VLOOKUP(MID(DF$27,5,4)&$A64,Lista_Ubigeo!$J:$K,2,0),\" \")","v":" "},{"$f":"IFERROR(VLOOKUP(MID(DG$27,5,4)&$A64,Lista_Ubigeo!$J:$K,2,0),\" \")","v":" "},{"$f":"IFERROR(VLOOKUP(MID(DH$27,5,4)&$A64,Lista_Ubigeo!$J:$K,2,0),\" \")","v":" "},{"$f":"IFERROR(VLOOKUP(MID(DI$27,5,4)&$A64,Lista_Ubigeo!$J:$K,2,0),\" \")","v":" "},{"$f":"IFERROR(VLOOKUP(MID(DJ$27,5,4)&$A64,Lista_Ubigeo!$J:$K,2,0),\" \")","v":" "},{"$f":"IFERROR(VLOOKUP(MID(DK$27,5,4)&$A64,Lista_Ubigeo!$J:$K,2,0),\" \")","v":" "},{"$f":"IFERROR(VLOOKUP(MID(DL$27,5,4)&$A64,Lista_Ubigeo!$J:$K,2,0),\" \")","v":" "},{"$f":"IFERROR(VLOOKUP(MID(DM$27,5,4)&$A64,Lista_Ubigeo!$J:$K,2,0),\" \")","v":" "},{"$f":"IFERROR(VLOOKUP(MID(DN$27,5,4)&$A64,Lista_Ubigeo!$J:$K,2,0),\" \")","v":" "},{"$f":"IFERROR(VLOOKUP(MID(DO$27,5,4)&$A65,Lista_Ubigeo!$J:$K,2,0),\" \")","v":" "},{"$f":"IFERROR(VLOOKUP(MID(DP$27,5,4)&$A64,Lista_Ubigeo!$J:$K,2,0),\" \")","v":" "},{"$f":"IFERROR(VLOOKUP(MID(DQ$27,5,4)&$A64,Lista_Ubigeo!$J:$K,2,0),\" \")","v":" "},{"$f":"IFERROR(VLOOKUP(MID(DR$27,5,4)&$A64,Lista_Ubigeo!$J:$K,2,0),\" \")","v":" "},{"$f":"IFERROR(VLOOKUP(MID(DS$27,5,4)&$A64,Lista_Ubigeo!$J:$K,2,0),\" \")","v":" "},null,null,{"$f":"IFERROR(VLOOKUP(MID(DV$27,5,4)&$A64,Lista_Ubigeo!$J:$K,2,0),\" \")","v":" "},{"$f":"IFERROR(VLOOKUP(MID(DW$27,5,4)&$A64,Lista_Ubigeo!$J:$K,2,0),\" \")","v":" "},{"$f":"IFERROR(VLOOKUP(MID(DX$27,5,4)&$A64,Lista_Ubigeo!$J:$K,2,0),\" \")","v":" "},{"$f":"IFERROR(VLOOKUP(MID(DY$27,5,4)&$A64,Lista_Ubigeo!$J:$K,2,0),\" \")","v":"SANTA ANITA"},{"$f":"IFERROR(VLOOKUP(MID(DZ$27,5,4)&$A64,Lista_Ubigeo!$J:$K,2,0),\" \")","v":" "},{"$f":"IFERROR(VLOOKUP(MID(EA$27,5,4)&$A64,Lista_Ubigeo!$J:$K,2,0),\" \")","v":" "},{"$f":"IFERROR(VLOOKUP(MID(EB$27,5,4)&$A64,Lista_Ubigeo!$J:$K,2,0),\" \")","v":" "},{"$f":"IFERROR(VLOOKUP(MID(EC$27,5,4)&$A64,Lista_Ubigeo!$J:$K,2,0),\" \")","v":" "},{"$f":"IFERROR(VLOOKUP(MID(ED$27,5,4)&$A64,Lista_Ubigeo!$J:$K,2,0),\" \")","v":" "},{"$f":"IFERROR(VLOOKUP(MID(EE$27,5,4)&$A64,Lista_Ubigeo!$J:$K,2,0),\" \")","v":" "},{"$f":"IFERROR(VLOOKUP(MID(EF$27,5,4)&$A64,Lista_Ubigeo!$J:$K,2,0),\" \")","v":" "},{"$f":"IFERROR(VLOOKUP(MID(EG$27,5,4)&$A64,Lista_Ubigeo!$J:$K,2,0),\" \")","v":" "},{"$f":"IFERROR(VLOOKUP(MID(EH$27,5,4)&$A64,Lista_Ubigeo!$J:$K,2,0),\" \")","v":" "},{"$f":"IFERROR(VLOOKUP(MID(EI$27,5,4)&$A64,Lista_Ubigeo!$J:$K,2,0),\" \")","v":" "},{"$f":"IFERROR(VLOOKUP(MID(EJ$27,5,4)&$A69,Lista_Ubigeo!$J:$K,2,0),\" \")","v":" "},{"$f":"IFERROR(VLOOKUP(MID(EK$27,5,4)&$A64,Lista_Ubigeo!$J:$K,2,0),\" \")","v":" "},{"$f":"IFERROR(VLOOKUP(MID(EL$27,5,4)&$A64,Lista_Ubigeo!$J:$K,2,0),\" \")","v":" "},{"$f":"IFERROR(VLOOKUP(MID(EM$27,5,4)&$A64,Lista_Ubigeo!$J:$K,2,0),\" \")","v":" "},{"$f":"IFERROR(VLOOKUP(MID(EN$27,5,4)&$A64,Lista_Ubigeo!$J:$K,2,0),\" \")","v":" "},{"$f":"IFERROR(VLOOKUP(MID(EO$27,5,4)&$A64,Lista_Ubigeo!$J:$K,2,0),\" \")","v":" "},{"$f":"IFERROR(VLOOKUP(MID(EP$27,5,4)&$A64,Lista_Ubigeo!$J:$K,2,0),\" \")","v":" "},{"$f":"IFERROR(VLOOKUP(MID(EQ$27,5,4)&$A64,Lista_Ubigeo!$J:$K,2,0),\" \")","v":" "},{"$f":"IFERROR(VLOOKUP(MID(ER$27,5,4)&$A64,Lista_Ubigeo!$J:$K,2,0),\" \")","v":" "},{"$f":"IFERROR(VLOOKUP(MID(ES$27,5,4)&$A64,Lista_Ubigeo!$J:$K,2,0),\" \")","v":" "},{"$f":"IFERROR(VLOOKUP(MID(ET$27,5,4)&$A64,Lista_Ubigeo!$J:$K,2,0),\" \")","v":" "},{"$f":"IFERROR(VLOOKUP(MID(EU$27,5,4)&$A64,Lista_Ubigeo!$J:$K,2,0),\" \")","v":" "},{"$f":"IFERROR(VLOOKUP(MID(EV$27,5,4)&$A64,Lista_Ubigeo!$J:$K,2,0),\" \")","v":" "},{"$f":"IFERROR(VLOOKUP(MID(EW$27,5,4)&$A64,Lista_Ubigeo!$J:$K,2,0),\" \")","v":" "},{"$f":"IFERROR(VLOOKUP(MID(EX$27,5,4)&$A64,Lista_Ubigeo!$J:$K,2,0),\" \")","v":" "},{"$f":"IFERROR(VLOOKUP(MID(EY$27,5,4)&$A64,Lista_Ubigeo!$J:$K,2,0),\" \")","v":" "},{"$f":"IFERROR(VLOOKUP(MID(EZ$27,5,4)&$A67,Lista_Ubigeo!$J:$K,2,0),\" \")","v":" "},{"$f":"IFERROR(VLOOKUP(MID(FA$27,5,4)&$A64,Lista_Ubigeo!$J:$K,2,0),\" \")","v":" "},{"$f":"IFERROR(VLOOKUP(MID(FB$27,5,4)&$A64,Lista_Ubigeo!$J:$K,2,0),\" \")","v":" "},{"$f":"IFERROR(VLOOKUP(MID(FC$27,5,4)&$A64,Lista_Ubigeo!$J:$K,2,0),\" \")","v":" "},{"$f":"IFERROR(VLOOKUP(MID(FD$27,5,4)&$A64,Lista_Ubigeo!$J:$K,2,0),\" \")","v":" "},{"$f":"IFERROR(VLOOKUP(MID(FE$27,5,4)&$A64,Lista_Ubigeo!$J:$K,2,0),\" \")","v":" "},{"$f":"IFERROR(VLOOKUP(MID(FF$27,5,4)&$A64,Lista_Ubigeo!$J:$K,2,0),\" \")","v":" "},{"$f":"IFERROR(VLOOKUP(MID(FG$27,5,4)&$A64,Lista_Ubigeo!$J:$K,2,0),\" \")","v":" "},{"$f":"IFERROR(VLOOKUP(MID(FH$27,5,4)&$A64,Lista_Ubigeo!$J:$K,2,0),\" \")","v":" "},{"$f":"IFERROR(VLOOKUP(MID(FI$27,5,4)&$A64,Lista_Ubigeo!$J:$K,2,0),\" \")","v":" "},{"$f":"IFERROR(VLOOKUP(MID(FJ$27,5,4)&$A64,Lista_Ubigeo!$J:$K,2,0),\" \")","v":" "},{"$f":"IFERROR(VLOOKUP(MID(FK$27,5,4)&$A64,Lista_Ubigeo!$J:$K,2,0),\" \")","v":" "},{"$f":"IFERROR(VLOOKUP(MID(FL$27,5,4)&$A64,Lista_Ubigeo!$J:$K,2,0),\" \")","v":" "},{"$f":"IFERROR(VLOOKUP(MID(FM$27,5,4)&$A64,Lista_Ubigeo!$J:$K,2,0),\" \")","v":" "},{"$f":"IFERROR(VLOOKUP(MID(FN$27,5,4)&$A64,Lista_Ubigeo!$J:$K,2,0),\" \")","v":" "},{"$f":"IFERROR(VLOOKUP(MID(FO$27,5,4)&$A64,Lista_Ubigeo!$J:$K,2,0),\" \")","v":" "},{"$f":"IFERROR(VLOOKUP(MID(FP$27,5,4)&$A64,Lista_Ubigeo!$J:$K,2,0),\" \")","v":" "},{"$f":"IFERROR(VLOOKUP(MID(FQ$27,5,4)&$A64,Lista_Ubigeo!$J:$K,2,0),\" \")","v":" "},{"$f":"IFERROR(VLOOKUP(MID(FR$27,5,4)&$A64,Lista_Ubigeo!$J:$K,2,0),\" \")","v":" "},{"$f":"IFERROR(VLOOKUP(MID(FS$27,5,4)&$A64,Lista_Ubigeo!$J:$K,2,0),\" \")","v":" "},{"$f":"IFERROR(VLOOKUP(MID(FT$27,5,4)&$A64,Lista_Ubigeo!$J:$K,2,0),\" \")","v":" "},{"$f":"IFERROR(VLOOKUP(MID(FU$27,5,4)&$A64,Lista_Ubigeo!$J:$K,2,0),\" \")","v":" "},{"$f":"IFERROR(VLOOKUP(MID(FV$27,5,4)&$A64,Lista_Ubigeo!$J:$K,2,0),\" \")","v":" "},{"$f":"IFERROR(VLOOKUP(MID(FW$27,5,4)&$A64,Lista_Ubigeo!$J:$K,2,0),\" \")","v":" "},{"$f":"IFERROR(VLOOKUP(MID(FX$27,5,4)&$A64,Lista_Ubigeo!$J:$K,2,0),\" \")","v":" "},{"$f":"IFERROR(VLOOKUP(MID(FY$27,5,4)&$A64,Lista_Ubigeo!$J:$K,2,0),\" \")","v":" "},{"$f":"IFERROR(VLOOKUP(MID(FZ$27,5,4)&$A64,Lista_Ubigeo!$J:$K,2,0),\" \")","v":" "},{"$f":"IFERROR(VLOOKUP(MID(GA$27,5,4)&$A64,Lista_Ubigeo!$J:$K,2,0),\" \")","v":" "},{"$f":"IFERROR(VLOOKUP(MID(GB$27,5,4)&$A64,Lista_Ubigeo!$J:$K,2,0),\" \")","v":" "},{"$f":"IFERROR(VLOOKUP(MID(GC$27,5,4)&$A64,Lista_Ubigeo!$J:$K,2,0),\" \")","v":" "},{"$f":"IFERROR(VLOOKUP(MID(GD$27,5,4)&$A64,Lista_Ubigeo!$J:$K,2,0),\" \")","v":" "},{"$f":"IFERROR(VLOOKUP(MID(GE$27,5,4)&$A64,Lista_Ubigeo!$J:$K,2,0),\" \")","v":" "},{"$f":"IFERROR(VLOOKUP(MID(GF$27,5,4)&$A64,Lista_Ubigeo!$J:$K,2,0),\" \")","v":" "},{"$f":"IFERROR(VLOOKUP(MID(GG$27,5,4)&$A64,Lista_Ubigeo!$J:$K,2,0),\" \")","v":" "},{"$f":"IFERROR(VLOOKUP(MID(GH$27,5,4)&$A64,Lista_Ubigeo!$J:$K,2,0),\" \")","v":" "},{"$f":"IFERROR(VLOOKUP(MID(GI$27,5,4)&$A64,Lista_Ubigeo!$J:$K,2,0),\" \")","v":" "},{"$f":"IFERROR(VLOOKUP(MID(GJ$27,5,4)&$A64,Lista_Ubigeo!$J:$K,2,0),\" \")","v":" "},{"$f":"IFERROR(VLOOKUP(MID(GK$27,5,4)&$A64,Lista_Ubigeo!$J:$K,2,0),\" \")","v":" "},{"$f":"IFERROR(VLOOKUP(MID(GL$27,5,4)&$A64,Lista_Ubigeo!$J:$K,2,0),\" \")","v":" "},{"$f":"IFERROR(VLOOKUP(MID(GM$27,5,4)&$A64,Lista_Ubigeo!$J:$K,2,0),\" \")","v":" "},{"$f":"IFERROR(VLOOKUP(MID(GN$27,5,4)&$A64,Lista_Ubigeo!$J:$K,2,0),\" \")","v":" "},{"$f":"IFERROR(VLOOKUP(MID(GO$27,5,4)&$A64,Lista_Ubigeo!$J:$K,2,0),\" \")","v":" "},{"$f":"IFERROR(VLOOKUP(MID(GP$27,5,4)&$A64,Lista_Ubigeo!$J:$K,2,0),\" \")","v":" "}]
["38",{"$f":"IFERROR(VLOOKUP(MID(B$27,5,4)&$A65,Lista_Ubigeo!$J:$K,2,0),\" \")","v":" "},{"$f":"IFERROR(VLOOKUP(MID(C$27,5,4)&$A65,Lista_Ubigeo!$J:$K,2,0),\" \")","v":" "},{"$f":"IFERROR(VLOOKUP(MID(D$27,5,4)&$A65,Lista_Ubigeo!$J:$K,2,0),\" \")","v":" "},{"$f":"IFERROR(VLOOKUP(MID(E$27,5,4)&$A65,Lista_Ubigeo!$J:$K,2,0),\" \")","v":" "},{"$f":"IFERROR(VLOOKUP(MID(F$27,5,4)&$A65,Lista_Ubigeo!$J:$K,2,0),\" \")","v":" "},{"$f":"IFERROR(VLOOKUP(MID(G$27,5,4)&$A65,Lista_Ubigeo!$J:$K,2,0),\" \")","v":" "},{"$f":"IFERROR(VLOOKUP(MID(H$27,5,4)&$A65,Lista_Ubigeo!$J:$K,2,0),\" \")","v":" "},{"$f":"IFERROR(VLOOKUP(MID(I$27,5,4)&$A65,Lista_Ubigeo!$J:$K,2,0),\" \")","v":" "},{"$f":"IFERROR(VLOOKUP(MID(J$27,5,4)&$A65,Lista_Ubigeo!$J:$K,2,0),\" \")","v":" "},{"$f":"IFERROR(VLOOKUP(MID(K$27,5,4)&$A65,Lista_Ubigeo!$J:$K,2,0),\" \")","v":" "},{"$f":"IFERROR(VLOOKUP(MID(L$27,5,4)&$A65,Lista_Ubigeo!$J:$K,2,0),\" \")","v":" "},{"$f":"IFERROR(VLOOKUP(MID(M$27,5,4)&$A65,Lista_Ubigeo!$J:$K,2,0),\" \")","v":" "},{"$f":"IFERROR(VLOOKUP(MID(N$27,5,4)&$A65,Lista_Ubigeo!$J:$K,2,0),\" \")","v":" "},{"$f":"IFERROR(VLOOKUP(MID(O$27,5,4)&$A65,Lista_Ubigeo!$J:$K,2,0),\" \")","v":" "},{"$f":"IFERROR(VLOOKUP(MID(P$27,5,4)&$A65,Lista_Ubigeo!$J:$K,2,0),\" \")","v":" "},{"$f":"IFERROR(VLOOKUP(MID(Q$27,5,4)&$A65,Lista_Ubigeo!$J:$K,2,0),\" \")","v":" "},{"$f":"IFERROR(VLOOKUP(MID(R$27,5,4)&$A65,Lista_Ubigeo!$J:$K,2,0),\" \")","v":" "},{"$f":"IFERROR(VLOOKUP(MID(S$27,5,4)&$A65,Lista_Ubigeo!$J:$K,2,0),\" \")","v":" "},{"$f":"IFERROR(VLOOKUP(MID(T$27,5,4)&$A65,Lista_Ubigeo!$J:$K,2,0),\" \")","v":" "},{"$f":"IFERROR(VLOOKUP(MID(U$27,5,4)&$A65,Lista_Ubigeo!$J:$K,2,0),\" \")","v":" "},{"$f":"IFERROR(VLOOKUP(MID(V$27,5,4)&$A65,Lista_Ubigeo!$J:$K,2,0),\" \")","v":" "},{"$f":"IFERROR(VLOOKUP(MID(W$27,5,4)&$A65,Lista_Ubigeo!$J:$K,2,0),\" \")","v":" "},{"$f":"IFERROR(VLOOKUP(MID(X$27,5,4)&$A65,Lista_Ubigeo!$J:$K,2,0),\" \")","v":" "},{"$f":"IFERROR(VLOOKUP(MID(Y$27,5,4)&$A65,Lista_Ubigeo!$J:$K,2,0),\" \")","v":" "},{"$f":"IFERROR(VLOOKUP(MID(Z$27,5,4)&$A65,Lista_Ubigeo!$J:$K,2,0),\" \")","v":" "},{"$f":"IFERROR(VLOOKUP(MID(AA$27,5,4)&$A65,Lista_Ubigeo!$J:$K,2,0),\" \")","v":" "},{"$f":"IFERROR(VLOOKUP(MID(AB$27,5,4)&$A65,Lista_Ubigeo!$J:$K,2,0),\" \")","v":" "},{"$f":"IFERROR(VLOOKUP(MID(AC$27,5,4)&$A65,Lista_Ubigeo!$J:$K,2,0),\" \")","v":" "},{"$f":"IFERROR(VLOOKUP(MID(AD$27,5,4)&$A65,Lista_Ubigeo!$J:$K,2,0),\" \")","v":" "},{"$f":"IFERROR(VLOOKUP(MID(AE$27,5,4)&$A65,Lista_Ubigeo!$J:$K,2,0),\" \")","v":" "},{"$f":"IFERROR(VLOOKUP(MID(AF$27,5,4)&$A65,Lista_Ubigeo!$J:$K,2,0),\" \")","v":" "},{"$f":"IFERROR(VLOOKUP(MID(AG$27,5,4)&$A65,Lista_Ubigeo!$J:$K,2,0),\" \")","v":" "},{"$f":"IFERROR(VLOOKUP(MID(AH$27,5,4)&$A65,Lista_Ubigeo!$J:$K,2,0),\" \")","v":" "},{"$f":"IFERROR(VLOOKUP(MID(AI$27,5,4)&$A65,Lista_Ubigeo!$J:$K,2,0),\" \")","v":" "},{"$f":"IFERROR(VLOOKUP(MID(AJ$27,5,4)&$A65,Lista_Ubigeo!$J:$K,2,0),\" \")","v":" "},{"$f":"IFERROR(VLOOKUP(MID(AK$27,5,4)&$A65,Lista_Ubigeo!$J:$K,2,0),\" \")","v":" "},{"$f":"IFERROR(VLOOKUP(MID(AL$27,5,4)&$A65,Lista_Ubigeo!$J:$K,2,0),\" \")","v":" "},{"$f":"IFERROR(VLOOKUP(MID(AM$27,5,4)&$A65,Lista_Ubigeo!$J:$K,2,0),\" \")","v":" "},{"$f":"IFERROR(VLOOKUP(MID(AN$27,5,4)&$A65,Lista_Ubigeo!$J:$K,2,0),\" \")","v":" "},{"$f":"IFERROR(VLOOKUP(MID(AO$27,5,4)&$A65,Lista_Ubigeo!$J:$K,2,0),\" \")","v":" "},{"$f":"IFERROR(VLOOKUP(MID(AP$27,5,4)&$A65,Lista_Ubigeo!$J:$K,2,0),\" \")","v":" "},{"$f":"IFERROR(VLOOKUP(MID(AQ$27,4,4)&$A65,Lista_Ubigeo!$J:$K,2,0),\" \")","v":" "},{"$f":"IFERROR(VLOOKUP(MID(AR$27,5,4)&$A65,Lista_Ubigeo!$J:$K,2,0),\" \")","v":" "},{"$f":"IFERROR(VLOOKUP(MID(AS$27,5,4)&$A65,Lista_Ubigeo!$J:$K,2,0),\" \")","v":" "},{"$f":"IFERROR(VLOOKUP(MID(AT$27,5,4)&$A65,Lista_Ubigeo!$J:$K,2,0),\" \")","v":" "},{"$f":"IFERROR(VLOOKUP(MID(AU$27,5,4)&$A65,Lista_Ubigeo!$J:$K,2,0),\" \")","v":" "},{"$f":"IFERROR(VLOOKUP(MID(AV$27,5,4)&$A65,Lista_Ubigeo!$J:$K,2,0),\" \")","v":" "},{"$f":"IFERROR(VLOOKUP(MID(AW$27,5,4)&$A65,Lista_Ubigeo!$J:$K,2,0),\" \")","v":" "},{"$f":"IFERROR(VLOOKUP(MID(AX$27,5,4)&$A65,Lista_Ubigeo!$J:$K,2,0),\" \")","v":" "},{"$f":"IFERROR(VLOOKUP(MID(AY$27,5,4)&$A65,Lista_Ubigeo!$J:$K,2,0),\" \")","v":" "},{"$f":"IFERROR(VLOOKUP(MID(AZ$27,5,4)&$A65,Lista_Ubigeo!$J:$K,2,0),\" \")","v":" "},{"$f":"IFERROR(VLOOKUP(MID(BA$27,5,4)&$A65,Lista_Ubigeo!$J:$K,2,0),\" \")","v":" "},{"$f":"IFERROR(VLOOKUP(MID(BB$27,5,4)&$A65,Lista_Ubigeo!$J:$K,2,0),\" \")","v":" "},{"$f":"IFERROR(VLOOKUP(MID(BC$27,5,4)&$A65,Lista_Ubigeo!$J:$K,2,0),\" \")","v":" "},{"$f":"IFERROR(VLOOKUP(MID(BD$27,5,4)&$A65,Lista_Ubigeo!$J:$K,2,0),\" \")","v":" "},{"$f":"IFERROR(VLOOKUP(MID(BE$27,5,4)&$A65,Lista_Ubigeo!$J:$K,2,0),\" \")","v":" "},{"$f":"IFERROR(VLOOKUP(MID(BF$27,5,4)&$A65,Lista_Ubigeo!$J:$K,2,0),\" \")","v":" "},{"$f":"IFERROR(VLOOKUP(MID(BG$27,5,4)&$A65,Lista_Ubigeo!$J:$K,2,0),\" \")","v":" "},{"$f":"IFERROR(VLOOKUP(MID(BH$27,5,4)&$A65,Lista_Ubigeo!$J:$K,2,0),\" \")","v":" "},{"$f":"IFERROR(VLOOKUP(MID(BI$27,5,4)&$A65,Lista_Ubigeo!$J:$K,2,0),\" \")","v":" "},{"$f":"IFERROR(VLOOKUP(MID(BJ$27,5,4)&$A65,Lista_Ubigeo!$J:$K,2,0),\" \")","v":" "},{"$f":"IFERROR(VLOOKUP(MID(BK$27,5,4)&$A65,Lista_Ubigeo!$J:$K,2,0),\" \")","v":" "},{"$f":"IFERROR(VLOOKUP(MID(BL$27,5,4)&$A65,Lista_Ubigeo!$J:$K,2,0),\" \")","v":" "},{"$f":"IFERROR(VLOOKUP(MID(BM$27,5,4)&$A65,Lista_Ubigeo!$J:$K,2,0),\" \")","v":" "},{"$f":"IFERROR(VLOOKUP(MID(BN$27,5,4)&$A65,Lista_Ubigeo!$J:$K,2,0),\" \")","v":" "},{"$f":"IFERROR(VLOOKUP(MID(BO$27,5,4)&$A65,Lista_Ubigeo!$J:$K,2,0),\" \")","v":" "},{"$f":"IFERROR(VLOOKUP(MID(BP$27,5,4)&$A65,Lista_Ubigeo!$J:$K,2,0),\" \")","v":" "},{"$f":"IFERROR(VLOOKUP(MID(BQ$27,5,4)&$A65,Lista_Ubigeo!$J:$K,2,0),\" \")","v":" "},{"$f":"IFERROR(VLOOKUP(MID(BR$27,5,4)&$A65,Lista_Ubigeo!$J:$K,2,0),\" \")","v":" "},{"$f":"IFERROR(VLOOKUP(MID(BS$27,5,4)&$A65,Lista_Ubigeo!$J:$K,2,0),\" \")","v":" "},{"$f":"IFERROR(VLOOKUP(MID(BT$27,5,4)&$A65,Lista_Ubigeo!$J:$K,2,0),\" \")","v":" "},{"$f":"IFERROR(VLOOKUP(MID(BU$27,5,4)&$A65,Lista_Ubigeo!$J:$K,2,0),\" \")","v":" "},{"$f":"IFERROR(VLOOKUP(MID(BV$27,5,4)&$A65,Lista_Ubigeo!$J:$K,2,0),\" \")","v":" "},{"$f":"IFERROR(VLOOKUP(MID(BW$27,5,4)&$A65,Lista_Ubigeo!$J:$K,2,0),\" \")","v":" "},{"$f":"IFERROR(VLOOKUP(MID(BX$27,5,4)&$A65,Lista_Ubigeo!$J:$K,2,0),\" \")","v":" "},{"$f":"IFERROR(VLOOKUP(MID(BY$27,4,4)&$A65,Lista_Ubigeo!$J:$K,2,0),\" \")","v":" "},{"$f":"IFERROR(VLOOKUP(MID(BZ$27,5,4)&$A65,Lista_Ubigeo!$J:$K,2,0),\" \")","v":" "},{"$f":"IFERROR(VLOOKUP(MID(CA$27,5,4)&$A65,Lista_Ubigeo!$J:$K,2,0),\" \")","v":" "},{"$f":"IFERROR(VLOOKUP(MID(CB$27,5,4)&$A65,Lista_Ubigeo!$J:$K,2,0),\" \")","v":" "},{"$f":"IFERROR(VLOOKUP(MID(CC$27,5,4)&$A65,Lista_Ubigeo!$J:$K,2,0),\" \")","v":" "},{"$f":"IFERROR(VLOOKUP(MID(CD$27,5,4)&$A65,Lista_Ubigeo!$J:$K,2,0),\" \")","v":" "},{"$f":"IFERROR(VLOOKUP(MID(CE$27,5,4)&$A65,Lista_Ubigeo!$J:$K,2,0),\" \")","v":" "},{"$f":"IFERROR(VLOOKUP(MID(CF$27,5,4)&$A65,Lista_Ubigeo!$J:$K,2,0),\" \")","v":" "},{"$f":"IFERROR(VLOOKUP(MID(CG$27,5,4)&$A65,Lista_Ubigeo!$J:$K,2,0),\" \")","v":" "},{"$f":"IFERROR(VLOOKUP(MID(CH$27,5,4)&$A65,Lista_Ubigeo!$J:$K,2,0),\" \")","v":" "},{"$f":"IFERROR(VLOOKUP(MID(CI$27,5,4)&$A65,Lista_Ubigeo!$J:$K,2,0),\" \")","v":" "},{"$f":"IFERROR(VLOOKUP(MID(CJ$27,5,4)&$A65,Lista_Ubigeo!$J:$K,2,0),\" \")","v":" "},{"$f":"IFERROR(VLOOKUP(MID(CK$27,5,4)&$A65,Lista_Ubigeo!$J:$K,2,0),\" \")","v":" "},{"$f":"IFERROR(VLOOKUP(MID(CL$27,5,4)&$A65,Lista_Ubigeo!$J:$K,2,0),\" \")","v":" "},{"$f":"IFERROR(VLOOKUP(MID(CM$27,5,4)&$A76,Lista_Ubigeo!$J:$K,2,0),\" \")","v":" "},{"$f":"IFERROR(VLOOKUP(MID(CN$27,5,4)&$A65,Lista_Ubigeo!$J:$K,2,0),\" \")","v":" "},{"$f":"IFERROR(VLOOKUP(MID(CO$27,5,4)&$A65,Lista_Ubigeo!$J:$K,2,0),\" \")","v":" "},{"$f":"IFERROR(VLOOKUP(MID(CP$27,5,4)&$A65,Lista_Ubigeo!$J:$K,2,0),\" \")","v":" "},{"$f":"IFERROR(VLOOKUP(MID(CQ$27,5,4)&$A65,Lista_Ubigeo!$J:$K,2,0),\" \")","v":" "},{"$f":"IFERROR(VLOOKUP(MID(CR$27,5,4)&$A65,Lista_Ubigeo!$J:$K,2,0),\" \")","v":" "},{"$f":"IFERROR(VLOOKUP(MID(CS$27,5,4)&$A65,Lista_Ubigeo!$J:$K,2,0),\" \")","v":" "},{"$f":"IFERROR(VLOOKUP(MID(CT$27,5,4)&$A65,Lista_Ubigeo!$J:$K,2,0),\" \")","v":" "},{"$f":"IFERROR(VLOOKUP(MID(CU$27,5,4)&$A65,Lista_Ubigeo!$J:$K,2,0),\" \")","v":" "},{"$f":"IFERROR(VLOOKUP(MID(CV$27,5,4)&$A65,Lista_Ubigeo!$J:$K,2,0),\" \")","v":" "},{"$f":"IFERROR(VLOOKUP(MID(CW$27,5,4)&$A65,Lista_Ubigeo!$J:$K,2,0),\" \")","v":" "},{"$f":"IFERROR(VLOOKUP(MID(CX$27,5,4)&$A65,Lista_Ubigeo!$J:$K,2,0),\" \")","v":" "},{"$f":"IFERROR(VLOOKUP(MID(CY$27,5,4)&$A65,Lista_Ubigeo!$J:$K,2,0),\" \")","v":" "},{"$f":"IFERROR(VLOOKUP(MID(CZ$27,5,4)&$A65,Lista_Ubigeo!$J:$K,2,0),\" \")","v":" "},{"$f":"IFERROR(VLOOKUP(MID(DA$27,5,4)&$A65,Lista_Ubigeo!$J:$K,2,0),\" \")","v":" "},{"$f":"IFERROR(VLOOKUP(MID(DB$27,5,4)&$A65,Lista_Ubigeo!$J:$K,2,0),\" \")","v":" "},{"$f":"IFERROR(VLOOKUP(MID(DC$27,5,4)&$A65,Lista_Ubigeo!$J:$K,2,0),\" \")","v":" "},{"$f":"IFERROR(VLOOKUP(MID(DD$27,5,4)&$A65,Lista_Ubigeo!$J:$K,2,0),\" \")","v":" "},{"$f":"IFERROR(VLOOKUP(MID(DE$27,5,4)&$A65,Lista_Ubigeo!$J:$K,2,0),\" \")","v":" "},{"$f":"IFERROR(VLOOKUP(MID(DF$27,5,4)&$A65,Lista_Ubigeo!$J:$K,2,0),\" \")","v":" "},{"$f":"IFERROR(VLOOKUP(MID(DG$27,5,4)&$A65,Lista_Ubigeo!$J:$K,2,0),\" \")","v":" "},{"$f":"IFERROR(VLOOKUP(MID(DH$27,5,4)&$A65,Lista_Ubigeo!$J:$K,2,0),\" \")","v":" "},{"$f":"IFERROR(VLOOKUP(MID(DI$27,5,4)&$A65,Lista_Ubigeo!$J:$K,2,0),\" \")","v":" "},{"$f":"IFERROR(VLOOKUP(MID(DJ$27,5,4)&$A65,Lista_Ubigeo!$J:$K,2,0),\" \")","v":" "},{"$f":"IFERROR(VLOOKUP(MID(DK$27,5,4)&$A65,Lista_Ubigeo!$J:$K,2,0),\" \")","v":" "},{"$f":"IFERROR(VLOOKUP(MID(DL$27,5,4)&$A65,Lista_Ubigeo!$J:$K,2,0),\" \")","v":" "},{"$f":"IFERROR(VLOOKUP(MID(DM$27,5,4)&$A65,Lista_Ubigeo!$J:$K,2,0),\" \")","v":" "},{"$f":"IFERROR(VLOOKUP(MID(DN$27,5,4)&$A65,Lista_Ubigeo!$J:$K,2,0),\" \")","v":" "},{"$f":"IFERROR(VLOOKUP(MID(DO$27,5,4)&$A66,Lista_Ubigeo!$J:$K,2,0),\" \")","v":" "},{"$f":"IFERROR(VLOOKUP(MID(DP$27,5,4)&$A65,Lista_Ubigeo!$J:$K,2,0),\" \")","v":" "},{"$f":"IFERROR(VLOOKUP(MID(DQ$27,5,4)&$A65,Lista_Ubigeo!$J:$K,2,0),\" \")","v":" "},{"$f":"IFERROR(VLOOKUP(MID(DR$27,5,4)&$A65,Lista_Ubigeo!$J:$K,2,0),\" \")","v":" "},{"$f":"IFERROR(VLOOKUP(MID(DS$27,5,4)&$A65,Lista_Ubigeo!$J:$K,2,0),\" \")","v":" "},null,null,{"$f":"IFERROR(VLOOKUP(MID(DV$27,5,4)&$A65,Lista_Ubigeo!$J:$K,2,0),\" \")","v":" "},{"$f":"IFERROR(VLOOKUP(MID(DW$27,5,4)&$A65,Lista_Ubigeo!$J:$K,2,0),\" \")","v":" "},{"$f":"IFERROR(VLOOKUP(MID(DX$27,5,4)&$A65,Lista_Ubigeo!$J:$K,2,0),\" \")","v":" "},{"$f":"IFERROR(VLOOKUP(MID(DY$27,5,4)&$A65,Lista_Ubigeo!$J:$K,2,0),\" \")","v":"SANTA MARIA DEL MAR"},{"$f":"IFERROR(VLOOKUP(MID(DZ$27,5,4)&$A65,Lista_Ubigeo!$J:$K,2,0),\" \")","v":" "},{"$f":"IFERROR(VLOOKUP(MID(EA$27,5,4)&$A65,Lista_Ubigeo!$J:$K,2,0),\" \")","v":" "},{"$f":"IFERROR(VLOOKUP(MID(EB$27,5,4)&$A65,Lista_Ubigeo!$J:$K,2,0),\" \")","v":" "},{"$f":"IFERROR(VLOOKUP(MID(EC$27,5,4)&$A65,Lista_Ubigeo!$J:$K,2,0),\" \")","v":" "},{"$f":"IFERROR(VLOOKUP(MID(ED$27,5,4)&$A65,Lista_Ubigeo!$J:$K,2,0),\" \")","v":" "},{"$f":"IFERROR(VLOOKUP(MID(EE$27,5,4)&$A65,Lista_Ubigeo!$J:$K,2,0),\" \")","v":" "},{"$f":"IFERROR(VLOOKUP(MID(EF$27,5,4)&$A65,Lista_Ubigeo!$J:$K,2,0),\" \")","v":" "},{"$f":"IFERROR(VLOOKUP(MID(EG$27,5,4)&$A65,Lista_Ubigeo!$J:$K,2,0),\" \")","v":" "},{"$f":"IFERROR(VLOOKUP(MID(EH$27,5,4)&$A65,Lista_Ubigeo!$J:$K,2,0),\" \")","v":" "},{"$f":"IFERROR(VLOOKUP(MID(EI$27,5,4)&$A65,Lista_Ubigeo!$J:$K,2,0),\" \")","v":" "},{"$f":"IFERROR(VLOOKUP(MID(EJ$27,5,4)&$A70,Lista_Ubigeo!$J:$K,2,0),\" \")","v":" "},{"$f":"IFERROR(VLOOKUP(MID(EK$27,5,4)&$A65,Lista_Ubigeo!$J:$K,2,0),\" \")","v":" "},{"$f":"IFERROR(VLOOKUP(MID(EL$27,5,4)&$A65,Lista_Ubigeo!$J:$K,2,0),\" \")","v":" "},{"$f":"IFERROR(VLOOKUP(MID(EM$27,5,4)&$A65,Lista_Ubigeo!$J:$K,2,0),\" \")","v":" "},{"$f":"IFERROR(VLOOKUP(MID(EN$27,5,4)&$A65,Lista_Ubigeo!$J:$K,2,0),\" \")","v":" "},{"$f":"IFERROR(VLOOKUP(MID(EO$27,5,4)&$A65,Lista_Ubigeo!$J:$K,2,0),\" \")","v":" "},{"$f":"IFERROR(VLOOKUP(MID(EP$27,5,4)&$A65,Lista_Ubigeo!$J:$K,2,0),\" \")","v":" "},{"$f":"IFERROR(VLOOKUP(MID(EQ$27,5,4)&$A65,Lista_Ubigeo!$J:$K,2,0),\" \")","v":" "},{"$f":"IFERROR(VLOOKUP(MID(ER$27,5,4)&$A65,Lista_Ubigeo!$J:$K,2,0),\" \")","v":" "},{"$f":"IFERROR(VLOOKUP(MID(ES$27,5,4)&$A65,Lista_Ubigeo!$J:$K,2,0),\" \")","v":" "},{"$f":"IFERROR(VLOOKUP(MID(ET$27,5,4)&$A65,Lista_Ubigeo!$J:$K,2,0),\" \")","v":" "},{"$f":"IFERROR(VLOOKUP(MID(EU$27,5,4)&$A65,Lista_Ubigeo!$J:$K,2,0),\" \")","v":" "},{"$f":"IFERROR(VLOOKUP(MID(EV$27,5,4)&$A65,Lista_Ubigeo!$J:$K,2,0),\" \")","v":" "},{"$f":"IFERROR(VLOOKUP(MID(EW$27,5,4)&$A65,Lista_Ubigeo!$J:$K,2,0),\" \")","v":" "},{"$f":"IFERROR(VLOOKUP(MID(EX$27,5,4)&$A65,Lista_Ubigeo!$J:$K,2,0),\" \")","v":" "},{"$f":"IFERROR(VLOOKUP(MID(EY$27,5,4)&$A65,Lista_Ubigeo!$J:$K,2,0),\" \")","v":" "},{"$f":"IFERROR(VLOOKUP(MID(EZ$27,5,4)&$A68,Lista_Ubigeo!$J:$K,2,0),\" \")","v":" "},{"$f":"IFERROR(VLOOKUP(MID(FA$27,5,4)&$A65,Lista_Ubigeo!$J:$K,2,0),\" \")","v":" "},{"$f":"IFERROR(VLOOKUP(MID(FB$27,5,4)&$A65,Lista_Ubigeo!$J:$K,2,0),\" \")","v":" "},{"$f":"IFERROR(VLOOKUP(MID(FC$27,5,4)&$A65,Lista_Ubigeo!$J:$K,2,0),\" \")","v":" "},{"$f":"IFERROR(VLOOKUP(MID(FD$27,5,4)&$A65,Lista_Ubigeo!$J:$K,2,0),\" \")","v":" "},{"$f":"IFERROR(VLOOKUP(MID(FE$27,5,4)&$A65,Lista_Ubigeo!$J:$K,2,0),\" \")","v":" "},{"$f":"IFERROR(VLOOKUP(MID(FF$27,5,4)&$A65,Lista_Ubigeo!$J:$K,2,0),\" \")","v":" "},{"$f":"IFERROR(VLOOKUP(MID(FG$27,5,4)&$A65,Lista_Ubigeo!$J:$K,2,0),\" \")","v":" "},{"$f":"IFERROR(VLOOKUP(MID(FH$27,5,4)&$A65,Lista_Ubigeo!$J:$K,2,0),\" \")","v":" "},{"$f":"IFERROR(VLOOKUP(MID(FI$27,5,4)&$A65,Lista_Ubigeo!$J:$K,2,0),\" \")","v":" "},{"$f":"IFERROR(VLOOKUP(MID(FJ$27,5,4)&$A65,Lista_Ubigeo!$J:$K,2,0),\" \")","v":" "},{"$f":"IFERROR(VLOOKUP(MID(FK$27,5,4)&$A65,Lista_Ubigeo!$J:$K,2,0),\" \")","v":" "},{"$f":"IFERROR(VLOOKUP(MID(FL$27,5,4)&$A65,Lista_Ubigeo!$J:$K,2,0),\" \")","v":" "},{"$f":"IFERROR(VLOOKUP(MID(FM$27,5,4)&$A65,Lista_Ubigeo!$J:$K,2,0),\" \")","v":" "},{"$f":"IFERROR(VLOOKUP(MID(FN$27,5,4)&$A65,Lista_Ubigeo!$J:$K,2,0),\" \")","v":" "},{"$f":"IFERROR(VLOOKUP(MID(FO$27,5,4)&$A65,Lista_Ubigeo!$J:$K,2,0),\" \")","v":" "},{"$f":"IFERROR(VLOOKUP(MID(FP$27,5,4)&$A65,Lista_Ubigeo!$J:$K,2,0),\" \")","v":" "},{"$f":"IFERROR(VLOOKUP(MID(FQ$27,5,4)&$A65,Lista_Ubigeo!$J:$K,2,0),\" \")","v":" "},{"$f":"IFERROR(VLOOKUP(MID(FR$27,5,4)&$A65,Lista_Ubigeo!$J:$K,2,0),\" \")","v":" "},{"$f":"IFERROR(VLOOKUP(MID(FS$27,5,4)&$A65,Lista_Ubigeo!$J:$K,2,0),\" \")","v":" "},{"$f":"IFERROR(VLOOKUP(MID(FT$27,5,4)&$A65,Lista_Ubigeo!$J:$K,2,0),\" \")","v":" "},{"$f":"IFERROR(VLOOKUP(MID(FU$27,5,4)&$A65,Lista_Ubigeo!$J:$K,2,0),\" \")","v":" "},{"$f":"IFERROR(VLOOKUP(MID(FV$27,5,4)&$A65,Lista_Ubigeo!$J:$K,2,0),\" \")","v":" "},{"$f":"IFERROR(VLOOKUP(MID(FW$27,5,4)&$A65,Lista_Ubigeo!$J:$K,2,0),\" \")","v":" "},{"$f":"IFERROR(VLOOKUP(MID(FX$27,5,4)&$A65,Lista_Ubigeo!$J:$K,2,0),\" \")","v":" "},{"$f":"IFERROR(VLOOKUP(MID(FY$27,5,4)&$A65,Lista_Ubigeo!$J:$K,2,0),\" \")","v":" "},{"$f":"IFERROR(VLOOKUP(MID(FZ$27,5,4)&$A65,Lista_Ubigeo!$J:$K,2,0),\" \")","v":" "},{"$f":"IFERROR(VLOOKUP(MID(GA$27,5,4)&$A65,Lista_Ubigeo!$J:$K,2,0),\" \")","v":" "},{"$f":"IFERROR(VLOOKUP(MID(GB$27,5,4)&$A65,Lista_Ubigeo!$J:$K,2,0),\" \")","v":" "},{"$f":"IFERROR(VLOOKUP(MID(GC$27,5,4)&$A65,Lista_Ubigeo!$J:$K,2,0),\" \")","v":" "},{"$f":"IFERROR(VLOOKUP(MID(GD$27,5,4)&$A65,Lista_Ubigeo!$J:$K,2,0),\" \")","v":" "},{"$f":"IFERROR(VLOOKUP(MID(GE$27,5,4)&$A65,Lista_Ubigeo!$J:$K,2,0),\" \")","v":" "},{"$f":"IFERROR(VLOOKUP(MID(GF$27,5,4)&$A65,Lista_Ubigeo!$J:$K,2,0),\" \")","v":" "},{"$f":"IFERROR(VLOOKUP(MID(GG$27,5,4)&$A65,Lista_Ubigeo!$J:$K,2,0),\" \")","v":" "},{"$f":"IFERROR(VLOOKUP(MID(GH$27,5,4)&$A65,Lista_Ubigeo!$J:$K,2,0),\" \")","v":" "},{"$f":"IFERROR(VLOOKUP(MID(GI$27,5,4)&$A65,Lista_Ubigeo!$J:$K,2,0),\" \")","v":" "},{"$f":"IFERROR(VLOOKUP(MID(GJ$27,5,4)&$A65,Lista_Ubigeo!$J:$K,2,0),\" \")","v":" "},{"$f":"IFERROR(VLOOKUP(MID(GK$27,5,4)&$A65,Lista_Ubigeo!$J:$K,2,0),\" \")","v":" "},{"$f":"IFERROR(VLOOKUP(MID(GL$27,5,4)&$A65,Lista_Ubigeo!$J:$K,2,0),\" \")","v":" "},{"$f":"IFERROR(VLOOKUP(MID(GM$27,5,4)&$A65,Lista_Ubigeo!$J:$K,2,0),\" \")","v":" "},{"$f":"IFERROR(VLOOKUP(MID(GN$27,5,4)&$A65,Lista_Ubigeo!$J:$K,2,0),\" \")","v":" "},{"$f":"IFERROR(VLOOKUP(MID(GO$27,5,4)&$A65,Lista_Ubigeo!$J:$K,2,0),\" \")","v":" "},{"$f":"IFERROR(VLOOKUP(MID(GP$27,5,4)&$A65,Lista_Ubigeo!$J:$K,2,0),\" \")","v":" "}]
["39",{"$f":"IFERROR(VLOOKUP(MID(B$27,5,4)&$A66,Lista_Ubigeo!$J:$K,2,0),\" \")","v":" "},{"$f":"IFERROR(VLOOKUP(MID(C$27,5,4)&$A66,Lista_Ubigeo!$J:$K,2,0),\" \")","v":" "},{"$f":"IFERROR(VLOOKUP(MID(D$27,5,4)&$A66,Lista_Ubigeo!$J:$K,2,0),\" \")","v":" "},{"$f":"IFERROR(VLOOKUP(MID(E$27,5,4)&$A66,Lista_Ubigeo!$J:$K,2,0),\" \")","v":" "},{"$f":"IFERROR(VLOOKUP(MID(F$27,5,4)&$A66,Lista_Ubigeo!$J:$K,2,0),\" \")","v":" "},{"$f":"IFERROR(VLOOKUP(MID(G$27,5,4)&$A66,Lista_Ubigeo!$J:$K,2,0),\" \")","v":" "},{"$f":"IFERROR(VLOOKUP(MID(H$27,5,4)&$A66,Lista_Ubigeo!$J:$K,2,0),\" \")","v":" "},{"$f":"IFERROR(VLOOKUP(MID(I$27,5,4)&$A66,Lista_Ubigeo!$J:$K,2,0),\" \")","v":" "},{"$f":"IFERROR(VLOOKUP(MID(J$27,5,4)&$A66,Lista_Ubigeo!$J:$K,2,0),\" \")","v":" "},{"$f":"IFERROR(VLOOKUP(MID(K$27,5,4)&$A66,Lista_Ubigeo!$J:$K,2,0),\" \")","v":" "},{"$f":"IFERROR(VLOOKUP(MID(L$27,5,4)&$A66,Lista_Ubigeo!$J:$K,2,0),\" \")","v":" "},{"$f":"IFERROR(VLOOKUP(MID(M$27,5,4)&$A66,Lista_Ubigeo!$J:$K,2,0),\" \")","v":" "},{"$f":"IFERROR(VLOOKUP(MID(N$27,5,4)&$A66,Lista_Ubigeo!$J:$K,2,0),\" \")","v":" "},{"$f":"IFERROR(VLOOKUP(MID(O$27,5,4)&$A66,Lista_Ubigeo!$J:$K,2,0),\" \")","v":" "},{"$f":"IFERROR(VLOOKUP(MID(P$27,5,4)&$A66,Lista_Ubigeo!$J:$K,2,0),\" \")","v":" "},{"$f":"IFERROR(VLOOKUP(MID(Q$27,5,4)&$A66,Lista_Ubigeo!$J:$K,2,0),\" \")","v":" "},{"$f":"IFERROR(VLOOKUP(MID(R$27,5,4)&$A66,Lista_Ubigeo!$J:$K,2,0),\" \")","v":" "},{"$f":"IFERROR(VLOOKUP(MID(S$27,5,4)&$A66,Lista_Ubigeo!$J:$K,2,0),\" \")","v":" "},{"$f":"IFERROR(VLOOKUP(MID(T$27,5,4)&$A66,Lista_Ubigeo!$J:$K,2,0),\" \")","v":" "},{"$f":"IFERROR(VLOOKUP(MID(U$27,5,4)&$A66,Lista_Ubigeo!$J:$K,2,0),\" \")","v":" "},{"$f":"IFERROR(VLOOKUP(MID(V$27,5,4)&$A66,Lista_Ubigeo!$J:$K,2,0),\" \")","v":" "},{"$f":"IFERROR(VLOOKUP(MID(W$27,5,4)&$A66,Lista_Ubigeo!$J:$K,2,0),\" \")","v":" "},{"$f":"IFERROR(VLOOKUP(MID(X$27,5,4)&$A66,Lista_Ubigeo!$J:$K,2,0),\" \")","v":" "},{"$f":"IFERROR(VLOOKUP(MID(Y$27,5,4)&$A66,Lista_Ubigeo!$J:$K,2,0),\" \")","v":" "},{"$f":"IFERROR(VLOOKUP(MID(Z$27,5,4)&$A66,Lista_Ubigeo!$J:$K,2,0),\" \")","v":" "},{"$f":"IFERROR(VLOOKUP(MID(AA$27,5,4)&$A66,Lista_Ubigeo!$J:$K,2,0),\" \")","v":" "},{"$f":"IFERROR(VLOOKUP(MID(AB$27,5,4)&$A66,Lista_Ubigeo!$J:$K,2,0),\" \")","v":" "},{"$f":"IFERROR(VLOOKUP(MID(AC$27,5,4)&$A66,Lista_Ubigeo!$J:$K,2,0),\" \")","v":" "},{"$f":"IFERROR(VLOOKUP(MID(AD$27,5,4)&$A66,Lista_Ubigeo!$J:$K,2,0),\" \")","v":" "},{"$f":"IFERROR(VLOOKUP(MID(AE$27,5,4)&$A66,Lista_Ubigeo!$J:$K,2,0),\" \")","v":" "},{"$f":"IFERROR(VLOOKUP(MID(AF$27,5,4)&$A66,Lista_Ubigeo!$J:$K,2,0),\" \")","v":" "},{"$f":"IFERROR(VLOOKUP(MID(AG$27,5,4)&$A66,Lista_Ubigeo!$J:$K,2,0),\" \")","v":" "},{"$f":"IFERROR(VLOOKUP(MID(AH$27,5,4)&$A66,Lista_Ubigeo!$J:$K,2,0),\" \")","v":" "},{"$f":"IFERROR(VLOOKUP(MID(AI$27,5,4)&$A66,Lista_Ubigeo!$J:$K,2,0),\" \")","v":" "},{"$f":"IFERROR(VLOOKUP(MID(AJ$27,5,4)&$A66,Lista_Ubigeo!$J:$K,2,0),\" \")","v":" "},{"$f":"IFERROR(VLOOKUP(MID(AK$27,5,4)&$A66,Lista_Ubigeo!$J:$K,2,0),\" \")","v":" "},{"$f":"IFERROR(VLOOKUP(MID(AL$27,5,4)&$A66,Lista_Ubigeo!$J:$K,2,0),\" \")","v":" "},{"$f":"IFERROR(VLOOKUP(MID(AM$27,5,4)&$A66,Lista_Ubigeo!$J:$K,2,0),\" \")","v":" "},{"$f":"IFERROR(VLOOKUP(MID(AN$27,5,4)&$A66,Lista_Ubigeo!$J:$K,2,0),\" \")","v":" "},{"$f":"IFERROR(VLOOKUP(MID(AO$27,5,4)&$A66,Lista_Ubigeo!$J:$K,2,0),\" \")","v":" "},{"$f":"IFERROR(VLOOKUP(MID(AP$27,5,4)&$A66,Lista_Ubigeo!$J:$K,2,0),\" \")","v":" "},{"$f":"IFERROR(VLOOKUP(MID(AQ$27,4,4)&$A66,Lista_Ubigeo!$J:$K,2,0),\" \")","v":" "},{"$f":"IFERROR(VLOOKUP(MID(AR$27,5,4)&$A66,Lista_Ubigeo!$J:$K,2,0),\" \")","v":" "},{"$f":"IFERROR(VLOOKUP(MID(AS$27,5,4)&$A66,Lista_Ubigeo!$J:$K,2,0),\" \")","v":" "},{"$f":"IFERROR(VLOOKUP(MID(AT$27,5,4)&$A66,Lista_Ubigeo!$J:$K,2,0),\" \")","v":" "},{"$f":"IFERROR(VLOOKUP(MID(AU$27,5,4)&$A66,Lista_Ubigeo!$J:$K,2,0),\" \")","v":" "},{"$f":"IFERROR(VLOOKUP(MID(AV$27,5,4)&$A66,Lista_Ubigeo!$J:$K,2,0),\" \")","v":" "},{"$f":"IFERROR(VLOOKUP(MID(AW$27,5,4)&$A66,Lista_Ubigeo!$J:$K,2,0),\" \")","v":" "},{"$f":"IFERROR(VLOOKUP(MID(AX$27,5,4)&$A66,Lista_Ubigeo!$J:$K,2,0),\" \")","v":" "},{"$f":"IFERROR(VLOOKUP(MID(AY$27,5,4)&$A66,Lista_Ubigeo!$J:$K,2,0),\" \")","v":" "},{"$f":"IFERROR(VLOOKUP(MID(AZ$27,5,4)&$A66,Lista_Ubigeo!$J:$K,2,0),\" \")","v":" "},{"$f":"IFERROR(VLOOKUP(MID(BA$27,5,4)&$A66,Lista_Ubigeo!$J:$K,2,0),\" \")","v":" "},{"$f":"IFERROR(VLOOKUP(MID(BB$27,5,4)&$A66,Lista_Ubigeo!$J:$K,2,0),\" \")","v":" "},{"$f":"IFERROR(VLOOKUP(MID(BC$27,5,4)&$A66,Lista_Ubigeo!$J:$K,2,0),\" \")","v":" "},{"$f":"IFERROR(VLOOKUP(MID(BD$27,5,4)&$A66,Lista_Ubigeo!$J:$K,2,0),\" \")","v":" "},{"$f":"IFERROR(VLOOKUP(MID(BE$27,5,4)&$A66,Lista_Ubigeo!$J:$K,2,0),\" \")","v":" "},{"$f":"IFERROR(VLOOKUP(MID(BF$27,5,4)&$A66,Lista_Ubigeo!$J:$K,2,0),\" \")","v":" "},{"$f":"IFERROR(VLOOKUP(MID(BG$27,5,4)&$A66,Lista_Ubigeo!$J:$K,2,0),\" \")","v":" "},{"$f":"IFERROR(VLOOKUP(MID(BH$27,5,4)&$A66,Lista_Ubigeo!$J:$K,2,0),\" \")","v":" "},{"$f":"IFERROR(VLOOKUP(MID(BI$27,5,4)&$A66,Lista_Ubigeo!$J:$K,2,0),\" \")","v":" "},{"$f":"IFERROR(VLOOKUP(MID(BJ$27,5,4)&$A66,Lista_Ubigeo!$J:$K,2,0),\" \")","v":" "},{"$f":"IFERROR(VLOOKUP(MID(BK$27,5,4)&$A66,Lista_Ubigeo!$J:$K,2,0),\" \")","v":" "},{"$f":"IFERROR(VLOOKUP(MID(BL$27,5,4)&$A66,Lista_Ubigeo!$J:$K,2,0),\" \")","v":" "},{"$f":"IFERROR(VLOOKUP(MID(BM$27,5,4)&$A66,Lista_Ubigeo!$J:$K,2,0),\" \")","v":" "},{"$f":"IFERROR(VLOOKUP(MID(BN$27,5,4)&$A66,Lista_Ubigeo!$J:$K,2,0),\" \")","v":" "},{"$f":"IFERROR(VLOOKUP(MID(BO$27,5,4)&$A66,Lista_Ubigeo!$J:$K,2,0),\" \")","v":" "},{"$f":"IFERROR(VLOOKUP(MID(BP$27,5,4)&$A66,Lista_Ubigeo!$J:$K,2,0),\" \")","v":" "},{"$f":"IFERROR(VLOOKUP(MID(BQ$27,5,4)&$A66,Lista_Ubigeo!$J:$K,2,0),\" \")","v":" "},{"$f":"IFERROR(VLOOKUP(MID(BR$27,5,4)&$A66,Lista_Ubigeo!$J:$K,2,0),\" \")","v":" "},{"$f":"IFERROR(VLOOKUP(MID(BS$27,5,4)&$A66,Lista_Ubigeo!$J:$K,2,0),\" \")","v":" "},{"$f":"IFERROR(VLOOKUP(MID(BT$27,5,4)&$A66,Lista_Ubigeo!$J:$K,2,0),\" \")","v":" "},{"$f":"IFERROR(VLOOKUP(MID(BU$27,5,4)&$A66,Lista_Ubigeo!$J:$K,2,0),\" \")","v":" "},{"$f":"IFERROR(VLOOKUP(MID(BV$27,5,4)&$A66,Lista_Ubigeo!$J:$K,2,0),\" \")","v":" "},{"$f":"IFERROR(VLOOKUP(MID(BW$27,5,4)&$A66,Lista_Ubigeo!$J:$K,2,0),\" \")","v":" "},{"$f":"IFERROR(VLOOKUP(MID(BX$27,5,4)&$A66,Lista_Ubigeo!$J:$K,2,0),\" \")","v":" "},{"$f":"IFERROR(VLOOKUP(MID(BY$27,4,4)&$A66,Lista_Ubigeo!$J:$K,2,0),\" \")","v":" "},{"$f":"IFERROR(VLOOKUP(MID(BZ$27,5,4)&$A66,Lista_Ubigeo!$J:$K,2,0),\" \")","v":" "},{"$f":"IFERROR(VLOOKUP(MID(CA$27,5,4)&$A66,Lista_Ubigeo!$J:$K,2,0),\" \")","v":" "},{"$f":"IFERROR(VLOOKUP(MID(CB$27,5,4)&$A66,Lista_Ubigeo!$J:$K,2,0),\" \")","v":" "},{"$f":"IFERROR(VLOOKUP(MID(CC$27,5,4)&$A66,Lista_Ubigeo!$J:$K,2,0),\" \")","v":" "},{"$f":"IFERROR(VLOOKUP(MID(CD$27,5,4)&$A66,Lista_Ubigeo!$J:$K,2,0),\" \")","v":" "},{"$f":"IFERROR(VLOOKUP(MID(CE$27,5,4)&$A66,Lista_Ubigeo!$J:$K,2,0),\" \")","v":" "},{"$f":"IFERROR(VLOOKUP(MID(CF$27,5,4)&$A66,Lista_Ubigeo!$J:$K,2,0),\" \")","v":" "},{"$f":"IFERROR(VLOOKUP(MID(CG$27,5,4)&$A66,Lista_Ubigeo!$J:$K,2,0),\" \")","v":" "},{"$f":"IFERROR(VLOOKUP(MID(CH$27,5,4)&$A66,Lista_Ubigeo!$J:$K,2,0),\" \")","v":" "},{"$f":"IFERROR(VLOOKUP(MID(CI$27,5,4)&$A66,Lista_Ubigeo!$J:$K,2,0),\" \")","v":" "},{"$f":"IFERROR(VLOOKUP(MID(CJ$27,5,4)&$A66,Lista_Ubigeo!$J:$K,2,0),\" \")","v":" "},{"$f":"IFERROR(VLOOKUP(MID(CK$27,5,4)&$A66,Lista_Ubigeo!$J:$K,2,0),\" \")","v":" "},{"$f":"IFERROR(VLOOKUP(MID(CL$27,5,4)&$A66,Lista_Ubigeo!$J:$K,2,0),\" \")","v":" "},{"$f":"IFERROR(VLOOKUP(MID(CM$27,5,4)&$A77,Lista_Ubigeo!$J:$K,2,0),\" \")","v":" "},{"$f":"IFERROR(VLOOKUP(MID(CN$27,5,4)&$A66,Lista_Ubigeo!$J:$K,2,0),\" \")","v":" "},{"$f":"IFERROR(VLOOKUP(MID(CO$27,5,4)&$A66,Lista_Ubigeo!$J:$K,2,0),\" \")","v":" "},{"$f":"IFERROR(VLOOKUP(MID(CP$27,5,4)&$A66,Lista_Ubigeo!$J:$K,2,0),\" \")","v":" "},{"$f":"IFERROR(VLOOKUP(MID(CQ$27,5,4)&$A66,Lista_Ubigeo!$J:$K,2,0),\" \")","v":" "},{"$f":"IFERROR(VLOOKUP(MID(CR$27,5,4)&$A66,Lista_Ubigeo!$J:$K,2,0),\" \")","v":" "},{"$f":"IFERROR(VLOOKUP(MID(CS$27,5,4)&$A66,Lista_Ubigeo!$J:$K,2,0),\" \")","v":" "},{"$f":"IFERROR(VLOOKUP(MID(CT$27,5,4)&$A66,Lista_Ubigeo!$J:$K,2,0),\" \")","v":" "},{"$f":"IFERROR(VLOOKUP(MID(CU$27,5,4)&$A66,Lista_Ubigeo!$J:$K,2,0),\" \")","v":" "},{"$f":"IFERROR(VLOOKUP(MID(CV$27,5,4)&$A66,Lista_Ubigeo!$J:$K,2,0),\" \")","v":" "},{"$f":"IFERROR(VLOOKUP(MID(CW$27,5,4)&$A66,Lista_Ubigeo!$J:$K,2,0),\" \")","v":" "},{"$f":"IFERROR(VLOOKUP(MID(CX$27,5,4)&$A66,Lista_Ubigeo!$J:$K,2,0),\" \")","v":" "},{"$f":"IFERROR(VLOOKUP(MID(CY$27,5,4)&$A66,Lista_Ubigeo!$J:$K,2,0),\" \")","v":" "},{"$f":"IFERROR(VLOOKUP(MID(CZ$27,5,4)&$A66,Lista_Ubigeo!$J:$K,2,0),\" \")","v":" "},{"$f":"IFERROR(VLOOKUP(MID(DA$27,5,4)&$A66,Lista_Ubigeo!$J:$K,2,0),\" \")","v":" "},{"$f":"IFERROR(VLOOKUP(MID(DB$27,5,4)&$A66,Lista_Ubigeo!$J:$K,2,0),\" \")","v":" "},{"$f":"IFERROR(VLOOKUP(MID(DC$27,5,4)&$A66,Lista_Ubigeo!$J:$K,2,0),\" \")","v":" "},{"$f":"IFERROR(VLOOKUP(MID(DD$27,5,4)&$A66,Lista_Ubigeo!$J:$K,2,0),\" \")","v":" "},{"$f":"IFERROR(VLOOKUP(MID(DE$27,5,4)&$A66,Lista_Ubigeo!$J:$K,2,0),\" \")","v":" "},{"$f":"IFERROR(VLOOKUP(MID(DF$27,5,4)&$A66,Lista_Ubigeo!$J:$K,2,0),\" \")","v":" "},{"$f":"IFERROR(VLOOKUP(MID(DG$27,5,4)&$A66,Lista_Ubigeo!$J:$K,2,0),\" \")","v":" "},{"$f":"IFERROR(VLOOKUP(MID(DH$27,5,4)&$A66,Lista_Ubigeo!$J:$K,2,0),\" \")","v":" "},{"$f":"IFERROR(VLOOKUP(MID(DI$27,5,4)&$A66,Lista_Ubigeo!$J:$K,2,0),\" \")","v":" "},{"$f":"IFERROR(VLOOKUP(MID(DJ$27,5,4)&$A66,Lista_Ubigeo!$J:$K,2,0),\" \")","v":" "},{"$f":"IFERROR(VLOOKUP(MID(DK$27,5,4)&$A66,Lista_Ubigeo!$J:$K,2,0),\" \")","v":" "},{"$f":"IFERROR(VLOOKUP(MID(DL$27,5,4)&$A66,Lista_Ubigeo!$J:$K,2,0),\" \")","v":" "},{"$f":"IFERROR(VLOOKUP(MID(DM$27,5,4)&$A66,Lista_Ubigeo!$J:$K,2,0),\" \")","v":" "},{"$f":"IFERROR(VLOOKUP(MID(DN$27,5,4)&$A66,Lista_Ubigeo!$J:$K,2,0),\" \")","v":" "},{"$f":"IFERROR(VLOOKUP(MID(DO$27,5,4)&$A67,Lista_Ubigeo!$J:$K,2,0),\" \")","v":" "},{"$f":"IFERROR(VLOOKUP(MID(DP$27,5,4)&$A66,Lista_Ubigeo!$J:$K,2,0),\" \")","v":" "},{"$f":"IFERROR(VLOOKUP(MID(DQ$27,5,4)&$A66,Lista_Ubigeo!$J:$K,2,0),\" \")","v":" "},{"$f":"IFERROR(VLOOKUP(MID(DR$27,5,4)&$A66,Lista_Ubigeo!$J:$K,2,0),\" \")","v":" "},{"$f":"IFERROR(VLOOKUP(MID(DS$27,5,4)&$A66,Lista_Ubigeo!$J:$K,2,0),\" \")","v":" "},null,null,{"$f":"IFERROR(VLOOKUP(MID(DV$27,5,4)&$A66,Lista_Ubigeo!$J:$K,2,0),\" \")","v":" "},{"$f":"IFERROR(VLOOKUP(MID(DW$27,5,4)&$A66,Lista_Ubigeo!$J:$K,2,0),\" \")","v":" "},{"$f":"IFERROR(VLOOKUP(MID(DX$27,5,4)&$A66,Lista_Ubigeo!$J:$K,2,0),\" \")","v":" "},{"$f":"IFERROR(VLOOKUP(MID(DY$27,5,4)&$A66,Lista_Ubigeo!$J:$K,2,0),\" \")","v":"SANTA ROSA"},{"$f":"IFERROR(VLOOKUP(MID(DZ$27,5,4)&$A66,Lista_Ubigeo!$J:$K,2,0),\" \")","v":" "},{"$f":"IFERROR(VLOOKUP(MID(EA$27,5,4)&$A66,Lista_Ubigeo!$J:$K,2,0),\" \")","v":" "},{"$f":"IFERROR(VLOOKUP(MID(EB$27,5,4)&$A66,Lista_Ubigeo!$J:$K,2,0),\" \")","v":" "},{"$f":"IFERROR(VLOOKUP(MID(EC$27,5,4)&$A66,Lista_Ubigeo!$J:$K,2,0),\" \")","v":" "},{"$f":"IFERROR(VLOOKUP(MID(ED$27,5,4)&$A66,Lista_Ubigeo!$J:$K,2,0),\" \")","v":" "},{"$f":"IFERROR(VLOOKUP(MID(EE$27,5,4)&$A66,Lista_Ubigeo!$J:$K,2,0),\" \")","v":" "},{"$f":"IFERROR(VLOOKUP(MID(EF$27,5,4)&$A66,Lista_Ubigeo!$J:$K,2,0),\" \")","v":" "},{"$f":"IFERROR(VLOOKUP(MID(EG$27,5,4)&$A66,Lista_Ubigeo!$J:$K,2,0),\" \")","v":" "},{"$f":"IFERROR(VLOOKUP(MID(EH$27,5,4)&$A66,Lista_Ubigeo!$J:$K,2,0),\" \")","v":" "},{"$f":"IFERROR(VLOOKUP(MID(EI$27,5,4)&$A66,Lista_Ubigeo!$J:$K,2,0),\" \")","v":" "},{"$f":"IFERROR(VLOOKUP(MID(EJ$27,5,4)&$A71,Lista_Ubigeo!$J:$K,2,0),\" \")","v":" "},{"$f":"IFERROR(VLOOKUP(MID(EK$27,5,4)&$A66,Lista_Ubigeo!$J:$K,2,0),\" \")","v":" "},{"$f":"IFERROR(VLOOKUP(MID(EL$27,5,4)&$A66,Lista_Ubigeo!$J:$K,2,0),\" \")","v":" "},{"$f":"IFERROR(VLOOKUP(MID(EM$27,5,4)&$A66,Lista_Ubigeo!$J:$K,2,0),\" \")","v":" "},{"$f":"IFERROR(VLOOKUP(MID(EN$27,5,4)&$A66,Lista_Ubigeo!$J:$K,2,0),\" \")","v":" "},{"$f":"IFERROR(VLOOKUP(MID(EO$27,5,4)&$A66,Lista_Ubigeo!$J:$K,2,0),\" \")","v":" "},{"$f":"IFERROR(VLOOKUP(MID(EP$27,5,4)&$A66,Lista_Ubigeo!$J:$K,2,0),\" \")","v":" "},{"$f":"IFERROR(VLOOKUP(MID(EQ$27,5,4)&$A66,Lista_Ubigeo!$J:$K,2,0),\" \")","v":" "},{"$f":"IFERROR(VLOOKUP(MID(ER$27,5,4)&$A66,Lista_Ubigeo!$J:$K,2,0),\" \")","v":" "},{"$f":"IFERROR(VLOOKUP(MID(ES$27,5,4)&$A66,Lista_Ubigeo!$J:$K,2,0),\" \")","v":" "},{"$f":"IFERROR(VLOOKUP(MID(ET$27,5,4)&$A66,Lista_Ubigeo!$J:$K,2,0),\" \")","v":" "},{"$f":"IFERROR(VLOOKUP(MID(EU$27,5,4)&$A66,Lista_Ubigeo!$J:$K,2,0),\" \")","v":" "},{"$f":"IFERROR(VLOOKUP(MID(EV$27,5,4)&$A66,Lista_Ubigeo!$J:$K,2,0),\" \")","v":" "},{"$f":"IFERROR(VLOOKUP(MID(EW$27,5,4)&$A66,Lista_Ubigeo!$J:$K,2,0),\" \")","v":" "},{"$f":"IFERROR(VLOOKUP(MID(EX$27,5,4)&$A66,Lista_Ubigeo!$J:$K,2,0),\" \")","v":" "},{"$f":"IFERROR(VLOOKUP(MID(EY$27,5,4)&$A66,Lista_Ubigeo!$J:$K,2,0),\" \")","v":" "},{"$f":"IFERROR(VLOOKUP(MID(EZ$27,5,4)&$A69,Lista_Ubigeo!$J:$K,2,0),\" \")","v":" "},{"$f":"IFERROR(VLOOKUP(MID(FA$27,5,4)&$A66,Lista_Ubigeo!$J:$K,2,0),\" \")","v":" "},{"$f":"IFERROR(VLOOKUP(MID(FB$27,5,4)&$A66,Lista_Ubigeo!$J:$K,2,0),\" \")","v":" "},{"$f":"IFERROR(VLOOKUP(MID(FC$27,5,4)&$A66,Lista_Ubigeo!$J:$K,2,0),\" \")","v":" "},{"$f":"IFERROR(VLOOKUP(MID(FD$27,5,4)&$A66,Lista_Ubigeo!$J:$K,2,0),\" \")","v":" "},{"$f":"IFERROR(VLOOKUP(MID(FE$27,5,4)&$A66,Lista_Ubigeo!$J:$K,2,0),\" \")","v":" "},{"$f":"IFERROR(VLOOKUP(MID(FF$27,5,4)&$A66,Lista_Ubigeo!$J:$K,2,0),\" \")","v":" "},{"$f":"IFERROR(VLOOKUP(MID(FG$27,5,4)&$A66,Lista_Ubigeo!$J:$K,2,0),\" \")","v":" "},{"$f":"IFERROR(VLOOKUP(MID(FH$27,5,4)&$A66,Lista_Ubigeo!$J:$K,2,0),\" \")","v":" "},{"$f":"IFERROR(VLOOKUP(MID(FI$27,5,4)&$A66,Lista_Ubigeo!$J:$K,2,0),\" \")","v":" "},{"$f":"IFERROR(VLOOKUP(MID(FJ$27,5,4)&$A66,Lista_Ubigeo!$J:$K,2,0),\" \")","v":" "},{"$f":"IFERROR(VLOOKUP(MID(FK$27,5,4)&$A66,Lista_Ubigeo!$J:$K,2,0),\" \")","v":" "},{"$f":"IFERROR(VLOOKUP(MID(FL$27,5,4)&$A66,Lista_Ubigeo!$J:$K,2,0),\" \")","v":" "},{"$f":"IFERROR(VLOOKUP(MID(FM$27,5,4)&$A66,Lista_Ubigeo!$J:$K,2,0),\" \")","v":" "},{"$f":"IFERROR(VLOOKUP(MID(FN$27,5,4)&$A66,Lista_Ubigeo!$J:$K,2,0),\" \")","v":" "},{"$f":"IFERROR(VLOOKUP(MID(FO$27,5,4)&$A66,Lista_Ubigeo!$J:$K,2,0),\" \")","v":" "},{"$f":"IFERROR(VLOOKUP(MID(FP$27,5,4)&$A66,Lista_Ubigeo!$J:$K,2,0),\" \")","v":" "},{"$f":"IFERROR(VLOOKUP(MID(FQ$27,5,4)&$A66,Lista_Ubigeo!$J:$K,2,0),\" \")","v":" "},{"$f":"IFERROR(VLOOKUP(MID(FR$27,5,4)&$A66,Lista_Ubigeo!$J:$K,2,0),\" \")","v":" "},{"$f":"IFERROR(VLOOKUP(MID(FS$27,5,4)&$A66,Lista_Ubigeo!$J:$K,2,0),\" \")","v":" "},{"$f":"IFERROR(VLOOKUP(MID(FT$27,5,4)&$A66,Lista_Ubigeo!$J:$K,2,0),\" \")","v":" "},{"$f":"IFERROR(VLOOKUP(MID(FU$27,5,4)&$A66,Lista_Ubigeo!$J:$K,2,0),\" \")","v":" "},{"$f":"IFERROR(VLOOKUP(MID(FV$27,5,4)&$A66,Lista_Ubigeo!$J:$K,2,0),\" \")","v":" "},{"$f":"IFERROR(VLOOKUP(MID(FW$27,5,4)&$A66,Lista_Ubigeo!$J:$K,2,0),\" \")","v":" "},{"$f":"IFERROR(VLOOKUP(MID(FX$27,5,4)&$A66,Lista_Ubigeo!$J:$K,2,0),\" \")","v":" "},{"$f":"IFERROR(VLOOKUP(MID(FY$27,5,4)&$A66,Lista_Ubigeo!$J:$K,2,0),\" \")","v":" "},{"$f":"IFERROR(VLOOKUP(MID(FZ$27,5,4)&$A66,Lista_Ubigeo!$J:$K,2,0),\" \")","v":" "},{"$f":"IFERROR(VLOOKUP(MID(GA$27,5,4)&$A66,Lista_Ubigeo!$J:$K,2,0),\" \")","v":" "},{"$f":"IFERROR(VLOOKUP(MID(GB$27,5,4)&$A66,Lista_Ubigeo!$J:$K,2,0),\" \")","v":" "},{"$f":"IFERROR(VLOOKUP(MID(GC$27,5,4)&$A66,Lista_Ubigeo!$J:$K,2,0),\" \")","v":" "},{"$f":"IFERROR(VLOOKUP(MID(GD$27,5,4)&$A66,Lista_Ubigeo!$J:$K,2,0),\" \")","v":" "},{"$f":"IFERROR(VLOOKUP(MID(GE$27,5,4)&$A66,Lista_Ubigeo!$J:$K,2,0),\" \")","v":" "},{"$f":"IFERROR(VLOOKUP(MID(GF$27,5,4)&$A66,Lista_Ubigeo!$J:$K,2,0),\" \")","v":" "},{"$f":"IFERROR(VLOOKUP(MID(GG$27,5,4)&$A66,Lista_Ubigeo!$J:$K,2,0),\" \")","v":" "},{"$f":"IFERROR(VLOOKUP(MID(GH$27,5,4)&$A66,Lista_Ubigeo!$J:$K,2,0),\" \")","v":" "},{"$f":"IFERROR(VLOOKUP(MID(GI$27,5,4)&$A66,Lista_Ubigeo!$J:$K,2,0),\" \")","v":" "},{"$f":"IFERROR(VLOOKUP(MID(GJ$27,5,4)&$A66,Lista_Ubigeo!$J:$K,2,0),\" \")","v":" "},{"$f":"IFERROR(VLOOKUP(MID(GK$27,5,4)&$A66,Lista_Ubigeo!$J:$K,2,0),\" \")","v":" "},{"$f":"IFERROR(VLOOKUP(MID(GL$27,5,4)&$A66,Lista_Ubigeo!$J:$K,2,0),\" \")","v":" "},{"$f":"IFERROR(VLOOKUP(MID(GM$27,5,4)&$A66,Lista_Ubigeo!$J:$K,2,0),\" \")","v":" "},{"$f":"IFERROR(VLOOKUP(MID(GN$27,5,4)&$A66,Lista_Ubigeo!$J:$K,2,0),\" \")","v":" "},{"$f":"IFERROR(VLOOKUP(MID(GO$27,5,4)&$A66,Lista_Ubigeo!$J:$K,2,0),\" \")","v":" "},{"$f":"IFERROR(VLOOKUP(MID(GP$27,5,4)&$A66,Lista_Ubigeo!$J:$K,2,0),\" \")","v":" "}]
["40",{"$f":"IFERROR(VLOOKUP(MID(B$27,5,4)&$A67,Lista_Ubigeo!$J:$K,2,0),\" \")","v":" "},{"$f":"IFERROR(VLOOKUP(MID(C$27,5,4)&$A67,Lista_Ubigeo!$J:$K,2,0),\" \")","v":" "},{"$f":"IFERROR(VLOOKUP(MID(D$27,5,4)&$A67,Lista_Ubigeo!$J:$K,2,0),\" \")","v":" "},{"$f":"IFERROR(VLOOKUP(MID(E$27,5,4)&$A67,Lista_Ubigeo!$J:$K,2,0),\" \")","v":" "},{"$f":"IFERROR(VLOOKUP(MID(F$27,5,4)&$A67,Lista_Ubigeo!$J:$K,2,0),\" \")","v":" "},{"$f":"IFERROR(VLOOKUP(MID(G$27,5,4)&$A67,Lista_Ubigeo!$J:$K,2,0),\" \")","v":" "},{"$f":"IFERROR(VLOOKUP(MID(H$27,5,4)&$A67,Lista_Ubigeo!$J:$K,2,0),\" \")","v":" "},{"$f":"IFERROR(VLOOKUP(MID(I$27,5,4)&$A67,Lista_Ubigeo!$J:$K,2,0),\" \")","v":" "},{"$f":"IFERROR(VLOOKUP(MID(J$27,5,4)&$A67,Lista_Ubigeo!$J:$K,2,0),\" \")","v":" "},{"$f":"IFERROR(VLOOKUP(MID(K$27,5,4)&$A67,Lista_Ubigeo!$J:$K,2,0),\" \")","v":" "},{"$f":"IFERROR(VLOOKUP(MID(L$27,5,4)&$A67,Lista_Ubigeo!$J:$K,2,0),\" \")","v":" "},{"$f":"IFERROR(VLOOKUP(MID(M$27,5,4)&$A67,Lista_Ubigeo!$J:$K,2,0),\" \")","v":" "},{"$f":"IFERROR(VLOOKUP(MID(N$27,5,4)&$A67,Lista_Ubigeo!$J:$K,2,0),\" \")","v":" "},{"$f":"IFERROR(VLOOKUP(MID(O$27,5,4)&$A67,Lista_Ubigeo!$J:$K,2,0),\" \")","v":" "},{"$f":"IFERROR(VLOOKUP(MID(P$27,5,4)&$A67,Lista_Ubigeo!$J:$K,2,0),\" \")","v":" "},{"$f":"IFERROR(VLOOKUP(MID(Q$27,5,4)&$A67,Lista_Ubigeo!$J:$K,2,0),\" \")","v":" "},{"$f":"IFERROR(VLOOKUP(MID(R$27,5,4)&$A67,Lista_Ubigeo!$J:$K,2,0),\" \")","v":" "},{"$f":"IFERROR(VLOOKUP(MID(S$27,5,4)&$A67,Lista_Ubigeo!$J:$K,2,0),\" \")","v":" "},{"$f":"IFERROR(VLOOKUP(MID(T$27,5,4)&$A67,Lista_Ubigeo!$J:$K,2,0),\" \")","v":" "},{"$f":"IFERROR(VLOOKUP(MID(U$27,5,4)&$A67,Lista_Ubigeo!$J:$K,2,0),\" \")","v":" "},{"$f":"IFERROR(VLOOKUP(MID(V$27,5,4)&$A67,Lista_Ubigeo!$J:$K,2,0),\" \")","v":" "},{"$f":"IFERROR(VLOOKUP(MID(W$27,5,4)&$A67,Lista_Ubigeo!$J:$K,2,0),\" \")","v":" "},{"$f":"IFERROR(VLOOKUP(MID(X$27,5,4)&$A67,Lista_Ubigeo!$J:$K,2,0),\" \")","v":" "},{"$f":"IFERROR(VLOOKUP(MID(Y$27,5,4)&$A67,Lista_Ubigeo!$J:$K,2,0),\" \")","v":" "},{"$f":"IFERROR(VLOOKUP(MID(Z$27,5,4)&$A67,Lista_Ubigeo!$J:$K,2,0),\" \")","v":" "},{"$f":"IFERROR(VLOOKUP(MID(AA$27,5,4)&$A67,Lista_Ubigeo!$J:$K,2,0),\" \")","v":" "},{"$f":"IFERROR(VLOOKUP(MID(AB$27,5,4)&$A67,Lista_Ubigeo!$J:$K,2,0),\" \")","v":" "},{"$f":"IFERROR(VLOOKUP(MID(AC$27,5,4)&$A67,Lista_Ubigeo!$J:$K,2,0),\" \")","v":" "},{"$f":"IFERROR(VLOOKUP(MID(AD$27,5,4)&$A67,Lista_Ubigeo!$J:$K,2,0),\" \")","v":" "},{"$f":"IFERROR(VLOOKUP(MID(AE$27,5,4)&$A67,Lista_Ubigeo!$J:$K,2,0),\" \")","v":" "},{"$f":"IFERROR(VLOOKUP(MID(AF$27,5,4)&$A67,Lista_Ubigeo!$J:$K,2,0),\" \")","v":" "},{"$f":"IFERROR(VLOOKUP(MID(AG$27,5,4)&$A67,Lista_Ubigeo!$J:$K,2,0),\" \")","v":" "},{"$f":"IFERROR(VLOOKUP(MID(AH$27,5,4)&$A67,Lista_Ubigeo!$J:$K,2,0),\" \")","v":" "},{"$f":"IFERROR(VLOOKUP(MID(AI$27,5,4)&$A67,Lista_Ubigeo!$J:$K,2,0),\" \")","v":" "},{"$f":"IFERROR(VLOOKUP(MID(AJ$27,5,4)&$A67,Lista_Ubigeo!$J:$K,2,0),\" \")","v":" "},{"$f":"IFERROR(VLOOKUP(MID(AK$27,5,4)&$A67,Lista_Ubigeo!$J:$K,2,0),\" \")","v":" "},{"$f":"IFERROR(VLOOKUP(MID(AL$27,5,4)&$A67,Lista_Ubigeo!$J:$K,2,0),\" \")","v":" "},{"$f":"IFERROR(VLOOKUP(MID(AM$27,5,4)&$A67,Lista_Ubigeo!$J:$K,2,0),\" \")","v":" "},{"$f":"IFERROR(VLOOKUP(MID(AN$27,5,4)&$A67,Lista_Ubigeo!$J:$K,2,0),\" \")","v":" "},{"$f":"IFERROR(VLOOKUP(MID(AO$27,5,4)&$A67,Lista_Ubigeo!$J:$K,2,0),\" \")","v":" "},{"$f":"IFERROR(VLOOKUP(MID(AP$27,5,4)&$A67,Lista_Ubigeo!$J:$K,2,0),\" \")","v":" "},{"$f":"IFERROR(VLOOKUP(MID(AQ$27,4,4)&$A67,Lista_Ubigeo!$J:$K,2,0),\" \")","v":" "},{"$f":"IFERROR(VLOOKUP(MID(AR$27,5,4)&$A67,Lista_Ubigeo!$J:$K,2,0),\" \")","v":" "},{"$f":"IFERROR(VLOOKUP(MID(AS$27,5,4)&$A67,Lista_Ubigeo!$J:$K,2,0),\" \")","v":" "},{"$f":"IFERROR(VLOOKUP(MID(AT$27,5,4)&$A67,Lista_Ubigeo!$J:$K,2,0),\" \")","v":" "},{"$f":"IFERROR(VLOOKUP(MID(AU$27,5,4)&$A67,Lista_Ubigeo!$J:$K,2,0),\" \")","v":" "},{"$f":"IFERROR(VLOOKUP(MID(AV$27,5,4)&$A67,Lista_Ubigeo!$J:$K,2,0),\" \")","v":" "},{"$f":"IFERROR(VLOOKUP(MID(AW$27,5,4)&$A67,Lista_Ubigeo!$J:$K,2,0),\" \")","v":" "},{"$f":"IFERROR(VLOOKUP(MID(AX$27,5,4)&$A67,Lista_Ubigeo!$J:$K,2,0),\" \")","v":" "},{"$f":"IFERROR(VLOOKUP(MID(AY$27,5,4)&$A67,Lista_Ubigeo!$J:$K,2,0),\" \")","v":" "},{"$f":"IFERROR(VLOOKUP(MID(AZ$27,5,4)&$A67,Lista_Ubigeo!$J:$K,2,0),\" \")","v":" "},{"$f":"IFERROR(VLOOKUP(MID(BA$27,5,4)&$A67,Lista_Ubigeo!$J:$K,2,0),\" \")","v":" "},{"$f":"IFERROR(VLOOKUP(MID(BB$27,5,4)&$A67,Lista_Ubigeo!$J:$K,2,0),\" \")","v":" "},{"$f":"IFERROR(VLOOKUP(MID(BC$27,5,4)&$A67,Lista_Ubigeo!$J:$K,2,0),\" \")","v":" "},{"$f":"IFERROR(VLOOKUP(MID(BD$27,5,4)&$A67,Lista_Ubigeo!$J:$K,2,0),\" \")","v":" "},{"$f":"IFERROR(VLOOKUP(MID(BE$27,5,4)&$A67,Lista_Ubigeo!$J:$K,2,0),\" \")","v":" "},{"$f":"IFERROR(VLOOKUP(MID(BF$27,5,4)&$A67,Lista_Ubigeo!$J:$K,2,0),\" \")","v":" "},{"$f":"IFERROR(VLOOKUP(MID(BG$27,5,4)&$A67,Lista_Ubigeo!$J:$K,2,0),\" \")","v":" "},{"$f":"IFERROR(VLOOKUP(MID(BH$27,5,4)&$A67,Lista_Ubigeo!$J:$K,2,0),\" \")","v":" "},{"$f":"IFERROR(VLOOKUP(MID(BI$27,5,4)&$A67,Lista_Ubigeo!$J:$K,2,0),\" \")","v":" "},{"$f":"IFERROR(VLOOKUP(MID(BJ$27,5,4)&$A67,Lista_Ubigeo!$J:$K,2,0),\" \")","v":" "},{"$f":"IFERROR(VLOOKUP(MID(BK$27,5,4)&$A67,Lista_Ubigeo!$J:$K,2,0),\" \")","v":" "},{"$f":"IFERROR(VLOOKUP(MID(BL$27,5,4)&$A67,Lista_Ubigeo!$J:$K,2,0),\" \")","v":" "},{"$f":"IFERROR(VLOOKUP(MID(BM$27,5,4)&$A67,Lista_Ubigeo!$J:$K,2,0),\" \")","v":" "},{"$f":"IFERROR(VLOOKUP(MID(BN$27,5,4)&$A67,Lista_Ubigeo!$J:$K,2,0),\" \")","v":" "},{"$f":"IFERROR(VLOOKUP(MID(BO$27,5,4)&$A67,Lista_Ubigeo!$J:$K,2,0),\" \")","v":" "},{"$f":"IFERROR(VLOOKUP(MID(BP$27,5,4)&$A67,Lista_Ubigeo!$J:$K,2,0),\" \")","v":" "},{"$f":"IFERROR(VLOOKUP(MID(BQ$27,5,4)&$A67,Lista_Ubigeo!$J:$K,2,0),\" \")","v":" "},{"$f":"IFERROR(VLOOKUP(MID(BR$27,5,4)&$A67,Lista_Ubigeo!$J:$K,2,0),\" \")","v":" "},{"$f":"IFERROR(VLOOKUP(MID(BS$27,5,4)&$A67,Lista_Ubigeo!$J:$K,2,0),\" \")","v":" "},{"$f":"IFERROR(VLOOKUP(MID(BT$27,5,4)&$A67,Lista_Ubigeo!$J:$K,2,0),\" \")","v":" "},{"$f":"IFERROR(VLOOKUP(MID(BU$27,5,4)&$A67,Lista_Ubigeo!$J:$K,2,0),\" \")","v":" "},{"$f":"IFERROR(VLOOKUP(MID(BV$27,5,4)&$A67,Lista_Ubigeo!$J:$K,2,0),\" \")","v":" "},{"$f":"IFERROR(VLOOKUP(MID(BW$27,5,4)&$A67,Lista_Ubigeo!$J:$K,2,0),\" \")","v":" "},{"$f":"IFERROR(VLOOKUP(MID(BX$27,5,4)&$A67,Lista_Ubigeo!$J:$K,2,0),\" \")","v":" "},{"$f":"IFERROR(VLOOKUP(MID(BY$27,4,4)&$A67,Lista_Ubigeo!$J:$K,2,0),\" \")","v":" "},{"$f":"IFERROR(VLOOKUP(MID(BZ$27,5,4)&$A67,Lista_Ubigeo!$J:$K,2,0),\" \")","v":" "},{"$f":"IFERROR(VLOOKUP(MID(CA$27,5,4)&$A67,Lista_Ubigeo!$J:$K,2,0),\" \")","v":" "},{"$f":"IFERROR(VLOOKUP(MID(CB$27,5,4)&$A67,Lista_Ubigeo!$J:$K,2,0),\" \")","v":" "},{"$f":"IFERROR(VLOOKUP(MID(CC$27,5,4)&$A67,Lista_Ubigeo!$J:$K,2,0),\" \")","v":" "},{"$f":"IFERROR(VLOOKUP(MID(CD$27,5,4)&$A67,Lista_Ubigeo!$J:$K,2,0),\" \")","v":" "},{"$f":"IFERROR(VLOOKUP(MID(CE$27,5,4)&$A67,Lista_Ubigeo!$J:$K,2,0),\" \")","v":" "},{"$f":"IFERROR(VLOOKUP(MID(CF$27,5,4)&$A67,Lista_Ubigeo!$J:$K,2,0),\" \")","v":" "},{"$f":"IFERROR(VLOOKUP(MID(CG$27,5,4)&$A67,Lista_Ubigeo!$J:$K,2,0),\" \")","v":" "},{"$f":"IFERROR(VLOOKUP(MID(CH$27,5,4)&$A67,Lista_Ubigeo!$J:$K,2,0),\" \")","v":" "},{"$f":"IFERROR(VLOOKUP(MID(CI$27,5,4)&$A67,Lista_Ubigeo!$J:$K,2,0),\" \")","v":" "},{"$f":"IFERROR(VLOOKUP(MID(CJ$27,5,4)&$A67,Lista_Ubigeo!$J:$K,2,0),\" \")","v":" "},{"$f":"IFERROR(VLOOKUP(MID(CK$27,5,4)&$A67,Lista_Ubigeo!$J:$K,2,0),\" \")","v":" "},{"$f":"IFERROR(VLOOKUP(MID(CL$27,5,4)&$A67,Lista_Ubigeo!$J:$K,2,0),\" \")","v":" "},{"$f":"IFERROR(VLOOKUP(MID(CM$27,5,4)&$A78,Lista_Ubigeo!$J:$K,2,0),\" \")","v":" "},{"$f":"IFERROR(VLOOKUP(MID(CN$27,5,4)&$A67,Lista_Ubigeo!$J:$K,2,0),\" \")","v":" "},{"$f":"IFERROR(VLOOKUP(MID(CO$27,5,4)&$A67,Lista_Ubigeo!$J:$K,2,0),\" \")","v":" "},{"$f":"IFERROR(VLOOKUP(MID(CP$27,5,4)&$A67,Lista_Ubigeo!$J:$K,2,0),\" \")","v":" "},{"$f":"IFERROR(VLOOKUP(MID(CQ$27,5,4)&$A67,Lista_Ubigeo!$J:$K,2,0),\" \")","v":" "},{"$f":"IFERROR(VLOOKUP(MID(CR$27,5,4)&$A67,Lista_Ubigeo!$J:$K,2,0),\" \")","v":" "},{"$f":"IFERROR(VLOOKUP(MID(CS$27,5,4)&$A67,Lista_Ubigeo!$J:$K,2,0),\" \")","v":" "},{"$f":"IFERROR(VLOOKUP(MID(CT$27,5,4)&$A67,Lista_Ubigeo!$J:$K,2,0),\" \")","v":" "},{"$f":"IFERROR(VLOOKUP(MID(CU$27,5,4)&$A67,Lista_Ubigeo!$J:$K,2,0),\" \")","v":" "},{"$f":"IFERROR(VLOOKUP(MID(CV$27,5,4)&$A67,Lista_Ubigeo!$J:$K,2,0),\" \")","v":" "},{"$f":"IFERROR(VLOOKUP(MID(CW$27,5,4)&$A67,Lista_Ubigeo!$J:$K,2,0),\" \")","v":" "},{"$f":"IFERROR(VLOOKUP(MID(CX$27,5,4)&$A67,Lista_Ubigeo!$J:$K,2,0),\" \")","v":" "},{"$f":"IFERROR(VLOOKUP(MID(CY$27,5,4)&$A67,Lista_Ubigeo!$J:$K,2,0),\" \")","v":" "},{"$f":"IFERROR(VLOOKUP(MID(CZ$27,5,4)&$A67,Lista_Ubigeo!$J:$K,2,0),\" \")","v":" "},{"$f":"IFERROR(VLOOKUP(MID(DA$27,5,4)&$A67,Lista_Ubigeo!$J:$K,2,0),\" \")","v":" "},{"$f":"IFERROR(VLOOKUP(MID(DB$27,5,4)&$A67,Lista_Ubigeo!$J:$K,2,0),\" \")","v":" "},{"$f":"IFERROR(VLOOKUP(MID(DC$27,5,4)&$A67,Lista_Ubigeo!$J:$K,2,0),\" \")","v":" "},{"$f":"IFERROR(VLOOKUP(MID(DD$27,5,4)&$A67,Lista_Ubigeo!$J:$K,2,0),\" \")","v":" "},{"$f":"IFERROR(VLOOKUP(MID(DE$27,5,4)&$A67,Lista_Ubigeo!$J:$K,2,0),\" \")","v":" "},{"$f":"IFERROR(VLOOKUP(MID(DF$27,5,4)&$A67,Lista_Ubigeo!$J:$K,2,0),\" \")","v":" "},{"$f":"IFERROR(VLOOKUP(MID(DG$27,5,4)&$A67,Lista_Ubigeo!$J:$K,2,0),\" \")","v":" "},{"$f":"IFERROR(VLOOKUP(MID(DH$27,5,4)&$A67,Lista_Ubigeo!$J:$K,2,0),\" \")","v":" "},{"$f":"IFERROR(VLOOKUP(MID(DI$27,5,4)&$A67,Lista_Ubigeo!$J:$K,2,0),\" \")","v":" "},{"$f":"IFERROR(VLOOKUP(MID(DJ$27,5,4)&$A67,Lista_Ubigeo!$J:$K,2,0),\" \")","v":" "},{"$f":"IFERROR(VLOOKUP(MID(DK$27,5,4)&$A67,Lista_Ubigeo!$J:$K,2,0),\" \")","v":" "},{"$f":"IFERROR(VLOOKUP(MID(DL$27,5,4)&$A67,Lista_Ubigeo!$J:$K,2,0),\" \")","v":" "},{"$f":"IFERROR(VLOOKUP(MID(DM$27,5,4)&$A67,Lista_Ubigeo!$J:$K,2,0),\" \")","v":" "},{"$f":"IFERROR(VLOOKUP(MID(DN$27,5,4)&$A67,Lista_Ubigeo!$J:$K,2,0),\" \")","v":" "},{"$f":"IFERROR(VLOOKUP(MID(DO$27,5,4)&$A68,Lista_Ubigeo!$J:$K,2,0),\" \")","v":" "},{"$f":"IFERROR(VLOOKUP(MID(DP$27,5,4)&$A67,Lista_Ubigeo!$J:$K,2,0),\" \")","v":" "},{"$f":"IFERROR(VLOOKUP(MID(DQ$27,5,4)&$A67,Lista_Ubigeo!$J:$K,2,0),\" \")","v":" "},{"$f":"IFERROR(VLOOKUP(MID(DR$27,5,4)&$A67,Lista_Ubigeo!$J:$K,2,0),\" \")","v":" "},{"$f":"IFERROR(VLOOKUP(MID(DS$27,5,4)&$A67,Lista_Ubigeo!$J:$K,2,0),\" \")","v":" "},null,null,{"$f":"IFERROR(VLOOKUP(MID(DV$27,5,4)&$A67,Lista_Ubigeo!$J:$K,2,0),\" \")","v":" "},{"$f":"IFERROR(VLOOKUP(MID(DW$27,5,4)&$A67,Lista_Ubigeo!$J:$K,2,0),\" \")","v":" "},{"$f":"IFERROR(VLOOKUP(MID(DX$27,5,4)&$A67,Lista_Ubigeo!$J:$K,2,0),\" \")","v":" "},{"$f":"IFERROR(VLOOKUP(MID(DY$27,5,4)&$A67,Lista_Ubigeo!$J:$K,2,0),\" \")","v":"SANTIAGO DE SURCO"},{"$f":"IFERROR(VLOOKUP(MID(DZ$27,5,4)&$A67,Lista_Ubigeo!$J:$K,2,0),\" \")","v":" "},{"$f":"IFERROR(VLOOKUP(MID(EA$27,5,4)&$A67,Lista_Ubigeo!$J:$K,2,0),\" \")","v":" "},{"$f":"IFERROR(VLOOKUP(MID(EB$27,5,4)&$A67,Lista_Ubigeo!$J:$K,2,0),\" \")","v":" "},{"$f":"IFERROR(VLOOKUP(MID(EC$27,5,4)&$A67,Lista_Ubigeo!$J:$K,2,0),\" \")","v":" "},{"$f":"IFERROR(VLOOKUP(MID(ED$27,5,4)&$A67,Lista_Ubigeo!$J:$K,2,0),\" \")","v":" "},{"$f":"IFERROR(VLOOKUP(MID(EE$27,5,4)&$A67,Lista_Ubigeo!$J:$K,2,0),\" \")","v":" "},{"$f":"IFERROR(VLOOKUP(MID(EF$27,5,4)&$A67,Lista_Ubigeo!$J:$K,2,0),\" \")","v":" "},{"$f":"IFERROR(VLOOKUP(MID(EG$27,5,4)&$A67,Lista_Ubigeo!$J:$K,2,0),\" \")","v":" "},{"$f":"IFERROR(VLOOKUP(MID(EH$27,5,4)&$A67,Lista_Ubigeo!$J:$K,2,0),\" \")","v":" "},{"$f":"IFERROR(VLOOKUP(MID(EI$27,5,4)&$A67,Lista_Ubigeo!$J:$K,2,0),\" \")","v":" "},{"$f":"IFERROR(VLOOKUP(MID(EJ$27,5,4)&$A72,Lista_Ubigeo!$J:$K,2,0),\" \")","v":" "},{"$f":"IFERROR(VLOOKUP(MID(EK$27,5,4)&$A67,Lista_Ubigeo!$J:$K,2,0),\" \")","v":" "},{"$f":"IFERROR(VLOOKUP(MID(EL$27,5,4)&$A67,Lista_Ubigeo!$J:$K,2,0),\" \")","v":" "},{"$f":"IFERROR(VLOOKUP(MID(EM$27,5,4)&$A67,Lista_Ubigeo!$J:$K,2,0),\" \")","v":" "},{"$f":"IFERROR(VLOOKUP(MID(EN$27,5,4)&$A67,Lista_Ubigeo!$J:$K,2,0),\" \")","v":" "},{"$f":"IFERROR(VLOOKUP(MID(EO$27,5,4)&$A67,Lista_Ubigeo!$J:$K,2,0),\" \")","v":" "},{"$f":"IFERROR(VLOOKUP(MID(EP$27,5,4)&$A67,Lista_Ubigeo!$J:$K,2,0),\" \")","v":" "},{"$f":"IFERROR(VLOOKUP(MID(EQ$27,5,4)&$A67,Lista_Ubigeo!$J:$K,2,0),\" \")","v":" "},{"$f":"IFERROR(VLOOKUP(MID(ER$27,5,4)&$A67,Lista_Ubigeo!$J:$K,2,0),\" \")","v":" "},{"$f":"IFERROR(VLOOKUP(MID(ES$27,5,4)&$A67,Lista_Ubigeo!$J:$K,2,0),\" \")","v":" "},{"$f":"IFERROR(VLOOKUP(MID(ET$27,5,4)&$A67,Lista_Ubigeo!$J:$K,2,0),\" \")","v":" "},{"$f":"IFERROR(VLOOKUP(MID(EU$27,5,4)&$A67,Lista_Ubigeo!$J:$K,2,0),\" \")","v":" "},{"$f":"IFERROR(VLOOKUP(MID(EV$27,5,4)&$A67,Lista_Ubigeo!$J:$K,2,0),\" \")","v":" "},{"$f":"IFERROR(VLOOKUP(MID(EW$27,5,4)&$A67,Lista_Ubigeo!$J:$K,2,0),\" \")","v":" "},{"$f":"IFERROR(VLOOKUP(MID(EX$27,5,4)&$A67,Lista_Ubigeo!$J:$K,2,0),\" \")","v":" "},{"$f":"IFERROR(VLOOKUP(MID(EY$27,5,4)&$A67,Lista_Ubigeo!$J:$K,2,0),\" \")","v":" "},{"$f":"IFERROR(VLOOKUP(MID(EZ$27,5,4)&$A70,Lista_Ubigeo!$J:$K,2,0),\" \")","v":" "},{"$f":"IFERROR(VLOOKUP(MID(FA$27,5,4)&$A67,Lista_Ubigeo!$J:$K,2,0),\" \")","v":" "},{"$f":"IFERROR(VLOOKUP(MID(FB$27,5,4)&$A67,Lista_Ubigeo!$J:$K,2,0),\" \")","v":" "},{"$f":"IFERROR(VLOOKUP(MID(FC$27,5,4)&$A67,Lista_Ubigeo!$J:$K,2,0),\" \")","v":" "},{"$f":"IFERROR(VLOOKUP(MID(FD$27,5,4)&$A67,Lista_Ubigeo!$J:$K,2,0),\" \")","v":" "},{"$f":"IFERROR(VLOOKUP(MID(FE$27,5,4)&$A67,Lista_Ubigeo!$J:$K,2,0),\" \")","v":" "},{"$f":"IFERROR(VLOOKUP(MID(FF$27,5,4)&$A67,Lista_Ubigeo!$J:$K,2,0),\" \")","v":" "},{"$f":"IFERROR(VLOOKUP(MID(FG$27,5,4)&$A67,Lista_Ubigeo!$J:$K,2,0),\" \")","v":" "},{"$f":"IFERROR(VLOOKUP(MID(FH$27,5,4)&$A67,Lista_Ubigeo!$J:$K,2,0),\" \")","v":" "},{"$f":"IFERROR(VLOOKUP(MID(FI$27,5,4)&$A67,Lista_Ubigeo!$J:$K,2,0),\" \")","v":" "},{"$f":"IFERROR(VLOOKUP(MID(FJ$27,5,4)&$A67,Lista_Ubigeo!$J:$K,2,0),\" \")","v":" "},{"$f":"IFERROR(VLOOKUP(MID(FK$27,5,4)&$A67,Lista_Ubigeo!$J:$K,2,0),\" \")","v":" "},{"$f":"IFERROR(VLOOKUP(MID(FL$27,5,4)&$A67,Lista_Ubigeo!$J:$K,2,0),\" \")","v":" "},{"$f":"IFERROR(VLOOKUP(MID(FM$27,5,4)&$A67,Lista_Ubigeo!$J:$K,2,0),\" \")","v":" "},{"$f":"IFERROR(VLOOKUP(MID(FN$27,5,4)&$A67,Lista_Ubigeo!$J:$K,2,0),\" \")","v":" "},{"$f":"IFERROR(VLOOKUP(MID(FO$27,5,4)&$A67,Lista_Ubigeo!$J:$K,2,0),\" \")","v":" "},{"$f":"IFERROR(VLOOKUP(MID(FP$27,5,4)&$A67,Lista_Ubigeo!$J:$K,2,0),\" \")","v":" "},{"$f":"IFERROR(VLOOKUP(MID(FQ$27,5,4)&$A67,Lista_Ubigeo!$J:$K,2,0),\" \")","v":" "},{"$f":"IFERROR(VLOOKUP(MID(FR$27,5,4)&$A67,Lista_Ubigeo!$J:$K,2,0),\" \")","v":" "},{"$f":"IFERROR(VLOOKUP(MID(FS$27,5,4)&$A67,Lista_Ubigeo!$J:$K,2,0),\" \")","v":" "},{"$f":"IFERROR(VLOOKUP(MID(FT$27,5,4)&$A67,Lista_Ubigeo!$J:$K,2,0),\" \")","v":" "},{"$f":"IFERROR(VLOOKUP(MID(FU$27,5,4)&$A67,Lista_Ubigeo!$J:$K,2,0),\" \")","v":" "},{"$f":"IFERROR(VLOOKUP(MID(FV$27,5,4)&$A67,Lista_Ubigeo!$J:$K,2,0),\" \")","v":" "},{"$f":"IFERROR(VLOOKUP(MID(FW$27,5,4)&$A67,Lista_Ubigeo!$J:$K,2,0),\" \")","v":" "},{"$f":"IFERROR(VLOOKUP(MID(FX$27,5,4)&$A67,Lista_Ubigeo!$J:$K,2,0),\" \")","v":" "},{"$f":"IFERROR(VLOOKUP(MID(FY$27,5,4)&$A67,Lista_Ubigeo!$J:$K,2,0),\" \")","v":" "},{"$f":"IFERROR(VLOOKUP(MID(FZ$27,5,4)&$A67,Lista_Ubigeo!$J:$K,2,0),\" \")","v":" "},{"$f":"IFERROR(VLOOKUP(MID(GA$27,5,4)&$A67,Lista_Ubigeo!$J:$K,2,0),\" \")","v":" "},{"$f":"IFERROR(VLOOKUP(MID(GB$27,5,4)&$A67,Lista_Ubigeo!$J:$K,2,0),\" \")","v":" "},{"$f":"IFERROR(VLOOKUP(MID(GC$27,5,4)&$A67,Lista_Ubigeo!$J:$K,2,0),\" \")","v":" "},{"$f":"IFERROR(VLOOKUP(MID(GD$27,5,4)&$A67,Lista_Ubigeo!$J:$K,2,0),\" \")","v":" "},{"$f":"IFERROR(VLOOKUP(MID(GE$27,5,4)&$A67,Lista_Ubigeo!$J:$K,2,0),\" \")","v":" "},{"$f":"IFERROR(VLOOKUP(MID(GF$27,5,4)&$A67,Lista_Ubigeo!$J:$K,2,0),\" \")","v":" "},{"$f":"IFERROR(VLOOKUP(MID(GG$27,5,4)&$A67,Lista_Ubigeo!$J:$K,2,0),\" \")","v":" "},{"$f":"IFERROR(VLOOKUP(MID(GH$27,5,4)&$A67,Lista_Ubigeo!$J:$K,2,0),\" \")","v":" "},{"$f":"IFERROR(VLOOKUP(MID(GI$27,5,4)&$A67,Lista_Ubigeo!$J:$K,2,0),\" \")","v":" "},{"$f":"IFERROR(VLOOKUP(MID(GJ$27,5,4)&$A67,Lista_Ubigeo!$J:$K,2,0),\" \")","v":" "},{"$f":"IFERROR(VLOOKUP(MID(GK$27,5,4)&$A67,Lista_Ubigeo!$J:$K,2,0),\" \")","v":" "},{"$f":"IFERROR(VLOOKUP(MID(GL$27,5,4)&$A67,Lista_Ubigeo!$J:$K,2,0),\" \")","v":" "},{"$f":"IFERROR(VLOOKUP(MID(GM$27,5,4)&$A67,Lista_Ubigeo!$J:$K,2,0),\" \")","v":" "},{"$f":"IFERROR(VLOOKUP(MID(GN$27,5,4)&$A67,Lista_Ubigeo!$J:$K,2,0),\" \")","v":" "},{"$f":"IFERROR(VLOOKUP(MID(GO$27,5,4)&$A67,Lista_Ubigeo!$J:$K,2,0),\" \")","v":" "},{"$f":"IFERROR(VLOOKUP(MID(GP$27,5,4)&$A67,Lista_Ubigeo!$J:$K,2,0),\" \")","v":" "}]
["41",{"$f":"IFERROR(VLOOKUP(MID(B$27,5,4)&$A68,Lista_Ubigeo!$J:$K,2,0),\" \")","v":" "},{"$f":"IFERROR(VLOOKUP(MID(C$27,5,4)&$A68,Lista_Ubigeo!$J:$K,2,0),\" \")","v":" "},{"$f":"IFERROR(VLOOKUP(MID(D$27,5,4)&$A68,Lista_Ubigeo!$J:$K,2,0),\" \")","v":" "},{"$f":"IFERROR(VLOOKUP(MID(E$27,5,4)&$A68,Lista_Ubigeo!$J:$K,2,0),\" \")","v":" "},{"$f":"IFERROR(VLOOKUP(MID(F$27,5,4)&$A68,Lista_Ubigeo!$J:$K,2,0),\" \")","v":" "},{"$f":"IFERROR(VLOOKUP(MID(G$27,5,4)&$A68,Lista_Ubigeo!$J:$K,2,0),\" \")","v":" "},{"$f":"IFERROR(VLOOKUP(MID(H$27,5,4)&$A68,Lista_Ubigeo!$J:$K,2,0),\" \")","v":" "},{"$f":"IFERROR(VLOOKUP(MID(I$27,5,4)&$A68,Lista_Ubigeo!$J:$K,2,0),\" \")","v":" "},{"$f":"IFERROR(VLOOKUP(MID(J$27,5,4)&$A68,Lista_Ubigeo!$J:$K,2,0),\" \")","v":" "},{"$f":"IFERROR(VLOOKUP(MID(K$27,5,4)&$A68,Lista_Ubigeo!$J:$K,2,0),\" \")","v":" "},{"$f":"IFERROR(VLOOKUP(MID(L$27,5,4)&$A68,Lista_Ubigeo!$J:$K,2,0),\" \")","v":" "},{"$f":"IFERROR(VLOOKUP(MID(M$27,5,4)&$A68,Lista_Ubigeo!$J:$K,2,0),\" \")","v":" "},{"$f":"IFERROR(VLOOKUP(MID(N$27,5,4)&$A68,Lista_Ubigeo!$J:$K,2,0),\" \")","v":" "},{"$f":"IFERROR(VLOOKUP(MID(O$27,5,4)&$A68,Lista_Ubigeo!$J:$K,2,0),\" \")","v":" "},{"$f":"IFERROR(VLOOKUP(MID(P$27,5,4)&$A68,Lista_Ubigeo!$J:$K,2,0),\" \")","v":" "},{"$f":"IFERROR(VLOOKUP(MID(Q$27,5,4)&$A68,Lista_Ubigeo!$J:$K,2,0),\" \")","v":" "},{"$f":"IFERROR(VLOOKUP(MID(R$27,5,4)&$A68,Lista_Ubigeo!$J:$K,2,0),\" \")","v":" "},{"$f":"IFERROR(VLOOKUP(MID(S$27,5,4)&$A68,Lista_Ubigeo!$J:$K,2,0),\" \")","v":" "},{"$f":"IFERROR(VLOOKUP(MID(T$27,5,4)&$A68,Lista_Ubigeo!$J:$K,2,0),\" \")","v":" "},{"$f":"IFERROR(VLOOKUP(MID(U$27,5,4)&$A68,Lista_Ubigeo!$J:$K,2,0),\" \")","v":" "},{"$f":"IFERROR(VLOOKUP(MID(V$27,5,4)&$A68,Lista_Ubigeo!$J:$K,2,0),\" \")","v":" "},{"$f":"IFERROR(VLOOKUP(MID(W$27,5,4)&$A68,Lista_Ubigeo!$J:$K,2,0),\" \")","v":" "},{"$f":"IFERROR(VLOOKUP(MID(X$27,5,4)&$A68,Lista_Ubigeo!$J:$K,2,0),\" \")","v":" "},{"$f":"IFERROR(VLOOKUP(MID(Y$27,5,4)&$A68,Lista_Ubigeo!$J:$K,2,0),\" \")","v":" "},{"$f":"IFERROR(VLOOKUP(MID(Z$27,5,4)&$A68,Lista_Ubigeo!$J:$K,2,0),\" \")","v":" "},{"$f":"IFERROR(VLOOKUP(MID(AA$27,5,4)&$A68,Lista_Ubigeo!$J:$K,2,0),\" \")","v":" "},{"$f":"IFERROR(VLOOKUP(MID(AB$27,5,4)&$A68,Lista_Ubigeo!$J:$K,2,0),\" \")","v":" "},{"$f":"IFERROR(VLOOKUP(MID(AC$27,5,4)&$A68,Lista_Ubigeo!$J:$K,2,0),\" \")","v":" "},{"$f":"IFERROR(VLOOKUP(MID(AD$27,5,4)&$A68,Lista_Ubigeo!$J:$K,2,0),\" \")","v":" "},{"$f":"IFERROR(VLOOKUP(MID(AE$27,5,4)&$A68,Lista_Ubigeo!$J:$K,2,0),\" \")","v":" "},{"$f":"IFERROR(VLOOKUP(MID(AF$27,5,4)&$A68,Lista_Ubigeo!$J:$K,2,0),\" \")","v":" "},{"$f":"IFERROR(VLOOKUP(MID(AG$27,5,4)&$A68,Lista_Ubigeo!$J:$K,2,0),\" \")","v":" "},{"$f":"IFERROR(VLOOKUP(MID(AH$27,5,4)&$A68,Lista_Ubigeo!$J:$K,2,0),\" \")","v":" "},{"$f":"IFERROR(VLOOKUP(MID(AI$27,5,4)&$A68,Lista_Ubigeo!$J:$K,2,0),\" \")","v":" "},{"$f":"IFERROR(VLOOKUP(MID(AJ$27,5,4)&$A68,Lista_Ubigeo!$J:$K,2,0),\" \")","v":" "},{"$f":"IFERROR(VLOOKUP(MID(AK$27,5,4)&$A68,Lista_Ubigeo!$J:$K,2,0),\" \")","v":" "},{"$f":"IFERROR(VLOOKUP(MID(AL$27,5,4)&$A68,Lista_Ubigeo!$J:$K,2,0),\" \")","v":" "},{"$f":"IFERROR(VLOOKUP(MID(AM$27,5,4)&$A68,Lista_Ubigeo!$J:$K,2,0),\" \")","v":" "},{"$f":"IFERROR(VLOOKUP(MID(AN$27,5,4)&$A68,Lista_Ubigeo!$J:$K,2,0),\" \")","v":" "},{"$f":"IFERROR(VLOOKUP(MID(AO$27,5,4)&$A68,Lista_Ubigeo!$J:$K,2,0),\" \")","v":" "},{"$f":"IFERROR(VLOOKUP(MID(AP$27,5,4)&$A68,Lista_Ubigeo!$J:$K,2,0),\" \")","v":" "},{"$f":"IFERROR(VLOOKUP(MID(AQ$27,4,4)&$A68,Lista_Ubigeo!$J:$K,2,0),\" \")","v":" "},{"$f":"IFERROR(VLOOKUP(MID(AR$27,5,4)&$A68,Lista_Ubigeo!$J:$K,2,0),\" \")","v":" "},{"$f":"IFERROR(VLOOKUP(MID(AS$27,5,4)&$A68,Lista_Ubigeo!$J:$K,2,0),\" \")","v":" "},{"$f":"IFERROR(VLOOKUP(MID(AT$27,5,4)&$A68,Lista_Ubigeo!$J:$K,2,0),\" \")","v":" "},{"$f":"IFERROR(VLOOKUP(MID(AU$27,5,4)&$A68,Lista_Ubigeo!$J:$K,2,0),\" \")","v":" "},{"$f":"IFERROR(VLOOKUP(MID(AV$27,5,4)&$A68,Lista_Ubigeo!$J:$K,2,0),\" \")","v":" "},{"$f":"IFERROR(VLOOKUP(MID(AW$27,5,4)&$A68,Lista_Ubigeo!$J:$K,2,0),\" \")","v":" "},{"$f":"IFERROR(VLOOKUP(MID(AX$27,5,4)&$A68,Lista_Ubigeo!$J:$K,2,0),\" \")","v":" "},{"$f":"IFERROR(VLOOKUP(MID(AY$27,5,4)&$A68,Lista_Ubigeo!$J:$K,2,0),\" \")","v":" "},{"$f":"IFERROR(VLOOKUP(MID(AZ$27,5,4)&$A68,Lista_Ubigeo!$J:$K,2,0),\" \")","v":" "},{"$f":"IFERROR(VLOOKUP(MID(BA$27,5,4)&$A68,Lista_Ubigeo!$J:$K,2,0),\" \")","v":" "},{"$f":"IFERROR(VLOOKUP(MID(BB$27,5,4)&$A68,Lista_Ubigeo!$J:$K,2,0),\" \")","v":" "},{"$f":"IFERROR(VLOOKUP(MID(BC$27,5,4)&$A68,Lista_Ubigeo!$J:$K,2,0),\" \")","v":" "},{"$f":"IFERROR(VLOOKUP(MID(BD$27,5,4)&$A68,Lista_Ubigeo!$J:$K,2,0),\" \")","v":" "},{"$f":"IFERROR(VLOOKUP(MID(BE$27,5,4)&$A68,Lista_Ubigeo!$J:$K,2,0),\" \")","v":" "},{"$f":"IFERROR(VLOOKUP(MID(BF$27,5,4)&$A68,Lista_Ubigeo!$J:$K,2,0),\" \")","v":" "},{"$f":"IFERROR(VLOOKUP(MID(BG$27,5,4)&$A68,Lista_Ubigeo!$J:$K,2,0),\" \")","v":" "},{"$f":"IFERROR(VLOOKUP(MID(BH$27,5,4)&$A68,Lista_Ubigeo!$J:$K,2,0),\" \")","v":" "},{"$f":"IFERROR(VLOOKUP(MID(BI$27,5,4)&$A68,Lista_Ubigeo!$J:$K,2,0),\" \")","v":" "},{"$f":"IFERROR(VLOOKUP(MID(BJ$27,5,4)&$A68,Lista_Ubigeo!$J:$K,2,0),\" \")","v":" "},{"$f":"IFERROR(VLOOKUP(MID(BK$27,5,4)&$A68,Lista_Ubigeo!$J:$K,2,0),\" \")","v":" "},{"$f":"IFERROR(VLOOKUP(MID(BL$27,5,4)&$A68,Lista_Ubigeo!$J:$K,2,0),\" \")","v":" "},{"$f":"IFERROR(VLOOKUP(MID(BM$27,5,4)&$A68,Lista_Ubigeo!$J:$K,2,0),\" \")","v":" "},{"$f":"IFERROR(VLOOKUP(MID(BN$27,5,4)&$A68,Lista_Ubigeo!$J:$K,2,0),\" \")","v":" "},{"$f":"IFERROR(VLOOKUP(MID(BO$27,5,4)&$A68,Lista_Ubigeo!$J:$K,2,0),\" \")","v":" "},{"$f":"IFERROR(VLOOKUP(MID(BP$27,5,4)&$A68,Lista_Ubigeo!$J:$K,2,0),\" \")","v":" "},{"$f":"IFERROR(VLOOKUP(MID(BQ$27,5,4)&$A68,Lista_Ubigeo!$J:$K,2,0),\" \")","v":" "},{"$f":"IFERROR(VLOOKUP(MID(BR$27,5,4)&$A68,Lista_Ubigeo!$J:$K,2,0),\" \")","v":" "},{"$f":"IFERROR(VLOOKUP(MID(BS$27,5,4)&$A68,Lista_Ubigeo!$J:$K,2,0),\" \")","v":" "},{"$f":"IFERROR(VLOOKUP(MID(BT$27,5,4)&$A68,Lista_Ubigeo!$J:$K,2,0),\" \")","v":" "},{"$f":"IFERROR(VLOOKUP(MID(BU$27,5,4)&$A68,Lista_Ubigeo!$J:$K,2,0),\" \")","v":" "},{"$f":"IFERROR(VLOOKUP(MID(BV$27,5,4)&$A68,Lista_Ubigeo!$J:$K,2,0),\" \")","v":" "},{"$f":"IFERROR(VLOOKUP(MID(BW$27,5,4)&$A68,Lista_Ubigeo!$J:$K,2,0),\" \")","v":" "},{"$f":"IFERROR(VLOOKUP(MID(BX$27,5,4)&$A68,Lista_Ubigeo!$J:$K,2,0),\" \")","v":" "},{"$f":"IFERROR(VLOOKUP(MID(BY$27,4,4)&$A68,Lista_Ubigeo!$J:$K,2,0),\" \")","v":" "},{"$f":"IFERROR(VLOOKUP(MID(BZ$27,5,4)&$A68,Lista_Ubigeo!$J:$K,2,0),\" \")","v":" "},{"$f":"IFERROR(VLOOKUP(MID(CA$27,5,4)&$A68,Lista_Ubigeo!$J:$K,2,0),\" \")","v":" "},{"$f":"IFERROR(VLOOKUP(MID(CB$27,5,4)&$A68,Lista_Ubigeo!$J:$K,2,0),\" \")","v":" "},{"$f":"IFERROR(VLOOKUP(MID(CC$27,5,4)&$A68,Lista_Ubigeo!$J:$K,2,0),\" \")","v":" "},{"$f":"IFERROR(VLOOKUP(MID(CD$27,5,4)&$A68,Lista_Ubigeo!$J:$K,2,0),\" \")","v":" "},{"$f":"IFERROR(VLOOKUP(MID(CE$27,5,4)&$A68,Lista_Ubigeo!$J:$K,2,0),\" \")","v":" "},{"$f":"IFERROR(VLOOKUP(MID(CF$27,5,4)&$A68,Lista_Ubigeo!$J:$K,2,0),\" \")","v":" "},{"$f":"IFERROR(VLOOKUP(MID(CG$27,5,4)&$A68,Lista_Ubigeo!$J:$K,2,0),\" \")","v":" "},{"$f":"IFERROR(VLOOKUP(MID(CH$27,5,4)&$A68,Lista_Ubigeo!$J:$K,2,0),\" \")","v":" "},{"$f":"IFERROR(VLOOKUP(MID(CI$27,5,4)&$A68,Lista_Ubigeo!$J:$K,2,0),\" \")","v":" "},{"$f":"IFERROR(VLOOKUP(MID(CJ$27,5,4)&$A68,Lista_Ubigeo!$J:$K,2,0),\" \")","v":" "},{"$f":"IFERROR(VLOOKUP(MID(CK$27,5,4)&$A68,Lista_Ubigeo!$J:$K,2,0),\" \")","v":" "},{"$f":"IFERROR(VLOOKUP(MID(CL$27,5,4)&$A68,Lista_Ubigeo!$J:$K,2,0),\" \")","v":" "},{"$f":"IFERROR(VLOOKUP(MID(CM$27,5,4)&$A79,Lista_Ubigeo!$J:$K,2,0),\" \")","v":" "},{"$f":"IFERROR(VLOOKUP(MID(CN$27,5,4)&$A68,Lista_Ubigeo!$J:$K,2,0),\" \")","v":" "},{"$f":"IFERROR(VLOOKUP(MID(CO$27,5,4)&$A68,Lista_Ubigeo!$J:$K,2,0),\" \")","v":" "},{"$f":"IFERROR(VLOOKUP(MID(CP$27,5,4)&$A68,Lista_Ubigeo!$J:$K,2,0),\" \")","v":" "},{"$f":"IFERROR(VLOOKUP(MID(CQ$27,5,4)&$A68,Lista_Ubigeo!$J:$K,2,0),\" \")","v":" "},{"$f":"IFERROR(VLOOKUP(MID(CR$27,5,4)&$A68,Lista_Ubigeo!$J:$K,2,0),\" \")","v":" "},{"$f":"IFERROR(VLOOKUP(MID(CS$27,5,4)&$A68,Lista_Ubigeo!$J:$K,2,0),\" \")","v":" "},{"$f":"IFERROR(VLOOKUP(MID(CT$27,5,4)&$A68,Lista_Ubigeo!$J:$K,2,0),\" \")","v":" "},{"$f":"IFERROR(VLOOKUP(MID(CU$27,5,4)&$A68,Lista_Ubigeo!$J:$K,2,0),\" \")","v":" "},{"$f":"IFERROR(VLOOKUP(MID(CV$27,5,4)&$A68,Lista_Ubigeo!$J:$K,2,0),\" \")","v":" "},{"$f":"IFERROR(VLOOKUP(MID(CW$27,5,4)&$A68,Lista_Ubigeo!$J:$K,2,0),\" \")","v":" "},{"$f":"IFERROR(VLOOKUP(MID(CX$27,5,4)&$A68,Lista_Ubigeo!$J:$K,2,0),\" \")","v":" "},{"$f":"IFERROR(VLOOKUP(MID(CY$27,5,4)&$A68,Lista_Ubigeo!$J:$K,2,0),\" \")","v":" "},{"$f":"IFERROR(VLOOKUP(MID(CZ$27,5,4)&$A68,Lista_Ubigeo!$J:$K,2,0),\" \")","v":" "},{"$f":"IFERROR(VLOOKUP(MID(DA$27,5,4)&$A68,Lista_Ubigeo!$J:$K,2,0),\" \")","v":" "},{"$f":"IFERROR(VLOOKUP(MID(DB$27,5,4)&$A68,Lista_Ubigeo!$J:$K,2,0),\" \")","v":" "},{"$f":"IFERROR(VLOOKUP(MID(DC$27,5,4)&$A68,Lista_Ubigeo!$J:$K,2,0),\" \")","v":" "},{"$f":"IFERROR(VLOOKUP(MID(DD$27,5,4)&$A68,Lista_Ubigeo!$J:$K,2,0),\" \")","v":" "},{"$f":"IFERROR(VLOOKUP(MID(DE$27,5,4)&$A68,Lista_Ubigeo!$J:$K,2,0),\" \")","v":" "},{"$f":"IFERROR(VLOOKUP(MID(DF$27,5,4)&$A68,Lista_Ubigeo!$J:$K,2,0),\" \")","v":" "},{"$f":"IFERROR(VLOOKUP(MID(DG$27,5,4)&$A68,Lista_Ubigeo!$J:$K,2,0),\" \")","v":" "},{"$f":"IFERROR(VLOOKUP(MID(DH$27,5,4)&$A68,Lista_Ubigeo!$J:$K,2,0),\" \")","v":" "},{"$f":"IFERROR(VLOOKUP(MID(DI$27,5,4)&$A68,Lista_Ubigeo!$J:$K,2,0),\" \")","v":" "},{"$f":"IFERROR(VLOOKUP(MID(DJ$27,5,4)&$A68,Lista_Ubigeo!$J:$K,2,0),\" \")","v":" "},{"$f":"IFERROR(VLOOKUP(MID(DK$27,5,4)&$A68,Lista_Ubigeo!$J:$K,2,0),\" \")","v":" "},{"$f":"IFERROR(VLOOKUP(MID(DL$27,5,4)&$A68,Lista_Ubigeo!$J:$K,2,0),\" \")","v":" "},{"$f":"IFERROR(VLOOKUP(MID(DM$27,5,4)&$A68,Lista_Ubigeo!$J:$K,2,0),\" \")","v":" "},{"$f":"IFERROR(VLOOKUP(MID(DN$27,5,4)&$A68,Lista_Ubigeo!$J:$K,2,0),\" \")","v":" "},{"$f":"IFERROR(VLOOKUP(MID(DO$27,5,4)&$A69,Lista_Ubigeo!$J:$K,2,0),\" \")","v":" "},{"$f":"IFERROR(VLOOKUP(MID(DP$27,5,4)&$A68,Lista_Ubigeo!$J:$K,2,0),\" \")","v":" "},{"$f":"IFERROR(VLOOKUP(MID(DQ$27,5,4)&$A68,Lista_Ubigeo!$J:$K,2,0),\" \")","v":" "},{"$f":"IFERROR(VLOOKUP(MID(DR$27,5,4)&$A68,Lista_Ubigeo!$J:$K,2,0),\" \")","v":" "},{"$f":"IFERROR(VLOOKUP(MID(DS$27,5,4)&$A68,Lista_Ubigeo!$J:$K,2,0),\" \")","v":" "},null,null,{"$f":"IFERROR(VLOOKUP(MID(DV$27,5,4)&$A68,Lista_Ubigeo!$J:$K,2,0),\" \")","v":" "},{"$f":"IFERROR(VLOOKUP(MID(DW$27,5,4)&$A68,Lista_Ubigeo!$J:$K,2,0),\" \")","v":" "},{"$f":"IFERROR(VLOOKUP(MID(DX$27,5,4)&$A68,Lista_Ubigeo!$J:$K,2,0),\" \")","v":" "},{"$f":"IFERROR(VLOOKUP(MID(DY$27,5,4)&$A68,Lista_Ubigeo!$J:$K,2,0),\" \")","v":"SURQUILLO"},{"$f":"IFERROR(VLOOKUP(MID(DZ$27,5,4)&$A68,Lista_Ubigeo!$J:$K,2,0),\" \")","v":" "},{"$f":"IFERROR(VLOOKUP(MID(EA$27,5,4)&$A68,Lista_Ubigeo!$J:$K,2,0),\" \")","v":" "},{"$f":"IFERROR(VLOOKUP(MID(EB$27,5,4)&$A68,Lista_Ubigeo!$J:$K,2,0),\" \")","v":" "},{"$f":"IFERROR(VLOOKUP(MID(EC$27,5,4)&$A68,Lista_Ubigeo!$J:$K,2,0),\" \")","v":" "},{"$f":"IFERROR(VLOOKUP(MID(ED$27,5,4)&$A68,Lista_Ubigeo!$J:$K,2,0),\" \")","v":" "},{"$f":"IFERROR(VLOOKUP(MID(EE$27,5,4)&$A68,Lista_Ubigeo!$J:$K,2,0),\" \")","v":" "},{"$f":"IFERROR(VLOOKUP(MID(EF$27,5,4)&$A68,Lista_Ubigeo!$J:$K,2,0),\" \")","v":" "},{"$f":"IFERROR(VLOOKUP(MID(EG$27,5,4)&$A68,Lista_Ubigeo!$J:$K,2,0),\" \")","v":" "},{"$f":"IFERROR(VLOOKUP(MID(EH$27,5,4)&$A68,Lista_Ubigeo!$J:$K,2,0),\" \")","v":" "},{"$f":"IFERROR(VLOOKUP(MID(EI$27,5,4)&$A68,Lista_Ubigeo!$J:$K,2,0),\" \")","v":" "},{"$f":"IFERROR(VLOOKUP(MID(EJ$27,5,4)&$A73,Lista_Ubigeo!$J:$K,2,0),\" \")","v":" "},{"$f":"IFERROR(VLOOKUP(MID(EK$27,5,4)&$A68,Lista_Ubigeo!$J:$K,2,0),\" \")","v":" "},{"$f":"IFERROR(VLOOKUP(MID(EL$27,5,4)&$A68,Lista_Ubigeo!$J:$K,2,0),\" \")","v":" "},{"$f":"IFERROR(VLOOKUP(MID(EM$27,5,4)&$A68,Lista_Ubigeo!$J:$K,2,0),\" \")","v":" "},{"$f":"IFERROR(VLOOKUP(MID(EN$27,5,4)&$A68,Lista_Ubigeo!$J:$K,2,0),\" \")","v":" "},{"$f":"IFERROR(VLOOKUP(MID(EO$27,5,4)&$A68,Lista_Ubigeo!$J:$K,2,0),\" \")","v":" "},{"$f":"IFERROR(VLOOKUP(MID(EP$27,5,4)&$A68,Lista_Ubigeo!$J:$K,2,0),\" \")","v":" "},{"$f":"IFERROR(VLOOKUP(MID(EQ$27,5,4)&$A68,Lista_Ubigeo!$J:$K,2,0),\" \")","v":" "},{"$f":"IFERROR(VLOOKUP(MID(ER$27,5,4)&$A68,Lista_Ubigeo!$J:$K,2,0),\" \")","v":" "},{"$f":"IFERROR(VLOOKUP(MID(ES$27,5,4)&$A68,Lista_Ubigeo!$J:$K,2,0),\" \")","v":" "},{"$f":"IFERROR(VLOOKUP(MID(ET$27,5,4)&$A68,Lista_Ubigeo!$J:$K,2,0),\" \")","v":" "},{"$f":"IFERROR(VLOOKUP(MID(EU$27,5,4)&$A68,Lista_Ubigeo!$J:$K,2,0),\" \")","v":" "},{"$f":"IFERROR(VLOOKUP(MID(EV$27,5,4)&$A68,Lista_Ubigeo!$J:$K,2,0),\" \")","v":" "},{"$f":"IFERROR(VLOOKUP(MID(EW$27,5,4)&$A68,Lista_Ubigeo!$J:$K,2,0),\" \")","v":" "},{"$f":"IFERROR(VLOOKUP(MID(EX$27,5,4)&$A68,Lista_Ubigeo!$J:$K,2,0),\" \")","v":" "},{"$f":"IFERROR(VLOOKUP(MID(EY$27,5,4)&$A68,Lista_Ubigeo!$J:$K,2,0),\" \")","v":" "},{"$f":"IFERROR(VLOOKUP(MID(EZ$27,5,4)&$A71,Lista_Ubigeo!$J:$K,2,0),\" \")","v":" "},{"$f":"IFERROR(VLOOKUP(MID(FA$27,5,4)&$A68,Lista_Ubigeo!$J:$K,2,0),\" \")","v":" "},{"$f":"IFERROR(VLOOKUP(MID(FB$27,5,4)&$A68,Lista_Ubigeo!$J:$K,2,0),\" \")","v":" "},{"$f":"IFERROR(VLOOKUP(MID(FC$27,5,4)&$A68,Lista_Ubigeo!$J:$K,2,0),\" \")","v":" "},{"$f":"IFERROR(VLOOKUP(MID(FD$27,5,4)&$A68,Lista_Ubigeo!$J:$K,2,0),\" \")","v":" "},{"$f":"IFERROR(VLOOKUP(MID(FE$27,5,4)&$A68,Lista_Ubigeo!$J:$K,2,0),\" \")","v":" "},{"$f":"IFERROR(VLOOKUP(MID(FF$27,5,4)&$A68,Lista_Ubigeo!$J:$K,2,0),\" \")","v":" "},{"$f":"IFERROR(VLOOKUP(MID(FG$27,5,4)&$A68,Lista_Ubigeo!$J:$K,2,0),\" \")","v":" "},{"$f":"IFERROR(VLOOKUP(MID(FH$27,5,4)&$A68,Lista_Ubigeo!$J:$K,2,0),\" \")","v":" "},{"$f":"IFERROR(VLOOKUP(MID(FI$27,5,4)&$A68,Lista_Ubigeo!$J:$K,2,0),\" \")","v":" "},{"$f":"IFERROR(VLOOKUP(MID(FJ$27,5,4)&$A68,Lista_Ubigeo!$J:$K,2,0),\" \")","v":" "},{"$f":"IFERROR(VLOOKUP(MID(FK$27,5,4)&$A68,Lista_Ubigeo!$J:$K,2,0),\" \")","v":" "},{"$f":"IFERROR(VLOOKUP(MID(FL$27,5,4)&$A68,Lista_Ubigeo!$J:$K,2,0),\" \")","v":" "},{"$f":"IFERROR(VLOOKUP(MID(FM$27,5,4)&$A68,Lista_Ubigeo!$J:$K,2,0),\" \")","v":" "},{"$f":"IFERROR(VLOOKUP(MID(FN$27,5,4)&$A68,Lista_Ubigeo!$J:$K,2,0),\" \")","v":" "},{"$f":"IFERROR(VLOOKUP(MID(FO$27,5,4)&$A68,Lista_Ubigeo!$J:$K,2,0),\" \")","v":" "},{"$f":"IFERROR(VLOOKUP(MID(FP$27,5,4)&$A68,Lista_Ubigeo!$J:$K,2,0),\" \")","v":" "},{"$f":"IFERROR(VLOOKUP(MID(FQ$27,5,4)&$A68,Lista_Ubigeo!$J:$K,2,0),\" \")","v":" "},{"$f":"IFERROR(VLOOKUP(MID(FR$27,5,4)&$A68,Lista_Ubigeo!$J:$K,2,0),\" \")","v":" "},{"$f":"IFERROR(VLOOKUP(MID(FS$27,5,4)&$A68,Lista_Ubigeo!$J:$K,2,0),\" \")","v":" "},{"$f":"IFERROR(VLOOKUP(MID(FT$27,5,4)&$A68,Lista_Ubigeo!$J:$K,2,0),\" \")","v":" "},{"$f":"IFERROR(VLOOKUP(MID(FU$27,5,4)&$A68,Lista_Ubigeo!$J:$K,2,0),\" \")","v":" "},{"$f":"IFERROR(VLOOKUP(MID(FV$27,5,4)&$A68,Lista_Ubigeo!$J:$K,2,0),\" \")","v":" "},{"$f":"IFERROR(VLOOKUP(MID(FW$27,5,4)&$A68,Lista_Ubigeo!$J:$K,2,0),\" \")","v":" "},{"$f":"IFERROR(VLOOKUP(MID(FX$27,5,4)&$A68,Lista_Ubigeo!$J:$K,2,0),\" \")","v":" "},{"$f":"IFERROR(VLOOKUP(MID(FY$27,5,4)&$A68,Lista_Ubigeo!$J:$K,2,0),\" \")","v":" "},{"$f":"IFERROR(VLOOKUP(MID(FZ$27,5,4)&$A68,Lista_Ubigeo!$J:$K,2,0),\" \")","v":" "},{"$f":"IFERROR(VLOOKUP(MID(GA$27,5,4)&$A68,Lista_Ubigeo!$J:$K,2,0),\" \")","v":" "},{"$f":"IFERROR(VLOOKUP(MID(GB$27,5,4)&$A68,Lista_Ubigeo!$J:$K,2,0),\" \")","v":" "},{"$f":"IFERROR(VLOOKUP(MID(GC$27,5,4)&$A68,Lista_Ubigeo!$J:$K,2,0),\" \")","v":" "},{"$f":"IFERROR(VLOOKUP(MID(GD$27,5,4)&$A68,Lista_Ubigeo!$J:$K,2,0),\" \")","v":" "},{"$f":"IFERROR(VLOOKUP(MID(GE$27,5,4)&$A68,Lista_Ubigeo!$J:$K,2,0),\" \")","v":" "},{"$f":"IFERROR(VLOOKUP(MID(GF$27,5,4)&$A68,Lista_Ubigeo!$J:$K,2,0),\" \")","v":" "},{"$f":"IFERROR(VLOOKUP(MID(GG$27,5,4)&$A68,Lista_Ubigeo!$J:$K,2,0),\" \")","v":" "},{"$f":"IFERROR(VLOOKUP(MID(GH$27,5,4)&$A68,Lista_Ubigeo!$J:$K,2,0),\" \")","v":" "},{"$f":"IFERROR(VLOOKUP(MID(GI$27,5,4)&$A68,Lista_Ubigeo!$J:$K,2,0),\" \")","v":" "},{"$f":"IFERROR(VLOOKUP(MID(GJ$27,5,4)&$A68,Lista_Ubigeo!$J:$K,2,0),\" \")","v":" "},{"$f":"IFERROR(VLOOKUP(MID(GK$27,5,4)&$A68,Lista_Ubigeo!$J:$K,2,0),\" \")","v":" "},{"$f":"IFERROR(VLOOKUP(MID(GL$27,5,4)&$A68,Lista_Ubigeo!$J:$K,2,0),\" \")","v":" "},{"$f":"IFERROR(VLOOKUP(MID(GM$27,5,4)&$A68,Lista_Ubigeo!$J:$K,2,0),\" \")","v":" "},{"$f":"IFERROR(VLOOKUP(MID(GN$27,5,4)&$A68,Lista_Ubigeo!$J:$K,2,0),\" \")","v":" "},{"$f":"IFERROR(VLOOKUP(MID(GO$27,5,4)&$A68,Lista_Ubigeo!$J:$K,2,0),\" \")","v":" "},{"$f":"IFERROR(VLOOKUP(MID(GP$27,5,4)&$A68,Lista_Ubigeo!$J:$K,2,0),\" \")","v":" "}]
["42",{"$f":"IFERROR(VLOOKUP(MID(B$27,5,4)&$A69,Lista_Ubigeo!$J:$K,2,0),\" \")","v":" "},{"$f":"IFERROR(VLOOKUP(MID(C$27,5,4)&$A69,Lista_Ubigeo!$J:$K,2,0),\" \")","v":" "},{"$f":"IFERROR(VLOOKUP(MID(D$27,5,4)&$A69,Lista_Ubigeo!$J:$K,2,0),\" \")","v":" "},{"$f":"IFERROR(VLOOKUP(MID(E$27,5,4)&$A69,Lista_Ubigeo!$J:$K,2,0),\" \")","v":" "},{"$f":"IFERROR(VLOOKUP(MID(F$27,5,4)&$A69,Lista_Ubigeo!$J:$K,2,0),\" \")","v":" "},{"$f":"IFERROR(VLOOKUP(MID(G$27,5,4)&$A69,Lista_Ubigeo!$J:$K,2,0),\" \")","v":" "},{"$f":"IFERROR(VLOOKUP(MID(H$27,5,4)&$A69,Lista_Ubigeo!$J:$K,2,0),\" \")","v":" "},{"$f":"IFERROR(VLOOKUP(MID(I$27,5,4)&$A69,Lista_Ubigeo!$J:$K,2,0),\" \")","v":" "},{"$f":"IFERROR(VLOOKUP(MID(J$27,5,4)&$A69,Lista_Ubigeo!$J:$K,2,0),\" \")","v":" "},{"$f":"IFERROR(VLOOKUP(MID(K$27,5,4)&$A69,Lista_Ubigeo!$J:$K,2,0),\" \")","v":" "},{"$f":"IFERROR(VLOOKUP(MID(L$27,5,4)&$A69,Lista_Ubigeo!$J:$K,2,0),\" \")","v":" "},{"$f":"IFERROR(VLOOKUP(MID(M$27,5,4)&$A69,Lista_Ubigeo!$J:$K,2,0),\" \")","v":" "},{"$f":"IFERROR(VLOOKUP(MID(N$27,5,4)&$A69,Lista_Ubigeo!$J:$K,2,0),\" \")","v":" "},{"$f":"IFERROR(VLOOKUP(MID(O$27,5,4)&$A69,Lista_Ubigeo!$J:$K,2,0),\" \")","v":" "},{"$f":"IFERROR(VLOOKUP(MID(P$27,5,4)&$A69,Lista_Ubigeo!$J:$K,2,0),\" \")","v":" "},{"$f":"IFERROR(VLOOKUP(MID(Q$27,5,4)&$A69,Lista_Ubigeo!$J:$K,2,0),\" \")","v":" "},{"$f":"IFERROR(VLOOKUP(MID(R$27,5,4)&$A69,Lista_Ubigeo!$J:$K,2,0),\" \")","v":" "},{"$f":"IFERROR(VLOOKUP(MID(S$27,5,4)&$A69,Lista_Ubigeo!$J:$K,2,0),\" \")","v":" "},{"$f":"IFERROR(VLOOKUP(MID(T$27,5,4)&$A69,Lista_Ubigeo!$J:$K,2,0),\" \")","v":" "},{"$f":"IFERROR(VLOOKUP(MID(U$27,5,4)&$A69,Lista_Ubigeo!$J:$K,2,0),\" \")","v":" "},{"$f":"IFERROR(VLOOKUP(MID(V$27,5,4)&$A69,Lista_Ubigeo!$J:$K,2,0),\" \")","v":" "},{"$f":"IFERROR(VLOOKUP(MID(W$27,5,4)&$A69,Lista_Ubigeo!$J:$K,2,0),\" \")","v":" "},{"$f":"IFERROR(VLOOKUP(MID(X$27,5,4)&$A69,Lista_Ubigeo!$J:$K,2,0),\" \")","v":" "},{"$f":"IFERROR(VLOOKUP(MID(Y$27,5,4)&$A69,Lista_Ubigeo!$J:$K,2,0),\" \")","v":" "},{"$f":"IFERROR(VLOOKUP(MID(Z$27,5,4)&$A69,Lista_Ubigeo!$J:$K,2,0),\" \")","v":" "},{"$f":"IFERROR(VLOOKUP(MID(AA$27,5,4)&$A69,Lista_Ubigeo!$J:$K,2,0),\" \")","v":" "},{"$f":"IFERROR(VLOOKUP(MID(AB$27,5,4)&$A69,Lista_Ubigeo!$J:$K,2,0),\" \")","v":" "},{"$f":"IFERROR(VLOOKUP(MID(AC$27,5,4)&$A69,Lista_Ubigeo!$J:$K,2,0),\" \")","v":" "},{"$f":"IFERROR(VLOOKUP(MID(AD$27,5,4)&$A69,Lista_Ubigeo!$J:$K,2,0),\" \")","v":" "},{"$f":"IFERROR(VLOOKUP(MID(AE$27,5,4)&$A69,Lista_Ubigeo!$J:$K,2,0),\" \")","v":" "},{"$f":"IFERROR(VLOOKUP(MID(AF$27,5,4)&$A69,Lista_Ubigeo!$J:$K,2,0),\" \")","v":" "},{"$f":"IFERROR(VLOOKUP(MID(AG$27,5,4)&$A69,Lista_Ubigeo!$J:$K,2,0),\" \")","v":" "},{"$f":"IFERROR(VLOOKUP(MID(AH$27,5,4)&$A69,Lista_Ubigeo!$J:$K,2,0),\" \")","v":" "},{"$f":"IFERROR(VLOOKUP(MID(AI$27,5,4)&$A69,Lista_Ubigeo!$J:$K,2,0),\" \")","v":" "},{"$f":"IFERROR(VLOOKUP(MID(AJ$27,5,4)&$A69,Lista_Ubigeo!$J:$K,2,0),\" \")","v":" "},{"$f":"IFERROR(VLOOKUP(MID(AK$27,5,4)&$A69,Lista_Ubigeo!$J:$K,2,0),\" \")","v":" "},{"$f":"IFERROR(VLOOKUP(MID(AL$27,5,4)&$A69,Lista_Ubigeo!$J:$K,2,0),\" \")","v":" "},{"$f":"IFERROR(VLOOKUP(MID(AM$27,5,4)&$A69,Lista_Ubigeo!$J:$K,2,0),\" \")","v":" "},{"$f":"IFERROR(VLOOKUP(MID(AN$27,5,4)&$A69,Lista_Ubigeo!$J:$K,2,0),\" \")","v":" "},{"$f":"IFERROR(VLOOKUP(MID(AO$27,5,4)&$A69,Lista_Ubigeo!$J:$K,2,0),\" \")","v":" "},{"$f":"IFERROR(VLOOKUP(MID(AP$27,5,4)&$A69,Lista_Ubigeo!$J:$K,2,0),\" \")","v":" "},{"$f":"IFERROR(VLOOKUP(MID(AQ$27,4,4)&$A69,Lista_Ubigeo!$J:$K,2,0),\" \")","v":" "},{"$f":"IFERROR(VLOOKUP(MID(AR$27,5,4)&$A69,Lista_Ubigeo!$J:$K,2,0),\" \")","v":" "},{"$f":"IFERROR(VLOOKUP(MID(AS$27,5,4)&$A69,Lista_Ubigeo!$J:$K,2,0),\" \")","v":" "},{"$f":"IFERROR(VLOOKUP(MID(AT$27,5,4)&$A69,Lista_Ubigeo!$J:$K,2,0),\" \")","v":" "},{"$f":"IFERROR(VLOOKUP(MID(AU$27,5,4)&$A69,Lista_Ubigeo!$J:$K,2,0),\" \")","v":" "},{"$f":"IFERROR(VLOOKUP(MID(AV$27,5,4)&$A69,Lista_Ubigeo!$J:$K,2,0),\" \")","v":" "},{"$f":"IFERROR(VLOOKUP(MID(AW$27,5,4)&$A69,Lista_Ubigeo!$J:$K,2,0),\" \")","v":" "},{"$f":"IFERROR(VLOOKUP(MID(AX$27,5,4)&$A69,Lista_Ubigeo!$J:$K,2,0),\" \")","v":" "},{"$f":"IFERROR(VLOOKUP(MID(AY$27,5,4)&$A69,Lista_Ubigeo!$J:$K,2,0),\" \")","v":" "},{"$f":"IFERROR(VLOOKUP(MID(AZ$27,5,4)&$A69,Lista_Ubigeo!$J:$K,2,0),\" \")","v":" "},{"$f":"IFERROR(VLOOKUP(MID(BA$27,5,4)&$A69,Lista_Ubigeo!$J:$K,2,0),\" \")","v":" "},{"$f":"IFERROR(VLOOKUP(MID(BB$27,5,4)&$A69,Lista_Ubigeo!$J:$K,2,0),\" \")","v":" "},{"$f":"IFERROR(VLOOKUP(MID(BC$27,5,4)&$A69,Lista_Ubigeo!$J:$K,2,0),\" \")","v":" "},{"$f":"IFERROR(VLOOKUP(MID(BD$27,5,4)&$A69,Lista_Ubigeo!$J:$K,2,0),\" \")","v":" "},{"$f":"IFERROR(VLOOKUP(MID(BE$27,5,4)&$A69,Lista_Ubigeo!$J:$K,2,0),\" \")","v":" "},{"$f":"IFERROR(VLOOKUP(MID(BF$27,5,4)&$A69,Lista_Ubigeo!$J:$K,2,0),\" \")","v":" "},{"$f":"IFERROR(VLOOKUP(MID(BG$27,5,4)&$A69,Lista_Ubigeo!$J:$K,2,0),\" \")","v":" "},{"$f":"IFERROR(VLOOKUP(MID(BH$27,5,4)&$A69,Lista_Ubigeo!$J:$K,2,0),\" \")","v":" "},{"$f":"IFERROR(VLOOKUP(MID(BI$27,5,4)&$A69,Lista_Ubigeo!$J:$K,2,0),\" \")","v":" "},{"$f":"IFERROR(VLOOKUP(MID(BJ$27,5,4)&$A69,Lista_Ubigeo!$J:$K,2,0),\" \")","v":" "},{"$f":"IFERROR(VLOOKUP(MID(BK$27,5,4)&$A69,Lista_Ubigeo!$J:$K,2,0),\" \")","v":" "},{"$f":"IFERROR(VLOOKUP(MID(BL$27,5,4)&$A69,Lista_Ubigeo!$J:$K,2,0),\" \")","v":" "},{"$f":"IFERROR(VLOOKUP(MID(BM$27,5,4)&$A69,Lista_Ubigeo!$J:$K,2,0),\" \")","v":" "},{"$f":"IFERROR(VLOOKUP(MID(BN$27,5,4)&$A69,Lista_Ubigeo!$J:$K,2,0),\" \")","v":" "},{"$f":"IFERROR(VLOOKUP(MID(BO$27,5,4)&$A69,Lista_Ubigeo!$J:$K,2,0),\" \")","v":" "},{"$f":"IFERROR(VLOOKUP(MID(BP$27,5,4)&$A69,Lista_Ubigeo!$J:$K,2,0),\" \")","v":" "},{"$f":"IFERROR(VLOOKUP(MID(BQ$27,5,4)&$A69,Lista_Ubigeo!$J:$K,2,0),\" \")","v":" "},{"$f":"IFERROR(VLOOKUP(MID(BR$27,5,4)&$A69,Lista_Ubigeo!$J:$K,2,0),\" \")","v":" "},{"$f":"IFERROR(VLOOKUP(MID(BS$27,5,4)&$A69,Lista_Ubigeo!$J:$K,2,0),\" \")","v":" "},{"$f":"IFERROR(VLOOKUP(MID(BT$27,5,4)&$A69,Lista_Ubigeo!$J:$K,2,0),\" \")","v":" "},{"$f":"IFERROR(VLOOKUP(MID(BU$27,5,4)&$A69,Lista_Ubigeo!$J:$K,2,0),\" \")","v":" "},{"$f":"IFERROR(VLOOKUP(MID(BV$27,5,4)&$A69,Lista_Ubigeo!$J:$K,2,0),\" \")","v":" "},{"$f":"IFERROR(VLOOKUP(MID(BW$27,5,4)&$A69,Lista_Ubigeo!$J:$K,2,0),\" \")","v":" "},{"$f":"IFERROR(VLOOKUP(MID(BX$27,5,4)&$A69,Lista_Ubigeo!$J:$K,2,0),\" \")","v":" "},{"$f":"IFERROR(VLOOKUP(MID(BY$27,4,4)&$A69,Lista_Ubigeo!$J:$K,2,0),\" \")","v":" "},{"$f":"IFERROR(VLOOKUP(MID(BZ$27,5,4)&$A69,Lista_Ubigeo!$J:$K,2,0),\" \")","v":" "},{"$f":"IFERROR(VLOOKUP(MID(CA$27,5,4)&$A69,Lista_Ubigeo!$J:$K,2,0),\" \")","v":" "},{"$f":"IFERROR(VLOOKUP(MID(CB$27,5,4)&$A69,Lista_Ubigeo!$J:$K,2,0),\" \")","v":" "},{"$f":"IFERROR(VLOOKUP(MID(CC$27,5,4)&$A69,Lista_Ubigeo!$J:$K,2,0),\" \")","v":" "},{"$f":"IFERROR(VLOOKUP(MID(CD$27,5,4)&$A69,Lista_Ubigeo!$J:$K,2,0),\" \")","v":" "},{"$f":"IFERROR(VLOOKUP(MID(CE$27,5,4)&$A69,Lista_Ubigeo!$J:$K,2,0),\" \")","v":" "},{"$f":"IFERROR(VLOOKUP(MID(CF$27,5,4)&$A69,Lista_Ubigeo!$J:$K,2,0),\" \")","v":" "},{"$f":"IFERROR(VLOOKUP(MID(CG$27,5,4)&$A69,Lista_Ubigeo!$J:$K,2,0),\" \")","v":" "},{"$f":"IFERROR(VLOOKUP(MID(CH$27,5,4)&$A69,Lista_Ubigeo!$J:$K,2,0),\" \")","v":" "},{"$f":"IFERROR(VLOOKUP(MID(CI$27,5,4)&$A69,Lista_Ubigeo!$J:$K,2,0),\" \")","v":" "},{"$f":"IFERROR(VLOOKUP(MID(CJ$27,5,4)&$A69,Lista_Ubigeo!$J:$K,2,0),\" \")","v":" "},{"$f":"IFERROR(VLOOKUP(MID(CK$27,5,4)&$A69,Lista_Ubigeo!$J:$K,2,0),\" \")","v":" "},{"$f":"IFERROR(VLOOKUP(MID(CL$27,5,4)&$A69,Lista_Ubigeo!$J:$K,2,0),\" \")","v":" "},{"$f":"IFERROR(VLOOKUP(MID(CM$27,5,4)&$A80,Lista_Ubigeo!$J:$K,2,0),\" \")","v":" "},{"$f":"IFERROR(VLOOKUP(MID(CN$27,5,4)&$A69,Lista_Ubigeo!$J:$K,2,0),\" \")","v":" "},{"$f":"IFERROR(VLOOKUP(MID(CO$27,5,4)&$A69,Lista_Ubigeo!$J:$K,2,0),\" \")","v":" "},{"$f":"IFERROR(VLOOKUP(MID(CP$27,5,4)&$A69,Lista_Ubigeo!$J:$K,2,0),\" \")","v":" "},{"$f":"IFERROR(VLOOKUP(MID(CQ$27,5,4)&$A69,Lista_Ubigeo!$J:$K,2,0),\" \")","v":" "},{"$f":"IFERROR(VLOOKUP(MID(CR$27,5,4)&$A69,Lista_Ubigeo!$J:$K,2,0),\" \")","v":" "},{"$f":"IFERROR(VLOOKUP(MID(CS$27,5,4)&$A69,Lista_Ubigeo!$J:$K,2,0),\" \")","v":" "},{"$f":"IFERROR(VLOOKUP(MID(CT$27,5,4)&$A69,Lista_Ubigeo!$J:$K,2,0),\" \")","v":" "},{"$f":"IFERROR(VLOOKUP(MID(CU$27,5,4)&$A69,Lista_Ubigeo!$J:$K,2,0),\" \")","v":" "},{"$f":"IFERROR(VLOOKUP(MID(CV$27,5,4)&$A69,Lista_Ubigeo!$J:$K,2,0),\" \")","v":" "},{"$f":"IFERROR(VLOOKUP(MID(CW$27,5,4)&$A69,Lista_Ubigeo!$J:$K,2,0),\" \")","v":" "},{"$f":"IFERROR(VLOOKUP(MID(CX$27,5,4)&$A69,Lista_Ubigeo!$J:$K,2,0),\" \")","v":" "},{"$f":"IFERROR(VLOOKUP(MID(CY$27,5,4)&$A69,Lista_Ubigeo!$J:$K,2,0),\" \")","v":" "},{"$f":"IFERROR(VLOOKUP(MID(CZ$27,5,4)&$A69,Lista_Ubigeo!$J:$K,2,0),\" \")","v":" "},{"$f":"IFERROR(VLOOKUP(MID(DA$27,5,4)&$A69,Lista_Ubigeo!$J:$K,2,0),\" \")","v":" "},{"$f":"IFERROR(VLOOKUP(MID(DB$27,5,4)&$A69,Lista_Ubigeo!$J:$K,2,0),\" \")","v":" "},{"$f":"IFERROR(VLOOKUP(MID(DC$27,5,4)&$A69,Lista_Ubigeo!$J:$K,2,0),\" \")","v":" "},{"$f":"IFERROR(VLOOKUP(MID(DD$27,5,4)&$A69,Lista_Ubigeo!$J:$K,2,0),\" \")","v":" "},{"$f":"IFERROR(VLOOKUP(MID(DE$27,5,4)&$A69,Lista_Ubigeo!$J:$K,2,0),\" \")","v":" "},{"$f":"IFERROR(VLOOKUP(MID(DF$27,5,4)&$A69,Lista_Ubigeo!$J:$K,2,0),\" \")","v":" "},{"$f":"IFERROR(VLOOKUP(MID(DG$27,5,4)&$A69,Lista_Ubigeo!$J:$K,2,0),\" \")","v":" "},{"$f":"IFERROR(VLOOKUP(MID(DH$27,5,4)&$A69,Lista_Ubigeo!$J:$K,2,0),\" \")","v":" "},{"$f":"IFERROR(VLOOKUP(MID(DI$27,5,4)&$A69,Lista_Ubigeo!$J:$K,2,0),\" \")","v":" "},{"$f":"IFERROR(VLOOKUP(MID(DJ$27,5,4)&$A69,Lista_Ubigeo!$J:$K,2,0),\" \")","v":" "},{"$f":"IFERROR(VLOOKUP(MID(DK$27,5,4)&$A69,Lista_Ubigeo!$J:$K,2,0),\" \")","v":" "},{"$f":"IFERROR(VLOOKUP(MID(DL$27,5,4)&$A69,Lista_Ubigeo!$J:$K,2,0),\" \")","v":" "},{"$f":"IFERROR(VLOOKUP(MID(DM$27,5,4)&$A69,Lista_Ubigeo!$J:$K,2,0),\" \")","v":" "},{"$f":"IFERROR(VLOOKUP(MID(DN$27,5,4)&$A69,Lista_Ubigeo!$J:$K,2,0),\" \")","v":" "},{"$f":"IFERROR(VLOOKUP(MID(DO$27,5,4)&$A70,Lista_Ubigeo!$J:$K,2,0),\" \")","v":" "},{"$f":"IFERROR(VLOOKUP(MID(DP$27,5,4)&$A69,Lista_Ubigeo!$J:$K,2,0),\" \")","v":" "},{"$f":"IFERROR(VLOOKUP(MID(DQ$27,5,4)&$A69,Lista_Ubigeo!$J:$K,2,0),\" \")","v":" "},{"$f":"IFERROR(VLOOKUP(MID(DR$27,5,4)&$A69,Lista_Ubigeo!$J:$K,2,0),\" \")","v":" "},{"$f":"IFERROR(VLOOKUP(MID(DS$27,5,4)&$A69,Lista_Ubigeo!$J:$K,2,0),\" \")","v":" "},null,null,{"$f":"IFERROR(VLOOKUP(MID(DV$27,5,4)&$A69,Lista_Ubigeo!$J:$K,2,0),\" \")","v":" "},{"$f":"IFERROR(VLOOKUP(MID(DW$27,5,4)&$A69,Lista_Ubigeo!$J:$K,2,0),\" \")","v":" "},{"$f":"IFERROR(VLOOKUP(MID(DX$27,5,4)&$A69,Lista_Ubigeo!$J:$K,2,0),\" \")","v":" "},{"$f":"IFERROR(VLOOKUP(MID(DY$27,5,4)&$A69,Lista_Ubigeo!$J:$K,2,0),\" \")","v":"VILLA EL SALVADOR"},{"$f":"IFERROR(VLOOKUP(MID(DZ$27,5,4)&$A69,Lista_Ubigeo!$J:$K,2,0),\" \")","v":" "},{"$f":"IFERROR(VLOOKUP(MID(EA$27,5,4)&$A69,Lista_Ubigeo!$J:$K,2,0),\" \")","v":" "},{"$f":"IFERROR(VLOOKUP(MID(EB$27,5,4)&$A69,Lista_Ubigeo!$J:$K,2,0),\" \")","v":" "},{"$f":"IFERROR(VLOOKUP(MID(EC$27,5,4)&$A69,Lista_Ubigeo!$J:$K,2,0),\" \")","v":" "},{"$f":"IFERROR(VLOOKUP(MID(ED$27,5,4)&$A69,Lista_Ubigeo!$J:$K,2,0),\" \")","v":" "},{"$f":"IFERROR(VLOOKUP(MID(EE$27,5,4)&$A69,Lista_Ubigeo!$J:$K,2,0),\" \")","v":" "},{"$f":"IFERROR(VLOOKUP(MID(EF$27,5,4)&$A69,Lista_Ubigeo!$J:$K,2,0),\" \")","v":" "},{"$f":"IFERROR(VLOOKUP(MID(EG$27,5,4)&$A69,Lista_Ubigeo!$J:$K,2,0),\" \")","v":" "},{"$f":"IFERROR(VLOOKUP(MID(EH$27,5,4)&$A69,Lista_Ubigeo!$J:$K,2,0),\" \")","v":" "},{"$f":"IFERROR(VLOOKUP(MID(EI$27,5,4)&$A69,Lista_Ubigeo!$J:$K,2,0),\" \")","v":" "},{"$f":"IFERROR(VLOOKUP(MID(EJ$27,5,4)&$A74,Lista_Ubigeo!$J:$K,2,0),\" \")","v":" "},{"$f":"IFERROR(VLOOKUP(MID(EK$27,5,4)&$A69,Lista_Ubigeo!$J:$K,2,0),\" \")","v":" "},{"$f":"IFERROR(VLOOKUP(MID(EL$27,5,4)&$A69,Lista_Ubigeo!$J:$K,2,0),\" \")","v":" "},{"$f":"IFERROR(VLOOKUP(MID(EM$27,5,4)&$A69,Lista_Ubigeo!$J:$K,2,0),\" \")","v":" "},{"$f":"IFERROR(VLOOKUP(MID(EN$27,5,4)&$A69,Lista_Ubigeo!$J:$K,2,0),\" \")","v":" "},{"$f":"IFERROR(VLOOKUP(MID(EO$27,5,4)&$A69,Lista_Ubigeo!$J:$K,2,0),\" \")","v":" "},{"$f":"IFERROR(VLOOKUP(MID(EP$27,5,4)&$A69,Lista_Ubigeo!$J:$K,2,0),\" \")","v":" "},{"$f":"IFERROR(VLOOKUP(MID(EQ$27,5,4)&$A69,Lista_Ubigeo!$J:$K,2,0),\" \")","v":" "},{"$f":"IFERROR(VLOOKUP(MID(ER$27,5,4)&$A69,Lista_Ubigeo!$J:$K,2,0),\" \")","v":" "},{"$f":"IFERROR(VLOOKUP(MID(ES$27,5,4)&$A69,Lista_Ubigeo!$J:$K,2,0),\" \")","v":" "},{"$f":"IFERROR(VLOOKUP(MID(ET$27,5,4)&$A69,Lista_Ubigeo!$J:$K,2,0),\" \")","v":" "},{"$f":"IFERROR(VLOOKUP(MID(EU$27,5,4)&$A69,Lista_Ubigeo!$J:$K,2,0),\" \")","v":" "},{"$f":"IFERROR(VLOOKUP(MID(EV$27,5,4)&$A69,Lista_Ubigeo!$J:$K,2,0),\" \")","v":" "},{"$f":"IFERROR(VLOOKUP(MID(EW$27,5,4)&$A69,Lista_Ubigeo!$J:$K,2,0),\" \")","v":" "},{"$f":"IFERROR(VLOOKUP(MID(EX$27,5,4)&$A69,Lista_Ubigeo!$J:$K,2,0),\" \")","v":" "},{"$f":"IFERROR(VLOOKUP(MID(EY$27,5,4)&$A69,Lista_Ubigeo!$J:$K,2,0),\" \")","v":" "},{"$f":"IFERROR(VLOOKUP(MID(EZ$27,5,4)&$A72,Lista_Ubigeo!$J:$K,2,0),\" \")","v":" "},{"$f":"IFERROR(VLOOKUP(MID(FA$27,5,4)&$A69,Lista_Ubigeo!$J:$K,2,0),\" \")","v":" "},{"$f":"IFERROR(VLOOKUP(MID(FB$27,5,4)&$A69,Lista_Ubigeo!$J:$K,2,0),\" \")","v":" "},{"$f":"IFERROR(VLOOKUP(MID(FC$27,5,4)&$A69,Lista_Ubigeo!$J:$K,2,0),\" \")","v":" "},{"$f":"IFERROR(VLOOKUP(MID(FD$27,5,4)&$A69,Lista_Ubigeo!$J:$K,2,0),\" \")","v":" "},{"$f":"IFERROR(VLOOKUP(MID(FE$27,5,4)&$A69,Lista_Ubigeo!$J:$K,2,0),\" \")","v":" "},{"$f":"IFERROR(VLOOKUP(MID(FF$27,5,4)&$A69,Lista_Ubigeo!$J:$K,2,0),\" \")","v":" "},{"$f":"IFERROR(VLOOKUP(MID(FG$27,5,4)&$A69,Lista_Ubigeo!$J:$K,2,0),\" \")","v":" "},{"$f":"IFERROR(VLOOKUP(MID(FH$27,5,4)&$A69,Lista_Ubigeo!$J:$K,2,0),\" \")","v":" "},{"$f":"IFERROR(VLOOKUP(MID(FI$27,5,4)&$A69,Lista_Ubigeo!$J:$K,2,0),\" \")","v":" "},{"$f":"IFERROR(VLOOKUP(MID(FJ$27,5,4)&$A69,Lista_Ubigeo!$J:$K,2,0),\" \")","v":" "},{"$f":"IFERROR(VLOOKUP(MID(FK$27,5,4)&$A69,Lista_Ubigeo!$J:$K,2,0),\" \")","v":" "},{"$f":"IFERROR(VLOOKUP(MID(FL$27,5,4)&$A69,Lista_Ubigeo!$J:$K,2,0),\" \")","v":" "},{"$f":"IFERROR(VLOOKUP(MID(FM$27,5,4)&$A69,Lista_Ubigeo!$J:$K,2,0),\" \")","v":" "},{"$f":"IFERROR(VLOOKUP(MID(FN$27,5,4)&$A69,Lista_Ubigeo!$J:$K,2,0),\" \")","v":" "},{"$f":"IFERROR(VLOOKUP(MID(FO$27,5,4)&$A69,Lista_Ubigeo!$J:$K,2,0),\" \")","v":" "},{"$f":"IFERROR(VLOOKUP(MID(FP$27,5,4)&$A69,Lista_Ubigeo!$J:$K,2,0),\" \")","v":" "},{"$f":"IFERROR(VLOOKUP(MID(FQ$27,5,4)&$A69,Lista_Ubigeo!$J:$K,2,0),\" \")","v":" "},{"$f":"IFERROR(VLOOKUP(MID(FR$27,5,4)&$A69,Lista_Ubigeo!$J:$K,2,0),\" \")","v":" "},{"$f":"IFERROR(VLOOKUP(MID(FS$27,5,4)&$A69,Lista_Ubigeo!$J:$K,2,0),\" \")","v":" "},{"$f":"IFERROR(VLOOKUP(MID(FT$27,5,4)&$A69,Lista_Ubigeo!$J:$K,2,0),\" \")","v":" "},{"$f":"IFERROR(VLOOKUP(MID(FU$27,5,4)&$A69,Lista_Ubigeo!$J:$K,2,0),\" \")","v":" "},{"$f":"IFERROR(VLOOKUP(MID(FV$27,5,4)&$A69,Lista_Ubigeo!$J:$K,2,0),\" \")","v":" "},{"$f":"IFERROR(VLOOKUP(MID(FW$27,5,4)&$A69,Lista_Ubigeo!$J:$K,2,0),\" \")","v":" "},{"$f":"IFERROR(VLOOKUP(MID(FX$27,5,4)&$A69,Lista_Ubigeo!$J:$K,2,0),\" \")","v":" "},{"$f":"IFERROR(VLOOKUP(MID(FY$27,5,4)&$A69,Lista_Ubigeo!$J:$K,2,0),\" \")","v":" "},{"$f":"IFERROR(VLOOKUP(MID(FZ$27,5,4)&$A69,Lista_Ubigeo!$J:$K,2,0),\" \")","v":" "},{"$f":"IFERROR(VLOOKUP(MID(GA$27,5,4)&$A69,Lista_Ubigeo!$J:$K,2,0),\" \")","v":" "},{"$f":"IFERROR(VLOOKUP(MID(GB$27,5,4)&$A69,Lista_Ubigeo!$J:$K,2,0),\" \")","v":" "},{"$f":"IFERROR(VLOOKUP(MID(GC$27,5,4)&$A69,Lista_Ubigeo!$J:$K,2,0),\" \")","v":" "},{"$f":"IFERROR(VLOOKUP(MID(GD$27,5,4)&$A69,Lista_Ubigeo!$J:$K,2,0),\" \")","v":" "},{"$f":"IFERROR(VLOOKUP(MID(GE$27,5,4)&$A69,Lista_Ubigeo!$J:$K,2,0),\" \")","v":" "},{"$f":"IFERROR(VLOOKUP(MID(GF$27,5,4)&$A69,Lista_Ubigeo!$J:$K,2,0),\" \")","v":" "},{"$f":"IFERROR(VLOOKUP(MID(GG$27,5,4)&$A69,Lista_Ubigeo!$J:$K,2,0),\" \")","v":" "},{"$f":"IFERROR(VLOOKUP(MID(GH$27,5,4)&$A69,Lista_Ubigeo!$J:$K,2,0),\" \")","v":" "},{"$f":"IFERROR(VLOOKUP(MID(GI$27,5,4)&$A69,Lista_Ubigeo!$J:$K,2,0),\" \")","v":" "},{"$f":"IFERROR(VLOOKUP(MID(GJ$27,5,4)&$A69,Lista_Ubigeo!$J:$K,2,0),\" \")","v":" "},{"$f":"IFERROR(VLOOKUP(MID(GK$27,5,4)&$A69,Lista_Ubigeo!$J:$K,2,0),\" \")","v":" "},{"$f":"IFERROR(VLOOKUP(MID(GL$27,5,4)&$A69,Lista_Ubigeo!$J:$K,2,0),\" \")","v":" "},{"$f":"IFERROR(VLOOKUP(MID(GM$27,5,4)&$A69,Lista_Ubigeo!$J:$K,2,0),\" \")","v":" "},{"$f":"IFERROR(VLOOKUP(MID(GN$27,5,4)&$A69,Lista_Ubigeo!$J:$K,2,0),\" \")","v":" "},{"$f":"IFERROR(VLOOKUP(MID(GO$27,5,4)&$A69,Lista_Ubigeo!$J:$K,2,0),\" \")","v":" "},{"$f":"IFERROR(VLOOKUP(MID(GP$27,5,4)&$A69,Lista_Ubigeo!$J:$K,2,0),\" \")","v":" "}]
["43",{"$f":"IFERROR(VLOOKUP(MID(B$27,5,4)&$A70,Lista_Ubigeo!$J:$K,2,0),\" \")","v":" "},{"$f":"IFERROR(VLOOKUP(MID(C$27,5,4)&$A70,Lista_Ubigeo!$J:$K,2,0),\" \")","v":" "},{"$f":"IFERROR(VLOOKUP(MID(D$27,5,4)&$A70,Lista_Ubigeo!$J:$K,2,0),\" \")","v":" "},{"$f":"IFERROR(VLOOKUP(MID(E$27,5,4)&$A70,Lista_Ubigeo!$J:$K,2,0),\" \")","v":" "},{"$f":"IFERROR(VLOOKUP(MID(F$27,5,4)&$A70,Lista_Ubigeo!$J:$K,2,0),\" \")","v":" "},{"$f":"IFERROR(VLOOKUP(MID(G$27,5,4)&$A70,Lista_Ubigeo!$J:$K,2,0),\" \")","v":" "},{"$f":"IFERROR(VLOOKUP(MID(H$27,5,4)&$A70,Lista_Ubigeo!$J:$K,2,0),\" \")","v":" "},{"$f":"IFERROR(VLOOKUP(MID(I$27,5,4)&$A70,Lista_Ubigeo!$J:$K,2,0),\" \")","v":" "},{"$f":"IFERROR(VLOOKUP(MID(J$27,5,4)&$A70,Lista_Ubigeo!$J:$K,2,0),\" \")","v":" "},{"$f":"IFERROR(VLOOKUP(MID(K$27,5,4)&$A70,Lista_Ubigeo!$J:$K,2,0),\" \")","v":" "},{"$f":"IFERROR(VLOOKUP(MID(L$27,5,4)&$A70,Lista_Ubigeo!$J:$K,2,0),\" \")","v":" "},{"$f":"IFERROR(VLOOKUP(MID(M$27,5,4)&$A70,Lista_Ubigeo!$J:$K,2,0),\" \")","v":" "},{"$f":"IFERROR(VLOOKUP(MID(N$27,5,4)&$A70,Lista_Ubigeo!$J:$K,2,0),\" \")","v":" "},{"$f":"IFERROR(VLOOKUP(MID(O$27,5,4)&$A70,Lista_Ubigeo!$J:$K,2,0),\" \")","v":" "},{"$f":"IFERROR(VLOOKUP(MID(P$27,5,4)&$A70,Lista_Ubigeo!$J:$K,2,0),\" \")","v":" "},{"$f":"IFERROR(VLOOKUP(MID(Q$27,5,4)&$A70,Lista_Ubigeo!$J:$K,2,0),\" \")","v":" "},{"$f":"IFERROR(VLOOKUP(MID(R$27,5,4)&$A70,Lista_Ubigeo!$J:$K,2,0),\" \")","v":" "},{"$f":"IFERROR(VLOOKUP(MID(S$27,5,4)&$A70,Lista_Ubigeo!$J:$K,2,0),\" \")","v":" "},{"$f":"IFERROR(VLOOKUP(MID(T$27,5,4)&$A70,Lista_Ubigeo!$J:$K,2,0),\" \")","v":" "},{"$f":"IFERROR(VLOOKUP(MID(U$27,5,4)&$A70,Lista_Ubigeo!$J:$K,2,0),\" \")","v":" "},{"$f":"IFERROR(VLOOKUP(MID(V$27,5,4)&$A70,Lista_Ubigeo!$J:$K,2,0),\" \")","v":" "},{"$f":"IFERROR(VLOOKUP(MID(W$27,5,4)&$A70,Lista_Ubigeo!$J:$K,2,0),\" \")","v":" "},{"$f":"IFERROR(VLOOKUP(MID(X$27,5,4)&$A70,Lista_Ubigeo!$J:$K,2,0),\" \")","v":" "},{"$f":"IFERROR(VLOOKUP(MID(Y$27,5,4)&$A70,Lista_Ubigeo!$J:$K,2,0),\" \")","v":" "},{"$f":"IFERROR(VLOOKUP(MID(Z$27,5,4)&$A70,Lista_Ubigeo!$J:$K,2,0),\" \")","v":" "},{"$f":"IFERROR(VLOOKUP(MID(AA$27,5,4)&$A70,Lista_Ubigeo!$J:$K,2,0),\" \")","v":" "},{"$f":"IFERROR(VLOOKUP(MID(AB$27,5,4)&$A70,Lista_Ubigeo!$J:$K,2,0),\" \")","v":" "},{"$f":"IFERROR(VLOOKUP(MID(AC$27,5,4)&$A70,Lista_Ubigeo!$J:$K,2,0),\" \")","v":" "},{"$f":"IFERROR(VLOOKUP(MID(AD$27,5,4)&$A70,Lista_Ubigeo!$J:$K,2,0),\" \")","v":" "},{"$f":"IFERROR(VLOOKUP(MID(AE$27,5,4)&$A70,Lista_Ubigeo!$J:$K,2,0),\" \")","v":" "},{"$f":"IFERROR(VLOOKUP(MID(AF$27,5,4)&$A70,Lista_Ubigeo!$J:$K,2,0),\" \")","v":" "},{"$f":"IFERROR(VLOOKUP(MID(AG$27,5,4)&$A70,Lista_Ubigeo!$J:$K,2,0),\" \")","v":" "},{"$f":"IFERROR(VLOOKUP(MID(AH$27,5,4)&$A70,Lista_Ubigeo!$J:$K,2,0),\" \")","v":" "},{"$f":"IFERROR(VLOOKUP(MID(AI$27,5,4)&$A70,Lista_Ubigeo!$J:$K,2,0),\" \")","v":" "},{"$f":"IFERROR(VLOOKUP(MID(AJ$27,5,4)&$A70,Lista_Ubigeo!$J:$K,2,0),\" \")","v":" "},{"$f":"IFERROR(VLOOKUP(MID(AK$27,5,4)&$A70,Lista_Ubigeo!$J:$K,2,0),\" \")","v":" "},{"$f":"IFERROR(VLOOKUP(MID(AL$27,5,4)&$A70,Lista_Ubigeo!$J:$K,2,0),\" \")","v":" "},{"$f":"IFERROR(VLOOKUP(MID(AM$27,5,4)&$A70,Lista_Ubigeo!$J:$K,2,0),\" \")","v":" "},{"$f":"IFERROR(VLOOKUP(MID(AN$27,5,4)&$A70,Lista_Ubigeo!$J:$K,2,0),\" \")","v":" "},{"$f":"IFERROR(VLOOKUP(MID(AO$27,5,4)&$A70,Lista_Ubigeo!$J:$K,2,0),\" \")","v":" "},{"$f":"IFERROR(VLOOKUP(MID(AP$27,5,4)&$A70,Lista_Ubigeo!$J:$K,2,0),\" \")","v":" "},{"$f":"IFERROR(VLOOKUP(MID(AQ$27,4,4)&$A70,Lista_Ubigeo!$J:$K,2,0),\" \")","v":" "},{"$f":"IFERROR(VLOOKUP(MID(AR$27,5,4)&$A70,Lista_Ubigeo!$J:$K,2,0),\" \")","v":" "},{"$f":"IFERROR(VLOOKUP(MID(AS$27,5,4)&$A70,Lista_Ubigeo!$J:$K,2,0),\" \")","v":" "},{"$f":"IFERROR(VLOOKUP(MID(AT$27,5,4)&$A70,Lista_Ubigeo!$J:$K,2,0),\" \")","v":" "},{"$f":"IFERROR(VLOOKUP(MID(AU$27,5,4)&$A70,Lista_Ubigeo!$J:$K,2,0),\" \")","v":" "},{"$f":"IFERROR(VLOOKUP(MID(AV$27,5,4)&$A70,Lista_Ubigeo!$J:$K,2,0),\" \")","v":" "},{"$f":"IFERROR(VLOOKUP(MID(AW$27,5,4)&$A70,Lista_Ubigeo!$J:$K,2,0),\" \")","v":" "},{"$f":"IFERROR(VLOOKUP(MID(AX$27,5,4)&$A70,Lista_Ubigeo!$J:$K,2,0),\" \")","v":" "},{"$f":"IFERROR(VLOOKUP(MID(AY$27,5,4)&$A70,Lista_Ubigeo!$J:$K,2,0),\" \")","v":" "},{"$f":"IFERROR(VLOOKUP(MID(AZ$27,5,4)&$A70,Lista_Ubigeo!$J:$K,2,0),\" \")","v":" "},{"$f":"IFERROR(VLOOKUP(MID(BA$27,5,4)&$A70,Lista_Ubigeo!$J:$K,2,0),\" \")","v":" "},{"$f":"IFERROR(VLOOKUP(MID(BB$27,5,4)&$A70,Lista_Ubigeo!$J:$K,2,0),\" \")","v":" "},{"$f":"IFERROR(VLOOKUP(MID(BC$27,5,4)&$A70,Lista_Ubigeo!$J:$K,2,0),\" \")","v":" "},{"$f":"IFERROR(VLOOKUP(MID(BD$27,5,4)&$A70,Lista_Ubigeo!$J:$K,2,0),\" \")","v":" "},{"$f":"IFERROR(VLOOKUP(MID(BE$27,5,4)&$A70,Lista_Ubigeo!$J:$K,2,0),\" \")","v":" "},{"$f":"IFERROR(VLOOKUP(MID(BF$27,5,4)&$A70,Lista_Ubigeo!$J:$K,2,0),\" \")","v":" "},{"$f":"IFERROR(VLOOKUP(MID(BG$27,5,4)&$A70,Lista_Ubigeo!$J:$K,2,0),\" \")","v":" "},{"$f":"IFERROR(VLOOKUP(MID(BH$27,5,4)&$A70,Lista_Ubigeo!$J:$K,2,0),\" \")","v":" "},{"$f":"IFERROR(VLOOKUP(MID(BI$27,5,4)&$A70,Lista_Ubigeo!$J:$K,2,0),\" \")","v":" "},{"$f":"IFERROR(VLOOKUP(MID(BJ$27,5,4)&$A70,Lista_Ubigeo!$J:$K,2,0),\" \")","v":" "},{"$f":"IFERROR(VLOOKUP(MID(BK$27,5,4)&$A70,Lista_Ubigeo!$J:$K,2,0),\" \")","v":" "},{"$f":"IFERROR(VLOOKUP(MID(BL$27,5,4)&$A70,Lista_Ubigeo!$J:$K,2,0),\" \")","v":" "},{"$f":"IFERROR(VLOOKUP(MID(BM$27,5,4)&$A70,Lista_Ubigeo!$J:$K,2,0),\" \")","v":" "},{"$f":"IFERROR(VLOOKUP(MID(BN$27,5,4)&$A70,Lista_Ubigeo!$J:$K,2,0),\" \")","v":" "},{"$f":"IFERROR(VLOOKUP(MID(BO$27,5,4)&$A70,Lista_Ubigeo!$J:$K,2,0),\" \")","v":" "},{"$f":"IFERROR(VLOOKUP(MID(BP$27,5,4)&$A70,Lista_Ubigeo!$J:$K,2,0),\" \")","v":" "},{"$f":"IFERROR(VLOOKUP(MID(BQ$27,5,4)&$A70,Lista_Ubigeo!$J:$K,2,0),\" \")","v":" "},{"$f":"IFERROR(VLOOKUP(MID(BR$27,5,4)&$A70,Lista_Ubigeo!$J:$K,2,0),\" \")","v":" "},{"$f":"IFERROR(VLOOKUP(MID(BS$27,5,4)&$A70,Lista_Ubigeo!$J:$K,2,0),\" \")","v":" "},{"$f":"IFERROR(VLOOKUP(MID(BT$27,5,4)&$A70,Lista_Ubigeo!$J:$K,2,0),\" \")","v":" "},{"$f":"IFERROR(VLOOKUP(MID(BU$27,5,4)&$A70,Lista_Ubigeo!$J:$K,2,0),\" \")","v":" "},{"$f":"IFERROR(VLOOKUP(MID(BV$27,5,4)&$A70,Lista_Ubigeo!$J:$K,2,0),\" \")","v":" "},{"$f":"IFERROR(VLOOKUP(MID(BW$27,5,4)&$A70,Lista_Ubigeo!$J:$K,2,0),\" \")","v":" "},{"$f":"IFERROR(VLOOKUP(MID(BX$27,5,4)&$A70,Lista_Ubigeo!$J:$K,2,0),\" \")","v":" "},{"$f":"IFERROR(VLOOKUP(MID(BY$27,4,4)&$A70,Lista_Ubigeo!$J:$K,2,0),\" \")","v":" "},{"$f":"IFERROR(VLOOKUP(MID(BZ$27,5,4)&$A70,Lista_Ubigeo!$J:$K,2,0),\" \")","v":" "},{"$f":"IFERROR(VLOOKUP(MID(CA$27,5,4)&$A70,Lista_Ubigeo!$J:$K,2,0),\" \")","v":" "},{"$f":"IFERROR(VLOOKUP(MID(CB$27,5,4)&$A70,Lista_Ubigeo!$J:$K,2,0),\" \")","v":" "},{"$f":"IFERROR(VLOOKUP(MID(CC$27,5,4)&$A70,Lista_Ubigeo!$J:$K,2,0),\" \")","v":" "},{"$f":"IFERROR(VLOOKUP(MID(CD$27,5,4)&$A70,Lista_Ubigeo!$J:$K,2,0),\" \")","v":" "},{"$f":"IFERROR(VLOOKUP(MID(CE$27,5,4)&$A70,Lista_Ubigeo!$J:$K,2,0),\" \")","v":" "},{"$f":"IFERROR(VLOOKUP(MID(CF$27,5,4)&$A70,Lista_Ubigeo!$J:$K,2,0),\" \")","v":" "},{"$f":"IFERROR(VLOOKUP(MID(CG$27,5,4)&$A70,Lista_Ubigeo!$J:$K,2,0),\" \")","v":" "},{"$f":"IFERROR(VLOOKUP(MID(CH$27,5,4)&$A70,Lista_Ubigeo!$J:$K,2,0),\" \")","v":" "},{"$f":"IFERROR(VLOOKUP(MID(CI$27,5,4)&$A70,Lista_Ubigeo!$J:$K,2,0),\" \")","v":" "},{"$f":"IFERROR(VLOOKUP(MID(CJ$27,5,4)&$A70,Lista_Ubigeo!$J:$K,2,0),\" \")","v":" "},{"$f":"IFERROR(VLOOKUP(MID(CK$27,5,4)&$A70,Lista_Ubigeo!$J:$K,2,0),\" \")","v":" "},{"$f":"IFERROR(VLOOKUP(MID(CL$27,5,4)&$A70,Lista_Ubigeo!$J:$K,2,0),\" \")","v":" "},{"$f":"IFERROR(VLOOKUP(MID(CM$27,5,4)&$A81,Lista_Ubigeo!$J:$K,2,0),\" \")","v":" "},{"$f":"IFERROR(VLOOKUP(MID(CN$27,5,4)&$A70,Lista_Ubigeo!$J:$K,2,0),\" \")","v":" "},{"$f":"IFERROR(VLOOKUP(MID(CO$27,5,4)&$A70,Lista_Ubigeo!$J:$K,2,0),\" \")","v":" "},{"$f":"IFERROR(VLOOKUP(MID(CP$27,5,4)&$A70,Lista_Ubigeo!$J:$K,2,0),\" \")","v":" "},{"$f":"IFERROR(VLOOKUP(MID(CQ$27,5,4)&$A70,Lista_Ubigeo!$J:$K,2,0),\" \")","v":" "},{"$f":"IFERROR(VLOOKUP(MID(CR$27,5,4)&$A70,Lista_Ubigeo!$J:$K,2,0),\" \")","v":" "},{"$f":"IFERROR(VLOOKUP(MID(CS$27,5,4)&$A70,Lista_Ubigeo!$J:$K,2,0),\" \")","v":" "},{"$f":"IFERROR(VLOOKUP(MID(CT$27,5,4)&$A70,Lista_Ubigeo!$J:$K,2,0),\" \")","v":" "},{"$f":"IFERROR(VLOOKUP(MID(CU$27,5,4)&$A70,Lista_Ubigeo!$J:$K,2,0),\" \")","v":" "},{"$f":"IFERROR(VLOOKUP(MID(CV$27,5,4)&$A70,Lista_Ubigeo!$J:$K,2,0),\" \")","v":" "},{"$f":"IFERROR(VLOOKUP(MID(CW$27,5,4)&$A70,Lista_Ubigeo!$J:$K,2,0),\" \")","v":" "},{"$f":"IFERROR(VLOOKUP(MID(CX$27,5,4)&$A70,Lista_Ubigeo!$J:$K,2,0),\" \")","v":" "},{"$f":"IFERROR(VLOOKUP(MID(CY$27,5,4)&$A70,Lista_Ubigeo!$J:$K,2,0),\" \")","v":" "},{"$f":"IFERROR(VLOOKUP(MID(CZ$27,5,4)&$A70,Lista_Ubigeo!$J:$K,2,0),\" \")","v":" "},{"$f":"IFERROR(VLOOKUP(MID(DA$27,5,4)&$A70,Lista_Ubigeo!$J:$K,2,0),\" \")","v":" "},{"$f":"IFERROR(VLOOKUP(MID(DB$27,5,4)&$A70,Lista_Ubigeo!$J:$K,2,0),\" \")","v":" "},{"$f":"IFERROR(VLOOKUP(MID(DC$27,5,4)&$A70,Lista_Ubigeo!$J:$K,2,0),\" \")","v":" "},{"$f":"IFERROR(VLOOKUP(MID(DD$27,5,4)&$A70,Lista_Ubigeo!$J:$K,2,0),\" \")","v":" "},{"$f":"IFERROR(VLOOKUP(MID(DE$27,5,4)&$A70,Lista_Ubigeo!$J:$K,2,0),\" \")","v":" "},{"$f":"IFERROR(VLOOKUP(MID(DF$27,5,4)&$A70,Lista_Ubigeo!$J:$K,2,0),\" \")","v":" "},{"$f":"IFERROR(VLOOKUP(MID(DG$27,5,4)&$A70,Lista_Ubigeo!$J:$K,2,0),\" \")","v":" "},{"$f":"IFERROR(VLOOKUP(MID(DH$27,5,4)&$A70,Lista_Ubigeo!$J:$K,2,0),\" \")","v":" "},{"$f":"IFERROR(VLOOKUP(MID(DI$27,5,4)&$A70,Lista_Ubigeo!$J:$K,2,0),\" \")","v":" "},{"$f":"IFERROR(VLOOKUP(MID(DJ$27,5,4)&$A70,Lista_Ubigeo!$J:$K,2,0),\" \")","v":" "},{"$f":"IFERROR(VLOOKUP(MID(DK$27,5,4)&$A70,Lista_Ubigeo!$J:$K,2,0),\" \")","v":" "},{"$f":"IFERROR(VLOOKUP(MID(DL$27,5,4)&$A70,Lista_Ubigeo!$J:$K,2,0),\" \")","v":" "},{"$f":"IFERROR(VLOOKUP(MID(DM$27,5,4)&$A70,Lista_Ubigeo!$J:$K,2,0),\" \")","v":" "},{"$f":"IFERROR(VLOOKUP(MID(DN$27,5,4)&$A70,Lista_Ubigeo!$J:$K,2,0),\" \")","v":" "},{"$f":"IFERROR(VLOOKUP(MID(DO$27,5,4)&$A71,Lista_Ubigeo!$J:$K,2,0),\" \")","v":" "},{"$f":"IFERROR(VLOOKUP(MID(DP$27,5,4)&$A70,Lista_Ubigeo!$J:$K,2,0),\" \")","v":" "},{"$f":"IFERROR(VLOOKUP(MID(DQ$27,5,4)&$A70,Lista_Ubigeo!$J:$K,2,0),\" \")","v":" "},{"$f":"IFERROR(VLOOKUP(MID(DR$27,5,4)&$A70,Lista_Ubigeo!$J:$K,2,0),\" \")","v":" "},{"$f":"IFERROR(VLOOKUP(MID(DS$27,5,4)&$A70,Lista_Ubigeo!$J:$K,2,0),\" \")","v":" "},null,null,{"$f":"IFERROR(VLOOKUP(MID(DV$27,5,4)&$A70,Lista_Ubigeo!$J:$K,2,0),\" \")","v":" "},{"$f":"IFERROR(VLOOKUP(MID(DW$27,5,4)&$A70,Lista_Ubigeo!$J:$K,2,0),\" \")","v":" "},{"$f":"IFERROR(VLOOKUP(MID(DX$27,5,4)&$A70,Lista_Ubigeo!$J:$K,2,0),\" \")","v":" "},{"$f":"IFERROR(VLOOKUP(MID(DY$27,5,4)&$A70,Lista_Ubigeo!$J:$K,2,0),\" \")","v":"VILLA MARIA DEL TRIUNFO"},{"$f":"IFERROR(VLOOKUP(MID(DZ$27,5,4)&$A70,Lista_Ubigeo!$J:$K,2,0),\" \")","v":" "},{"$f":"IFERROR(VLOOKUP(MID(EA$27,5,4)&$A70,Lista_Ubigeo!$J:$K,2,0),\" \")","v":" "},{"$f":"IFERROR(VLOOKUP(MID(EB$27,5,4)&$A70,Lista_Ubigeo!$J:$K,2,0),\" \")","v":" "},{"$f":"IFERROR(VLOOKUP(MID(EC$27,5,4)&$A70,Lista_Ubigeo!$J:$K,2,0),\" \")","v":" "},{"$f":"IFERROR(VLOOKUP(MID(ED$27,5,4)&$A70,Lista_Ubigeo!$J:$K,2,0),\" \")","v":" "},{"$f":"IFERROR(VLOOKUP(MID(EE$27,5,4)&$A70,Lista_Ubigeo!$J:$K,2,0),\" \")","v":" "},{"$f":"IFERROR(VLOOKUP(MID(EF$27,5,4)&$A70,Lista_Ubigeo!$J:$K,2,0),\" \")","v":" "},{"$f":"IFERROR(VLOOKUP(MID(EG$27,5,4)&$A70,Lista_Ubigeo!$J:$K,2,0),\" \")","v":" "},{"$f":"IFERROR(VLOOKUP(MID(EH$27,5,4)&$A70,Lista_Ubigeo!$J:$K,2,0),\" \")","v":" "},{"$f":"IFERROR(VLOOKUP(MID(EI$27,5,4)&$A70,Lista_Ubigeo!$J:$K,2,0),\" \")","v":" "},{"$f":"IFERROR(VLOOKUP(MID(EJ$27,5,4)&$A75,Lista_Ubigeo!$J:$K,2,0),\" \")","v":" "},{"$f":"IFERROR(VLOOKUP(MID(EK$27,5,4)&$A70,Lista_Ubigeo!$J:$K,2,0),\" \")","v":" "},{"$f":"IFERROR(VLOOKUP(MID(EL$27,5,4)&$A70,Lista_Ubigeo!$J:$K,2,0),\" \")","v":" "},{"$f":"IFERROR(VLOOKUP(MID(EM$27,5,4)&$A70,Lista_Ubigeo!$J:$K,2,0),\" \")","v":" "},{"$f":"IFERROR(VLOOKUP(MID(EN$27,5,4)&$A70,Lista_Ubigeo!$J:$K,2,0),\" \")","v":" "},{"$f":"IFERROR(VLOOKUP(MID(EO$27,5,4)&$A70,Lista_Ubigeo!$J:$K,2,0),\" \")","v":" "},{"$f":"IFERROR(VLOOKUP(MID(EP$27,5,4)&$A70,Lista_Ubigeo!$J:$K,2,0),\" \")","v":" "},{"$f":"IFERROR(VLOOKUP(MID(EQ$27,5,4)&$A70,Lista_Ubigeo!$J:$K,2,0),\" \")","v":" "},{"$f":"IFERROR(VLOOKUP(MID(ER$27,5,4)&$A70,Lista_Ubigeo!$J:$K,2,0),\" \")","v":" "},{"$f":"IFERROR(VLOOKUP(MID(ES$27,5,4)&$A70,Lista_Ubigeo!$J:$K,2,0),\" \")","v":" "},{"$f":"IFERROR(VLOOKUP(MID(ET$27,5,4)&$A70,Lista_Ubigeo!$J:$K,2,0),\" \")","v":" "},{"$f":"IFERROR(VLOOKUP(MID(EU$27,5,4)&$A70,Lista_Ubigeo!$J:$K,2,0),\" \")","v":" "},{"$f":"IFERROR(VLOOKUP(MID(EV$27,5,4)&$A70,Lista_Ubigeo!$J:$K,2,0),\" \")","v":" "},{"$f":"IFERROR(VLOOKUP(MID(EW$27,5,4)&$A70,Lista_Ubigeo!$J:$K,2,0),\" \")","v":" "},{"$f":"IFERROR(VLOOKUP(MID(EX$27,5,4)&$A70,Lista_Ubigeo!$J:$K,2,0),\" \")","v":" "},{"$f":"IFERROR(VLOOKUP(MID(EY$27,5,4)&$A70,Lista_Ubigeo!$J:$K,2,0),\" \")","v":" "},{"$f":"IFERROR(VLOOKUP(MID(EZ$27,5,4)&$A73,Lista_Ubigeo!$J:$K,2,0),\" \")","v":" "},{"$f":"IFERROR(VLOOKUP(MID(FA$27,5,4)&$A70,Lista_Ubigeo!$J:$K,2,0),\" \")","v":" "},{"$f":"IFERROR(VLOOKUP(MID(FB$27,5,4)&$A70,Lista_Ubigeo!$J:$K,2,0),\" \")","v":" "},{"$f":"IFERROR(VLOOKUP(MID(FC$27,5,4)&$A70,Lista_Ubigeo!$J:$K,2,0),\" \")","v":" "},{"$f":"IFERROR(VLOOKUP(MID(FD$27,5,4)&$A70,Lista_Ubigeo!$J:$K,2,0),\" \")","v":" "},{"$f":"IFERROR(VLOOKUP(MID(FE$27,5,4)&$A70,Lista_Ubigeo!$J:$K,2,0),\" \")","v":" "},{"$f":"IFERROR(VLOOKUP(MID(FF$27,5,4)&$A70,Lista_Ubigeo!$J:$K,2,0),\" \")","v":" "},{"$f":"IFERROR(VLOOKUP(MID(FG$27,5,4)&$A70,Lista_Ubigeo!$J:$K,2,0),\" \")","v":" "},{"$f":"IFERROR(VLOOKUP(MID(FH$27,5,4)&$A70,Lista_Ubigeo!$J:$K,2,0),\" \")","v":" "},{"$f":"IFERROR(VLOOKUP(MID(FI$27,5,4)&$A70,Lista_Ubigeo!$J:$K,2,0),\" \")","v":" "},{"$f":"IFERROR(VLOOKUP(MID(FJ$27,5,4)&$A70,Lista_Ubigeo!$J:$K,2,0),\" \")","v":" "},{"$f":"IFERROR(VLOOKUP(MID(FK$27,5,4)&$A70,Lista_Ubigeo!$J:$K,2,0),\" \")","v":" "},{"$f":"IFERROR(VLOOKUP(MID(FL$27,5,4)&$A70,Lista_Ubigeo!$J:$K,2,0),\" \")","v":" "},{"$f":"IFERROR(VLOOKUP(MID(FM$27,5,4)&$A70,Lista_Ubigeo!$J:$K,2,0),\" \")","v":" "},{"$f":"IFERROR(VLOOKUP(MID(FN$27,5,4)&$A70,Lista_Ubigeo!$J:$K,2,0),\" \")","v":" "},{"$f":"IFERROR(VLOOKUP(MID(FO$27,5,4)&$A70,Lista_Ubigeo!$J:$K,2,0),\" \")","v":" "},{"$f":"IFERROR(VLOOKUP(MID(FP$27,5,4)&$A70,Lista_Ubigeo!$J:$K,2,0),\" \")","v":" "},{"$f":"IFERROR(VLOOKUP(MID(FQ$27,5,4)&$A70,Lista_Ubigeo!$J:$K,2,0),\" \")","v":" "},{"$f":"IFERROR(VLOOKUP(MID(FR$27,5,4)&$A70,Lista_Ubigeo!$J:$K,2,0),\" \")","v":" "},{"$f":"IFERROR(VLOOKUP(MID(FS$27,5,4)&$A70,Lista_Ubigeo!$J:$K,2,0),\" \")","v":" "},{"$f":"IFERROR(VLOOKUP(MID(FT$27,5,4)&$A70,Lista_Ubigeo!$J:$K,2,0),\" \")","v":" "},{"$f":"IFERROR(VLOOKUP(MID(FU$27,5,4)&$A70,Lista_Ubigeo!$J:$K,2,0),\" \")","v":" "},{"$f":"IFERROR(VLOOKUP(MID(FV$27,5,4)&$A70,Lista_Ubigeo!$J:$K,2,0),\" \")","v":" "},{"$f":"IFERROR(VLOOKUP(MID(FW$27,5,4)&$A70,Lista_Ubigeo!$J:$K,2,0),\" \")","v":" "},{"$f":"IFERROR(VLOOKUP(MID(FX$27,5,4)&$A70,Lista_Ubigeo!$J:$K,2,0),\" \")","v":" "},{"$f":"IFERROR(VLOOKUP(MID(FY$27,5,4)&$A70,Lista_Ubigeo!$J:$K,2,0),\" \")","v":" "},{"$f":"IFERROR(VLOOKUP(MID(FZ$27,5,4)&$A70,Lista_Ubigeo!$J:$K,2,0),\" \")","v":" "},{"$f":"IFERROR(VLOOKUP(MID(GA$27,5,4)&$A70,Lista_Ubigeo!$J:$K,2,0),\" \")","v":" "},{"$f":"IFERROR(VLOOKUP(MID(GB$27,5,4)&$A70,Lista_Ubigeo!$J:$K,2,0),\" \")","v":" "},{"$f":"IFERROR(VLOOKUP(MID(GC$27,5,4)&$A70,Lista_Ubigeo!$J:$K,2,0),\" \")","v":" "},{"$f":"IFERROR(VLOOKUP(MID(GD$27,5,4)&$A70,Lista_Ubigeo!$J:$K,2,0),\" \")","v":" "},{"$f":"IFERROR(VLOOKUP(MID(GE$27,5,4)&$A70,Lista_Ubigeo!$J:$K,2,0),\" \")","v":" "},{"$f":"IFERROR(VLOOKUP(MID(GF$27,5,4)&$A70,Lista_Ubigeo!$J:$K,2,0),\" \")","v":" "},{"$f":"IFERROR(VLOOKUP(MID(GG$27,5,4)&$A70,Lista_Ubigeo!$J:$K,2,0),\" \")","v":" "},{"$f":"IFERROR(VLOOKUP(MID(GH$27,5,4)&$A70,Lista_Ubigeo!$J:$K,2,0),\" \")","v":" "},{"$f":"IFERROR(VLOOKUP(MID(GI$27,5,4)&$A70,Lista_Ubigeo!$J:$K,2,0),\" \")","v":" "},{"$f":"IFERROR(VLOOKUP(MID(GJ$27,5,4)&$A70,Lista_Ubigeo!$J:$K,2,0),\" \")","v":" "},{"$f":"IFERROR(VLOOKUP(MID(GK$27,5,4)&$A70,Lista_Ubigeo!$J:$K,2,0),\" \")","v":" "},{"$f":"IFERROR(VLOOKUP(MID(GL$27,5,4)&$A70,Lista_Ubigeo!$J:$K,2,0),\" \")","v":" "},{"$f":"IFERROR(VLOOKUP(MID(GM$27,5,4)&$A70,Lista_Ubigeo!$J:$K,2,0),\" \")","v":" "},{"$f":"IFERROR(VLOOKUP(MID(GN$27,5,4)&$A70,Lista_Ubigeo!$J:$K,2,0),\" \")","v":" "},{"$f":"IFERROR(VLOOKUP(MID(GO$27,5,4)&$A70,Lista_Ubigeo!$J:$K,2,0),\" \")","v":" "},{"$f":"IFERROR(VLOOKUP(MID(GP$27,5,4)&$A70,Lista_Ubigeo!$J:$K,2,0),\" \")","v":" "}]
["44",{"$f":"IFERROR(VLOOKUP(MID(B$27,5,4)&$A71,Lista_Ubigeo!$J:$K,2,0),\" \")","v":" "},{"$f":"IFERROR(VLOOKUP(MID(C$27,5,4)&$A71,Lista_Ubigeo!$J:$K,2,0),\" \")","v":" "},{"$f":"IFERROR(VLOOKUP(MID(D$27,5,4)&$A71,Lista_Ubigeo!$J:$K,2,0),\" \")","v":" "},{"$f":"IFERROR(VLOOKUP(MID(E$27,5,4)&$A71,Lista_Ubigeo!$J:$K,2,0),\" \")","v":" "},{"$f":"IFERROR(VLOOKUP(MID(F$27,5,4)&$A71,Lista_Ubigeo!$J:$K,2,0),\" \")","v":" "},{"$f":"IFERROR(VLOOKUP(MID(G$27,5,4)&$A71,Lista_Ubigeo!$J:$K,2,0),\" \")","v":" "},{"$f":"IFERROR(VLOOKUP(MID(H$27,5,4)&$A71,Lista_Ubigeo!$J:$K,2,0),\" \")","v":" "},{"$f":"IFERROR(VLOOKUP(MID(I$27,5,4)&$A71,Lista_Ubigeo!$J:$K,2,0),\" \")","v":" "},{"$f":"IFERROR(VLOOKUP(MID(J$27,5,4)&$A71,Lista_Ubigeo!$J:$K,2,0),\" \")","v":" "},{"$f":"IFERROR(VLOOKUP(MID(K$27,5,4)&$A71,Lista_Ubigeo!$J:$K,2,0),\" \")","v":" "},{"$f":"IFERROR(VLOOKUP(MID(L$27,5,4)&$A71,Lista_Ubigeo!$J:$K,2,0),\" \")","v":" "},{"$f":"IFERROR(VLOOKUP(MID(M$27,5,4)&$A71,Lista_Ubigeo!$J:$K,2,0),\" \")","v":" "},{"$f":"IFERROR(VLOOKUP(MID(N$27,5,4)&$A71,Lista_Ubigeo!$J:$K,2,0),\" \")","v":" "},{"$f":"IFERROR(VLOOKUP(MID(O$27,5,4)&$A71,Lista_Ubigeo!$J:$K,2,0),\" \")","v":" "},{"$f":"IFERROR(VLOOKUP(MID(P$27,5,4)&$A71,Lista_Ubigeo!$J:$K,2,0),\" \")","v":" "},{"$f":"IFERROR(VLOOKUP(MID(Q$27,5,4)&$A71,Lista_Ubigeo!$J:$K,2,0),\" \")","v":" "},{"$f":"IFERROR(VLOOKUP(MID(R$27,5,4)&$A71,Lista_Ubigeo!$J:$K,2,0),\" \")","v":" "},{"$f":"IFERROR(VLOOKUP(MID(S$27,5,4)&$A71,Lista_Ubigeo!$J:$K,2,0),\" \")","v":" "},{"$f":"IFERROR(VLOOKUP(MID(T$27,5,4)&$A71,Lista_Ubigeo!$J:$K,2,0),\" \")","v":" "},{"$f":"IFERROR(VLOOKUP(MID(U$27,5,4)&$A71,Lista_Ubigeo!$J:$K,2,0),\" \")","v":" "},{"$f":"IFERROR(VLOOKUP(MID(V$27,5,4)&$A71,Lista_Ubigeo!$J:$K,2,0),\" \")","v":" "},{"$f":"IFERROR(VLOOKUP(MID(W$27,5,4)&$A71,Lista_Ubigeo!$J:$K,2,0),\" \")","v":" "},{"$f":"IFERROR(VLOOKUP(MID(X$27,5,4)&$A71,Lista_Ubigeo!$J:$K,2,0),\" \")","v":" "},{"$f":"IFERROR(VLOOKUP(MID(Y$27,5,4)&$A71,Lista_Ubigeo!$J:$K,2,0),\" \")","v":" "},{"$f":"IFERROR(VLOOKUP(MID(Z$27,5,4)&$A71,Lista_Ubigeo!$J:$K,2,0),\" \")","v":" "},{"$f":"IFERROR(VLOOKUP(MID(AA$27,5,4)&$A71,Lista_Ubigeo!$J:$K,2,0),\" \")","v":" "},{"$f":"IFERROR(VLOOKUP(MID(AB$27,5,4)&$A71,Lista_Ubigeo!$J:$K,2,0),\" \")","v":" "},{"$f":"IFERROR(VLOOKUP(MID(AC$27,5,4)&$A71,Lista_Ubigeo!$J:$K,2,0),\" \")","v":" "},{"$f":"IFERROR(VLOOKUP(MID(AD$27,5,4)&$A71,Lista_Ubigeo!$J:$K,2,0),\" \")","v":" "},{"$f":"IFERROR(VLOOKUP(MID(AE$27,5,4)&$A71,Lista_Ubigeo!$J:$K,2,0),\" \")","v":" "},{"$f":"IFERROR(VLOOKUP(MID(AF$27,5,4)&$A71,Lista_Ubigeo!$J:$K,2,0),\" \")","v":" "},{"$f":"IFERROR(VLOOKUP(MID(AG$27,5,4)&$A71,Lista_Ubigeo!$J:$K,2,0),\" \")","v":" "},{"$f":"IFERROR(VLOOKUP(MID(AH$27,5,4)&$A71,Lista_Ubigeo!$J:$K,2,0),\" \")","v":" "},{"$f":"IFERROR(VLOOKUP(MID(AI$27,5,4)&$A71,Lista_Ubigeo!$J:$K,2,0),\" \")","v":" "},{"$f":"IFERROR(VLOOKUP(MID(AJ$27,5,4)&$A71,Lista_Ubigeo!$J:$K,2,0),\" \")","v":" "},{"$f":"IFERROR(VLOOKUP(MID(AK$27,5,4)&$A71,Lista_Ubigeo!$J:$K,2,0),\" \")","v":" "},{"$f":"IFERROR(VLOOKUP(MID(AL$27,5,4)&$A71,Lista_Ubigeo!$J:$K,2,0),\" \")","v":" "},{"$f":"IFERROR(VLOOKUP(MID(AM$27,5,4)&$A71,Lista_Ubigeo!$J:$K,2,0),\" \")","v":" "},{"$f":"IFERROR(VLOOKUP(MID(AN$27,5,4)&$A71,Lista_Ubigeo!$J:$K,2,0),\" \")","v":" "},{"$f":"IFERROR(VLOOKUP(MID(AO$27,5,4)&$A71,Lista_Ubigeo!$J:$K,2,0),\" \")","v":" "},{"$f":"IFERROR(VLOOKUP(MID(AP$27,5,4)&$A71,Lista_Ubigeo!$J:$K,2,0),\" \")","v":" "},{"$f":"IFERROR(VLOOKUP(MID(AQ$27,4,4)&$A71,Lista_Ubigeo!$J:$K,2,0),\" \")","v":" "},{"$f":"IFERROR(VLOOKUP(MID(AR$27,5,4)&$A71,Lista_Ubigeo!$J:$K,2,0),\" \")","v":" "},{"$f":"IFERROR(VLOOKUP(MID(AS$27,5,4)&$A71,Lista_Ubigeo!$J:$K,2,0),\" \")","v":" "},{"$f":"IFERROR(VLOOKUP(MID(AT$27,5,4)&$A71,Lista_Ubigeo!$J:$K,2,0),\" \")","v":" "},{"$f":"IFERROR(VLOOKUP(MID(AU$27,5,4)&$A71,Lista_Ubigeo!$J:$K,2,0),\" \")","v":" "},{"$f":"IFERROR(VLOOKUP(MID(AV$27,5,4)&$A71,Lista_Ubigeo!$J:$K,2,0),\" \")","v":" "},{"$f":"IFERROR(VLOOKUP(MID(AW$27,5,4)&$A71,Lista_Ubigeo!$J:$K,2,0),\" \")","v":" "},{"$f":"IFERROR(VLOOKUP(MID(AX$27,5,4)&$A71,Lista_Ubigeo!$J:$K,2,0),\" \")","v":" "},{"$f":"IFERROR(VLOOKUP(MID(AY$27,5,4)&$A71,Lista_Ubigeo!$J:$K,2,0),\" \")","v":" "},{"$f":"IFERROR(VLOOKUP(MID(AZ$27,5,4)&$A71,Lista_Ubigeo!$J:$K,2,0),\" \")","v":" "},{"$f":"IFERROR(VLOOKUP(MID(BA$27,5,4)&$A71,Lista_Ubigeo!$J:$K,2,0),\" \")","v":" "},{"$f":"IFERROR(VLOOKUP(MID(BB$27,5,4)&$A71,Lista_Ubigeo!$J:$K,2,0),\" \")","v":" "},{"$f":"IFERROR(VLOOKUP(MID(BC$27,5,4)&$A71,Lista_Ubigeo!$J:$K,2,0),\" \")","v":" "},{"$f":"IFERROR(VLOOKUP(MID(BD$27,5,4)&$A71,Lista_Ubigeo!$J:$K,2,0),\" \")","v":" "},{"$f":"IFERROR(VLOOKUP(MID(BE$27,5,4)&$A71,Lista_Ubigeo!$J:$K,2,0),\" \")","v":" "},{"$f":"IFERROR(VLOOKUP(MID(BF$27,5,4)&$A71,Lista_Ubigeo!$J:$K,2,0),\" \")","v":" "},{"$f":"IFERROR(VLOOKUP(MID(BG$27,5,4)&$A71,Lista_Ubigeo!$J:$K,2,0),\" \")","v":" "},{"$f":"IFERROR(VLOOKUP(MID(BH$27,5,4)&$A71,Lista_Ubigeo!$J:$K,2,0),\" \")","v":" "},{"$f":"IFERROR(VLOOKUP(MID(BI$27,5,4)&$A71,Lista_Ubigeo!$J:$K,2,0),\" \")","v":" "},{"$f":"IFERROR(VLOOKUP(MID(BJ$27,5,4)&$A71,Lista_Ubigeo!$J:$K,2,0),\" \")","v":" "},{"$f":"IFERROR(VLOOKUP(MID(BK$27,5,4)&$A71,Lista_Ubigeo!$J:$K,2,0),\" \")","v":" "},{"$f":"IFERROR(VLOOKUP(MID(BL$27,5,4)&$A71,Lista_Ubigeo!$J:$K,2,0),\" \")","v":" "},{"$f":"IFERROR(VLOOKUP(MID(BM$27,5,4)&$A71,Lista_Ubigeo!$J:$K,2,0),\" \")","v":" "},{"$f":"IFERROR(VLOOKUP(MID(BN$27,5,4)&$A71,Lista_Ubigeo!$J:$K,2,0),\" \")","v":" "},{"$f":"IFERROR(VLOOKUP(MID(BO$27,5,4)&$A71,Lista_Ubigeo!$J:$K,2,0),\" \")","v":" "},{"$f":"IFERROR(VLOOKUP(MID(BP$27,5,4)&$A71,Lista_Ubigeo!$J:$K,2,0),\" \")","v":" "},{"$f":"IFERROR(VLOOKUP(MID(BQ$27,5,4)&$A71,Lista_Ubigeo!$J:$K,2,0),\" \")","v":" "},{"$f":"IFERROR(VLOOKUP(MID(BR$27,5,4)&$A71,Lista_Ubigeo!$J:$K,2,0),\" \")","v":" "},{"$f":"IFERROR(VLOOKUP(MID(BS$27,5,4)&$A71,Lista_Ubigeo!$J:$K,2,0),\" \")","v":" "},{"$f":"IFERROR(VLOOKUP(MID(BT$27,5,4)&$A71,Lista_Ubigeo!$J:$K,2,0),\" \")","v":" "},{"$f":"IFERROR(VLOOKUP(MID(BU$27,5,4)&$A71,Lista_Ubigeo!$J:$K,2,0),\" \")","v":" "},{"$f":"IFERROR(VLOOKUP(MID(BV$27,5,4)&$A71,Lista_Ubigeo!$J:$K,2,0),\" \")","v":" "},{"$f":"IFERROR(VLOOKUP(MID(BW$27,5,4)&$A71,Lista_Ubigeo!$J:$K,2,0),\" \")","v":" "},{"$f":"IFERROR(VLOOKUP(MID(BX$27,5,4)&$A71,Lista_Ubigeo!$J:$K,2,0),\" \")","v":" "},{"$f":"IFERROR(VLOOKUP(MID(BY$27,4,4)&$A71,Lista_Ubigeo!$J:$K,2,0),\" \")","v":" "},{"$f":"IFERROR(VLOOKUP(MID(BZ$27,5,4)&$A71,Lista_Ubigeo!$J:$K,2,0),\" \")","v":" "},{"$f":"IFERROR(VLOOKUP(MID(CA$27,5,4)&$A71,Lista_Ubigeo!$J:$K,2,0),\" \")","v":" "},{"$f":"IFERROR(VLOOKUP(MID(CB$27,5,4)&$A71,Lista_Ubigeo!$J:$K,2,0),\" \")","v":" "},{"$f":"IFERROR(VLOOKUP(MID(CC$27,5,4)&$A71,Lista_Ubigeo!$J:$K,2,0),\" \")","v":" "},{"$f":"IFERROR(VLOOKUP(MID(CD$27,5,4)&$A71,Lista_Ubigeo!$J:$K,2,0),\" \")","v":" "},{"$f":"IFERROR(VLOOKUP(MID(CE$27,5,4)&$A71,Lista_Ubigeo!$J:$K,2,0),\" \")","v":" "},{"$f":"IFERROR(VLOOKUP(MID(CF$27,5,4)&$A71,Lista_Ubigeo!$J:$K,2,0),\" \")","v":" "},{"$f":"IFERROR(VLOOKUP(MID(CG$27,5,4)&$A71,Lista_Ubigeo!$J:$K,2,0),\" \")","v":" "},{"$f":"IFERROR(VLOOKUP(MID(CH$27,5,4)&$A71,Lista_Ubigeo!$J:$K,2,0),\" \")","v":" "},{"$f":"IFERROR(VLOOKUP(MID(CI$27,5,4)&$A71,Lista_Ubigeo!$J:$K,2,0),\" \")","v":" "},{"$f":"IFERROR(VLOOKUP(MID(CJ$27,5,4)&$A71,Lista_Ubigeo!$J:$K,2,0),\" \")","v":" "},{"$f":"IFERROR(VLOOKUP(MID(CK$27,5,4)&$A71,Lista_Ubigeo!$J:$K,2,0),\" \")","v":" "},{"$f":"IFERROR(VLOOKUP(MID(CL$27,5,4)&$A71,Lista_Ubigeo!$J:$K,2,0),\" \")","v":" "},{"$f":"IFERROR(VLOOKUP(MID(CM$27,5,4)&$A82,Lista_Ubigeo!$J:$K,2,0),\" \")","v":" "},{"$f":"IFERROR(VLOOKUP(MID(CN$27,5,4)&$A71,Lista_Ubigeo!$J:$K,2,0),\" \")","v":" "},{"$f":"IFERROR(VLOOKUP(MID(CO$27,5,4)&$A71,Lista_Ubigeo!$J:$K,2,0),\" \")","v":" "},{"$f":"IFERROR(VLOOKUP(MID(CP$27,5,4)&$A71,Lista_Ubigeo!$J:$K,2,0),\" \")","v":" "},{"$f":"IFERROR(VLOOKUP(MID(CQ$27,5,4)&$A71,Lista_Ubigeo!$J:$K,2,0),\" \")","v":" "},{"$f":"IFERROR(VLOOKUP(MID(CR$27,5,4)&$A71,Lista_Ubigeo!$J:$K,2,0),\" \")","v":" "},{"$f":"IFERROR(VLOOKUP(MID(CS$27,5,4)&$A71,Lista_Ubigeo!$J:$K,2,0),\" \")","v":" "},{"$f":"IFERROR(VLOOKUP(MID(CT$27,5,4)&$A71,Lista_Ubigeo!$J:$K,2,0),\" \")","v":" "},{"$f":"IFERROR(VLOOKUP(MID(CU$27,5,4)&$A71,Lista_Ubigeo!$J:$K,2,0),\" \")","v":" "},{"$f":"IFERROR(VLOOKUP(MID(CV$27,5,4)&$A71,Lista_Ubigeo!$J:$K,2,0),\" \")","v":" "},{"$f":"IFERROR(VLOOKUP(MID(CW$27,5,4)&$A71,Lista_Ubigeo!$J:$K,2,0),\" \")","v":" "},{"$f":"IFERROR(VLOOKUP(MID(CX$27,5,4)&$A71,Lista_Ubigeo!$J:$K,2,0),\" \")","v":" "},{"$f":"IFERROR(VLOOKUP(MID(CY$27,5,4)&$A71,Lista_Ubigeo!$J:$K,2,0),\" \")","v":" "},{"$f":"IFERROR(VLOOKUP(MID(CZ$27,5,4)&$A71,Lista_Ubigeo!$J:$K,2,0),\" \")","v":" "},{"$f":"IFERROR(VLOOKUP(MID(DA$27,5,4)&$A71,Lista_Ubigeo!$J:$K,2,0),\" \")","v":" "},{"$f":"IFERROR(VLOOKUP(MID(DB$27,5,4)&$A71,Lista_Ubigeo!$J:$K,2,0),\" \")","v":" "},{"$f":"IFERROR(VLOOKUP(MID(DC$27,5,4)&$A71,Lista_Ubigeo!$J:$K,2,0),\" \")","v":" "},{"$f":"IFERROR(VLOOKUP(MID(DD$27,5,4)&$A71,Lista_Ubigeo!$J:$K,2,0),\" \")","v":" "},{"$f":"IFERROR(VLOOKUP(MID(DE$27,5,4)&$A71,Lista_Ubigeo!$J:$K,2,0),\" \")","v":" "},{"$f":"IFERROR(VLOOKUP(MID(DF$27,5,4)&$A71,Lista_Ubigeo!$J:$K,2,0),\" \")","v":" "},{"$f":"IFERROR(VLOOKUP(MID(DG$27,5,4)&$A71,Lista_Ubigeo!$J:$K,2,0),\" \")","v":" "},{"$f":"IFERROR(VLOOKUP(MID(DH$27,5,4)&$A71,Lista_Ubigeo!$J:$K,2,0),\" \")","v":" "},{"$f":"IFERROR(VLOOKUP(MID(DI$27,5,4)&$A71,Lista_Ubigeo!$J:$K,2,0),\" \")","v":" "},{"$f":"IFERROR(VLOOKUP(MID(DJ$27,5,4)&$A71,Lista_Ubigeo!$J:$K,2,0),\" \")","v":" "},{"$f":"IFERROR(VLOOKUP(MID(DK$27,5,4)&$A71,Lista_Ubigeo!$J:$K,2,0),\" \")","v":" "},{"$f":"IFERROR(VLOOKUP(MID(DL$27,5,4)&$A71,Lista_Ubigeo!$J:$K,2,0),\" \")","v":" "},{"$f":"IFERROR(VLOOKUP(MID(DM$27,5,4)&$A71,Lista_Ubigeo!$J:$K,2,0),\" \")","v":" "},{"$f":"IFERROR(VLOOKUP(MID(DN$27,5,4)&$A71,Lista_Ubigeo!$J:$K,2,0),\" \")","v":" "},{"$f":"IFERROR(VLOOKUP(MID(DO$27,5,4)&$A72,Lista_Ubigeo!$J:$K,2,0),\" \")","v":" "},{"$f":"IFERROR(VLOOKUP(MID(DP$27,5,4)&$A71,Lista_Ubigeo!$J:$K,2,0),\" \")","v":" "},{"$f":"IFERROR(VLOOKUP(MID(DQ$27,5,4)&$A71,Lista_Ubigeo!$J:$K,2,0),\" \")","v":" "},{"$f":"IFERROR(VLOOKUP(MID(DR$27,5,4)&$A71,Lista_Ubigeo!$J:$K,2,0),\" \")","v":" "},{"$f":"IFERROR(VLOOKUP(MID(DS$27,5,4)&$A71,Lista_Ubigeo!$J:$K,2,0),\" \")","v":" "},null,null,{"$f":"IFERROR(VLOOKUP(MID(DV$27,5,4)&$A71,Lista_Ubigeo!$J:$K,2,0),\" \")","v":" "},{"$f":"IFERROR(VLOOKUP(MID(DW$27,5,4)&$A71,Lista_Ubigeo!$J:$K,2,0),\" \")","v":" "},{"$f":"IFERROR(VLOOKUP(MID(DX$27,5,4)&$A71,Lista_Ubigeo!$J:$K,2,0),\" \")","v":" "},{"$f":"IFERROR(VLOOKUP(MID(DY$27,5,4)&$A71,Lista_Ubigeo!$J:$K,2,0),\" \")","v":"SURCO PUEBLO"},{"$f":"IFERROR(VLOOKUP(MID(DZ$27,5,4)&$A71,Lista_Ubigeo!$J:$K,2,0),\" \")","v":" "},{"$f":"IFERROR(VLOOKUP(MID(EA$27,5,4)&$A71,Lista_Ubigeo!$J:$K,2,0),\" \")","v":" "},{"$f":"IFERROR(VLOOKUP(MID(EB$27,5,4)&$A71,Lista_Ubigeo!$J:$K,2,0),\" \")","v":" "},{"$f":"IFERROR(VLOOKUP(MID(EC$27,5,4)&$A71,Lista_Ubigeo!$J:$K,2,0),\" \")","v":" "},{"$f":"IFERROR(VLOOKUP(MID(ED$27,5,4)&$A71,Lista_Ubigeo!$J:$K,2,0),\" \")","v":" "},{"$f":"IFERROR(VLOOKUP(MID(EE$27,5,4)&$A71,Lista_Ubigeo!$J:$K,2,0),\" \")","v":" "},{"$f":"IFERROR(VLOOKUP(MID(EF$27,5,4)&$A71,Lista_Ubigeo!$J:$K,2,0),\" \")","v":" "},{"$f":"IFERROR(VLOOKUP(MID(EG$27,5,4)&$A71,Lista_Ubigeo!$J:$K,2,0),\" \")","v":" "},{"$f":"IFERROR(VLOOKUP(MID(EH$27,5,4)&$A71,Lista_Ubigeo!$J:$K,2,0),\" \")","v":" "},{"$f":"IFERROR(VLOOKUP(MID(EI$27,5,4)&$A71,Lista_Ubigeo!$J:$K,2,0),\" \")","v":" "},{"$f":"IFERROR(VLOOKUP(MID(EJ$27,5,4)&$A76,Lista_Ubigeo!$J:$K,2,0),\" \")","v":" "},{"$f":"IFERROR(VLOOKUP(MID(EK$27,5,4)&$A71,Lista_Ubigeo!$J:$K,2,0),\" \")","v":" "},{"$f":"IFERROR(VLOOKUP(MID(EL$27,5,4)&$A71,Lista_Ubigeo!$J:$K,2,0),\" \")","v":" "},{"$f":"IFERROR(VLOOKUP(MID(EM$27,5,4)&$A71,Lista_Ubigeo!$J:$K,2,0),\" \")","v":" "},{"$f":"IFERROR(VLOOKUP(MID(EN$27,5,4)&$A71,Lista_Ubigeo!$J:$K,2,0),\" \")","v":" "},{"$f":"IFERROR(VLOOKUP(MID(EO$27,5,4)&$A71,Lista_Ubigeo!$J:$K,2,0),\" \")","v":" "},{"$f":"IFERROR(VLOOKUP(MID(EP$27,5,4)&$A71,Lista_Ubigeo!$J:$K,2,0),\" \")","v":" "},{"$f":"IFERROR(VLOOKUP(MID(EQ$27,5,4)&$A71,Lista_Ubigeo!$J:$K,2,0),\" \")","v":" "},{"$f":"IFERROR(VLOOKUP(MID(ER$27,5,4)&$A71,Lista_Ubigeo!$J:$K,2,0),\" \")","v":" "},{"$f":"IFERROR(VLOOKUP(MID(ES$27,5,4)&$A71,Lista_Ubigeo!$J:$K,2,0),\" \")","v":" "},{"$f":"IFERROR(VLOOKUP(MID(ET$27,5,4)&$A71,Lista_Ubigeo!$J:$K,2,0),\" \")","v":" "},{"$f":"IFERROR(VLOOKUP(MID(EU$27,5,4)&$A71,Lista_Ubigeo!$J:$K,2,0),\" \")","v":" "},{"$f":"IFERROR(VLOOKUP(MID(EV$27,5,4)&$A71,Lista_Ubigeo!$J:$K,2,0),\" \")","v":" "},{"$f":"IFERROR(VLOOKUP(MID(EW$27,5,4)&$A71,Lista_Ubigeo!$J:$K,2,0),\" \")","v":" "},{"$f":"IFERROR(VLOOKUP(MID(EX$27,5,4)&$A71,Lista_Ubigeo!$J:$K,2,0),\" \")","v":" "},{"$f":"IFERROR(VLOOKUP(MID(EY$27,5,4)&$A71,Lista_Ubigeo!$J:$K,2,0),\" \")","v":" "},{"$f":"IFERROR(VLOOKUP(MID(EZ$27,5,4)&$A74,Lista_Ubigeo!$J:$K,2,0),\" \")","v":" "},{"$f":"IFERROR(VLOOKUP(MID(FA$27,5,4)&$A71,Lista_Ubigeo!$J:$K,2,0),\" \")","v":" "},{"$f":"IFERROR(VLOOKUP(MID(FB$27,5,4)&$A71,Lista_Ubigeo!$J:$K,2,0),\" \")","v":" "},{"$f":"IFERROR(VLOOKUP(MID(FC$27,5,4)&$A71,Lista_Ubigeo!$J:$K,2,0),\" \")","v":" "},{"$f":"IFERROR(VLOOKUP(MID(FD$27,5,4)&$A71,Lista_Ubigeo!$J:$K,2,0),\" \")","v":" "},{"$f":"IFERROR(VLOOKUP(MID(FE$27,5,4)&$A71,Lista_Ubigeo!$J:$K,2,0),\" \")","v":" "},{"$f":"IFERROR(VLOOKUP(MID(FF$27,5,4)&$A71,Lista_Ubigeo!$J:$K,2,0),\" \")","v":" "},{"$f":"IFERROR(VLOOKUP(MID(FG$27,5,4)&$A71,Lista_Ubigeo!$J:$K,2,0),\" \")","v":" "},{"$f":"IFERROR(VLOOKUP(MID(FH$27,5,4)&$A71,Lista_Ubigeo!$J:$K,2,0),\" \")","v":" "},{"$f":"IFERROR(VLOOKUP(MID(FI$27,5,4)&$A71,Lista_Ubigeo!$J:$K,2,0),\" \")","v":" "},{"$f":"IFERROR(VLOOKUP(MID(FJ$27,5,4)&$A71,Lista_Ubigeo!$J:$K,2,0),\" \")","v":" "},{"$f":"IFERROR(VLOOKUP(MID(FK$27,5,4)&$A71,Lista_Ubigeo!$J:$K,2,0),\" \")","v":" "},{"$f":"IFERROR(VLOOKUP(MID(FL$27,5,4)&$A71,Lista_Ubigeo!$J:$K,2,0),\" \")","v":" "},{"$f":"IFERROR(VLOOKUP(MID(FM$27,5,4)&$A71,Lista_Ubigeo!$J:$K,2,0),\" \")","v":" "},{"$f":"IFERROR(VLOOKUP(MID(FN$27,5,4)&$A71,Lista_Ubigeo!$J:$K,2,0),\" \")","v":" "},{"$f":"IFERROR(VLOOKUP(MID(FO$27,5,4)&$A71,Lista_Ubigeo!$J:$K,2,0),\" \")","v":" "},{"$f":"IFERROR(VLOOKUP(MID(FP$27,5,4)&$A71,Lista_Ubigeo!$J:$K,2,0),\" \")","v":" "},{"$f":"IFERROR(VLOOKUP(MID(FQ$27,5,4)&$A71,Lista_Ubigeo!$J:$K,2,0),\" \")","v":" "},{"$f":"IFERROR(VLOOKUP(MID(FR$27,5,4)&$A71,Lista_Ubigeo!$J:$K,2,0),\" \")","v":" "},{"$f":"IFERROR(VLOOKUP(MID(FS$27,5,4)&$A71,Lista_Ubigeo!$J:$K,2,0),\" \")","v":" "},{"$f":"IFERROR(VLOOKUP(MID(FT$27,5,4)&$A71,Lista_Ubigeo!$J:$K,2,0),\" \")","v":" "},{"$f":"IFERROR(VLOOKUP(MID(FU$27,5,4)&$A71,Lista_Ubigeo!$J:$K,2,0),\" \")","v":" "},{"$f":"IFERROR(VLOOKUP(MID(FV$27,5,4)&$A71,Lista_Ubigeo!$J:$K,2,0),\" \")","v":" "},{"$f":"IFERROR(VLOOKUP(MID(FW$27,5,4)&$A71,Lista_Ubigeo!$J:$K,2,0),\" \")","v":" "},{"$f":"IFERROR(VLOOKUP(MID(FX$27,5,4)&$A71,Lista_Ubigeo!$J:$K,2,0),\" \")","v":" "},{"$f":"IFERROR(VLOOKUP(MID(FY$27,5,4)&$A71,Lista_Ubigeo!$J:$K,2,0),\" \")","v":" "},{"$f":"IFERROR(VLOOKUP(MID(FZ$27,5,4)&$A71,Lista_Ubigeo!$J:$K,2,0),\" \")","v":" "},{"$f":"IFERROR(VLOOKUP(MID(GA$27,5,4)&$A71,Lista_Ubigeo!$J:$K,2,0),\" \")","v":" "},{"$f":"IFERROR(VLOOKUP(MID(GB$27,5,4)&$A71,Lista_Ubigeo!$J:$K,2,0),\" \")","v":" "},{"$f":"IFERROR(VLOOKUP(MID(GC$27,5,4)&$A71,Lista_Ubigeo!$J:$K,2,0),\" \")","v":" "},{"$f":"IFERROR(VLOOKUP(MID(GD$27,5,4)&$A71,Lista_Ubigeo!$J:$K,2,0),\" \")","v":" "},{"$f":"IFERROR(VLOOKUP(MID(GE$27,5,4)&$A71,Lista_Ubigeo!$J:$K,2,0),\" \")","v":" "},{"$f":"IFERROR(VLOOKUP(MID(GF$27,5,4)&$A71,Lista_Ubigeo!$J:$K,2,0),\" \")","v":" "},{"$f":"IFERROR(VLOOKUP(MID(GG$27,5,4)&$A71,Lista_Ubigeo!$J:$K,2,0),\" \")","v":" "},{"$f":"IFERROR(VLOOKUP(MID(GH$27,5,4)&$A71,Lista_Ubigeo!$J:$K,2,0),\" \")","v":" "},{"$f":"IFERROR(VLOOKUP(MID(GI$27,5,4)&$A71,Lista_Ubigeo!$J:$K,2,0),\" \")","v":" "},{"$f":"IFERROR(VLOOKUP(MID(GJ$27,5,4)&$A71,Lista_Ubigeo!$J:$K,2,0),\" \")","v":" "},{"$f":"IFERROR(VLOOKUP(MID(GK$27,5,4)&$A71,Lista_Ubigeo!$J:$K,2,0),\" \")","v":" "},{"$f":"IFERROR(VLOOKUP(MID(GL$27,5,4)&$A71,Lista_Ubigeo!$J:$K,2,0),\" \")","v":" "},{"$f":"IFERROR(VLOOKUP(MID(GM$27,5,4)&$A71,Lista_Ubigeo!$J:$K,2,0),\" \")","v":" "},{"$f":"IFERROR(VLOOKUP(MID(GN$27,5,4)&$A71,Lista_Ubigeo!$J:$K,2,0),\" \")","v":" "},{"$f":"IFERROR(VLOOKUP(MID(GO$27,5,4)&$A71,Lista_Ubigeo!$J:$K,2,0),\" \")","v":" "},{"$f":"IFERROR(VLOOKUP(MID(GP$27,5,4)&$A71,Lista_Ubigeo!$J:$K,2,0),\" \")","v":" "}]

{"sheet":"Matriz_Mat","index":9,"n_rows":24,"n_cols":12,"rows_kept":24,"cut":false,"hidden":true,"merged":[]}
["12.0EE Estructuras Especiales","1.0AC Pórtico De Acero Arriostrado Con Diagonales","2.0AQ Adobe y Quincha","3.0CA Pórticos De Concreto Armado","4.0CP Pórticos De Concreto Armado Con Placas","5.0DL Muros De Concreto Armado De Ductilidad Limitada","6.0EM Entramados De Madera","7.0M1 Mampostería De Arcilla Sin Refuerzo","8.0M2R Mampostería Armada o Confinada Con Diafragmas Rígidos","9.0M2F Mampostería Armada o Confinada Con Diafragmas Flexibles","10.0M3 Construcción Informal En Albañearía","11.0IC Estructuras Industriales o Comerciales"]
["01 Minas","Vivienda","Vivienda","Vivienda","Vivienda","Vivienda","Vivienda","Vivienda","Vivienda","Vivienda","Vivienda","Vivienda"]
["02 Carreteras","Oficina","Oficina","Oficina","Oficina","Oficina","Oficina","Oficina","Oficina","Oficina","Oficina","Oficina"]
["03 Puentes","Centro Educativo","Centro Educativo","Centro Educativo","Centro Educativo","Centro Educativo","Centro Educativo","Centro Educativo","Centro Educativo","Centro Educativo","Centro Educativo","Centro Educativo"]
["04 Reservorios","Centro de Salud","Centro de Salud","Centro de Salud","Centro de Salud","Centro de Salud","Centro de Salud","Centro de Salud","Centro de Salud","Centro de Salud","Centro de Salud","Centro de Salud"]
["05 Tanques De Agua","Taller","Taller","Taller","Taller","Taller","Taller","Taller","Taller","Taller","Taller","Taller"]
["06 Silos","Comercio","Comercio","Comercio","Comercio","Comercio","Comercio","Comercio","Comercio","Comercio","Comercio","Comercio"]
["07 Vías Férreas","Nave Industrial o Grandes Almacenes","Nave Industrial o Grandes Almacenes","Nave Industrial o Grandes Almacenes","Nave Industrial o Grandes Almacenes","Nave Industrial o Grandes Almacenes","Nave Industrial o Grandes Almacenes","Nave Industrial o Grandes Almacenes","Nave Industrial o Grandes Almacenes","Nave Industrial o Grandes Almacenes","Nave Industrial o Grandes Almacenes","Nave Industrial o Grandes Almacenes"]
["08 Torres De Transmisión","Hospedaje y Hoteles","Hospedaje y Hoteles","Hospedaje y Hoteles","Hospedaje y Hoteles","Hospedaje y Hoteles","Hospedaje y Hoteles","Hospedaje y Hoteles","Hospedaje y Hoteles","Hospedaje y Hoteles","Hospedaje y Hoteles","Hospedaje y Hoteles"]
["09 Instalaciones Sanitarias","Actividades Recreacionales/de culto","Actividades Recreacionales/de culto","Actividades Recreacionales/de culto","Actividades Recreacionales/de culto","Actividades Recreacionales/de culto","Actividades Recreacionales/de culto","Actividades Recreacionales/de culto","Actividades Recreacionales/de culto","Actividades Recreacionales/de culto","Actividades Recreacionales/de culto","Actividades Recreacionales/de culto"]
["10 Instalaciones Eléctricas","Gasolineras","Gasolineras","Gasolineras","Gasolineras","Gasolineras","Gasolineras","Gasolineras","Gasolineras","Gasolineras","Gasolineras","Gasolineras"]
["11 Tuberías Enterradas"]
["12 Muelles o Puertos"]
["13 Estructuras Hidráulicas"]
["14 Sist. De Drenaje, Riego o Alcantarillado"]
["15 Represas de Agua"]
["16 Aeropuertos"]
["17 Sistemas De Gas Natural"]
["18 Sist De Instalaciones Petroleras Y Petroquímicas"]
["19 Plantas De Tratamiento De Agua"]
["20 Centrales Eléctricas o Hidroeléctricas"]
["21 Estaciones Telemétricas"]
["22 Estaciones De Tren"]
["23 Estructuras Especiales (Otros)"]

{"sheet":"Matriz_Pisos","index":10,"n_rows":188,"n_cols":31,"rows_kept":188,"cut":false,"hidden":true,"merged":[]}
["1.0AC_piso","2.0AQ_piso","3.0CA_piso","4.0CP_piso","5.0DL_piso","6.0EM_piso","7.0M1_piso","8.0M2R_piso","9.0M2F_piso","10.0M3_piso","11.0IC_piso","12.0EE_piso",null,null,null,"PISOS","SOTANOS",null,null,null,"LLAVE",null,null,null,null,"LLAVE2",null,null,null,"LLAVE3"]
[1,1,1,1,1,1,1,1,1,1,1,1,null,null,"1.0AC Portico de acero arriostrado con diagonales ",40,15,null,"1.0AC Portico de acero arriostrado con diagonales",1,{"$f":"S2&T2","v":"1.0AC Portico de acero arriostrado con diagonales1"},1,null,"1.0AC Portico de acero arriostrado con diagonales",0,{"$f":"X2&Y2","v":"1.0AC Portico de acero arriostrado con diagonales0"},1,"1.0AC Portico de acero arriostrado con diagonales","Vivienda",{"$f":"AB2&AC2","v":"1.0AC Portico de acero arriostrado con diagonalesVivienda"},1]
[2,2,2,2,2,2,2,2,2,2,2,2,null,null,"2.0AQ Adobe y quincha ",2,0,null,"1.0AC Portico de acero arriostrado con diagonales",2,{"$f":"S3&T3","v":"1.0AC Portico de acero arriostrado con diagonales2"},1,null,"1.0AC Portico de acero arriostrado con diagonales",1,{"$f":"X3&Y3","v":"1.0AC Portico de acero arriostrado con diagonales1"},1,"1.0AC Portico de acero arriostrado con diagonales","Oficina",{"$f":"AB3&AC3","v":"1.0AC Portico de acero arriostrado con diagonalesOficina"},1]
[3,3,3,3,3,3,3,3,3,3,3,3,null,null,"3.0CA Porticos de concreto armado ",10,15,null,"1.0AC Portico de acero arriostrado con diagonales",3,"1.0AC Portico de acero arriostrado con diagonales3",1,null,"1.0AC Portico de acero arriostrado con diagonales",2,"1.0AC Portico de acero arriostrado con diagonales2",1,"1.0AC Portico de acero arriostrado con diagonales","Centro Educativo","1.0AC Portico de acero arriostrado con diagonalesCentro Educativo",1]
[4,null,4,4,4,null,4,4,4,null,4,4,null,null,"4.0CP Porticos de concreto armado con placas ",40,15,null,"1.0AC Portico de acero arriostrado con diagonales",4,"1.0AC Portico de acero arriostrado con diagonales4",1,null,"1.0AC Portico de acero arriostrado con diagonales",3,"1.0AC Portico de acero arriostrado con diagonales3",1,"1.0AC Portico de acero arriostrado con diagonales","Centro De Salud","1.0AC Portico de acero arriostrado con diagonalesCentro De Salud",1]
[5,null,5,5,5,null,5,5,5,null,5,5,null,null,"5.0DL Muros de concreto armado de ductibilidad limitada ",8,0,null,"1.0AC Portico de acero arriostrado con diagonales",5,"1.0AC Portico de acero arriostrado con diagonales5",1,null,"1.0AC Portico de acero arriostrado con diagonales",4,"1.0AC Portico de acero arriostrado con diagonales4",1,"1.0AC Portico de acero arriostrado con diagonales","Taller","1.0AC Portico de acero arriostrado con diagonalesTaller",1]
[6,null,6,6,6,null,6,6,6,null,null,6,null,null,"6.0EM Entramados de madera ",3,0,null,"1.0AC Portico de acero arriostrado con diagonales",6,"1.0AC Portico de acero arriostrado con diagonales6",1,null,"1.0AC Portico de acero arriostrado con diagonales",5,"1.0AC Portico de acero arriostrado con diagonales5",1,"1.0AC Portico de acero arriostrado con diagonales","Comercio","1.0AC Portico de acero arriostrado con diagonalesComercio",1]
[7,null,7,7,7,null,null,null,null,null,null,7,null,null,"7.0M1 Mamposteria de arcilla sin refuerzo ",2,0,null,"1.0AC Portico de acero arriostrado con diagonales",7,"1.0AC Portico de acero arriostrado con diagonales7",1,null,"1.0AC Portico de acero arriostrado con diagonales",6,"1.0AC Portico de acero arriostrado con diagonales6",1,"1.0AC Portico de acero arriostrado con diagonales","Nave Industrial O Grandes Almacenes","1.0AC Portico de acero arriostrado con diagonalesNave Industrial O Grandes Almacenes",1]
[8,null,8,8,8,null,null,null,null,null,null,8,null,null,"8.0M2R Mamposteria de arcilla o confinada con diafragmas rígidos ",4,1,null,"1.0AC Portico de acero arriostrado con diagonales",8,"1.0AC Portico de acero arriostrado con diagonales8",1,null,"1.0AC Portico de acero arriostrado con diagonales",7,"1.0AC Portico de acero arriostrado con diagonales7",1,"1.0AC Portico de acero arriostrado con diagonales","Hospedaje Y Hoteles","1.0AC Portico de acero arriostrado con diagonalesHospedaje Y Hoteles",1]
[9,null,9,9,9,null,null,null,null,null,null,9,null,null,"9.0M2F Mamposteria de arcilla o confinada con diafragmas flexibles  ",4,1,null,"1.0AC Portico de acero arriostrado con diagonales",9,"1.0AC Portico de acero arriostrado con diagonales9",1,null,"1.0AC Portico de acero arriostrado con diagonales",8,"1.0AC Portico de acero arriostrado con diagonales8",1,"1.0AC Portico de acero arriostrado con diagonales","Actividades Recreacionales/de culto","1.0AC Portico de acero arriostrado con diagonalesActividades Recreacionales/de culto",1]
[10,null,10,10,10,null,null,null,null,null,null,10,null,null,"10.0M3 Construccion informal en albañileria ",2,0,null,"1.0AC Portico de acero arriostrado con diagonales",10,"1.0AC Portico de acero arriostrado con diagonales10",1,null,"1.0AC Portico de acero arriostrado con diagonales",9,"1.0AC Portico de acero arriostrado con diagonales9",1,"1.0AC Portico de acero arriostrado con diagonales","Gasolineras","1.0AC Portico de acero arriostrado con diagonalesGasolineras",1]
[11,null,11,11,11,null,null,null,null,null,null,11,null,null,"11.0IC Estructuras industriales / comerciales ",1,0,null,"1.0AC Portico de acero arriostrado con diagonales",11,"1.0AC Portico de acero arriostrado con diagonales11",1,null,"1.0AC Portico de acero arriostrado con diagonales",10,"1.0AC Portico de acero arriostrado con diagonales10",1,"2.0AQ Adobe y quincha","Vivienda","2.0AQ Adobe y quinchaVivienda",1]
[12,null,12,12,12,null,null,null,null,null,null,12,null,null,"12.0EE Estructuras especiales ",10,3,null,"1.0AC Portico de acero arriostrado con diagonales",12,"1.0AC Portico de acero arriostrado con diagonales12",1,null,"1.0AC Portico de acero arriostrado con diagonales",11,"1.0AC Portico de acero arriostrado con diagonales11",1,"2.0AQ Adobe y quincha","Oficina","2.0AQ Adobe y quinchaOficina",1]
[13,null,13,13,13,null,null,null,null,null,null,13,null,null,null,null,null,null,"1.0AC Portico de acero arriostrado con diagonales",13,"1.0AC Portico de acero arriostrado con diagonales13",1,null,"1.0AC Portico de acero arriostrado con diagonales",12,"1.0AC Portico de acero arriostrado con diagonales12",1,"2.0AQ Adobe y quincha","Centro Educativo","2.0AQ Adobe y quinchaCentro Educativo",1]
[14,null,14,14,14,null,null,null,null,null,null,14,null,null,"1.0AC Portico de acero arriostrado con diagonales",null,null,null,"1.0AC Portico de acero arriostrado con diagonales",14,"1.0AC Portico de acero arriostrado con diagonales14",1,null,"1.0AC Portico de acero arriostrado con diagonales",13,"1.0AC Portico de acero arriostrado con diagonales13",1,"2.0AQ Adobe y quincha","Centro De Salud","2.0AQ Adobe y quinchaCentro De Salud",1]
[15,null,15,15,15,null,null,null,null,null,null,15,null,null,"2.0AQ Adobe y quincha",null,null,null,"1.0AC Portico de acero arriostrado con diagonales",15,"1.0AC Portico de acero arriostrado con diagonales15",1,null,"1.0AC Portico de acero arriostrado con diagonales",14,"1.0AC Portico de acero arriostrado con diagonales14",1,"2.0AQ Adobe y quincha","Taller","2.0AQ Adobe y quinchaTaller",1]
[16,null,16,16,16,null,null,null,null,null,null,null,null,null,"3.0CA Porticos de concreto armado",null,null,null,"1.0AC Portico de acero arriostrado con diagonales",16,"1.0AC Portico de acero arriostrado con diagonales16",1,null,"1.0AC Portico de acero arriostrado con diagonales",15,"1.0AC Portico de acero arriostrado con diagonales15",1,"2.0AQ Adobe y quincha","Comercio","2.0AQ Adobe y quinchaComercio",1]
[17,null,17,17,17,null,null,null,null,null,null,null,null,null,"4.0CP Porticos de concreto armado con placas",null,null,null,"1.0AC Portico de acero arriostrado con diagonales",17,"1.0AC Portico de acero arriostrado con diagonales17",1,null,"2.0AQ Adobe y quincha",0,"2.0AQ Adobe y quincha0",1,"2.0AQ Adobe y quincha","Nave Industrial O Grandes Almacenes","2.0AQ Adobe y quinchaNave Industrial O Grandes Almacenes",1]
[18,null,18,18,18,null,null,null,null,null,null,null,null,null,"5.0DL Muros de concreto armado de ductibilidad limitada",null,null,null,"1.0AC Portico de acero arriostrado con diagonales",18,"1.0AC Portico de acero arriostrado con diagonales18",1,null,"3.0CA Porticos de concreto armado",0,"3.0CA Porticos de concreto armado0",1,"2.0AQ Adobe y quincha","Hospedaje Y Hoteles","2.0AQ Adobe y quinchaHospedaje Y Hoteles",1]
[19,null,19,19,19,null,null,null,null,null,null,null,null,null,"6.0EM Entramados de madera",null,null,null,"1.0AC Portico de acero arriostrado con diagonales",19,"1.0AC Portico de acero arriostrado con diagonales19",1,null,"3.0CA Porticos de concreto armado",1,"3.0CA Porticos de concreto armado1",1,"2.0AQ Adobe y quincha","Actividades Recreacionales/de culto","2.0AQ Adobe y quinchaActividades Recreacionales/de culto",1]
[20,null,20,20,20,null,null,null,null,null,null,null,null,null,"7.0M1 Mamposteria de arcilla sin refuerzo",null,null,null,"1.0AC Portico de acero arriostrado con diagonales",20,"1.0AC Portico de acero arriostrado con diagonales20",1,null,"3.0CA Porticos de concreto armado",2,"3.0CA Porticos de concreto armado2",1,"2.0AQ Adobe y quincha","Gasolineras","2.0AQ Adobe y quinchaGasolineras",1]
[21,null,null,21,null,null,null,null,null,null,null,null,null,null,"8.0M2R Mamposteria de arcilla o confinada con diafragmas rígidos",null,null,null,"1.0AC Portico de acero arriostrado con diagonales",21,"1.0AC Portico de acero arriostrado con diagonales21",1,null,"3.0CA Porticos de concreto armado",3,"3.0CA Porticos de concreto armado3",1,"3.0CA Porticos de concreto armado","Vivienda","3.0CA Porticos de concreto armadoVivienda",1]
[22,null,null,22,null,null,null,null,null,null,null,null,null,null,"9.0M2F Mamposteria de arcilla o confinada con diafragmas flexibles",null,null,null,"1.0AC Portico de acero arriostrado con diagonales",22,"1.0AC Portico de acero arriostrado con diagonales22",1,null,"3.0CA Porticos de concreto armado",4,"3.0CA Porticos de concreto armado4",1,"3.0CA Porticos de concreto armado","Oficina","3.0CA Porticos de concreto armadoOficina",1]
[23,null,null,23,null,null,null,null,null,null,null,null,null,null,"10.0M3 Construccion informal en albañileria",null,null,null,"1.0AC Portico de acero arriostrado con diagonales",23,"1.0AC Portico de acero arriostrado con diagonales23",1,null,"3.0CA Porticos de concreto armado",5,"3.0CA Porticos de concreto armado5",1,"3.0CA Porticos de concreto armado","Centro Educativo","3.0CA Porticos de concreto armadoCentro Educativo",1]
[24,null,null,24,null,null,null,null,null,null,null,null,null,null,"11.0IC Estructuras industriales / comerciales",null,null,null,"1.0AC Portico de acero arriostrado con diagonales",24,"1.0AC Portico de acero arriostrado con diagonales24",1,null,"3.0CA Porticos de concreto armado",6,"3.0CA Porticos de concreto armado6",1,"3.0CA Porticos de concreto armado","Centro De Salud","3.0CA Porticos de concreto armadoCentro De Salud",1]
[25,null,null,25,null,null,null,null,null,null,null,null,null,null,"12.0EE Estructuras especiales",null,null,null,"1.0AC Portico de acero arriostrado con diagonales",25,"1.0AC Portico de acero arriostrado con diagonales25",1,null,"3.0CA Porticos de concreto armado",7,"3.0CA Porticos de concreto armado7",1,"3.0CA Porticos de concreto armado","Taller","3.0CA Porticos de concreto armadoTaller",1]
[26,null,null,26,null,null,null,null,null,null,null,null,null,null,null,null,null,null,"1.0AC Portico de acero arriostrado con diagonales",26,"1.0AC Portico de acero arriostrado con diagonales26",1,null,"3.0CA Porticos de concreto armado",8,"3.0CA Porticos de concreto armado8",1,"3.0CA Porticos de concreto armado","Comercio","3.0CA Porticos de concreto armadoComercio",1]
[27,null,null,27,null,null,null,null,null,null,null,null,null,null,null,null,null,null,"1.0AC Portico de acero arriostrado con diagonales",27,"1.0AC Portico de acero arriostrado con diagonales27",1,null,"3.0CA Porticos de concreto armado",9,"3.0CA Porticos de concreto armado9",1,"3.0CA Porticos de concreto armado","Nave Industrial O Grandes Almacenes","3.0CA Porticos de concreto armadoNave Industrial O Grandes Almacenes",1]
[28,null,null,28,null,null,null,null,null,null,null,null,null,null,null,null,null,null,"1.0AC Portico de acero arriostrado con diagonales",28,"1.0AC Portico de acero arriostrado con diagonales28",1,null,"3.0CA Porticos de concreto armado",10,"3.0CA Porticos de concreto armado10",1,"3.0CA Porticos de concreto armado","Hospedaje Y Hoteles","3.0CA Porticos de concreto armadoHospedaje Y Hoteles",1]
[29,null,null,29,null,null,null,null,null,null,null,null,null,null,null,null,null,null,"1.0AC Portico de acero arriostrado con diagonales",29,"1.0AC Portico de acero arriostrado con diagonales29",1,null,"4.0CP Porticos de concreto armado con placas",0,"4.0CP Porticos de concreto armado con placas0",1,"3.0CA Porticos de concreto armado","Actividades Recreacionales/de culto","3.0CA Porticos de concreto armadoActividades Recreacionales/de culto",1]
[30,null,null,30,null,null,null,null,null,null,null,null,null,null,null,null,null,null,"1.0AC Portico de acero arriostrado con diagonales",30,"1.0AC Portico de acero arriostrado con diagonales30",1,null,"4.0CP Porticos de concreto armado con placas",1,"4.0CP Porticos de concreto armado con placas1",1,"3.0CA Porticos de concreto armado","Gasolineras","3.0CA Porticos de concreto armadoGasolineras",1]
[31,null,null,31,null,null,null,null,null,null,null,null,null,null,null,null,null,null,"1.0AC Portico de acero arriostrado con diagonales",31,"1.0AC Portico de acero arriostrado con diagonales31",1,null,"4.0CP Porticos de concreto armado con placas",2,"4.0CP Porticos de concreto armado con placas2",1,"4.0CP Porticos de concreto armado con placas","Vivienda","4.0CP Porticos de concreto armado con placasVivienda",1]
[32,null,null,32,null,null,null,null,null,null,null,null,null,null,null,null,null,null,"1.0AC Portico de acero arriostrado con diagonales",32,"1.0AC Portico de acero arriostrado con diagonales32",1,null,"4.0CP Porticos de concreto armado con placas",3,"4.0CP Porticos de concreto armado con placas3",1,"4.0CP Porticos de concreto armado con placas","Oficina","4.0CP Porticos de concreto armado con placasOficina",1]
[33,null,null,33,null,null,null,null,null,null,null,null,null,null,null,null,null,null,"1.0AC Portico de acero arriostrado con diagonales",33,"1.0AC Portico de acero arriostrado con diagonales33",1,null,"4.0CP Porticos de concreto armado con placas",4,{"$f":"X34&Y34","v":"4.0CP Porticos de concreto armado con placas4"},1,"4.0CP Porticos de concreto armado con placas","Centro Educativo","4.0CP Porticos de concreto armado con placasCentro Educativo",1]
[34,null,null,34,null,null,null,null,null,null,null,null,null,null,null,null,null,null,"1.0AC Portico de acero arriostrado con diagonales",34,"1.0AC Portico de acero arriostrado con diagonales34",1,null,"4.0CP Porticos de concreto armado con placas",5,"4.0CP Porticos de concreto armado con placas5",1,"4.0CP Porticos de concreto armado con placas","Centro De Salud","4.0CP Porticos de concreto armado con placasCentro De Salud",1]
[35,null,null,35,null,null,null,null,null,null,null,null,null,null,null,null,null,null,"1.0AC Portico de acero arriostrado con diagonales",35,"1.0AC Portico de acero arriostrado con diagonales35",1,null,"4.0CP Porticos de concreto armado con placas",6,"4.0CP Porticos de concreto armado con placas6",1,"4.0CP Porticos de concreto armado con placas","Taller","4.0CP Porticos de concreto armado con placasTaller",1]
[36,null,null,36,null,null,null,null,null,null,null,null,null,null,null,null,null,null,"1.0AC Portico de acero arriostrado con diagonales",36,"1.0AC Portico de acero arriostrado con diagonales36",1,null,"4.0CP Porticos de concreto armado con placas",7,"4.0CP Porticos de concreto armado con placas7",1,"4.0CP Porticos de concreto armado con placas","Comercio","4.0CP Porticos de concreto armado con placasComercio",1]
[37,null,null,37,null,null,null,null,null,null,null,null,null,null,null,null,null,null,"1.0AC Portico de acero arriostrado con diagonales",37,"1.0AC Portico de acero arriostrado con diagonales37",1,null,"4.0CP Porticos de concreto armado con placas",8,"4.0CP Porticos de concreto armado con placas8",1,"4.0CP Porticos de concreto armado con placas","Nave Industrial O Grandes Almacenes","4.0CP Porticos de concreto armado con placasNave Industrial O Grandes Almacenes",1]
[38,null,null,38,null,null,null,null,null,null,null,null,null,null,null,null,null,null,"1.0AC Portico de acero arriostrado con diagonales",38,"1.0AC Portico de acero arriostrado con diagonales38",1,null,"4.0CP Porticos de concreto armado con placas",9,"4.0CP Porticos de concreto armado con placas9",1,"4.0CP Porticos de concreto armado con placas","Hospedaje Y Hoteles","4.0CP Porticos de concreto armado con placasHospedaje Y Hoteles",1]
[39,null,null,39,null,null,null,null,null,null,null,null,null,null,null,null,null,null,"1.0AC Portico de acero arriostrado con diagonales",39,"1.0AC Portico de acero arriostrado con diagonales39",1,null,"4.0CP Porticos de concreto armado con placas",10,"4.0CP Porticos de concreto armado con placas10",1,"4.0CP Porticos de concreto armado con placas","Actividades Recreacionales/de culto","4.0CP Porticos de concreto armado con placasActividades Recreacionales/de culto",1]
[40,null,null,40,null,null,null,null,null,null,null,null,null,null,null,null,null,null,"1.0AC Portico de acero arriostrado con diagonales",40,"1.0AC Portico de acero arriostrado con diagonales40",1,null,"4.0CP Porticos de concreto armado con placas",11,"4.0CP Porticos de concreto armado con placas11",1,"4.0CP Porticos de concreto armado con placas","Gasolineras","4.0CP Porticos de concreto armado con placasGasolineras",1]
[41,null,null,41,null,null,null,null,null,null,null,null,null,null,null,null,null,null,"1.0AC Portico de acero arriostrado con diagonales",41,"1.0AC Portico de acero arriostrado con diagonales41",1,null,"4.0CP Porticos de concreto armado con placas",12,"4.0CP Porticos de concreto armado con placas12",1,"5.0DL Muros de concreto armado de ductibilidad limitada","Vivienda","5.0DL Muros de concreto armado de ductibilidad limitadaVivienda",1]
[42,null,null,42,null,null,null,null,null,null,null,null,null,null,null,null,null,null,"1.0AC Portico de acero arriostrado con diagonales",42,"1.0AC Portico de acero arriostrado con diagonales42",1,null,"4.0CP Porticos de concreto armado con placas",13,"4.0CP Porticos de concreto armado con placas13",1,"5.0DL Muros de concreto armado de ductibilidad limitada","Oficina","5.0DL Muros de concreto armado de ductibilidad limitadaOficina",1]
[43,null,null,43,null,null,null,null,null,null,null,null,null,null,null,null,null,null,"1.0AC Portico de acero arriostrado con diagonales",43,"1.0AC Portico de acero arriostrado con diagonales43",1,null,"4.0CP Porticos de concreto armado con placas",14,"4.0CP Porticos de concreto armado con placas14",1,"5.0DL Muros de concreto armado de ductibilidad limitada","Centro Educativo","5.0DL Muros de concreto armado de ductibilidad limitadaCentro Educativo",1]
[44,null,null,44,null,null,null,null,null,null,null,null,null,null,null,null,null,null,"1.0AC Portico de acero arriostrado con diagonales",44,"1.0AC Portico de acero arriostrado con diagonales44",1,null,"4.0CP Porticos de concreto armado con placas",15,"4.0CP Porticos de concreto armado con placas15",1,"5.0DL Muros de concreto armado de ductibilidad limitada","Centro De Salud","5.0DL Muros de concreto armado de ductibilidad limitadaCentro De Salud",1]
[45,null,null,45,null,null,null,null,null,null,null,null,null,null,null,null,null,null,"1.0AC Portico de acero arriostrado con diagonales",45,"1.0AC Portico de acero arriostrado con diagonales45",1,null,"5.0DL Muros de concreto armado de ductibilidad limitada",0,"5.0DL Muros de concreto armado de ductibilidad limitada0",1,"5.0DL Muros de concreto armado de ductibilidad limitada","Taller","5.0DL Muros de concreto armado de ductibilidad limitadaTaller",1]
[46,null,null,46,null,null,null,null,null,null,null,null,null,null,null,null,null,null,"1.0AC Portico de acero arriostrado con diagonales",46,"1.0AC Portico de acero arriostrado con diagonales46",1,null,"6.0EM Entramados de madera",0,"6.0EM Entramados de madera0",1,"5.0DL Muros de concreto armado de ductibilidad limitada","Comercio","5.0DL Muros de concreto armado de ductibilidad limitadaComercio",1]
[47,null,null,47,null,null,null,null,null,null,null,null,null,null,null,null,null,null,"1.0AC Portico de acero arriostrado con diagonales",47,"1.0AC Portico de acero arriostrado con diagonales47",1,null,"7.0M1 Mamposteria De Arcilla Sin Refuerzo",0,"7.0M1 Mamposteria De Arcilla Sin Refuerzo0",1,"5.0DL Muros de concreto armado de ductibilidad limitada","Nave Industrial O Grandes Almacenes","5.0DL Muros de concreto armado de ductibilidad limitadaNave Industrial O Grandes Almacenes",1]
[48,null,null,48,null,null,null,null,null,null,null,null,null,null,null,null,null,null,"1.0AC Portico de acero arriostrado con diagonales",48,"1.0AC Portico de acero arriostrado con diagonales48",1,null,"8.0M2R Mamposteria de arcilla o confinada con diafragmas rígidos",0,{"$f":"X49&Y49","v":"8.0M2R Mamposteria de arcilla o confinada con diafragmas rígidos0"},1,"5.0DL Muros de concreto armado de ductibilidad limitada","Hospedaje Y Hoteles",{"$f":"AB49&AC49","v":"5.0DL Muros de concreto armado de ductibilidad limitadaHospedaje Y Hoteles"},1]
[49,null,null,49,null,null,null,null,null,null,null,null,null,null,null,null,null,null,"1.0AC Portico de acero arriostrado con diagonales",49,"1.0AC Portico de acero arriostrado con diagonales49",1,null,"8.0M2R Mamposteria de arcilla o confinada con diafragmas rígidos",1,"8.0M2R Mamposteria de arcilla o confinada con diafragmas rígidos1",1,"5.0DL Muros de concreto armado de ductibilidad limitada","Actividades Recreacionales/de culto","5.0DL Muros de concreto armado de ductibilidad limitadaActividades Recreacionales/de culto",1]
[50,null,null,50,null,null,null,null,null,null,null,null,null,null,null,null,null,null,"1.0AC Portico de acero arriostrado con diagonales",50,"1.0AC Portico de acero arriostrado con diagonales50",1,null,"9.0M2F Mamposteria de arcilla o confinada con diafragmas flexibles",0,"9.0M2F Mamposteria de arcilla o confinada con diafragmas flexibles0",1,"5.0DL Muros de concreto armado de ductibilidad limitada","Gasolineras","5.0DL Muros de concreto armado de ductibilidad limitadaGasolineras",1]
[null,null,null,null,null,null,null,null,null,null,null,null,null,null,null,null,null,null,"2.0AQ Adobe y quincha",1,{"$f":"S52&T52","v":"2.0AQ Adobe y quincha1"},1,null,"9.0M2F Mamposteria de arcilla o confinada con diafragmas flexibles",1,"9.0M2F Mamposteria de arcilla o confinada con diafragmas flexibles1",1,"6.0EM Entramados de madera","Vivienda","6.0EM Entramados de maderaVivienda",1]
["1.0AC_sotano","2.0AQ_sotano","3.0CA_sotano","4.0CP_sotano","5.0DL_sotano","6.0EM_sotano","7.0M1_sotano","8.0M2R_sotano","9.0M2F_sotano","10.0M3_sotano","11.0IC_sotano","12.0EE_sotano",null,null,null,null,null,null,"2.0AQ Adobe y quincha",2,{"$f":"S53&T53","v":"2.0AQ Adobe y quincha2"},1,null,"10.0M3 Construccion informal en albañileria",0,"10.0M3 Construccion informal en albañileria0",1,"6.0EM Entramados de madera","Oficina","6.0EM Entramados de maderaOficina",1]
[0,0,0,0,0,0,0,0,0,0,0,0,null,null,null,null,null,null,"2.0AQ Adobe y quincha",3,{"$f":"S54&T54","v":"2.0AQ Adobe y quincha3"},1,null,"11.0IC Estructuras industriales / comerciales",0,"11.0IC Estructuras industriales / comerciales0",1,"6.0EM Entramados de madera","Centro Educativo","6.0EM Entramados de maderaCentro Educativo",1]
[1,null,1,1,null,null,null,1,1,null,null,1,null,null,null,null,null,null,"3.0CA Porticos de concreto armado",1,{"$f":"S55&T55","v":"3.0CA Porticos de concreto armado1"},1,null,"12.0EE Estructuras especiales",0,"12.0EE Estructuras especiales0",1,"6.0EM Entramados de madera","Centro De Salud","6.0EM Entramados de maderaCentro De Salud",1]
[2,null,2,2,null,null,null,null,null,null,null,2,null,null,null,null,null,null,"3.0CA Porticos de concreto armado",2,"3.0CA Porticos de concreto armado2",1,null,"12.0EE Estructuras especiales",1,"12.0EE Estructuras especiales1",1,"6.0EM Entramados de madera","Taller","6.0EM Entramados de maderaTaller",1]
[3,null,3,3,null,null,null,null,null,null,null,3,null,null,null,null,null,null,"3.0CA Porticos de concreto armado",3,"3.0CA Porticos de concreto armado3",1,null,"12.0EE Estructuras especiales",2,"12.0EE Estructuras especiales2",1,"6.0EM Entramados de madera","Comercio","6.0EM Entramados de maderaComercio",1]
[4,null,4,4,null,null,null,null,null,null,null,null,null,null,null,null,null,null,"3.0CA Porticos de concreto armado",4,"3.0CA Porticos de concreto armado4",1,null,"12.0EE Estructuras especiales",3,"12.0EE Estructuras especiales3",1,"6.0EM Entramados de madera","Nave Industrial O Grandes Almacenes","6.0EM Entramados de maderaNave Industrial O Grandes Almacenes",1]
[5,null,5,5,null,null,null,null,null,null,null,null,null,null,null,null,null,null,"3.0CA Porticos de concreto armado",5,"3.0CA Porticos de concreto armado5",1,null,null,null,null,null,"6.0EM Entramados de madera","Hospedaje Y Hoteles","6.0EM Entramados de maderaHospedaje Y Hoteles",1]
[6,null,6,6,null,null,null,null,null,null,null,null,null,null,null,null,null,null,"3.0CA Porticos de concreto armado",6,"3.0CA Porticos de concreto armado6",1,null,null,null,null,null,"6.0EM Entramados de madera","Actividades Recreacionales/de culto","6.0EM Entramados de maderaActividades Recreacionales/de culto",1]
[7,null,7,7,null,null,null,null,null,null,null,null,null,null,null,null,null,null,"3.0CA Porticos de concreto armado",7,"3.0CA Porticos de concreto armado7",1,null,null,null,null,null,"6.0EM Entramados de madera","Gasolineras","6.0EM Entramados de maderaGasolineras",1]
[8,null,8,8,null,null,null,null,null,null,null,null,null,null,null,null,null,null,"3.0CA Porticos de concreto armado",8,"3.0CA Porticos de concreto armado8",1,null,null,null,null,null,"7.0M1 Mamposteria De Arcilla Sin Refuerzo","Vivienda","7.0M1 Mamposteria De Arcilla Sin RefuerzoVivienda",1]
[9,null,9,9,null,null,null,null,null,null,null,null,null,null,null,null,null,null,"3.0CA Porticos de concreto armado",9,"3.0CA Porticos de concreto armado9",1,null,null,null,null,null,"7.0M1 Mamposteria De Arcilla Sin Refuerzo","Oficina","7.0M1 Mamposteria De Arcilla Sin RefuerzoOficina",1]
[10,null,10,10,null,null,null,null,null,null,null,null,null,null,null,null,null,null,"3.0CA Porticos de concreto armado",10,"3.0CA Porticos de concreto armado10",1,null,null,null,null,null,"7.0M1 Mamposteria De Arcilla Sin Refuerzo","Centro Educativo","7.0M1 Mamposteria De Arcilla Sin RefuerzoCentro Educativo",1]
[11,null,11,11,null,null,null,null,null,null,null,null,null,null,null,null,null,null,"3.0CA Porticos de concreto armado",11,{"$f":"S65&T65","v":"3.0CA Porticos de concreto armado11"},1,null,null,null,null,null,"7.0M1 Mamposteria De Arcilla Sin Refuerzo","Centro De Salud","7.0M1 Mamposteria De Arcilla Sin RefuerzoCentro De Salud",1]
[12,null,12,12,null,null,null,null,null,null,null,null,null,null,null,null,null,null,"3.0CA Porticos de concreto armado",12,"3.0CA Porticos de concreto armado12",1,null,null,null,null,null,"7.0M1 Mamposteria De Arcilla Sin Refuerzo","Taller","7.0M1 Mamposteria De Arcilla Sin RefuerzoTaller",1]
[13,null,13,13,null,null,null,null,null,null,null,null,null,null,null,null,null,null,"3.0CA Porticos de concreto armado",13,"3.0CA Porticos de concreto armado13",1,null,null,null,null,null,"7.0M1 Mamposteria De Arcilla Sin Refuerzo","Comercio",{"$f":"AB67&AC67","v":"7.0M1 Mamposteria De Arcilla Sin RefuerzoComercio"},1]
[14,null,14,14,null,null,null,null,null,null,null,null,null,null,null,null,null,null,"3.0CA Porticos de concreto armado",14,"3.0CA Porticos de concreto armado14",1,null,null,null,null,null,"7.0M1 Mamposteria De Arcilla Sin Refuerzo","Nave Industrial O Grandes Almacenes","7.0M1 Mamposteria De Arcilla Sin RefuerzoNave Industrial O Grandes Almacenes",1]
[15,null,15,15,null,null,null,null,null,null,null,null,null,null,null,null,null,null,"3.0CA Porticos de concreto armado",15,"3.0CA Porticos de concreto armado15",1,null,null,null,null,null,"7.0M1 Mamposteria De Arcilla Sin Refuerzo","Hospedaje Y Hoteles","7.0M1 Mamposteria De Arcilla Sin RefuerzoHospedaje Y Hoteles",1]
[null,null,null,null,null,null,null,null,null,null,null,null,null,null,null,null,null,null,"3.0CA Porticos de concreto armado",16,"3.0CA Porticos de concreto armado16",1,null,null,null,null,null,"7.0M1 Mamposteria De Arcilla Sin Refuerzo","Actividades Recreacionales/de culto","7.0M1 Mamposteria De Arcilla Sin RefuerzoActividades Recreacionales/de culto",1]
[null,null,null,null,null,null,null,null,null,null,null,null,null,null,null,null,null,null,"3.0CA Porticos de concreto armado",17,"3.0CA Porticos de concreto armado17",1,null,null,null,null,null,"7.0M1 Mamposteria De Arcilla Sin Refuerzo","Gasolineras","7.0M1 Mamposteria De Arcilla Sin RefuerzoGasolineras",1]
[null,null,null,null,null,null,null,null,null,null,null,null,null,null,null,null,null,null,"3.0CA Porticos de concreto armado",18,"3.0CA Porticos de concreto armado18",1,null,null,null,null,null,"8.0M2R Mamposteria de arcilla o confinada con diafragmas rígidos","Vivienda","8.0M2R Mamposteria de arcilla o confinada con diafragmas rígidosVivienda",1]
[null,null,null,null,null,null,null,null,null,null,null,null,null,null,null,null,null,null,"3.0CA Porticos de concreto armado",19,"3.0CA Porticos de concreto armado19",1,null,null,null,null,null,"8.0M2R Mamposteria de arcilla o confinada con diafragmas rígidos","Oficina","8.0M2R Mamposteria de arcilla o confinada con diafragmas rígidosOficina",1]
[null,null,null,null,null,null,null,null,null,null,null,null,null,null,null,null,null,null,"3.0CA Porticos de concreto armado",20,"3.0CA Porticos de concreto armado20",1,null,null,null,null,null,"8.0M2R Mamposteria de arcilla o confinada con diafragmas rígidos","Centro Educativo","8.0M2R Mamposteria de arcilla o confinada con diafragmas rígidosCentro Educativo",1]
[null,null,null,null,null,null,null,null,null,null,null,null,null,null,null,null,null,null,"4.0CP Porticos de concreto armado con placas",1,{"$f":"S75&T75","v":"4.0CP Porticos de concreto armado con placas1"},1,null,null,null,null,null,"8.0M2R Mamposteria de arcilla o confinada con diafragmas rígidos","Centro De Salud","8.0M2R Mamposteria de arcilla o confinada con diafragmas rígidosCentro De Salud",1]
[null,null,null,null,null,null,null,null,null,null,null,null,null,null,null,null,null,null,"4.0CP Porticos de concreto armado con placas",2,"4.0CP Porticos de concreto armado con placas2",1,null,null,null,null,null,"8.0M2R Mamposteria de arcilla o confinada con diafragmas rígidos","Taller","8.0M2R Mamposteria de arcilla o confinada con diafragmas rígidosTaller",1]
[null,null,null,null,null,null,null,null,null,null,null,null,null,null,null,null,null,null,"4.0CP Porticos de concreto armado con placas",3,"4.0CP Porticos de concreto armado con placas3",1,null,null,null,null,null,"8.0M2R Mamposteria de arcilla o confinada con diafragmas rígidos","Comercio","8.0M2R Mamposteria de arcilla o confinada con diafragmas rígidosComercio",1]
[null,null,null,null,null,null,null,null,null,null,null,null,null,null,null,null,null,null,"4.0CP Porticos de concreto armado con placas",4,"4.0CP Porticos de concreto armado con placas4",1,null,null,null,null,null,"8.0M2R Mamposteria de arcilla o confinada con diafragmas rígidos","Nave Industrial O Grandes Almacenes","8.0M2R Mamposteria de arcilla o confinada con diafragmas rígidosNave Industrial O Grandes Almacenes",1]
[null,null,null,null,null,null,null,null,null,null,null,null,null,null,null,null,null,null,"4.0CP Porticos de concreto armado con placas",5,"4.0CP Porticos de concreto armado con placas5",1,null,null,null,null,null,"8.0M2R Mamposteria de arcilla o confinada con diafragmas rígidos","Hospedaje Y Hoteles","8.0M2R Mamposteria de arcilla o confinada con diafragmas rígidosHospedaje Y Hoteles",1]
[null,null,null,null,null,null,null,null,null,null,null,null,null,null,null,null,null,null,"4.0CP Porticos de concreto armado con placas",6,"4.0CP Porticos de concreto armado con placas6",1,null,null,null,null,null,"8.0M2R Mamposteria de arcilla o confinada con diafragmas rígidos","Actividades Recreacionales/de culto","8.0M2R Mamposteria de arcilla o confinada con diafragmas rígidosActividades Recreacionales/de culto",1]
[null,null,null,null,null,null,null,null,null,null,null,null,null,null,null,null,null,null,"4.0CP Porticos de concreto armado con placas",7,"4.0CP Porticos de concreto armado con placas7",1,null,null,null,null,null,"8.0M2R Mamposteria de arcilla o confinada con diafragmas rígidos","Gasolineras","8.0M2R Mamposteria de arcilla o confinada con diafragmas rígidosGasolineras",1]
[null,null,null,null,null,null,null,null,null,null,null,null,null,null,null,null,null,null,"4.0CP Porticos de concreto armado con placas",8,"4.0CP Porticos de concreto armado con placas8",1,null,null,null,null,null,"9.0M2F Mamposteria de arcilla o confinada con diafragmas flexibles","Vivienda","9.0M2F Mamposteria de arcilla o confinada con diafragmas flexiblesVivienda",1]
[null,null,null,null,null,null,null,null,null,null,null,null,null,null,null,null,null,null,"4.0CP Porticos de concreto armado con placas",9,"4.0CP Porticos de concreto armado con placas9",1,null,null,null,null,null,"9.0M2F Mamposteria de arcilla o confinada con diafragmas flexibles","Oficina","9.0M2F Mamposteria de arcilla o confinada con diafragmas flexiblesOficina",1]
[null,null,null,null,null,null,null,null,null,null,null,null,null,null,null,null,null,null,"4.0CP Porticos de concreto armado con placas",10,"4.0CP Porticos de concreto armado con placas10",1,null,null,null,null,null,"9.0M2F Mamposteria de arcilla o confinada con diafragmas flexibles","Centro Educativo","9.0M2F Mamposteria de arcilla o confinada con diafragmas flexiblesCentro Educativo",1]
[null,null,null,null,null,null,null,null,null,null,null,null,null,null,null,null,null,null,"4.0CP Porticos de concreto armado con placas",11,"4.0CP Porticos de concreto armado con placas11",1,null,null,null,null,null,"9.0M2F Mamposteria de arcilla o confinada con diafragmas flexibles","Centro De Salud","9.0M2F Mamposteria de arcilla o confinada con diafragmas flexiblesCentro De Salud",1]
[null,null,null,null,null,null,null,null,null,null,null,null,null,null,null,null,null,null,"4.0CP Porticos de concreto armado con placas",12,"4.0CP Porticos de concreto armado con placas12",1,null,null,null,null,null,"9.0M2F Mamposteria de arcilla o confinada con diafragmas flexibles","Taller","9.0M2F Mamposteria de arcilla o confinada con diafragmas flexiblesTaller",1]
[null,null,null,null,null,null,null,null,null,null,null,null,null,null,null,null,null,null,"4.0CP Porticos de concreto armado con placas",13,"4.0CP Porticos de concreto armado con placas13",1,null,null,null,null,null,"9.0M2F Mamposteria de arcilla o confinada con diafragmas flexibles","Comercio","9.0M2F Mamposteria de arcilla o confinada con diafragmas flexiblesComercio",1]
[null,null,null,null,null,null,null,null,null,null,null,null,null,null,null,null,null,null,"4.0CP Porticos de concreto armado con placas",14,{"$f":"S88&T88","v":"4.0CP Porticos de concreto armado con placas14"},1,null,null,null,null,null,"9.0M2F Mamposteria de arcilla o confinada con diafragmas flexibles","Nave Industrial O Grandes Almacenes","9.0M2F Mamposteria de arcilla o confinada con diafragmas flexiblesNave Industrial O Grandes Almacenes",1]
[null,null,null,null,null,null,null,null,null,null,null,null,null,null,null,null,null,null,"4.0CP Porticos de concreto armado con placas",15,"4.0CP Porticos de concreto armado con placas15",1,null,null,null,null,null,"9.0M2F Mamposteria de arcilla o confinada con diafragmas flexibles","Hospedaje Y Hoteles","9.0M2F Mamposteria de arcilla o confinada con diafragmas flexiblesHospedaje Y Hoteles",1]
[null,null,null,null,null,null,null,null,null,null,null,null,null,null,null,null,null,null,"4.0CP Porticos de concreto armado con placas",16,"4.0CP Porticos de concreto armado con placas16",1,null,null,null,null,null,"9.0M2F Mamposteria de arcilla o confinada con diafragmas flexibles","Actividades Recreacionales/de culto","9.0M2F Mamposteria de arcilla o confinada con diafragmas flexiblesActividades Recreacionales/de culto",1]
[null,null,null,null,null,null,null,null,null,null,null,null,null,null,null,null,null,null,"4.0CP Porticos de concreto armado con placas",17,"4.0CP Porticos de concreto armado con placas17",1,null,null,null,null,null,"9.0M2F Mamposteria de arcilla o confinada con diafragmas flexibles","Gasolineras","9.0M2F Mamposteria de arcilla o confinada con diafragmas flexiblesGasolineras",1]
[null,null,null,null,null,null,null,null,null,null,null,null,null,null,null,null,null,null,"4.0CP Porticos de concreto armado con placas",18,"4.0CP Porticos de concreto armado con placas18",1,null,null,null,null,null,"10.0M3 Construccion informal en albañileria","Vivienda","10.0M3 Construccion informal en albañileriaVivienda",1]
[null,null,null,null,null,null,null,null,null,null,null,null,null,null,null,null,null,null,"4.0CP Porticos de concreto armado con placas",19,"4.0CP Porticos de concreto armado con placas19",1,null,null,null,null,null,"10.0M3 Construccion informal en albañileria","Oficina","10.0M3 Construccion informal en albañileriaOficina",1]
[null,null,null,null,null,null,null,null,null,null,null,null,null,null,null,null,null,null,"4.0CP Porticos de concreto armado con placas",20,"4.0CP Porticos de concreto armado con placas20",1,null,null,null,null,null,"10.0M3 Construccion informal en albañileria","Centro Educativo","10.0M3 Construccion informal en albañileriaCentro Educativo",1]
[null,null,null,null,null,null,null,null,null,null,null,null,null,null,null,null,null,null,"4.0CP Porticos de concreto armado con placas",21,"4.0CP Porticos de concreto armado con placas21",1,null,null,null,null,null,"10.0M3 Construccion informal en albañileria","Centro De Salud","10.0M3 Construccion informal en albañileriaCentro De Salud",1]
[null,null,null,null,null,null,null,null,null,null,null,null,null,null,null,null,null,null,"4.0CP Porticos de concreto armado con placas",22,"4.0CP Porticos de concreto armado con placas22",1,null,null,null,null,null,"10.0M3 Construccion informal en albañileria","Taller","10.0M3 Construccion informal en albañileriaTaller",1]
[null,null,null,null,null,null,null,null,null,null,null,null,null,null,null,null,null,null,"4.0CP Porticos de concreto armado con placas",23,"4.0CP Porticos de concreto armado con placas23",1,null,null,null,null,null,"10.0M3 Construccion informal en albañileria","Comercio","10.0M3 Construccion informal en albañileriaComercio",1]
[null,null,null,null,null,null,null,null,null,null,null,null,null,null,null,null,null,null,"4.0CP Porticos de concreto armado con placas",24,"4.0CP Porticos de concreto armado con placas24",1,null,null,null,null,null,"10.0M3 Construccion informal en albañileria","Nave Industrial O Grandes Almacenes","10.0M3 Construccion informal en albañileriaNave Industrial O Grandes Almacenes",1]
[null,null,null,null,null,null,null,null,null,null,null,null,null,null,null,null,null,null,"4.0CP Porticos de concreto armado con placas",25,"4.0CP Porticos de concreto armado con placas25",1,null,null,null,null,null,"10.0M3 Construccion informal en albañileria","Hospedaje Y Hoteles","10.0M3 Construccion informal en albañileriaHospedaje Y Hoteles",1]
[null,null,null,null,null,null,null,null,null,null,null,null,null,null,null,null,null,null,"4.0CP Porticos de concreto armado con placas",26,"4.0CP Porticos de concreto armado con placas26",1,null,null,null,null,null,"10.0M3 Construccion informal en albañileria","Actividades Recreacionales/de culto","10.0M3 Construccion informal en albañileriaActividades Recreacionales/de culto",1]
[null,null,null,null,null,null,null,null,null,null,null,null,null,null,null,null,null,null,"4.0CP Porticos de concreto armado con placas",27,"4.0CP Porticos de concreto armado con placas27",1,null,null,null,null,null,"10.0M3 Construccion informal en albañileria","Gasolineras","10.0M3 Construccion informal en albañileriaGasolineras",1]
[null,null,null,null,null,null,null,null,null,null,null,null,null,null,null,null,null,null,"4.0CP Porticos de concreto armado con placas",28,"4.0CP Porticos de concreto armado con placas28",1,null,null,null,null,null,"11.0IC Estructuras industriales / comerciales","Vivienda","11.0IC Estructuras industriales / comercialesVivienda",1]
[null,null,null,null,null,null,null,null,null,null,null,null,null,null,null,null,null,null,"4.0CP Porticos de concreto armado con placas",29,"4.0CP Porticos de concreto armado con placas29",1,null,null,null,null,null,"11.0IC Estructuras industriales / comerciales","Oficina","11.0IC Estructuras industriales / comercialesOficina",1]
[null,null,null,null,null,null,null,null,null,null,null,null,null,null,null,null,null,null,"4.0CP Porticos de concreto armado con placas",30,"4.0CP Porticos de concreto armado con placas30",1,null,null,null,null,null,"11.0IC Estructuras industriales / comerciales","Centro Educativo","11.0IC Estructuras industriales / comercialesCentro Educativo",1]
[null,null,null,null,null,null,null,null,null,null,null,null,null,null,null,null,null,null,"4.0CP Porticos de concreto armado con placas",31,"4.0CP Porticos de concreto armado con placas31",1,null,null,null,null,null,"11.0IC Estructuras industriales / comerciales","Centro De Salud","11.0IC Estructuras industriales / comercialesCentro De Salud",1]
[null,null,null,null,null,null,null,null,null,null,null,null,null,null,null,null,null,null,"4.0CP Porticos de concreto armado con placas",32,"4.0CP Porticos de concreto armado con placas32",1,null,null,null,null,null,"11.0IC Estructuras industriales / comerciales","Taller","11.0IC Estructuras industriales / comercialesTaller",1]
[null,null,null,null,null,null,null,null,null,null,null,null,null,null,null,null,null,null,"4.0CP Porticos de concreto armado con placas",33,"4.0CP Porticos de concreto armado con placas33",1,null,null,null,null,null,"11.0IC Estructuras industriales / comerciales","Comercio","11.0IC Estructuras industriales / comercialesComercio",1]
[null,null,null,null,null,null,null,null,null,null,null,null,null,null,null,null,null,null,"4.0CP Porticos de concreto armado con placas",34,"4.0CP Porticos de concreto armado con placas34",1,null,null,null,null,null,"11.0IC Estructuras industriales / comerciales","Nave Industrial O Grandes Almacenes","11.0IC Estructuras industriales / comercialesNave Industrial O Grandes Almacenes",1]
[null,null,null,null,null,null,null,null,null,null,null,null,null,null,null,null,null,null,"4.0CP Porticos de concreto armado con placas",35,"4.0CP Porticos de concreto armado con placas35",1,null,null,null,null,null,"11.0IC Estructuras industriales / comerciales","Hospedaje Y Hoteles","11.0IC Estructuras industriales / comercialesHospedaje Y Hoteles",1]
[null,null,null,null,null,null,null,null,null,null,null,null,null,null,null,null,null,null,"4.0CP Porticos de concreto armado con placas",36,"4.0CP Porticos de concreto armado con placas36",1,null,null,null,null,null,"11.0IC Estructuras industriales / comerciales","Actividades Recreacionales/de culto","11.0IC Estructuras industriales / comercialesActividades Recreacionales/de culto",1]
[null,null,null,null,null,null,null,null,null,null,null,null,null,null,null,null,null,null,"4.0CP Porticos de concreto armado con placas",37,"4.0CP Porticos de concreto armado con placas37",1,null,null,null,null,null,"11.0IC Estructuras industriales / comerciales","Gasolineras","11.0IC Estructuras industriales / comercialesGasolineras",1]
[null,null,null,null,null,null,null,null,null,null,null,null,null,null,null,null,null,null,"4.0CP Porticos de concreto armado con placas",38,"4.0CP Porticos de concreto armado con placas38",1,null,null,null,null,null,"12.0EE Estructuras especiales","EE Minas","12.0EE Estructuras especialesEE Minas",1]
[null,null,null,null,null,null,null,null,null,null,null,null,null,null,null,null,null,null,"4.0CP Porticos de concreto armado con placas",39,"4.0CP Porticos de concreto armado con placas39",1,null,null,null,null,null,"12.0EE Estructuras especiales","EE Carreteras","12.0EE Estructuras especialesEE Carreteras",1]
[null,null,null,null,null,null,null,null,null,null,null,null,null,null,null,null,null,null,"4.0CP Porticos de concreto armado con placas",40,"4.0CP Porticos de concreto armado con placas40",1,null,null,null,null,null,"12.0EE Estructuras especiales","EE Puentes","12.0EE Estructuras especialesEE Puentes",1]
[null,null,null,null,null,null,null,null,null,null,null,null,null,null,null,null,null,null,"4.0CP Porticos de concreto armado con placas",41,{"$f":"S115&T115","v":"4.0CP Porticos de concreto armado con placas41"},1,null,null,null,null,null,"12.0EE Estructuras especiales","EE Reservorios","12.0EE Estructuras especialesEE Reservorios",1]
[null,null,null,null,null,null,null,null,null,null,null,null,null,null,null,null,null,null,"4.0CP Porticos de concreto armado con placas",42,"4.0CP Porticos de concreto armado con placas42",1,null,null,null,null,null,"12.0EE Estructuras especiales","EE Tanques De Agua","12.0EE Estructuras especialesEE Tanques De Agua",1]
[null,null,null,null,null,null,null,null,null,null,null,null,null,null,null,null,null,null,"4.0CP Porticos de concreto armado con placas",43,"4.0CP Porticos de concreto armado con placas43",1,null,null,null,null,null,"12.0EE Estructuras especiales","EE Silos","12.0EE Estructuras especialesEE Silos",1]
[null,null,null,null,null,null,null,null,null,null,null,null,null,null,null,null,null,null,"4.0CP Porticos de concreto armado con placas",44,"4.0CP Porticos de concreto armado con placas44",1,null,null,null,null,null,"12.0EE Estructuras especiales","EE Vías Férreas","12.0EE Estructuras especialesEE Vías Férreas",1]
[null,null,null,null,null,null,null,null,null,null,null,null,null,null,null,null,null,null,"4.0CP Porticos de concreto armado con placas",45,"4.0CP Porticos de concreto armado con placas45",1,null,null,null,null,null,"12.0EE Estructuras especiales","EE Torres De Transmisión","12.0EE Estructuras especialesEE Torres De Transmisión",1]
[null,null,null,null,null,null,null,null,null,null,null,null,null,null,null,null,null,null,"4.0CP Porticos de concreto armado con placas",46,"4.0CP Porticos de concreto armado con placas46",1,null,null,null,null,null,"12.0EE Estructuras especiales","EE Instalaciones Sanitarias","12.0EE Estructuras especialesEE Instalaciones Sanitarias",1]
[null,null,null,null,null,null,null,null,null,null,null,null,null,null,null,null,null,null,"4.0CP Porticos de concreto armado con placas",47,"4.0CP Porticos de concreto armado con placas47",1,null,null,null,null,null,"12.0EE Estructuras especiales","EE Instalaciones Eléctricas","12.0EE Estructuras especialesEE Instalaciones Eléctricas",1]
[null,null,null,null,null,null,null,null,null,null,null,null,null,null,null,null,null,null,"4.0CP Porticos de concreto armado con placas",48,"4.0CP Porticos de concreto armado con placas48",1,null,null,null,null,null,"12.0EE Estructuras especiales","EE Tuberías Enterradas","12.0EE Estructuras especialesEE Tuberías Enterradas",1]
[null,null,null,null,null,null,null,null,null,null,null,null,null,null,null,null,null,null,"4.0CP Porticos de concreto armado con placas",49,"4.0CP Porticos de concreto armado con placas49",1,null,null,null,null,null,"12.0EE Estructuras especiales","EE Muelles o Puertos","12.0EE Estructuras especialesEE Muelles o Puertos",1]
[null,null,null,null,null,null,null,null,null,null,null,null,null,null,null,null,null,null,"4.0CP Porticos de concreto armado con placas",50,"4.0CP Porticos de concreto armado con placas50",1,null,null,null,null,null,"12.0EE Estructuras especiales","EE Estructuras Hidráulicas","12.0EE Estructuras especialesEE Estructuras Hidráulicas",1]
[null,null,null,null,null,null,null,null,null,null,null,null,null,null,null,null,null,null,"5.0DL Muros de concreto armado de ductibilidad limitada",1,{"$f":"S125&T125","v":"5.0DL Muros de concreto armado de ductibilidad limitada1"},1,null,null,null,null,null,"12.0EE Estructuras especiales","EE Sist. De Drenaje, Riego o Alcantarillado","12.0EE Estructuras especialesEE Sist. De Drenaje, Riego o Alcantarillado",1]
[null,null,null,null,null,null,null,null,null,null,null,null,null,null,null,null,null,null,"5.0DL Muros de concreto armado de ductibilidad limitada",2,"5.0DL Muros de concreto armado de ductibilidad limitada2",1,null,null,null,null,null,"12.0EE Estructuras especiales","EE Represas de Agua","12.0EE Estructuras especialesEE Represas de Agua",1]
[null,null,null,null,null,null,null,null,null,null,null,null,null,null,null,null,null,null,"5.0DL Muros de concreto armado de ductibilidad limitada",3,"5.0DL Muros de concreto armado de ductibilidad limitada3",1,null,null,null,null,null,"12.0EE Estructuras especiales","EE Aeropuertos","12.0EE Estructuras especialesEE Aeropuertos",1]
[null,null,null,null,null,null,null,null,null,null,null,null,null,null,null,null,null,null,"5.0DL Muros de concreto armado de ductibilidad limitada",4,"5.0DL Muros de concreto armado de ductibilidad limitada4",1,null,null,null,null,null,"12.0EE Estructuras especiales","EE Sistemas De Gas Natural","12.0EE Estructuras especialesEE Sistemas De Gas Natural",1]
[null,null,null,null,null,null,null,null,null,null,null,null,null,null,null,null,null,null,"5.0DL Muros de concreto armado de ductibilidad limitada",5,"5.0DL Muros de concreto armado de ductibilidad limitada5",1,null,null,null,null,null,"12.0EE Estructuras especiales","EE Sist De Instalaciones Petroleras Y Petroquímicas","12.0EE Estructuras especialesEE Sist De Instalaciones Petroleras Y Petroquímicas",1]
[null,null,null,null,null,null,null,null,null,null,null,null,null,null,null,null,null,null,"5.0DL Muros de concreto armado de ductibilidad limitada",6,"5.0DL Muros de concreto armado de ductibilidad limitada6",1,null,null,null,null,null,"12.0EE Estructuras especiales","EE Plantas De Tratamiento De Agua","12.0EE Estructuras especialesEE Plantas De Tratamiento De Agua",1]
[null,null,null,null,null,null,null,null,null,null,null,null,null,null,null,null,null,null,"5.0DL Muros de concreto armado de ductibilidad limitada",7,"5.0DL Muros de concreto armado de ductibilidad limitada7",1,null,null,null,null,null,"12.0EE Estructuras especiales","EE Centrales Eléctricas o Hidroeléctricas",{"$f":"AB131&AC131","v":"12.0EE Estructuras especialesEE Centrales Eléctricas o Hidroeléctricas"},1]
[null,null,null,null,null,null,null,null,null,null,null,null,null,null,null,null,null,null,"5.0DL Muros de concreto armado de ductibilidad limitada",8,"5.0DL Muros de concreto armado de ductibilidad limitada8",1,null,null,null,null,null,"12.0EE Estructuras especiales","EE Estaciones Telemétricas",{"$f":"AB132&AC132","v":"12.0EE Estructuras especialesEE Estaciones Telemétricas"},1]
[null,null,null,null,null,null,null,null,null,null,null,null,null,null,null,null,null,null,"5.0DL Muros de concreto armado de ductibilidad limitada",9,{"$f":"S133&T133","v":"5.0DL Muros de concreto armado de ductibilidad limitada9"},1,null,null,null,null,null,"12.0EE Estructuras especiales","EE Estaciones De Tren",{"$f":"AB133&AC133","v":"12.0EE Estructuras especialesEE Estaciones De Tren"},1]
[null,null,null,null,null,null,null,null,null,null,null,null,null,null,null,null,null,null,"5.0DL Muros de concreto armado de ductibilidad limitada",10,"5.0DL Muros de concreto armado de ductibilidad limitada10",1,null,null,null,null,null,"12.0EE Estructuras especiales","EE Estructuras Especiales (Otros)",{"$f":"AB134&AC134","v":"12.0EE Estructuras especialesEE Estructuras Especiales (Otros)"},1]
[null,null,null,null,null,null,null,null,null,null,null,null,null,null,null,null,null,null,"5.0DL Muros de concreto armado de ductibilidad limitada",11,"5.0DL Muros de concreto armado de ductibilidad limitada11",1]
[null,null,null,null,null,null,null,null,null,null,null,null,null,null,null,null,null,null,"5.0DL Muros de concreto armado de ductibilidad limitada",12,"5.0DL Muros de concreto armado de ductibilidad limitada12",1]
[null,null,null,null,null,null,null,null,null,null,null,null,null,null,null,null,null,null,"5.0DL Muros de concreto armado de ductibilidad limitada",13,"5.0DL Muros de concreto armado de ductibilidad limitada13",1]
[null,null,null,null,null,null,null,null,null,null,null,null,null,null,null,null,null,null,"5.0DL Muros de concreto armado de ductibilidad limitada",14,"5.0DL Muros de concreto armado de ductibilidad limitada14",1]
[null,null,null,null,null,null,null,null,null,null,null,null,null,null,null,null,null,null,"5.0DL Muros de concreto armado de ductibilidad limitada",15,"5.0DL Muros de concreto armado de ductibilidad limitada15",1]
[null,null,null,null,null,null,null,null,null,null,null,null,null,null,null,null,null,null,"5.0DL Muros de concreto armado de ductibilidad limitada",16,"5.0DL Muros de concreto armado de ductibilidad limitada16",1]
[null,null,null,null,null,null,null,null,null,null,null,null,null,null,null,null,null,null,"5.0DL Muros de concreto armado de ductibilidad limitada",17,"5.0DL Muros de concreto armado de ductibilidad limitada17",1]
[null,null,null,null,null,null,null,null,null,null,null,null,null,null,null,null,null,null,"5.0DL Muros de concreto armado de ductibilidad limitada",18,"5.0DL Muros de concreto armado de ductibilidad limitada18",1]
[null,null,null,null,null,null,null,null,null,null,null,null,null,null,null,null,null,null,"5.0DL Muros de concreto armado de ductibilidad limitada",19,"5.0DL Muros de concreto armado de ductibilidad limitada19",1]
[null,null,null,null,null,null,null,null,null,null,null,null,null,null,null,null,null,null,"5.0DL Muros de concreto armado de ductibilidad limitada",20,"5.0DL Muros de concreto armado de ductibilidad limitada20",1]
[null,null,null,null,null,null,null,null,null,null,null,null,null,null,null,null,null,null,"6.0EM Entramados de madera",1,{"$f":"S145&T145","v":"6.0EM Entramados de madera1"},1]
[null,null,null,null,null,null,null,null,null,null,null,null,null,null,null,null,null,null,"6.0EM Entramados de madera",2,"6.0EM Entramados de madera2",1]
[null,null,null,null,null,null,null,null,null,null,null,null,null,null,null,null,null,null,"6.0EM Entramados de madera",3,"6.0EM Entramados de madera3",1]
[null,null,null,null,null,null,null,null,null,null,null,null,null,null,null,null,null,null,"7.0M1 Mamposteria De Arcilla Sin Refuerzo",1,"7.0M1 Mamposteria De Arcilla Sin Refuerzo1",1]
[null,null,null,null,null,null,null,null,null,null,null,null,null,null,null,null,null,null,"7.0M1 Mamposteria De Arcilla Sin Refuerzo",2,"7.0M1 Mamposteria De Arcilla Sin Refuerzo2",1]
[null,null,null,null,null,null,null,null,null,null,null,null,null,null,null,null,null,null,"7.0M1 Mamposteria De Arcilla Sin Refuerzo",3,"7.0M1 Mamposteria De Arcilla Sin Refuerzo3",1]
[null,null,null,null,null,null,null,null,null,null,null,null,null,null,null,null,null,null,"7.0M1 Mamposteria De Arcilla Sin Refuerzo",4,"7.0M1 Mamposteria De Arcilla Sin Refuerzo4",1]
[null,null,null,null,null,null,null,null,null,null,null,null,null,null,null,null,null,null,"7.0M1 Mamposteria De Arcilla Sin Refuerzo",5,"7.0M1 Mamposteria De Arcilla Sin Refuerzo5",1]
[null,null,null,null,null,null,null,null,null,null,null,null,null,null,null,null,null,null,"7.0M1 Mamposteria De Arcilla Sin Refuerzo",6,"7.0M1 Mamposteria De Arcilla Sin Refuerzo6",1]
[null,null,null,null,null,null,null,null,null,null,null,null,null,null,null,null,null,null,"8.0M2R Mamposteria de arcilla o confinada con diafragmas rígidos",1,"8.0M2R Mamposteria de arcilla o confinada con diafragmas rígidos1",1]
[null,null,null,null,null,null,null,null,null,null,null,null,null,null,null,null,null,null,"8.0M2R Mamposteria de arcilla o confinada con diafragmas rígidos",2,"8.0M2R Mamposteria de arcilla o confinada con diafragmas rígidos2",1]
[null,null,null,null,null,null,null,null,null,null,null,null,null,null,null,null,null,null,"8.0M2R Mamposteria de arcilla o confinada con diafragmas rígidos",3,"8.0M2R Mamposteria de arcilla o confinada con diafragmas rígidos3",1]
[null,null,null,null,null,null,null,null,null,null,null,null,null,null,null,null,null,null,"8.0M2R Mamposteria de arcilla o confinada con diafragmas rígidos",4,"8.0M2R Mamposteria de arcilla o confinada con diafragmas rígidos4",1]
[null,null,null,null,null,null,null,null,null,null,null,null,null,null,null,null,null,null,"8.0M2R Mamposteria de arcilla o confinada con diafragmas rígidos",5,"8.0M2R Mamposteria de arcilla o confinada con diafragmas rígidos5",1]
[null,null,null,null,null,null,null,null,null,null,null,null,null,null,null,null,null,null,"8.0M2R Mamposteria de arcilla o confinada con diafragmas rígidos",6,"8.0M2R Mamposteria de arcilla o confinada con diafragmas rígidos6",1]
[null,null,null,null,null,null,null,null,null,null,null,null,null,null,null,null,null,null,"9.0M2F Mamposteria de arcilla o confinada con diafragmas flexibles",1,"9.0M2F Mamposteria de arcilla o confinada con diafragmas flexibles1",1]
[null,null,null,null,null,null,null,null,null,null,null,null,null,null,null,null,null,null,"9.0M2F Mamposteria de arcilla o confinada con diafragmas flexibles",2,"9.0M2F Mamposteria de arcilla o confinada con diafragmas flexibles2",1]
[null,null,null,null,null,null,null,null,null,null,null,null,null,null,null,null,null,null,"9.0M2F Mamposteria de arcilla o confinada con diafragmas flexibles",3,"9.0M2F Mamposteria de arcilla o confinada con diafragmas flexibles3",1]
[null,null,null,null,null,null,null,null,null,null,null,null,null,null,null,null,null,null,"9.0M2F Mamposteria de arcilla o confinada con diafragmas flexibles",4,"9.0M2F Mamposteria de arcilla o confinada con diafragmas flexibles4",1]
[null,null,null,null,null,null,null,null,null,null,null,null,null,null,null,null,null,null,"9.0M2F Mamposteria de arcilla o confinada con diafragmas flexibles",5,"9.0M2F Mamposteria de arcilla o confinada con diafragmas flexibles5",1]
[null,null,null,null,null,null,null,null,null,null,null,null,null,null,null,null,null,null,"9.0M2F Mamposteria de arcilla o confinada con diafragmas flexibles",6,"9.0M2F Mamposteria de arcilla o confinada con diafragmas flexibles6",1]
[null,null,null,null,null,null,null,null,null,null,null,null,null,null,null,null,null,null,"10.0M3 Construccion informal en albañileria",1,"10.0M3 Construccion informal en albañileria1",1]
[null,null,null,null,null,null,null,null,null,null,null,null,null,null,null,null,null,null,"10.0M3 Construccion informal en albañileria",2,"10.0M3 Construccion informal en albañileria2",1]
[null,null,null,null,null,null,null,null,null,null,null,null,null,null,null,null,null,null,"10.0M3 Construccion informal en albañileria",3,"10.0M3 Construccion informal en albañileria3",1]
[null,null,null,null,null,null,null,null,null,null,null,null,null,null,null,null,null,null,"11.0IC Estructuras industriales / comerciales",1,"11.0IC Estructuras industriales / comerciales1",1]
[null,null,null,null,null,null,null,null,null,null,null,null,null,null,null,null,null,null,"11.0IC Estructuras industriales / comerciales",2,"11.0IC Estructuras industriales / comerciales2",1]
[null,null,null,null,null,null,null,null,null,null,null,null,null,null,null,null,null,null,"11.0IC Estructuras industriales / comerciales",3,"11.0IC Estructuras industriales / comerciales3",1]
[null,null,null,null,null,null,null,null,null,null,null,null,null,null,null,null,null,null,"11.0IC Estructuras industriales / comerciales",4,"11.0IC Estructuras industriales / comerciales4",1]
[null,null,null,null,null,null,null,null,null,null,null,null,null,null,null,null,null,null,"11.0IC Estructuras industriales / comerciales",5,"11.0IC Estructuras industriales / comerciales5",1]
[null,null,null,null,null,null,null,null,null,null,null,null,null,null,null,null,null,null,"12.0EE Estructuras especiales",1,{"$f":"S174&T174","v":"12.0EE Estructuras especiales1"},1]
[null,null,null,null,null,null,null,null,null,null,null,null,null,null,null,null,null,null,"12.0EE Estructuras especiales",2,"12.0EE Estructuras especiales2",1]
[null,null,null,null,null,null,null,null,null,null,null,null,null,null,null,null,null,null,"12.0EE Estructuras especiales",3,"12.0EE Estructuras especiales3",1]
[null,null,null,null,null,null,null,null,null,null,null,null,null,null,null,null,null,null,"12.0EE Estructuras especiales",4,"12.0EE Estructuras especiales4",1]
[null,null,null,null,null,null,null,null,null,null,null,null,null,null,null,null,null,null,"12.0EE Estructuras especiales",5,"12.0EE Estructuras especiales5",1]
[null,null,null,null,null,null,null,null,null,null,null,null,null,null,null,null,null,null,"12.0EE Estructuras especiales",6,"12.0EE Estructuras especiales6",1]
[null,null,null,null,null,null,null,null,null,null,null,null,null,null,null,null,null,null,"12.0EE Estructuras especiales",7,"12.0EE Estructuras especiales7",1]
[null,null,null,null,null,null,null,null,null,null,null,null,null,null,null,null,null,null,"12.0EE Estructuras especiales",8,"12.0EE Estructuras especiales8",1]
[null,null,null,null,null,null,null,null,null,null,null,null,null,null,null,null,null,null,"12.0EE Estructuras especiales",9,"12.0EE Estructuras especiales9",1]
[null,null,null,null,null,null,null,null,null,null,null,null,null,null,null,null,null,null,"12.0EE Estructuras especiales",10,"12.0EE Estructuras especiales10",1]
[null,null,null,null,null,null,null,null,null,null,null,null,null,null,null,null,null,null,"12.0EE Estructuras especiales",11,{"$f":"S184&T184","v":"12.0EE Estructuras especiales11"},1]
[null,null,null,null,null,null,null,null,null,null,null,null,null,null,null,null,null,null,"12.0EE Estructuras especiales",12,{"$f":"S185&T185","v":"12.0EE Estructuras especiales12"},1]
[null,null,null,null,null,null,null,null,null,null,null,null,null,null,null,null,null,null,"12.0EE Estructuras especiales",13,{"$f":"S186&T186","v":"12.0EE Estructuras especiales13"},1]
[null,null,null,null,null,null,null,null,null,null,null,null,null,null,null,null,null,null,"12.0EE Estructuras especiales",14,{"$f":"S187&T187","v":"12.0EE Estructuras especiales14"},1]
[null,null,null,null,null,null,null,null,null,null,null,null,null,null,null,null,null,null,"12.0EE Estructuras especiales",15,{"$f":"S188&T188","v":"12.0EE Estructuras especiales15"},1]

{"sheet":"Lista","index":11,"n_rows":608,"n_cols":16381,"rows_kept":3,"cut":true,"hidden":true,"merged":[],"bounds":{"rows_first":1,"rows_last":1,"rows_between":1,"halvings":10}}
["VIA","INTERIOR","URB","SUB_URB","PAIS","PERU - DEPARTAMENTO","OTROS","CIIU Rev.4","DESCRIPCION","PISO","SOTANO","AÑO","MAT_CONS","USOS","EE","TIPO","Moneda","RUC","GIROS","GIRO DE NEGOCIO","OCUPACIÓN","Uso Actual",null,null,null,null,null,null,null,null,null,null,null,null,null,null,null,null,null,null,null,null,null,null,null,null,null,null,null,null,null,null,null,null,null,null,null,null,null,null,null,null,null,null,null,null,null,null,null,null,null,null,null,null,null,null,null,null,null,null,null,null,null,null,null,null,null,null,null,null,null,null,null,null,null,null,null,null,null,null,null,null,null,null,null,null,null,null,null,null,null,null,null,null,null,null,null,null,null,null,null,null,null,null,null,null,null,null,null,null,null,null,null,null,null,null,null,null,null,null,null,null,null,null,null,null,null,null,null,null,null,null,null,null,null,null,null,null,null,null,null,null,null,null,null,null,null,null,null,null,null,null,null,null,null,null,null,null,null,null,null,null,null,null,null,null,null,null,null,null,null,null,null,null,null,null,null,null,null,null,null,null,null,null,null,null,null,null,null,null,null,null,null,null,null,null,null,null,null,null,null,null,null,null,null,null,null,null,null,null,null,null,null,null,null,null,null,null,null,null,null,null,null,null,null,null,null,null,null,null,null,null,null,null,null,null,null,null,null,null,null,null,null,null,null,null,null,null,null,null,null,null,null,null,null,null,null,null,null,null,null,null,null,null,null,null,null,null,null,null,null,null,null,null,null,null,null,null,null,null,null,null,null,null,null,null,null,null,null,null,null,null,null,null,null,null,null,null,null,null,null,null,null,null,null,null,null,null,null,null,null,null,null,null,null,null,null,null,null,null,null,null,null,null,null,null,null,null,null,null,null,null,null,null,null,null,null,null,null,null,null,null,null,null,null,null,null,null,null,null,null,null,null,null,null,null,null,null,null,null,null,null,null,null,null,null,null,null,null,null,null,null,null,null,null,null,null,null,null,null,null,null,null,null,null,null,null,null,null,null,null,null,null,null,null,null,null,null,null,null,null,null,null,null,null,null,null,null,null,null,null,null,null,null,null,null,null,null,null,null,null,null,null,null,null,null,null,null,null,null,null,null,null,null,null,null,null,null,null,null,null,null,null,null,null,null,null,null,null,null,null,null,null,null,null,null,null,null,null,null,null,null,null,null,null,null,null,null,null,null,null,null,null,null,null,null,null,null,null,null,null,null,null,null,null,null,null,null,null,null,null,null,null,null,null,null,null,null,null,null,null,null,null,null,null,null,null,null,null,null,null,null,null,null,null,null,null,null,null,null,null,null,null,null,null,null,null,null,null,null,null,null,null,null,null,null,null,null,null,null,null,null,null,null,null,null,null,null,null,null,null,null,null,null,null,null,null,null,null,null,null,null,null,null,null,null,null,null,null,null,null,null,null,null,null,null,null,null,null,null,null,null,null,null,null,null,null,null,null,null,null,null,null,null,null,null,null,null,null,null,null,null,null,null,null,null,null,null,null,null,null,null,null,null,null,null,null,null,null,null,null,null,null,null,null,null,null,null,null,null,null,null,null,null,null,null,null,null,null,null,null,null,null,null,null,null,null,null,null,null,null,null,null,null,null,null,null,null,null,null,null,null,null,null,null,null,null,null,null,null,null,null,null,null,null,null,null,null,null,null,null,null,null,null,null,null,null,null,null,null,null,null,null,null,null,null,null,null,null,null,null,null,null,null,null,null,null,null,null,null,null,null,null,null,null,null,null,null,null,null,null,null,null,null,null,null,null,null,null,null,null,null,null,null,null,null,null,null,null,null,null,null,null,null,null,null,null,null,null,null,null,null,null,null,null,null,null,null,null,null,null,null,null,null,null,null,null,null,null,null,null,null,null,null,null,null,null,null,null,null,null,null,null,null,null,null,null,null,null,null,null,null,null,null,null,null,null,null,null,null,null,null,null,null,null,null,null,null,null,null,null,null,null,null,null,null,null,null,null,null,null,null,null,null,null,null,null,null,null,null,null,null,null,null,null,null,null,null,null,null,null,null,null,null,null,null,null,null,null,null,null,null,null,null,null,null,null,null,null,null,null,null,null,null,null,null,null,null,null,null,null,null,null,null,null,null,null,null,null,null,null,null,null,null,null,null,null,null,null,null,null,null,null,null,null,null,null,null,null,null,null,null,null,null,null,null,null,null,null,null,null,null,null,null,null,null,null,null,null,null,null,null,null,null,null,null,null,null,null,null,null,null,null,null,null,null,null,null,null,null,null,null,null,null,null,null,null,null,null,null,null,null,null,null,null,null,null,null,null,null,null,null,null,null,null,null,null,null,null,null,null,null,null,null,null,null,null,null,null,null,null,null,null,null,null,null,null,null,null,null,null,null,null,null,null,null,null,null,null,null,null,null,null,null,null,null,null,null,null,null,null,null,null,null,null,null,null,null,null,null,null,null,null,null,null,null,null,null,null,null,null,null,null,null,null,null,null,null,null,null,null,null,null,null,null,null,null,null,null,null,null,null,null,null,null,null,null,null,null,null,null,null,null,null,null,null,null,null,null,null,null,null,null,null,null,null,null,null,null,null,null,null,null,null,null,null,null,null,null,null,null,null,null,null,null,null,null,null,null,null,null,null,null,null,null,null,null,null,null,null,null,null,null,null,null,null,null,null,null,null,null,null,null,null,null,null,null,null,null,null,null,null,null,null,null,null,null,null,null,null,null,null,null,null,null,null,null,null,null,null,null,null,null,null,null,null,null,null,null,null,null,null,null,null,null,null,null,null,null,null,null,null,null,null,null,null,null,null,null,null,null,null,null,null,null,null,null,null,null,null,null,null,null,null,null,null,null,null,null,null,null,null,null,null,null,null,null,null,null,null,null,null,null,null,null,null,null,null,null,null,null,null,null,null,null,null,null,null,null,null,null,null,null,null,null,null,null,null,null,null,null,null,null,null,null,null,null,null,null,null,null,null,null,null,null,null,null,null,null,null,null,null,null,null,null,null,null,null,null,null,null,null,null,null,null,null,null,null,null,null,null,null,null,null,null,null,null,null,null,null,null,null,null,null,null,null,null,null,null,null,null,null,null,null,null,null,null,null,null,null,null,null,null,null,null,null,null,null,null,null,null,null,null,null,null,null,null,null,null,null,null,null,null,null,null,null,null,null,null,null,null,null,null,null,null,null,null,null,null,null,null,null,null,null,null,null,null,null,null,null,null,null,null,null,null,null,null,null,null,null,null,null,null,null,null,null,null,null,null,null,null,null,null,null,null,null,null,null,null,null,null,null,null,null,null,null,null,null,null,null,null,null,null,null,null,null,null,null,null,null,null,null,null,null,null,null,null,null,null,null,null,null,null,null,null,null,null,null,null,null,null,null,null,null,null,null,null,null,null,null,null,null,null,null,null,null,null,null,null,null,null,null,null,null,null,null,null,null,null,null,null,null,null,null,null,null,null,null,null,null,null,null,null,null,null,null,null,null,null,null,null,null,null,null,null,null,null,null,null,null,null,null,null,null,null,null,null,null,null,null,null,null,null,null,null,null,null,null,null,null,null,null,null,null,null,null,null,null,null,null,null,null,null,null,null,null,null,null,null,null,null,null,null,null,null,null,null,null,null,null,null,null,null,null,null,null,null,null,null,null,null,null,null,null,null,null,null,null,null,null,null,null,null,null,null,null,null,null,null,null,null,null,null,null,null,null,null,null,null,null,null,null,null,null,null,null,null,null,null,null,null,null,null,null,null,null,null,null,null,null,null,null,null,null,null,null,null,null,null,null,null,null,null,null,null,null,null,null,null,null,null,null,null,null,null,null,null,null,null,null,null,null,null,null,null,null,null,null,null,null,null,null,null,null,null,null,null,null,null,null,null,null,null,null,null,null,null,null,null,null,null,null,null,null,null,null,null,null,null,null,null,null,null,null,null,null,null,null,null,null,null,null,null,null,null,null,null,null,null,null,null,null,null,null,null,null,null,null,null,null,null,null,null,null,null,null,null,null,null,null,null,null,null,null,null,null,null,null,null,null,null,null,null,null,null,null,null,null,null,null,null,null,null,null,null,null,null,null,null,null,null,null,null,null,null,null,null,null,null,null,null,null,null,null,null,null,null,null,null,null,null,null,null,null,null,null,null,null,null,null,null,null,null,null,null,null,null,null,null,null,null,null,null,null,null,null,null,null,null,null,null,null,null,null,null,null,null,null,null,null,null,null,null,null,null,null,null,null,null,null,null,null,null,null,null,null,null,null,null,null,null,null,null,null,null,null,null,null,null,null,null,null,null,null,null,null,null,null,null,null,null,null,null,null,null,null,null,null,null,null,null,null,null,null,null,null,null,null,null,null,null,null,null,null,null,null,null,null,null,null,null,null,null,null,null,null,null,null,null,null,null,null,null,null,null,null,null,null,null,null,null,null,null,null,null,null,null,null,null,null,null,null,null,null,null,null,null,null,null,null,null,null,null,null,null,null,null,null,null,null,null,null,null,null,null,null,null,null,null,null,null,null,null,null,null,null,null,null,null,null,null,null,null,null,null,null,null,null,null,null,null,null,null,null,null,null,null,null,null,null,null,null,null,null,null,null,null,null,null,null,null,null,null,null,null,null,null,null,null,null,null,null,null,null,null,null,null,null,null,null,null,null,null,null,null,null,null,null,null,null,null,null,null,null,null,null,null,null,null,null,null,null,null,null,null,null,null,null,null,null,null,null,null,null,null,null,null,null,null,null,null,null,null,null,null,null,null,null,null,null,null,null,null,null,null,null,null,null,null,null,null,null,null,null,null,null,null,null,null,null,null,null,null,null,null,null,null,null,null,null,null,null,null,null,null,null,null,null,null,null,null,null,null,null,null,null,null,null,null,null,null,null,null,null,null,null,null,null,null,null,null,null,null,null,null,null,null,null,null,null,null,null,null,null,null,null,null,null,null,null,null,null,null,null,null,null,null,null,null,null,null,null,null,null,null,null,null,null,null,null,null,null,null,null,null,null,null,null,null,null,null,null,null,null,null,null,null,null,null,null,null,null,null,null,null,null,null,null,null,null,null,null,null,null,null,null,null,null,null,null,null,null,null,null,null,null,null,null,null,null,null,null,null,null,null,null,null,null,null,null,null,null,null,null,null,null,null,null,null,null,null,null,null,null,null,null,null,null,null,null,null,null,null,null,null,null,null,null,null,null,null,null,null,null,null,null,null,null,null,null,null,null,null,null,null,null,null,null,null,null,null,null,null,null,null,null,null,null,null,null,null,null,null,null,null,null,null,null,null,null,null,null,null,null,null,null,null,null,null,null,null,null,null,null,null,null,null,null,null,null,null,null,null,null,null,null,null,null,null,null,null,null,null,null,null,null,null,null,null,null,null,null,null,null,null,null,null,null,null,null,null,null,null,null,null,null,null,null,null,null,null,null,null,null,null,null,null,null,null,null,null,null,null,null,null,null,null,null,null,null,null,null,null,null,null,null,null,null,null,null,null,null,null,null,null,null,null,null,null,null,null,null,null,null,null,null,null,null,null,null,null,null,null,null,null,null,null,null,null,null,null,null,null,null,null,null,null,null,null,null,null,null,null,null,null,null,null,null,null,null,null,null,null,null,null,null,null,null,null,null,null,null,null,null,null,null,null,null,null,null,null,null,null,null,null,null,null,null,null,null,null,null,null,null,null,null,null,null,null,null,null,null,null,null,null,null,null,null,null,null,null,null,null,null,null,null,null,null,null,null,null,null,null,null,null,null,null,null,null,null,null,null,null,null,null,null,null,null,null,null,null,null,null,null,null,null,null,null,null,null,null,null,null,null,null,null,null,null,null,null,null,null,null,null,null,null,null,null,null,null,null,null,null,null,null,null,null,null,null,null,null,null,null,null,null,null,null,null,null,null,null,null,null,null,null,null,null,null,null,null,null,null,null,null,null,null,null,null,null,null,null,null,null,null,null,null,null,null,null,null,null,null,null,null,null,null,null,null,null,null,null,null,null,null,null,null,null,null,null,null,null,null,null,null,null,null,null,null,null,null,null,null,null,null,null,null,null,null,null,null,null,null,null,null,null,null,null,null,null,null,null,null,null,null,null,null,null,null,null,null,null,null,null,null,null,null,null,null,null,null,null,null,null,null,null,null,null,null,null,null,null,null,null,null,null,null,null,null,null,null,null,null,null,null,null,null,null,null,null,null,null,null,null,null,null,null,null,null,null,null,null,null,null,null,null,null,null,null,null,null,null,null,null,null,null,null,null,null,null,null,null,null,null,null,null,null,null,null,null,null,null,null,null,null,null,null,null,null,null,null,null,null,null,null,null,null,null,null,null,null,null,null,null,null,null,null,null,null,null,null,null,null,null,null,null,null,null,null,null,null,null,null,null,null,null,null,null,null,null,null,null,null,null,null,null,null,null,null,null,null,null,null,null,null,null,null,null,null,null,null,null,null,null,null,null,null,null,null,null,null,null,null,null,null,null,null,null,null,null,null,null,null,null,null,null,null,null,null,null,null,null,null,null,null,null,null,null,null,null,null,null,null,null,null,null,null,null,null,null,null,null,null,null,null,null,null,null,null,null,null,null,null,null,null,null,null,null,null,null,null,null,null,null,null,null,null,null,null,null,null,null,null,null,null,null,null,null,null,null,null,null,null,null,null,null,null,null,null,null,null,null,null,null,null,null,null,null,null,null,null,null,null,null,null,null,null,null,null,null,null,null,null,null,null,null,null,null,null,null,null,null,null,null,null,null,null,null,null,null,null,null,null,null,null,null,null,null,null,null,null,null,null,null,null,null,null,null,null,null,null,null,null,null,null,null,null,null,null,null,null,null,null,null,null,null,null,null,null,null,null,null,null,null,null,null,null,null,null,null,null,null,null,null,null,null,null,null,null,null,null,null,null,null,null,null,null,null,null,null,null,null,null,null,null,null,null,null,null,null,null,null,null,null,null,null,null,null,null,null,null,null,null,null,null,null,null,null,null,null,null,null,null,null,null,null,null,null,null,null,null,null,null,null,null,null,null,null,null,null,null,null,null,null,null,null,null,null,null,null,null,null,null,null,null,null,null,null,null,null,null,null,null,null,null,null,null,null,null,null,null,null,null,null,null,null,null,null,null,null,null,null,null,null,null,null,null,null,null,null,null,null,null,null,null,null,null,null,null,null,null,null,null,null,null,null,null,null,null,null,null,null,null,null,null,null,null,null,null,null,null,null,null,null,null,null,null,null,null,null,null,null,null,null,null,null,null,null,null,null,null,null,null,null,null,null,null,null,null,null,null,null,null,null,null,null,null,null,null,null,null,null,null,null,null,null,null,null,null,null,null,null,null,null,null,null,null,null,null,null,null,null,null,null,null,null,null,null,null,null,null,null,null,null,null,null,null,null,null,null,null,null,null,null,null,null,null,null,null,null,null,null,null,null,null,null,null,null,null,null,null,null,null,null,null,null,null,null,null,null,null,null,null,null,null,null,null,null,null,null,null,null,null,null,null,null,null,null,null,null,null,null,null,null,null,null,null,null,null,null,null,null,null,null,null,null,null,null,null,null,null,null,null,null,null,null,null,null,null,null,null,null,null,null,null,null,null,null,null,null,null,null,null,null,null,null,null,null,null,null,null,null,null,null,null,null,null,null,null,null,null,null,null,null,null,null,null,null,null,null,null,null,null,null,null,null,null,null,null,null,null,null,null,null,null,null,null,null,null,null,null,null,null,null,null,null,null,null,null,null,null,null,null,null,null,null,null,null,null,null,null,null,null,null,null,null,null,null,null,null,null,null,null,null,null,null,null,null,null,null,null,null,null,null,null,null,null,null,null,null,null,null,null,null,null,null,null,null,null,null,null,null,null,null,null,null,null,null,null,null,null,null,null,null,null,null,null,null,null,null,null,null,null,null,null,null,null,null,null,null,null,null,null,null,null,null,null,null,null,null,null,null,null,null,null,null,null,null,null,null,null,null,null,null,null,null,null,null,null,null,null,null,null,null,null,null,null,null,null,null,null,null,null,null,null,null,null,null,null,null,null,null,null,null,null,null,null,null,null,null,null,null,null,null,null,null,null,null,null,null,null,null,null,null,null,null,null,null,null,null,null,null,null,null,null,null,null,null,null,null,null,null,null,null,null,null,null,null,null,null,null,null,null,null,null,null,null,null,null,null,null,null,null,null,null,null,null,null,null,null,null,null,null,null,null,null,null,null,null,null,null,null,null,null,null,null,null,null,null,null,null,null,null,null,null,null,null,null,null,null,null,null,null,null,null,null,null,null,null,null,null,null,null,null,null,null,null,null,null,null,null,null,null,null,null,null,null,null,null,null,null,null,null,null,null,null,null,null,null,null,null,null,null,null,null,null,null,null,null,null,null,null,null,null,null,null,null,null,null,null,null,null,null,null,null,null,null,null,null,null,null,null,null,null,null,null,null,null,null,null,null,null,null,null,null,null,null,null,null,null,null,null,null,null,null,null,null,null,null,null,null,null,null,null,null,null,null,null,null,null,null,null,null,null,null,null,null,null,null,null,null,null,null,null,null,null,null,null,null,null,null,null,null,null,null,null,null,null,null,null,null,null,null,null,null,null,null,null,null,null,null,null,null,null,null,null,null,null,null,null,null,null,null,null,null,null,null,null,null,null,null,null,null,null,null,null,null,null,null,null,null,null,null,null,null,null,null,null,null,null,null,null,null,null,null,null,null,null,null,null,null,null,null,null,null,null,null,null,null,null,null,null,null,null,null,null,null,null,null,null,null,null,null,null,null,null,null,null,null,null,null,null,null,null,null,null,null,null,null,null,null,null,null,null,null,null,null,null,null,null,null,null,null,null,null,null,null,null,null,null,null,null,null,null,null,null,null,null,null,null,null,null,null,null,null,null,null,null,null,null,null,null,null,null,null,null,null,null,null,null,null,null,null,null,null,null,null,null,null,null,null,null,null,null,null,null,null,null,null,null,null,null,null,null,null,null,null,null,null,null,null,null,null,null,null,null,null,null,null,null,null,null,null,null,null,null,null,null,null,null,null,null,null,null,null,null,null,null,null,null,null,null,null,null,null,null,null,null,null,null,null,null,null,null,null,null,null,null,null,null,null,null,null,null,null,null,null,null,null,null,null,null,null,null,null,null,null,null,null,null,null,null,null,null,null,null,null,null,null,null,null,null,null,null,null,null,null,null,null,null,null,null,null,null,null,null,null,null,null,null,null,null,null,null,null,null,null,null,null,null,null,null,null,null,null,null,null,null,null,null,null,null,null,null,null,null,null,null,null,null,null,null,null,null,null,null,null,null,null,null,null,null,null,null,null,null,null,null,null,null,null,null,null,null,null,null,null,null,null,null,null,null,null,null,null,null,null,null,null,null,null,null,null,null,null,null,null,null,null,null,null,null,null,null,null,null,null,null,null,null,null,null,null,null,null,null,null,null,null,null,null,null,null,null,null,null,null,null,null,null,null,null,null,null,null,null,null,null,null,null,null,null,null,null,null,null,null,null,null,null,null,null,null,null,null,null,null,null,null,null,null,null,null,null,null,null,null,null,null,null,null,null,null,null,null,null,null,null,null,null,null,null,null,null,null,null,null,null,null,null,null,null,null,null,null,null,null,null,null,null,null,null,null,null,null,null,null,null,null,null,null,null,null,null,null,null,null,null,null,null,null,null,null,null,null,null,null,null,null,null,null,null,null,null,null,null,null,null,null,null,null,null,null,null,null,null,null,null,null,null,null,null,null,null,null,null,null,null,null,null,null,null,null,null,null,null,null,null,null,null,null,null,null,null,null,null,null,null,null,null,null,null,null,null,null,null,null,null,null,null,null,null,null,null,null,null,null,null,null,null,null,null,null,null,null,null,null,null,null,null,null,null,null,null,null,null,null,null,null,null,null,null,null,null,null,null,null,null,null,null,null,null,null,null,null,null,null,null,null,null,null,null,null,null,null,null,null,null,null,null,null,null,null,null,null,null,null,null,null,null,null,null,null,null,null,null,null,null,null,null,null,null,null,null,null,null,null,null,null,null,null,null,null,null,null,null,null,null,null,null,null,null,null,null,null,null,null,null,null,null,null,null,null,null,null,null,null,null,null,null,null,null,null,null,null,null,null,null,null,null,null,null,null,null,null,null,null,null,null,null,null,null,null,null,null,null,null,null,null,null,null,null,null,null,null,null,null,null,null,null,null,null,null,null,null,null,null,null,null,null,null,null,null,null,null,null,null,null,null,null,null,null,null,null,null,null,null,null,null,null,null,null,null,null,null,null,null,null,null,null,null,null,null,null,null,null,null,null,null,null,null,null,null,null,null,null,null,null,null,null,null,null,null,null,null,null,null,null,null,null,null,null,null,null,null,null,null,null,null,null,null,null,null,null,null,null,null,null,null,null,null,null,null,null,null,null,null,null,null,null,null,null,null,null,null,null,null,null,null,null,null,null,null,null,null,null,null,null,null,null,null,null,null,null,null,null,null,null,null,null,null,null,null,null,null,null,null,null,null,null,null,null,null,null,null,null,null,null,null,null,null,null,null,null,null,null,null,null,null,null,null,null,null,null,null,null,null,null,null,null,null,null,null,null,null,null,null,null,null,null,null,null,null,null,null,null,null,null,null,null,null,null,null,null,null,null,null,null,null,null,null,null,null,null,null,null,null,null,null,null,null,null,null,null,null,null,null,null,null,null,null,null,null,null,null,null,null,null,null,null,null,null,null,null,null,null,null,null,null,null,null,null,null,null,null,null,null,null,null,null,null,null,null,null,null,null,null,null,null,null,null,null,null,null,null,null,null,null,null,null,null,null,null,null,null,null,null,null,null,null,null,null,null,null,null,null,null,null,null,null,null,null,null,null,null,null,null,null,null,null,null,null,null,null,null,null,null,null,null,null,null,null,null,null,null,null,null,null,null,null,null,null,null,null,null,null,null,null,null,null,null,null,null,null,null,null,null,null,null,null,null,null,null,null,null,null,null,null,null,null,null,null,null,null,null,null,null,null,null,null,null,null,null,null,null,null,null,null,null,null,null,null,null,null,null,null,null,null,null,null,null,null,null,null,null,null,null,null,null,null,null,null,null,null,null,null,null,null,null,null,null,null,null,null,null,null,null,null,null,null,null,null,null,null,null,null,null,null,null,null,null,null,null,null,null,null,null,null,null,null,null,null,null,null,null,null,null,null,null,null,null,null,null,null,null,null,null,null,null,null,null,null,null,null,null,null,null,null,null,null,null,null,null,null,null,null,null,null,null,null,null,null,null,null,null,null,null,null,null,null,null,null,null,null,null,null,null,null,null,null,null,null,null,null,null,null,null,null,null,null,null,null,null,null,null,null,null,null,null,null,null,null,null,null,null,null,null,null,null,null,null,null,null,null,null,null,null,null,null,null,null,null,null,null,null,null,null,null,null,null,null,null,null,null,null,null,null,null,null,null,null,null,null,null,null,null,null,null,null,null,null,null,null,null,null,null,null,null,null,null,null,null,null,null,null,null,null,null,null,null,null,null,null,null,null,null,null,null,null,null,null,null,null,null,null,null,null,null,null,null,null,null,null,null,null,null,null,null,null,null,null,null,null,null,null,null,null,null,null,null,null,null,null,null,null,null,null,null,null,null,null,null,null,null,null,null,null,null,null,null,null,null,null,null,null,null,null,null,null,null,null,null,null,null,null,null,null,null,null,null,null,null,null,null,null,null,null,null,null,null,null,null,null,null,null,null,null,null,null,null,null,null,null,null,null,null,null,null,null,null,null,null,null,null,null,null,null,null,null,null,null,null,null,null,null,null,null,null,null,null,null,null,null,null,null,null,null,null,null,null,null,null,null,null,null,null,null,null,null,null,null,null,null,null,null,null,null,null,null,null,null,null,null,null,null,null,null,null,null,null,null,null,null,null,null,null,null,null,null,null,null,null,null,null,null,null,null,null,null,null,null,null,null,null,null,null,null,null,null,null,null,null,null,null,null,null,null,null,null,null,null,null,null,null,null,null,null,null,null,null,null,null,null,null,null,null,null,null,null,null,null,null,null,null,null,null,null,null,null,null,null,null,null,null,null,null,null,null,null,null,null,null,null,null,null,null,null,null,null,null,null,null,null,null,null,null,null,null,null,null,null,null,null,null,null,null,null,null,null,null,null,null,null,null,null,null,null,null,null,null,null,null,null,null,null,null,null,null,null,null,null,null,null,null,null,null,null,null,null,null,null,null,null,null,null,null,null,null,null,null,null,null,null,null,null,null,null,null,null,null,null,null,null,null,null,null,null,null,null,null,null,null,null,null,null,null,null,null,null,null,null,null,null,null,null,null,null,null,null,null,null,null,null,null,null,null,null,null,null,null,null,null,null,null,null,null,null,null,null,null,null,null,null,null,null,null,null,null,null,null,null,null,null,null,null,null,null,null,null,null,null,null,null,null,null,null,null,null,null,null,null,null,null,null,null,null,null,null,null,null,null,null,null,null,null,null,null,null,null,null,null,null,null,null,null,null,null,null,null,null,null,null,null,null,null,null,null,null,null,null,null,null,null,null,null,null,null,null,null,null,null,null,null,null,null,null,null,null,null,null,null,null,null,null,null,null,null,null,null,null,null,null,null,null,null,null,null,null,null,null,null,null,null,null,null,null,null,null,null,null,null,null,null,null,null,null,null,null,null,null,null,null,null,null,null,null,null,null,null,null,null,null,null,null,null,null,null,null,null,null,null,null,null,null,null,null,null,null,null,null,null,null,null,null,null,null,null,null,null,null,null,null,null,null,null,null,null,null,null,null,null,null,null,null,null,null,null,null,null,null,null,null,null,null,null,null,null,null,null,null,null,null,null,null,null,null,null,null,null,null,null,null,null,null,null,null,null,null,null,null,null,null,null,null,null,null,null,null,null,null,null,null,null,null,null,null,null,null,null,null,null,null,null,null,null,null,null,null,null,null,null,null,null,null,null,null,null,null,null,null,null,null,null,null,null,null,null,null,null,null,null,null,null,null,null,null,null,null,null,null,null,null,null,null,null,null,null,null,null,null,null,null,null,null,null,null,null,null,null,null,null,null,null,null,null,null,null,null,null,null,null,null,null,null,null,null,null,null,null,null,null,null,null,null,null,null,null,null,null,null,null,null,null,null,null,null,null,null,null,null,null,null,null,null,null,null,null,null,null,null,null,null,null,null,null,null,null,null,null,null,null,null,null,null,null,null,null,null,null,null,null,null,null,null,null,null,null,null,null,null,null,null,null,null,null,null,null,null,null,null,null,null,null,null,null,null,null,null,null,null,null,null,null,null,null,null,null,null,null,null,null,null,null,null,null,null,null,null,null,null,null,null,null,null,null,null,null,null,null,null,null,null,null,null,null,null,null,null,null,null,null,null,null,null,null,null,null,null,null,null,null,null,null,null,null,null,null,null,null,null,null,null,null,null,null,null,null,null,null,null,null,null,null,null,null,null,null,null,null,null,null,null,null,null,null,null,null,null,null,null,null,null,null,null,null,null,null,null,null,null,null,null,null,null,null,null,null,null,null,null,null,null,null,null,null,null,null,null,null,null,null,null,null,null,null,null,null,null,null,null,null,null,null,null,null,null,null,null,null,null,null,null,null,null,null,null,null,null,null,null,null,null,null,null,null,null,null,null,null,null,null,null,null,null,null,null,null,null,null,null,null,null,null,null,null,null,null,null,null,null,null,null,null,null,null,null,null,null,null,null,null,null,null,null,null,null,null,null,null,null,null,null,null,null,null,null,null,null,null,null,null,null,null,null,null,null,null,null,null,null,null,null,null,null,null,null,null,null,null,null,null,null,null,null,null,null,null,null,null,null,null,null,null,null,null,null,null,null,null,null,null,null,null,null,null,null,null,null,null,null,null,null,null,null,null,null,null,null,null,null,null,null,null,null,null,null,null,null,null,null,null,null,null,null,null,null,null,null,null,null,null,null,null,null,null,null,null,null,null,null,null,null,null,null,null,null,null,null,null,null,null,null,null,null,null,null,null,null,null,null,null,null,null,null,null,null,null,null,null,null,null,null,null,null,null,null,null,null,null,null,null,null,null,null,null,null,null,null,null,null,null,null,null,null,null,null,null,null,null,null,null,null,null,null,null,null,null,null,null,null,null,null,null,null,null,null,null,null,null,null,null,null,null,null,null,null,null,null,null,null,null,null,null,null,null,null,null,null,null,null,null,null,null,null,null,null,null,null,null,null,null,null,null,null,null,null,null,null,null,null,null,null,null,null,null,null,null,null,null,null,null,null,null,null,null,null,null,null,null,null,null,null,null,null,null,null,null,null,null,null,null,null,null,null,null,null,null,null,null,null,null,null,null,null,null,null,null,null,null,null,null,null,null,null,null,null,null,null,null,null,null,null,null,null,null,null,null,null,null,null,null,null,null,null,null,null,null,null,null,null,null,null,null,null,null,null,null,null,null,null,null,null,null,null,null,null,null,null,null,null,null,null,null,null,null,null,null,null,null,null,null,null,null,null,null,null,null,null,null,null,null,null,null,null,null,null,null,null,null,null,null,null,null,null,null,null,null,null,null,null,null,null,null,null,null,null,null,null,null,null,null,null,null,null,null,null,null,null,null,null,null,null,null,null,null,null,null,null,null,null,null,null,null,null,null,null,null,null,null,null,null,null,null,null,null,null,null,null,null,null,null,null,null,null,null,null,null,null,null,null,null,null,null,null,null,null,null,null,null,null,null,null,null,null,null,null,null,null,null,null,null,null,null,null,null,null,null,null,null,null,null,null,null,null,null,null,null,null,null,null,null,null,null,null,null,null,null,null,null,null,null,null,null,null,null,null,null,null,null,null,null,null,null,null,null,null,null,null,null,null,null,null,null,null,null,null,null,null,null,null,null,null,null,null,null,null,null,null,null,null,null,null,null,null,null,null,null,null,null,null,null,null,null,null,null,null,null,null,null,null,null,null,null,null,null,null,null,null,null,null,null,null,null,null,null,null,null,null,null,null,null,null,null,null,null,null,null,null,null,null,null,null,null,null,null,null,null,null,null,null,null,null,null,null,null,null,null,null,null,null,null,null,null,null,null,null,null,null,null,null,null,null,null,null,null,null,null,null,null,null,null,null,null,null,null,null,null,null,null,null,null,null,null,null,null,null,null,null,null,null,null,null,null,null,null,null,null,null,null,null,null,null,null,null,null,null,null,null,null,null,null,null,null,null,null,null,null,null,null,null,null,null,null,null,null,null,null,null,null,null,null,null,null,null,null,null,null,null,null,null,null,null,null,null,null,null,null,null,null,null,null,null,null,null,null,null,null,null,null,null,null,null,null,null,null,null,null,null,null,null,null,null,null,null,null,null,null,null,null,null,null,null,null,null,null,null,null,null,null,null,null,null,null,null,null,null,null,null,null,null,null,null,null,null,null,null,null,null,null,null,null,null,null,null,null,null,null,null,null,null,null,null,null,null,null,null,null,null,null,null,null,null,null,null,null,null,null,null,null,null,null,null,null,null,null,null,null,null,null,null,null,null,null,null,null,null,null,null,null,null,null,null,null,null,null,null,null,null,null,null,null,null,null,null,null,null,null,null,null,null,null,null,null,null,null,null,null,null,null,null,null,null,null,null,null,null,null,null,null,null,null,null,null,null,null,null,null,null,null,null,null,null,null,null,null,null,null,null,null,null,null,null,null,null,null,null,null,null,null,null,null,null,null,null,null,null,null,null,null,null,null,null,null,null,null,null,null,null,null,null,null,null,null,null,null,null,null,null,null,null,null,null,null,null,null,null,null,null,null,null,null,null,null,null,null,null,null,null,null,null,null,null,null,null,null,null,null,null,null,null,null,null,null,null,null,null,null,null,null,null,null,null,null,null,null,null,null,null,null,null,null,null,null,null,null,null,null,null,null,null,null,null,null,null,null,null,null,null,null,null,null,null,null,null,null,null,null,null,null,null,null,null,null,null,null,null,null,null,null,null,null,null,null,null,null,null,null,null,null,null,null,null,null,null,null,null,null,null,null,null,null,null,null,null,null,null,null,null,null,null,null,null,null,null,null,null,null,null,null,null,null,null,null,null,null,null,null,null,null,null,null,null,null,null,null,null,null,null,null,null,null,null,null,null,null,null,null,null,null,null,null,null,null,null,null,null,null,null,null,null,null,null,null,null,null,null,null,null,null,null,null,null,null,null,null,null,null,null,null,null,null,null,null,null,null,null,null,null,null,null,null,null,null,null,null,null,null,null,null,null,null,null,null,null,null,null,null,null,null,null,null,null,null,null,null,null,null,null,null,null,null,null,null,null,null,null,null,null,null,null,null,null,null,null,null,null,null,null,null,null,null,null,null,null,null,null,null,null,null,null,null,null,null,null,null,null,null,null,null,null,null,null,null,null,null,null,null,null,null,null,null,null,null,null,null,null,null,null,null,null,null,null,null,null,null,null,null,null,null,null,null,null,null,null,null,null,null,null,null,null,null,null,null,null,null,null,null,null,null,null,null,null,null,null,null,null,null,null,null,null,null,null,null,null,null,null,null,null,null,null,null,null,null,null,null,null,null,null,null,null,null,null,null,null,null,null,null,null,null,null,null,null,null,null,null,null,null,null,null,null,null,null,null,null,null,null,null,null,null,null,null,null,null,null,null,null,null,null,null,null,null,null,null,null,null,null,null,null,null,null,null,null,null,null,null,null,null,null,null,null,null,null,null,null,null,null,null,null,null,null,null,null,null,null,null,null,null,null,null,null,null,null,null,null,null,null,null,null,null,null,null,null,null,null,null,null,null,null,null,null,null,null,null,null,null,null,null,null,null,null,null,null,null,null,null,null,null,null,null,null,null,null,null,null,null,null,null,null,null,null,null,null,null,null,null,null,null,null,null,null,null,null,null,null,null,null,null,null,null,null,null,null,null,null,null,null,null,null,null,null,null,null,null,null,null,null,null,null,null,null,null,null,null,null,null,null,null,null,null,null,null,null,null,null,null,null,null,null,null,null,null,null,null,null,null,null,null,null,null,null,null,null,null,null,null,null,null,null,null,null,null,null,null,null,null,null,null,null,null,null,null,null,null,null,null,null,null,null,null,null,null,null,null,null,null,null,null,null,null,null,null,null,null,null,null,null,null,null,null,null,null,null,null,null,null,null,null,null,null,null,null,null,null,null,null,null,null,null,null,null,null,null,null,null,null,null,null,null,null,null,null,null,null,null,null,null,null,null,null,null,null,null,null,null,null,null,null,null,null,null,null,null,null,null,null,null,null,null,null,null,null,null,null,null,null,null,null,null,null,null,null,null,null,null,null,null,null,null,null,null,null,null,null,null,null,null,null,null,null,null,null,null,null,null,null,null,null,null,null,null,null,null,null,null,null,null,null,null,null,null,null,null,null,null,null,null,null,null,null,null,null,null,null,null,null,null,null,null,null,null,null,null,null,null,null,null,null,null,null,null,null,null,null,null,null,null,null,null,null,null,null,null,null,null,null,null,null,null,null,null,null,null,null,null,null,null,null,null,null,null,null,null,null,null,null,null,null,null,null,null,null,null,null,null,null,null,null,null,null,null,null,null,null,null,null,null,null,null,null,null,null,null,null,null,null,null,null,null,null,null,null,null,null,null,null,null,null,null,null,null,null,null,null,null,null,null,null,null,null,null,null,null,null,null,null,null,null,null,null,null,null,null,null,null,null,null,null,null,null,null,null,null,null,null,null,null,null,null,null,null,null,null,null,null,null,null,null,null,null,null,null,null,null,null,null,null,null,null,null,null,null,null,null,null,null,null,null,null,null,null,null,null,null,null,null,null,null,null,null,null,null,null,null,null,null,null,null,null,null,null,null,null,null,null,null,null,null,null,null,null,null,null,null,null,null,null,null,null,null,null,null,null,null,null,null,null,null,null,null,null,null,null,null,null,null,null,null,null,null,null,null,null,null,null,null,null,null,null,null,null,null,null,null,null,null,null,null,null,null,null,null,null,null,null,null,null,null,null,null,null,null,null,null,null,null,null,null,null,null,null,null,null,null,null,null,null,null,null,null,null,null,null,null,null,null,null,null,null,null,null,null,null,null,null,null,null,null,null,null,null,null,null,null,null,null,null,null,null,null,null,null,null,null,null,null,null,null,null,null,null,null,null,null,null,null,null,null,null,null,null,null,null,null,null,null,null,null,null,null,null,null,null,null,null,null,null,null,null,null,null,null,null,null,null,null,null,null,null,null,null,null,null,null,null,null,null,null,null,null,null,null,null,null,null,null,null,null,null,null,null,null,null,null,null,null,null,null,null,null,null,null,null,null,null,null,null,null,null,null,null,null,null,null,null,null,null,null,null,null,null,null,null,null,null,null,null,null,null,null,null,null,null,null,null,null,null,null,null,null,null,null,null,null,null,null,null,null,null,null,null,null,null,null,null,null,null,null,null,null,null,null,null,null,null,null,null,null,null,null,null,null,null,null,null,null,null,null,null,null,null,null,null,null,null,null,null,null,null,null,null,null,null,null,null,null,null,null,null,null,null,null,null,null,null,null,null,null,null,null,null,null,null,null,null,null,null,null,null,null,null,null,null,null,null,null,null,null,null,null,null,null,null,null,null,null,null,null,null,null,null,null,null,null,null,null,null,null,null,null,null,null,null,null,null,null,null,null,null,null,null,null,null,null,null,null,null,null,null,null,null,null,null,null,null,null,null,null,null,null,null,null,null,null,null,null,null,null,null,null,null,null,null,null,null,null,null,null,null,null,null,null,null,null,null,null,null,null,null,null,null,null,null,null,null,null,null,null,null,null,null,null,null,null,null,null,null,null,null,null,null,null,null,null,null,null,null,null,null,null,null,null,null,null,null,null,null,null,null,null,null,null,null,null,null,null,null,null,null,null,null,null,null,null,null,null,null,null,null,null,null,null,null,null,null,null,null,null,null,null,null,null,null,null,null,null,null,null,null,null,null,null,null,null,null,null,null,null,null,null,null,null,null,null,null,null,null,null,null,null,null,null,null,null,null,null,null,null,null,null,null,null,null,null,null,null,null,null,null,null,null,null,null,null,null,null,null,null,null,null,null,null,null,null,null,null,null,null,null,null,null,null,null,null,null,null,null,null,null,null,null,null,null,null,null,null,null,null,null,null,null,null,null,null,null,null,null,null,null,null,null,null,null,null,null,null,null,null,null,null,null,null,null,null,null,null,null,null,null,null,null,null,null,null,null,null,null,null,null,null,null,null,null,null,null,null,null,null,null,null,null,null,null,null,null,null,null,null,null,null,null,null,null,null,null,null,null,null,null,null,null,null,null,null,null,null,null,null,null,null,null,null,null,null,null,null,null,null,null,null,null,null,null,null,null,null,null,null,null,null,null,null,null,null,null,null,null,null,null,null,null,null,null,null,null,null,null,null,null,null,null,null,null,null,null,null,null,null,null,null,null,null,null,null,null,null,null,null,null,null,null,null,null,null,null,null,null,null,null,null,null,null,null,null,null,null,null,null,null,null,null,null,null,null,null,null,null,null,null,null,null,null,null,null,null,null,null,null,null,null,null,null,null,null,null,null,null,null,null,null,null,null,null,null,null,null,null,null,null,null,null,null,null,null,null,null,null,null,null,null,null,null,null,null,null,null,null,null,null,null,null,null,null,null,null,null,null,null,null,null,null,null,null,null,null,null,null,null,null,null,null,null,null,null,null,null,null,null,null,null,null,null,null,null,null,null,null,null,null,null,null,null,null,null,null,null,null,null,null,null,null,null,null,null,null,null,null,null,null,null,null,null,null,null,null,null,null,null,null,null,null,null,null,null,null,null,null,null,null,null,null,null,null,null,null,null,null,null,null,null,null,null,null,null,null,null,null,null,null,null,null,null,null,null,null,null,null,null,null,null,null,null,null,null,null,null,null,null,null,null,null,null,null,null,null,null,null,null,null,null,null,null,null,null,null,null,null,null,null,null,null,null,null,null,null,null,null,null,null,null,null,null,null,null,null,null,null,null,null,null,null,null,null,null,null,null,null,null,null,null,null,null,null,null,null,null,null,null,null,null,null,null,null,null,null,null,null,null,null,null,null,null,null,null,null,null,null,null,null,null,null,null,null,null,null,null,null,null,null,null,null,null,null,null,null,null,null,null,null,null,null,null,null,null,null,null,null,null,null,null,null,null,null,null,null,null,null,null,null,null,null,null,null,null,null,null,null,null,null,null,null,null,null,null,null,null,null,null,null,null,null,null,null,null,null,null,null,null,null,null,null,null,null,null,null,null,null,null,null,null,null,null,null,null,null,null,null,null,null,null,null,null,null,null,null,null,null,null,null,null,null,null,null,null,null,null,null,null,null,null,null,null,null,null,null,null,null,null,null,null,null,null,null,null,null,null,null,null,null,null,null,null,null,null,null,null,null,null,null,null,null,null,null,null,null,null,null,null,null,null,null,null,null,null,null,null,null,null,null,null,null,null,null,null,null,null,null,null,null,null,null,null,null,null,null,null,null,null,null,null,null,null,null,null,null,null,null,null,null,null,null,null,null,null,null,null,null,null,null,null,null,null,null,null,null,null,null,null,null,null,null,null,null,null,null,null,null,null,null,null,null,null,null,null,null,null,null,null,null,null,null,null,null,null,null,null,null,null,null,null,null,null,null,null,null,null,null,null,null,null,null,null,null,null,null,null,null,null,null,null,null,null,null,null,null,null,null,null,null,null,null,null,null,null,null,null,null,null,null,null,null,null,null,null,null,null,null,null,null,null,null,null,null,null,null,null,null,null,null,null,null,null,null,null,null,null,null,null,null,null,null,null,null,null,null,null,null,null,null,null,null,null,null,null,null,null,null,null,null,null,null,null,null,null,null,null,null,null,null,null,null,null,null,null,null,null,null,null,null,null,null,null,null,null,null,null,null,null,null,null,null,null,null,null,null,null,null,null,null,null,null,null,null,null,null,null,null,null,null,null,null,null,null,null,null,null,null,null,null,null,null,null,null,null,null,null,null,null,null,null,null,null,null,null,null,null,null,null,null,null,null,null,null,null,null,null,null,null,null,null,null,null,null,null,null,null,null,null,null,null,null,null,null,null,null,null,null,null,null,null,null,null,null,null,null,null,null,null,null,null,null,null,null,null,null,null,null,null,null,null,null,null,null,null,null,null,null,null,null,null,null,null,null,null,null,null,null,null,null,null,null,null,null,null,null,null,null,null,null,null,null,null,null,null,null,null,null,null,null,null,null,null,null,null,null,null,null,null,null,null,null,null,null,null,null,null,null,null,null,null,null,null,null,null,null,null,null,null,null,null,null,null,null,null,null,null,null,null,null,null,null,null,null,null,null,null,null,null,null,null,null,null,null,null,null,null,null,null,null,null,null,null,null,null,null,null,null,null,null,null,null,null,null,null,null,null,null,null,null,null,null,null,null,null,null,null,null,null,null,null,null,null,null,null,null,null,null,null,null,null,null,null,null,null,null,null,null,null,null,null,null,null,null,null,null,null,null,null,null,null,null,null,null,null,null,null,null,null,null,null,null,null,null,null,null,null,null,null,null,null,null,null,null,null,null,null,null,null,null,null,null,null,null,null,null,null,null,null,null,null,null,null,null,null,null,null,null,null,null,null,null,null,null,null,null,null,null,null,null,null,null,null,null,null,null,null,null,null,null,null,null,null,null,null,null,null,null,null,null,null,null,null,null,null,null,null,null,null,null,null,null,null,null,null,null,null,null,null,null,null,null,null,null,null,null,null,null,null,null,null,null,null,null,null,null,null,null,null,null,null,null,null,null,null,null,null,null,null,null,null,null,null,null,null,null,null,null,null,null,null,null,null,null,null,null,null,null,null,null,null,null,null,null,null,null,null,null,null,null,null,null,null,null,null,null,null,null,null,null,null,null,null,null,null,null,null,null,null,null,null,null,null,null,null,null,null,null,null,null,null,null,null,null,null,null,null,null,null,null,null,null,null,null,null,null,null,null,null,null,null,null,null,null,null,null,null,null,null,null,null,null,null,null,null,null,null,null,null,null,null,null,null,null,null,null,null,null,null,null,null,null,null,null,null,null,null,null,null,null,null,null,null,null,null,null,null,null,null,null,null,null,null,null,null,null,null,null,null,null,null,null,null,null,null,null,null,null,null,null,null,null,null,null,null,null,null,null,null,null,null,null,null,null,null,null,null,null,null,null,null,null,null,null,null,null,null,null,null,null,null,null,null,null,null,null,null,null,null,null,null,null,null,null,null,null,null,null,null,null,null,null,null,null,null,null,null,null,null,null,null,null,null,null,null,null,null,null,null,null,null,null,null,null,null,null,null,null,null,null,null,null,null,null,null,null,null,null,null,null,null,null,null,null,null,null,null,null,null,null,null,null,null,null,null,null,null,null,null,null,null,null,null,null,null,null,null,null,null,null,null,null,null,null,null,null,null,null,null,null,null,null,null,null,null,null,null,null,null,null,null,null,null,null,null,null,null,null,null,null,null,null,null,null,null,null,null,null,null,null,null,null,null,null,null,null,null,null,null,null,null,null,null,null,null,null,null,null,null,null,null,null,null,null,null,null,null,null,null,null,null,null,null,null,null,null,null,null,null,null,null,null,null,null,null,null,null,null,null,null,null,null,null,null,null,null,null,null,null,null,null,null,null,null,null,null,null,null,null,null,null,null,null,null,null,null,null,null,null,null,null,null,null,null,null,null,null,null,null,null,null,null,null,null,null,null,null,null,null,null,null,null,null,null,null,null,null,null,null,null,null,null,null,null,null,null,null,null,null,null,null,null,null,null,null,null,null,null,null,null,null,null,null,null,null,null,null,null,null,null,null,null,null,null,null,null,null,null,null,null,null,null,null,null,null,null,null,null,null,null,null,null,null,null,null,null,null,null,null,null,null,null,null,null,null,null,null,null,null,null,null,null,null,null,null,null,null,null,null,null,null,null,null,null,null,null,null,null,null,null,null,null,null,null,null,null,null,null,null,null,null,null,null,null,null,null,null,null,null,null,null,null,null,null,null,null,null,null,null,null,null,null,null,null,null,null,null,null,null,null,null,null,null,null,null,null,null,null,null,null,null,null,null,null,null,null,null,null,null,null,null,null,null,null,null,null,null,null,null,null,null,null,null,null,null,null,null,null,null,null,null,null,null,null,null,null,null,null,null,null,null,null,null,null,null,null,null,null,null,null,null,null,null,null,null,null,null,null,null,null,null,null,null,null,null,null,null,null,null,null,null,null,null,null,null,null,null,null,null,null,null,null,null,null,null,null,null,null,null,null,null,null,null,null,null,null,null,null,null,null,null,null,null,null,null,null,null,null,null,null,null,null,null,null,null,null,null,null,null,null,null,null,null,null,null,null,null,null,null,null,null,null,null,null,null,null,null,null,null,null,null,null,null,null,null,null,null,null,null,null,null,null,null,null,null,null,null,null,null,null,null,null,null,null,null,null,null,null,null,null,null,null,null,null,null,null,null,null,null,null,null,null,null,null,null,null,null,null,null,null,null,null,null,null,null,null,null,null,null,null,null,null,null,null,null,null,null,null,null,null,null,null,null,null,null,null,null,null,null,null,null,null,null,null,null,null,null,null,null,null,null,null,null,null,null,null,null,null,null,null,null,null,null,null,null,null,null,null,null,null,null,null,null,null,null,null,null,null,null,null,null,null,null,null,null,null,null,null,null,null,null,null,null,null,null,null,null,null,null,null,null,null,null,null,null,null,null,null,null,null,null,null,null,null,null,null,null,null,null,null,null,null,null,null,null,null,null,null,null,null,null,null,null,null,null,null,null,null,null,null,null,null,null,null,null,null,null,null,null,null,null,null,null,null,null,null,null,null,null,null,null,null,null,null,null,null,null,null,null,null,null,null,null,null,null,null,null,null,null,null,null,null,null,null,null,null,null,null,null,null,null,null,null,null,null,null,null,null,null,null,null,null,null,null,null,null,null,null,null,null,null,null,null,null,null,null,null,null,null,null,null,null,null,null,null,null,null,null,null,null,null,null,null,null,null,null,null,null,null,null,null,null,null,null,null,null,null,null,null,null,null,null,null,null,null,null,null,null,null,null,null,null,null,null,null,null,null,null,null,null,null,null,null,null,null,null,null,null,null,null,null,null,null,null,null,null,null,null,null,null,null,null,null,null,null,null,null,null,null,null,null,null,null,null,null,null,null,null,null,null,null,null,null,null,null,null,null,null,null,null,null,null,null,null,null,null,null,null,null,null,null,null,null,null,null,null,null,null,null,null,null,null,null,null,null,null,null,null,null,null,null,null,null,null,null,null,null,null,null,null,null,null,null,null,null,null,null,null,null,null,null,null,null,null,null,null,null,null,null,null,null,null,null,null,null,null,null,null,null,null,null,null,null,null,null,null,null,null,null,null,null,null,null,null,null,null,null,null,null,null,null,null,null,null,null,null,null,null,null,null,null,null,null,null,null,null,null,null,null,null,null,null,null,null,null,null,null,null,null,null,null,null,null,null,null,null,null,null,null,null,null,null,null,null,null,null,null,null,null,null,null,null,null,null,null,null,null,null,null,null,null,null,null,null,null,null,null,null,null,null,null,null,null,null,null,null,null,null,null,null,null,null,null,null,null,null,null,null,null,null,null,null,null,null,null,null,null,null,null,null,null,null,null,null,null,null,null,null,null,null,null,null,null,null,null,null,null,null,null,null,null,null,null,null,null,null,null,null,null,null,null,null,null,null,null,null,null,null,null,null,null,null,null,null,null,null,null,null,null,null,null,null,null,null,null,null,null,null,null,null,null,null,null,null,null,null,null,null,null,null,null,null,null,null,null,null,null,null,null,null,null,null,null,null,null,null,null,null,null,null,null,null,null,null,null,null,null,null,null,null,null,null,null,null,null,null,null,null,null,null,null,null,null,null,null,null,null,null,null,null,null,null,null,null,null,null,null,null,null,null,null,null,null,null,null,null,null,null,null,null,null,null,null,null,null,null,null,null,null,null,null,null,null,null,null,null,null,null,null,null,null,null,null,null,null,null,null,null,null,null,null,null,null,null,null,null,null,null,null,null,null,null,null,null,null,null,null,null,null,null,null,null,null,null,null,null,null,null,null,null,null,null,null,null,null,null,null,null,null,null,null,null,null,null,null,null,null,null,null,null,null,null,null,null,null,null,null,null,null,null,null,null,null,null,null,null,null,null,null,null,null,null,null,null,null,null,null,null,null,null,null,null,null,null,null,null,null,null,null,null,null,null,null,null,null,null,null,null,null,null,null,null,null,null,null,null,null,null,null,null,null,null,null,null,null,null,null,null,null,null,null,null,null,null,null,null,null,null,null,null,null,null,null,null,null,null,null,null,null,null,null,null,null,null,null,null,null,null,null,null,null,null,null,null,null,null,null,null,null,null,null,null,null,null,null,null,null,null,null,null,null,null,null,null,null,null,null,null,null,null,null,null,null,null,null,null,null,null,null,null,null,null,null,null,null,null,null,null,null,null,null,null,null,null,null,null,null,null,null,null,null,null,null,null,null,null,null,null,null,null,null,null,null,null,null,null,null,null,null,null,null,null,null,null,null,null,null,null,null,null,null,null,null,null,null,null,null,null,null,null,null,null,null,null,null,null,null,null,null,null,null,null,null,null,null,null,null,null,null,null,null,null,null,null,null,null,null,null,null,null,null,null,null,null,null,null,null,null,null,null,null,null,null,null,null,null,null,null,null,null,null,null,null,null,null,null,null,null,null,null,null,null,null,null,null,null,null,null,null,null,null,null,null,null,null,null,null,null,null,null,null,null,null,null,null,null,null,null,null,null,null,null,null,null,null,null,null,null,null,null,null,null,null,null,null,null,null,null,null,null,null,null,null,null,null,null,null,null,null,null,null,null,null,null,null,null,null,null,null,null,null,null,null,null,null,null,null,null,null,null,null,null,null,null,null,null,null,null,null,null,null,null,null,null,null,null,null,null,null,null,null,null,null,null,null,null,null,null,null,null,null,null,null,null,null,null,null,null,null,null,null,null,null,null,null,null,null,null,null,null,null,null,null,null,null,null,null,null,null,null,null,null,null,null,null,null,null,null,null,null,null,null,null,null,null,null,null,null,null,null,null,null,null,null,null,null,null,null,null,null,null,null,null,null,null,null,null,null,null,null,null,null,null,null,null,null,null,null,null,null,null,null,null,null,null,null,null,null,null,null,null,null,null,null,null,null,null,null,null,null,null,null,null,null,null,null,null,null,null,null,null,null,null,null,null,null,null,null,null,null,null,null,null,null,null,null,null,null,null,null,null,null,null,null,null,null,null,null,null,null,null,null,null,null,null,null,null,null,null,null,null,null,null,null,null,null,null,null,null,null,null,null,null,null,null,null,null,null,null,null,null,null,null,null,null,null,null,null,null,null,null,null,null,null,null,null,null,null,null,null,null,null,null,null,null,null,null,null,null,null,null,null,null,null,null,null,null,null,null,null,null,null,null,null,null,null,null,null,null,null,null,null,null,null,null,null,null,null,null,null,null,null,null,null,null,null,null,null,null,null,null,null,null,null,null,null,null,null,null,null,null,null,null,null,null,null,null,null,null,null,null,null,null,null,null,null,null,null,null,null,null,null,null,null,null,null,null,null,null,null,null,null,null,null,null,null,null,null,null,null,null,null,null,null,null,null,null,null,null,null,null,null,null,null,null,null,null,null,null,null,null,null,null,null,null,null,null,null,null,null,null,null,null,null,null,null,null,null,null,null,null,null,null,null,null,null,null,null,null,null,null,null,null,null,null,null,null,null,null,null,null,null,null,null,null,null,null,null,null,null,null,null,null,null,null,null,null,null,null,null,null,null,null,null,null,null,null,null,null,null,null,null,null,null,null,null,null,null,null,null,null,null,null,null,null,null,null,null,null,null,null,null,null,null,null,null,null,null,null,null,null,null,null,null,null,null,null,null,null,null,null,null,null,null,null,null,null,null,null,null,null,null,null,null,null,null,null,null,null,null,null,null,null,null,null,null,null,null,null,null,null,null,null,null,null,null,null,null,null,null,null,null,null,null,null,null,null,null,null,null,null,null,null,null,null,null,null,null,null,null,null,null,null,null,null,null,null,null,null,null,null,null,null,null,null,null,null,null,null,null,null,null,null,null,null,null,null,null,null,null,null,null,null,null,null,null,null,null,null,null,null,null,null,null,null,null,null,null,null,null,null,null,null,null,null,null,null,null,null,null,null,null,null,null,null,null,null,null,null,null,null,null,null,null,null,null,null,null,null,null,null,null,null,null,null,null,null,null,null,null,null,null,null,null,null,null,null,null,null,null,null,null,null,null,null,null,null,null,null,null,null,null,null,null,null,null,null,null,null,null,null,null,null,null,null,null,null,null,null,null,null,null,null,null,null,null,null,null,null,null,null,null,null,null,null,null,null,null,null,null,null,null,null,null,null,null,null,null,null,null,null,null,null,null,null,null,null,null,null,null,null,null,null,null,null,null,null,null,null,null,null,null,null,null,null,null,null,null,null,null,null,null,null,null,null,null,null,null,null,null,null,null,null,null,null,null,null,null,null,null,null,null,null,null,null,null,null,null,null,null,null,null,null,null,null,null,null,null,null,null,null,null,null,null,null,null,null,null,null,null,null,null,null,null,null,null,null,null,null,null,null,null,null,null,null,null,null,null,null,null,null,null,null,null,null,null,null,null,null,null,null,null,null,null,null,null,null,null,null,null,null,null,null,null,null,null,null,null,null,null,null,null,null,null,null,null,null,null,null,null,null,null,null,null,null,null,null,null,null,null,null,null,null,null,null,null,null,null,null,null,null,null,null,null,null,null,null,null,null,null,null,null,null,null,null,null,null,null,null,null,null,null,null,null,null,null,null,null,null,null,null,null,null,null,null,null,null,null,null,null,null,null,null,null,null,null,null,null,null,null,null,null,null,null,null,null,null,null,null,null,null,null,null,null,null,null,null,null,null,null,null,null,null,null,null,null,null,null,null,null,null,null,null,null,null,null,null,null,null,null,null,null,null,null,null,null,null,null,null,null,null,null,null,null,null,null,null,null,null,null,null,null,null,null,null,null,null,null,null,null,null,null,null,null,null,null,null,null,null,null,null,null,null,null,null,null,null,null,null,null,null,null,null,null,null,null,null,null,null,null,null,null,null,null,null,null,null,null,null,null,null,null,null,null,null,null,null,null,null,null,null,null,null,null,null,null,null,null,null,null,null,null,null,null,null,null,null,null,null,null,null,null,null,null,null,null,null,null,null,null,null,null,null,null,null,null,null,null,null,null,null,null,null,null,null,null,null,null,null,null,null,null,null,null,null,null,null,null,null,null,null,null,null,null,null,null,null,null,null,null,null,null,null,null,null,null,null,null,null,null,null,null,null,null,null,null,null,null,null,null,null,null,null,null,null,null,null,null,null,null,null,null,null,null,null,null,null,null,null,null,null,null,null,null,null,null,null,null,null,null,null,null,null,null,null,null,null,null,null,null,null,null,null,null,null,null,null,null,null,null,null,null,null,null,null,null,null,null,null,null,null,null,null,null,null,null,null,null,null,null,null,null,null,null,null,null,null,null,null,null,null,null,null,null,null,null,null,null,null,null,null,null,null,null,null,null,null,null,null,null,null,null,null,null,null,null,null,null,null,null,null,null,null,null,null,null,null,null,null,null,null,null,null,null,null,null,null,null,null,null,null,null,null,null,null,null,null,null,null,null,null,null,null,null,null,null,null,null,null,null,null,null,null,null,null,null,null,null,null,null,null,null,null,null,null,null,null,null,null,null,null,null,null,null,null,null,null,null,null,null,null,null,null,null,null,null,null,null,null,null,null,null,null,null,null,null,null,null,null,null,null,null,null,null,null,null,null,null,null,null,null,null,null,null,null,null,null,null,null,null,null,null,null,null,null,null,null,null,null,null,null,null,null,null,null,null,null,null,null,null,null,null,null,null,null,null,null,null,null,null,null,null,null,null,null,null,null,null,null,null,null,null,null,null,null,null,null,null,null,null,null,null,null,null,null,null,null,null,null,null,null,null,null,null,null,null,null,null,null,null,null,null,null,null,null,null,null,null,null,null,null,null,null,null,null,null,null,null,null,null,null,null,null,null,null,null,null,null,null,null,null,null,null,null,null,null,null,null,null,null,null,null,null,null,null,null,null,null,null,null,null,null,null,null,null,null,null,null,null,null,null,null,null,null,null,null,null,null,null,null,null,null,null,null,null,null,null,null,null,null,null,null,null,null,null,null,null,null,null,null,null,null,null,null,null,null,null,null,null,null,null,null,null,null,null,null,null,null,null,null,null,null,null,null,null,null,null,null,null,null,null,null,null,null,null,null,null,null,null,null,null,null,null,null,null,null,null,null,null,null,null,null,null,null,null,null,null,null,null,null,null,null,null,null,null,null,null,null,null,null,null,null,null,null,null,null,null,null,null,null,null,null,null,null,null,null,null,null,null,null,null,null,null,null,null,null,null,null,null,null,null,null,null,null,null,null,null,null,null,null,null,null,null,null,null,null,null,null,null,null,null,null,null,null,null,null,null,null,null,null,null,null,null,null,null,null,null,null,null,null,null,null,null,null,null,null,null,null,null,null,null,null,null,null,null,null,null,null,null,null,null,null,null,null,null,null,null,null,null,null,null,null,null,null,null,null,null,null,null,null,null,null,null,null,null,null,null,null,null,null,null,null,null,null,null,null,null,null,null,null,null,null,null,null,null,null,null,null,null,null,null,null,null,null,null,null,null,null,null,null,null,null,null,null,null,null,null,null,null,null,null,null,null,null,null,null,null,null,null,null,null,null,null,null,null,null,null,null,null,null,null,null,null,null,null,null,null,null,null,null,null,null,null,null,null,null,null,null,null,null,null,null,null,null,null,null,null,null,null,null,null,null,null,null,null,null,null,null,null,null,null,null,null,null,null,null,null,null,null,null,null,null,null,null,null,null,null,null,null,null,null,null,null,null,null,null,null,null,null,null,null,null,null,null,null,null,null,null,null,null,null,null,null,null,null,null,null,null,null,null,null,null,null,null,null,null,null,null,null,null,null,null,null,null,null,null,null,null,null,null,null,null,null,null,null,null,null,null,null,null,null,null,null,null,null,null,null,null,null,null,null,null,null,null,null,null,null,null,null,null,null,null,null,null,null,null,null,null,null,null,null,null,null,null,null,null,null,null,null,null,null,null,null,null,null,null,null,null,null,null,null,null,null,null,null,null,null,null,null,null,null,null,null,null,null,null,null,null,null,null,null,null,null,null,null,null,null,null,null,null,null,null,null,null,null,null,null,null,null,null,null,null,null,null,null,null,null,null,null,null,null,null,null,null,null,null,null,null,null,null,null,null,null,null,null,null,null,null,null,null,null,null,null,null,null,null,null,null,null,null,null,null,null,null,null,null,null,null,null,null,null,null,null,null,null,null,null,null,null,null,null,null,null,null,null,null,null,null,null,null,null,null,null,null,null,null,null,null,null,null,null,null,null,null,null,null,null,null,null,null,null,null,null,null,null,null,null,null,null,null,null,null,null,null,null,null,null,null,null,null,null,null,null,null,null,null,null,null,null,null,null,null,null,null,null,null,null,null,null,null,null,null,null,null,null,null,null,null,null,null,null,null,null,null,null,null,null,null,null,null,null,null,null,null,null,null,null,null,null,null,null,null,null,null,null,null,null,null,null,null,null,null,null,null,null,null,null,null,null,null,null,null,null,null,null,null,null,null,null,null,null,null,null,null,null,null,null,null,null,null,null,null,null,null,null,null,null,null,null,null,null,null,null,null,null,null,null,null,null,null,null,null,null,null,null,null,null,null,null,null,null,null,null,null,null,null,null,null,null,null,null,null,null,null,null,null,null,null,null,null,null,null,null,null,null,null,null,null,null,null,null,null,null,null,null,null,null,null,null,null,null,null,null,null,null,null,null,null,null,null,null,null,null,null,null,null,null,null,null,null,null,null,null,null,null,null,null,null,null,null,null,null,null,null,null,null,null,null,null,null,null,null,null,null,null,null,null,null,null,null,null,null,null,null,null,null,null,null,null,null,null,null,null,null,null,null,null,null,null,null,null,null,null,null,null,null,null,null,null,null,null,null,null,null,null,null,null,null,null,null,null,null,null,null,null,null,null,null,null,null,null,null,null,null,null,null,null,null,null,null,null,null,null,null,null,null,null,null,null,null,null,null,null,null,null,null,null,null,null,null,null,null,null,null,null,null,null,null,null,null,null,null,null,null,null,null,null,null,null,null,null,null,null,null,null,null,null,null,null,null,null,null,null,null,null,null,null,null,null,null,null,null,null,null,null,null,null,null,null,null,null,null,null,null,null,null,null,null,null,null,null,null,null,null,null,null,null,null,null,null,null,null,null,null,null,null,null,null,null,null,null,null,null,null,null,null,null,null,null,null,null,null,null,null,null,null,null,null,null,null,null,null,null,null,null,null,null,null,null,null,null,null,null,null,null,null,null,null,null,null,null,null,null,null,null,null,null,null,null,null,null,null,null,null,null,null,null,null,null,null,null,null,null,null,null,null,null,null,null,null,null,null,null,null,null,null,null,null,null,null,null,null,null,null,null,null,null,null,null,null,null,null,null,null,null,null,null,null,null,null,null,null,null,null,null,null,null,null,null,null,null,null,null,null,null,null,null,null,null,null,null,null,null,null,null,null,null,null,null,null,null,null,null,null,null,null,null,null,null,null,null,null,null,null,null,null,null,null,null,null,null,null,null,null,null,null,null,null,null,null,null,null,null,null,null,null,null,null,null,null,null,null,null,null,null,null,null,null,null,null,null,null,null,null,null,null,null,null,null,null,null,null,null,null,null,null,null,null,null,null,null,null,null,null,null,null,null,null,null,null,null,null,null,null,null,null,null,null,null,null,null,null,null,null,null,null,null,null,null,null,null,null,null,null,null,null,null,null,null,null,null,null,null,null,null,null,null,null,null,null,null,null,null,null,null,null,null,null,null,null,null,null,null,null,null,null,null,null,null,null,null,null,null,null,null,null,null,null,null,null,null,null,null,null,null,null,null,null,null,null,null,null,null,null,null,null,null,null,null,null,null,null,null,null,null,null,null,null,null,null,null,null,null,null,null,null,null,null,null,null,null,null,null,null,null,null,null,null,null,null,null,null,null,null,null,null,null,null,null,null,null,null,null,null,null,null,null,null,null,null,null,null,null,null,null,null,null,null,null,null,null,null,null,null,null,null,null,null,null,null,null,null,null,null,null,null,null,null,null,null,null,null,null,null,null,null,null,null,null,null,null,null,null,null,null,null,null,null,null,null,null,null,null,null,null,null,null,null,null,null,null,null,null,null,null,null,null,null,null,null,null,null,null,null,null,null,null,null,null,null,null,null,null,null,null,null,null,null,null,null,null,null,null,null,null,null,null,null,null,null,null,null,null,null,null,null,null,null,null,null,null,null,null,null,null,null,null,null,null,null,null,null,null,null,null,null,null,null,null,null,null,null,null,null,null,null,null,null,null,null,null,null,null,null,null,null,null,null,null,null,null,null,null,null,null,null,null,null,null,null,null,null,null,null,null,null,null,null,null,null,null,null,null,null,null,null,null,null,null,null,null,null,null,null,null,null,null,null,null,null,null,null,null,null,null,null,null,null,null,null,null,null,null,null,null,null,null,null,null,null,null,null,null,null,null,null,null,null,null,null,null,null,null,null,null,null,null,null,null,null,null,null,null,null,null,null,null,null,null,null,null,null,null,null,null,null,null,null,null,null,null,null,null,null,null,null,null,null,null,null,null,null,null,null,null,null,null,null,null,null,null,null,null,null,null,null,null,null,null,null,null,null,null,null,null,null,null,null,null,null,null,null,null,null,null,null,null,null,null,null,null,null,null,null,null,null,null,null,null,null,null,null,null,null,null,null,null,null,null,null,null,null,null,null,null,null,null,null,null,null,null,null,null,null,null,null,null,null,null,null,null,null,null,null,null,null,null,null,null,null,null,null,null,null,null,null,null,null,null,null,null,null,null,null,null,null,null,null,null,null,null,null,null,null,null,null,null,null,null,null,null,null,null,null,null,null,null,null,null,null,null,null,null,null,null,null,null,null,null,null,null,null,null,null,null,null,null,null,null,null,null,null,null,null,null,null,null,null,null,null,null,null,null,null,null,null,null,null,null,null,null,null,null,null,null,null,null,null,null,null,null,null,null,null,null,null,null,null,null,null,null,null,null,null,null,null,null,null,null,null,null,null,null,null,null,null,null,null,null,null,null,null,null,null,null,null,null,null,null,null,null,null,null,null,null,null,null,null,null,null,null,null,null,null,null,null,null,null,null,null,null,null,null,null,null,null,null,null,null,null,null,null,null,null,null,null,null,null,null,null,null,null,null,null,null,null,null,null,null,null,null,null,null,null,null,null,null,null,null,null,null,null,null,null,null,null,null,null,null,null,null,null,null,null,null,null,null,null,null,null,null,null,null,null,null,null,null,null,null,null,null,null,null,null,null,null,null,null,null,null,null,null,null,null,null,null,null,null,null,null,null,null,null,null,null,null,null,null,null,null,null,null,null,null,null,null,null,null,null,null,null,null,null,null,null,null,null,null,null,null,null,null,null,null,null,null,null,null,null,null,null,null,null,null,null,null,null,null,null,null,null,null,null,null,null,null,null,null,null,null,null,null,null,null,null,null,null,null,null,null,null,null,null,null,null,null,null,null,null,null,null,null,null,null,null,null,null,null,null,null,null,null,null,null,null,null,null,null,null,null,null,null,null,null,null,null,null,null,null,null,null,null,null,null,null,null,null,null,null,null,null,null,null,null,null,null,null,null,null,null,null,null,null,null,null,null,null,null,null,null,null,null,null,null,null,null,null,null,null,null,null,null,null,null,null,null,null,null,null,null,null,null,null,null,null,null,null,null,null,null,null,null,null,null,null,null,null,null,null,null,null,null,null,null,null,null,null,null,null,null,null,null,null,null,null,null,null,null,null,null,null,null,null,null,null,null,null,null,null,null,null,null,null,null,null,null,null,null,null,null,null,null,null,null,null,null,null,null,null,null,null,null,null,null,null,null,null,null,null,null,null,null,null,null,null,null,null,null,null,null,null,null,null,null,null,null,null,null,null,null,null,null,null,null,null,null,null,null,null,null,null,null,null,null,null,null,null,null,null,null,null,null,null,null,null,null,null,null,null,null,null,null,null,null,null,null,null,null,null,null,null,null,null,null,null,null,null,null,null,null,null,null,null,null,null,null,null,null,null,null,null,null,null,null,null,null,null,null,null,null,null,null,null,null,null,null,null,null,null,null,null,null,null,null,null,null,null,null,null,null,null,null,null,null,null,null,null,null,null,null,null,null,null,null,null,null,null,null,null,null,null,null,null,null,null,null,null,null,null,null,null,null,null,null,null,null,null,null,null,null,null,null,null,null,null,null,null,null,null,null,null,null,null,null,null,null,null,null,null,null,null,null,null,null,null,null,null,null,null,null,null,null,null,null,null,null,null,null,null,null,null,null,null,null,null,null,null,null,null,null,null,null,null,null,null,null,null,null,null,null,null,null,null,null,null,null,null,null,null,null,null,null,null,null,null,null,null,null,null,null,null,null,null,null,null,null,null,null,null,null,null,null,null,null,null,null,null,null,null,null,null,null,null,null,null,null,null,null,null,null,null,null,null,null,null,null,null,null,null,null,null,null,null,null,null,null,null,null,null,null,null,null,null,null,null,null,null,null,null,null,null,null,null,null,null,null,null,null,null,null,null,null,null,null,null,null,null,null,null,null,null,null,null,null,null,null,null,null,null,null,null,null,null,null,null,null,null,null,null,null,null,null,null,null,null,null,null,null,null,null,null,null,null,null,null,null,null,null,null,null,null,null,null,null,null,null,null,null,null,null,null,null,null,null,null,null,null,null,null,null,null,null,null,null,null,null,null,null,null,null,null,null,null,null,null,null,null,null,null,null,null,null,null,null,null,null,null,null,null,null,null,null,null,null,null,null,null,null,null,null,null,null,null,null,null,null,null,null,null,null,null,null,null,null,null,null,null,null,null,null,null,null,null,null,null,null,null,null,null,null,null,null,null,null,null,null,null,null,null,null,null,null,null,null,null,null,null,null,null,null,null,null,null,null,null,null,null,null,null,null,null,null,null,null,null,null,null,null,null,null,null,null,null,null,null,null,null,null,null,null,null,null,null,null,null,null,null,null,null,null,null,null,null,null,null,null,null,null,null,null,null,null,null,null,null,null,null,null,null,null,null,null,null,null,null,null,null,null,null,null,null,null,null,null,null,null,null,null,null,null,null,null,null,null,null,null,null,null,null,null,null,null,null,null,null,null,null,null,null,null,null,null,null,null,null,null,null,null,null,null,null,null,null,null,null,null,null,null,null,null,null,null,null,null,null,null,null,null,null,null,null,null,null,null,null,null,null,null,null,null,null,null,null,null,null,null,null,null,null,null,null,null,null,null,null,null,null,null,null,null,null,null,null,null,null,null,null,null,null,null,null,null,null,null,null,null,null,null,null,null,null,null,null,null,null,null,null,null,null,null,null,null,null,null,null,null,null,null,null,null,null,null,null,null,null,null,null,null,null,null,null,null,null,null,null,null,null,null,null,null,null,null,null,null,null,null,null,null,null,null,null,null,null,null,null,null,null,null,null,null,null,null,null,null,null,null,null,null,null,null,null,null,null,null,null,null,null,null,null,null,null,null,null,null,null,null,null,null,null,null,null,null,null,null,null,null,null,null,null,null,null,null,null,null,null,null,null,null,null,null,null,null,null,null,null,null,null,null,null,null,null,null,null,null,null,null,null,null,null,null,null,null,null,null,null,null,null,null,null,null,null,null,null,null,null,null,null,null,null,null,null,null,null,null,null,null,null,null,null,null,null,null,null,null,null,null,null,null,null,null,null,null,null,null,null,null,null,null,null,null,null,null,null,null,null,null,null,null,null,null,null,null,null,null,null,null,null,null,null,null,null,null,null,null,null,null,null,null,null,null,null,null,null,null,null,null,null,null,null,null,null,null,null,null,null,null,null,null,null,null,null,null,null,null,null,null,null,null,null,null,null,null,null,null,null,null,null,null,null,null,null,null,null,null,null,null,null,null,null,null,null,null,null,null,null,null,null,null,null,null,null,null,null,null,null,null,null,null,null,null,null,null,null,null,null,null,null,null,null,null,null,null,null,null,null,null,null,null,null,null,null,null,null,null,null,null,null,null,null,null,null,null,null,null,null,null,null,null,null,null,null,null,null,null,null,null,null,null,null,null,null,null,null,null,null,null,null,null,null,null,null,null,null,null,null,null,null,null,null,null,null,null,null,null,null,null,null,null,null,null,null,null,null,null,null,null,null,null,null,null,null,null,null,null,null,null,null,null,null,null,null,null,null,null,null,null,null,null,null,null,null,null,null,null,null,null,null,null,null,null,null,null,null,null,null,null,null,null,null,null,null,null,null,null,null,null,null,null,null,null,null,null,null,null,null,null,null,null,null,null,null,null,null,null,null,null,null,null,null,null,null,null,null,null,null,null,null,null,null,null,null,null,null,null,null,null,null,null,null,null,null,null,null,null,null,null,null,null,null,null,null,null,null,null,null,null,null,null,null,null,null,null,null,null,null,null,null,null,null,null,null,null,null,null,null,null,null,null,null,null,null,null,null,null,null,null,null,null,null,null,null,null,null,null,null,null,null,null,null,null,null,null,null,null,null,null,null,null,null,null,null,null,null,null,null,null,null,null,null,null,null,null,null,null,null,null,null,null,null,null,null,null,null,null,null,null,null,null,null,null,null,null,null,null,null,null,null,null,null,null,null,null,null,null,null,null,null,null,null,null,null,null,null,null,null,null,null,null,null,null,null,null,null,null,null,null,null,null,null,null,null,null,null,null,null,null,null,null,null,null,null,null,null,null,null,null,null,null,null,null,null,null,null,null,null,null,null,null,null,null,null,null,null,null,null,null,null,null,null,null,null,null,null,null,null,null,null,null,null,null,null,null,null,null,null,null,null,null,null,null,null,null,null,null,null,null,null,null,null,null,null,null,null,null,null,null,null,null,null,null,null,null,null,null,null,null,null,null,null,null,null,null,null,null,null,null,null,null,null,null,null,null,null,null,null,null,null,null,null,null,null,null,null,null,null,null,null,null,null,null,null,null,null,null,null,null,null,null,null,null,null,null,null,null,null,null,null,null,null,null,null,null,null,null,null,null,null,null,null,null,null,null,null,null,null,null,null,null,null,null,null,null,null,null,null,null,null,null,null,null,null,null,null,null,null,null,null,null,null,null,null,null,null,null,null,null,null,null,null,null,null,null,null,"ABARROTES - DEPOSITO (ALMACEN)"]
[null,null,null,null,null,null,null,4662,"Venta Al Por Mayor De Metales Y Minerales Metaliferos",null,null,null,null,null,null,null,null,null,"DESTILERÍA\\COMERCIO (VENTA)","DESTILERÍA","COMERCIO (VENTA)","06",null,null,null,null,null,null,null,null,null,null,null,null,null,null,null,null,null,null,null,null,null,null,null,null,null,null,null,null,null,null,null,null,null,null,null,null,null,null,null,null,null,null,null,null,null,null,null,null,null,null,null,null,null,null,null,null,null,null,null,null,null,null,null,null,null,null,null,null,null,null,null,null,null,null,null,null,null,null,null,null,null,null,null,null,null,null,null,null,null,null,null,null,null,null,null,null,null,null,null,null,null,null,null,null,null,null,null,null,null,null,null,null,null,null,null,null,null,null,null,null,null,null,null,null,null,null,null,null,null,null,null,null,null,null,null,null,null,null,null,null,null,null,null,null,null,null,null,null,null,null,null,null,null,null,null,null,null,null,null,null,null,null,null,null,null,null,null,null,null,null,null,null,null,null,null,null,null,null,null,null,null,null,null,null,null,null,null,null,null,null,null,null,null,null,null,null,null,null,null,null,null,null,null,null,null,null,null,null,null,null,null,null,null,null,null,null,null,null,null,null,null,null,null,null,null,null,null,null,null,null,null,null,null,null,null,null,null,null,null,null,null,null,null,null,null,null,null,null,null,null,null,null,null,null,null,null,null,null,null,null,null,null,null,null,null,null,null,null,null,null,null,null,null,null,null,null,null,null,null,null,null,null,null,null,null,null,null,null,null,null,null,null,null,null,null,null,null,null,null,null,null,null,null,null,null,null,null,null,null,null,null,null,null,null,null,null,null,null,null,null,null,null,null,null,null,null,null,null,null,null,null,null,null,null,null,null,null,null,null,null,null,null,null,null,null,null,null,null,null,null,null,null,null,null,null,null,null,null,null,null,null,null,null,null,null,null,null,null,null,null,null,null,null,null,null,null,null,null,null,null,null,null,null,null,null,null,null,null,null,null,null,null,null,null,null,null,null,null,null,null,null,null,null,null,null,null,null,null,null,null,null,null,null,null,null,null,null,null,null,null,null,null,null,null,null,null,null,null,null,null,null,null,null,null,null,null,null,null,null,null,null,null,null,null,null,null,null,null,null,null,null,null,null,null,null,null,null,null,null,null,null,null,null,null,null,null,null,null,null,null,null,null,null,null,null,null,null,null,null,null,null,null,null,null,null,null,null,null,null,null,null,null,null,null,null,null,null,null,null,null,null,null,null,null,null,null,null,null,null,null,null,null,null,null,null,null,null,null,null,null,null,null,null,null,null,null,null,null,null,null,null,null,null,null,null,null,null,null,null,null,null,null,null,null,null,null,null,null,null,null,null,null,null,null,null,null,null,null,null,null,null,null,null,null,null,null,null,null,null,null,null,null,null,null,null,null,null,null,null,null,null,null,null,null,null,null,null,null,null,null,null,null,null,null,null,null,null,null,null,null,null,null,null,null,null,null,null,null,null,null,null,null,null,null,null,null,null,null,null,null,null,null,null,null,null,null,null,null,null,null,null,null,null,null,null,null,null,null,null,null,null,null,null,null,null,null,null,null,null,null,null,null,null,null,null,null,null,null,null,null,null,null,null,null,null,null,null,null,null,null,null,null,null,null,null,null,null,null,null,null,null,null,null,null,null,null,null,null,null,null,null,null,null,null,null,null,null,null,null,null,null,null,null,null,null,null,null,null,null,null,null,null,null,null,null,null,null,null,null,null,null,null,null,null,null,null,null,null,null,null,null,null,null,null,null,null,null,null,null,null,null,null,null,null,null,null,null,null,null,null,null,null,null,null,null,null,null,null,null,null,null,null,null,null,null,null,null,null,null,null,null,null,null,null,null,null,null,null,null,null,null,null,null,null,null,null,null,null,null,null,null,null,null,null,null,null,null,null,null,null,null,null,null,null,null,null,null,null,null,null,null,null,null,null,null,null,null,null,null,null,null,null,null,null,null,null,null,null,null,null,null,null,null,null,null,null,null,null,null,null,null,null,null,null,null,null,null,null,null,null,null,null,null,null,null,null,null,null,null,null,null,null,null,null,null,null,null,null,null,null,null,null,null,null,null,null,null,null,null,null,null,null,null,null,null,null,null,null,null,null,null,null,null,null,null,null,null,null,null,null,null,null,null,null,null,null,null,null,null,null,null,null,null,null,null,null,null,null,null,null,null,null,null,null,null,null,null,null,null,null,null,null,null,null,null,null,null,null,null,null,null,null,null,null,null,null,null,null,null,null,null,null,null,null,null,null,null,null,null,null,null,null,null,null,null,null,null,null,null,null,null,null,null,null,null,null,null,null,null,null,null,null,null,null,null,null,null,null,null,null,null,null,null,null,null,null,null,null,null,null,null,null,null,null,null,null,null,null,null,null,null,null,null,null,null,null,null,null,null,null,null,null,null,null,null,null,null,null,null,null,null,null,null,null,null,null,null,null,null,null,null,null,null,null,null,null,null,null,null,null,null,null,null,null,null,null,null,null,null,null,null,null,null,null,null,null,null,null,null,null,null,null,null,null,null,null,null,null,null,null,null,null,null,null,null,null,null,null,null,null,null,null,null,null,null,null,null,null,null,null,null,null,null,null,null,null,null,null,null,null,null,null,null,null,null,null,null,null,null,null,null,null,null,null,null,null,null,null,null,null,null,null,null,null,null,null,null,null,null,null,null,null,null,null,null,null,null,null,null,null,null,null,null,null,null,null,null,null,null,null,null,null,null,null,null,null,null,null,null,null,null,null,null,null,null,null,null,null,null,null,null,null,null,null,null,null,null,null,null,null,null,null,null,null,null,null,null,null,null,null,null,null,null,null,null,null,null,null,null,null,null,null,null,null,null,null,null,null,null,null,null,null,null,null,null,null,null,null,null,null,null,null,null,null,null,null,null,null,null,null,null,null,null,null,null,null,null,null,null,null,null,null,null,null,null,null,null,null,null,null,null,null,null,null,null,null,null,null,null,null,null,null,null,null,null,null,null,null,null,null,null,null,null,null,null,null,null,null,null,null,null,null,null,null,null,null,null,null,null,null,null,null,null,null,null,null,null,null,null,null,null,null,null,null,null,null,null,null,null,null,null,null,null,null,null,null,null,null,null,null,null,null,null,null,null,null,null,null,null,null,null,null,null,null,null,null,null,null,null,null,null,null,null,null,null,null,null,null,null,null,null,null,null,null,null,null,null,null,null,null,null,null,null,null,null,null,null,null,null,null,null,null,null,null,null,null,null,null,null,null,null,null,null,null,null,null,null,null,null,null,null,null,null,null,null,null,null,null,null,null,null,null,null,null,null,null,null,null,null,null,null,null,null,null,null,null,null,null,null,null,null,null,null,null,null,null,null,null,null,null,null,null,null,null,null,null,null,null,null,null,null,null,null,null,null,null,null,null,null,null,null,null,null,null,null,null,null,null,null,null,null,null,null,null,null,null,null,null,null,null,null,null,null,null,null,null,null,null,null,null,null,null,null,null,null,null,null,null,null,null,null,null,null,null,null,null,null,null,null,null,null,null,null,null,null,null,null,null,null,null,null,null,null,null,null,null,null,null,null,null,null,null,null,null,null,null,null,null,null,null,null,null,null,null,null,null,null,null,null,null,null,null,null,null,null,null,null,null,null,null,null,null,null,null,null,null,null,null,null,null,null,null,null,null,null,null,null,null,null,null,null,null,null,null,null,null,null,null,null,null,null,null,null,null,null,null,null,null,null,null,null,null,null,null,null,null,null,null,null,null,null,null,null,null,null,null,null,null,null,null,null,null,null,null,null,null,null,null,null,null,null,null,null,null,null,null,null,null,null,null,null,null,null,null,null,null,null,null,null,null,null,null,null,null,null,null,null,null,null,null,null,null,null,null,null,null,null,null,null,null,null,null,null,null,null,null,null,null,null,null,null,null,null,null,null,null,null,null,null,null,null,null,null,null,null,null,null,null,null,null,null,null,null,null,null,null,null,null,null,null,null,null,null,null,null,null,null,null,null,null,null,null,null,null,null,null,null,null,null,null,null,null,null,null,null,null,null,null,null,null,null,null,null,null,null,null,null,null,null,null,null,null,null,null,null,null,null,null,null,null,null,null,null,null,null,null,null,null,null,null,null,null,null,null,null,null,null,null,null,null,null,null,null,null,null,null,null,null,null,null,null,null,null,null,null,null,null,null,null,null,null,null,null,null,null,null,null,null,null,null,null,null,null,null,null,null,null,null,null,null,null,null,null,null,null,null,null,null,null,null,null,null,null,null,null,null,null,null,null,null,null,null,null,null,null,null,null,null,null,null,null,null,null,null,null,null,null,null,null,null,null,null,null,null,null,null,null,null,null,null,null,null,null,null,null,null,null,null,null,null,null,null,null,null,null,null,null,null,null,null,null,null,null,null,null,null,null,null,null,null,null,null,null,null,null,null,null,null,null,null,null,null,null,null,null,null,null,null,null,null,null,null,null,null,null,null,null,null,null,null,null,null,null,null,null,null,null,null,null,null,null,null,null,null,null,null,null,null,null,null,null,null,null,null,null,null,null,null,null,null,null,null,null,null,null,null,null,null,null,null,null,null,null,null,null,null,null,null,null,null,null,null,null,null,null,null,null,null,null,null,null,null,null,null,null,null,null,null,null,null,null,null,null,null,null,null,null,null,null,null,null,null,null,null,null,null,null,null,null,null,null,null,null,null,null,null,null,null,null,null,null,null,null,null,null,null,null,null,null,null,null,null,null,null,null,null,null,null,null,null,null,null,null,null,null,null,null,null,null,null,null,null,null,null,null,null,null,null,null,null,null,null,null,null,null,null,null,null,null,null,null,null,null,null,null,null,null,null,null,null,null,null,null,null,null,null,null,null,null,null,null,null,null,null,null,null,null,null,null,null,null,null,null,null,null,null,null,null,null,null,null,null,null,null,null,null,null,null,null,null,null,null,null,null,null,null,null,null,null,null,null,null,null,null,null,null,null,null,null,null,null,null,null,null,null,null,null,null,null,null,null,null,null,null,null,null,null,null,null,null,null,null,null,null,null,null,null,null,null,null,null,null,null,null,null,null,null,null,null,null,null,null,null,null,null,null,null,null,null,null,null,null,null,null,null,null,null,null,null,null,null,null,null,null,null,null,null,null,null,null,null,null,null,null,null,null,null,null,null,null,null,null,null,null,null,null,null,null,null,null,null,null,null,null,null,null,null,null,null,null,null,null,null,null,null,null,null,null,null,null,null,null,null,null,null,null,null,null,null,null,null,null,null,null,null,null,null,null,null,null,null,null,null,null,null,null,null,null,null,null,null,null,null,null,null,null,null,null,null,null,null,null,null,null,null,null,null,null,null,null,null,null,null,null,null,null,null,null,null,null,null,null,null,null,null,null,null,null,null,null,null,null,null,null,null,null,null,null,null,null,null,null,null,null,null,null,null,null,null,null,null,null,null,null,null,null,null,null,null,null,null,null,null,null,null,null,null,null,null,null,null,null,null,null,null,null,null,null,null,null,null,null,null,null,null,null,null,null,null,null,null,null,null,null,null,null,null,null,null,null,null,null,null,null,null,null,null,null,null,null,null,null,null,null,null,null,null,null,null,null,null,null,null,null,null,null,null,null,null,null,null,null,null,null,null,null,null,null,null,null,null,null,null,null,null,null,null,null,null,null,null,null,null,null,null,null,null,null,null,null,null,null,null,null,null,null,null,null,null,null,null,null,null,null,null,null,null,null,null,null,null,null,null,null,null,null,null,null,null,null,null,null,null,null,null,null,null,null,null,null,null,null,null,null,null,null,null,null,null,null,null,null,null,null,null,null,null,null,null,null,null,null,null,null,null,null,null,null,null,null,null,null,null,null,null,null,null,null,null,null,null,null,null,null,null,null,null,null,null,null,null,null,null,null,null,null,null,null,null,null,null,null,null,null,null,null,null,null,null,null,null,null,null,null,null,null,null,null,null,null,null,null,null,null,null,null,null,null,null,null,null,null,null,null,null,null,null,null,null,null,null,null,null,null,null,null,null,null,null,null,null,null,null,null,null,null,null,null,null,null,null,null,null,null,null,null,null,null,null,null,null,null,null,null,null,null,null,null,null,null,null,null,null,null,null,null,null,null,null,null,null,null,null,null,null,null,null,null,null,null,null,null,null,null,null,null,null,null,null,null,null,null,null,null,null,null,null,null,null,null,null,null,null,null,null,null,null,null,null,null,null,null,null,null,null,null,null,null,null,null,null,null,null,null,null,null,null,null,null,null,null,null,null,null,null,null,null,null,null,null,null,null,null,null,null,null,null,null,null,null,null,null,null,null,null,null,null,null,null,null,null,null,null,null,null,null,null,null,null,null,null,null,null,null,null,null,null,null,null,null,null,null,null,null,null,null,null,null,null,null,null,null,null,null,null,null,null,null,null,null,null,null,null,null,null,null,null,null,null,null,null,null,null,null,null,null,null,null,null,null,null,null,null,null,null,null,null,null,null,null,null,null,null,null,null,null,null,null,null,null,null,null,null,null,null,null,null,null,null,null,null,null,null,null,null,null,null,null,null,null,null,null,null,null,null,null,null,null,null,null,null,null,null,null,null,null,null,null,null,null,null,null,null,null,null,null,null,null,null,null,null,null,null,null,null,null,null,null,null,null,null,null,null,null,null,null,null,null,null,null,null,null,null,null,null,null,null,null,null,null,null,null,null,null,null,null,null,null,null,null,null,null,null,null,null,null,null,null,null,null,null,null,null,null,null,null,null,null,null,null,null,null,null,null,null,null,null,null,null,null,null,null,null,null,null,null,null,null,null,null,null,null,null,null,null,null,null,null,null,null,null,null,null,null,null,null,null,null,null,null,null,null,null,null,null,null,null,null,null,null,null,null,null,null,null,null,null,null,null,null,null,null,null,null,null,null,null,null,null,null,null,null,null,null,null,null,null,null,null,null,null,null,null,null,null,null,null,null,null,null,null,null,null,null,null,null,null,null,null,null,null,null,null,null,null,null,null,null,null,null,null,null,null,null,null,null,null,null,null,null,null,null,null,null,null,null,null,null,null,null,null,null,null,null,null,null,null,null,null,null,null,null,null,null,null,null,null,null,null,null,null,null,null,null,null,null,null,null,null,null,null,null,null,null,null,null,null,null,null,null,null,null,null,null,null,null,null,null,null,null,null,null,null,null,null,null,null,null,null,null,null,null,null,null,null,null,null,null,null,null,null,null,null,null,null,null,null,null,null,null,null,null,null,null,null,null,null,null,null,null,null,null,null,null,null,null,null,null,null,null,null,null,null,null,null,null,null,null,null,null,null,null,null,null,null,null,null,null,null,null,null,null,null,null,null,null,null,null,null,null,null,null,null,null,null,null,null,null,null,null,null,null,null,null,null,null,null,null,null,null,null,null,null,null,null,null,null,null,null,null,null,null,null,null,null,null,null,null,null,null,null,null,null,null,null,null,null,null,null,null,null,null,null,null,null,null,null,null,null,null,null,null,null,null,null,null,null,null,null,null,null,null,null,null,null,null,null,null,null,null,null,null,null,null,null,null,null,null,null,null,null,null,null,null,null,null,null,null,null,null,null,null,null,null,null,null,null,null,null,null,null,null,null,null,null,null,null,null,null,null,null,null,null,null,null,null,null,null,null,null,null,null,null,null,null,null,null,null,null,null,null,null,null,null,null,null,null,null,null,null,null,null,null,null,null,null,null,null,null,null,null,null,null,null,null,null,null,null,null,null,null,null,null,null,null,null,null,null,null,null,null,null,null,null,null,null,null,null,null,null,null,null,null,null,null,null,null,null,null,null,null,null,null,null,null,null,null,null,null,null,null,null,null,null,null,null,null,null,null,null,null,null,null,null,null,null,null,null,null,null,null,null,null,null,null,null,null,null,null,null,null,null,null,null,null,null,null,null,null,null,null,null,null,null,null,null,null,null,null,null,null,null,null,null,null,null,null,null,null,null,null,null,null,null,null,null,null,null,null,null,null,null,null,null,null,null,null,null,null,null,null,null,null,null,null,null,null,null,null,null,null,null,null,null,null,null,null,null,null,null,null,null,null,null,null,null,null,null,null,null,null,null,null,null,null,null,null,null,null,null,null,null,null,null,null,null,null,null,null,null,null,null,null,null,null,null,null,null,null,null,null,null,null,null,null,null,null,null,null,null,null,null,null,null,null,null,null,null,null,null,null,null,null,null,null,null,null,null,null,null,null,null,null,null,null,null,null,null,null,null,null,null,null,null,null,null,null,null,null,null,null,null,null,null,null,null,null,null,null,null,null,null,null,null,null,null,null,null,null,null,null,null,null,null,null,null,null,null,null,null,null,null,null,null,null,null,null,null,null,null,null,null,null,null,null,null,null,null,null,null,null,null,null,null,null,null,null,null,null,null,null,null,null,null,null,null,null,null,null,null,null,null,null,null,null,null,null,null,null,null,null,null,null,null,null,null,null,null,null,null,null,null,null,null,null,null,null,null,null,null,null,null,null,null,null,null,null,null,null,null,null,null,null,null,null,null,null,null,null,null,null,null,null,null,null,null,null,null,null,null,null,null,null,null,null,null,null,null,null,null,null,null,null,null,null,null,null,null,null,null,null,null,null,null,null,null,null,null,null,null,null,null,null,null,null,null,null,null,null,null,null,null,null,null,null,null,null,null,null,null,null,null,null,null,null,null,null,null,null,null,null,null,null,null,null,null,null,null,null,null,null,null,null,null,null,null,null,null,null,null,null,null,null,null,null,null,null,null,null,null,null,null,null,null,null,null,null,null,null,null,null,null,null,null,null,null,null,null,null,null,null,null,null,null,null,null,null,null,null,null,null,null,null,null,null,null,null,null,null,null,null,null,null,null,null,null,null,null,null,null,null,null,null,null,null,null,null,null,null,null,null,null,null,null,null,null,null,null,null,null,null,null,null,null,null,null,null,null,null,null,null,null,null,null,null,null,null,null,null,null,null,null,null,null,null,null,null,null,null,null,null,null,null,null,null,null,null,null,null,null,null,null,null,null,null,null,null,null,null,null,null,null,null,null,null,null,null,null,null,null,null,null,null,null,null,null,null,null,null,null,null,null,null,null,null,null,null,null,null,null,null,null,null,null,null,null,null,null,null,null,null,null,null,null,null,null,null,null,null,null,null,null,null,null,null,null,null,null,null,null,null,null,null,null,null,null,null,null,null,null,null,null,null,null,null,null,null,null,null,null,null,null,null,null,null,null,null,null,null,null,null,null,null,null,null,null,null,null,null,null,null,null,null,null,null,null,null,null,null,null,null,null,null,null,null,null,null,null,null,null,null,null,null,null,null,null,null,null,null,null,null,null,null,null,null,null,null,null,null,null,null,null,null,null,null,null,null,null,null,null,null,null,null,null,null,null,null,null,null,null,null,null,null,null,null,null,null,null,null,null,null,null,null,null,null,null,null,null,null,null,null,null,null,null,null,null,null,null,null,null,null,null,null,null,null,null,null,null,null,null,null,null,null,null,null,null,null,null,null,null,null,null,null,null,null,null,null,null,null,null,null,null,null,null,null,null,null,null,null,null,null,null,null,null,null,null,null,null,null,null,null,null,null,null,null,null,null,null,null,null,null,null,null,null,null,null,null,null,null,null,null,null,null,null,null,null,null,null,null,null,null,null,null,null,null,null,null,null,null,null,null,null,null,null,null,null,null,null,null,null,null,null,null,null,null,null,null,null,null,null,null,null,null,null,null,null,null,null,null,null,null,null,null,null,null,null,null,null,null,null,null,null,null,null,null,null,null,null,null,null,null,null,null,null,null,null,null,null,null,null,null,null,null,null,null,null,null,null,null,null,null,null,null,null,null,null,null,null,null,null,null,null,null,null,null,null,null,null,null,null,null,null,null,null,null,null,null,null,null,null,null,null,null,null,null,null,null,null,null,null,null,null,null,null,null,null,null,null,null,null,null,null,null,null,null,null,null,null,null,null,null,null,null,null,null,null,null,null,null,null,null,null,null,null,null,null,null,null,null,null,null,null,null,null,null,null,null,null,null,null,null,null,null,null,null,null,null,null,null,null,null,null,null,null,null,null,null,null,null,null,null,null,null,null,null,null,null,null,null,null,null,null,null,null,null,null,null,null,null,null,null,null,null,null,null,null,null,null,null,null,null,null,null,null,null,null,null,null,null,null,null,null,null,null,null,null,null,null,null,null,null,null,null,null,null,null,null,null,null,null,null,null,null,null,null,null,null,null,null,null,null,null,null,null,null,null,null,null,null,null,null,null,null,null,null,null,null,null,null,null,null,null,null,null,null,null,null,null,null,null,null,null,null,null,null,null,null,null,null,null,null,null,null,null,null,null,null,null,null,null,null,null,null,null,null,null,null,null,null,null,null,null,null,null,null,null,null,null,null,null,null,null,null,null,null,null,null,null,null,null,null,null,null,null,null,null,null,null,null,null,null,null,null,null,null,null,null,null,null,null,null,null,null,null,null,null,null,null,null,null,null,null,null,null,null,null,null,null,null,null,null,null,null,null,null,null,null,null,null,null,null,null,null,null,null,null,null,null,null,null,null,null,null,null,null,null,null,null,null,null,null,null,null,null,null,null,null,null,null,null,null,null,null,null,null,null,null,null,null,null,null,null,null,null,null,null,null,null,null,null,null,null,null,null,null,null,null,null,null,null,null,null,null,null,null,null,null,null,null,null,null,null,null,null,null,null,null,null,null,null,null,null,null,null,null,null,null,null,null,null,null,null,null,null,null,null,null,null,null,null,null,null,null,null,null,null,null,null,null,null,null,null,null,null,null,null,null,null,null,null,null,null,null,null,null,null,null,null,null,null,null,null,null,null,null,null,null,null,null,null,null,null,null,null,null,null,null,null,null,null,null,null,null,null,null,null,null,null,null,null,null,null,null,null,null,null,null,null,null,null,null,null,null,null,null,null,null,null,null,null,null,null,null,null,null,null,null,null,null,null,null,null,null,null,null,null,null,null,null,null,null,null,null,null,null,null,null,null,null,null,null,null,null,null,null,null,null,null,null,null,null,null,null,null,null,null,null,null,null,null,null,null,null,null,null,null,null,null,null,null,null,null,null,null,null,null,null,null,null,null,null,null,null,null,null,null,null,null,null,null,null,null,null,null,null,null,null,null,null,null,null,null,null,null,null,null,null,null,null,null,null,null,null,null,null,null,null,null,null,null,null,null,null,null,null,null,null,null,null,null,null,null,null,null,null,null,null,null,null,null,null,null,null,null,null,null,null,null,null,null,null,null,null,null,null,null,null,null,null,null,null,null,null,null,null,null,null,null,null,null,null,null,null,null,null,null,null,null,null,null,null,null,null,null,null,null,null,null,null,null,null,null,null,null,null,null,null,null,null,null,null,null,null,null,null,null,null,null,null,null,null,null,null,null,null,null,null,null,null,null,null,null,null,null,null,null,null,null,null,null,null,null,null,null,null,null,null,null,null,null,null,null,null,null,null,null,null,null,null,null,null,null,null,null,null,null,null,null,null,null,null,null,null,null,null,null,null,null,null,null,null,null,null,null,null,null,null,null,null,null,null,null,null,null,null,null,null,null,null,null,null,null,null,null,null,null,null,null,null,null,null,null,null,null,null,null,null,null,null,null,null,null,null,null,null,null,null,null,null,null,null,null,null,null,null,null,null,null,null,null,null,null,null,null,null,null,null,null,null,null,null,null,null,null,null,null,null,null,null,null,null,null,null,null,null,null,null,null,null,null,null,null,null,null,null,null,null,null,null,null,null,null,null,null,null,null,null,null,null,null,null,null,null,null,null,null,null,null,null,null,null,null,null,null,null,null,null,null,null,null,null,null,null,null,null,null,null,null,null,null,null,null,null,null,null,null,null,null,null,null,null,null,null,null,null,null,null,null,null,null,null,null,null,null,null,null,null,null,null,null,null,null,null,null,null,null,null,null,null,null,null,null,null,null,null,null,null,null,null,null,null,null,null,null,null,null,null,null,null,null,null,null,null,null,null,null,null,null,null,null,null,null,null,null,null,null,null,null,null,null,null,null,null,null,null,null,null,null,null,null,null,null,null,null,null,null,null,null,null,null,null,null,null,null,null,null,null,null,null,null,null,null,null,null,null,null,null,null,null,null,null,null,null,null,null,null,null,null,null,null,null,null,null,null,null,null,null,null,null,null,null,null,null,null,null,null,null,null,null,null,null,null,null,null,null,null,null,null,null,null,null,null,null,null,null,null,null,null,null,null,null,null,null,null,null,null,null,null,null,null,null,null,null,null,null,null,null,null,null,null,null,null,null,null,null,null,null,null,null,null,null,null,null,null,null,null,null,null,null,null,null,null,null,null,null,null,null,null,null,null,null,null,null,null,null,null,null,null,null,null,null,null,null,null,null,null,null,null,null,null,null,null,null,null,null,null,null,null,null,null,null,null,null,null,null,null,null,null,null,null,null,null,null,null,null,null,null,null,null,null,null,null,null,null,null,null,null,null,null,null,null,null,null,null,null,null,null,null,null,null,null,null,null,null,null,null,null,null,null,null,null,null,null,null,null,null,null,null,null,null,null,null,null,null,null,null,null,null,null,null,null,null,null,null,null,null,null,null,null,null,null,null,null,null,null,null,null,null,null,null,null,null,null,null,null,null,null,null,null,null,null,null,null,null,null,null,null,null,null,null,null,null,null,null,null,null,null,null,null,null,null,null,null,null,null,null,null,null,null,null,null,null,null,null,null,null,null,null,null,null,null,null,null,null,null,null,null,null,null,null,null,null,null,null,null,null,null,null,null,null,null,null,null,null,null,null,null,null,null,null,null,null,null,null,null,null,null,null,null,null,null,null,null,null,null,null,null,null,null,null,null,null,null,null,null,null,null,null,null,null,null,null,null,null,null,null,null,null,null,null,null,null,null,null,null,null,null,null,null,null,null,null,null,null,null,null,null,null,null,null,null,null,null,null,null,null,null,null,null,null,null,null,null,null,null,null,null,null,null,null,null,null,null,null,null,null,null,null,null,null,null,null,null,null,null,null,null,null,null,null,null,null,null,null,null,null,null,null,null,null,null,null,null,null,null,null,null,null,null,null,null,null,null,null,null,null,null,null,null,null,null,null,null,null,null,null,null,null,null,null,null,null,null,null,null,null,null,null,null,null,null,null,null,null,null,null,null,null,null,null,null,null,null,null,null,null,null,null,null,null,null,null,null,null,null,null,null,null,null,null,null,null,null,null,null,null,null,null,null,null,null,null,null,null,null,null,null,null,null,null,null,null,null,null,null,null,null,null,null,null,null,null,null,null,null,null,null,null,null,null,null,null,null,null,null,null,null,null,null,null,null,null,null,null,null,null,null,null,null,null,null,null,null,null,null,null,null,null,null,null,null,null,null,null,null,null,null,null,null,null,null,null,null,null,null,null,null,null,null,null,null,null,null,null,null,null,null,null,null,null,null,null,null,null,null,null,null,null,null,null,null,null,null,null,null,null,null,null,null,null,null,null,null,null,null,null,null,null,null,null,null,null,null,null,null,null,null,null,null,null,null,null,null,null,null,null,null,null,null,null,null,null,null,null,null,null,null,null,null,null,null,null,null,null,null,null,null,null,null,null,null,null,null,null,null,null,null,null,null,null,null,null,null,null,null,null,null,null,null,null,null,null,null,null,null,null,null,null,null,null,null,null,null,null,null,null,null,null,null,null,null,null,null,null,null,null,null,null,null,null,null,null,null,null,null,null,null,null,null,null,null,null,null,null,null,null,null,null,null,null,null,null,null,null,null,null,null,null,null,null,null,null,null,null,null,null,null,null,null,null,null,null,null,null,null,null,null,null,null,null,null,null,null,null,null,null,null,null,null,null,null,null,null,null,null,null,null,null,null,null,null,null,null,null,null,null,null,null,null,null,null,null,null,null,null,null,null,null,null,null,null,null,null,null,null,null,null,null,null,null,null,null,null,null,null,null,null,null,null,null,null,null,null,null,null,null,null,null,null,null,null,null,null,null,null,null,null,null,null,null,null,null,null,null,null,null,null,null,null,null,null,null,null,null,null,null,null,null,null,null,null,null,null,null,null,null,null,null,null,null,null,null,null,null,null,null,null,null,null,null,null,null,null,null,null,null,null,null,null,null,null,null,null,null,null,null,null,null,null,null,null,null,null,null,null,null,null,null,null,null,null,null,null,null,null,null,null,null,null,null,null,null,null,null,null,null,null,null,null,null,null,null,null,null,null,null,null,null,null,null,null,null,null,null,null,null,null,null,null,null,null,null,null,null,null,null,null,null,null,null,null,null,null,null,null,null,null,null,null,null,null,null,null,null,null,null,null,null,null,null,null,null,null,null,null,null,null,null,null,null,null,null,null,null,null,null,null,null,null,null,null,null,null,null,null,null,null,null,null,null,null,null,null,null,null,null,null,null,null,null,null,null,null,null,null,null,null,null,null,null,null,null,null,null,null,null,null,null,null,null,null,null,null,null,null,null,null,null,null,null,null,null,null,null,null,null,null,null,null,null,null,null,null,null,null,null,null,null,null,null,null,null,null,null,null,null,null,null,null,null,null,null,null,null,null,null,null,null,null,null,null,null,null,null,null,null,null,null,null,null,null,null,null,null,null,null,null,null,null,null,null,null,null,null,null,null,null,null,null,null,null,null,null,null,null,null,null,null,null,null,null,null,null,null,null,null,null,null,null,null,null,null,null,null,null,null,null,null,null,null,null,null,null,null,null,null,null,null,null,null,null,null,null,null,null,null,null,null,null,null,null,null,null,null,null,null,null,null,null,null,null,null,null,null,null,null,null,null,null,null,null,null,null,null,null,null,null,null,null,null,null,null,null,null,null,null,null,null,null,null,null,null,null,null,null,null,null,null,null,null,null,null,null,null,null,null,null,null,null,null,null,null,null,null,null,null,null,null,null,null,null,null,null,null,null,null,null,null,null,null,null,null,null,null,null,null,null,null,null,null,null,null,null,null,null,null,null,null,null,null,null,null,null,null,null,null,null,null,null,null,null,null,null,null,null,null,null,null,null,null,null,null,null,null,null,null,null,null,null,null,null,null,null,null,null,null,null,null,null,null,null,null,null,null,null,null,null,null,null,null,null,null,null,null,null,null,null,null,null,null,null,null,null,null,null,null,null,null,null,null,null,null,null,null,null,null,null,null,null,null,null,null,null,null,null,null,null,null,null,null,null,null,null,null,null,null,null,null,null,null,null,null,null,null,null,null,null,null,null,null,null,null,null,null,null,null,null,null,null,null,null,null,null,null,null,null,null,null,null,null,null,null,null,null,null,null,null,null,null,null,null,null,null,null,null,null,null,null,null,null,null,null,null,null,null,null,null,null,null,null,null,null,null,null,null,null,null,null,null,null,null,null,null,null,null,null,null,null,null,null,null,null,null,null,null,null,null,null,null,null,null,null,null,null,null,null,null,null,null,null,null,null,null,null,null,null,null,null,null,null,null,null,null,null,null,null,null,null,null,null,null,null,null,null,null,null,null,null,null,null,null,null,null,null,null,null,null,null,null,null,null,null,null,null,null,null,null,null,null,null,null,null,null,null,null,null,null,null,null,null,null,null,null,null,null,null,null,null,null,null,null,null,null,null,null,null,null,null,null,null,null,null,null,null,null,null,null,null,null,null,null,null,null,null,null,null,null,null,null,null,null,null,null,null,null,null,null,null,null,null,null,null,null,null,null,null,null,null,null,null,null,null,null,null,null,null,null,null,null,null,null,null,null,null,null,null,null,null,null,null,null,null,null,null,null,null,null,null,null,null,null,null,null,null,null,null,null,null,null,null,null,null,null,null,null,null,null,null,null,null,null,null,null,null,null,null,null,null,null,null,null,null,null,null,null,null,null,null,null,null,null,null,null,null,null,null,null,null,null,null,null,null,null,null,null,null,null,null,null,null,null,null,null,null,null,null,null,null,null,null,null,null,null,null,null,null,null,null,null,null,null,null,null,null,null,null,null,null,null,null,null,null,null,null,null,null,null,null,null,null,null,null,null,null,null,null,null,null,null,null,null,null,null,null,null,null,null,null,null,null,null,null,null,null,null,null,null,null,null,null,null,null,null,null,null,null,null,null,null,null,null,null,null,null,null,null,null,null,null,null,null,null,null,null,null,null,null,null,null,null,null,null,null,null,null,null,null,null,null,null,null,null,null,null,null,null,null,null,null,null,null,null,null,null,null,null,null,null,null,null,null,null,null,null,null,null,null,null,null,null,null,null,null,null,null,null,null,null,null,null,null,null,null,null,null,null,null,null,null,null,null,null,null,null,null,null,null,null,null,null,null,null,null,null,null,null,null,null,null,null,null,null,null,null,null,null,null,null,null,null,null,null,null,null,null,null,null,null,null,null,null,null,null,null,null,null,null,null,null,null,null,null,null,null,null,null,null,null,null,null,null,null,null,null,null,null,null,null,null,null,null,null,null,null,null,null,null,null,null,null,null,null,null,null,null,null,null,null,null,null,null,null,null,null,null,null,null,null,null,null,null,null,null,null,null,null,null,null,null,null,null,null,null,null,null,null,null,null,null,null,null,null,null,null,null,null,null,null,null,null,null,null,null,null,null,null,null,null,null,null,null,null,null,null,null,null,null,null,null,null,null,null,null,null,null,null,null,null,null,null,null,null,null,null,null,null,null,null,null,null,null,null,null,null,null,null,null,null,null,null,null,null,null,null,null,null,null,null,null,null,null,null,null,null,null,null,null,null,null,null,null,null,null,null,null,null,null,null,null,null,null,null,null,null,null,null,null,null,null,null,null,null,null,null,null,null,null,null,null,null,null,null,null,null,null,null,null,null,null,null,null,null,null,null,null,null,null,null,null,null,null,null,null,null,null,null,null,null,null,null,null,null,null,null,null,null,null,null,null,null,null,null,null,null,null,null,null,null,null,null,null,null,null,null,null,null,null,null,null,null,null,null,null,null,null,null,null,null,null,null,null,null,null,null,null,null,null,null,null,null,null,null,null,null,null,null,null,null,null,null,null,null,null,null,null,null,null,null,null,null,null,null,null,null,null,null,null,null,null,null,null,null,null,null,null,null,null,null,null,null,null,null,null,null,null,null,null,null,null,null,null,null,null,null,null,null,null,null,null,null,null,null,null,null,null,null,null,null,null,null,null,null,null,null,null,null,null,null,null,null,null,null,null,null,null,null,null,null,null,null,null,null,null,null,null,null,null,null,null,null,null,null,null,null,null,null,null,null,null,null,null,null,null,null,null,null,null,null,null,null,null,null,null,null,null,null,null,null,null,null,null,null,null,null,null,null,null,null,null,null,null,null,null,null,null,null,null,null,null,null,null,null,null,null,null,null,null,null,null,null,null,null,null,null,null,null,null,null,null,null,null,null,null,null,null,null,null,null,null,null,null,null,null,null,null,null,null,null,null,null,null,null,null,null,null,null,null,null,null,null,null,null,null,null,null,null,null,null,null,null,null,null,null,null,null,null,null,null,null,null,null,null,null,null,null,null,null,null,null,null,null,null,null,null,null,null,null,null,null,null,null,null,null,null,null,null,null,null,null,null,null,null,null,null,null,null,null,null,null,null,null,null,null,null,null,null,null,null,null,null,null,null,null,null,null,null,null,null,null,null,null,null,null,null,null,null,null,null,null,null,null,null,null,null,null,null,null,null,null,null,null,null,null,null,null,null,null,null,null,null,null,null,null,null,null,null,null,null,null,null,null,null,null,null,null,null,null,null,null,null,null,null,null,null,null,null,null,null,null,null,null,null,null,null,null,null,null,null,null,null,null,null,null,null,null,null,null,null,null,null,null,null,null,null,null,null,null,null,null,null,null,null,null,null,null,null,null,null,null,null,null,null,null,null,null,null,null,null,null,null,null,null,null,null,null,null,null,null,null,null,null,null,null,null,null,null,null,null,null,null,null,null,null,null,null,null,null,null,null,null,null,null,null,null,null,null,null,null,null,null,null,null,null,null,null,null,null,null,null,null,null,null,null,null,null,null,null,null,null,null,null,null,null,null,null,null,null,null,null,null,null,null,null,null,null,null,null,null,null,null,null,null,null,null,null,null,null,null,null,null,null,null,null,null,null,null,null,null,null,null,null,null,null,null,null,null,null,null,null,null,null,null,null,null,null,null,null,null,null,null,null,null,null,null,null,null,null,null,null,null,null,null,null,null,null,null,null,null,null,null,null,null,null,null,null,null,null,null,null,null,null,null,null,null,null,null,null,null,null,null,null,null,null,null,null,null,null,null,null,null,null,null,null,null,null,null,null,null,null,null,null,null,null,null,null,null,null,null,null,null,null,null,null,null,null,null,null,null,null,null,null,null,null,null,null,null,null,null,null,null,null,null,null,null,null,null,null,null,null,null,null,null,null,null,null,null,null,null,null,null,null,null,null,null,null,null,null,null,null,null,null,null,null,null,null,null,null,null,null,null,null,null,null,null,null,null,null,null,null,null,null,null,null,null,null,null,null,null,null,null,null,null,null,null,null,null,null,null,null,null,null,null,null,null,null,null,null,null,null,null,null,null,null,null,null,null,null,null,null,null,null,null,null,null,null,null,null,null,null,null,null,null,null,null,null,null,null,null,null,null,null,null,null,null,null,null,null,null,null,null,null,null,null,null,null,null,null,null,null,null,null,null,null,null,null,null,null,null,null,null,null,null,null,null,null,null,null,null,null,null,null,null,null,null,null,null,null,null,null,null,null,null,null,null,null,null,null,null,null,null,null,null,null,null,null,null,null,null,null,null,null,null,null,null,null,null,null,null,null,null,null,null,null,null,null,null,null,null,null,null,null,null,null,null,null,null,null,null,null,null,null,null,null,null,null,null,null,null,null,null,null,null,null,null,null,null,null,null,null,null,null,null,null,null,null,null,null,null,null,null,null,null,null,null,null,null,null,null,null,null,null,null,null,null,null,null,null,null,null,null,null,null,null,null,null,null,null,null,null,null,null,null,null,null,null,null,null,null,null,null,null,null,null,null,null,null,null,null,null,null,null,null,null,null,null,null,null,null,null,null,null,null,null,null,null,null,null,null,null,null,null,null,null,null,null,null,null,null,null,null,null,null,null,null,null,null,null,null,null,null,null,null,null,null,null,null,null,null,null,null,null,null,null,null,null,null,null,null,null,null,null,null,null,null,null,null,null,null,null,null,null,null,null,null,null,null,null,null,null,null,null,null,null,null,null,null,null,null,null,null,null,null,null,null,null,null,null,null,null,null,null,null,null,null,null,null,null,null,null,null,null,null,null,null,null,null,null,null,null,null,null,null,null,null,null,null,null,null,null,null,null,null,null,null,null,null,null,null,null,null,null,null,null,null,null,null,null,null,null,null,null,null,null,null,null,null,null,null,null,null,null,null,null,null,null,null,null,null,null,null,null,null,null,null,null,null,null,null,null,null,null,null,null,null,null,null,null,null,null,null,null,null,null,null,null,null,null,null,null,null,null,null,null,null,null,null,null,null,null,null,null,null,null,null,null,null,null,null,null,null,null,null,null,null,null,null,null,null,null,null,null,null,null,null,null,null,null,null,null,null,null,null,null,null,null,null,null,null,null,null,null,null,null,null,null,null,null,null,null,null,null,null,null,null,null,null,null,null,null,null,null,null,null,null,null,null,null,null,null,null,null,null,null,null,null,null,null,null,null,null,null,null,null,null,null,null,null,null,null,null,null,null,null,null,null,null,null,null,null,null,null,null,null,null,null,null,null,null,null,null,null,null,null,null,null,null,null,null,null,null,null,null,null,null,null,null,null,null,null,null,null,null,null,null,null,null,null,null,null,null,null,null,null,null,null,null,null,null,null,null,null,null,null,null,null,null,null,null,null,null,null,null,null,null,null,null,null,null,null,null,null,null,null,null,null,null,null,null,null,null,null,null,null,null,null,null,null,null,null,null,null,null,null,null,null,null,null,null,null,null,null,null,null,null,null,null,null,null,null,null,null,null,null,null,null,null,null,null,null,null,null,null,null,null,null,null,null,null,null,null,null,null,null,null,null,null,null,null,null,null,null,null,null,null,null,null,null,null,null,null,null,null,null,null,null,null,null,null,null,null,null,null,null,null,null,null,null,null,null,null,null,null,null,null,null,null,null,null,null,null,null,null,null,null,null,null,null,null,null,null,null,null,null,null,null,null,null,null,null,null,null,null,null,null,null,null,null,null,null,null,null,null,null,null,null,null,null,null,null,null,null,null,null,null,null,null,null,null,null,null,null,null,null,null,null,null,null,null,null,null,null,null,null,null,null,null,null,null,null,null,null,null,null,null,null,null,null,null,null,null,null,null,null,null,null,null,null,null,null,null,null,null,null,null,null,null,null,null,null,null,null,null,null,null,null,null,null,null,null,null,null,null,null,null,null,null,null,null,null,null,null,null,null,null,null,null,null,null,null,null,null,null,null,null,null,null,null,null,null,null,null,null,null,null,null,null,null,null,null,null,null,null,null,null,null,null,null,null,null,null,null,null,null,null,null,null,null,null,null,null,null,null,null,null,null,null,null,null,null,null,null,null,null,null,null,null,null,null,null,null,null,null,null,null,null,null,null,null,null,null,null,null,null,null,null,null,null,null,null,null,null,null,null,null,null,null,null,null,null,null,null,null,null,null,null,null,null,null,null,null,null,null,null,null,null,null,null,null,null,null,null,null,null,null,null,null,null,null,null,null,null,null,null,null,null,null,null,null,null,null,null,null,null,null,null,null,null,null,null,null,null,null,null,null,null,null,null,null,null,null,null,null,null,null,null,null,null,null,null,null,null,null,null,null,null,null,null,null,null,null,null,null,null,null,null,null,null,null,null,null,null,null,null,null,null,null,null,null,null,null,null,null,null,null,null,null,null,null,null,null,null,null,null,null,null,null,null,null,null,null,null,null,null,null,null,null,null,null,null,null,null,null,null,null,null,null,null,null,null,null,null,null,null,null,null,null,null,null,null,null,null,null,null,null,null,null,null,null,null,null,null,null,null,null,null,null,null,null,null,null,null,null,null,null,null,null,null,null,null,null,null,null,null,null,null,null,null,null,null,null,null,null,null,null,null,null,null,null,null,null,null,null,null,null,null,null,null,null,null,null,null,null,null,null,null,null,null,null,null,null,null,null,null,null,null,null,null,null,null,null,null,null,null,null,null,null,null,null,null,null,null,null,null,null,null,null,null,null,null,null,null,null,null,null,null,null,null,null,null,null,null,null,null,null,null,null,null,null,null,null,null,null,null,null,null,null,null,null,null,null,null,null,null,null,null,null,null,null,null,null,null,null,null,null,null,null,null,null,null,null,null,null,null,null,null,null,null,null,null,null,null,null,null,null,null,null,null,null,null,null,null,null,null,null,null,null,null,null,null,null,null,null,null,null,null,null,null,null,null,null,null,null,null,null,null,null,null,null,null,null,null,null,null,null,null,null,null,null,null,null,null,null,null,null,null,null,null,null,null,null,null,null,null,null,null,null,null,null,null,null,null,null,null,null,null,null,null,null,null,null,null,null,null,null,null,null,null,null,null,null,null,null,null,null,null,null,null,null,null,null,null,null,null,null,null,null,null,null,null,null,null,null,null,null,null,null,null,null,null,null,null,null,null,null,null,null,null,null,null,null,null,null,null,null,null,null,null,null,null,null,null,null,null,null,null,null,null,null,null,null,null,null,null,null,null,null,null,null,null,null,null,null,null,null,null,null,null,null,null,null,null,null,null,null,null,null,null,null,null,null,null,null,null,null,null,null,null,null,null,null,null,null,null,null,null,null,null,null,null,null,null,null,null,null,null,null,null,null,null,null,null,null,null,null,null,null,null,null,null,null,null,null,null,null,null,null,null,null,null,null,null,null,null,null,null,null,null,null,null,null,null,null,null,null,null,null,null,null,null,null,null,null,null,null,null,null,null,null,null,null,null,null,null,null,null,null,null,null,null,null,null,null,null,null,null,null,null,null,null,null,null,null,null,null,null,null,null,null,null,null,null,null,null,null,null,null,null,null,null,null,null,null,null,null,null,null,null,null,null,null,null,null,null,null,null,null,null,null,null,null,null,null,null,null,null,null,null,null,null,null,null,null,null,null,null,null,null,null,null,null,null,null,null,null,null,null,null,null,null,null,null,null,null,null,null,null,null,null,null,null,null,null,null,null,null,null,null,null,null,null,null,null,null,null,null,null,null,null,null,null,null,null,null,null,null,null,null,null,null,null,null,null,null,null,null,null,null,null,null,null,null,null,null,null,null,null,null,null,null,null,null,null,null,null,null,null,null,null,null,null,null,null,null,null,null,null,null,null,null,null,null,null,null,null,null,null,null,null,null,null,null,null,null,null,null,null,null,null,null,null,null,null,null,null,null,null,null,null,null,null,null,null,null,null,null,null,null,null,null,null,null,null,null,null,null,null,null,null,null,null,null,null,null,null,null,null,null,null,null,null,null,null,null,null,null,null,null,null,null,null,null,null,null,null,null,null,null,null,null,null,null,null,null,null,null,null,null,null,null,null,null,null,null,null,null,null,null,null,null,null,null,null,null,null,null,null,null,null,null,null,null,null,null,null,null,null,null,null,null,null,null,null,null,null,null,null,null,null,null,null,null,null,null,null,null,null,null,null,null,null,null,null,null,null,null,null,null,null,null,null,null,null,null,null,null,null,null,null,null,null,null,null,null,null,null,null,null,null,null,null,null,null,null,null,null,null,null,null,null,null,null,null,null,null,null,null,null,null,null,null,null,null,null,null,null,null,null,null,null,null,null,null,null,null,null,null,null,null,null,null,null,null,null,null,null,null,null,null,null,null,null,null,null,null,null,null,null,null,null,null,null,null,null,null,null,null,null,null,null,null,null,null,null,null,null,null,null,null,null,null,null,null,null,null,null,null,null,null,null,null,null,null,null,null,null,null,null,null,null,null,null,null,null,null,null,null,null,null,null,null,null,null,null,null,null,null,null,null,null,null,null,null,null,null,null,null,null,null,null,null,null,null,null,null,null,null,null,null,null,null,null,null,null,null,null,null,null,null,null,null,null,null,null,null,null,null,null,null,null,null,null,null,null,null,null,null,null,null,null,null,null,null,null,null,null,null,null,null,null,null,null,null,null,null,null,null,null,null,null,null,null,null,null,null,null,null,null,null,null,null,null,null,null,null,null,null,null,null,null,null,null,null,null,null,null,null,null,null,null,null,null,null,null,null,null,null,null,null,null,null,null,null,null,null,null,null,null,null,null,null,null,null,null,null,null,null,null,null,null,null,null,null,null,null,null,null,null,null,null,null,null,null,null,null,null,null,null,null,null,null,null,null,null,null,null,null,null,null,null,null,null,null,null,null,null,null,null,null,null,null,null,null,null,null,null,null,null,null,null,null,null,null,null,null,null,null,null,null,null,null,null,null,null,null,null,null,null,null,null,null,null,null,null,null,null,null,null,null,null,null,null,null,null,null,null,null,null,null,null,null,null,null,null,null,null,null,null,null,null,null,null,null,null,null,null,null,null,null,null,null,null,null,null,null,null,null,null,null,null,null,null,null,null,null,null,null,null,null,null,null,null,null,null,null,null,null,null,null,null,null,null,null,null,null,null,null,null,null,null,null,null,null,null,null,null,null,null,null,null,null,null,null,null,null,null,null,null,null,null,null,null,null,null,null,null,null,null,null,null,null,null,null,null,null,null,null,null,null,null,null,null,null,null,null,null,null,null,null,null,null,null,null,null,null,null,null,null,null,null,null,null,null,null,null,null,null,null,null,null,null,null,null,null,null,null,null,null,null,null,null,null,null,null,null,null,null,null,null,null,null,null,null,null,null,null,null,null,null,null,null,null,null,null,null,null,null,null,null,null,null,null,null,null,null,null,null,null,null,null,null,null,null,null,null,null,null,null,null,null,null,null,null,null,null,null,null,null,null,null,null,null,null,null,null,null,null,null,null,null,null,null,null,null,null,null,null,null,null,null,null,null,null,null,null,null,null,null,null,null,null,null,null,null,null,null,null,null,null,null,null,null,null,null,null,null,null,null,null,null,null,null,null,null,null,null,null,null,null,null,null,null,null,null,null,null,null,null,null,null,null,null,null,null,null,null,null,null,null,null,null,null,null,null,null,null,null,null,null,null,null,null,null,null,null,null,null,null,null,null,null,null,null,null,null,null,null,null,null,null,null,null,null,null,null,null,null,null,null,null,null,null,null,null,null,null,null,null,null,null,null,null,null,null,null,null,null,null,null,null,null,null,null,null,null,null,null,null,null,null,null,null,null,null,null,null,null,null,null,null,null,null,null,null,null,null,null,null,null,null,null,null,null,null,null,null,null,null,null,null,null,null,null,null,null,null,null,null,null,null,null,null,null,null,null,null,null,null,null,null,null,null,null,null,null,null,null,null,null,null,null,null,null,null,null,null,null,null,null,null,null,null,null,null,null,null,null,null,null,null,null,null,null,null,null,null,null,null,null,null,null,null,null,null,null,null,null,null,null,null,null,null,null,null,null,null,null,null,null,null,null,null,null,null,null,null,null,null,null,null,null,null,null,null,null,null,null,null,null,null,null,null,null,null,null,null,null,null,null,null,null,null,null,null,null,null,null,null,null,null,null,null,null,null,null,null,null,null,null,null,null,null,null,null,null,null,null,null,null,null,null,null,null,null,null,null,null,null,null,null,null,null,null,null,null,null,null,null,null,null,null,null,null,null,null,null,null,null,null,null,null,null,null,null,null,null,null,null,null,null,null,null,null,null,null,null,null,null,null,null,null,null,null,null,null,null,null,null,null,null,null,null,null,null,null,null,null,null,null,null,null,null,null,null,null,null,null,null,null,null,null,null,null,null,null,null,null,null,null,null,null,null,null,null,null,null,null,null,null,null,null,null,null,null,null,null,null,null,null,null,null,null,null,null,null,null,null,null,null,null,null,null,null,null,null,null,null,null,null,null,null,null,null,null,null,null,null,null,null,null,null,null,null,null,null,null,null,null,null,null,null,null,null,null,null,null,null,null,null,null,null,null,null,null,null,null,null,null,null,null,null,null,null,null,null,null,null,null,null,null,null,null,null,null,null,null,null,null,null,null,null,null,null,null,null,null,null,null,null,null,null,null,null,null,null,null,null,null,null,null,null,null,null,null,null,null,null,null,null,null,null,null,null,null,null,null,null,null,null,null,null,null,null,null,null,null,null,null,null,null,null,null,null,null,null,null,null,null,null,null,null,null,null,null,null,null,null,null,null,null,null,null,null,null,null,null,null,null,null,null,null,null,null,null,null,null,null,null,null,null,null,null,null,null,null,null,null,null,null,null,null,null,null,null,null,null,null,null,null,null,null,null,null,null,null,null,null,null,null,null,null,null,null,null,null,null,null,null,null,null,null,null,null,null,null,null,null,null,null,null,null,null,null,null,null,null,null,null,null,null,null,null,null,null,null,null,null,null,null,null,null,null,null,null,null,null,null,null,null,null,null,null,null,null,null,null,null,null,null,null,null,null,null,null,null,null,null,null,null,null,null,null,null,null,null,null,null,null,null,null,null,null,null,null,null,null,null,null,null,null,null,null,null,null,null,null,null,null,null,null,null,null,null,null,null,null,null,null,null,null,null,null,null,null,null,null,null,null,null,null,null,null,null,null,null,null,null,null,null,null,null,null,null,null,null,null,null,null,null,null,null,null,null,null,null,null,null,null,null,null,null,null,null,null,null,null,null,null,null,null,null,null,null,null,null,null,null,null,null,null,null,null,null,null,null,null,null,null,null,null,null,null,null,null,null,null,null,null,null,null,null,null,null,null,null,null,null,null,null,null,null,null,null,null,null,null,null,null,null,null,null,null,null,null,null,null,null,null,null,null,null,null,null,null,null,null,null,null,null,null,null,null,null,null,null,null,null,null,null,null,null,null,null,null,null,null,null,null,null,null,null,null,null,null,null,null,null,null,null,null,null,null,null,null,null,null,null,null,null,null,null,null,null,null,null,null,null,null,null,null,null,null,null,null,null,null,null,null,null,null,null,null,null,null,null,null,null,null,null,null,null,null,null,null,null,null,null,null,null,null,null,null,null,null,null,null,null,null,null,null,null,null,null,null,null,null,null,null,null,null,null,null,null,null,null,null,null,null,null,null,null,null,null,null,null,null,null,null,null,null,null,null,null,null,null,null,null,null,null,null,null,null,null,null,null,null,null,null,null,null,null,null,null,null,null,null,null,null,null,null,null,null,null,null,null,null,null,null,null,null,null,null,null,null,null,null,null,null,null,null,null,null,null,null,null,null,null,null,null,null,null,null,null,null,null,null,null,null,null,null,null,null,null,null,null,null,null,null,null,null,null,null,null,null,null,null,null,null,null,null,null,null,null,null,null,null,null,null,null,null,null,null,null,null,null,null,null,null,null,null,null,null,null,null,null,null,null,null,null,null,null,null,null,null,null,null,null,null,null,null,null,null,null,null,null,null,null,null,null,null,null,null,null,null,null,null,null,null,null,null,null,null,null,null,null,null,null,null,null,null,null,null,null,null,null,null,null,null,null,null,null,null,null,null,null,null,null,null,null,null,null,null,null,null,null,null,null,null,null,null,null,null,null,null,null,null,null,null,null,null,null,null,null,null,null,null,null,null,null,null,null,null,null,null,null,null,null,null,null,null,null,null,null,null,null,null,null,null,null,null,null,null,null,null,null,null,null,null,null,null,null,null,null,null,null,null,null,null,null,null,null,null,null,null,null,null,null,null,null,null,null,null,null,null,null,null,null,null,null,null,null,null,null,null,null,null,null,null,null,null,null,null,null,null,null,null,null,null,null,null,null,null,null,null,null,null,null,null,null,null,null,null,null,null,null,null,null,null,null,null,null,null,null,null,null,null,null,null,null,null,null,null,null,null,null,null,null,null,null,null,null,null,null,null,null,null,null,null,null,null,null,null,null,null,null,null,null,null,null,null,null,null,null,null,null,null,null,null,null,null,null,null,null,null,null,null,null,null,null,null,null,null,null,null,null,null,null,null,null,null,null,null,null,null,null,null,null,null,null,null,null,null,null,null,null,null,null,null,null,null,null,null,null,null,null,null,null,null,null,null,null,null,null,null,null,null,null,null,null,null,null,null,null,null,null,null,null,null,null,null,null,null,null,null,null,null,null,null,null,null,null,null,null,null,null,null,null,null,null,null,null,null,null,null,null,null,null,null,null,null,null,null,null,null,null,null,null,null,null,null,null,null,null,null,null,null,null,null,null,null,null,null,null,null,null,null,null,null,null,null,null,null,null,null,null,null,null,null,null,null,null,null,null,null,null,null,null,null,null,null,null,null,null,null,null,null,null,null,null,null,null,null,null,null,null,null,null,null,null,null,null,null,null,null,null,null,null,null,null,null,null,null,null,null,null,null,null,null,null,null,null,null,null,null,null,null,null,null,null,null,null,null,null,null,null,null,null,null,null,null,null,null,null,null,null,null,null,null,null,null,null,null,null,null,null,null,null,null,null,null,null,null,null,null,null,null,null,null,null,null,null,null,null,null,null,null,null,null,null,null,null,null,null,null,null,null,null,null,null,null,null,null,null,null,null,null,null,null,null,null,null,null,null,null,null,null,null,null,null,null,null,null,null,null,null,null,null,null,null,null,null,null,null,null,null,null,null,null,null,null,null,null,null,null,null,null,null,null,null,null,null,null,null,null,null,null,null,null,null,null,null,null,null,null,null,null,null,null,null,null,null,null,null,null,null,null,null,null,null,null,null,null,null,null,null,null,null,null,null,null,null,null,null,null,null,null,null,null,null,null,null,null,null,null,null,null,null,null,null,null,null,null,null,null,null,null,null,null,null,null,null,null,null,null,null,null,null,null,null,null,null,null,null,null,null,null,null,null,null,null,null,null,null,null,null,null,null,null,null,null,null,null,null,null,null,null,null,null,null,null,null,null,null,null,null,null,null,null,null,null,null,null,null,null,null,null,null,null,null,null,null,null,null,null,null,null,null,null,null,null,null,null,null,null,null,null,null,null,null,null,null,null,null,null,null,null,null,null,null,null,null,null,null,null,null,null,null,null,null,null,null,null,null,null,null,null,null,null,null,null,null,null,null,null,null,null,null,null,null,null,null,null,null,null,null,null,null,null,null,null,null,null,null,null,null,null,null,null,null,null,null,null,null,null,null,null,null,null,null,null,null,null,null,null,null,null,null,null,null,null,null,null,null,null,null,null,null,null,null,null,null,null,null,null,null,null,null,null,null,null,null,null,null,null,null,null,null,null,null,null,null,null,null,null,null,null,null,null,null,null,null,null,null,null,null,null,null,null,null,null,null,null,null,null,null,null,null,null,null,null,null,null,null,null,null,null,null,null,null,null,null,null,null,null,null,null,null,null,null,null,null,null,null,null,null,null,null,null,null,null,null,null,null,null,null,null,null,null,null,null,null,null,null,null,null,null,null,null,null,null,null,null,null,null,null,null,null,null,null,null,null,null,null,null,null,null,null,null,null,null,null,null,null,null,null,null,null,null,null,null,null,null,null,null,null,null,null,null,null,null,null,null,null,null,null,null,null,null,null,null,null,null,null,null,null,null,null,null,null,null,null,null,null,null,null,null,null,null,null,null,null,null,null,null,null,null,null,null,null,null,null,null,null,null,null,null,null,null,null,null,null,null,null,null,null,null,null,null,null,null,null,null,null,null,null,null,null,null,null,null,null,null,null,null,null,null,null,null,null,null,null,null,null,null,null,null,null,null,null,null,null,null,null,null,null,null,null,null,null,null,null,null,null,null,null,null,null,null,null,null,null,null,null,null,null,null,null,null,null,null,null,null,null,null,null,null,null,null,null,null,null,null,null,null,null,null,null,null,null,null,null,null,null,null,null,null,null,null,null,null,null,null,null,null,null,null,null,null,null,null,null,null,null,null,null,null,null,null,null,null,null,null,null,null,null,null,null,null,null,null,null,null,null,null,null,null,null,null,null,null,null,null,null,null,null,null,null,null,null,null,null,null,null,null,null,null,null,null,null,null,null,null,null,null,null,null,null,null,null,null,null,null,null,null,null,null,null,null,null,null,null,null,null,null,null,null,null,null,null,null,null,null,null,null,null,null,null,null,null,null,null,null,null,null,null,null,null,null,null,null,null,null,null,null,null,null,null,null,null,null,null,null,null,null,null,null,null,null,null,null,null,null,null,null,null,null,null,null,null,null,null,null,null,null,null,null,null,null,null,null,null,null,null,null,null,null,null,null,null,null,null,null,null,null,null,null,null,null,null,null,null,null,null,null,null,null,null,null,null,null,null,null,null,null,null,null,null,null,null,null,null,null,null,null,null,null,null,null,null,null,null,null,null,null,null,null,null,null,null,null,null,null,null,null,null,null,null,null,null,null,null,null,null,null,null,null,null,null,null,null,null,null,null,null,null,null,null,null,null,null,null,null,null,null,null,null,null,null,null,null,null,null,null,null,null,null,null,null,null,null,null,null,null,null,null,null,null,null,null,null,null,null,null,null,null,null,null,null,null,null,null,null,null,null,null,null,null,null,null,null,null,null,null,null,null,null,null,null,null,null,null,null,null,null,null,null,null,null,null,null,null,null,null,null,null,null,null,null,null,null,null,null,null,null,null,null,null,null,null,null,null,null,null,null,null,null,null,null,null,null,null,null,null,null,null,null,null,null,null,null,null,null,null,null,null,null,null,null,null,null,null,null,null,null,null,null,null,null,null,null,null,null,null,null,null,null,null,null,null,null,null,null,null,null,null,null,null,null,null,null,null,null,null,null,null,null,null,null,null,null,null,null,null,null,null,null,null,null,null,null,null,null,null,null,null,null,null,null,null,null,null,null,null,null,null,null,null,null,null,null,null,null,null,null,null,null,null,null,null,null,null,null,null,null,null,null,null,null,null,null,null,null,null,null,null,null,null,null,null,null,null,null,null,null,null,null,null,null,null,null,null,null,null,null,null,null,null,null,null,null,null,null,null,null,null,null,null,null,null,null,null,null,null,null,null,null,null,null,null,null,null,null,null,null,null,null,null,null,null,null,null,null,null,null,null,null,null,null,null,null,null,null,null,null,null,null,null,null,null,null,null,null,null,null,null,null,null,null,null,null,null,null,null,null,null,null,null,null,null,null,null,null,null,null,null,null,null,null,null,null,null,null,null,null,null,null,null,null,null,null,null,null,null,null,null,null,null,null,null,null,null,null,null,null,null,null,null,null,null,null,null,null,null,null,null,null,null,null,null,null,null,null,null,null,null,null,null,null,null,null,null,null,null,null,null,null,null,null,null,null,null,null,null,null,null,null,null,null,null,null,null,null,null,null,null,null,null,null,null,null,null,null,null,null,null,null,null,null,null,null,null,null,null,null,null,null,null,null,null,null,null,null,null,null,null,null,null,null,null,null,null,null,null,null,null,null,null,null,null,null,null,null,null,null,null,null,null,null,null,null,null,null,null,null,null,null,null,null,null,null,null,null,null,null,null,null,null,null,null,null,null,null,null,null,null,null,null,null,null,null,null,null,null,null,null,null,null,null,null,null,null,null,null,null,null,null,null,null,null,null,null,null,null,null,null,null,null,null,null,null,null,null,null,null,null,null,null,null,null,null,null,null,null,null,null,null,null,null,null,null,null,null,null,null,null,null,null,null,null,null,null,null,null,null,null,null,null,null,null,null,null,null,null,null,null,null,null,null,null,null,null,null,null,null,null,null,null,null,null,null,null,null,null,null,null,null,null,null,null,null,null,null,null,null,null,null,null,null,null,null,null,null,null,null,null,null,null,null,null,null,null,null,null,null,null,null,null,null,null,null,null,null,null,null,null,null,null,null,null,null,null,null,null,null,null,null,null,null,null,null,null,null,null,null,null,null,null,null,null,null,null,null,null,null,null,null,null,null,null,null,null,null,null,null,null,null,null,null,null,null,null,null,null,null,null,null,null,null,null,null,null,null,null,null,null,null,null,null,null,null,null,null,null,null,null,null,null,null,null,null,null,null,null,null,null,null,null,null,null,null,null,null,null,null,null,null,null,null,null,null,null,null,null,null,null,null,null,null,null,null,null,null,null,null,null,null,null,null,null,null,null,null,null,null,null,null,null,null,null,null,null,null,null,null,null,null,null,null,null,null,null,null,null,null,null,null,null,null,null,null,null,null,null,null,null,null,null,null,null,null,null,null,null,null,null,null,null,null,null,null,null,null,null,null,null,null,null,null,null,null,null,null,null,null,null,null,null,null,null,null,null,null,null,null,null,null,null,null,null,null,null,null,null,null,null,null,null,null,null,null,null,null,null,null,null,null,null,null,null,null,null,null,null,null,null,null,null,null,null,null,null,null,null,null,null,null,null,null,null,null,null,null,null,null,null,null,null,null,null,null,null,null,null,null,null,null,null,null,null,null,null,null,null,null,null,null,null,null,null,null,null,null,null,null,null,null,null,null,null,null,null,null,null,null,null,null,null,null,null,null,null,null,null,null,null,null,null,null,null,null,null,null,null,null,null,null,null,null,null,null,null,null,null,null,null,null,null,null,null,null,null,null,null,null,null,null,null,null,null,null,null,null,null,null,null,null,null,null,null,null,null,null,null,null,null,null,null,null,null,null,null,null,null,null,null,null,null,null,null,null,null,null,null,null,null,null,null,null,null,null,null,null,null,null,null,null,null,null,null,null,null,null,null,null,null,null,null,null,null,null,null,null,null,null,null,null,null,null,null,null,null,null,null,null,null,null,null,null,null,null,null,null,null,null,null,null,null,null,null,null,null,null,null,null,null,null,null,null,null,null,null,null,null,null,null,null,null,null,null,null,null,null,null,null,null,null,null,null,null,null,null,null,null,null,null,null,null,null,null,null,null,null,null,null,null,null,null,null,null,null,null,null,null,null,null,null,null,null,null,null,null,null,null,null,null,null,null,null,null,null,null,null,null,null,null,null,null,null,null,null,null,null,null,null,null,null,null,null,null,null,null,null,null,null,null,null,null,null,null,null,null,null,null,null,null,null,null,null,null,null,null,null,null,null,null,null,null,null,null,null,null,null,null,null,null,null,null,null,null,null,null,null,null,null,null,null,null,null,null,null,null,null,null,null,null,null,null,null,null,null,null,null,null,null,null,null,null,null,null,null,null,null,null,null,null,null,null,null,null,null,null,null,null,null,null,null,null,null,null,null,null,null,null,null,null,null,null,null,null,null,null,null,null,null,null,null,null,null,null,null,null,null,null,null,null,null,null,null,null,null,null,null,null,null,null,null,null,null,null,null,null,null,null,null,null,null,null,null,null,null,null,null,null,null,null,null,null,null,null,null,null,null,null,null,null,null,null,null,null,null,null,null,null,null,null,null,null,null,null,null,null,null,null,null,null,null,null,null,null,null,null,null,null,null,null,null,null,null,null,null,null,null,null,null,null,null,null,null,null,null,null,null,null,null,null,null,null,null,null,null,null,null,null,null,null,null,null,null,null,null,null,null,null,null,null,null,null,null,null,null,null,null,null,null,null,null,null,null,null,null,null,null,null,null,null,null,null,null,null,null,null,null,null,null,null,null,null,null,null,null,null,null,null,null,null,null,null,null,null,null,null,null,null,null,null,null,null,null,null,null,null,null,null,null,null,null,null,null,null,null,null,null,null,null,null,null,null,null,null,null,null,null,null,null,null,null,null,null,null,null,null,null,null,null,null,null,null,null,null,null,null,null,null,null,null,null,null,null,null,null,null,null,null,null,null,null,null,null,null,null,null,null,null,null,null,null,null,null,null,null,null,null,null,null,null,null,null,null,null,null,null,null,null,null,null,null,null,null,null,null,null,null,null,null,null,null,null,null,null,null,null,null,null,null,null,null,null,null,null,null,null,null,null,null,null,null,null,null,null,null,null,null,null,null,null,null,null,null,null,null,null,null,null,null,null,null,null,null,null,null,null,null,null,null,null,null,null,null,null,null,null,null,null,null,null,null,null,null,null,null,null,null,null,null,null,null,null,null,null,null,null,null,null,null,null,null,null,null,null,null,null,null,null,null,null,null,null,null,null,null,null,null,null,null,null,null,null,null,null,null,null,null,null,null,null,null,null,null,null,null,null,null,null,null,null,null,null,null,null,null,null,null,null,null,null,null,null,null,null,null,null,null,null,null,null,null,null,null,null,null,null,null,null,null,null,null,null,null,null,null,null,null,null,null,null,null,null,null,null,null,null,null,null,null,null,null,null,null,null,null,null,null,null,null,null,null,null,null,null,null,null,null,null,null,null,null,null,null,null,null,null,null,null,null,null,null,null,null,null,null,null,null,null,null,null,null,null,null,null,null,null,null,null,null,null,null,null,null,null,null,null,null,null,null,null,null,null,null,null,null,null,null,null,null,null,null,null,null,null,null,null,null,null,null,null,null,null,null,null,null,null,null,null,null,null,null,null,null,null,null,null,null,null,null,null,null,null,null,null,null,null,null,null,null,null,null,null,null,null,null,null,null,null,null,null,null,null,null,null,null,null,null,null,null,null,null,null,null,null,null,null,null,null,null,null,null,null,null,null,null,null,null,null,null,null,null,null,null,null,null,null,null,null,null,null,null,null,null,null,null,null,null,null,null,null,null,null,null,null,null,null,null,null,null,null,null,null,null,null,null,null,null,null,null,null,null,null,null,null,null,null,null,null,null,null,null,null,null,null,null,null,null,null,null,null,null,null,null,null,null,null,null,null,null,null,null,null,null,null,null,null,null,null,null,null,null,null,null,null,null,null,null,null,null,null,null,null,null,null,null,null,null,null,null,null,null,null,null,null,null,null,null,null,null,null,null,null,null,null,null,null,null,null,null,null,null,null,null,null,null,null,null,null,null,null,null,null,null,null,null,null,null,null,null,null,null,null,null,null,null,null,null,null,null,null,null,null,null,null,null,null,null,null,null,null,null,null,null,null,null,null,null,null,null,null,null,null,null,null,null,null,null,null,null,null,null,null,null,null,null,null,null,null,null,null,null,null,null,null,null,null,null,null,null,null,null,null,null,null,null,null,null,null,null,null,null,null,null,null,null,null,null,null,null,null,null,null,null,null,null,null,null,null,null,null,null,null,null,null,null,null,null,null,null,null,null,null,null,null,null,null,null,null,null,null,null,null,null,null,null,null,null,null,null,null,null,null,null,null,null,null,null,null,null,null,null,null,null,null,null,null,null,null,null,null,null,null,null,null,null,null,null,null,null,null,null,null,null,null,null,null,null,null,null,null,null,null,null,null,null,null,null,null,null,null,null,null,null,null,null,null,null,null,null,null,null,null,null,null,null,null,null,null,null,null,null,null,null,null,null,null,null,null,null,null,null,null,null,null,null,null,null,null,null,null,null,null,null,null,null,null,null,null,null,null,null,null,null,null,null,null,null,null,null,null,null,null,null,null,null,null,null,null,null,null,null,null,null,null,null,null,null,null,null,null,null,null,null,null,null,null,null,null,null,null,null,null,null,null,null,null,null,null,null,null,null,null,null,null,null,null,null,null,null,null,null,null,null,null,null,null,null,null,null,null,null,null,null,null,null,null,null,null,null,null,null,null,null,null,null,null,null,null,null,null,null,null,null,null,null,null,null,null,null,null,null,null,null,null,null,null,null,null,null,null,null,null,null,null,null,null,null,null,null,null,null,null,null,null,null,null,null,null,null,null,null,null,null,null,null,null,null,null,null,null,null,null,null,null,null,null,null,null,null,null,null,null,null,null,null,null,null,null,null,null,null,null,null,null,null,null,null,null,null,null,null,null,null,null,null,null,null,null,null,null,null,null,null,null,null,null,null,null,null,null,null,null,null,null,null,null,null,null,null,null,null,null,null,null,null,null,null,null,null,null,null,null,null,null,null,null,null,null,null,null,null,null,null,null,null,null,null,null,null,null,null,null,null,null,null,null,null,null,null,null,null,null,null,null,null,null,null,null,null,null,null,null,null,null,null,null,null,null,null,null,null,null,null,null,null,null,null,null,null,null,null,null,null,null,null,null,null,null,null,null,null,null,null,null,null,null,null,null,null,null,null,null,null,null,null,null,null,null,null,null,null,null,null,null,null,null,null,null,null,null,null,null,null,null,null,null,null,null,null,null,null,null,null,null,null,null,null,null,null,null,null,null,null,null,null,null,null,null,null,null,null,null,null,null,null,null,null,null,null,null,null,null,null,null,null,null,null,null,null,null,null,null,null,null,null,null,null,null,null,null,null,null,null,null,null,null,null,null,null,null,null,null,null,null,null,null,null,null,null,null,null,null,null,null,null,null,null,null,null,null,null,null,null,null,null,null,null,null,null,null,null,null,null,null,null,null,null,null,null,null,null,null,null,null,null,null,null,null,null,null,null,null,null,null,null,null,null,null,null,null,null,null,null,null,null,null,null,null,null,null,null,null,null,null,null,null,null,null,null,null,null,null,null,null,null,null,null,null,null,null,null,null,null,null,null,null,null,null,null,null,null,null,null,null,null,null,null,null,null,null,null,null,null,null,null,null,null,null,null,null,null,null,null,null,null,null,null,null,null,null,null,null,null,null,null,null,null,null,null,null,null,null,null,null,null,null,null,null,null,null,null,null,null,null,null,null,null,null,null,null,null,null,null,null,null,null,null,null,null,null,null,null,null,null,null,null,null,null,null,null,null,null,null,null,null,null,null,null,null,null,null,null,null,null,null,null,null,null,null,null,null,null,null,null,null,null,null,null,null,null,null,null,null,null,null,null,null,null,null,null,null,null,null,null,null,null,null,null,null,null,null,null,null,null,null,null,null,null,null,null,null,null,null,null,null,null,null,null,null,null,null,null,null,null,null,null,null,null,null,null,null,null,null,null,null,null,null,null,null,null,null,null,null,null,null,null,null,null,null,null,null,null,null,null,null,null,null,null,null,null,null,null,null,null,null,null,null,null,null,null,null,null,null,null,null,null,null,null,null,null,null,null,null,null,null,null,null,null,null,null,null,null,null,null,null,null,null,null,null,null,null,null,null,null,null,null,null,null,null,null,null,null,null,null,null,null,null,null,null,null,null,null,null,null,null,null,null,null,null,null,null,null,null,null,null,null,null,null,null,null,null,null,null,null,null,null,null,null,null,null,null,null,null,null,null,null,null,null,null,null,null,null,null,null,null,null,null,null,null,null,null,null,null,null,null,null,null,null,null,null,null,null,null,null,null,null,null,null,null,null,null,null,null,null,null,null,null,null,null,null,null,null,null,null,null,null,null,null,null,null,null,null,null,null,null,null,null,null,null,null,null,null,null,null,null,null,null,null,null,null,null,null,null,null,null,null,null,null,null,null,null,null,null,null,null,null,null,null,null,null,null,null,null,null,null,null,null,null,null,null,null,null,null,null,null,null,null,null,null,null,null,null,null,null,null,null,null,null,null,null,null,null,null,null,null,null,null,null,null,null,null,null,null,null,null,null,null,null,null,null,null,null,null,null,null,null,null,null,null,null,null,null,null,null,null,null,null,null,null,null,null,null,null,null,null,null,null,null,null,null,null,null,null,null,null,null,null,null,null,null,null,null,null,null,null,null,null,null,null,null,null,null,null,null,null,null,null,null,null,null,null,null,null,null,null,null,null,null,null,null,null,null,null,null,null,null,null,null,null,null,null,null,null,null,null,null,null,null,null,null,null,null,null,null,null,null,null,null,null,null,null,null,null,null,null,null,null,null,null,null,null,null,null,null,null,null,null,null,null,null,null,null,null,null,null,null,null,null,null,null,null,null,null,null,null,null,null,null,null,null,null,null,null,null,null,null,null,null,null,null,null,null,null,null,null,null,null,null,null,null,null,null,null,null,null,null,null,null,null,null,null,null,null,null,null,null,null,null,null,null,null,null,null,null,null,null,null,null,null,null,null,null,null,null,null,null,null,null,null,null,null,null,null,null,null,null,null,null,null,null,null,null,null,null,null,null,null,null,null,null,null,null,null,null,null,null,null,null,null,null,null,null,null,null,null,null,null,null,null,null,null,null,null,null,null,null,null,null,null,null,null,null,null,null,null,null,null,null,null,null,null,null,null,null,null,null,null,null,null,null,null,null,null,null,null,null,null,null,null,null,null,null,null,null,null,null,null,null,null,null,null,null,null,null,null,null,null,null,null,null,null,null,null,null,null,null,null,null,null,null,null,null,null,null,null,null,null,null,null,null,null,null,null,null,null,null,null,null,null,null,null,null,null,null,null,null,null,null,null,null,null,null,null,null,null,null,null,null,null,null,null,null,null,null,null,null,null,null,null,null,null,null,null,null,null,null,null,null,null,null,null,null,null,null,"DESTILERiA - COMERCIO (VENTA)"]
[null,null,null,null,null,null,null,null,null,null,null,null,null,null,null,null,null,null,"YESO, CAL\\OFICINA","YESO, CAL","OFICINA","02",null,null,null,null,null,null,null,null,null,null,null,null,null,null,null,null,null,null,null,null,null,null,null,null,null,null,null,null,null,null,null,null,null,null,null,null,null,null,null,null,null,null,null,null,null,null,null,null,null,null,null,null,null,null,null,null,null,null,null,null,null,null,null,null,null,null,null,null,null,null,null,null,null,null,null,null,null,null,null,null,null,null,null,null,null,null,null,null,null,null,null,null,null,null,null,null,null,null,null,null,null,null,null,null,null,null,null,null,null,null,null,null,null,null,null,null,null,null,null,null,null,null,null,null,null,null,null,null,null,null,null,null,null,null,null,null,null,null,null,null,null,null,null,null,null,null,null,null,null,null,null,null,null,null,null,null,null,null,null,null,null,null,null,null,null,null,null,null,null,null,null,null,null,null,null,null,null,null,null,null,null,null,null,null,null,null,null,null,null,null,null,null,null,null,null,null,null,null,null,null,null,null,null,null,null,null,null,null,null,null,null,null,null,null,null,null,null,null,null,null,null,null,null,null,null,null,null,null,null,null,null,null,null,null,null,null,null,null,null,null,null,null,null,null,null,null,null,null,null,null,null,null,null,null,null,null,null,null,null,null,null,null,null,null,null,null,null,null,null,null,null,null,null,null,null,null,null,null,null,null,null,null,null,null,null,null,null,null,null,null,null,null,null,null,null,null,null,null,null,null,null,null,null,null,null,null,null,null,null,null,null,null,null,null,null,null,null,null,null,null,null,null,null,null,null,null,null,null,null,null,null,null,null,null,null,null,null,null,null,null,null,null,null,null,null,null,null,null,null,null,null,null,null,null,null,null,null,null,null,null,null,null,null,null,null,null,null,null,null,null,null,null,null,null,null,null,null,null,null,null,null,null,null,null,null,null,null,null,null,null,null,null,null,null,null,null,null,null,null,null,null,null,null,null,null,null,null,null,null,null,null,null,null,null,null,null,null,null,null,null,null,null,null,null,null,null,null,null,null,null,null,null,null,null,null,null,null,null,null,null,null,null,null,null,null,null,null,null,null,null,null,null,null,null,null,null,null,null,null,null,null,null,null,null,null,null,null,null,null,null,null,null,null,null,null,null,null,null,null,null,null,null,null,null,null,null,null,null,null,null,null,null,null,null,null,null,null,null,null,null,null,null,null,null,null,null,null,null,null,null,null,null,null,null,null,null,null,null,null,null,null,null,null,null,null,null,null,null,null,null,null,null,null,null,null,null,null,null,null,null,null,null,null,null,null,null,null,null,null,null,null,null,null,null,null,null,null,null,null,null,null,null,null,null,null,null,null,null,null,null,null,null,null,null,null,null,null,null,null,null,null,null,null,null,null,null,null,null,null,null,null,null,null,null,null,null,null,null,null,null,null,null,null,null,null,null,null,null,null,null,null,null,null,null,null,null,null,null,null,null,null,null,null,null,null,null,null,null,null,null,null,null,null,null,null,null,null,null,null,null,null,null,null,null,null,null,null,null,null,null,null,null,null,null,null,null,null,null,null,null,null,null,null,null,null,null,null,null,null,null,null,null,null,null,null,null,null,null,null,null,null,null,null,null,null,null,null,null,null,null,null,null,null,null,null,null,null,null,null,null,null,null,null,null,null,null,null,null,null,null,null,null,null,null,null,null,null,null,null,null,null,null,null,null,null,null,null,null,null,null,null,null,null,null,null,null,null,null,null,null,null,null,null,null,null,null,null,null,null,null,null,null,null,null,null,null,null,null,null,null,null,null,null,null,null,null,null,null,null,null,null,null,null,null,null,null,null,null,null,null,null,null,null,null,null,null,null,null,null,null,null,null,null,null,null,null,null,null,null,null,null,null,null,null,null,null,null,null,null,null,null,null,null,null,null,null,null,null,null,null,null,null,null,null,null,null,null,null,null,null,null,null,null,null,null,null,null,null,null,null,null,null,null,null,null,null,null,null,null,null,null,null,null,null,null,null,null,null,null,null,null,null,null,null,null,null,null,null,null,null,null,null,null,null,null,null,null,null,null,null,null,null,null,null,null,null,null,null,null,null,null,null,null,null,null,null,null,null,null,null,null,null,null,null,null,null,null,null,null,null,null,null,null,null,null,null,null,null,null,null,null,null,null,null,null,null,null,null,null,null,null,null,null,null,null,null,null,null,null,null,null,null,null,null,null,null,null,null,null,null,null,null,null,null,null,null,null,null,null,null,null,null,null,null,null,null,null,null,null,null,null,null,null,null,null,null,null,null,null,null,null,null,null,null,null,null,null,null,null,null,null,null,null,null,null,null,null,null,null,null,null,null,null,null,null,null,null,null,null,null,null,null,null,null,null,null,null,null,null,null,null,null,null,null,null,null,null,null,null,null,null,null,null,null,null,null,null,null,null,null,null,null,null,null,null,null,null,null,null,null,null,null,null,null,null,null,null,null,null,null,null,null,null,null,null,null,null,null,null,null,null,null,null,null,null,null,null,null,null,null,null,null,null,null,null,null,null,null,null,null,null,null,null,null,null,null,null,null,null,null,null,null,null,null,null,null,null,null,null,null,null,null,null,null,null,null,null,null,null,null,null,null,null,null,null,null,null,null,null,null,null,null,null,null,null,null,null,null,null,null,null,null,null,null,null,null,null,null,null,null,null,null,null,null,null,null,null,null,null,null,null,null,null,null,null,null,null,null,null,null,null,null,null,null,null,null,null,null,null,null,null,null,null,null,null,null,null,null,null,null,null,null,null,null,null,null,null,null,null,null,null,null,null,null,null,null,null,null,null,null,null,null,null,null,null,null,null,null,null,null,null,null,null,null,null,null,null,null,null,null,null,null,null,null,null,null,null,null,null,null,null,null,null,null,null,null,null,null,null,null,null,null,null,null,null,null,null,null,null,null,null,null,null,null,null,null,null,null,null,null,null,null,null,null,null,null,null,null,null,null,null,null,null,null,null,null,null,null,null,null,null,null,null,null,null,null,null,null,null,null,null,null,null,null,null,null,null,null,null,null,null,null,null,null,null,null,null,null,null,null,null,null,null,null,null,null,null,null,null,null,null,null,null,null,null,null,null,null,null,null,null,null,null,null,null,null,null,null,null,null,null,null,null,null,null,null,null,null,null,null,null,null,null,null,null,null,null,null,null,null,null,null,null,null,null,null,null,null,null,null,null,null,null,null,null,null,null,null,null,null,null,null,null,null,null,null,null,null,null,null,null,null,null,null,null,null,null,null,null,null,null,null,null,null,null,null,null,null,null,null,null,null,null,null,null,null,null,null,null,null,null,null,null,null,null,null,null,null,null,null,null,null,null,null,null,null,null,null,null,null,null,null,null,null,null,null,null,null,null,null,null,null,null,null,null,null,null,null,null,null,null,null,null,null,null,null,null,null,null,null,null,null,null,null,null,null,null,null,null,null,null,null,null,null,null,null,null,null,null,null,null,null,null,null,null,null,null,null,null,null,null,null,null,null,null,null,null,null,null,null,null,null,null,null,null,null,null,null,null,null,null,null,null,null,null,null,null,null,null,null,null,null,null,null,null,null,null,null,null,null,null,null,null,null,null,null,null,null,null,null,null,null,null,null,null,null,null,null,null,null,null,null,null,null,null,null,null,null,null,null,null,null,null,null,null,null,null,null,null,null,null,null,null,null,null,null,null,null,null,null,null,null,null,null,null,null,null,null,null,null,null,null,null,null,null,null,null,null,null,null,null,null,null,null,null,null,null,null,null,null,null,null,null,null,null,null,null,null,null,null,null,null,null,null,null,null,null,null,null,null,null,null,null,null,null,null,null,null,null,null,null,null,null,null,null,null,null,null,null,null,null,null,null,null,null,null,null,null,null,null,null,null,null,null,null,null,null,null,null,null,null,null,null,null,null,null,null,null,null,null,null,null,null,null,null,null,null,null,null,null,null,null,null,null,null,null,null,null,null,null,null,null,null,null,null,null,null,null,null,null,null,null,null,null,null,null,null,null,null,null,null,null,null,null,null,null,null,null,null,null,null,null,null,null,null,null,null,null,null,null,null,null,null,null,null,null,null,null,null,null,null,null,null,null,null,null,null,null,null,null,null,null,null,null,null,null,null,null,null,null,null,null,null,null,null,null,null,null,null,null,null,null,null,null,null,null,null,null,null,null,null,null,null,null,null,null,null,null,null,null,null,null,null,null,null,null,null,null,null,null,null,null,null,null,null,null,null,null,null,null,null,null,null,null,null,null,null,null,null,null,null,null,null,null,null,null,null,null,null,null,null,null,null,null,null,null,null,null,null,null,null,null,null,null,null,null,null,null,null,null,null,null,null,null,null,null,null,null,null,null,null,null,null,null,null,null,null,null,null,null,null,null,null,null,null,null,null,null,null,null,null,null,null,null,null,null,null,null,null,null,null,null,null,null,null,null,null,null,null,null,null,null,null,null,null,null,null,null,null,null,null,null,null,null,null,null,null,null,null,null,null,null,null,null,null,null,null,null,null,null,null,null,null,null,null,null,null,null,null,null,null,null,null,null,null,null,null,null,null,null,null,null,null,null,null,null,null,null,null,null,null,null,null,null,null,null,null,null,null,null,null,null,null,null,null,null,null,null,null,null,null,null,null,null,null,null,null,null,null,null,null,null,null,null,null,null,null,null,null,null,null,null,null,null,null,null,null,null,null,null,null,null,null,null,null,null,null,null,null,null,null,null,null,null,null,null,null,null,null,null,null,null,null,null,null,null,null,null,null,null,null,null,null,null,null,null,null,null,null,null,null,null,null,null,null,null,null,null,null,null,null,null,null,null,null,null,null,null,null,null,null,null,null,null,null,null,null,null,null,null,null,null,null,null,null,null,null,null,null,null,null,null,null,null,null,null,null,null,null,null,null,null,null,null,null,null,null,null,null,null,null,null,null,null,null,null,null,null,null,null,null,null,null,null,null,null,null,null,null,null,null,null,null,null,null,null,null,null,null,null,null,null,null,null,null,null,null,null,null,null,null,null,null,null,null,null,null,null,null,null,null,null,null,null,null,null,null,null,null,null,null,null,null,null,null,null,null,null,null,null,null,null,null,null,null,null,null,null,null,null,null,null,null,null,null,null,null,null,null,null,null,null,null,null,null,null,null,null,null,null,null,null,null,null,null,null,null,null,null,null,null,null,null,null,null,null,null,null,null,null,null,null,null,null,null,null,null,null,null,null,null,null,null,null,null,null,null,null,null,null,null,null,null,null,null,null,null,null,null,null,null,null,null,null,null,null,null,null,null,null,null,null,null,null,null,null,null,null,null,null,null,null,null,null,null,null,null,null,null,null,null,null,null,null,null,null,null,null,null,null,null,null,null,null,null,null,null,null,null,null,null,null,null,null,null,null,null,null,null,null,null,null,null,null,null,null,null,null,null,null,null,null,null,null,null,null,null,null,null,null,null,null,null,null,null,null,null,null,null,null,null,null,null,null,null,null,null,null,null,null,null,null,null,null,null,null,null,null,null,null,null,null,null,null,null,null,null,null,null,null,null,null,null,null,null,null,null,null,null,null,null,null,null,null,null,null,null,null,null,null,null,null,null,null,null,null,null,null,null,null,null,null,null,null,null,null,null,null,null,null,null,null,null,null,null,null,null,null,null,null,null,null,null,null,null,null,null,null,null,null,null,null,null,null,null,null,null,null,null,null,null,null,null,null,null,null,null,null,null,null,null,null,null,null,null,null,null,null,null,null,null,null,null,null,null,null,null,null,null,null,null,null,null,null,null,null,null,null,null,null,null,null,null,null,null,null,null,null,null,null,null,null,null,null,null,null,null,null,null,null,null,null,null,null,null,null,null,null,null,null,null,null,null,null,null,null,null,null,null,null,null,null,null,null,null,null,null,null,null,null,null,null,null,null,null,null,null,null,null,null,null,null,null,null,null,null,null,null,null,null,null,null,null,null,null,null,null,null,null,null,null,null,null,null,null,null,null,null,null,null,null,null,null,null,null,null,null,null,null,null,null,null,null,null,null,null,null,null,null,null,null,null,null,null,null,null,null,null,null,null,null,null,null,null,null,null,null,null,null,null,null,null,null,null,null,null,null,null,null,null,null,null,null,null,null,null,null,null,null,null,null,null,null,null,null,null,null,null,null,null,null,null,null,null,null,null,null,null,null,null,null,null,null,null,null,null,null,null,null,null,null,null,null,null,null,null,null,null,null,null,null,null,null,null,null,null,null,null,null,null,null,null,null,null,null,null,null,null,null,null,null,null,null,null,null,null,null,null,null,null,null,null,null,null,null,null,null,null,null,null,null,null,null,null,null,null,null,null,null,null,null,null,null,null,null,null,null,null,null,null,null,null,null,null,null,null,null,null,null,null,null,null,null,null,null,null,null,null,null,null,null,null,null,null,null,null,null,null,null,null,null,null,null,null,null,null,null,null,null,null,null,null,null,null,null,null,null,null,null,null,null,null,null,null,null,null,null,null,null,null,null,null,null,null,null,null,null,null,null,null,null,null,null,null,null,null,null,null,null,null,null,null,null,null,null,null,null,null,null,null,null,null,null,null,null,null,null,null,null,null,null,null,null,null,null,null,null,null,null,null,null,null,null,null,null,null,null,null,null,null,null,null,null,null,null,null,null,null,null,null,null,null,null,null,null,null,null,null,null,null,null,null,null,null,null,null,null,null,null,null,null,null,null,null,null,null,null,null,null,null,null,null,null,null,null,null,null,null,null,null,null,null,null,null,null,null,null,null,null,null,null,null,null,null,null,null,null,null,null,null,null,null,null,null,null,null,null,null,null,null,null,null,null,null,null,null,null,null,null,null,null,null,null,null,null,null,null,null,null,null,null,null,null,null,null,null,null,null,null,null,null,null,null,null,null,null,null,null,null,null,null,null,null,null,null,null,null,null,null,null,null,null,null,null,null,null,null,null,null,null,null,null,null,null,null,null,null,null,null,null,null,null,null,null,null,null,null,null,null,null,null,null,null,null,null,null,null,null,null,null,null,null,null,null,null,null,null,null,null,null,null,null,null,null,null,null,null,null,null,null,null,null,null,null,null,null,null,null,null,null,null,null,null,null,null,null,null,null,null,null,null,null,null,null,null,null,null,null,null,null,null,null,null,null,null,null,null,null,null,null,null,null,null,null,null,null,null,null,null,null,null,null,null,null,null,null,null,null,null,null,null,null,null,null,null,null,null,null,null,null,null,null,null,null,null,null,null,null,null,null,null,null,null,null,null,null,null,null,null,null,null,null,null,null,null,null,null,null,null,null,null,null,null,null,null,null,null,null,null,null,null,null,null,null,null,null,null,null,null,null,null,null,null,null,null,null,null,null,null,null,null,null,null,null,null,null,null,null,null,null,null,null,null,null,null,null,null,null,null,null,null,null,null,null,null,null,null,null,null,null,null,null,null,null,null,null,null,null,null,null,null,null,null,null,null,null,null,null,null,null,null,null,null,null,null,null,null,null,null,null,null,null,null,null,null,null,null,null,null,null,null,null,null,null,null,null,null,null,null,null,null,null,null,null,null,null,null,null,null,null,null,null,null,null,null,null,null,null,null,null,null,null,null,null,null,null,null,null,null,null,null,null,null,null,null,null,null,null,null,null,null,null,null,null,null,null,null,null,null,null,null,null,null,null,null,null,null,null,null,null,null,null,null,null,null,null,null,null,null,null,null,null,null,null,null,null,null,null,null,null,null,null,null,null,null,null,null,null,null,null,null,null,null,null,null,null,null,null,null,null,null,null,null,null,null,null,null,null,null,null,null,null,null,null,null,null,null,null,null,null,null,null,null,null,null,null,null,null,null,null,null,null,null,null,null,null,null,null,null,null,null,null,null,null,null,null,null,null,null,null,null,null,null,null,null,null,null,null,null,null,null,null,null,null,null,null,null,null,null,null,null,null,null,null,null,null,null,null,null,null,null,null,null,null,null,null,null,null,null,null,null,null,null,null,null,null,null,null,null,null,null,null,null,null,null,null,null,null,null,null,null,null,null,null,null,null,null,null,null,null,null,null,null,null,null,null,null,null,null,null,null,null,null,null,null,null,null,null,null,null,null,null,null,null,null,null,null,null,null,null,null,null,null,null,null,null,null,null,null,null,null,null,null,null,null,null,null,null,null,null,null,null,null,null,null,null,null,null,null,null,null,null,null,null,null,null,null,null,null,null,null,null,null,null,null,null,null,null,null,null,null,null,null,null,null,null,null,null,null,null,null,null,null,null,null,null,null,null,null,null,null,null,null,null,null,null,null,null,null,null,null,null,null,null,null,null,null,null,null,null,null,null,null,null,null,null,null,null,null,null,null,null,null,null,null,null,null,null,null,null,null,null,null,null,null,null,null,null,null,null,null,null,null,null,null,null,null,null,null,null,null,null,null,null,null,null,null,null,null,null,null,null,null,null,null,null,null,null,null,null,null,null,null,null,null,null,null,null,null,null,null,null,null,null,null,null,null,null,null,null,null,null,null,null,null,null,null,null,null,null,null,null,null,null,null,null,null,null,null,null,null,null,null,null,null,null,null,null,null,null,null,null,null,null,null,null,null,null,null,null,null,null,null,null,null,null,null,null,null,null,null,null,null,null,null,null,null,null,null,null,null,null,null,null,null,null,null,null,null,null,null,null,null,null,null,null,null,null,null,null,null,null,null,null,null,null,null,null,null,null,null,null,null,null,null,null,null,null,null,null,null,null,null,null,null,null,null,null,null,null,null,null,null,null,null,null,null,null,null,null,null,null,null,null,null,null,null,null,null,null,null,null,null,null,null,null,null,null,null,null,null,null,null,null,null,null,null,null,null,null,null,null,null,null,null,null,null,null,null,null,null,null,null,null,null,null,null,null,null,null,null,null,null,null,null,null,null,null,null,null,null,null,null,null,null,null,null,null,null,null,null,null,null,null,null,null,null,null,null,null,null,null,null,null,null,null,null,null,null,null,null,null,null,null,null,null,null,null,null,null,null,null,null,null,null,null,null,null,null,null,null,null,null,null,null,null,null,null,null,null,null,null,null,null,null,null,null,null,null,null,null,null,null,null,null,null,null,null,null,null,null,null,null,null,null,null,null,null,null,null,null,null,null,null,null,null,null,null,null,null,null,null,null,null,null,null,null,null,null,null,null,null,null,null,null,null,null,null,null,null,null,null,null,null,null,null,null,null,null,null,null,null,null,null,null,null,null,null,null,null,null,null,null,null,null,null,null,null,null,null,null,null,null,null,null,null,null,null,null,null,null,null,null,null,null,null,null,null,null,null,null,null,null,null,null,null,null,null,null,null,null,null,null,null,null,null,null,null,null,null,null,null,null,null,null,null,null,null,null,null,null,null,null,null,null,null,null,null,null,null,null,null,null,null,null,null,null,null,null,null,null,null,null,null,null,null,null,null,null,null,null,null,null,null,null,null,null,null,null,null,null,null,null,null,null,null,null,null,null,null,null,null,null,null,null,null,null,null,null,null,null,null,null,null,null,null,null,null,null,null,null,null,null,null,null,null,null,null,null,null,null,null,null,null,null,null,null,null,null,null,null,null,null,null,null,null,null,null,null,null,null,null,null,null,null,null,null,null,null,null,null,null,null,null,null,null,null,null,null,null,null,null,null,null,null,null,null,null,null,null,null,null,null,null,null,null,null,null,null,null,null,null,null,null,null,null,null,null,null,null,null,null,null,null,null,null,null,null,null,null,null,null,null,null,null,null,null,null,null,null,null,null,null,null,null,null,null,null,null,null,null,null,null,null,null,null,null,null,null,null,null,null,null,null,null,null,null,null,null,null,null,null,null,null,null,null,null,null,null,null,null,null,null,null,null,null,null,null,null,null,null,null,null,null,null,null,null,null,null,null,null,null,null,null,null,null,null,null,null,null,null,null,null,null,null,null,null,null,null,null,null,null,null,null,null,null,null,null,null,null,null,null,null,null,null,null,null,null,null,null,null,null,null,null,null,null,null,null,null,null,null,null,null,null,null,null,null,null,null,null,null,null,null,null,null,null,null,null,null,null,null,null,null,null,null,null,null,null,null,null,null,null,null,null,null,null,null,null,null,null,null,null,null,null,null,null,null,null,null,null,null,null,null,null,null,null,null,null,null,null,null,null,null,null,null,null,null,null,null,null,null,null,null,null,null,null,null,null,null,null,null,null,null,null,null,null,null,null,null,null,null,null,null,null,null,null,null,null,null,null,null,null,null,null,null,null,null,null,null,null,null,null,null,null,null,null,null,null,null,null,null,null,null,null,null,null,null,null,null,null,null,null,null,null,null,null,null,null,null,null,null,null,null,null,null,null,null,null,null,null,null,null,null,null,null,null,null,null,null,null,null,null,null,null,null,null,null,null,null,null,null,null,null,null,null,null,null,null,null,null,null,null,null,null,null,null,null,null,null,null,null,null,null,null,null,null,null,null,null,null,null,null,null,null,null,null,null,null,null,null,null,null,null,null,null,null,null,null,null,null,null,null,null,null,null,null,null,null,null,null,null,null,null,null,null,null,null,null,null,null,null,null,null,null,null,null,null,null,null,null,null,null,null,null,null,null,null,null,null,null,null,null,null,null,null,null,null,null,null,null,null,null,null,null,null,null,null,null,null,null,null,null,null,null,null,null,null,null,null,null,null,null,null,null,null,null,null,null,null,null,null,null,null,null,null,null,null,null,null,null,null,null,null,null,null,null,null,null,null,null,null,null,null,null,null,null,null,null,null,null,null,null,null,null,null,null,null,null,null,null,null,null,null,null,null,null,null,null,null,null,null,null,null,null,null,null,null,null,null,null,null,null,null,null,null,null,null,null,null,null,null,null,null,null,null,null,null,null,null,null,null,null,null,null,null,null,null,null,null,null,null,null,null,null,null,null,null,null,null,null,null,null,null,null,null,null,null,null,null,null,null,null,null,null,null,null,null,null,null,null,null,null,null,null,null,null,null,null,null,null,null,null,null,null,null,null,null,null,null,null,null,null,null,null,null,null,null,null,null,null,null,null,null,null,null,null,null,null,null,null,null,null,null,null,null,null,null,null,null,null,null,null,null,null,null,null,null,null,null,null,null,null,null,null,null,null,null,null,null,null,null,null,null,null,null,null,null,null,null,null,null,null,null,null,null,null,null,null,null,null,null,null,null,null,null,null,null,null,null,null,null,null,null,null,null,null,null,null,null,null,null,null,null,null,null,null,null,null,null,null,null,null,null,null,null,null,null,null,null,null,null,null,null,null,null,null,null,null,null,null,null,null,null,null,null,null,null,null,null,null,null,null,null,null,null,null,null,null,null,null,null,null,null,null,null,null,null,null,null,null,null,null,null,null,null,null,null,null,null,null,null,null,null,null,null,null,null,null,null,null,null,null,null,null,null,null,null,null,null,null,null,null,null,null,null,null,null,null,null,null,null,null,null,null,null,null,null,null,null,null,null,null,null,null,null,null,null,null,null,null,null,null,null,null,null,null,null,null,null,null,null,null,null,null,null,null,null,null,null,null,null,null,null,null,null,null,null,null,null,null,null,null,null,null,null,null,null,null,null,null,null,null,null,null,null,null,null,null,null,null,null,null,null,null,null,null,null,null,null,null,null,null,null,null,null,null,null,null,null,null,null,null,null,null,null,null,null,null,null,null,null,null,null,null,null,null,null,null,null,null,null,null,null,null,null,null,null,null,null,null,null,null,null,null,null,null,null,null,null,null,null,null,null,null,null,null,null,null,null,null,null,null,null,null,null,null,null,null,null,null,null,null,null,null,null,null,null,null,null,null,null,null,null,null,null,null,null,null,null,null,null,null,null,null,null,null,null,null,null,null,null,null,null,null,null,null,null,null,null,null,null,null,null,null,null,null,null,null,null,null,null,null,null,null,null,null,null,null,null,null,null,null,null,null,null,null,null,null,null,null,null,null,null,null,null,null,null,null,null,null,null,null,null,null,null,null,null,null,null,null,null,null,null,null,null,null,null,null,null,null,null,null,null,null,null,null,null,null,null,null,null,null,null,null,null,null,null,null,null,null,null,null,null,null,null,null,null,null,null,null,null,null,null,null,null,null,null,null,null,null,null,null,null,null,null,null,null,null,null,null,null,null,null,null,null,null,null,null,null,null,null,null,null,null,null,null,null,null,null,null,null,null,null,null,null,null,null,null,null,null,null,null,null,null,null,null,null,null,null,null,null,null,null,null,null,null,null,null,null,null,null,null,null,null,null,null,null,null,null,null,null,null,null,null,null,null,null,null,null,null,null,null,null,null,null,null,null,null,null,null,null,null,null,null,null,null,null,null,null,null,null,null,null,null,null,null,null,null,null,null,null,null,null,null,null,null,null,null,null,null,null,null,null,null,null,null,null,null,null,null,null,null,null,null,null,null,null,null,null,null,null,null,null,null,null,null,null,null,null,null,null,null,null,null,null,null,null,null,null,null,null,null,null,null,null,null,null,null,null,null,null,null,null,null,null,null,null,null,null,null,null,null,null,null,null,null,null,null,null,null,null,null,null,null,null,null,null,null,null,null,null,null,null,null,null,null,null,null,null,null,null,null,null,null,null,null,null,null,null,null,null,null,null,null,null,null,null,null,null,null,null,null,null,null,null,null,null,null,null,null,null,null,null,null,null,null,null,null,null,null,null,null,null,null,null,null,null,null,null,null,null,null,null,null,null,null,null,null,null,null,null,null,null,null,null,null,null,null,null,null,null,null,null,null,null,null,null,null,null,null,null,null,null,null,null,null,null,null,null,null,null,null,null,null,null,null,null,null,null,null,null,null,null,null,null,null,null,null,null,null,null,null,null,null,null,null,null,null,null,null,null,null,null,null,null,null,null,null,null,null,null,null,null,null,null,null,null,null,null,null,null,null,null,null,null,null,null,null,null,null,null,null,null,null,null,null,null,null,null,null,null,null,null,null,null,null,null,null,null,null,null,null,null,null,null,null,null,null,null,null,null,null,null,null,null,null,null,null,null,null,null,null,null,null,null,null,null,null,null,null,null,null,null,null,null,null,null,null,null,null,null,null,null,null,null,null,null,null,null,null,null,null,null,null,null,null,null,null,null,null,null,null,null,null,null,null,null,null,null,null,null,null,null,null,null,null,null,null,null,null,null,null,null,null,null,null,null,null,null,null,null,null,null,null,null,null,null,null,null,null,null,null,null,null,null,null,null,null,null,null,null,null,null,null,null,null,null,null,null,null,null,null,null,null,null,null,null,null,null,null,null,null,null,null,null,null,null,null,null,null,null,null,null,null,null,null,null,null,null,null,null,null,null,null,null,null,null,null,null,null,null,null,null,null,null,null,null,null,null,null,null,null,null,null,null,null,null,null,null,null,null,null,null,null,null,null,null,null,null,null,null,null,null,null,null,null,null,null,null,null,null,null,null,null,null,null,null,null,null,null,null,null,null,null,null,null,null,null,null,null,null,null,null,null,null,null,null,null,null,null,null,null,null,null,null,null,null,null,null,null,null,null,null,null,null,null,null,null,null,null,null,null,null,null,null,null,null,null,null,null,null,null,null,null,null,null,null,null,null,null,null,null,null,null,null,null,null,null,null,null,null,null,null,null,null,null,null,null,null,null,null,null,null,null,null,null,null,null,null,null,null,null,null,null,null,null,null,null,null,null,null,null,null,null,null,null,null,null,null,null,null,null,null,null,null,null,null,null,null,null,null,null,null,null,null,null,null,null,null,null,null,null,null,null,null,null,null,null,null,null,null,null,null,null,null,null,null,null,null,null,null,null,null,null,null,null,null,null,null,null,null,null,null,null,null,null,null,null,null,null,null,null,null,null,null,null,null,null,null,null,null,null,null,null,null,null,null,null,null,null,null,null,null,null,null,null,null,null,null,null,null,null,null,null,null,null,null,null,null,null,null,null,null,null,null,null,null,null,null,null,null,null,null,null,null,null,null,null,null,null,null,null,null,null,null,null,null,null,null,null,null,null,null,null,null,null,null,null,null,null,null,null,null,null,null,null,null,null,null,null,null,null,null,null,null,null,null,null,null,null,null,null,null,null,null,null,null,null,null,null,null,null,null,null,null,null,null,null,null,null,null,null,null,null,null,null,null,null,null,null,null,null,null,null,null,null,null,null,null,null,null,null,null,null,null,null,null,null,null,null,null,null,null,null,null,null,null,null,null,null,null,null,null,null,null,null,null,null,null,null,null,null,null,null,null,null,null,null,null,null,null,null,null,null,null,null,null,null,null,null,null,null,null,null,null,null,null,null,null,null,null,null,null,null,null,null,null,null,null,null,null,null,null,null,null,null,null,null,null,null,null,null,null,null,null,null,null,null,null,null,null,null,null,null,null,null,null,null,null,null,null,null,null,null,null,null,null,null,null,null,null,null,null,null,null,null,null,null,null,null,null,null,null,null,null,null,null,null,null,null,null,null,null,null,null,null,null,null,null,null,null,null,null,null,null,null,null,null,null,null,null,null,null,null,null,null,null,null,null,null,null,null,null,null,null,null,null,null,null,null,null,null,null,null,null,null,null,null,null,null,null,null,null,null,null,null,null,null,null,null,null,null,null,null,null,null,null,null,null,null,null,null,null,null,null,null,null,null,null,null,null,null,null,null,null,null,null,null,null,null,null,null,null,null,null,null,null,null,null,null,null,null,null,null,null,null,null,null,null,null,null,null,null,null,null,null,null,null,null,null,null,null,null,null,null,null,null,null,null,null,null,null,null,null,null,null,null,null,null,null,null,null,null,null,null,null,null,null,null,null,null,null,null,null,null,null,null,null,null,null,null,null,null,null,null,null,null,null,null,null,null,null,null,null,null,null,null,null,null,null,null,null,null,null,null,null,null,null,null,null,null,null,null,null,null,null,null,null,null,null,null,null,null,null,null,null,null,null,null,null,null,null,null,null,null,null,null,null,null,null,null,null,null,null,null,null,null,null,null,null,null,null,null,null,null,null,null,null,null,null,null,null,null,null,null,null,null,null,null,null,null,null,null,null,null,null,null,null,null,null,null,null,null,null,null,null,null,null,null,null,null,null,null,null,null,null,null,null,null,null,null,null,null,null,null,null,null,null,null,null,null,null,null,null,null,null,null,null,null,null,null,null,null,null,null,null,null,null,null,null,null,null,null,null,null,null,null,null,null,null,null,null,null,null,null,null,null,null,null,null,null,null,null,null,null,null,null,null,null,null,null,null,null,null,null,null,null,null,null,null,null,null,null,null,null,null,null,null,null,null,null,null,null,null,null,null,null,null,null,null,null,null,null,null,null,null,null,null,null,null,null,null,null,null,null,null,null,null,null,null,null,null,null,null,null,null,null,null,null,null,null,null,null,null,null,null,null,null,null,null,null,null,null,null,null,null,null,null,null,null,null,null,null,null,null,null,null,null,null,null,null,null,null,null,null,null,null,null,null,null,null,null,null,null,null,null,null,null,null,null,null,null,null,null,null,null,null,null,null,null,null,null,null,null,null,null,null,null,null,null,null,null,null,null,null,null,null,null,null,null,null,null,null,null,null,null,null,null,null,null,null,null,null,null,null,null,null,null,null,null,null,null,null,null,null,null,null,null,null,null,null,null,null,null,null,null,null,null,null,null,null,null,null,null,null,null,null,null,null,null,null,null,null,null,null,null,null,null,null,null,null,null,null,null,null,null,null,null,null,null,null,null,null,null,null,null,null,null,null,null,null,null,null,null,null,null,null,null,null,null,null,null,null,null,null,null,null,null,null,null,null,null,null,null,null,null,null,null,null,null,null,null,null,null,null,null,null,null,null,null,null,null,null,null,null,null,null,null,null,null,null,null,null,null,null,null,null,null,null,null,null,null,null,null,null,null,null,null,null,null,null,null,null,null,null,null,null,null,null,null,null,null,null,null,null,null,null,null,null,null,null,null,null,null,null,null,null,null,null,null,null,null,null,null,null,null,null,null,null,null,null,null,null,null,null,null,null,null,null,null,null,null,null,null,null,null,null,null,null,null,null,null,null,null,null,null,null,null,null,null,null,null,null,null,null,null,null,null,null,null,null,null,null,null,null,null,null,null,null,null,null,null,null,null,null,null,null,null,null,null,null,null,null,null,null,null,null,null,null,null,null,null,null,null,null,null,null,null,null,null,null,null,null,null,null,null,null,null,null,null,null,null,null,null,null,null,null,null,null,null,null,null,null,null,null,null,null,null,null,null,null,null,null,null,null,null,null,null,null,null,null,null,null,null,null,null,null,null,null,null,null,null,null,null,null,null,null,null,null,null,null,null,null,null,null,null,null,null,null,null,null,null,null,null,null,null,null,null,null,null,null,null,null,null,null,null,null,null,null,null,null,null,null,null,null,null,null,null,null,null,null,null,null,null,null,null,null,null,null,null,null,null,null,null,null,null,null,null,null,null,null,null,null,null,null,null,null,null,null,null,null,null,null,null,null,null,null,null,null,null,null,null,null,null,null,null,null,null,null,null,null,null,null,null,null,null,null,null,null,null,null,null,null,null,null,null,null,null,null,null,null,null,null,null,null,null,null,null,null,null,null,null,null,null,null,null,null,null,null,null,null,null,null,null,null,null,null,null,null,null,null,null,null,null,null,null,null,null,null,null,null,null,null,null,null,null,null,null,null,null,null,null,null,null,null,null,null,null,null,null,null,null,null,null,null,null,null,null,null,null,null,null,null,null,null,null,null,null,null,null,null,null,null,null,null,null,null,null,null,null,null,null,null,null,null,null,null,null,null,null,null,null,null,null,null,null,null,null,null,null,null,null,null,null,null,null,null,null,null,null,null,null,null,null,null,null,null,null,null,null,null,null,null,null,null,null,null,null,null,null,null,null,null,null,null,null,null,null,null,null,null,null,null,null,null,null,null,null,null,null,null,null,null,null,null,null,null,null,null,null,null,null,null,null,null,null,null,null,null,null,null,null,null,null,null,null,null,null,null,null,null,null,null,null,null,null,null,null,null,null,null,null,null,null,null,null,null,null,null,null,null,null,null,null,null,null,null,null,null,null,null,null,null,null,null,null,null,null,null,null,null,null,null,null,null,null,null,null,null,null,null,null,null,null,null,null,null,null,null,null,null,null,null,null,null,null,null,null,null,null,null,null,null,null,null,null,null,null,null,null,null,null,null,null,null,null,null,null,null,null,null,null,null,null,null,null,null,null,null,null,null,null,null,null,null,null,null,null,null,null,null,null,null,null,null,null,null,null,null,null,null,null,null,null,null,null,null,null,null,null,null,null,null,null,null,null,null,null,null,null,null,null,null,null,null,null,null,null,null,null,null,null,null,null,null,null,null,null,null,null,null,null,null,null,null,null,null,null,null,null,null,null,null,null,null,null,null,null,null,null,null,null,null,null,null,null,null,null,null,null,null,null,null,null,null,null,null,null,null,null,null,null,null,null,null,null,null,null,null,null,null,null,null,null,null,null,null,null,null,null,null,null,null,null,null,null,null,null,null,null,null,null,null,null,null,null,null,null,null,null,null,null,null,null,null,null,null,null,null,null,null,null,null,null,null,null,null,null,null,null,null,null,null,null,null,null,null,null,null,null,null,null,null,null,null,null,null,null,null,null,null,null,null,null,null,null,null,null,null,null,null,null,null,null,null,null,null,null,null,null,null,null,null,null,null,null,null,null,null,null,null,null,null,null,null,null,null,null,null,null,null,null,null,null,null,null,null,null,null,null,null,null,null,null,null,null,null,null,null,null,null,null,null,null,null,null,null,null,null,null,null,null,null,null,null,null,null,null,null,null,null,null,null,null,null,null,null,null,null,null,null,null,null,null,null,null,null,null,null,null,null,null,null,null,null,null,null,null,null,null,null,null,null,null,null,null,null,null,null,null,null,null,null,null,null,null,null,null,null,null,null,null,null,null,null,null,null,null,null,null,null,null,null,null,null,null,null,null,null,null,null,null,null,null,null,null,null,null,null,null,null,null,null,null,null,null,null,null,null,null,null,null,null,null,null,null,null,null,null,null,null,null,null,null,null,null,null,null,null,null,null,null,null,null,null,null,null,null,null,null,null,null,null,null,null,null,null,null,null,null,null,null,null,null,null,null,null,null,null,null,null,null,null,null,null,null,null,null,null,null,null,null,null,null,null,null,null,null,null,null,null,null,null,null,null,null,null,null,null,null,null,null,null,null,null,null,null,null,null,null,null,null,null,null,null,null,null,null,null,null,null,null,null,null,null,null,null,null,null,null,null,null,null,null,null,null,null,null,null,null,null,null,null,null,null,null,null,null,null,null,null,null,null,null,null,null,null,null,null,null,null,null,null,null,null,null,null,null,null,null,null,null,null,null,null,null,null,null,null,null,null,null,null,null,null,null,null,null,null,null,null,null,null,null,null,null,null,null,null,null,null,null,null,null,null,null,null,null,null,null,null,null,null,null,null,null,null,null,null,null,null,null,null,null,null,null,null,null,null,null,null,null,null,null,null,null,null,null,null,null,null,null,null,null,null,null,null,null,null,null,null,null,null,null,null,null,null,null,null,null,null,null,null,null,null,null,null,null,null,null,null,null,null,null,null,null,null,null,null,null,null,null,null,null,null,null,null,null,null,null,null,null,null,null,null,null,null,null,null,null,null,null,null,null,null,null,null,null,null,null,null,null,null,null,null,null,null,null,null,null,null,null,null,null,null,null,null,null,null,null,null,null,null,null,null,null,null,null,null,null,null,null,null,null,null,null,null,null,null,null,null,null,null,null,null,null,null,null,null,null,null,null,null,null,null,null,null,null,null,null,null,null,null,null,null,null,null,null,null,null,null,null,null,null,null,null,null,null,null,null,null,null,null,null,null,null,null,null,null,null,null,null,null,null,null,null,null,null,null,null,null,null,null,null,null,null,null,null,null,null,null,null,null,null,null,null,null,null,null,null,null,null,null,null,null,null,null,null,null,null,null,null,null,null,null,null,null,null,null,null,null,null,null,null,null,null,null,null,null,null,null,null,null,null,null,null,null,null,null,null,null,null,null,null,null,null,null,null,null,null,null,null,null,null,null,null,null,null,null,null,null,null,null,null,null,null,null,null,null,null,null,null,null,null,null,null,null,null,null,null,null,null,null,null,null,null,null,null,null,null,null,null,null,null,null,null,null,null,null,null,null,null,null,null,null,null,null,null,null,null,null,null,null,null,null,null,null,null,null,null,null,null,null,null,null,null,null,null,null,null,null,null,null,null,null,null,null,null,null,null,null,null,null,null,null,null,null,null,null,null,null,null,null,null,null,null,null,null,null,null,null,null,null,null,null,null,null,null,null,null,null,null,null,null,null,null,null,null,null,null,null,null,null,null,null,null,null,null,null,null,null,null,null,null,null,null,null,null,null,null,null,null,null,null,null,null,null,null,null,null,null,null,null,null,null,null,null,null,null,null,null,null,null,null,null,null,null,null,null,null,null,null,null,null,null,null,null,null,null,null,null,null,null,null,null,null,null,null,null,null,null,null,null,null,null,null,null,null,null,null,null,null,null,null,null,null,null,null,null,null,null,null,null,null,null,null,null,null,null,null,null,null,null,null,null,null,null,null,null,null,null,null,null,null,null,null,null,null,null,null,null,null,null,null,null,null,null,null,null,null,null,null,null,null,null,null,null,null,null,null,null,null,null,null,null,null,null,null,null,null,null,null,null,null,null,null,null,null,null,null,null,null,null,null,null,null,null,null,null,null,null,null,null,null,null,null,null,null,null,null,null,null,null,null,null,null,null,null,null,null,null,null,null,null,null,null,null,null,null,null,null,null,null,null,null,null,null,null,null,null,null,null,null,null,null,null,null,null,null,null,null,null,null,null,null,null,null,null,null,null,null,null,null,null,null,null,null,null,null,null,null,null,null,null,null,null,null,null,null,null,null,null,null,null,null,null,null,null,null,null,null,null,null,null,null,null,null,null,null,null,null,null,null,null,null,null,null,null,null,null,null,null,null,null,null,null,null,null,null,null,null,null,null,null,null,null,null,null,null,null,null,null,null,null,null,null,null,null,null,null,null,null,null,null,null,null,null,null,null,null,null,null,null,null,null,null,null,null,null,null,null,null,null,null,null,null,null,null,null,null,null,null,null,null,null,null,null,null,null,null,null,null,null,null,null,null,null,null,null,null,null,null,null,null,null,null,null,null,null,null,null,null,null,null,null,null,null,null,null,null,null,null,null,null,null,null,null,null,null,null,null,null,null,null,null,null,null,null,null,null,null,null,null,null,null,null,null,null,null,null,null,null,null,null,null,null,null,null,null,null,null,null,null,null,null,null,null,null,null,null,null,null,null,null,null,null,null,null,null,null,null,null,null,null,null,null,null,null,null,null,null,null,null,null,null,null,null,null,null,null,null,null,null,null,null,null,null,null,null,null,null,null,null,null,null,null,null,null,null,null,null,null,null,null,null,null,null,null,null,null,null,null,null,null,null,null,null,null,null,null,null,null,null,null,null,null,null,null,null,null,null,null,null,null,null,null,null,null,null,null,null,null,null,null,null,null,null,null,null,null,null,null,null,null,null,null,null,null,null,null,null,null,null,null,null,null,null,null,null,null,null,null,null,null,null,null,null,null,null,null,null,null,null,null,null,null,null,null,null,null,null,null,null,null,null,null,null,null,null,null,null,null,null,null,null,null,null,null,null,null,null,null,null,null,null,null,null,null,null,null,null,null,null,null,null,null,null,null,null,null,null,null,null,null,null,null,null,null,null,null,null,null,null,null,null,null,null,null,null,null,null,null,null,null,null,null,null,null,null,null,null,null,null,null,null,null,null,null,null,null,null,null,null,null,null,null,null,null,null,null,null,null,null,null,null,null,null,null,null,null,null,null,null,null,null,null,null,null,null,null,null,null,null,null,null,null,null,null,null,null,null,null,null,null,null,null,null,null,null,null,null,null,null,null,null,null,null,null,null,null,null,null,null,null,null,null,null,null,null,null,null,null,null,null,null,null,null,null,null,null,null,null,null,null,null,null,null,null,null,null,null,null,null,null,null,null,null,null,null,null,null,null,null,null,null,null,null,null,null,null,null,null,null,null,null,null,null,null,null,null,null,null,null,null,null,null,null,null,null,null,null,null,null,null,null,null,null,null,null,null,null,null,null,null,null,null,null,null,null,null,null,null,null,null,null,null,null,null,null,null,null,null,null,null,null,null,null,null,null,null,null,null,null,null,null,null,null,null,null,null,null,null,null,null,null,null,null,null,null,null,null,null,null,null,null,null,null,null,null,null,null,null,null,null,null,null,null,null,null,null,null,null,null,null,null,null,null,null,null,null,null,null,null,null,null,null,null,null,null,null,null,null,null,null,null,null,null,null,null,null,null,null,null,null,null,null,null,null,null,null,null,null,null,null,null,null,null,null,null,null,null,null,null,null,null,null,null,null,null,null,null,null,null,null,null,null,null,null,null,null,null,null,null,null,null,null,null,null,null,null,null,null,null,null,null,null,null,null,null,null,null,null,null,null,null,null,null,null,null,null,null,null,null,null,null,null,null,null,null,null,null,null,null,null,null,null,null,null,null,null,null,null,null,null,null,null,null,null,null,null,null,null,null,null,null,null,null,null,null,null,null,null,null,null,null,null,null,null,null,null,null,null,null,null,null,null,null,null,null,null,null,null,null,null,null,null,null,null,null,null,null,null,null,null,null,null,null,null,null,null,null,null,null,null,null,null,null,null,null,null,null,null,null,null,null,null,null,null,null,null,null,null,null,null,null,null,null,null,null,null,null,null,null,null,null,null,null,null,null,null,null,null,null,null,null,null,null,null,null,null,null,null,null,null,null,null,null,null,null,null,null,null,null,null,null,null,null,null,null,null,null,null,null,null,null,null,null,null,null,null,null,null,null,null,null,null,null,null,null,null,null,null,null,null,null,null,null,null,null,null,null,null,null,null,null,null,null,null,null,null,null,null,null,null,null,null,null,null,null,null,null,null,null,null,null,null,null,null,null,null,null,null,null,null,null,null,null,null,null,null,null,null,null,null,null,null,null,null,null,null,null,null,null,null,null,null,null,null,null,null,null,null,null,null,null,null,null,null,null,null,null,null,null,null,null,null,null,null,null,null,null,null,null,null,null,null,null,null,null,null,null,null,null,null,null,null,null,null,null,null,null,null,null,null,null,null,null,null,null,null,null,null,null,null,null,null,null,null,null,null,null,null,null,null,null,null,null,null,null,null,null,null,null,null,null,null,null,null,null,null,null,null,null,null,null,null,null,null,null,null,null,null,null,null,null,null,null,null,null,null,null,null,null,null,null,null,null,null,null,null,null,null,null,null,null,null,null,null,null,null,null,null,null,null,null,null,null,null,null,null,null,null,null,null,null,null,null,null,null,null,null,null,null,null,null,null,null,null,null,null,null,null,null,null,null,null,null,null,null,null,null,null,null,null,null,null,null,null,null,null,null,null,null,null,null,null,null,null,null,null,null,null,null,null,null,null,null,null,null,null,null,null,null,null,null,null,null,null,null,null,null,null,null,null,null,null,null,null,null,null,null,null,null,null,null,null,null,null,null,null,null,null,null,null,null,null,null,null,null,null,null,null,null,null,null,null,null,null,null,null,null,null,null,null,null,null,null,null,null,null,null,null,null,null,null,null,null,null,null,null,null,null,null,null,null,null,null,null,null,null,null,null,null,null,null,null,null,null,null,null,null,null,null,null,null,null,null,null,null,null,null,null,null,null,null,null,null,null,null,null,null,null,null,null,null,null,null,null,null,null,null,null,null,null,null,null,null,null,null,null,null,null,null,null,null,null,null,null,null,null,null,null,null,null,null,null,null,null,null,null,null,null,null,null,null,null,null,null,null,null,null,null,null,null,null,null,null,null,null,null,null,null,null,null,null,null,null,null,null,null,null,null,null,null,null,null,null,null,null,null,null,null,null,null,null,null,null,null,null,null,null,null,null,null,null,null,null,null,null,null,null,null,null,null,null,null,null,null,null,null,null,null,null,null,null,null,null,null,null,null,null,null,null,null,null,null,null,null,null,null,null,null,null,null,null,null,null,null,null,null,null,null,null,null,null,null,null,null,null,null,null,null,null,null,null,null,null,null,null,null,null,null,null,null,null,null,null,null,null,null,null,null,null,null,null,null,null,null,null,null,null,null,null,null,null,null,null,null,null,null,null,null,null,null,null,null,null,null,null,null,null,null,null,null,null,null,null,null,null,null,null,null,null,null,null,null,null,null,null,null,null,null,null,null,null,null,null,null,null,null,null,null,null,null,null,null,null,null,null,null,null,null,null,null,null,null,null,null,null,null,null,null,null,null,null,null,null,null,null,null,null,null,null,null,null,null,null,null,null,null,null,null,null,null,null,null,null,null,null,null,null,null,null,null,null,null,null,null,null,null,null,null,null,null,null,null,null,null,null,null,null,null,null,null,null,null,null,null,null,null,null,null,null,null,null,null,null,null,null,null,null,null,null,null,null,null,null,null,null,null,null,null,null,null,null,null,null,null,null,null,null,null,null,null,null,null,null,null,null,null,null,null,null,null,null,null,null,null,null,null,null,null,null,null,null,null,null,null,null,null,null,null,null,null,null,null,null,null,null,null,null,null,null,null,null,null,null,null,null,null,null,null,null,null,null,null,null,null,null,null,null,null,null,null,null,null,null,null,null,null,null,null,null,null,null,null,null,null,null,null,null,null,null,null,null,null,null,null,null,null,null,null,null,null,null,null,null,null,null,null,null,null,null,null,null,null,null,null,null,null,null,null,null,null,null,null,null,null,null,null,null,null,null,null,null,null,null,null,null,null,null,null,null,null,null,null,null,null,null,null,null,null,null,null,null,null,null,null,null,null,null,null,null,null,null,null,null,null,null,null,null,null,null,null,null,null,null,null,null,null,null,null,null,null,null,null,null,null,null,null,null,null,null,null,null,null,null,null,null,null,null,null,null,null,null,null,null,null,null,null,null,null,null,null,null,null,null,null,null,null,null,null,null,null,null,null,null,null,null,null,null,null,null,null,null,null,null,null,null,null,null,null,null,null,null,null,null,null,null,null,null,null,null,null,null,null,null,null,null,null,null,null,null,null,null,null,null,null,null,null,null,null,null,null,null,null,null,null,null,null,null,null,null,null,null,null,null,null,null,null,null,null,null,null,null,null,null,null,null,null,null,null,null,null,null,null,null,null,null,null,null,null,null,null,null,null,null,null,null,null,null,null,null,null,null,null,null,null,null,null,null,null,null,null,null,null,null,null,null,null,null,null,null,null,null,null,null,null,null,null,null,null,null,null,null,null,null,null,null,null,null,null,null,null,null,null,null,null,null,null,null,null,null,null,null,null,null,null,null,null,null,null,null,null,null,null,null,null,null,null,null,null,null,null,null,null,null,null,null,null,null,null,null,null,null,null,null,null,null,null,null,null,null,null,null,null,null,null,null,null,null,null,null,null,null,null,null,null,null,null,null,null,null,null,null,null,null,null,null,null,null,null,null,null,null,null,null,null,null,null,null,null,null,null,null,null,null,null,null,null,null,null,null,null,null,null,null,null,null,null,null,null,null,null,null,null,null,null,null,null,null,null,null,null,null,null,null,null,null,null,null,null,null,null,null,null,null,null,null,null,null,null,null,null,null,null,null,null,null,null,null,null,null,null,null,null,null,null,null,null,null,null,null,null,null,null,null,null,null,null,null,null,null,null,null,null,null,null,null,null,null,null,null,null,null,null,null,null,null,null,null,null,null,null,null,null,null,null,null,null,null,null,null,null,null,null,null,null,null,null,null,null,null,null,null,null,null,null,null,null,null,null,null,null,null,null,null,null,null,null,null,null,null,null,null,null,null,null,null,null,null,null,null,null,null,null,null,null,null,null,null,null,null,null,null,null,null,null,null,null,null,null,null,null,null,null,null,null,null,null,null,null,null,null,null,null,null,null,null,null,null,null,null,null,null,null,null,null,null,null,null,null,null,null,null,null,null,null,null,null,null,null,null,null,null,null,null,null,null,null,null,null,null,null,null,null,null,null,null,null,null,null,null,null,null,null,null,null,null,null,null,null,null,null,null,null,null,null,null,null,null,null,null,null,null,null,null,null,null,null,null,null,null,null,null,null,null,null,null,null,null,null,null,null,null,null,null,null,null,null,null,null,null,null,null,null,null,null,null,null,null,null,null,null,null,null,null,null,null,null,null,null,null,null,null,null,null,null,null,null,null,null,null,null,null,null,null,null,null,null,null,null,null,null,null,null,null,null,null,null,null,null,null,null,null,null,null,null,null,null,null,null,null,null,null,null,null,null,null,null,null,null,null,null,null,null,null,null,null,null,null,null,null,null,null,null,null,null,null,null,null,null,null,null,null,null,null,null,null,null,null,null,null,null,null,null,null,null,null,null,null,null,null,null,null,null,null,null,null,null,null,null,null,null,null,null,null,null,null,null,null,null,null,null,null,null,null,null,null,null,null,null,null,null,null,null,null,null,null,null,null,null,null,null,null,null,null,null,null,null,null,null,null,null,null,null,null,null,null,null,null,null,null,null,null,null,null,null,null,null,null,null,null,null,null,null,null,null,null,null,null,null,null,null,null,null,null,null,null,null,null,null,null,null,null,null,null,null,null,null,null,null,null,null,null,null,null,null,null,null,null,null,null,null,null,null,null,null,null,null,null,null,null,null,null,null,null,null,null,null,null,null,null,null,null,null,null,null,null,null,null,null,null,null,null,null,null,null,null,null,null,null,null,null,null,null,null,null,null,null,null,null,null,null,null,null,null,null,null,null,null,null,null,null,null,null,null,null,null,null,null,null,null,null,null,null,null,null,null,null,null,null,null,null,null,null,null,null,null,null,null,null,null,null,null,null,null,null,null,null,null,null,null,null,null,null,null,null,null,null,null,null,null,null,null,null,null,null,null,null,null,null,null,null,null,null,null,null,null,null,null,null,null,null,null,null,null,null,null,null,null,null,null,null,null,null,null,null,null,null,null,null,null,null,null,null,null,null,null,null,null,null,null,null,null,null,null,null,null,null,null,null,null,null,null,null,null,null,null,null,null,null,null,null,null,null,null,null,null,null,null,null,null,null,null,null,null,null,null,null,null,null,null,null,null,null,null,null,null,null,null,null,null,null,null,null,null,null,null,null,null,null,null,null,null,null,null,null,null,null,null,null,null,null,null,null,null,null,null,null,null,null,null,null,null,null,null,null,null,null,null,null,null,null,null,null,null,null,null,null,null,null,null,null,null,null,null,null,null,null,null,null,null,null,null,null,null,null,null,null,null,null,null,null,null,null,null,null,null,null,null,null,null,null,null,null,null,null,null,null,null,null,null,null,null,null,null,null,null,null,null,null,null,null,null,null,null,null,null,null,null,null,null,null,null,null,null,null,null,null,null,null,null,null,null,null,null,null,null,null,null,null,null,null,null,null,null,null,null,null,null,null,null,null,null,null,null,null,null,null,null,null,null,null,null,null,null,null,null,null,null,null,null,null,null,null,null,null,null,null,null,null,null,null,null,null,null,null,null,null,null,null,null,null,null,null,null,null,null,null,null,null,null,null,null,null,null,null,null,null,null,null,null,null,null,null,null,null,null,null,null,null,null,null,null,null,null,null,null,null,null,null,null,null,null,null,null,null,null,null,null,null,null,null,null,null,null,null,null,null,null,null,null,null,null,null,null,null,null,null,null,null,null,null,null,null,null,null,null,null,null,null,null,null,null,null,null,null,null,null,null,null,null,null,null,null,null,null,null,null,null,null,null,null,null,null,null,null,null,null,null,null,null,null,null,null,null,null,null,null,null,null,null,null,null,null,null,null,null,null,null,null,null,null,null,null,null,null,null,null,null,null,null,null,null,null,null,null,null,null,null,null,null,null,null,null,null,null,null,null,null,null,null,null,null,null,null,null,null,null,null,null,null,null,null,null,null,null,null,null,null,null,null,null,null,null,null,null,null,null,null,null,null,null,null,null,null,null,null,null,null,null,null,null,null,null,null,null,null,null,null,null,null,null,null,null,null,null,null,null,null,null,null,null,null,null,null,null,null,null,null,null,null,null,null,null,null,null,null,null,null,null,null,null,null,null,null,null,null,null,null,null,null,null,null,null,null,null,null,null,null,null,null,null,null,null,null,null,null,null,null,null,null,null,null,null,null,null,null,null,null,null,null,null,null,null,null,null,null,null,null,null,null,null,null,null,null,null,null,null,null,null,null,null,null,null,null,null,null,null,null,null,null,null,null,null,null,null,null,null,null,null,null,null,null,null,null,null,null,null,null,null,null,null,null,null,null,null,null,null,null,null,null,null,null,null,null,null,null,null,null,null,null,null,null,null,null,null,null,null,null,null,null,null,null,null,null,null,null,null,null,null,null,null,null,null,null,null,null,null,null,null,null,null,null,null,null,null,null,null,null,null,null,null,null,null,null,null,null,null,null,null,null,null,null,null,null,null,null,null,null,null,null,null,null,null,null,null,null,null,null,null,null,null,null,null,null,null,null,null,null,null,null,null,null,null,null,null,null,null,null,null,null,null,null,null,null,null,null,null,null,null,null,null,null,null,null,null,null,null,null,null,null,null,null,null,null,null,null,null,null,null,null,null,null,null,null,null,null,null,null,null,null,null,null,null,null,null,null,null,null,null,null,null,null,null,null,null,null,null,null,null,null,null,null,null,null,null,null,null,null,null,null,null,null,null,null,null,null,null,null,null,null,null,null,null,null,null,null,null,null,null,null,null,null,null,null,null,null,null,null,null,null,null,null,null,null,null,null,null,null,null,null,null,null,null,null,null,null,null,null,null,null,null,null,null,null,null,null,null,null,null,null,null,null,null,null,null,null,null,null,null,null,null,null,null,null,null,null,null,null,null,null,null,null,null,null,null,null,null,null,null,null,null,null,null,null,null,null,null,null,null,null,null,null,null,null,null,null,null,null,null,null,null,null,null,null,null,null,null,null,null,null,null,null,null,null,null,null,null,null,null,null,null,null,null,null,null,null,null,null,null,null,null,null,null,null,null,null,null,null,null,null,null,null,null,null,null,null,null,null,null,null,null,null,null,null,null,null,null,null,null,null,null,null,null,null,null,null,null,null,null,null,null,null,null,null,null,null,null,null,null,null,null,null,null,null,null,null,null,null,null,null,null,null,null,null,null,null,null,null,null,null,null,null,null,null,null,null,null,null,null,null,null,null,null,null,null,null,null,null,null,null,null,null,null,null,null,null,null,null,null,null,null,null,null,null,null,null,null,null,null,null,null,null,null,null,null,null,null,null,null,null,null,null,null,null,null,null,null,null,null,null,null,null,null,null,null,null,null,null,null,null,null,null,null,null,null,null,null,null,null,null,null,null,null,null,null,null,null,null,null,null,null,null,null,null,null,null,null,null,null,null,null,null,null,null,null,null,null,null,null,null,null,null,null,null,null,null,null,null,null,null,null,null,null,null,null,null,null,null,null,null,null,null,null,null,null,null,null,null,null,null,null,null,null,null,null,null,null,null,null,null,null,null,null,null,null,null,null,null,null,null,null,null,null,null,null,null,null,null,null,null,null,null,null,null,null,null,null,null,null,null,null,null,null,null,null,null,null,null,null,null,null,null,null,null,null,null,null,null,null,null,null,null,null,null,null,null,null,null,null,null,null,null,null,null,null,null,null,null,null,null,null,null,null,null,null,null,null,null,null,null,null,null,null,null,null,null,null,null,null,null,null,null,null,null,null,null,null,null,null,null,null,null,null,null,null,null,null,null,null,null,null,null,null,null,null,null,null,null,null,null,null,null,null,null,null,null,null,null,null,null,null,null,null,null,null,null,null,null,null,null,null,null,null,null,null,null,null,null,null,null,null,null,null,null,null,null,null,null,null,null,null,null,null,null,null,null,null,null,null,null,null,null,null,null,null,null,null,null,null,null,null,null,null,null,null,null,null,null,null,null,null,null,null,null,null,null,null,null,null,null,null,null,null,null,null,null,null,null,null,null,null,null,null,null,null,null,null,null,null,null,null,null,null,null,null,null,null,null,null,null,null,null,null,null,null,null,null,null,null,null,null,null,null,null,null,null,null,null,null,null,null,null,null,null,null,null,null,null,null,null,null,null,null,null,null,null,null,null,null,null,null,null,null,null,null,null,null,null,null,null,null,null,null,null,null,null,null,null,null,null,null,null,null,null,null,null,null,null,null,null,null,null,null,null,null,null,null,null,null,null,null,null,null,null,null,null,null,null,null,null,null,null,null,null,null,null,null,null,null,null,null,null,null,null,null,null,null,null,null,null,null,null,null,null,null,null,null,null,null,null,null,null,null,null,null,null,null,null,null,null,null,null,null,null,null,null,null,null,null,null,null,null,null,null,null,null,null,null,null,null,null,null,null,null,null,null,null,null,null,null,null,null,null,null,null,null,null,null,null,null,null,null,null,null,null,null,null,null,null,null,null,null,null,null,null,null,null,null,null,null,null,null,null,null,null,null,null,null,null,null,null,null,null,null,null,null,null,null,null,null,null,null,null,null,null,null,null,null,null,null,null,null,null,null,null,null,null,null,null,null,null,null,null,null,null,null,null,null,null,null,null,null,null,null,null,null,null,null,null,null,null,null,null,null,null,null,null,null,null,null,null,null,null,null,null,null,null,null,null,null,null,null,null,null,null,null,null,null,null,null,null,null,null,null,null,null,null,null,null,null,null,null,null,null,null,null,null,null,null,null,null,null,null,null,null,null,null,null,null,null,null,null,null,null,null,null,null,null,null,null,null,null,null,null,null,null,null,null,null,null,null,null,null,null,null,null,null,null,null,null,null,null,null,null,null,null,null,null,null,null,null,null,null,null,null,null,null,null,null,null,null,null,null,null,null,null,null,null,null,null,null,null,null,null,null,null,null,null,null,null,null,null,null,null,null,null,null,null,null,null,null,null,null,null,null,null,null,null,null,null,null,null,null,null,null,null,null,null,null,null,null,null,null,null,null,null,null,null,null,null,null,null,null,null,null,null,null,null,null,null,null,null,null,null,null,null,null,null,null,null,null,null,null,null,null,null,null,null,null,null,null,null,null,null,null,null,null,null,null,null,null,null,null,null,null,null,null,null,null,null,null,null,null,null,null,null,null,null,null,null,null,null,null,null,null,null,null,null,null,null,null,null,null,null,null,null,null,null,null,null,null,null,null,null,null,null,null,null,null,null,null,null,null,null,null,null,null,null,null,null,null,null,null,null,null,null,null,null,null,null,null,null,null,null,null,null,null,null,null,null,null,null,null,null,null,null,null,null,null,null,null,null,null,null,null,null,null,null,null,null,null,null,null,null,null,null,null,null,null,null,null,null,null,null,null,null,null,null,null,null,null,null,null,null,null,null,null,null,null,null,null,null,null,null,null,null,null,null,null,null,null,null,null,null,null,null,null,null,null,null,null,null,null,null,null,null,null,null,null,null,null,null,null,null,null,null,null,null,null,null,null,null,null,null,null,null,null,null,null,null,null,null,null,null,null,null,null,null,null,null,null,null,null,null,null,null,null,null,null,null,null,null,null,null,null,null,null,null,null,null,null,null,null,null,null,null,null,null,null,null,null,null,null,null,null,null,null,null,null,null,null,null,null,null,null,null,null,null,null,null,null,null,null,null,null,null,null,null,null,null,null,null,null,null,null,null,null,null,null,null,null,null,null,null,null,null,null,null,null,null,null,null,null,null,null,null,null,null,null,null,null,null,null,null,null,null,null,null,null,null,null,null,null,null,null,null,null,null,null,null,null,null,null,null,null,null,null,null,null,null,null,null,null,null,null,null,null,null,null,null,null,null,null,null,null,null,null,null,null,null,null,null,null,null,null,null,null,null,null,null,null,null,null,null,null,null,null,null,null,null,null,null,null,null,null,null,null,null,null,null,null,null,null,null,null,null,null,null,null,null,null,null,null,null,null,null,null,null,null,null,null,null,null,null,null,null,null,null,null,null,null,null,null,null,null,null,null,null,null,null,null,null,null,null,null,null,null,null,null,null,null,null,null,null,null,null,null,null,null,null,null,null,null,null,null,null,null,null,null,null,null,null,null,null,null,null,null,null,null,null,null,null,null,null,null,null,null,null,null,null,null,null,null,null,null,null,null,null,null,null,null,null,null,null,null,null,null,null,null,null,null,null,null,null,null,null,null,null,null,null,null,null,null,null,null,null,null,null,null,null,null,null,null,null,null,null,null,null,null,null,null,null,null,null,null,null,null,null,null,null,null,null,null,null,null,null,null,null,null,null,null,null,null,null,null,null,null,null,null,null,null,null,null,null,null,null,null,null,null,null,null,null,null,null,null,null,null,null,null,null,null,null,null,null,null,null,null,null,null,null,null,null,null,null,null,null,null,null,null,null,null,null,null,null,null,null,null,null,null,null,null,null,null,null,null,null,null,null,null,null,null,null,null,null,null,null,null,null,null,null,null,null,null,null,null,null,null,null,null,null,null,null,null,null,null,null,null,null,null,null,null,null,null,null,null,null,null,null,null,null,null,null,null,null,null,null,null,null,null,null,null,null,null,null,null,null,null,null,null,null,null,null,null,null,null,null,null,null,null,null,null,null,null,null,null,null,null,null,null,null,null,null,null,null,null,null,null,null,null,null,null,null,null,null,null,null,null,null,null,null,null,null,null,null,null,null,null,null,null,null,null,null,null,null,null,null,null,null,null,null,null,null,null,null,null,null,null,null,null,null,null,null,null,null,null,null,null,null,null,null,null,null,null,null,null,null,null,null,null,null,null,null,null,null,null,null,null,null,null,null,null,null,null,null,null,null,null,null,null,null,null,null,null,null,null,null,null,null,null,null,null,null,null,null,null,null,null,null,null,null,null,null,null,null,null,null,null,null,null,null,null,null,null,null,null,null,null,null,null,null,null,null,null,null,null,null,null,null,null,null,null,null,null,null,null,null,null,null,null,null,null,null,null,null,null,null,null,null,null,null,null,null,null,null,null,null,null,null,null,null,null,null,null,null,null,null,null,null,null,null,null,null,null,null,null,null,null,null,null,null,null,null,null,null,null,null,null,null,null,null,null,null,null,null,null,null,null,null,null,null,null,null,null,null,null,null,null,null,null,null,null,null,null,null,null,null,null,null,null,null,null,null,null,null,null,null,null,null,null,null,null,null,null,null,null,null,null,null,null,null,null,null,null,null,null,null,null,null,null,null,null,null,null,null,null,null,null,null,null,null,null,null,null,null,null,null,null,null,null,null,null,null,null,null,null,null,null,null,null,null,null,null,null,null,null,null,null,null,null,null,null,null,null,null,null,null,null,null,null,null,null,null,null,null,null,null,null,null,null,null,null,null,null,null,null,null,null,null,null,null,null,null,null,null,null,null,null,null,null,null,null,null,null,null,null,null,null,null,null,null,null,null,null,null,null,null,null,null,null,null,null,null,null,null,null,null,null,null,null,null,null,null,null,null,null,null,null,null,null,null,null,null,null,null,null,null,null,null,null,null,null,null,null,null,null,null,null,null,null,null,null,null,null,null,null,null,null,null,null,null,null,null,null,null,null,null,null,null,null,null,null,null,null,null,null,null,null,null,null,null,null,null,null,null,null,null,null,null,null,null,null,null,null,null,null,null,null,null,null,null,null,null,null,null,null,null,null,null,null,null,null,null,null,null,null,null,null,null,null,null,null,null,null,null,null,null,null,null,null,null,null,null,null,null,null,null,null,null,null,null,null,null,null,null,null,null,null,null,null,null,null,null,null,null,null,null,null,null,null,null,null,null,null,null,null,null,null,null,null,null,null,null,null,null,null,null,null,null,null,null,null,null,null,null,null,null,null,null,null,null,null,null,null,null,null,null,null,null,null,null,null,null,null,null,null,null,null,null,null,null,null,null,null,null,null,null,null,null,null,null,null,null,null,null,null,null,null,null,null,null,null,null,null,null,null,null,null,null,null,null,null,null,null,null,null,null,null,null,null,null,null,null,null,null,null,null,null,null,null,null,null,null,null,null,null,null,null,null,null,null,null,null,null,null,null,null,null,null,null,null,null,null,null,null,null,null,null,null,null,null,null,null,null,null,null,null,null,null,null,null,null,null,null,null,null,null,null,null,null,null,null,null,null,null,null,null,null,null,null,null,null,null,null,null,null,null,null,null,null,null,null,null,null,null,null,null,null,null,null,null,null,null,null,null,null,null,null,null,null,null,null,null,null,null,null,null,null,null,null,null,null,null,null,null,null,null,null,null,null,null,null,null,null,null,null,null,null,null,null,null,null,null,null,null,null,null,null,null,null,null,null,null,null,null,null,null,null,null,null,null,null,null,null,null,null,null,null,null,null,null,null,null,null,null,null,null,null,null,null,null,null,null,null,null,null,null,null,null,null,null,null,null,null,null,null,null,null,null,null,null,null,null,null,null,null,null,null,null,null,null,null,null,null,null,null,null,null,null,null,null,null,null,null,null,null,null,null,null,null,null,null,null,null,null,null,null,null,null,null,null,null,null,null,null,null,null,null,null,null,null,null,null,null,null,null,null,null,null,null,null,null,null,null,null,null,null,null,null,null,null,null,null,null,null,null,null,null,null,null,null,null,null,null,null,null,null,null,null,null,null,null,null,null,null,null,null,null,null,null,null,null,null,null,null,null,null,null,null,null,null,null,null,null,null,null,null,null,null,null,null,null,null,null,null,null,null,null,null,null,null,null,null,null,null,null,null,null,null,null,null,null,null,null,null,null,null,null,null,null,null,null,null,null,null,null,null,null,null,null,null,null,null,null,null,null,null,null,null,null,null,null,null,null,null,null,null,null,null,null,null,null,null,null,null,null,null,null,null,null,null,null,null,null,null,null,null,null,null,null,null,null,null,null,null,null,null,null,null,null,null,null,null,null,null,null,null,null,null,null,null,null,null,null,null,null,null,null,null,null,null,null,null,null,null,null,null,null,null,null,null,null,null,null,null,null,null,null,null,null,null,null,null,null,null,null,null,null,null,null,null,null,null,null,null,null,null,null,null,null,null,null,null,null,null,null,null,null,null,null,null,null,null,null,null,null,null,null,null,null,null,null,null,null,null,null,null,null,null,null,null,null,null,null,null,null,null,null,null,null,null,null,null,null,null,null,null,null,null,null,null,null,null,null,null,null,null,null,null,null,null,null,null,null,null,null,null,null,null,null,null,null,null,null,null,null,null,null,null,null,null,null,null,null,null,null,null,null,null,null,null,null,null,null,null,null,null,null,null,null,null,null,null,null,null,null,null,null,null,null,null,null,null,null,null,null,null,null,null,null,null,null,null,null,null,null,null,null,null,null,null,null,null,null,null,null,null,null,null,null,null,null,null,null,null,null,null,null,null,null,null,null,null,null,null,null,null,null,null,null,null,null,null,null,null,null,null,null,null,null,null,null,null,null,null,null,null,null,null,null,null,null,null,null,null,null,null,null,null,null,null,null,null,null,null,null,null,null,null,null,null,null,null,null,null,null,null,null,null,null,null,null,null,null,null,null,null,null,null,null,null,null,null,null,null,null,null,null,null,null,null,null,null,null,null,null,null,null,null,null,null,null,null,null,null,null,null,null,null,null,null,null,null,null,null,null,null,null,null,null,null,null,null,null,null,null,null,null,null,null,null,null,null,null,null,null,null,null,null,null,null,null,null,null,null,null,null,null,null,null,null,null,null,null,null,null,null,null,null,null,null,null,null,null,null,null,null,null,null,null,null,null,null,null,null,null,null,null,null,null,null,null,null,null,null,null,null,null,null,null,null,null,null,null,null,null,null,null,null,null,null,null,null,null,null,null,null,null,null,null,null,null,null,null,null,null,null,null,null,null,null,null,null,null,null,null,null,null,null,null,null,null,null,null,null,null,null,null,null,null,null,null,null,null,null,null,null,null,null,null,null,null,null,null,null,null,null,null,null,null,null,null,null,null,null,null,null,null,null,null,null,null,null,null,null,null,null,null,null,null,null,null,null,null,null,null,null,null,null,null,null,null,null,null,null,null,null,null,null,null,null,null,null,null,null,null,null,null,null,null,null,null,null,null,null,null,null,null,null,null,null,null,null,null,null,null,null,null,null,null,null,null,null,null,null,null,null,null,null,null,null,null,null,null,null,null,null,null,null,null,null,null,null,null,null,null,null,null,null,null,null,null,null,null,null,null,null,null,null,null,null,null,null,null,null,null,null,null,null,null,null,null,null,null,null,null,null,null,null,null,null,null,null,null,null,null,null,null,null,null,null,null,null,null,null,null,null,null,null,null,null,null,null,null,null,null,null,null,null,null,null,null,null,null,null,null,null,null,null,null,null,null,null,null,null,null,null,null,null,null,null,null,null,null,null,null,null,null,null,null,null,null,null,null,null,null,null,null,null,null,null,null,null,null,null,null,null,null,null,null,null,null,null,null,null,null,null,null,null,null,null,null,null,null,null,null,null,null,null,null,null,null,null,null,null,null,null,null,null,null,null,null,null,null,null,null,null,null,null,null,null,null,null,null,null,null,null,null,null,null,null,null,null,null,null,null,null,null,null,null,null,null,null,null,null,null,null,null,null,null,null,null,null,null,null,null,null,null,null,null,null,null,null,null,null,null,null,null,null,null,null,null,null,null,null,null,null,null,null,null,null,null,null,null,null,null,null,null,null,null,null,null,null,null,null,null,null,null,null,null,null,null,null,null,null,null,null,null,null,null,null,null,null,null,null,null,null,null,null,null,null,null,null,null,null,null,null,null,null,null,null,null,null,null,null,null,null,null,null,null,null,null,null,null,null,null,null,null,null,null,null,null,null,null,null,null,null,null,null,null,null,null,null,null,null,null,null,null,null,null,null,null,null,null,null,null,null,null,null,null,null,null,null,null,null,null,null,null,null,null,null,null,null,null,null,null,null,null,null,null,null,null,null,null,null,null,null,null,null,null,null,null,null,null,null,null,null,null,null,null,null,null,null,null,null,null,null,null,null,null,null,null,null,null,null,null,null,null,null,null,null,null,null,null,null,null,null,null,null,null,null,null,null,null,null,null,null,null,null,null,null,null,null,null,null,null,null,null,null,null,null,null,null,null,null,null,null,null,null,null,null,null,null,null,null,null,null,null,null,null,null,null,null,null,null,null,null,null,null,null,null,null,null,null,null,null,null,null,null,null,null,null,null,null,null,null,null,null,null,null,null,null,null,null,null,null,null,null,null,null,null,null,null,null,null,null,null,null,null,null,null,null,null,null,null,null,null,null,null,null,null,null,null,null,null,null,null,null,null,null,null,null,null,null,null,null,null,null,null,null,null,null,null,null,null,null,null,null,null,null,null,null,null,null,null,null,null,null,null,null,null,null,null,null,null,null,null,null,null,null,null,null,null,null,null,null,null,null,null,null,null,null,null,null,null,null,null,null,null,null,null,null,null,null,null,null,null,null,null,null,null,null,null,null,null,null,null,null,null,null,null,null,null,null,null,null,null,null,null,null,null,null,null,null,null,null,null,null,null,null,null,null,null,null,null,null,null,null,null,null,null,null,null,null,null,null,null,null,null,null,null,null,null,null,null,null,null,null,null,null,null,null,null,null,null,null,null,null,null,null,null,null,null,null,null,null,null,null,null,null,null,null,null,null,null,null,null,null,null,null,null,null,null,null,null,null,null,null,null,null,null,null,null,null,null,null,null,null,null,null,null,null,null,null,null,null,null,null,null,null,null,null,null,null,null,null,null,null,null,null,null,null,null,null,null,null,null,null,null,null,null,null,null,null,null,null,null,null,null,null,null,null,null,null,null,null,null,null,null,null,null,null,null,null,null,null,null,null,null,null,null,null,null,null,null,null,null,null,null,null,null,null,null,null,null,null,null,null,null,null,null,null,null,null,null,null,null,null,null,null,null,null,null,null,null,null,null,null,null,null,null,null,null,null,null,null,null,null,null,null,null,null,null,null,null,null,null,null,null,null,null,null,null,null,null,null,null,null,null,null,null,null,null,null,null,null,null,null,null,null,null,null,null,null,null,null,null,null,null,null,null,null,null,null,null,null,null,null,null,null,null,null,null,null,null,null,null,null,null,null,null,null,null,null,null,null,null,null,null,null,null,null,null,null,null,null,null,null,null,null,null,null,null,null,null,null,null,null,null,null,null,null,null,null,null,null,null,null,null,null,null,null,null,null,null,null,null,null,null,null,null,null,null,null,null,null,null,null,null,null,null,null,null,null,null,null,null,null,null,null,null,null,null,null,null,null,null,null,null,null,null,null,null,null,null,null,"YESO, CAL - OFICINA"]

{"sheet":"DatosInfo","index":12,"n_rows":237,"n_cols":1,"rows_kept":237,"cut":false,"hidden":true,"merged":[]}
["ABARROTES\\OFICINA"]
["ACEITE\\OFICINA"]
["ACUEDUCTOS Y/O CANALES DE RIEGO\\OFICINA"]
["ADMINISTRADORA DE FONDOS DE PENSIONES - AFP\\ADMINISTRADORA DE FONDOS DE PENSIONES - AFP"]
["AEROLINEA\\COUNTER"]
["AEROLINEA\\OFICINA"]
["AEROSOLES\\OFICINA"]
["AGENCIA DE BOLSA\\AGENCIA DE BOLSA"]
["AGENCIA DE CARGA Y/U OPERADOR LOGÍSTICO\\OFICINA"]
["AGENCIA DE EMPLEOS\\OFICINA"]
["AGENCIA DE PUBLICIDAD\\OFICINA"]
["AGENCIA DE VIAJES Y/O TURISMO\\AGENCIA DE VIAJES Y/O TURISMO"]
["AGENCIA DE VIAJES Y/O TURISMO\\COUNTER"]
["ALAMBRES, CABLES Y CONDUCTORES ELÈCTRICOS\\OFICINA"]
["ALCOHOL\\OFICINA"]
["ALFOMBRAS Y/O TAPICES\\OFICINA"]
["ALGODÓN\\OFICINA"]
["ALIMENTOS\\OFICINA"]
["ALMACENES GENERALES\\OFICINA"]
["ARMAS DE FUEGO Y/O MUNICIONES\\OFICINA"]
["ARTÍCULOS DE LIMPIEZA E HIGIENE\\OFICINA"]
["ARTÍCULOS DE METAL\\OFICINA"]
["ARTÍCULOS ELECTRODOMÉSTICOS\\OFICINA"]
["ASBESTO\\OFICINA"]
["ASCENSORES\\OFICINA"]
["ASTILLEROS\\OFICINA"]
["AUTOMOTORES, PLANTA DE ENSAMBLAJE\\OFICINA"]
["BARNICES Y/O SOLVENTES\\OFICINA"]
["BATERÍAS\\OFICINA"]
["BEBIDAS (NO ALCOHÓLICAS, GASIFICADAS)\\OFICINA"]
["BICICLETAS\\OFICINA"]
["BIOCOMBUSTIBLE\\OFICINA"]
["BISUTERIA\\OFICINA"]
["CAFÉ Y DERIVADOS DEL CACAO\\OFICINA"]
["CALZADO, ZAPATOS , ZAPATILLAS\\OFICINA"]
["CARBÓN Y NEGRO DE HUMO\\OFICINA"]
["CAUCHO\\OFICINA"]
["CEMENTO, CONCRETO Y SIMILARES\\OFICINA"]
["CENTROS DE EDUCACIÓN\\OFICINA"]
["CERÁMICOS,PORCELANAS Y SIMILARES\\OFICINA"]
["CERVECERÍAS Y/O MALTERÍAS\\OFICINA"]
["CINTAS ADHESIVAS Y/O ETIQUETAS AUTOADHESIVAS\\OFICINA"]
["CLUBES Y/O CENTROS DE ESPARCIMIENTO\\OFICINA"]
["COLCHONES, ESPUMAS, ALMOHADAS Y AFINES\\OFICINA"]
["COMPUTADORAS (EQUIPOS Y/O SUMINISTRO)\\OFICINA"]
["CONSULTORIA Y ASESORAMIENTO\\OFICINA"]
["CONTRATISTA CONSTRUCTOR\\OFICINA"]
["CONTRATISTA MINERO\\OFICINA"]
["COOP. DE AHORRO Y CREDITO\\ENTIDADES FINANCIERAS"]
["COOPERATIVA DE TRABAJO\\ENTIDADES FINANCIERAS"]
["CORREO - SERVICIO POSTAL\\COMUNICACIÓN Y CORREO"]
["CORREO - SERVICIO POSTAL\\OFICINA"]
["COSMÉTICOS Y PRODUCTOS DE BELLEZA\\OFICINA"]
["CRISTAL Y VIDRIO\\OFICINA"]
["CUERO, CURTIEMBRE, CURTIDURÍA\\OFICINA"]
["CUERO Y ARTICULOS DE\\OFICINA"]
["DEPENDENCIAS GUBERNAMENTALES\\OFICINA"]
["DESALINIZACIÓN\\OFICINA"]
["DESTILERÍA\\OFICINA"]
["DETERGENTES\\OFICINA"]
["DISCOS Y/O CINTAS Y/O CASSETTES Y/O AFINES\\OFICINA"]
["DULCES Y/O GOLOSINAS Y/O CONFITERÍA\\OFICINA"]
["EDITORAS, DIARIOS Y REVISTAS\\EDITORA"]
["EDITORAS, DIARIOS Y REVISTAS\\OFICINA"]
["EMPRESA DE COBRANZA\\EMPRESA DE COBRANZA"]
["EMPRESA DE LIMPIEZA Y MANTENIMIENTO\\OFICINA"]
["EMPRESA DE VIGILANCIA Y SEGURIDAD\\OFICINA"]
["ENERGÍA\\OFICINA"]
["ENVASADORA, CONSERVADORA\\OFICINA"]
["EQUIPO MÉDICO\\OFICINA"]
["EQUIPOS ELECTRÓNICOS\\OFICINA"]
["ESTUDIO FOTOGRAFICO\\OFICINA"]
["ESTUDIOS JURÍDICOS, ABOGADOS\\OFICINA"]
["EXPLOSIVOS\\OFICINA"]
["FARMACIAS Y/O BOTICAS\\OFICINA"]
["FERRETERÍA\\OFICINA"]
["FERTILIZANTES\\OFICINA"]
["FINANCIERAS\\BANCO"]
["FINANCIERAS\\BOLSA DE VALORES"]
["FINANCIERAS\\CAJAS DE AHORRO Y PRESTAMO"]
["FINANCIERAS\\CAJAS RURALES"]
["FINANCIERAS\\COOPERATIVAS"]
["FINANCIERAS\\EDPYMES"]
["FINANCIERAS\\ENTIDADES FINANCIERAS"]
["FINANCIERAS\\MUTUALES/PRESTAMISTAS"]
["FOSFORERIA\\OFICINA"]
["FOTOCOPIADORAS\\OFICINA"]
["FRIGORÍFICO\\OFICINA"]
["FUEGOS ARTIFICIALES Y ARTEFACTOS PIROTÉCNICOS\\OFICINA"]
["FUMIGACIÓN\\OFICINA"]
["FUNDO AGRÍCOLA, HACIENDAS\\OFICINA"]
["FUNGICIDAS,INSECTICIDAS,HERBICIDAS,PESTICIDAS\\OFICINA"]
["GAS LÍCUADO DE PETRÓLEO\\OFICINA"]
["GAS NATURAL\\OFICINA"]
["GASES INDUSTRIALES\\OFICINA"]
["GRANJAS Y/O AVÍCOLAS Y/O ESTABLOS\\OFICINA"]
["GRANOS\\OFICINA"]
["HARINA Y/O ACEITE DE PESCADO\\OFICINA"]
["HELADOS\\OFICINA"]
["HIELO\\OFICINA"]
["HORTALIZAS Y FRUTAS\\OFICINA"]
["INDUSTRIA GRÁFICA, IMPRENTA\\OFICINA"]
["INGENIO AZUCARERO\\OFICINA"]
["INMOBILIARIA\\OFICINA"]
["JOYERÍA\\OFICINA"]
["JUGUETERÍA\\OFICINA"]
["LABORATORIO\\OFICINA"]
["LÁCTEOS\\OFICINA"]
["LADRILLOS\\OFICINA"]
["LANGOSTINERAS / CRIADERO DE LANGOSTINOS\\OFICINA"]
["LEVADURA\\OFICINA"]
["LIBRERÍA (SÓLO LIBROS, REVISTAS)\\OFICINA"]
["LICORERÍA\\OFICINA"]
["LLANTAS\\OFICINA"]
["LUBRICANTES\\OFICINA"]
["MADERA Y/O AGLOMERADOS Y/O SIMILARES\\OFICINA"]
["MAQUINARIA, EQUIPOS, REPUESTOS\\OFICINA"]
["MATERIALES DE CONSTRUCCIÓN\\OFICINA"]
["MECHAS\\OFICINA"]
["METALMECÁNICA\\OFICINA"]
["MINERÍA\\OFICINA"]
["MOLINERA\\OFICINA"]
["NITROCELULOSA\\OFICINA"]
["NOTARÍA\\OFICINA"]
["ORFEBRERÍA (JOYAS, PLATERÍA)\\OFICINA"]
["ORGANISMO NO GUBERNAMENTAL\\OFICINA"]
["OSMOSIS, PLANTAS DE INVERSIÒN\\OFICINA"]
["PANIFICACIÓN\\OFICINA"]
["PAPEL Y CARTÓN\\OFICINA"]
["PARQUES DE DIVERSIONES\\OFICINA"]
["PEGAMENTOS\\OFICINA"]
["PELETERIAS (CONFECCIÓN PRENDAS EN CUERO)\\OFICINA"]
["PELÍCULAS (EXCLUYENDO NITRATO DE CELULOSA)\\OFICINA"]
["PETRÓLEO Y SUS DERIVADOS\\OFICINA"]
["PINTURAS Y/O TINTES AL AGUA Y/O NATURALES\\OFICINA"]
["PINTURAS Y/O TINTES COMBUSTIBLES / INFLAMABLES\\OFICINA"]
["PISCIGRANJAS / CRIADERO DE PECES\\OFICINA"]
["PLÁSTICOS, MATERIALES SINTETICOS, JEBES\\OFICINA"]
["PRODUCTOS FARMACÉUTICOS\\OFICINA"]
["PRODUCTOS/INSUMOS QUÍMICOS PARA LA INDUSTRIA\\OFICINA"]
["REDES DE PESCA\\OFICINA"]
["RESIDUOS / DESECHOS\\OFICINA"]
["SANITARIO, MÁRMOL Y LAJA\\OFICINA"]
["SEGUROS\\AJUSTADOR DE SEGUROS"]
["SEGUROS\\CORREDOR DE REASEGUROS"]
["SEGUROS\\CORREDOR DE SEGUROS"]
["SEGUROS\\EMPRESA DE SEGUROS"]
["SERVICIO DE TELECOMUNICACIÓN\\OFICINA"]
["TABACO\\OFICINA"]
["TELAS\\OFICINA"]
["TELEFONÍA MÓVIL (CELULARES)\\OFICINA"]
["TEXTIL\\OFICINA"]
["TINTA A BASE DE SOLVENTES O INFLAMABLES\\OFICINA"]
["TRANSPORTE DE CARGA\\OFICINA"]
["TRANSPORTE DE VALORES (CUSTODIA)\\OFICINA"]
["TRANSPORTE PÚBLICO Y PRIVADO DE PASAJEROS\\OFICINA"]
["VELAS\\OFICINA"]
["VENTA DE VEHÍCULOS, CONCESIONARIO\\OFICINA"]
["VÍAS, MEDIOS DE COMUNICACIÓN\\OFICINA"]
["YESO, CAL\\OFICINA"]
["MADERA Y/O AGLOMERADOS Y/O SIMILARES\\DEPÓSITO (ALMACÉN)"]
["MAQUINARIA, EQUIPOS, REPUESTOS\\COMERCIO (VENTA)"]
["MAQUINARIA, EQUIPOS, REPUESTOS\\DEPÓSITO (ALMACÉN)"]
["MATERIALES DE CONSTRUCCIÓN\\COMERCIO (VENTA)"]
["MATERIALES DE CONSTRUCCIÓN\\DEPÓSITO (ALMACÉN)"]
["MERCADOS, SUPERMERCADOS E HIPERMERCADOS\\MERCADOS, SUPERMERCADOS E HIPERMERCADOS"]
["METALMECÁNICA\\DEPÓSITO (ALMACÉN)"]
["MINERÍA\\DEPÓSITO (ALMACÉN)"]
["MOLINERA\\DEPÓSITO (ALMACÉN)"]
["MUEBLES, PARA EL HOGAR, METÁLICOS SIN TAPIZADO\\COMERCIO (VENTA)"]
["NITROCELULOSA\\COMERCIO (VENTA)"]
["NITROCELULOSA\\DEPÓSITO (ALMACÉN)"]
["OPTICAS\\OPTICAS"]
["ORFEBRERÍA (JOYAS, PLATERÍA)\\COMERCIO (VENTA)"]
["ORFEBRERÍA (JOYAS, PLATERÍA)\\DEPÓSITO (ALMACÉN)"]
["OSMOSIS, PLANTAS DE INVERSIÒN\\COMERCIO (VENTA)"]
["OSMOSIS, PLANTAS DE INVERSIÒN\\DEPÓSITO (ALMACÉN)"]
["PANIFICACIÓN\\DEPÓSITO (ALMACÉN)"]
["PAPEL Y CARTÓN\\COMERCIO (VENTA)"]
["PAPEL Y CARTÓN\\DEPÓSITO (ALMACÉN)"]
["PASAMANERÍA - AVIOS TEXTILES\\COMERCIO (VENTA)"]
["PEGAMENTOS\\DEPÓSITO (ALMACÉN)"]
["PELETERIAS (CONFECCIÓN PRENDAS EN CUERO)\\COMERCIO (VENTA)"]
["PELETERIAS (CONFECCIÓN PRENDAS EN CUERO)\\DEPÓSITO (ALMACÉN)"]
["PELUQUERIA\\BELLEZA"]
["PETRÓLEO Y SUS DERIVADOS\\COMERCIO (VENTA)"]
["PINTURAS Y/O TINTES AL AGUA Y/O NATURALES\\COMERCIO (VENTA)"]
["PINTURAS Y/O TINTES AL AGUA Y/O NATURALES\\DEPÓSITO (ALMACÉN)"]
["PINTURAS Y/O TINTES COMBUSTIBLES / INFLAMABLES\\COMERCIO (VENTA)"]
["PINTURAS Y/O TINTES COMBUSTIBLES / INFLAMABLES\\DEPÓSITO (ALMACÉN)"]
["PLÁSTICOS, MATERIALES SINTETICOS, JEBES\\COMERCIO (VENTA)"]
["PLÁSTICOS, MATERIALES SINTETICOS, JEBES\\DEPÓSITO (ALMACÉN)"]
["PLAYA DE ESTACIONAMIENTO\\PLAYA DE ESTACIONAMIENTO"]
["PRENDAS DE VESTIR - BOUTIQUE\\PRENDAS DE VESTIR - BOUTIQUE"]
["PRODUCTOS FARMACÉUTICOS\\COMERCIO (VENTA)"]
["PRODUCTOS FARMACÉUTICOS\\DEPÓSITO (ALMACÉN)"]
["PRODUCTOS/INSUMOS QUÍMICOS PARA LA INDUSTRIA\\COMERCIO (VENTA)"]
["PRODUCTOS/INSUMOS QUÍMICOS PARA LA INDUSTRIA\\DEPÓSITO (ALMACÉN)"]
["REDES DE PESCA\\COMERCIO (VENTA)"]
["REDES DE PESCA\\DEPÓSITO (ALMACÉN)"]
["RELOJERÍAS\\COMERCIO (VENTA)"]
["RELOJERÍAS\\DEPÓSITO (ALMACÉN)"]
["RESIDUOS / DESECHOS\\DEPÓSITO (ALMACÉN)"]
["RESTAURANTE\\RESTAURANTE"]
["SALÓN DE BELLEZA Y/O PELUQUERIA\\BELLEZA"]
["SALÓN DE JUEGOS ELECTRÓNICOS\\SALÓN DE JUEGOS ELECTRÓNICOS"]
["SALONES DE JUEGO, APUESTAS\\CASINO"]
["SALONES DE JUEGO, APUESTAS\\LOTERIA"]
["SALONES DE JUEGO, APUESTAS\\TRAGAMONEDAS"]
["SANITARIO, MÁRMOL Y LAJA\\COMERCIO (VENTA)"]
["SANITARIO, MÁRMOL Y LAJA\\DEPÓSITO (ALMACÉN)"]
["SERVICIO DE TELECOMUNICACIÓN\\DEPÓSITO (ALMACÉN)"]
["SERVICIOS FUNERARIOS\\CEMENTERIO"]
["SERVICIOS FUNERARIOS\\FUNERARIA"]
["TABACO\\COMERCIO (VENTA)"]
["TABACO\\DEPÓSITO (ALMACÉN)"]
["TELAS\\COMERCIO (VENTA)"]
["TELAS\\DEPÓSITO (ALMACÉN)"]
["TELEFONÍA MÓVIL (CELULARES)\\COMERCIO (VENTA)"]
["TELEFONÍA MÓVIL (CELULARES)\\DEPÓSITO (ALMACÉN)"]
["TEXTIL\\COMERCIO (VENTA)"]
["TEXTIL\\CONFECCIONES"]
["TEXTIL\\DEPÓSITO (ALMACÉN)"]
["TEXTIL\\TINTORERIA Y/O LAVANDERIA"]
["TIENDAS POR DEPARTAMENTO\\TIENDAS POR DEPARTAMENTO"]
["TINTA A BASE DE SOLVENTES O INFLAMABLES\\COMERCIO (VENTA)"]
["TRANSPORTE DE CARGA\\TERMINAL TERRESTRE"]
["TRANSPORTE DE VALORES (CUSTODIA)\\TRANSPORTE DE VALORES (CUSTODIA)"]
["TRANSPORTE PÚBLICO Y PRIVADO DE PASAJEROS\\TERMINAL TERRESTRE"]
["VALE PARKING\\VALE PARKING"]
["VEHÍCULOS Y/O AUTOMÓVILES\\DEPÓSITO (ALMACÉN)"]
["VELAS\\COMERCIO (VENTA)"]
["VELAS\\DEPÓSITO (ALMACÉN)"]
["VENTA DE VEHÍCULOS, CONCESIONARIO\\CONCESIONARIO"]
["VETERINARIA\\VETERINARIA"]
["YESO, CAL\\COMERCIO (VENTA)"]
["YESO, CAL\\DEPÓSITO (ALMACÉN)"]