{"text_format":"1","workbook":"xlsx","n_sheets":37,"sheets":["GuiadeUso","Valor referencial m2","Panel","Cálculo valor referencial","Cotizador","configuracion","tabla","tasasCupones","CotizacionInmueble","CotizacionBienes","CotizacionInmuebleyBienes","CotizacionInmuebleVT","CotizacionBienesVT","CotizacionInmuebleyBienesVT","VALOR TOTAL INMUEBLE","VALOR TOTAL BIENES","configMatConstruccion","VALOR TOTAL INMUEBLE +BIENES","PRIMER RIESGO INMUEBLE","PRIMER RIESGO BIENES","PRIMER RIESGO INMUEBLE+BIENES","PlanFullCasaCompleta","PlanBasico","tasas","coberturasyClausulas","INMUEBLE","BIENES","INMUEBLE Y BIENES","PRIMER RIESGO INMUEBLEx","PRIMER RIESGO BIENESx","PRIMER RIESGO INMUEBLE+BIENESx","IngresoSolicitud","CamposTrama1","FormularioSolicitud","SolicitudenBlanco","desplegables ubigeo","Afiliación débito"],"not_rendered":{"charts":0,"images":15,"macros":1,"external_links":1,"defined_names":36,"comments":2,"pivot_tables":0},"unopened":[],"bounds":{"document_bytes":16777216,"sheet_cells":100000,"rows_first":2000,"rows_last":500,"rows_between":2000,"halvings":0,"cell_chars":16384,"cell_head_chars":4096},"cells_cut":0,"cells_raw":0,"read":"whole","date_system":"1900"}

{"sheet":"GuiadeUso","index":0,"n_rows":61,"n_cols":11,"rows_kept":61,"cut":false,"hidden":true,"merged":[[33,2,36,9],[29,2,31,9],[42,2,43,9],[3,4,4,9],[7,4,7,9],[9,2,11,9],[12,2,14,9],[24,2,25,9]]}
[]
[null,null,null,null,null,null,null,null,null,null,"Volver al Panel"]
[]
[]
[]
[]
[]
[null,null,null,null,"GUÍA DE USO - COTIZADOR HOGAR"]
[]
[null,null,"Este archivo debe usarse con versiones de Excel 2003 en adelante. Además, debe tener instalado el complemento de \"Guardar como PDF para Office\" en su PC."]
[]
[]
[null,null,"Si le apareciera el botón Habilitar Contenido, haga click en el mismo. Luego le aparecerá una ventana en la cual debe seleccionar la opción \"Habilitar Macros\" y dar click en Aceptar."]
[]
[]
[]
[null,null,"REALIZAR COTIZACIÓN"]
[null,null,"1. Ud.  cuenta con 3 secciones en el cotizador:"]
[null,null,"(i)   Datos del agente"]
[null,null,"(ii)  Datos del cliente"]
[null,null,"(iii)  Información para cotizar"]
[]
[null,null,"2 . Los campos de color celeste son obligatorios. Debe llenarlos sino no podrá continuar.  "]
[]
[null,null,"3. En la sección \"Información para cotizar\" deberás elegir una opción para cada una de las preguntas establecidas ( tipo de cliente, materia asegurada, modo a asegurar, tipo de vivienda y moneda), "]
[]
[]
[null,null,"4.Luego haz click en el botón \"Ir a coberturas\""]
[]
[null,null,"5.Ingresar las sumas aseguradas de la edificación y/o contenido según lo que se desea asegurar; o hacer uso del valorizador de inmueble si es que el cliente vive en Lima y quiere obtener un valor referencial."]
[]
[]
[]
[null,null,"6.Según las opciones que se hayan elegido en el paso 3, aparecerán coberturas preseleccionadas a manera de sugerencia según el tipo de cliente. Podrás mantener estas coberturas o deseleccionarlas borrando la X o dando doble click en los recuadros. De la misma manera podrás seleccionar cualquier cobertura colocando una X o dando doble click en los recuadros."]
[]
[]
[]
[]
[null,null,"7. Al confirmar coberturas seleccionadas, ir a la parte superior y presionar \"Ir al cotizador\""]
[]
[null,null,"8. Seleccionar la forma de pago"]
[]
[null,null,"9. Para obtener un archivo PDF de la Cotización de Seguro, debe presionar el botón: \"COTIZACIÓN EN PDF\"."]
[]
[]
[null,null,"INGRESAR SOLICITUD"]
[null,null,"1. Los campos de color celeste  son obligatorios. Debe llenarlos sino no podrá continuar."]
[null,null,"2. Ud.  cuenta con 6 secciones:"]
[null,null,"(i)   Datos Generales -> Informacion del Asegurado"]
[null,null,"(ii)  Datos Generales -> Informacion del Contratante"]
[null,null,"(iii) Datos del Negocio (Datos vienen de la hoja Cotizador)"]
[null,null,"(iv) Declaracion Jurada"]
[null,null,"(v)  Pago de Primas (Datos vienen de la hoja Cotizador)"]
[null,null,"(vi) Datos del Corredor de Seguros"]
[null,null,"3. Para obtener un archivo PDF de la Solicitud de Seguro, debe presionar el botón: \"SOLICITUD DE SEGURO EN PDF\""]
[]
[null,null,"PARA EMISIÓN"]
[null,null,"1.- Enviar al buzon emisionrapida@pacifico.com.pe "]
[null,null,"(I)   Solicitud PDF"]
[null,null,"(ii)  Slip de cotizacion"]
[null,null,"  (iii)  Información para emisión (afiliación al débito automático)"]

{"sheet":"Valor referencial m2","index":1,"n_rows":13,"n_cols":13,"rows_kept":13,"cut":false,"hidden":false,"merged":[]}
[null,null,null,null,null,null,null,null,null,"Volver al Panel"]
[null,null,null,{"$f":"\"Valor referencial de Inmueble - \" & configuracion!$K$2","v":"Valor referencial de Inmueble - Enero 2025"},null,null,null,null,null,null,null,null,{"$f":"+CONCATENATE(D5,\"-\",D6,\"-\",D7,\"-\",D8)","v":"---"}]
[null,null,"Ingrese los datos en turqueza para obtener el valor referencial del inmueble por Ubigeo y m2",null,null,null,null,null,null,null,null,null,3.7]
[]
[null,null,"Departamento"]
[null,null,"Provincia"]
[null,null,"Distrito"]
[null,null,"Tipo de inmueble"]
[]
[null,null,"Metros cuadrados"]
[]
[null,null,null,"En soles",{"$f":"IFERROR(VLOOKUP(M2,'Cálculo valor referencial'!F:G,2,0)*D10,0)","v":0},null,"En dólares",{"$f":"+IFERROR(E12/M3,0)","v":0}]
[null,null,null,null,null,null,null,{"$f":"CONCATENATE(\"Tipo de cambio \",TEXT(M3,\"0.00\"))","v":"Tipo de cambio 3.70"}]

{"sheet":"Panel","index":2,"n_rows":12,"n_cols":13,"rows_kept":12,"cut":false,"hidden":false,"merged":[]}
[null,null,null,null,null,null,null,null,null,"VERSION",{"$f":"+configuracion!K2","v":"Enero 2025"}]
[]
[null,null,null,null,null,null,null,null,null,null,null,null,"IMPORTANTE , antes de usar el cotizador, debe desbloquearlo así:"]
[null,null,null,null,null,null,null,null,null,null,null,null,"1. Vaya a la ubicación donde descargó el excel y de Click Derecho"]
[]
[]
[]
[null,null,null,null,null,null,null,null,null,null,null,null,"2. Seleccione \"Propiedades\""]
[]
[]
[]
[null,null,null,null,null,null,null,null,null,null,null,null,"3. Seleccione \"Desbloquear\" y luego de click en \"Aceptar\""]

{"sheet":"Cálculo valor referencial","index":3,"n_rows":131,"n_cols":13,"rows_kept":131,"cut":false,"hidden":true,"merged":[]}
["DEPARTAMENTO","PROVINCIA","DISTRITO","Tipo de Inmueble","Moneda","Concatenado","M2 en Soles",null,null,"DEPARTAMENTO","PROVINCIA","DISTRITO","Tipo de Inmueble"]
["Amazonas","Chachapoyas","Chachapoyas","Casa","Soles",{"$f":"+CONCATENATE(A2,\"-\",B2,\"-\",C2,\"-\",D2)","v":"Amazonas-Chachapoyas-Chachapoyas-Casa"},2880,null,null,"Amazonas","Abancay","Abancay","Casa"]
["Amazonas","Chachapoyas","Chachapoyas","Departamento","Soles",{"$f":"+CONCATENATE(A3,\"-\",B3,\"-\",C3,\"-\",D3)","v":"Amazonas-Chachapoyas-Chachapoyas-Departamento"},2520,null,null,"Áncash","Arequipa","Ancón","Departamento"]
["Amazonas","Bagua","Bagua","Casa","Soles","Amazonas-Bagua-Bagua-Casa",2520,null,null,"Apurímac","Bagua","Arequipa"]
["Amazonas","Bagua","Bagua","Departamento","Soles","Amazonas-Bagua-Bagua-Departamento",2160,null,null,"Arequipa","Cajamarca","Ate"]
["Áncash","Huaraz","Huaraz","Casa","Soles","Áncash-Huaraz-Huaraz-Casa",3600,null,null,"Ayacucho","Callao","Ayacucho"]
["Áncash","Huaraz","Huaraz","Departamento","Soles","Áncash-Huaraz-Huaraz-Departamento",3240,null,null,"Cajamarca","Chachapoyas","Bagua"]
["Apurímac","Abancay","Abancay","Casa","Soles","Apurímac-Abancay-Abancay-Casa",2880,null,null,"Callao","Chiclayo","Barranco"]
["Apurímac","Abancay","Abancay","Departamento","Soles","Apurímac-Abancay-Abancay-Departamento",2520,null,null,"Cusco","Coronel Portillo","Breña"]
["Arequipa","Arequipa","Arequipa","Casa","Soles","Arequipa-Arequipa-Arequipa-Casa",5400,null,null,"Huancavelica","Cusco","Cajamarca"]
["Arequipa","Arequipa","Arequipa","Departamento","Soles","Arequipa-Arequipa-Arequipa-Departamento",4680,null,null,"Huánuco","Huamanga","Callao"]
["Ayacucho","Huamanga","Ayacucho","Casa","Soles","Ayacucho-Huamanga-Ayacucho-Casa",3240,null,null,"Ica","Huancavelica","Carabayllo"]
["Ayacucho","Huamanga","Ayacucho","Departamento","Soles","Ayacucho-Huamanga-Ayacucho-Departamento",2880,null,null,"Junín","Huancayo","Cerro de Pasco"]
["Cajamarca","Cajamarca","Cajamarca","Casa","Soles","Cajamarca-Cajamarca-Cajamarca-Casa",2880,null,null,"La Libertad","Huánuco","Chachapoyas"]
["Cajamarca","Cajamarca","Cajamarca","Departamento","Soles","Cajamarca-Cajamarca-Cajamarca-Departamento",2520,null,null,"Lambayeque","Huaraz","Chaclacayo"]
["Callao","Callao","Callao","Casa","Soles","Callao-Callao-Callao-Casa",4320,null,null,"Lima","Ica","Chiclayo"]
["Callao","Callao","Callao","Departamento","Soles","Callao-Callao-Callao-Departamento",3600,null,null,"Loreto","Lima","Chorrillos"]
["Cusco","Cusco","Cusco","Casa","Soles","Cusco-Cusco-Cusco-Casa",4680,null,null,"Madre de Dios","Mariscal Nieto","Cieneguilla"]
["Cusco","Cusco","Cusco","Departamento","Soles","Cusco-Cusco-Cusco-Departamento",3960,null,null,"Moquegua","Maynas","Comas"]
["Huancavelica","Huancavelica","Huancavelica","Casa","Soles","Huancavelica-Huancavelica-Huancavelica-Casa",2520,null,null,"Pasco","Moyobamba","Cusco"]
["Huancavelica","Huancavelica","Huancavelica","Departamento","Soles","Huancavelica-Huancavelica-Huancavelica-Departamento",2160,null,null,"Piura","Pasco","El Agustino"]
["Huánuco","Huánuco","Huánuco","Casa","Soles","Huánuco-Huánuco-Huánuco-Casa",3240,null,null,"Puno","Piura","Huancavelica"]
["Huánuco","Huánuco","Huánuco","Departamento","Soles","Huánuco-Huánuco-Huánuco-Departamento",2880,null,null,"San Martín","Puno","Huancayo"]
["Ica","Ica","Ica","Casa","Soles","Ica-Ica-Ica-Casa",3600,null,null,"Tacna","Tacna","Huánuco"]
["Ica","Ica","Ica","Departamento","Soles","Ica-Ica-Ica-Departamento",3240,null,null,"Tumbes","Tambopata","Huaraz"]
["Junín","Huancayo","Huancayo","Casa","Soles","Junín-Huancayo-Huancayo-Casa",3960,null,null,"Ucayali","Trujillo","Ica"]
["Junín","Huancayo","Huancayo","Departamento","Soles","Junín-Huancayo-Huancayo-Departamento",3600,null,null,null,"Tumbes","Independencia"]
["La Libertad","Trujillo","Trujillo","Casa","Soles","La Libertad-Trujillo-Trujillo-Casa",4320,null,null,null,null,"Iquitos"]
["La Libertad","Trujillo","Trujillo","Departamento","Soles","La Libertad-Trujillo-Trujillo-Departamento",3600,null,null,null,null,"Jesús María"]
["Lambayeque","Chiclayo","Chiclayo","Casa","Soles","Lambayeque-Chiclayo-Chiclayo-Casa",3960,null,null,null,null,"La Molina"]
["Lambayeque","Chiclayo","Chiclayo","Departamento","Soles","Lambayeque-Chiclayo-Chiclayo-Departamento",3240,null,null,null,null,"La Victoria"]
["Loreto","Maynas","Iquitos","Casa","Soles","Loreto-Maynas-Iquitos-Casa",2880,null,null,null,null,"Lince"]
["Loreto","Maynas","Iquitos","Departamento","Soles","Loreto-Maynas-Iquitos-Departamento",2520,null,null,null,null,"Los Olivos"]
["Madre de Dios","Tambopata","Puerto Maldonado","Casa","Soles","Madre de Dios-Tambopata-Puerto Maldonado-Casa",3240,null,null,null,null,"Lurigancho"]
["Madre de Dios","Tambopata","Puerto Maldonado","Departamento","Soles","Madre de Dios-Tambopata-Puerto Maldonado-Departamento",2880,null,null,null,null,"Lurín"]
["Moquegua","Mariscal Nieto","Moquegua","Casa","Soles","Moquegua-Mariscal Nieto-Moquegua-Casa",3600,null,null,null,null,"Magdalena"]
["Moquegua","Mariscal Nieto","Moquegua","Departamento","Soles","Moquegua-Mariscal Nieto-Moquegua-Departamento",3240,null,null,null,null,"Miraflores"]
["Pasco","Pasco","Cerro de Pasco","Casa","Soles","Pasco-Pasco-Cerro de Pasco-Casa",2520,null,null,null,null,"Moquegua"]
["Pasco","Pasco","Cerro de Pasco","Departamento","Soles","Pasco-Pasco-Cerro de Pasco-Departamento",2160,null,null,null,null,"Moyobamba"]
["Piura","Piura","Piura","Casa","Soles","Piura-Piura-Piura-Casa",3960,null,null,null,null,"Pachacámac"]
["Piura","Piura","Piura","Departamento","Soles","Piura-Piura-Piura-Departamento",3240,null,null,null,null,"Piura"]
["Puno","Puno","Puno","Casa","Soles","Puno-Puno-Puno-Casa",2880,null,null,null,null,"Pucallpa"]
["Puno","Puno","Puno","Departamento","Soles","Puno-Puno-Puno-Departamento",2520,null,null,null,null,"Pucusana"]
["San Martín","Moyobamba","Moyobamba","Casa","Soles","San Martín-Moyobamba-Moyobamba-Casa",3240,null,null,null,null,"Pueblo Libre"]
["San Martín","Moyobamba","Moyobamba","Departamento","Soles","San Martín-Moyobamba-Moyobamba-Departamento",2880,null,null,null,null,"Puente Piedra"]
["Tacna","Tacna","Tacna","Casa","Soles","Tacna-Tacna-Tacna-Casa",3600,null,null,null,null,"Puerto Maldonado"]
["Tacna","Tacna","Tacna","Departamento","Soles","Tacna-Tacna-Tacna-Departamento",3240,null,null,null,null,"Puno"]
["Tumbes","Tumbes","Tumbes","Casa","Soles","Tumbes-Tumbes-Tumbes-Casa",3960,null,null,null,null,"Punta Hermosa"]
["Tumbes","Tumbes","Tumbes","Departamento","Soles","Tumbes-Tumbes-Tumbes-Departamento",3240,null,null,null,null,"Punta Negra"]
["Ucayali","Coronel Portillo","Pucallpa","Casa","Soles","Ucayali-Coronel Portillo-Pucallpa-Casa",3240,null,null,null,null,"Rímac"]
["Ucayali","Coronel Portillo","Pucallpa","Departamento","Soles","Ucayali-Coronel Portillo-Pucallpa-Departamento",2880,null,null,null,null,"San Bartolo"]
["Lima","Lima","Miraflores","Casa","Soles","Lima-Lima-Miraflores-Casa",7200,null,null,null,null,"San Borja"]
["Lima","Lima","Miraflores","Departamento","Soles","Lima-Lima-Miraflores-Departamento",6480,null,null,null,null,"San Isidro"]
["Lima","Lima","San Isidro","Casa","Soles","Lima-Lima-San Isidro-Casa",7920,null,null,null,null,"San Juan de Lurigancho"]
["Lima","Lima","San Isidro","Departamento","Soles","Lima-Lima-San Isidro-Departamento",7200,null,null,null,null,"San Juan de Miraflores"]
["Lima","Lima","Surco","Casa","Soles","Lima-Lima-Surco-Casa",6480,null,null,null,null,"San Luis"]
["Lima","Lima","Surco","Departamento","Soles","Lima-Lima-Surco-Departamento",5760,null,null,null,null,"San Martín de Porres"]
["Lima","Lima","San Borja","Casa","Soles","Lima-Lima-San Borja-Casa",6120,null,null,null,null,"San Miguel"]
["Lima","Lima","San Borja","Departamento","Soles","Lima-Lima-San Borja-Departamento",5400,null,null,null,null,"Santa Anita"]
["Lima","Lima","Jesús María","Casa","Soles","Lima-Lima-Jesús María-Casa",5400,null,null,null,null,"Santa María del Mar"]
["Lima","Lima","Jesús María","Departamento","Soles","Lima-Lima-Jesús María-Departamento",4680,null,null,null,null,"Santa Rosa"]
["Lima","Lima","Magdalena","Casa","Soles","Lima-Lima-Magdalena-Casa",5760,null,null,null,null,"Santiago de Surco"]
["Lima","Lima","Magdalena","Departamento","Soles","Lima-Lima-Magdalena-Departamento",5040,null,null,null,null,"Surco"]
["Lima","Lima","Pueblo Libre","Casa","Soles","Lima-Lima-Pueblo Libre-Casa",5040,null,null,null,null,"Tacna"]
["Lima","Lima","Pueblo Libre","Departamento","Soles","Lima-Lima-Pueblo Libre-Departamento",4320,null,null,null,null,"Trujillo"]
["Lima","Lima","San Miguel","Casa","Soles","Lima-Lima-San Miguel-Casa",4680,null,null,null,null,"Tumbes"]
["Lima","Lima","San Miguel","Departamento","Soles",{"$f":"+CONCATENATE(A67,\"-\",B67,\"-\",C67,\"-\",D67)","v":"Lima-Lima-San Miguel-Departamento"},3960]
["Lima","Lima","Independencia","Casa","Soles","Lima-Lima-Independencia-Casa",4320]
["Lima","Lima","Independencia","Departamento","Soles","Lima-Lima-Independencia-Departamento",3600]
["Lima","Lima","Comas","Casa","Soles","Lima-Lima-Comas-Casa",3600]
["Lima","Lima","Comas","Departamento","Soles","Lima-Lima-Comas-Departamento",2880]
["Lima","Lima","San Martín de Porres","Casa","Soles","Lima-Lima-San Martín de Porres-Casa",3240]
["Lima","Lima","San Martín de Porres","Departamento","Soles","Lima-Lima-San Martín de Porres-Departamento",2520]
["Lima","Lima","Carabayllo","Casa","Soles","Lima-Lima-Carabayllo-Casa",2880]
["Lima","Lima","Carabayllo","Departamento","Soles","Lima-Lima-Carabayllo-Departamento",2160]
["Lima","Lima","Ancón","Casa","Soles","Lima-Lima-Ancón-Casa",2520]
["Lima","Lima","Ancón","Departamento","Soles","Lima-Lima-Ancón-Departamento",1800]
["Lima","Lima","Ate","Casa","Soles","Lima-Lima-Ate-Casa",3240]
["Lima","Lima","Ate","Departamento","Soles","Lima-Lima-Ate-Departamento",2520]
["Lima","Lima","Barranco","Casa","Soles","Lima-Lima-Barranco-Casa",6480]
["Lima","Lima","Barranco","Departamento","Soles","Lima-Lima-Barranco-Departamento",5760]
["Lima","Lima","Breña","Casa","Soles","Lima-Lima-Breña-Casa",4320]
["Lima","Lima","Breña","Departamento","Soles","Lima-Lima-Breña-Departamento",3600]
["Lima","Lima","Chaclacayo","Casa","Soles","Lima-Lima-Chaclacayo-Casa",2880]
["Lima","Lima","Chaclacayo","Departamento","Soles","Lima-Lima-Chaclacayo-Departamento",2160]
["Lima","Lima","Chorrillos","Casa","Soles","Lima-Lima-Chorrillos-Casa",4680]
["Lima","Lima","Chorrillos","Departamento","Soles","Lima-Lima-Chorrillos-Departamento",3960]
["Lima","Lima","Cieneguilla","Casa","Soles","Lima-Lima-Cieneguilla-Casa",2520]
["Lima","Lima","Cieneguilla","Departamento","Soles","Lima-Lima-Cieneguilla-Departamento",1800]
["Lima","Lima","El Agustino","Casa","Soles","Lima-Lima-El Agustino-Casa",3600]
["Lima","Lima","El Agustino","Departamento","Soles","Lima-Lima-El Agustino-Departamento",2880]
["Lima","Lima","La Molina","Casa","Soles","Lima-Lima-La Molina-Casa",7200]
["Lima","Lima","La Molina","Departamento","Soles","Lima-Lima-La Molina-Departamento",6480]
["Lima","Lima","La Victoria","Casa","Soles","Lima-Lima-La Victoria-Casa",4320]
["Lima","Lima","La Victoria","Departamento","Soles","Lima-Lima-La Victoria-Departamento",3600]
["Lima","Lima","Lince","Casa","Soles","Lima-Lima-Lince-Casa",5400]
["Lima","Lima","Lince","Departamento","Soles","Lima-Lima-Lince-Departamento",4680]
["Lima","Lima","Los Olivos","Casa","Soles","Lima-Lima-Los Olivos-Casa",3960]
["Lima","Lima","Los Olivos","Departamento","Soles","Lima-Lima-Los Olivos-Departamento",3240]
["Lima","Lima","Lurigancho","Casa","Soles","Lima-Lima-Lurigancho-Casa",2880]
["Lima","Lima","Lurigancho","Departamento","Soles","Lima-Lima-Lurigancho-Departamento",2160]
["Lima","Lima","Lurín","Casa","Soles","Lima-Lima-Lurín-Casa",3240]
["Lima","Lima","Lurín","Departamento","Soles","Lima-Lima-Lurín-Departamento",2520]
["Lima","Lima","Pachacámac","Casa","Soles","Lima-Lima-Pachacámac-Casa",2880]
["Lima","Lima","Pachacámac","Departamento","Soles","Lima-Lima-Pachacámac-Departamento",2160]
["Lima","Lima","Pucusana","Casa","Soles","Lima-Lima-Pucusana-Casa",2520]
["Lima","Lima","Pucusana","Departamento","Soles","Lima-Lima-Pucusana-Departamento",1800]
["Lima","Lima","Puente Piedra","Casa","Soles","Lima-Lima-Puente Piedra-Casa",3600]
["Lima","Lima","Puente Piedra","Departamento","Soles","Lima-Lima-Puente Piedra-Departamento",2880]
["Lima","Lima","Punta Hermosa","Casa","Soles","Lima-Lima-Punta Hermosa-Casa",4320]
["Lima","Lima","Punta Hermosa","Departamento","Soles","Lima-Lima-Punta Hermosa-Departamento",3600]
["Lima","Lima","Punta Negra","Casa","Soles","Lima-Lima-Punta Negra-Casa",3960]
["Lima","Lima","Punta Negra","Departamento","Soles","Lima-Lima-Punta Negra-Departamento",3240]
["Lima","Lima","Rímac","Casa","Soles","Lima-Lima-Rímac-Casa",4680]
["Lima","Lima","Rímac","Departamento","Soles","Lima-Lima-Rímac-Departamento",3960]
["Lima","Lima","San Bartolo","Casa","Soles","Lima-Lima-San Bartolo-Casa",4320]
["Lima","Lima","San Bartolo","Departamento","Soles","Lima-Lima-San Bartolo-Departamento",3600]
["Lima","Lima","San Juan de Lurigancho","Casa","Soles","Lima-Lima-San Juan de Lurigancho-Casa",3240]
["Lima","Lima","San Juan de Lurigancho","Departamento","Soles","Lima-Lima-San Juan de Lurigancho-Departamento",2520]
["Lima","Lima","San Juan de Miraflores","Casa","Soles","Lima-Lima-San Juan de Miraflores-Casa",3600]
["Lima","Lima","San Juan de Miraflores","Departamento","Soles","Lima-Lima-San Juan de Miraflores-Departamento",2880]
["Lima","Lima","San Luis","Casa","Soles","Lima-Lima-San Luis-Casa",3960]
["Lima","Lima","San Luis","Departamento","Soles","Lima-Lima-San Luis-Departamento",3240]
["Lima","Lima","Santa Anita","Casa","Soles","Lima-Lima-Santa Anita-Casa",3600]
["Lima","Lima","Santa Anita","Departamento","Soles","Lima-Lima-Santa Anita-Departamento",2880]
["Lima","Lima","Santa María del Mar","Casa","Soles","Lima-Lima-Santa María del Mar-Casa",4680]
["Lima","Lima","Santa María del Mar","Departamento","Soles","Lima-Lima-Santa María del Mar-Departamento",3960]
["Lima","Lima","Santa Rosa","Casa","Soles","Lima-Lima-Santa Rosa-Casa",3240]
["Lima","Lima","Santa Rosa","Departamento","Soles","Lima-Lima-Santa Rosa-Departamento",2520]
["Lima","Lima","Santiago de Surco","Casa","Soles","Lima-Lima-Santiago de Surco-Casa",6480]
["Lima","Lima","Santiago de Surco","Departamento","Soles",{"$f":"+CONCATENATE(A131,\"-\",B131,\"-\",C131,\"-\",D131)","v":"Lima-Lima-Santiago de Surco-Departamento"},5760]

{"sheet":"Cotizador","index":4,"n_rows":113,"n_cols":23,"rows_kept":113,"cut":false,"hidden":false,"merged":[[0,18,0,22],[13,10,13,11],[14,6,14,9],[14,10,14,11],[14,12,14,13],[14,17,14,20],[9,14,9,16],[9,17,9,22],[5,1,5,5],[13,1,13,5],[48,4,50,17],[23,9,23,10],[9,1,9,5],[14,1,14,5],[15,1,15,5],[25,9,25,10],[16,1,16,5],[9,10,9,11],[9,12,9,13],[44,18,44,22],[15,6,15,9],[16,6,16,9],[60,1,60,7],[61,1,61,7],[21,6,21,9],[51,4,51,17],[17,6,17,9],[24,9,24,10],[25,1,25,5],[21,1,21,5],[22,1,22,5],[23,1,23,5],[24,1,24,5],[17,1,17,5],[39,9,39,11],[102,4,102,22],[103,4,103,22],[104,4,104,22],[101,4,101,22],[99,4,99,22],[90,4,90,22],[89,4,89,22],[88,4,88,22],[95,4,95,22],[96,4,96,22],[97,4,97,22],[98,4,98,22],[100,4,100,22],[87,4,87,22],[65,1,65,7],[94,4,94,22],[82,4,82,22],[83,4,83,22],[84,4,84,22],[85,4,85,22],[86,4,86,22],[80,4,80,22],[71,4,71,22],[72,4,72,22],[73,4,73,22],[93,4,93,22],[105,4,105,22],[106,4,106,22],[112,4,112,22],[107,4,107,22],[108,4,108,22],[109,4,109,22],[110,4,110,22],[111,4,111,22],[81,4,81,22],[76,4,76,22],[77,4,77,22],[74,4,74,22],[75,4,75,22],[66,1,66,7],[67,1,67,7],[78,4,78,22],[79,4,79,22],[62,1,62,7],[63,1,63,7]]}
[0,null,null,null,null,null,{"$f":"\"Cotizador de Hogar Flex - \" & configuracion!$K$2","v":"Cotizador de Hogar Flex - Enero 2025"},null,null,null,null,"Volver al Panel"]
[]
[]
[]
[]
[null,"Fecha de la cotización",null,null,null,null,{"$f":"TODAY()","v":"2025-03-25"},null,null,"Fecha Inicio de Vigencia"]
[]
[null,"Datos del Agente"]
[]
[null,"Agente",null,null,null,null,"Corredor",null,null,null,"Código del Agente",null,null,null,"Nombre del Agente"]
[]
[null,"Datos del Cliente"]
[]
[null,"Tipo de Documento*:",null,null,null,null,null,null,null,null,"Nro Documento:"]
[null,"Nombre / Razón Social*:",null,null,null,null,null,null,null,null,"Apellido Paterno:",null,null,null,null,null,"Apellido Materno:"]
[null,"E-mail"]
[null,"Teléfono"]
[null,"Celular"]
[]
[null,"Información para cotizar"]
[]
[null,"Dirección exacta del riesgo:"]
[null,"Nro",null,null,null,null,null,null,null,null,null,null,null,null,null,null,null,null,null,null,null,null,"Nota"]
[null,"Dpto",null,null,null,null,null,null,null,"Urbanización",null,null,null,null,null,null,null,null,null,null,null,null,"Para seleccionar o deseleccionar las opciones, dar doble click en los recuadros. NO ESCRIBIR NI BORRAR."]
[null,"Distrito",null,null,null,null,null,null,null,"Mza/Lt",null,null,null,null,null,null,null,null,null,null,null,null,"La sección de coberturas se mostrará una vez se seleccione: lo que se desea cotizar, "]
[null,"Provincia",null,null,null,null,null,null,null,"Departamento",null,null,null,null,null,null,null,null,null,null,null,null,"el modo de aseguramiento y la moneda."]
[null,"Tipo de Cliente"]
[]
[null,"¿Qué desea cotizar?",null,null,null,null,null,null,null,"Bienes",null,null,"Inmueble + Bienes"]
[]
[null,"Elige el modo a asegurar",null,null,null,null,null,null,null,"A valor total"]
[]
[null,"Tipo de Vivienda"]
[null,"Casa"]
[null,"Departamento"]
[]
[null,"Moneda",null,null,null,null,null,null,null,"Dólares"]
[null,"Valor Declarado Inmueble"]
[null,"Valor Declarado Bienes",null,null,null,null,null,null,null,"Descuento",null,null,"Descuento"]
[null,"Suma Asegurada del Inmueble",null,null,null,null,null,null,null,null,null,null,0]
[null,"Suma Asegurada de Bienes"]
[null,"Total",null,null,null,null,{"$f":"SUM(G40:G41)","v":0}]
[null,"Límite asegurado por vigencia"]
[]
[]
[]
[]
[]
[null,null,null,null," Confirmo que el inmueble: tiene menos de 50 años de construido o remodelado, el material de construcción es de concreto armado o mampostería y/o acero metálico y además está ubicado a más de 500 metros de distancia del mar, río, laguna, lago y a más de 15 metros de altura de alguno de estos."]
[null,null,"X"]
[]
[null,null,null,null,{"$f":"\"Descuento de \" & TEXT(configuracion!$BH$2,\"0%\")  & \" de descuento por afiliación al débito automático y emisión de póliza electrónica (respetando prima mínima)\"","v":"Descuento de 0% de descuento por afiliación al débito automático y emisión de póliza electrónica (respetando prima mínima)"}]
[null,null,"SI"]
[null,null,null,null,null,"Prima comercial"]
[null,null,null,null,null,"18% Igv "]
[null,null,null,null,null,"Prima total"]
[]
[]
[null,"Formas de pago",null,null,null,null,null,null,"Marcar"]
[null,"Débito automático","No olvides llenar el formato de débito automático",null,null,null,null,null,"con una X"]
[null,"Al contado. Prima Comercial + IGV:",null,null,null,null,null,null,null,{"$f":"IF($I$61=\"X\",$G$56,\"-.-\")","v":"-.-"}]
[null,"4 cuotas sin intereses + IGV Sin Intereses:",null,null,null,null,null,null,null,{"$f":"IF($I$62=\"X\",$G$56/4,\"-.-\")","v":"-.-"}]
[null,"6 cuotas Prima Comercial + IGV Sin Intereses:",null,null,null,null,null,null,null,{"$f":"IF($I$63=\"X\",$G$56/6,\"-.-\")","v":"-.-"}]
[null,"12 cuotas Prima Comercial + IGV Sin Intereses:",null,null,null,null,null,null,null,{"$f":"IF($I$64=\"X\",$G$56/12,\"-.-\")","v":"-.-"}]
[null,"Cupones"]
[null,"Contado 1 cupón Prima Comercial + IGV Sin Intereses:",null,null,null,null,null,null,null,{"$f":"IF($I$66=\"X\",$G$56,\"-.-\")","v":"-.-"}]
[null,"4 cupones Prima Comercial + IGV Sin Intereses:",null,null,null,null,null,null,null,{"$f":"IF($I$67=\"X\",$G$56/4,\"-.-\")","v":"-.-"}]
[null,"6 cupones Prima Comercial + IGV con 17.5% de interes:",null,null,null,null,null,null,null,{"$f":"IF($I$68=\"X\",$G$56*tasasCupones!$C$18,\"-.-\")","v":"-.-"}]
[]
[]
[null,"Consideraciones :"]
[null,null,null,null,"-          La modalidad de aseguramiento que brinda este plan de seguros es a primer riesgo absoluto y se deja expresa constancia que nuestro límite máximo de responsabilidad es hasta el valor que usted determinó como Suma Asegurada, pudiendo ser esta un valor inferior al valor total del Inmueble y/o bien. No se aplicará INFRASEGURO."]
[null,null,null,null,"-          La forma de entrega de la póliza es electrónica o física."]
[null,null,null,null,"-          La forma de pago de la póliza es con afiliación al débito automático a una tarjeta de crédito o a una cuenta bancaria o cupones."]
[null,null,null,null,"-      Las asistencias de mascotas son válidas solo para Lima Metropolitana y por el primer año de vigencia de la póliza."]
[null,null,null,null,"-          La cobertura principal comprende además cualquier otro riesgo, súbito e imprevisto, que no esté excluido explícitamente en las exclusiones de las Condiciones Generales y/o Cláusulas Adicionales de la Póliza."]
[null,null,null,null,"-          Las coberturas señaladas en Coberturas Adicionales forman parte de la suma asegurada de la Cobertura Principal, es decir, cada indemnización que le paguemos por las coberturas adicionales, reducirá la suma asegurada de la cobertura principal, a excepción de la cobertura adicional Responsabilidad civil frente a terceros, la cual es independiente a la suma asegurada de la cobertura principal."]
[null,null,null,null,"-          La cobertura de la póliza en cuanto a pérdida o daños causados por agua que inunde, descargue o derrame de cualquier instalación de agua o desagüe de otros elementos líquidos; no comprenderá el costo de reparar el desperfecto que originó tal pérdida o daño."]
[null,null,null,null,"-          Este seguro no otorga cobertura cuando en el inmueble se realiza cualquier actividad o giro comercial diferente al de casa habitación."]
[null,null,null,null,"-          Este seguro se renovará automáticamente, es decir, en las mismas condiciones vigentes en el periodo anterior."]
[null,null,null,null,"-          Para la cobertura de Robo y/o daños por intento de robo de Joyas y platería se define lo siguiente: Objetos y/o adornos de uso personal elaborados en oro, plata, platino, perlas y que pueden llevar o no incrustadas piedras preciosas de origen biológico o mineral, tanto si están engastadas como si no.  También se considera a cualquier objeto ornamental o de uso doméstico elaborado con los materiales enumerados en el párrafo anterior."]
[null,null,null,null,"-          El ASEGURADO deberá presentar una relación detallada, a ser actualizada mínimo cada dos años, de los bienes cuyo valor unitario excedan los S/ 5,000. En caso de siniestro, esta relación de bienes es el sustento de la pre-existencia de cada bien declarado. En caso de no cumplir con lo anterior o para bienes afectados no incluidos en la relación presentada, el Asegurado deberá demostrarnos la pre-existencia de los bienes afectados en el siniestro, a través de comprobantes de pago y/o constancia visual (fotografías, video, manuales de uso o similares) en donde se muestre el artículo en el interior del Inmueble asegurado o a la persona usando dicho artículo.  "]
[null,null,null,null,"-          En caso de robo: Se mantiene la exigencia de la denuncia policial, pero se manejará a discreción cada caso hasta por un monto máximo de siniestro de S/ 30,000, siniestros por encima de este monto deberán presentar denuncia policial de manera obligatoria."]
[null,null,null,null,"-          Las asistencias están disponibles los 365 días del año en las siguientes ciudades:"]
[null,null,null,null,"·      Lima Metropolitana exceptuando Ancón, Punta Hermosa, San Bartolo, Santa María y Pucusana."]
[null,null,null,null,"·      Trujillo: En los distritos de Trujillo, Victor Larco, Moche y Huanchaco."]
[null,null,null,null,"·      Chiclayo: En los distritos de Chiclayo, La Victoria, José Leonardo Ortiz, Pimentel."]
[null,null,null,null,"·      Piura: En los distritos de Piura, Castilla, Catacaos."]
[null,null,null,null,"·      Arequipa: En los distritos de Arequipa (Cercado), Yanahuara, Cayma, Sachaca, José Luis Bustamante y Rivero, Cerro Colorado."]
[null,null,null,null,"·      Cusco: En los distritos de Cusco, San Jerónimo, San Sebastián, Santiago, Wanchaq."]
[null,null,null,null," Aplican y deben aparecer tanto para a primer riesgo como para valor total"]
[]
[null,"Exclusiones:"]
[null,null,null,null,"Tenga en cuenta que no pagaremos la reparación del desperfecto ni del bien que originó el daño, como tampoco ninguna pérdida o daño proveniente o que sean causa de, o en conexión con, o atribuibles principalmente a:"]
[null,null,null,null,"a)      Dolo, culpa grave o negligencia inexcusable del CONTRATANTE o de USTED y/o del BENEFICIARIO y/o ENDOSATARIO o de los familiares de cualquiera de ellos, o de sus dependientes, especialmente de los responsables de la seguridad de los BIENES asegurados."]
[null,null,null,null,"b)      Guerra, Guerra Civil, invasión, acto de enemigo extranjero, hostilidades u operaciones de guerra, declarada o no."]
[null,null,null,null,"c)       Desgaste o deterioro paulatino o fatiga de material, causado por, o resultado de, el uso y funcionamiento del bien; uso o deterioro gradual; deficiencias de rendimiento o capacidad; polución, contaminación; corrosión, erosión; herrumbre u oxidación; hongos, moho húmedo o seco, combustión espontánea, fermentación; humedad, sequedad, smog o cambios de temperatura; asentamiento o contracción o expansión de edificios o cimientos; la calefacción o la desecación a que hubieran sido sometidos los objetos que forman parte de la Materia Asegurada."]
[null,null,null,null,"d)      Hundimientos, desplazamientos, agrietamientos o asentamientos de muros, pisos, techos, pavimentos, cimientos, muros de contención. Sin embargo, si estos daños son causados por los eventos de Terremoto, Temblor, Erupción Volcánica o Maremoto para los cuales se haya contratado amparo bajo la presente póliza, no se aplicará esta exclusión."]
[null,null,null,null,"e)      Todo gasto o costo para implementar modificaciones o mejoras, o por mantenimiento, o para hacer otras reparaciones o arreglos, en el INMUEBLE y/o BIENES dañados o afectados; así como los gastos o costos de cualquier reparación provisional, a menos que constituyan, a la vez, parte de los gastos de la reparación definitiva amparada por la póliza."]
[null,null,null,null,"f)        Valor atribuido a los BIENES por razones sentimentales o simbólicas, por afición, por antigüedad, o por exclusividad."]
[null,null,null,null,"g)      Pérdida o daño ocurrido cuando el INMUEBLE esté deshabitado y/o cuando los BIENES se hallen en el INMUEBLE deshabitado; en ambos casos durante más de noventa (90) días consecutivos. "]
[null,null,null,null,"Las demás exclusiones se encuentran en el acápite 3 de las Condiciones Generales de la Póliza. Aplican exclusiones específicas a la cobertura que se contrate, detalladas en su respectiva Cláusula Adicional."]
[null,null,null,null,"Bienes excluidos:"]
[null,null,null,null,"a)      INMUEBLE y/o BIENES con cualquier actividad o giro diferente al de casa habitación."]
[null,null,null,null,"b)      Animales vivos de cualquier tipo."]
[null,null,null,null,"c)       Plantaciones, cultivos, cosechas de cualquier tipo, invernaderos, bosques, selvas, monte bajo, praderas, pampas, árboles, parques, prados, jardines naturales y ornamentales, agua."]
[null,null,null,null,"d)      INMUEBLES y/o BIENES en proceso de construcción, reconstrucción, montaje o desmontaje."]
[null,null,null,null,"e)      Vehículos motorizados con una placa de rodaje, equipos flotantes o submarinos, aeronaves o artefactos aéreos, embarcaciones, naves acuáticas; de cualquier tipo y tamaño."]
[null,null,null,null,"f)        BIENES de cualquier tipo que sean propiedad de terceros aun cuando dichos BIENES se encuentren bajo custodia y/o posesión del Asegurado."]
[null,null,null,null,"g)      Material pirotécnico, explosivos, combustibles, mechas, fulminantes, detonadores y similares."]
[null,null,null,null,"h)      BIENES situados o instalados u operando o trabajando o siendo usados en él, o a las orillas del, mar, río, lago o laguna, en subterráneos, o debajo del nivel de la superficie terrestre."]
[null,null,null,null,"i)        Dinero en efectivo, títulos valores."]
[null,null,null,null,"j)        Cualquier tipo de contenido o bien para fines comerciales, de la profesión u ocupación o de negocios de USTED, de cualquier miembro de su familia, por medio de los cuales obtengan un lucro."]

{"sheet":"configuracion","index":5,"n_rows":257,"n_cols":119,"rows_kept":257,"cut":false,"hidden":true,"merged":[[20,100,20,101],[15,100,15,101],[16,100,16,101],[17,100,17,101],[18,100,18,101],[19,100,19,101],[10,98,11,98],[10,100,11,101],[12,100,12,101],[13,100,13,101],[14,100,14,101],[2,100,2,101],[4,100,4,101],[6,98,7,98],[6,100,7,101],[8,98,9,98],[8,100,9,101],[15,88,15,89],[2,94,2,95],[4,94,4,95],[6,94,6,95],[7,94,7,95],[8,92,9,92],[8,94,9,95],[10,94,10,95],[11,94,11,95],[12,94,12,95],[10,88,10,89],[11,88,11,89],[12,88,12,89],[13,88,13,89],[14,88,14,89],[2,88,2,89],[4,88,4,89],[6,86,7,86],[6,88,7,89],[8,86,9,86],[8,88,9,89],[20,81,20,82],[15,81,15,82],[16,81,16,82],[17,81,17,82],[18,81,18,82],[19,81,19,82],[13,69,13,70],[14,69,14,70],[2,81,2,82],[4,81,4,82],[6,79,7,79],[6,81,7,82],[8,79,9,79],[8,81,9,82],[10,79,11,79],[10,81,11,82],[12,81,12,82],[13,81,13,82],[14,81,14,82],[8,67,9,67],[8,69,9,70],[10,69,10,70],[15,69,15,70],[2,75,2,76],[4,75,4,76],[6,75,6,76],[7,75,7,76],[8,73,9,73],[8,75,9,76],[10,75,10,76],[11,75,11,76],[12,75,12,76],[4,69,4,70],[11,69,11,70],[12,69,12,70],[1,3,1,4],[0,14,0,16],[0,30,0,31],[2,69,2,70],[6,67,7,67],[6,69,7,70]]}
[null,null,null,"FLEX",null,null,null,"Ir a Panel",null,null,"VERSION",null,"Password",null,"celdas del Cotizador desbloqueadas",null,null,null,"VALOR TOTAL INMUEBLE",null,"VALOR TOTAL BIENES",null,"VALOR TOTAL INMUEBLE +BIENES",null,"PRIMER RIESGO INMUEBLE",null,"PRIMER RIESGO BIENES",null,"PRIMER RIESGO INMUEBLE+BIENES","<-  CELDAS DESBLOQUEADAS ->","IngresoSolicitud",null,null,null,null,null,"Tipo de Cliente",null,null,"¿Qué desea cotizar?",null,"Plan Unico para Paquete","Elige el modo a asegurar",null,null,"Tipo de Vivienda",null,null,"Moneda",null,null,null,"Provincia","Distrito","Tipo de Inmueble","Dólares","Soles",null,null,"Descuento",null,null,null,"COBERTURAS X DEFAULT",".",null,null,"A valor total_Inmueble",null,null,null,null,null,"A valor total_Bienes",null,null,null,null,null,"A valor total_Inmueble + Bienes",null,null,null,null,null,null,"A primer riesgo absoluto_Inmueble",null,null,null,null,null,"A primer riesgo absoluto_Bienes",null,null,null,null,null,"A primer riesgo absoluto_Inmueble + Bienes",null,null,null,null,null,null,null,"Condiciones Descuentos por Sumas Aseguradas","DOLARES","DOLARES",null,"Condiciones Descuentos por Sumas Aseguradas","SOLES","SOLES",null,"SA Menor a $ 500K Sin Descuento","SA Desde   $ 500K Hasta $750K 5%. - 10%","SA Desde   $ 750K Hasta $ 1M 15% - 20%","SA Mayor a $1M 20% - 25%","Hasta 15% - para corredores"]
[null,null,null,"VARIABLES DE CONFIGURACIÓN",null,null,null,null,null,null,"Enero 2025",null,"pacifico",null,1,"    'Fecha Inicio de Vigencia","L6",null,"E3",null,"E3",null,"E3:E4",null,"E3",null,"E3",null,"E3:E4",null,"H11","Contratante",null,null,null,null,"Es dueño y vive en su hogar",null,null,"Inmueble",null,"SI","A primer riesgo absoluto",null,null,"Casa",null,null,"Soles",null,null,null,"Cañete","ASIA","CASA",550,1650,null,null,0,null,null,null,". -> NOTA -> INCENDIO ESTÁ PREMARCADA Y BLOQUEADA PARA TODAS",".",null,null,"Prima Mínima USD","Prima Mínima S/",null,null,null,null,"Prima Mínima USD","Prima Mínima S/",null,null,null,null,"Prima Mínima USD","Prima Mínima S/",null,null,null,null,null,"Prima Mínima USD","Prima Mínima S/",null,null,null,null,"Prima Mínima USD","Prima Mínima S/",null,null,null,null,"Prima Mínima USD","Prima Mínima S/",null,null,null,null,null,null,"No aplica descuento",200000,null,null,"No aplica descuento",{"$f":"DD2*3","v":600000},null,null,0,0,0,0,0]
[null,null,null,null,null,null,null,"Nota Importante",null,null,null,null,null,null,2,"    'Código del Agente","M10:N10",null,"B14:B15",null,"B14",null,"B14:B15",null,"B14:B15",null,"B14",null,"B14:B15",null,"D13:K13","NUMERO DNI",null,null,null,null,"Es dueño y alquila su vivienda",null,null,"Inmueble + Bienes",null,"A primer riesgo absoluto","A valor total",null,null,"Departamento",null,null,"Dólares",null,null,null,"Cañete","ASIA","DEPARTAMENTO",1180,3540,null,null,null,null,null,null,null,".",null,"INCENDIO",60.77,182.31,"COBERTURAS  (solo INMUEBLE)",null,null,"INCENDIO",60.77,182.31,"COBERTURAS  (solo BIENES)",null,null,"INCENDIO",60.77,182.31,"COBERTURAS  (INMUEBLE Y BIENES)",null,null,null,"INCENDIO",60.77,182.31,"COBERTURAS  (solo INMUEBLE)",null,null,"INCENDIO",60.77,182.31,"COBERTURAS  (solo BIENES)",null,null,"INCENDIO",60.77,182.31,"COBERTURAS  (INMUEBLE Y BIENES)",null,null,null,null,null,"Aplica hasta descuento 10%",200000,500000,null,"Aplica hasta descuento 10%",{"$f":"DD3*3","v":600000},1500000,null,null,0.05,0.05,0.05,0.05]
[null,null,null,"Asesor / Corredor","Corredor",null,null,"La contraseña se camba solamente",null,null,null,null,null,null,3,"    'Nombre del Agente\"","R10:W10",null,"B16:B17",null,"B15",null,"B16:B17",null,"B16:B17",null,"B15",null,"B16:B17",null,"N11","Contratante",null,null,null,null,"Vive en casa o departamento alquilado",null,null,"Bienes",null,null,null,null,null,null,null,null,null,null,null,null,"Cañete","CAÑETE - CHILCA","CASA",390,1170,null,null,null,null,null,null,"Sub iraCoberturas()",".",null,"ROBO",60.77,182.31,"Cobertura principal",null,null,"ROBO",60.77,182.31,"Cobertura principal",null,null,"ROBO",60.77,182.31,"Cobertura principal",null,null,null,"ROBO",60.77,182.31,"Cobertura principal",null,null,"ROBO",60.77,182.31,"Cobertura principal",null,null,"ROBO",60.77,182.31,"Cobertura principal",null,null,null,null,null,"Aplica hasta descuento 20%",750000,1000000,null,"Aplica hasta descuento 20%",2250000,3000000,null,null,0.06,0.1,0.1,0.1]
[null,null,null,null,null,null,null,"utilizando el botón",null,null,null,null,null,null,4,"    'Tipo de Documento*:","G14",null,"B18",null,"B16:B17",null,"B18:B19",null,"B18",null,"B16:B17",null,"B18:B19",null,"N13:X13","NUMERO RUC",null,null,null,null,null,null,null,null,null,null,null,null,null,null,null,null,null,null,null,null,"Cañete","CAÑETE - MALA","CASA",460,1380,null,null,null,null,null,null,"ActiveSheet.Cells(1, 1).Select",".",null,null,{"$f":"IF('VALOR TOTAL INMUEBLE'!B12=0,\"\",'VALOR TOTAL INMUEBLE'!B12)","v":"X"},null,"Incendio y/o rayo, explosión, incendio en aparatos eléctricos. Daños por agua, daños por humo, impacto de vehículos y/o aeronaves o daños por riesgos políticos y sociales",null,null,null,{"$f":"IF('VALOR TOTAL BIENES'!B12=0,\"\",'VALOR TOTAL BIENES'!B12)","v":"X"},null,"Incendio y/o rayo, explosión, incendio en aparatos eléctricos. Daños por agua, daños por humo, impacto de vehículos y/o aeronaves o daños por riesgos políticos y sociales",null,null,null,{"$f":"IF('VALOR TOTAL INMUEBLE +BIENES'!B12=0,\"\",'VALOR TOTAL INMUEBLE +BIENES'!B12)","v":"X"},null,"Incendio y/o rayo, explosión, incendio en aparatos eléctricos. Daños por agua, daños por humo, impacto de vehículos y/o aeronaves o daños por riesgos políticos y sociales",null,null,null,null,{"$f":"IF('PRIMER RIESGO INMUEBLE'!B12=0,\"\",'PRIMER RIESGO INMUEBLE'!B12)","v":"X"},null,"Incendio y/o rayo, explosión, incendio en aparatos eléctricos. Daños por agua, daños por humo, impacto de vehículos y/o aeronaves o daños por riesgos políticos y sociales",null,null,null,{"$f":"IF('PRIMER RIESGO BIENES'!B12=0,\"\",'PRIMER RIESGO BIENES'!B12)","v":"X"},null,"Incendio y/o rayo, explosión, incendio en aparatos eléctricos. Daños por agua, daños por humo, impacto de vehículos y/o aeronaves o daños por riesgos políticos y sociales",null,null,null,{"$f":"IF('PRIMER RIESGO INMUEBLE+BIENES'!B12=0,\"\",'PRIMER RIESGO INMUEBLE+BIENES'!B12)","v":"X"},null,"Incendio y/o rayo, explosión, incendio en aparatos eléctricos. Daños por agua, daños por humo, impacto de vehículos y/o aeronaves o daños por riesgos políticos y sociales",null,null,null,null,null,"Aplica hasta descuento 25%",1000000,null,null,"Aplica hasta descuento 25%",{"$f":"DD5*3","v":3000000},null,null,null,7.0000000000000007E-2,0.15,0.15,0.11]
[null,null,null,null,null,null,null,null,null,null,null,null,null,null,5,"    'Nombre / Razón Social*:","G15:J15",null,"B19",null,"B18",null,"B20",null,"B19",null,"B18",null,"B20",null,"AC13:AE13","Otro (indicar tipo y número)",null,null,null,null,null,null,null,null,null,null,null,null,null,null,null,null,null,null,null,null,"Cañete","CAÑETE - SAN ANTONIO","CASA",550,1650,null,null,null,null,null,null,null,".",null,null,null,null,"Coberturas adicionales",null,null,null,null,null,"Coberturas adicionales",null,null,null,null,null,"Coberturas adicionales",null,null,null,null,null,null,"Coberturas adicionales",null,null,null,null,null,"Coberturas adicionales",null,null,null,null,null,"Coberturas adicionales",null,null,null,null,null,"Aplica hasta descuento 15%",500000,750000,null,"Aplica hasta descuento 15%",{"$f":"DD6*3","v":1500000},{"$f":"DE6*3","v":2250000},null,null,0.08,0.16,0.2,0.12]
[null,null,null,null,null,null,null,null,null,null,null,null,null,null,6,"    'E-mail","G16:J16",null,"B20",null,"B19",null,"B21",null,"B20",null,"B19",null,"B21",null,"I15:AE15","Nombre / Razon Social",null,null,null,null,null,null,null,null,null,null,null,null,null,null,null,null,null,null,null,null,"Lima","ATE VITARTE","CASA",610,1830,null,null,null,null,null,null,"Dim rowtarget As Double",".",null,null,{"$f":"IF('VALOR TOTAL INMUEBLE'!B14=0,\"\",'VALOR TOTAL INMUEBLE'!B14)","v":""},null,"Terremoto, temblor, maremoto, Inundaciones y riesgos de la naturaleza",null,null,null,{"$f":"IF(IF('VALOR TOTAL BIENES'!B14=0,\"\",'VALOR TOTAL BIENES'!B14)=\"X\",\"Robo\",\"\")","v":""},null,"Robo y/o daños por intento de robo (dentro y fuera de la vivienda a nivel nacional)",null,null,null,{"$f":"IF('VALOR TOTAL INMUEBLE +BIENES'!B14=0,\"\",'VALOR TOTAL INMUEBLE +BIENES'!B14)","v":"X"},null,"Terremoto, temblor, maremoto, Inundaciones y riesgos de la naturaleza",null,null,null,null,{"$f":"IF('PRIMER RIESGO INMUEBLE'!B14=0,\"\",'PRIMER RIESGO INMUEBLE'!B14)","v":""},null,"Terremoto, temblor, maremoto, Inundaciones y riesgos de la naturaleza",null,null,null,{"$f":"IF(IF('PRIMER RIESGO BIENES'!B14=0,\"\",'PRIMER RIESGO BIENES'!B14)=\"X\",\"Robo\",\"\")","v":""},null,"Robo y/o daños por intento de robo (dentro y fuera de la vivienda a nivel nacional)",null,null,null,{"$f":"IF('PRIMER RIESGO INMUEBLE+BIENES'!B14=0,\"\",'PRIMER RIESGO INMUEBLE+BIENES'!B14)","v":"X"},null,"Terremoto, temblor, maremoto, Inundaciones y riesgos de la naturaleza",null,null,null,null,null,null,null,null,null,null,null,null,null,null,0.09,0.17,0.21,0.13]
[null,null,null,null,null,null,null,null,null,null,null,null,null,null,7,"    'Teléfono","G17:J17",null,"B21",null,"B21",null,"B22",null,"B21",null,"B21",null,"B22",null,"H16:T16","Apellido Paterno",null,null,null,null,null,null,null,null,null,null,null,null,null,null,null,null,null,null,null,null,"Lima","ATE VITARTE","DEPARTAMENTO",1110,3330,null,null,null,null,null,null,"Dim columntarget As Double",".",null,null,{"$f":"IF('VALOR TOTAL INMUEBLE'!B15=0,\"\",'VALOR TOTAL INMUEBLE'!B15)","v":""},null,null,null,null,null,{"$f":"IF(IF('VALOR TOTAL BIENES'!B15=0,\"\",'VALOR TOTAL BIENES'!B15)=\"X\",\"Robo\",\"\")","v":""},null,"Robo y/o daños por intento de robo de joyas, platería, relojes, obras de arte, cámaras fotográficas o de video, laptops y bicicletas dentro de la vivienda o que estén siendo portados fuera de la vivienda",null,null,null,{"$f":"IF('VALOR TOTAL INMUEBLE +BIENES'!B15=0,\"\",'VALOR TOTAL INMUEBLE +BIENES'!B15)","v":""},null,null,null,null,null,null,{"$f":"IF('PRIMER RIESGO INMUEBLE'!B15=0,\"\",'PRIMER RIESGO INMUEBLE'!B15)","v":""},null,null,null,null,null,{"$f":"IF(IF('PRIMER RIESGO BIENES'!B15=0,\"\",'PRIMER RIESGO BIENES'!B15)=\"X\",\"Robo\",\"\")","v":""},null,"Robo y/o daños por intento de robo de joyas, platería, relojes, obras de arte, cámaras fotográficas o de video, laptops y bicicletas dentro de la vivienda o que estén siendo portados fuera de la vivienda",null,null,null,{"$f":"IF('PRIMER RIESGO INMUEBLE+BIENES'!B15=0,\"\",'PRIMER RIESGO INMUEBLE+BIENES'!B15)","v":""},null,null,null,null,null,null,null,null,null,null,null,null,null,null,null,null,0.1,0.18,0.22,0.14000000000000001]
[null,null,null,null,null,null,null,null,null,null,null,null,null,null,8,"    'Celular\"","G18:J18",null,"B22",null,"F15",null,"B23",null,"B22",null,"F15",null,"B23",null,"Z16:AE16","Apellido Materno",null,null,null,null,null,null,null,null,null,null,null,null,null,null,null,null,null,null,null,null,"Lima","BARRANCO","CASA",765,2295,null,null,null,null,null,null,"    ",".",null,null,{"$f":"IF('VALOR TOTAL INMUEBLE'!B16=0,\"\",'VALOR TOTAL INMUEBLE'!B16)","v":""},null,"Responsabilidad civil frente a terceros",null,null,null,{"$f":"IF('VALOR TOTAL BIENES'!B16=0,\"\",'VALOR TOTAL BIENES'!B16)","v":""},null,"Terremoto, temblor, maremoto, Inundaciones y riesgos de la naturaleza",null,null,null,{"$f":"IF('VALOR TOTAL INMUEBLE +BIENES'!B16=0,\"\",'VALOR TOTAL INMUEBLE +BIENES'!B16)","v":"X"},null,"Responsabilidad civil frente a terceros",null,null,null,null,{"$f":"IF('PRIMER RIESGO INMUEBLE'!B16=0,\"\",'PRIMER RIESGO INMUEBLE'!B16)","v":""},null,"Responsabilidad civil frente a terceros",null,null,null,{"$f":"IF('PRIMER RIESGO BIENES'!B16=0,\"\",'PRIMER RIESGO BIENES'!B16)","v":""},null,"Terremoto, temblor, maremoto, Inundaciones y riesgos de la naturaleza",null,null,null,{"$f":"IF('PRIMER RIESGO INMUEBLE+BIENES'!B16=0,\"\",'PRIMER RIESGO INMUEBLE+BIENES'!B16)","v":"X"},null,"Responsabilidad civil frente a terceros",null,null,null,null,null,null,null,null,null,null,null,null,null,null,null,0.19,0.23,0.15]
[null,null,null,null,null,null,null,null,null,null,null,null,null,null,9,"    'Nro Documento:","M14",null,"B24",null,null,null,"B24",null,"B24",null,null,null,"B24",null,"E18","Sexo",null,null,null,null,null,null,null,null,null,null,null,null,null,null,null,null,null,null,null,null,"Lima","BARRANCO","DEPARTAMENTO",2545,7635,null,null,null,null,null,null,"Dim TipodeCliente As String",".",null,null,{"$f":"IF('VALOR TOTAL INMUEBLE'!B17=0,\"\",'VALOR TOTAL INMUEBLE'!B17)","v":""},null,null,null,null,null,{"$f":"IF('VALOR TOTAL BIENES'!B17=0,\"\",'VALOR TOTAL BIENES'!B17)","v":""},null,null,null,null,null,{"$f":"IF('VALOR TOTAL INMUEBLE +BIENES'!B17=0,\"\",'VALOR TOTAL INMUEBLE +BIENES'!B17)","v":""},null,null,null,null,null,null,{"$f":"IF('PRIMER RIESGO INMUEBLE'!B17=0,\"\",'PRIMER RIESGO INMUEBLE'!B17)","v":""},null,null,null,null,null,{"$f":"IF('PRIMER RIESGO BIENES'!B17=0,\"\",'PRIMER RIESGO BIENES'!B17)","v":""},null,null,null,null,null,{"$f":"IF('PRIMER RIESGO INMUEBLE+BIENES'!B17=0,\"\",'PRIMER RIESGO INMUEBLE+BIENES'!B17)","v":""},null,null,null,null,null,null,null,null,null,null,null,null,null,null,null,null,null,0.2,0.24]
[null,null,null,null,null,null,null,null,null,null,null,null,null,null,10,"    'Apellido Paterno:","M15:N15",null,null,null,null,null,"B25",null,null,null,null,null,"B25",null,"N18:P18","Fecha de Nacimiento",null,null,null,null,null,null,null,null,null,null,null,null,null,null,null,null,null,null,null,null,"Lima","BREÑA","CASA",610,1830,null,null,null,null,null,null,"Dim Quedeseacotizar As String",".",null,null,{"$f":"IF('VALOR TOTAL INMUEBLE'!B18=0,\"\",'VALOR TOTAL INMUEBLE'!B18)","v":""},null,"Rotura accidental de vidrio y/o cristales",null,null,null,{"$f":"IF('VALOR TOTAL BIENES'!B18=0,\"\",'VALOR TOTAL BIENES'!B18)","v":""},null,"Hurto",null,null,null,{"$f":"IF('VALOR TOTAL INMUEBLE +BIENES'!B18=0,\"\",'VALOR TOTAL INMUEBLE +BIENES'!B18)","v":"X"},null,"Rotura accidental de vidrio y/o cristales",null,null,null,null,{"$f":"IF('PRIMER RIESGO INMUEBLE'!B18=0,\"\",'PRIMER RIESGO INMUEBLE'!B18)","v":""},null,"Rotura accidental de vidrio y/o cristales",null,null,null,{"$f":"IF('PRIMER RIESGO BIENES'!B18=0,\"\",'PRIMER RIESGO BIENES'!B18)","v":""},null,"Hurto",null,null,null,{"$f":"IF('PRIMER RIESGO INMUEBLE+BIENES'!B18=0,\"\",'PRIMER RIESGO INMUEBLE+BIENES'!B18)","v":"X"},null,"Rotura accidental de vidrio y/o cristales",null,null,null,null,null,null,null,null,null,null,null,null,null,null,null,null,0.25]
[null,null,null,null,null,null,null,null,null,null,null,null,null,null,11,"    'Apellido Materno:","R15:U15",null,null,null,null,null,"B26",null,null,null,null,null,"B26",null,"V18:Y18","Estado Civil",null,null,null,null,null,null,null,null,null,null,null,null,null,null,null,null,null,null,null,null,"Lima","BREÑA","DEPARTAMENTO",1200,3600,null,null,null,null,null,null,"Dim Eligeelmodoaasegurar As String",".",null,null,{"$f":"IF('VALOR TOTAL INMUEBLE'!B19=0,\"\",'VALOR TOTAL INMUEBLE'!B19)","v":""},null,"Robo o intento de robo de instalaciones fijas",null,null,null,{"$f":"IF('VALOR TOTAL BIENES'!B19=0,\"\",'VALOR TOTAL BIENES'!B19)","v":""},null,"Deshonestidad de trabajadores del hogar",null,null,null,{"$f":"IF('VALOR TOTAL INMUEBLE +BIENES'!B19=0,\"\",'VALOR TOTAL INMUEBLE +BIENES'!B19)","v":""},null,null,null,null,null,null,{"$f":"IF('PRIMER RIESGO INMUEBLE'!B19=0,\"\",'PRIMER RIESGO INMUEBLE'!B19)","v":""},null,"Robo o intento de robo de instalaciones fijas",null,null,null,{"$f":"IF('PRIMER RIESGO BIENES'!B19=0,\"\",'PRIMER RIESGO BIENES'!B19)","v":""},null,"Deshonestidad de trabajadores del hogar",null,null,null,{"$f":"IF('PRIMER RIESGO INMUEBLE+BIENES'!B19=0,\"\",'PRIMER RIESGO INMUEBLE+BIENES'!B19)","v":""}]
[null,null,null,null,null,null,null,null,null,null,null,null,null,null,12,"    'Dirección exacta del riesgo:","G22:J22",null,null,null,null,null,"B27",null,null,null,null,null,"B27",null,"AA18:AE18","Nacionalidad",null,null,null,null,null,null,null,null,null,null,null,null,null,null,null,null,null,null,null,null,"Lima","CALLAO","CASA",450,1350,null,null,null,null,null,null,"Dim TipodeVivienda As String",".",null,null,{"$f":"IF('VALOR TOTAL INMUEBLE'!B20=0,\"\",'VALOR TOTAL INMUEBLE'!B20)","v":""},null,"Reembolso de gastos médicos por accidentes de trabajadores del hogar, ocurridos dentro del inmueble",null,null,null,{"$f":"IF('VALOR TOTAL BIENES'!B20=0,\"\",'VALOR TOTAL BIENES'!B20)","v":"X"},null,"Gastos extraordinarios: remoción de escombros, honorarios profesionales y construcción de documentos y modelos ",null,null,null,{"$f":"IF(IF('VALOR TOTAL INMUEBLE +BIENES'!B20=0,\"\",'VALOR TOTAL INMUEBLE +BIENES'!B20)=\"X\",\"Robo\",\"\")","v":""},null,"Robo o intento de robo de instalaciones fijas",null,null,null,null,{"$f":"IF('PRIMER RIESGO INMUEBLE'!B20=0,\"\",'PRIMER RIESGO INMUEBLE'!B20)","v":""},null,"Reembolso de gastos médicos por accidentes de trabajadores del hogar, ocurridos dentro del inmueble",null,null,null,{"$f":"IF('PRIMER RIESGO BIENES'!B20=0,\"\",'PRIMER RIESGO BIENES'!B20)","v":"X"},null,"Gastos extraordinarios: remoción de escombros, honorarios profesionales y construcción de documentos y modelos ",null,null,null,{"$f":"IF(IF('PRIMER RIESGO INMUEBLE+BIENES'!B20=0,\"\",'PRIMER RIESGO INMUEBLE+BIENES'!B20)=\"X\",\"Robo\",\"\")","v":"Robo"},null,"Robo o intento de robo de instalaciones fijas"]
[null,null,null,null,null,null,null,null,null,null,null,null,null,null,13,"    'Nro","G23",null,null,null,null,null,"B29",null,null,null,null,null,"B29",null,"J20:V20","Direccion (Jr. / Cl / Av)",null,null,null,null,null,null,null,null,null,null,null,null,null,null,null,null,null,null,null,null,"Lima","CALLAO","DEPARTAMENTO",820,2460,null,null,null,null,null,null,"Dim moneda As String",".",null,null,{"$f":"IF('VALOR TOTAL INMUEBLE'!B21=0,\"\",'VALOR TOTAL INMUEBLE'!B21)","v":""},null,"Gastos de arrendamiento de vivienda temporal a reembolso",null,null,null,{"$f":"IF('VALOR TOTAL BIENES'!B21=0,\"\",'VALOR TOTAL BIENES'!B21)","v":""},null,null,"Asistencias",null,null,{"$f":"IF(IF('VALOR TOTAL INMUEBLE +BIENES'!B21=0,\"\",'VALOR TOTAL INMUEBLE +BIENES'!B21)=\"X\",\"Robo\",\"\")","v":""},null,"Robo y/o daños por intento de robo (dentro y fuera de la vivienda a nivel nacional)",null,null,null,null,{"$f":"IF('PRIMER RIESGO INMUEBLE'!B21=0,\"\",'PRIMER RIESGO INMUEBLE'!B21)","v":""},null,"Gastos de arrendamiento de vivienda temporal a reembolso",null,null,null,{"$f":"IF('PRIMER RIESGO BIENES'!B21=0,\"\",'PRIMER RIESGO BIENES'!B21)","v":""},null,null,"Asistencias",null,null,{"$f":"IF(IF('PRIMER RIESGO INMUEBLE+BIENES'!B21=0,\"\",'PRIMER RIESGO INMUEBLE+BIENES'!B21)=\"X\",\"Robo\",\"\")","v":"Robo"},null,"Robo y/o daños por intento de robo (dentro y fuera de la vivienda a nivel nacional)"]
[null,null,null,null,null,null,null,null,null,null,null,null,null,null,14,"    'Dpto","G24",null,null,null,null,null,"G22",null,null,null,null,null,"G22",null,"X20:Y20","Nro",null,null,null,null,null,null,null,null,null,null,null,null,null,null,null,null,null,null,null,null,"Lima","CARABAYLLO","CASA",470,1410,null,null,null,null,null,null,"''''''''''''''''''''''''''",".",null,null,{"$f":"IF('VALOR TOTAL INMUEBLE'!B22=0,\"\",'VALOR TOTAL INMUEBLE'!B22)","v":""},null,"Alquiler no percibido por inmueble inhabitable temporalmente",null,null,null,null,null,null,null,null,null,{"$f":"IF(IF('VALOR TOTAL INMUEBLE +BIENES'!B22=0,\"\",'VALOR TOTAL INMUEBLE +BIENES'!B22)=\"X\",\"Robo\",\"\")","v":""},null,"Robo y/o daños por intento de robo de joyas, platería, relojes, obras de arte, cámaras fotográficas o de video, laptops y bicicletas dentro de la vivienda o que estén siendo portados fuera de la vivienda",null,null,null,null,{"$f":"IF('PRIMER RIESGO INMUEBLE'!B22=0,\"\",'PRIMER RIESGO INMUEBLE'!B22)","v":""},null,"Alquiler no percibido por inmueble inhabitable temporalmente",null,null,null,null,null,null,null,null,null,{"$f":"IF(IF('PRIMER RIESGO INMUEBLE+BIENES'!B22=0,\"\",'PRIMER RIESGO INMUEBLE+BIENES'!B22)=\"X\",\"Robo\",\"\")","v":"Robo"},null,"Robo y/o daños por intento de robo de joyas, platería, relojes, obras de arte, cámaras fotográficas o de video, laptops y bicicletas dentro de la vivienda o que estén siendo portados fuera de la vivienda"]
[null,null,null,null,null,null,null,null,null,null,null,null,null,null,15,"    'Urbanización","L24",null,null,null,null,null,null,null,null,null,null,null,null,null,"AA20","Dpto/Piso/Int",null,null,null,null,null,null,null,null,null,null,null,null,null,null,null,null,null,null,null,null,"Lima","CARABAYLLO","DEPARTAMENTO",760,2280,null,null,null,null,null,null,null,".",null,null,{"$f":"IF('VALOR TOTAL INMUEBLE'!B23=0,\"\",'VALOR TOTAL INMUEBLE'!B23)","v":"X"},null,"Gastos extraordinarios: remoción de escombros, honorarios profesionales y construcción de documentos y modelos ",null,null,null,null,null,null,null,null,null,{"$f":"IF('VALOR TOTAL INMUEBLE +BIENES'!B23=0,\"\",'VALOR TOTAL INMUEBLE +BIENES'!B23)","v":""},null,"Hurto",null,null,null,null,{"$f":"IF('PRIMER RIESGO INMUEBLE'!B23=0,\"\",'PRIMER RIESGO INMUEBLE'!B23)","v":"X"},null,"Gastos extraordinarios: remoción de escombros, honorarios profesionales y construcción de documentos y modelos ",null,null,null,null,null,null,null,null,null,{"$f":"IF('PRIMER RIESGO INMUEBLE+BIENES'!B23=0,\"\",'PRIMER RIESGO INMUEBLE+BIENES'!B23)","v":"X"},null,"Hurto"]
[null,null,null,null,null,null,null,null,null,null,null,null,null,null,16,"    'Mza/Lt","L25",null,null,null,null,null,null,null,null,null,null,null,null,null,"AC20","Mz",null,null,null,null,null,null,null,null,null,null,null,null,null,null,null,null,null,null,null,null,"Lima","CERCADO DE LIMA","CASA",480,1440,null,null,null,null,null,null,"Application.EnableEvents = False",".",null,null,{"$f":"IF('VALOR TOTAL INMUEBLE'!B24=0,\"\",'VALOR TOTAL INMUEBLE'!B24)","v":""},null,null,"Asistencias",null,null,null,null,null,null,null,null,{"$f":"IF('VALOR TOTAL INMUEBLE +BIENES'!B24=0,\"\",'VALOR TOTAL INMUEBLE +BIENES'!B24)","v":""},null,"Deshonestidad de trabajadores del hogar",null,null,null,null,{"$f":"IF('PRIMER RIESGO INMUEBLE'!B24=0,\"\",'PRIMER RIESGO INMUEBLE'!B24)","v":""},null,null,"Asistencias",null,null,null,null,null,null,null,null,{"$f":"IF('PRIMER RIESGO INMUEBLE+BIENES'!B24=0,\"\",'PRIMER RIESGO INMUEBLE+BIENES'!B24)","v":""},null,"Deshonestidad de trabajadores del hogar"]
[null,null,null,null,null,null,null,null,null,null,null,null,null,null,17,"    'Distrito","G25",null,null,null,null,null,null,null,null,null,null,null,null,null,"AE20","Lt",null,null,null,null,null,null,null,null,null,null,null,null,null,null,null,null,null,null,null,null,"Lima","CERCADO DE LIMA","DEPARTAMENTO",1335,4005,null,null,null,null,null,null,"Application.ScreenUpdating = False",".",null,null,null,null,null,null,null,null,null,null,null,null,null,null,{"$f":"IF('VALOR TOTAL INMUEBLE +BIENES'!B25=0,\"\",'VALOR TOTAL INMUEBLE +BIENES'!B25)","v":""},null,"Reembolso de gastos médicos por accidentes de trabajadores del hogar, ocurridos dentro del inmueble",null,null,null,null,null,null,null,null,null,null,null,null,null,null,null,null,{"$f":"IF('PRIMER RIESGO INMUEBLE+BIENES'!B25=0,\"\",'PRIMER RIESGO INMUEBLE+BIENES'!B25)","v":""},null,"Reembolso de gastos médicos por accidentes de trabajadores del hogar, ocurridos dentro del inmueble"]
[null,null,null,null,null,null,null,null,null,null,null,null,null,null,18,"    'Provincia","G26",null,null,null,null,null,null,null,null,null,null,null,null,null,"K21:X21","Urbanizacion (Urb / AAHH / Coop)",null,null,null,null,null,null,null,null,null,null,null,null,null,null,null,null,null,null,null,null,"Lima","CHORRILLOS","CASA",470,1410,null,null,null,null,null,null,null,".",null,null,null,null,null,null,null,null,null,null,null,null,null,null,{"$f":"IF('VALOR TOTAL INMUEBLE +BIENES'!B26=0,\"\",'VALOR TOTAL INMUEBLE +BIENES'!B26)","v":"X"},null,"Gastos de arrendamiento de vivienda temporal a reembolso",null,null,null,null,null,null,null,null,null,null,null,null,null,null,null,null,{"$f":"IF('PRIMER RIESGO INMUEBLE+BIENES'!B26=0,\"\",'PRIMER RIESGO INMUEBLE+BIENES'!B26)","v":""},null,"Gastos de arrendamiento de vivienda temporal a reembolso"]
[null,null,null,null,null,null,null,null,null,null,null,null,null,null,19,"    'Departamento","G27",null,null,null,null,null,null,null,null,null,null,null,null,null,"AC20","Mz",null,null,null,null,null,null,null,null,null,null,null,null,null,null,null,null,null,null,null,null,"Lima","CHORRILLOS","DEPARTAMENTO",1050,3150,null,null,null,null,null,null,"'agregado el 02 octubre 2019",".",null,null,null,null,null,null,null,null,null,null,null,null,null,null,{"$f":"IF('VALOR TOTAL INMUEBLE +BIENES'!B27=0,\"\",'VALOR TOTAL INMUEBLE +BIENES'!B27)","v":""},null,"Alquiler no percibido por inmueble inhabitable temporalmente (aplica solo para el arrendador)",null,null,null,null,null,null,null,null,null,null,null,null,null,null,null,null,{"$f":"IF('PRIMER RIESGO INMUEBLE+BIENES'!B27=0,\"\",'PRIMER RIESGO INMUEBLE+BIENES'!B27)","v":""},null,"Alquiler no percibido por inmueble inhabitable temporalmente (aplica solo para el arrendador)"]
[null,null,null,null,null,null,null,null,null,null,null,null,null,null,20,"    '¿Qué desea cotizar?","G29",null,null,null,null,null,null,null,null,null,null,null,null,null,"AE20","Lt",null,null,null,null,null,null,null,null,null,null,null,null,null,null,null,null,null,null,null,null,"Lima","CIENEGUILLA","CASA",400,1200,null,null,null,null,null,null,"With hj_ingresoSolicitud",".",null,null,null,null,null,null,null,null,null,null,null,null,null,null,{"$f":"IF('VALOR TOTAL INMUEBLE +BIENES'!B28=0,\"\",'VALOR TOTAL INMUEBLE +BIENES'!B28)","v":"X"},null,"Gastos extraordinarios: remoción de escombros, honorarios profesionales y construcción de documentos y modelos ",null,null,null,null,null,null,null,null,null,null,null,null,null,null,null,null,{"$f":"IF('PRIMER RIESGO INMUEBLE+BIENES'!B28=0,\"\",'PRIMER RIESGO INMUEBLE+BIENES'!B28)","v":"X"},null,"Gastos extraordinarios: remoción de escombros, honorarios profesionales y construcción de documentos y modelos "]
[null,null,null,null,null,null,null,null,null,null,null,null,null,null,20,"    '¿Qué desea cotizar?","H29",null,null,null,null,null,null,null,null,null,null,null,null,null,"AA21:AE21","Sec / Etapa / Zona",null,null,null,null,null,null,null,null,null,null,null,null,null,null,null,null,null,null,null,null,"Lima","COMAS","CASA",500,1500,null,null,null,null,null,null,"    .Visible = xlSheetHidden",".",null,null,null,null,null,null,null,null,null,null,null,null,null,null,{"$f":"IF('VALOR TOTAL INMUEBLE +BIENES'!B29=0,\"\",'VALOR TOTAL INMUEBLE +BIENES'!B29)","v":"X"},null,null,"Asistencias",null,null,null,null,null,null,null,null,null,null,null,null,null,null,null,{"$f":"IF('PRIMER RIESGO INMUEBLE+BIENES'!B29=0,\"\",'PRIMER RIESGO INMUEBLE+BIENES'!B29)","v":"X"},null,null,"Asistencias"]
[null,null,null,null,null,null,null,null,null,null,null,null,null,null,21,"    '¿Qué desea cotizar?","K29",null,null,null,null,null,null,null,null,null,null,null,null,null,"AA21:AE21","Sec / Etapa / Zona",null,null,null,null,null,null,null,null,null,null,null,null,null,null,null,null,null,null,null,null,"Lima","COMAS","DEPARTAMENTO",720,2160,null,null,null,null,null,null,"End With","."]
[null,null,null,null,null,null,null,null,null,null,null,null,null,null,22,"    '¿Qué desea cotizar?","O29",null,null,null,null,null,null,null,null,null,null,null,null,null,"F22:L22","Departamento",null,null,null,null,null,null,null,null,null,null,null,null,null,null,null,null,null,null,null,null,"Lima","EL AGUSTINO","CASA",410,1230,null,null,null,null,null,null,"'''''''","."]
[null,null,null,null,null,null,null,null,null,null,null,null,null,null,23,"    'Eligeel modo a Asegurar","G31",null,null,null,null,null,null,null,null,null,null,null,null,null,"N22:R22","Provincia",null,null,null,null,null,null,null,null,null,null,null,null,null,null,null,null,null,null,null,null,"Lima","EL AGUSTINO","DEPARTAMENTO",940,2820,null,null,null,null,null,null,null,"."]
[null,null,null,null,null,null,null,null,null,null,null,null,null,null,23,"    'A primer riesgo absoluto","H31",null,null,null,null,null,null,null,null,null,null,null,null,null,"W22:Z22","Distrito",null,null,null,null,null,null,null,null,null,null,null,null,null,null,null,null,null,null,null,null,"Lima","JESÚS MARÍA","CASA",500,1500,null,null,null,null,null,null,"With hj_cotizador","."]
[null,null,null,null,null,null,null,null,null,null,null,null,null,null,24,"    'A primer riesgo absoluto","K31",null,null,null,null,null,null,null,null,null,null,null,null,null,"G23:L23","Telefono Casa",null,null,null,null,null,null,null,null,null,null,null,null,null,null,null,null,null,null,null,null,"Lima","JESÚS MARÍA","DEPARTAMENTO",1760,5280,null,null,null,null,null,null,null,"."]
[null,null,null,null,null,null,null,null,null,null,null,null,null,null,25,"    'Tipo de Vivienda","G33",null,null,null,null,null,null,null,null,null,null,null,null,null,"N23:Y23","Telefono trabajo",null,null,null,null,null,null,null,null,null,null,null,null,null,null,null,null,null,null,null,null,"Lima","LA MOLINA","CASA",750,2250,null,null,null,null,null,null,"    'Tipo de Cliente","."]
[null,null,null,null,null,null,null,null,null,null,null,null,null,null,25,"    'Tipo de Vivienda","E34",null,null,null,null,null,null,null,null,null,null,null,null,null,"AA23:AE23","Telefono Movil",null,null,null,null,null,null,null,null,null,null,null,null,null,null,null,null,null,null,null,null,"Lima","LA MOLINA","DEPARTAMENTO",2000,6000,null,null,null,null,null,null,"    If Len(.Range(\"G27\").Value) = 0 Then","."]
[null,null,null,null,null,null,null,null,null,null,null,null,null,null,26,"    'Tipo de Vivienda","E35",null,null,null,null,null,null,null,null,null,null,null,null,null,"H24:AE24","Correo electronico(*)",null,null,null,null,null,null,null,null,null,null,null,null,null,null,null,null,null,null,null,null,"Lima","LA VICTORIA","CASA",500,1500,null,null,null,null,null,null,"        MsgBox \"Seleccione -> Tipo de Cliente.\", vbExclamation, \"Pacifico\"","."]
[null,null,null,null,null,null,null,null,null,null,null,null,null,null,27,"    'Tipo de Vivienda","G34",null,null,null,null,null,null,null,null,null,null,null,null,null,"N27","¿El contratante es diferente del asegurado? ",null,null,null,null,null,null,null,null,null,null,null,null,null,null,null,null,null,null,null,null,"Lima","LA VICTORIA","DEPARTAMENTO",1467,4401,null,null,null,null,null,null,"        End","."]
[null,null,null,null,null,null,null,null,null,null,null,null,null,null,28,"    'Tipo de Vivienda","G35",null,null,null,null,null,null,null,null,null,null,null,null,null,"X44","¿La dirección del asegurado es la misma que del inmueble a asegurar?",null,null,null,null,null,null,null,null,null,null,null,null,null,null,null,null,null,null,null,null,"Lima","LINCE","CASA",720,2160,null,null,null,null,null,null,"    End If","."]
[null,null,null,null,null,null,null,null,null,null,null,null,null,null,29,"    'Moneda","G37",null,null,null,null,null,null,null,null,null,null,null,null,null,"F53:J53","Datos del Inmueble Nro de Pisos",null,null,null,null,null,null,null,null,null,null,null,null,null,null,null,null,null,null,null,null,"Lima","LINCE","DEPARTAMENTO",1820,5460,null,null,null,null,null,null,"    ","."]
[null,null,null,null,null,null,null,null,null,null,null,null,null,null,29,"    'Moneda","H37",null,null,null,null,null,null,null,null,null,null,null,null,null,"N53:R53","Datos del Inmueble Nro de Sótanos",null,null,null,null,null,null,null,null,null,null,null,null,null,null,null,null,null,null,null,null,"Lima","LOS OLIVOS","CASA",470,1410,null,null,null,null,null,null,"    '¿Qué desea cotizar?","."]
[null,null,null,null,null,null,null,null,null,null,null,null,null,null,30,"    'Moneda","K37",null,null,null,null,null,null,null,null,null,null,null,null,null,"X53:Z53","Datos del Inmueble Año de construcción",null,null,null,null,null,null,null,null,null,null,null,null,null,null,null,null,null,null,null,null,"Lima","LOS OLIVOS","DEPARTAMENTO",980,2940,null,null,null,null,null,null,"    If Len(.Range(\"G29\").Value) = 0 Then","."]
[null,null,null,null,null,null,null,null,null,null,null,null,null,null,31,"    'Formar de Pago","I61",null,null,null,null,null,null,null,null,null,null,null,null,null,"M54","Datos del Inmueble Nro de pisos de la ubicación de la vivienda",null,null,null,null,null,null,null,null,null,null,null,null,null,null,null,null,null,null,null,null,"Lima","LURIGANCHO","CASA",420,1260,null,null,null,null,null,null,"        MsgBox \"Seleccione -> ¿Qué desea cotizar?\", vbExclamation, \"Pacifico\"","."]
[null,null,null,null,null,null,null,null,null,null,null,null,null,null,32,"    'Formar de Pago","I62",null,null,null,null,null,null,null,null,null,null,null,null,null,"J63","Alarma",null,null,null,null,null,null,null,null,null,null,null,null,null,null,null,null,null,null,null,null,"Lima","LURIGANCHO","DEPARTAMENTO",670,2010,null,null,null,null,null,null,"        End","."]
[null,null,null,null,null,null,null,null,null,null,null,null,null,null,33,"    'Formar de Pago","I63",null,null,null,null,null,null,null,null,null,null,null,null,null,"O63","Cámara de seguridad",null,null,null,null,null,null,null,null,null,null,null,null,null,null,null,null,null,null,null,null,"Lima","LURÍN ","CASA",450,1350,null,null,null,null,null,null,"    End If","."]
[null,null,null,null,null,null,null,null,null,null,null,null,null,null,34,"    'Formar de Pago","I64",null,null,null,null,null,null,null,null,null,null,null,null,null,"X63","Sensor de movimiento",null,null,null,null,null,null,null,null,null,null,null,null,null,null,null,null,null,null,null,null,"Lima","LURÍN ","DEPARTAMENTO",830,2490,null,null,null,null,null,null,"    ","."]
[null,null,null,null,null,null,null,null,null,null,null,null,null,null,35,"    'Formar de Pago","I66",null,null,null,null,null,null,null,null,null,null,null,null,null,"J65","Cerco eléctrico",null,null,null,null,null,null,null,null,null,null,null,null,null,null,null,null,null,null,null,null,"Lima","MAGDALENA DEL MAR","CASA",750,2250,null,null,null,null,null,null,"    'Elige el modo a asegurar","."]
[null,null,null,null,null,null,null,null,null,null,null,null,null,null,36,"    'Formar de Pago","I67",null,null,null,null,null,null,null,null,null,null,null,null,null,"O65","Detector de humo",null,null,null,null,null,null,null,null,null,null,null,null,null,null,null,null,null,null,null,null,"Lima","MAGDALENA DEL MAR","DEPARTAMENTO",1750,5250,null,null,null,null,null,null,"    If Len(.Range(\"G31\").Value) = 0 Then","."]
[null,null,null,null,null,null,null,null,null,null,null,null,null,null,37,"    'Formar de Pago","I68",null,null,null,null,null,null,null,null,null,null,null,null,null,"X65","Ninguno",null,null,null,null,null,null,null,null,null,null,null,null,null,null,null,null,null,null,null,null,"Lima","MIRAFLORES","CASA",850,2550,null,null,null,null,null,null,"        MsgBox \"Seleccione -> Elige el modo a asegurar.\", vbExclamation, \"Pacifico\"","."]
[null,null,null,null,null,null,null,null,null,null,null,null,null,null,38,"    'Formar de Pago","I69",null,null,null,null,null,null,null,null,null,null,null,null,null,"AC71","Declaración Jurada Pregunta 1",null,null,null,null,null,null,null,null,null,null,null,null,null,null,null,null,null,null,null,null,"Lima","MIRAFLORES","DEPARTAMENTO",2500,7500,null,null,null,null,null,null,"        End","."]
[null,null,null,null,null,null,null,null,null,null,null,null,null,null,null,null,null,null,null,null,null,null,null,null,null,null,null,null,null,null,"AE71","Declaración Jurada Pregunta 1",null,null,null,null,null,null,null,null,null,null,null,null,null,null,null,null,null,null,null,null,"Lima","PUCUSANA","CASA ",470,1410,null,null,null,null,null,null,"    End If","."]
[null,null,null,null,null,null,null,null,null,null,null,null,null,null,null,null,null,null,null,null,null,null,null,null,null,null,null,null,null,null,"AC74","Declaración Jurada Pregunta 2",null,null,null,null,null,null,null,null,null,null,null,null,null,null,null,null,null,null,null,null,"Lima","PUCUSANA","DEPARTAMENTO",1060,3180,null,null,null,null,null,null,"    ","."]
[null,null,null,null,null,null,null,null,null,null,null,null,null,null,null,null,null,null,null,null,null,null,null,null,null,null,null,null,null,null,"AE74","Declaración Jurada Pregunta 2",null,null,null,null,null,null,null,null,null,null,null,null,null,null,null,null,null,null,null,null,"Lima","PUEBLO LIBRE","CASA",500,1500,null,null,null,null,null,null,"    'Tipo de Vivienda","."]
[null,null,null,null,null,null,null,null,null,null,null,null,null,null,null,null,null,null,null,null,null,null,null,null,null,null,null,null,null,null,"AC77","Declaración Jurada Pregunta 3",null,null,null,null,null,null,null,null,null,null,null,null,null,null,null,null,null,null,null,null,"Lima","PUEBLO LIBRE","DEPARTAMENTO",1550,4650,null,null,null,null,null,null,"    If Len(.Range(\"G33\").Value) = 0 Then","."]
[null,null,null,null,null,null,null,null,null,null,null,null,null,null,null,null,null,null,null,null,null,null,null,null,null,null,null,null,null,null,"AE77","Declaración Jurada Pregunta 3",null,null,null,null,null,null,null,null,null,null,null,null,null,null,null,null,null,null,null,null,"Lima","PUENTE PIEDRA","CASA",430,1290,null,null,null,null,null,null,"        MsgBox \"Seleccione -> Tipo de Vivienda.\", vbExclamation, \"Pacifico\"","."]
[null,null,null,null,null,null,null,null,null,null,null,null,null,null,null,null,null,null,null,null,null,null,null,null,null,null,null,null,null,null,"T78:Y78","En caso marque Sí indique el año de la última remodelación",null,null,null,null,null,null,null,null,null,null,null,null,null,null,null,null,null,null,null,null,"Lima","PUENTE PIEDRA","DEPARTAMENTO",790,2370,null,null,null,null,null,null,"        End","."]
[null,null,null,null,null,null,null,null,null,null,null,null,null,null,null,null,null,null,null,null,null,null,null,null,null,null,null,null,null,null,"C110","Planes - Confirmo que he sido informado correctamente sobre el plan, coberturas, beneficios adicionales que estoy eligiendo",null,null,null,null,null,null,null,null,null,null,null,null,null,null,null,null,null,null,null,null,"Lima","PUNTA HERMOSA","CASA",470,1410,null,null,null,null,null,null,"    End If","."]
[null,null,null,null,null,null,null,null,null,null,null,null,null,null,null,null,null,null,null,null,null,null,null,null,null,null,null,null,null,null,"T122","Suma Asegurada ¿Tiene usted otros seguros contratados para los bienes objeto de este seguro?",null,null,null,null,null,null,null,null,null,null,null,null,null,null,null,null,null,null,null,null,"Lima","PUNTA HERMOSA","DEPARTAMENTO",1310,3930,null,null,null,null,null,null,"    ","."]
[null,null,null,null,null,null,null,null,null,null,null,null,null,null,null,null,null,null,null,null,null,null,null,null,null,null,null,null,null,null,"V122","Suma Asegurada ¿Tiene usted otros seguros contratados para los bienes objeto de este seguro?",null,null,null,null,null,null,null,null,null,null,null,null,null,null,null,null,null,null,null,null,"Lima","PUNTA NEGRA","CASA",460,1380,null,null,null,null,null,null,"    'Moneda","."]
[null,null,null,null,null,null,null,null,null,null,null,null,null,null,null,null,null,null,null,null,null,null,null,null,null,null,null,null,null,null,"L123:Y123","En caso afirmativo, ¿En qué compañia?",null,null,null,null,null,null,null,null,null,null,null,null,null,null,null,null,null,null,null,null,"Lima","PUNTA NEGRA","DEPARTAMENTO",990,2970,null,null,null,null,null,null,"    If Len(.Range(\"G37\").Value) = 0 Then","."]
[null,null,null,null,null,null,null,null,null,null,null,null,null,null,null,null,null,null,null,null,null,null,null,null,null,null,null,null,null,null,"AA123:AE123","Indique la póliza de la compañía de seguros",null,null,null,null,null,null,null,null,null,null,null,null,null,null,null,null,null,null,null,null,"Lima","RIMAC","CASA",450,1350,null,null,null,null,null,null,"        MsgBox \"Seleccione -> Moneda.\", vbExclamation, \"Pacifico\"","."]
[null,null,null,null,null,null,null,null,null,null,null,null,null,null,null,null,null,null,null,null,null,null,null,null,null,null,null,null,null,null,"H126:AE126","Endosado a favor de:",null,null,null,null,null,null,null,null,null,null,null,null,null,null,null,null,null,null,null,null,"Lima","RIMAC","DEPARTAMENTO",1000,3000,null,null,null,null,null,null,"        End","."]
[null,null,null,null,null,null,null,null,null,null,null,null,null,null,null,null,null,null,null,null,null,null,null,null,null,null,null,null,null,null,"H127:M127","Monto de endoso:",null,null,null,null,null,null,null,null,null,null,null,null,null,null,null,null,null,null,null,null,"Lima","SAN BARTOLO","CASA",480,1440,null,null,null,null,null,null,"    End If","."]
[null,null,null,null,null,null,null,null,null,null,null,null,null,null,null,null,null,null,null,null,null,null,null,null,null,null,null,null,null,null,"O127:S127","porcentaje (%)",null,null,null,null,null,null,null,null,null,null,null,null,null,null,null,null,null,null,null,null,"Lima","SAN BARTOLO","DEPARTAMENTO",1210,3630,null,null,null,null,null,null,"    '()()()()()()()()()()()()()()()()()()()()()()()()()()()()()()()()()","."]
[null,null,null,null,null,null,null,null,null,null,null,null,null,null,null,null,null,null,null,null,null,null,null,null,null,null,null,null,null,null,"F161:M161","Teléfono Corredor / Asesor",null,null,null,null,null,null,null,null,null,null,null,null,null,null,null,null,null,null,null,null,"Lima","SAN BORJA","CASA",750,2250,null,null,null,null,null,null,"    ","."]
[null,null,null,null,null,null,null,null,null,null,null,null,null,null,null,null,null,null,null,null,null,null,null,null,null,null,null,null,null,null,"U161:AE161","Correo electrónico Corredor / Asesor",null,null,null,null,null,null,null,null,null,null,null,null,null,null,null,null,null,null,null,null,"Lima","SAN BORJA","DEPARTAMENTO",2050,6150,null,null,null,null,null,null,"    ","."]
[null,null,null,null,null,null,null,null,null,null,null,null,null,null,null,null,null,null,null,null,null,null,null,null,null,null,null,null,null,null,"T242","Cláusulas Abusivas",null,null,null,null,null,null,null,null,null,null,null,null,null,null,null,null,null,null,null,null,"Lima","SAN ISIDRO","CASA",900,2700,null,null,null,null,null,null,"    'capturamos variables","."]
[null,null,null,null,null,null,null,null,null,null,null,null,null,null,null,null,null,null,null,null,null,null,null,null,null,null,null,null,null,null,"Y242","Cláusulas Abusivas",null,null,null,null,null,null,null,null,null,null,null,null,null,null,null,null,null,null,null,null,"Lima","SAN ISIDRO","DEPARTAMENTO",2600,7800,null,null,null,null,null,null,"    TipodeCliente = .Range(\"G27\").Value","."]
[null,null,null,null,null,null,null,null,null,null,null,null,null,null,null,null,null,null,null,null,null,null,null,null,null,null,null,null,null,null,"H29","Persona Natural","Asegurado (llenar solo si es diferente del Contratante)",null,null,null,null,null,null,null,null,null,null,null,null,null,null,null,null,null,null,null,"Lima","SAN LUIS ","CASA",500,1500,null,null,null,null,null,null,"    Quedeseacotizar = .Range(\"G29\").Value","."]
[null,null,null,null,null,null,null,null,null,null,null,null,null,null,null,null,null,null,null,null,null,null,null,null,null,null,null,null,null,null,"N29","Persona Juridica","Asegurado (llenar solo si es diferente del Contratante)",null,null,null,null,null,null,null,null,null,null,null,null,null,null,null,null,null,null,null,"Lima","SAN LUIS ","DEPARTAMENTO",1467,4401,null,null,null,null,null,null,"    Eligeelmodoaasegurar = .Range(\"G31\").Value","."]
[null,null,null,null,null,null,null,null,null,null,null,null,null,null,null,null,null,null,null,null,null,null,null,null,null,null,null,null,null,null,"D31:K31","DNI","Asegurado (llenar solo si es diferente del Contratante)",null,null,null,null,null,null,null,null,null,null,null,null,null,null,null,null,null,null,null,"Lima","SAN JUAN DE LURIGANCHO","CASA",420,1260,null,null,null,null,null,null,"    TipodeVivienda = .Range(\"G33\").Value","."]
[null,null,null,null,null,null,null,null,null,null,null,null,null,null,null,null,null,null,null,null,null,null,null,null,null,null,null,null,null,null,"N31:Y31","RUC","Asegurado (llenar solo si es diferente del Contratante)",null,null,null,null,null,null,null,null,null,null,null,null,null,null,null,null,null,null,null,"Lima","SAN JUAN DE LURIGANCHO","DEPARTAMENTO",1000,3000,null,null,null,null,null,null,"    moneda = .Range(\"G37\").Value","."]
[null,null,null,null,null,null,null,null,null,null,null,null,null,null,null,null,null,null,null,null,null,null,null,null,null,null,null,null,null,null,"AC31:AE31","Otro (indicar tipo y número)","Asegurado (llenar solo si es diferente del Contratante)",null,null,null,null,null,null,null,null,null,null,null,null,null,null,null,null,null,null,null,"Lima","SAN JUAN DE MIRAFLORES","CASA",430,1290,null,null,null,null,null,null,"    '''''''''''''''''''''''''''''''","."]
[null,null,null,null,null,null,null,null,null,null,null,null,null,null,null,null,null,null,null,null,null,null,null,null,null,null,null,null,null,null,"I32:AE32","Nombre / Razon Social\"","Asegurado (llenar solo si es diferente del Contratante)",null,null,null,null,null,null,null,null,null,null,null,null,null,null,null,null,null,null,null,"Lima","SAN JUAN DE MIRAFLORES","DEPARTAMENTO",860,2580,null,null,null,null,null,null,"    ","."]
[null,null,null,null,null,null,null,null,null,null,null,null,null,null,null,null,null,null,null,null,null,null,null,null,null,null,null,null,null,null,"H33:T33","Apellido Paterno","Asegurado (llenar solo si es diferente del Contratante)",null,null,null,null,null,null,null,null,null,null,null,null,null,null,null,null,null,null,null,"Lima","SAN MARTIN DE PORRES","CASA",420,1260,null,null,null,null,null,null,"    'Quedeseacotizar","."]
[null,null,null,null,null,null,null,null,null,null,null,null,null,null,null,null,null,null,null,null,null,null,null,null,null,null,null,null,null,null,"Z33:AE33","Apellido Paterno","Asegurado (llenar solo si es diferente del Contratante)",null,null,null,null,null,null,null,null,null,null,null,null,null,null,null,null,null,null,null,"Lima","SAN MARTIN DE PORRES","DEPARTAMENTO",890,2670,null,null,null,null,null,null,"    If Quedeseacotizar = \"Inmueble\" Then","."]
[null,null,null,null,null,null,null,null,null,null,null,null,null,null,null,null,null,null,null,null,null,null,null,null,null,null,null,null,null,null,"E35","Sexo","Asegurado (llenar solo si es diferente del Contratante)",null,null,null,null,null,null,null,null,null,null,null,null,null,null,null,null,null,null,null,"Lima","SAN MIGUEL","CASA",650,1950,null,null,null,null,null,null,"        .Range(\"H29\").Value = \"X\"","."]
[null,null,null,null,null,null,null,null,null,null,null,null,null,null,null,null,null,null,null,null,null,null,null,null,null,null,null,null,null,null,"N35:P35","Fecha de Nacimiento\"","Asegurado (llenar solo si es diferente del Contratante)",null,null,null,null,null,null,null,null,null,null,null,null,null,null,null,null,null,null,null,"Lima","SAN MIGUEL","DEPARTAMENTO",1745,5235,null,null,null,null,null,null,"        .Range(\"K29\").ClearContents","."]
[null,null,null,null,null,null,null,null,null,null,null,null,null,null,null,null,null,null,null,null,null,null,null,null,null,null,null,null,null,null,"V35:Y35","Estado Civil","Asegurado (llenar solo si es diferente del Contratante)",null,null,null,null,null,null,null,null,null,null,null,null,null,null,null,null,null,null,null,"Lima","SANTA MARÍA DEL MAR","CASA",510,1530,null,null,null,null,null,null,"        .Range(\"O29\").ClearContents","."]
[null,null,null,null,null,null,null,null,null,null,null,null,null,null,null,null,null,null,null,null,null,null,null,null,null,null,null,null,null,null,"AA34:AE35","Nacionalidad","Asegurado (llenar solo si es diferente del Contratante)",null,null,null,null,null,null,null,null,null,null,null,null,null,null,null,null,null,null,null,"Lima","SANTA MARÍA DEL MAR","DEPARTAMENTO",1580,4740,null,null,null,null,null,null,"        ","."]
[null,null,null,null,null,null,null,null,null,null,null,null,null,null,null,null,null,null,null,null,null,null,null,null,null,null,null,null,null,null,"H37:V37","Direccion (Jr. / Cl / Av)","Asegurado (llenar solo si es diferente del Contratante)",null,null,null,null,null,null,null,null,null,null,null,null,null,null,null,null,null,null,null,"Lima","SANTIAGO DE SURCO","CASA",700,2100,null,null,null,null,null,null,"     ElseIf Quedeseacotizar = \"Bienes\" Then","."]
[null,null,null,null,null,null,null,null,null,null,null,null,null,null,null,null,null,null,null,null,null,null,null,null,null,null,null,null,null,null,"X37:Y37","Nro","Asegurado (llenar solo si es diferente del Contratante)",null,null,null,null,null,null,null,null,null,null,null,null,null,null,null,null,null,null,null,"Lima","SANTIAGO DE SURCO","DEPARTAMENTO",1900,5700,null,null,null,null,null,null,"        .Range(\"H29\").ClearContents","."]
[null,null,null,null,null,null,null,null,null,null,null,null,null,null,null,null,null,null,null,null,null,null,null,null,null,null,null,null,null,null,"AA37","Dpto/Piso/Int","Asegurado (llenar solo si es diferente del Contratante)",null,null,null,null,null,null,null,null,null,null,null,null,null,null,null,null,null,null,null,"Lima","SURQUILLO","CASA",500,1500,null,null,null,null,null,null,"        .Range(\"K29\").Value = \"X\"","."]
[null,null,null,null,null,null,null,null,null,null,null,null,null,null,null,null,null,null,null,null,null,null,null,null,null,null,null,null,null,null,"AC37","Mz","Asegurado (llenar solo si es diferente del Contratante)",null,null,null,null,null,null,null,null,null,null,null,null,null,null,null,null,null,null,null,"Lima","SURQUILLO","DEPARTAMENTO",1750,5250,null,null,null,null,null,null,"        .Range(\"O29\").ClearContents","."]
[null,null,null,null,null,null,null,null,null,null,null,null,null,null,null,null,null,null,null,null,null,null,null,null,null,null,null,null,null,null,"AE37","Lt","Asegurado (llenar solo si es diferente del Contratante)",null,null,null,null,null,null,null,null,null,null,null,null,null,null,null,null,null,null,null,"Lima","VILLA EL SALVADOR","CASA",385,1155,null,null,null,null,null,null,"        ","."]
[null,null,null,null,null,null,null,null,null,null,null,null,null,null,null,null,null,null,null,null,null,null,null,null,null,null,null,null,null,null,"K38:X38","Urbanizacion (Urb / AAHH / Coop)","Asegurado (llenar solo si es diferente del Contratante)",null,null,null,null,null,null,null,null,null,null,null,null,null,null,null,null,null,null,null,"Lima","VILLA EL SALVADOR","DEPARTAMENTO",860,2580,null,null,null,null,null,null,"     ElseIf Quedeseacotizar = \"Inmueble + Bienes\" Then","."]
[null,null,null,null,null,null,null,null,null,null,null,null,null,null,null,null,null,null,null,null,null,null,null,null,null,null,null,null,null,null,"AA38:AE38","Sec / Etapa / Zona","Asegurado (llenar solo si es diferente del Contratante)",null,null,null,null,null,null,null,null,null,null,null,null,null,null,null,null,null,null,null,null,null,null,null,null,null,null,null,null,null,null,"        .Range(\"H29\").ClearContents","."]
[null,null,null,null,null,null,null,null,null,null,null,null,null,null,null,null,null,null,null,null,null,null,null,null,null,null,null,null,null,null,"F39:L39","Departamento","Asegurado (llenar solo si es diferente del Contratante)",null,null,null,null,null,null,null,null,null,null,null,null,null,null,null,null,null,null,null,null,null,null,null,null,null,null,null,null,null,null,"        .Range(\"K29\").ClearContents","."]
[null,null,null,null,null,null,null,null,null,null,null,null,null,null,null,null,null,null,null,null,null,null,null,null,null,null,null,null,null,null,"N39:R39","Provincia","Asegurado (llenar solo si es diferente del Contratante)",null,null,null,null,null,null,null,null,null,null,null,null,null,null,null,null,null,null,null,null,null,null,null,null,null,null,null,null,null,null,"        .Range(\"O29\").Value = \"X\"","."]
[null,null,null,null,null,null,null,null,null,null,null,null,null,null,null,null,null,null,null,null,null,null,null,null,null,null,null,null,null,null,"W39:Z39","Distrito","Asegurado (llenar solo si es diferente del Contratante)",null,null,null,null,null,null,null,null,null,null,null,null,null,null,null,null,null,null,null,null,null,null,null,null,null,null,null,null,null,null,"        ","."]
[null,null,null,null,null,null,null,null,null,null,null,null,null,null,null,null,null,null,null,null,null,null,null,null,null,null,null,null,null,null,"AB39:AE39","País","Asegurado (llenar solo si es diferente del Contratante)",null,null,null,null,null,null,null,null,null,null,null,null,null,null,null,null,null,null,null,null,null,null,null,null,null,null,null,null,null,null,"     End If","."]
[null,null,null,null,null,null,null,null,null,null,null,null,null,null,null,null,null,null,null,null,null,null,null,null,null,null,null,null,null,null,"G40:L40","Teléfono Casa","Asegurado (llenar solo si es diferente del Contratante)",null,null,null,null,null,null,null,null,null,null,null,null,null,null,null,null,null,null,null,null,null,null,null,null,null,null,null,null,null,null,"    '''''''''","."]
[null,null,null,null,null,null,null,null,null,null,null,null,null,null,null,null,null,null,null,null,null,null,null,null,null,null,null,null,null,null,"N40:Y40","Teléfono trabajo","Asegurado (llenar solo si es diferente del Contratante)",null,null,null,null,null,null,null,null,null,null,null,null,null,null,null,null,null,null,null,null,null,null,null,null,null,null,null,null,null,null,"    ''''''''","."]
[null,null,null,null,null,null,null,null,null,null,null,null,null,null,null,null,null,null,null,null,null,null,null,null,null,null,null,null,null,null,"AA40:AE40","Teléfono Móvil","Asegurado (llenar solo si es diferente del Contratante)",null,null,null,null,null,null,null,null,null,null,null,null,null,null,null,null,null,null,null,null,null,null,null,null,null,null,null,null,null,null,"    ","."]
[null,null,null,null,null,null,null,null,null,null,null,null,null,null,null,null,null,null,null,null,null,null,null,null,null,null,null,null,null,null,"H41:AE41","Correo electronico(*)","Asegurado (llenar solo si es diferente del Contratante)",null,null,null,null,null,null,null,null,null,null,null,null,null,null,null,null,null,null,null,null,null,null,null,null,null,null,null,null,null,null,"    'Eligeelmodoaasegurar","."]
[null,null,null,null,null,null,null,null,null,null,null,null,null,null,null,null,null,null,null,null,null,null,null,null,null,null,null,null,null,null,"H49:V49","Direccion (Jr. / Cl / Av)",null,null,null,null,null,null,null,null,null,null,null,null,null,null,null,null,null,null,null,null,null,null,null,null,null,null,null,null,null,null,null,"    If Eligeelmodoaasegurar = \"A primer riesgo absoluto\" Then","."]
[null,null,null,null,null,null,null,null,null,null,null,null,null,null,null,null,null,null,null,null,null,null,null,null,null,null,null,null,null,null,"X49:Y49","Nro",null,null,null,null,null,null,null,null,null,null,null,null,null,null,null,null,null,null,null,null,null,null,null,null,null,null,null,null,null,null,null,"        .Range(\"H31\").Value = \"X\"","."]
[null,null,null,null,null,null,null,null,null,null,null,null,null,null,null,null,null,null,null,null,null,null,null,null,null,null,null,null,null,null,"AA49","Dpto/Piso/Int",null,null,null,null,null,null,null,null,null,null,null,null,null,null,null,null,null,null,null,null,null,null,null,null,null,null,null,null,null,null,null,"        .Range(\"K31\").ClearContents","."]
[null,null,null,null,null,null,null,null,null,null,null,null,null,null,null,null,null,null,null,null,null,null,null,null,null,null,null,null,null,null,"AC49","Mz",null,null,null,null,null,null,null,null,null,null,null,null,null,null,null,null,null,null,null,null,null,null,null,null,null,null,null,null,null,null,null,"        ","."]
[null,null,null,null,null,null,null,null,null,null,null,null,null,null,null,null,null,null,null,null,null,null,null,null,null,null,null,null,null,null,"AE49","Lt",null,null,null,null,null,null,null,null,null,null,null,null,null,null,null,null,null,null,null,null,null,null,null,null,null,null,null,null,null,null,null,"     ElseIf Eligeelmodoaasegurar = \"A valor total\" Then","."]
[null,null,null,null,null,null,null,null,null,null,null,null,null,null,null,null,null,null,null,null,null,null,null,null,null,null,null,null,null,null,"K50:X50","Urbanizacion (Urb / AAHH / Coop)",null,null,null,null,null,null,null,null,null,null,null,null,null,null,null,null,null,null,null,null,null,null,null,null,null,null,null,null,null,null,null,"        .Range(\"H31\").ClearContents","."]
[null,null,null,null,null,null,null,null,null,null,null,null,null,null,null,null,null,null,null,null,null,null,null,null,null,null,null,null,null,null,"AA50:AE50","Sec / Etapa / Zona",null,null,null,null,null,null,null,null,null,null,null,null,null,null,null,null,null,null,null,null,null,null,null,null,null,null,null,null,null,null,null,"        .Range(\"K31\").Value = \"X\"","."]
[null,null,null,null,null,null,null,null,null,null,null,null,null,null,null,null,null,null,null,null,null,null,null,null,null,null,null,null,null,null,"F52:L52","Distrito",null,null,null,null,null,null,null,null,null,null,null,null,null,null,null,null,null,null,null,null,null,null,null,null,null,null,null,null,null,null,null,"     End If","."]
[null,null,null,null,null,null,null,null,null,null,null,null,null,null,null,null,null,null,null,null,null,null,null,null,null,null,null,null,null,null,"N52:R52","Provincia",null,null,null,null,null,null,null,null,null,null,null,null,null,null,null,null,null,null,null,null,null,null,null,null,null,null,null,null,null,null,null,"    '''''''''","."]
[null,null,null,null,null,null,null,null,null,null,null,null,null,null,null,null,null,null,null,null,null,null,null,null,null,null,null,null,null,null,"W52:Z52","Departamento",null,null,null,null,null,null,null,null,null,null,null,null,null,null,null,null,null,null,null,null,null,null,null,null,null,null,null,null,null,null,null,"    ''''''''","."]
[null,null,null,null,null,null,null,null,null,null,null,null,null,null,null,null,null,null,null,null,null,null,null,null,null,null,null,null,null,null,"X54:Z54","m2 construccion",null,null,null,null,null,null,null,null,null,null,null,null,null,null,null,null,null,null,null,null,null,null,null,null,null,null,null,null,null,null,null,"    ","."]
[null,null,null,null,null,null,null,null,null,null,null,null,null,null,null,null,null,null,null,null,null,null,null,null,null,null,null,null,null,null,"AD217","Sí acepto",null,null,null,null,null,null,null,null,null,null,null,null,null,null,null,null,null,null,null,null,null,null,null,null,null,null,null,null,null,null,null,"    'TipodeVivienda","."]
[null,null,null,null,null,null,null,null,null,null,null,null,null,null,null,null,null,null,null,null,null,null,null,null,null,null,null,null,null,null,"AD219","No acepto y prefiero perder la oportunidad de recibir nuevas ofertas",null,null,null,null,null,null,null,null,null,null,null,null,null,null,null,null,null,null,null,null,null,null,null,null,null,null,null,null,null,null,null,"    If TipodeVivienda = \"Casa\" Then","."]
[null,null,null,null,null,null,null,null,null,null,null,null,null,null,null,null,null,null,null,null,null,null,null,null,null,null,null,null,null,null,"K51:M51","Tipo de Material de Construccion",null,null,null,null,null,null,null,null,null,null,null,null,null,null,null,null,null,null,null,null,null,null,null,null,null,null,null,null,null,null,null,"        .Range(\"E34\").Value = \"X\"","."]
[null,null,null,null,null,null,null,null,null,null,null,null,null,null,null,null,null,null,null,null,null,null,null,null,null,null,null,null,null,null,null,null,null,null,null,null,null,null,null,null,null,null,null,null,null,null,null,null,null,null,null,null,null,null,null,null,null,null,null,null,null,null,null,"        .Range(\"E35\").ClearContents","."]
[null,null,null,null,null,null,null,null,null,null,null,null,null,null,null,null,null,null,null,null,null,null,null,null,null,null,null,null,null,null,null,null,null,null,null,null,null,null,null,null,null,null,null,null,null,null,null,null,null,null,null,null,null,null,null,null,null,null,null,null,null,null,null,"        ","."]
[null,null,null,null,null,null,null,null,null,null,null,null,null,null,null,null,null,null,null,null,null,null,null,null,null,null,null,null,null,null,null,null,null,null,null,null,null,null,null,null,null,null,null,null,null,null,null,null,null,null,null,null,null,null,null,null,null,null,null,null,null,null,null,"     ElseIf TipodeVivienda = \"Departamento\" Then","."]
[null,null,null,null,null,null,null,null,null,null,null,null,null,null,null,null,null,null,null,null,null,null,null,null,null,null,null,null,null,null,null,null,null,null,null,null,null,null,null,null,null,null,null,null,null,null,null,null,null,null,null,null,null,null,null,null,null,null,null,null,null,null,null,"        .Range(\"E34\").ClearContents","."]
[null,null,null,null,null,null,null,null,null,null,null,null,null,null,null,null,null,null,null,null,null,null,null,null,null,null,null,null,null,null,null,null,null,null,null,null,null,null,null,null,null,null,null,null,null,null,null,null,null,null,null,null,null,null,null,null,null,null,null,null,null,null,null,"        .Range(\"E35\").Value = \"X\"","."]
[null,null,null,null,null,null,null,null,null,null,null,null,null,null,null,null,null,null,null,null,null,null,null,null,null,null,null,null,null,null,null,null,null,null,null,null,null,null,null,null,null,null,null,null,null,null,null,null,null,null,null,null,null,null,null,null,null,null,null,null,null,null,null,"     End If","."]
[null,null,null,null,null,null,null,null,null,null,null,null,null,null,null,null,null,null,null,null,null,null,null,null,null,null,null,null,null,null,null,null,null,null,null,null,null,null,null,null,null,null,null,null,null,null,null,null,null,null,null,null,null,null,null,null,null,null,null,null,null,null,null,"    '''''''''","."]
[null,null,null,null,null,null,null,null,null,null,null,null,null,null,null,null,null,null,null,null,null,null,null,null,null,null,null,null,null,null,null,null,null,null,null,null,null,null,null,null,null,null,null,null,null,null,null,null,null,null,null,null,null,null,null,null,null,null,null,null,null,null,null,"    ''''''''","."]
[null,null,null,null,null,null,null,null,null,null,null,null,null,null,null,null,null,null,null,null,null,null,null,null,null,null,null,null,null,null,null,null,null,null,null,null,null,null,null,null,null,null,null,null,null,null,null,null,null,null,null,null,null,null,null,null,null,null,null,null,null,null,null,"    ","."]
[null,null,null,null,null,null,null,null,null,null,null,null,null,null,null,null,null,null,null,null,null,null,null,null,null,null,null,null,null,null,null,null,null,null,null,null,null,null,null,null,null,null,null,null,null,null,null,null,null,null,null,null,null,null,null,null,null,null,null,null,null,null,null,"    'moneda","."]
[null,null,null,null,null,null,null,null,null,null,null,null,null,null,null,null,null,null,null,null,null,null,null,null,null,null,null,null,null,null,null,null,null,null,null,null,null,null,null,null,null,null,null,null,null,null,null,null,null,null,null,null,null,null,null,null,null,null,null,null,null,null,null,"    If moneda = \"Soles\" Then","."]
[null,null,null,null,null,null,null,null,null,null,null,null,null,null,null,null,null,null,null,null,null,null,null,null,null,null,null,null,null,null,null,null,null,null,null,null,null,null,null,null,null,null,null,null,null,null,null,null,null,null,null,null,null,null,null,null,null,null,null,null,null,null,null,"        .Range(\"H37\").Value = \"X\"","."]
[null,null,null,null,null,null,null,null,null,null,null,null,null,null,null,null,null,null,null,null,null,null,null,null,null,null,null,null,null,null,null,null,null,null,null,null,null,null,null,null,null,null,null,null,null,null,null,null,null,null,null,null,null,null,null,null,null,null,null,null,null,null,null,"        .Range(\"K37\").ClearContents","."]
[null,null,null,null,null,null,null,null,null,null,null,null,null,null,null,null,null,null,null,null,null,null,null,null,null,null,null,null,null,null,null,null,null,null,null,null,null,null,null,null,null,null,null,null,null,null,null,null,null,null,null,null,null,null,null,null,null,null,null,null,null,null,null,"        ","."]
[null,null,null,null,null,null,null,null,null,null,null,null,null,null,null,null,null,null,null,null,null,null,null,null,null,null,null,null,null,null,null,null,null,null,null,null,null,null,null,null,null,null,null,null,null,null,null,null,null,null,null,null,null,null,null,null,null,null,null,null,null,null,null,"    ElseIf moneda = \"Dólares\" Then","."]
[null,null,null,null,null,null,null,null,null,null,null,null,null,null,null,null,null,null,null,null,null,null,null,null,null,null,null,null,null,null,null,null,null,null,null,null,null,null,null,null,null,null,null,null,null,null,null,null,null,null,null,null,null,null,null,null,null,null,null,null,null,null,null,"        .Range(\"H37\").ClearContents","."]
[null,null,null,null,null,null,null,null,null,null,null,null,null,null,null,null,null,null,null,null,null,null,null,null,null,null,null,null,null,null,null,null,null,null,null,null,null,null,null,null,null,null,null,null,null,null,null,null,null,null,null,null,null,null,null,null,null,null,null,null,null,null,null,"        .Range(\"K37\").Value = \"X\"","."]
[null,null,null,null,null,null,null,null,null,null,null,null,null,null,null,null,null,null,null,null,null,null,null,null,null,null,null,null,null,null,null,null,null,null,null,null,null,null,null,null,null,null,null,null,null,null,null,null,null,null,null,null,null,null,null,null,null,null,null,null,null,null,null,"    End If","."]
[null,null,null,null,null,null,null,null,null,null,null,null,null,null,null,null,null,null,null,null,null,null,null,null,null,null,null,null,null,null,null,null,null,null,null,null,null,null,null,null,null,null,null,null,null,null,null,null,null,null,null,null,null,null,null,null,null,null,null,null,null,null,null,"    '''''''''","."]
[null,null,null,null,null,null,null,null,null,null,null,null,null,null,null,null,null,null,null,null,null,null,null,null,null,null,null,null,null,null,null,null,null,null,null,null,null,null,null,null,null,null,null,null,null,null,null,null,null,null,null,null,null,null,null,null,null,null,null,null,null,null,null,"    ''''''''","."]
[null,null,null,null,null,null,null,null,null,null,null,null,null,null,null,null,null,null,null,null,null,null,null,null,null,null,null,null,null,null,null,null,null,null,null,null,null,null,null,null,null,null,null,null,null,null,null,null,null,null,null,null,null,null,null,null,null,null,null,null,null,null,null,"    ","."]
[null,null,null,null,null,null,null,null,null,null,null,null,null,null,null,null,null,null,null,null,null,null,null,null,null,null,null,null,null,null,null,null,null,null,null,null,null,null,null,null,null,null,null,null,null,null,null,null,null,null,null,null,null,null,null,null,null,null,null,null,null,null,null,"    '()()()()()()()()()()()()()()()()()()()()()()()()()()()()()()()()()()()()()()()()()()()()()()()()()()()()()()()()()","."]
[null,null,null,null,null,null,null,null,null,null,null,null,null,null,null,null,null,null,null,null,null,null,null,null,null,null,null,null,null,null,null,null,null,null,null,null,null,null,null,null,null,null,null,null,null,null,null,null,null,null,null,null,null,null,null,null,null,null,null,null,null,null,null,"    ","."]
[null,null,null,null,null,null,null,null,null,null,null,null,null,null,null,null,null,null,null,null,null,null,null,null,null,null,null,null,null,null,null,null,null,null,null,null,null,null,null,null,null,null,null,null,null,null,null,null,null,null,null,null,null,null,null,null,null,null,null,null,null,null,null,"'    MsgBox \"ir a coberturas..\"","."]
[null,null,null,null,null,null,null,null,null,null,null,null,null,null,null,null,null,null,null,null,null,null,null,null,null,null,null,null,null,null,null,null,null,null,null,null,null,null,null,null,null,null,null,null,null,null,null,null,null,null,null,null,null,null,null,null,null,null,null,null,null,null,null,"'    Stop","."]
[null,null,null,null,null,null,null,null,null,null,null,null,null,null,null,null,null,null,null,null,null,null,null,null,null,null,null,null,null,null,null,null,null,null,null,null,null,null,null,null,null,null,null,null,null,null,null,null,null,null,null,null,null,null,null,null,null,null,null,null,null,null,null,"        ","."]
[null,null,null,null,null,null,null,null,null,null,null,null,null,null,null,null,null,null,null,null,null,null,null,null,null,null,null,null,null,null,null,null,null,null,null,null,null,null,null,null,null,null,null,null,null,null,null,null,null,null,null,null,null,null,null,null,null,null,null,null,null,null,null,"    If moneda = \"Soles\" Then","."]
[null,null,null,null,null,null,null,null,null,null,null,null,null,null,null,null,null,null,null,null,null,null,null,null,null,null,null,null,null,null,null,null,null,null,null,null,null,null,null,null,null,null,null,null,null,null,null,null,null,null,null,null,null,null,null,null,null,null,null,null,null,null,null,"        rowtarget = 37","."]
[null,null,null,null,null,null,null,null,null,null,null,null,null,null,null,null,null,null,null,null,null,null,null,null,null,null,null,null,null,null,null,null,null,null,null,null,null,null,null,null,null,null,null,null,null,null,null,null,null,null,null,null,null,null,null,null,null,null,null,null,null,null,null,"        columntarget = 8","."]
[null,null,null,null,null,null,null,null,null,null,null,null,null,null,null,null,null,null,null,null,null,null,null,null,null,null,null,null,null,null,null,null,null,null,null,null,null,null,null,null,null,null,null,null,null,null,null,null,null,null,null,null,null,null,null,null,null,null,null,null,null,null,null,"        ","."]
[null,null,null,null,null,null,null,null,null,null,null,null,null,null,null,null,null,null,null,null,null,null,null,null,null,null,null,null,null,null,null,null,null,null,null,null,null,null,null,null,null,null,null,null,null,null,null,null,null,null,null,null,null,null,null,null,null,null,null,null,null,null,null,"        WorksheetBeforeDoubleClick rowtarget, columntarget","."]
[null,null,null,null,null,null,null,null,null,null,null,null,null,null,null,null,null,null,null,null,null,null,null,null,null,null,null,null,null,null,null,null,null,null,null,null,null,null,null,null,null,null,null,null,null,null,null,null,null,null,null,null,null,null,null,null,null,null,null,null,null,null,null,null,"."]
[null,null,null,null,null,null,null,null,null,null,null,null,null,null,null,null,null,null,null,null,null,null,null,null,null,null,null,null,null,null,null,null,null,null,null,null,null,null,null,null,null,null,null,null,null,null,null,null,null,null,null,null,null,null,null,null,null,null,null,null,null,null,null,"    ElseIf moneda = \"Dólares\" Then","."]
[null,null,null,null,null,null,null,null,null,null,null,null,null,null,null,null,null,null,null,null,null,null,null,null,null,null,null,null,null,null,null,null,null,null,null,null,null,null,null,null,null,null,null,null,null,null,null,null,null,null,null,null,null,null,null,null,null,null,null,null,null,null,null,"        .Range(\"K37\").Value = \"X\"","."]
[null,null,null,null,null,null,null,null,null,null,null,null,null,null,null,null,null,null,null,null,null,null,null,null,null,null,null,null,null,null,null,null,null,null,null,null,null,null,null,null,null,null,null,null,null,null,null,null,null,null,null,null,null,null,null,null,null,null,null,null,null,null,null,"        rowtarget = 37","."]
[null,null,null,null,null,null,null,null,null,null,null,null,null,null,null,null,null,null,null,null,null,null,null,null,null,null,null,null,null,null,null,null,null,null,null,null,null,null,null,null,null,null,null,null,null,null,null,null,null,null,null,null,null,null,null,null,null,null,null,null,null,null,null,"        columntarget = 11","."]
[null,null,null,null,null,null,null,null,null,null,null,null,null,null,null,null,null,null,null,null,null,null,null,null,null,null,null,null,null,null,null,null,null,null,null,null,null,null,null,null,null,null,null,null,null,null,null,null,null,null,null,null,null,null,null,null,null,null,null,null,null,null,null,"        ","."]
[null,null,null,null,null,null,null,null,null,null,null,null,null,null,null,null,null,null,null,null,null,null,null,null,null,null,null,null,null,null,null,null,null,null,null,null,null,null,null,null,null,null,null,null,null,null,null,null,null,null,null,null,null,null,null,null,null,null,null,null,null,null,null,"        WorksheetBeforeDoubleClick rowtarget, columntarget","."]
[null,null,null,null,null,null,null,null,null,null,null,null,null,null,null,null,null,null,null,null,null,null,null,null,null,null,null,null,null,null,null,null,null,null,null,null,null,null,null,null,null,null,null,null,null,null,null,null,null,null,null,null,null,null,null,null,null,null,null,null,null,null,null,"     End If","."]
[null,null,null,null,null,null,null,null,null,null,null,null,null,null,null,null,null,null,null,null,null,null,null,null,null,null,null,null,null,null,null,null,null,null,null,null,null,null,null,null,null,null,null,null,null,null,null,null,null,null,null,null,null,null,null,null,null,null,null,null,null,null,null,null,"."]
[null,null,null,null,null,null,null,null,null,null,null,null,null,null,null,null,null,null,null,null,null,null,null,null,null,null,null,null,null,null,null,null,null,null,null,null,null,null,null,null,null,null,null,null,null,null,null,null,null,null,null,null,null,null,null,null,null,null,null,null,null,null,null,"End With","."]
[null,null,null,null,null,null,null,null,null,null,null,null,null,null,null,null,null,null,null,null,null,null,null,null,null,null,null,null,null,null,null,null,null,null,null,null,null,null,null,null,null,null,null,null,null,null,null,null,null,null,null,null,null,null,null,null,null,null,null,null,null,null,null,null,"."]
[null,null,null,null,null,null,null,null,null,null,null,null,null,null,null,null,null,null,null,null,null,null,null,null,null,null,null,null,null,null,null,null,null,null,null,null,null,null,null,null,null,null,null,null,null,null,null,null,null,null,null,null,null,null,null,null,null,null,null,null,null,null,null,"Application.EnableEvents = True","."]
[null,null,null,null,null,null,null,null,null,null,null,null,null,null,null,null,null,null,null,null,null,null,null,null,null,null,null,null,null,null,null,null,null,null,null,null,null,null,null,null,null,null,null,null,null,null,null,null,null,null,null,null,null,null,null,null,null,null,null,null,null,null,null,"Application.ScreenUpdating = True","."]
[null,null,null,null,null,null,null,null,null,null,null,null,null,null,null,null,null,null,null,null,null,null,null,null,null,null,null,null,null,null,null,null,null,null,null,null,null,null,null,null,null,null,null,null,null,null,null,null,null,null,null,null,null,null,null,null,null,null,null,null,null,null,null,null,"."]
[null,null,null,null,null,null,null,null,null,null,null,null,null,null,null,null,null,null,null,null,null,null,null,null,null,null,null,null,null,null,null,null,null,null,null,null,null,null,null,null,null,null,null,null,null,null,null,null,null,null,null,null,null,null,null,null,null,null,null,null,null,null,null,"End Sub","."]
[null,null,null,null,null,null,null,null,null,null,null,null,null,null,null,null,null,null,null,null,null,null,null,null,null,null,null,null,null,null,null,null,null,null,null,null,null,null,null,null,null,null,null,null,null,null,null,null,null,null,null,null,null,null,null,null,null,null,null,null,null,null,null,null,"."]
[null,null,null,null,null,null,null,null,null,null,null,null,null,null,null,null,null,null,null,null,null,null,null,null,null,null,null,null,null,null,null,null,null,null,null,null,null,null,null,null,null,null,null,null,null,null,null,null,null,null,null,null,null,null,null,null,null,null,null,null,null,null,null,"Sub coberturasPredeterminadas()","."]
[null,null,null,null,null,null,null,null,null,null,null,null,null,null,null,null,null,null,null,null,null,null,null,null,null,null,null,null,null,null,null,null,null,null,null,null,null,null,null,null,null,null,null,null,null,null,null,null,null,null,null,null,null,null,null,null,null,null,null,null,null,null,null,"Application.EnableEvents = False","."]
[null,null,null,null,null,null,null,null,null,null,null,null,null,null,null,null,null,null,null,null,null,null,null,null,null,null,null,null,null,null,null,null,null,null,null,null,null,null,null,null,null,null,null,null,null,null,null,null,null,null,null,null,null,null,null,null,null,null,null,null,null,null,null,"    ","."]
[null,null,null,null,null,null,null,null,null,null,null,null,null,null,null,null,null,null,null,null,null,null,null,null,null,null,null,null,null,null,null,null,null,null,null,null,null,null,null,null,null,null,null,null,null,null,null,null,null,null,null,null,null,null,null,null,null,null,null,null,null,null,null,"'agregado el 01 octubre 2019","."]
[null,null,null,null,null,null,null,null,null,null,null,null,null,null,null,null,null,null,null,null,null,null,null,null,null,null,null,null,null,null,null,null,null,null,null,null,null,null,null,null,null,null,null,null,null,null,null,null,null,null,null,null,null,null,null,null,null,null,null,null,null,null,null,"unprotectsheets","."]
[null,null,null,null,null,null,null,null,null,null,null,null,null,null,null,null,null,null,null,null,null,null,null,null,null,null,null,null,null,null,null,null,null,null,null,null,null,null,null,null,null,null,null,null,null,null,null,null,null,null,null,null,null,null,null,null,null,null,null,null,null,null,null,"'''''''''''''''''","."]
[null,null,null,null,null,null,null,null,null,null,null,null,null,null,null,null,null,null,null,null,null,null,null,null,null,null,null,null,null,null,null,null,null,null,null,null,null,null,null,null,null,null,null,null,null,null,null,null,null,null,null,null,null,null,null,null,null,null,null,null,null,null,null,null,"."]
[null,null,null,null,null,null,null,null,null,null,null,null,null,null,null,null,null,null,null,null,null,null,null,null,null,null,null,null,null,null,null,null,null,null,null,null,null,null,null,null,null,null,null,null,null,null,null,null,null,null,null,null,null,null,null,null,null,null,null,null,null,null,null,"Dim TipodeCliente As String","."]
[null,null,null,null,null,null,null,null,null,null,null,null,null,null,null,null,null,null,null,null,null,null,null,null,null,null,null,null,null,null,null,null,null,null,null,null,null,null,null,null,null,null,null,null,null,null,null,null,null,null,null,null,null,null,null,null,null,null,null,null,null,null,null,"Dim Quedeseacotizar As String","."]
[null,null,null,null,null,null,null,null,null,null,null,null,null,null,null,null,null,null,null,null,null,null,null,null,null,null,null,null,null,null,null,null,null,null,null,null,null,null,null,null,null,null,null,null,null,null,null,null,null,null,null,null,null,null,null,null,null,null,null,null,null,null,null,null,"."]
[null,null,null,null,null,null,null,null,null,null,null,null,null,null,null,null,null,null,null,null,null,null,null,null,null,null,null,null,null,null,null,null,null,null,null,null,null,null,null,null,null,null,null,null,null,null,null,null,null,null,null,null,null,null,null,null,null,null,null,null,null,null,null,"With hj_cotizador","."]
[null,null,null,null,null,null,null,null,null,null,null,null,null,null,null,null,null,null,null,null,null,null,null,null,null,null,null,null,null,null,null,null,null,null,null,null,null,null,null,null,null,null,null,null,null,null,null,null,null,null,null,null,null,null,null,null,null,null,null,null,null,null,null,"    TipodeCliente = .Range(\"G27\").Value","."]
[null,null,null,null,null,null,null,null,null,null,null,null,null,null,null,null,null,null,null,null,null,null,null,null,null,null,null,null,null,null,null,null,null,null,null,null,null,null,null,null,null,null,null,null,null,null,null,null,null,null,null,null,null,null,null,null,null,null,null,null,null,null,null,"    Quedeseacotizar = .Range(\"G29\").Value","."]
[null,null,null,null,null,null,null,null,null,null,null,null,null,null,null,null,null,null,null,null,null,null,null,null,null,null,null,null,null,null,null,null,null,null,null,null,null,null,null,null,null,null,null,null,null,null,null,null,null,null,null,null,null,null,null,null,null,null,null,null,null,null,null,"End With","."]
[null,null,null,null,null,null,null,null,null,null,null,null,null,null,null,null,null,null,null,null,null,null,null,null,null,null,null,null,null,null,null,null,null,null,null,null,null,null,null,null,null,null,null,null,null,null,null,null,null,null,null,null,null,null,null,null,null,null,null,null,null,null,null,"''''''''''''''","."]
[null,null,null,null,null,null,null,null,null,null,null,null,null,null,null,null,null,null,null,null,null,null,null,null,null,null,null,null,null,null,null,null,null,null,null,null,null,null,null,null,null,null,null,null,null,null,null,null,null,null,null,null,null,null,null,null,null,null,null,null,null,null,null,"'COBERTURAS X DEFAULT","."]
[null,null,null,null,null,null,null,null,null,null,null,null,null,null,null,null,null,null,null,null,null,null,null,null,null,null,null,null,null,null,null,null,null,null,null,null,null,null,null,null,null,null,null,null,null,null,null,null,null,null,null,null,null,null,null,null,null,null,null,null,null,null,null,"If Quedeseacotizar = \"Inmueble\" Then","."]
[null,null,null,null,null,null,null,null,null,null,null,null,null,null,null,null,null,null,null,null,null,null,null,null,null,null,null,null,null,null,null,null,null,null,null,null,null,null,null,null,null,null,null,null,null,null,null,null,null,null,null,null,null,null,null,null,null,null,null,null,null,null,null,"    ","."]
[null,null,null,null,null,null,null,null,null,null,null,null,null,null,null,null,null,null,null,null,null,null,null,null,null,null,null,null,null,null,null,null,null,null,null,null,null,null,null,null,null,null,null,null,null,null,null,null,null,null,null,null,null,null,null,null,null,null,null,null,null,null,null,"    'modificado el 02 octubre 2019","."]
[null,null,null,null,null,null,null,null,null,null,null,null,null,null,null,null,null,null,null,null,null,null,null,null,null,null,null,null,null,null,null,null,null,null,null,null,null,null,null,null,null,null,null,null,null,null,null,null,null,null,null,null,null,null,null,null,null,null,null,null,null,null,null,"    With Sheets(\"VALOR TOTAL INMUEBLE\")","."]
[null,null,null,null,null,null,null,null,null,null,null,null,null,null,null,null,null,null,null,null,null,null,null,null,null,null,null,null,null,null,null,null,null,null,null,null,null,null,null,null,null,null,null,null,null,null,null,null,null,null,null,null,null,null,null,null,null,null,null,null,null,null,null,"        .Range(\"B14\").Value = \"X\" 'Terremoto, temblor, maremoto, Inundaciones y riesgos de la naturaleza","."]
[null,null,null,null,null,null,null,null,null,null,null,null,null,null,null,null,null,null,null,null,null,null,null,null,null,null,null,null,null,null,null,null,null,null,null,null,null,null,null,null,null,null,null,null,null,null,null,null,null,null,null,null,null,null,null,null,null,null,null,null,null,null,null,"        .Range(\"B16\").Value = \"X\" 'Responsabilidad civil frente a terceros","."]
[null,null,null,null,null,null,null,null,null,null,null,null,null,null,null,null,null,null,null,null,null,null,null,null,null,null,null,null,null,null,null,null,null,null,null,null,null,null,null,null,null,null,null,null,null,null,null,null,null,null,null,null,null,null,null,null,null,null,null,null,null,null,null,"        .Range(\"B18\").Value = \"X\" 'Rotura accidental de vidrio y/o cristales","."]
[null,null,null,null,null,null,null,null,null,null,null,null,null,null,null,null,null,null,null,null,null,null,null,null,null,null,null,null,null,null,null,null,null,null,null,null,null,null,null,null,null,null,null,null,null,null,null,null,null,null,null,null,null,null,null,null,null,null,null,null,null,null,null,"        .Range(\"B21\").Value = \"X\" 'Gastos de arrendamiento de vivienda temporal a reembolso","."]
[null,null,null,null,null,null,null,null,null,null,null,null,null,null,null,null,null,null,null,null,null,null,null,null,null,null,null,null,null,null,null,null,null,null,null,null,null,null,null,null,null,null,null,null,null,null,null,null,null,null,null,null,null,null,null,null,null,null,null,null,null,null,null,"        .Range(\"B22\").ClearContents  'Alquiler no percibido por inmueble inhabitable temporalmente","."]
[null,null,null,null,null,null,null,null,null,null,null,null,null,null,null,null,null,null,null,null,null,null,null,null,null,null,null,null,null,null,null,null,null,null,null,null,null,null,null,null,null,null,null,null,null,null,null,null,null,null,null,null,null,null,null,null,null,null,null,null,null,null,null,"        .Range(\"B23\").Value = \"X\" 'Gastos extraordinarios: remoción de escombros, honorarios profesionales y construcción de documentos y modelos","."]
[null,null,null,null,null,null,null,null,null,null,null,null,null,null,null,null,null,null,null,null,null,null,null,null,null,null,null,null,null,null,null,null,null,null,null,null,null,null,null,null,null,null,null,null,null,null,null,null,null,null,null,null,null,null,null,null,null,null,null,null,null,null,null,"        .Range(\"B24\").Value = \"X\" 'Asistencias","."]
[null,null,null,null,null,null,null,null,null,null,null,null,null,null,null,null,null,null,null,null,null,null,null,null,null,null,null,null,null,null,null,null,null,null,null,null,null,null,null,null,null,null,null,null,null,null,null,null,null,null,null,null,null,null,null,null,null,null,null,null,null,null,null,"    End With","."]
[null,null,null,null,null,null,null,null,null,null,null,null,null,null,null,null,null,null,null,null,null,null,null,null,null,null,null,null,null,null,null,null,null,null,null,null,null,null,null,null,null,null,null,null,null,null,null,null,null,null,null,null,null,null,null,null,null,null,null,null,null,null,null,"    ","."]
[null,null,null,null,null,null,null,null,null,null,null,null,null,null,null,null,null,null,null,null,null,null,null,null,null,null,null,null,null,null,null,null,null,null,null,null,null,null,null,null,null,null,null,null,null,null,null,null,null,null,null,null,null,null,null,null,null,null,null,null,null,null,null,"    With Sheets(\"PRIMER RIESGO INMUEBLE\")","."]
[null,null,null,null,null,null,null,null,null,null,null,null,null,null,null,null,null,null,null,null,null,null,null,null,null,null,null,null,null,null,null,null,null,null,null,null,null,null,null,null,null,null,null,null,null,null,null,null,null,null,null,null,null,null,null,null,null,null,null,null,null,null,null,"        .Range(\"B14\").Value = \"X\" 'Terremoto, temblor, maremoto, Inundaciones y riesgos de la naturaleza","."]
[null,null,null,null,null,null,null,null,null,null,null,null,null,null,null,null,null,null,null,null,null,null,null,null,null,null,null,null,null,null,null,null,null,null,null,null,null,null,null,null,null,null,null,null,null,null,null,null,null,null,null,null,null,null,null,null,null,null,null,null,null,null,null,"        .Range(\"B16\").Value = \"X\" 'Responsabilidad civil frente a terceros","."]
[null,null,null,null,null,null,null,null,null,null,null,null,null,null,null,null,null,null,null,null,null,null,null,null,null,null,null,null,null,null,null,null,null,null,null,null,null,null,null,null,null,null,null,null,null,null,null,null,null,null,null,null,null,null,null,null,null,null,null,null,null,null,null,"        .Range(\"B18\").Value = \"X\" 'Rotura accidental de vidrio y/o cristales","."]
[null,null,null,null,null,null,null,null,null,null,null,null,null,null,null,null,null,null,null,null,null,null,null,null,null,null,null,null,null,null,null,null,null,null,null,null,null,null,null,null,null,null,null,null,null,null,null,null,null,null,null,null,null,null,null,null,null,null,null,null,null,null,null,"        .Range(\"B21\").Value = \"X\" 'Gastos de arrendamiento de vivienda temporal a reembolso","."]
[null,null,null,null,null,null,null,null,null,null,null,null,null,null,null,null,null,null,null,null,null,null,null,null,null,null,null,null,null,null,null,null,null,null,null,null,null,null,null,null,null,null,null,null,null,null,null,null,null,null,null,null,null,null,null,null,null,null,null,null,null,null,null,"        .Range(\"B22\").ClearContents 'Alquiler no percibido por inmueble inhabitable temporalmente","."]
[null,null,null,null,null,null,null,null,null,null,null,null,null,null,null,null,null,null,null,null,null,null,null,null,null,null,null,null,null,null,null,null,null,null,null,null,null,null,null,null,null,null,null,null,null,null,null,null,null,null,null,null,null,null,null,null,null,null,null,null,null,null,null,"        .Range(\"B23\").Value = \"X\" 'Gastos extraordinarios: remoción de escombros, honorarios profesionales y construcción de documentos y modelos","."]
[null,null,null,null,null,null,null,null,null,null,null,null,null,null,null,null,null,null,null,null,null,null,null,null,null,null,null,null,null,null,null,null,null,null,null,null,null,null,null,null,null,null,null,null,null,null,null,null,null,null,null,null,null,null,null,null,null,null,null,null,null,null,null,"        .Range(\"B24\").Value = \"X\" 'Asistencias","."]
[null,null,null,null,null,null,null,null,null,null,null,null,null,null,null,null,null,null,null,null,null,null,null,null,null,null,null,null,null,null,null,null,null,null,null,null,null,null,null,null,null,null,null,null,null,null,null,null,null,null,null,null,null,null,null,null,null,null,null,null,null,null,null,"    End With","."]
[null,null,null,null,null,null,null,null,null,null,null,null,null,null,null,null,null,null,null,null,null,null,null,null,null,null,null,null,null,null,null,null,null,null,null,null,null,null,null,null,null,null,null,null,null,null,null,null,null,null,null,null,null,null,null,null,null,null,null,null,null,null,null,"End If","."]
[null,null,null,null,null,null,null,null,null,null,null,null,null,null,null,null,null,null,null,null,null,null,null,null,null,null,null,null,null,null,null,null,null,null,null,null,null,null,null,null,null,null,null,null,null,null,null,null,null,null,null,null,null,null,null,null,null,null,null,null,null,null,null,"'=============================================================================================================================================================","."]
[null,null,null,null,null,null,null,null,null,null,null,null,null,null,null,null,null,null,null,null,null,null,null,null,null,null,null,null,null,null,null,null,null,null,null,null,null,null,null,null,null,null,null,null,null,null,null,null,null,null,null,null,null,null,null,null,null,null,null,null,null,null,null,null,"."]
[null,null,null,null,null,null,null,null,null,null,null,null,null,null,null,null,null,null,null,null,null,null,null,null,null,null,null,null,null,null,null,null,null,null,null,null,null,null,null,null,null,null,null,null,null,null,null,null,null,null,null,null,null,null,null,null,null,null,null,null,null,null,null,"If Quedeseacotizar = \"Bienes\" Then","."]
[null,null,null,null,null,null,null,null,null,null,null,null,null,null,null,null,null,null,null,null,null,null,null,null,null,null,null,null,null,null,null,null,null,null,null,null,null,null,null,null,null,null,null,null,null,null,null,null,null,null,null,null,null,null,null,null,null,null,null,null,null,null,null,"    With Sheets(\"VALOR TOTAL BIENES\")","."]
[null,null,null,null,null,null,null,null,null,null,null,null,null,null,null,null,null,null,null,null,null,null,null,null,null,null,null,null,null,null,null,null,null,null,null,null,null,null,null,null,null,null,null,null,null,null,null,null,null,null,null,null,null,null,null,null,null,null,null,null,null,null,null,"        .Range(\"B14\").Value = \"X\" 'Robo y/o daños por intento de robo (dentro y fuera de la vivienda a nivel nacional)","."]
[null,null,null,null,null,null,null,null,null,null,null,null,null,null,null,null,null,null,null,null,null,null,null,null,null,null,null,null,null,null,null,null,null,null,null,null,null,null,null,null,null,null,null,null,null,null,null,null,null,null,null,null,null,null,null,null,null,null,null,null,null,null,null,"        .Range(\"B15\").Value = \"X\" 'Robo y/o daños por intento de robo de joyas, platería, relojes, obras de arte, cámaras fotográficas o de video, laptops y bicicletas dentro de la vivienda o que estén siendo portados fuera de la vivienda","."]
[null,null,null,null,null,null,null,null,null,null,null,null,null,null,null,null,null,null,null,null,null,null,null,null,null,null,null,null,null,null,null,null,null,null,null,null,null,null,null,null,null,null,null,null,null,null,null,null,null,null,null,null,null,null,null,null,null,null,null,null,null,null,null,"        .Range(\"B16\").Value = \"X\" 'Terremoto, temblor, maremoto, Inundaciones y riesgos de la naturaleza","."]
[null,null,null,null,null,null,null,null,null,null,null,null,null,null,null,null,null,null,null,null,null,null,null,null,null,null,null,null,null,null,null,null,null,null,null,null,null,null,null,null,null,null,null,null,null,null,null,null,null,null,null,null,null,null,null,null,null,null,null,null,null,null,null,"        .Range(\"B20\").Value = \"X\" 'Gastos extraordinarios: remoción de escombros, honorarios profesionales y construcción de documentos y modelos","."]
[null,null,null,null,null,null,null,null,null,null,null,null,null,null,null,null,null,null,null,null,null,null,null,null,null,null,null,null,null,null,null,null,null,null,null,null,null,null,null,null,null,null,null,null,null,null,null,null,null,null,null,null,null,null,null,null,null,null,null,null,null,null,null,"        .Range(\"B21\").Value = \"X\" 'Asistencias","."]
[null,null,null,null,null,null,null,null,null,null,null,null,null,null,null,null,null,null,null,null,null,null,null,null,null,null,null,null,null,null,null,null,null,null,null,null,null,null,null,null,null,null,null,null,null,null,null,null,null,null,null,null,null,null,null,null,null,null,null,null,null,null,null,"    End With","."]
[null,null,null,null,null,null,null,null,null,null,null,null,null,null,null,null,null,null,null,null,null,null,null,null,null,null,null,null,null,null,null,null,null,null,null,null,null,null,null,null,null,null,null,null,null,null,null,null,null,null,null,null,null,null,null,null,null,null,null,null,null,null,null,"    ","."]
[null,null,null,null,null,null,null,null,null,null,null,null,null,null,null,null,null,null,null,null,null,null,null,null,null,null,null,null,null,null,null,null,null,null,null,null,null,null,null,null,null,null,null,null,null,null,null,null,null,null,null,null,null,null,null,null,null,null,null,null,null,null,null,"    With Sheets(\"PRIMER RIESGO BIENES\")","."]
[null,null,null,null,null,null,null,null,null,null,null,null,null,null,null,null,null,null,null,null,null,null,null,null,null,null,null,null,null,null,null,null,null,null,null,null,null,null,null,null,null,null,null,null,null,null,null,null,null,null,null,null,null,null,null,null,null,null,null,null,null,null,null,"        .Range(\"B14\").Value = \"X\" 'Robo y/o daños por intento de robo (dentro y fuera de la vivienda a nivel nacional)","."]
[null,null,null,null,null,null,null,null,null,null,null,null,null,null,null,null,null,null,null,null,null,null,null,null,null,null,null,null,null,null,null,null,null,null,null,null,null,null,null,null,null,null,null,null,null,null,null,null,null,null,null,null,null,null,null,null,null,null,null,null,null,null,null,"        .Range(\"B15\").Value = \"X\" 'Robo y/o daños por intento de robo de joyas, platería, relojes, obras de arte, cámaras fotográficas o de video, laptops y bicicletas dentro de la vivienda o que estén siendo portados fuera de la vivienda","."]
[null,null,null,null,null,null,null,null,null,null,null,null,null,null,null,null,null,null,null,null,null,null,null,null,null,null,null,null,null,null,null,null,null,null,null,null,null,null,null,null,null,null,null,null,null,null,null,null,null,null,null,null,null,null,null,null,null,null,null,null,null,null,null,"        .Range(\"B16\").Value = \"X\" 'Terremoto, temblor, maremoto, Inundaciones y riesgos de la naturaleza","."]
[null,null,null,null,null,null,null,null,null,null,null,null,null,null,null,null,null,null,null,null,null,null,null,null,null,null,null,null,null,null,null,null,null,null,null,null,null,null,null,null,null,null,null,null,null,null,null,null,null,null,null,null,null,null,null,null,null,null,null,null,null,null,null,"        .Range(\"B20\").Value = \"X\" 'Gastos extraordinarios: remoción de escombros, honorarios profesionales y construcción de documentos y modelos","."]
[null,null,null,null,null,null,null,null,null,null,null,null,null,null,null,null,null,null,null,null,null,null,null,null,null,null,null,null,null,null,null,null,null,null,null,null,null,null,null,null,null,null,null,null,null,null,null,null,null,null,null,null,null,null,null,null,null,null,null,null,null,null,null,"        .Range(\"B21\").Value = \"X\" 'Asistencias","."]
[null,null,null,null,null,null,null,null,null,null,null,null,null,null,null,null,null,null,null,null,null,null,null,null,null,null,null,null,null,null,null,null,null,null,null,null,null,null,null,null,null,null,null,null,null,null,null,null,null,null,null,null,null,null,null,null,null,null,null,null,null,null,null,"    End With","."]
[null,null,null,null,null,null,null,null,null,null,null,null,null,null,null,null,null,null,null,null,null,null,null,null,null,null,null,null,null,null,null,null,null,null,null,null,null,null,null,null,null,null,null,null,null,null,null,null,null,null,null,null,null,null,null,null,null,null,null,null,null,null,null,null,"."]
[null,null,null,null,null,null,null,null,null,null,null,null,null,null,null,null,null,null,null,null,null,null,null,null,null,null,null,null,null,null,null,null,null,null,null,null,null,null,null,null,null,null,null,null,null,null,null,null,null,null,null,null,null,null,null,null,null,null,null,null,null,null,null,"End If","."]
[null,null,null,null,null,null,null,null,null,null,null,null,null,null,null,null,null,null,null,null,null,null,null,null,null,null,null,null,null,null,null,null,null,null,null,null,null,null,null,null,null,null,null,null,null,null,null,null,null,null,null,null,null,null,null,null,null,null,null,null,null,null,null,"'=============================================================================================================================================================","."]
[null,null,null,null,null,null,null,null,null,null,null,null,null,null,null,null,null,null,null,null,null,null,null,null,null,null,null,null,null,null,null,null,null,null,null,null,null,null,null,null,null,null,null,null,null,null,null,null,null,null,null,null,null,null,null,null,null,null,null,null,null,null,null,null,"."]
[null,null,null,null,null,null,null,null,null,null,null,null,null,null,null,null,null,null,null,null,null,null,null,null,null,null,null,null,null,null,null,null,null,null,null,null,null,null,null,null,null,null,null,null,null,null,null,null,null,null,null,null,null,null,null,null,null,null,null,null,null,null,null,"If Quedeseacotizar = \"Inmueble + Bienes\" Then","."]
[null,null,null,null,null,null,null,null,null,null,null,null,null,null,null,null,null,null,null,null,null,null,null,null,null,null,null,null,null,null,null,null,null,null,null,null,null,null,null,null,null,null,null,null,null,null,null,null,null,null,null,null,null,null,null,null,null,null,null,null,null,null,null,"    With Sheets(\"VALOR TOTAL INMUEBLE +BIENES\")","."]
[null,null,null,null,null,null,null,null,null,null,null,null,null,null,null,null,null,null,null,null,null,null,null,null,null,null,null,null,null,null,null,null,null,null,null,null,null,null,null,null,null,null,null,null,null,null,null,null,null,null,null,null,null,null,null,null,null,null,null,null,null,null,null,"        .Range(\"B14\").Value = \"X\" 'Terremoto, temblor, maremoto, Inundaciones y riesgos de la naturaleza","."]
[null,null,null,null,null,null,null,null,null,null,null,null,null,null,null,null,null,null,null,null,null,null,null,null,null,null,null,null,null,null,null,null,null,null,null,null,null,null,null,null,null,null,null,null,null,null,null,null,null,null,null,null,null,null,null,null,null,null,null,null,null,null,null,"        .Range(\"B16\").Value = \"X\" 'Responsabilidad civil frente a terceros","."]
[null,null,null,null,null,null,null,null,null,null,null,null,null,null,null,null,null,null,null,null,null,null,null,null,null,null,null,null,null,null,null,null,null,null,null,null,null,null,null,null,null,null,null,null,null,null,null,null,null,null,null,null,null,null,null,null,null,null,null,null,null,null,null,"        .Range(\"B18\").Value = \"X\" 'Rotura accidental de vidrio y/o cristales","."]
[null,null,null,null,null,null,null,null,null,null,null,null,null,null,null,null,null,null,null,null,null,null,null,null,null,null,null,null,null,null,null,null,null,null,null,null,null,null,null,null,null,null,null,null,null,null,null,null,null,null,null,null,null,null,null,null,null,null,null,null,null,null,null,"        .Range(\"B21\").Value = \"X\" 'Robo y/o daños por intento de robo (dentro y fuera de la vivienda a nivel nacional)","."]
[null,null,null,null,null,null,null,null,null,null,null,null,null,null,null,null,null,null,null,null,null,null,null,null,null,null,null,null,null,null,null,null,null,null,null,null,null,null,null,null,null,null,null,null,null,null,null,null,null,null,null,null,null,null,null,null,null,null,null,null,null,null,null,"        .Range(\"B22\").Value = \"X\" 'Robo y/o daños por intento de robo de joyas, platería, relojes, obras de arte, cámaras fotográficas o de video, laptops y bicicletas dentro de la vivienda o que estén siendo portados fuera de la vivienda","."]
[null,null,null,null,null,null,null,null,null,null,null,null,null,null,null,null,null,null,null,null,null,null,null,null,null,null,null,null,null,null,null,null,null,null,null,null,null,null,null,null,null,null,null,null,null,null,null,null,null,null,null,null,null,null,null,null,null,null,null,null,null,null,null,"        .Range(\"B26\").Value = \"X\" 'Gastos de arrendamiento de vivienda temporal a reembolso","."]
[null,null,null,null,null,null,null,null,null,null,null,null,null,null,null,null,null,null,null,null,null,null,null,null,null,null,null,null,null,null,null,null,null,null,null,null,null,null,null,null,null,null,null,null,null,null,null,null,null,null,null,null,null,null,null,null,null,null,null,null,null,null,null,"        .Range(\"B29\").Value = \"X\" 'Asistencias","."]
[null,null,null,null,null,null,null,null,null,null,null,null,null,null,null,null,null,null,null,null,null,null,null,null,null,null,null,null,null,null,null,null,null,null,null,null,null,null,null,null,null,null,null,null,null,null,null,null,null,null,null,null,null,null,null,null,null,null,null,null,null,null,null,"    End With","."]
[null,null,null,null,null,null,null,null,null,null,null,null,null,null,null,null,null,null,null,null,null,null,null,null,null,null,null,null,null,null,null,null,null,null,null,null,null,null,null,null,null,null,null,null,null,null,null,null,null,null,null,null,null,null,null,null,null,null,null,null,null,null,null,"    ","."]
[null,null,null,null,null,null,null,null,null,null,null,null,null,null,null,null,null,null,null,null,null,null,null,null,null,null,null,null,null,null,null,null,null,null,null,null,null,null,null,null,null,null,null,null,null,null,null,null,null,null,null,null,null,null,null,null,null,null,null,null,null,null,null,"    With Sheets(\"PRIMER RIESGO INMUEBLE+BIENES\")","."]
[null,null,null,null,null,null,null,null,null,null,null,null,null,null,null,null,null,null,null,null,null,null,null,null,null,null,null,null,null,null,null,null,null,null,null,null,null,null,null,null,null,null,null,null,null,null,null,null,null,null,null,null,null,null,null,null,null,null,null,null,null,null,null,"        .Range(\"B14\").Value = \"X\" 'Terremoto, temblor, maremoto, Inundaciones y riesgos de la naturaleza","."]
[null,null,null,null,null,null,null,null,null,null,null,null,null,null,null,null,null,null,null,null,null,null,null,null,null,null,null,null,null,null,null,null,null,null,null,null,null,null,null,null,null,null,null,null,null,null,null,null,null,null,null,null,null,null,null,null,null,null,null,null,null,null,null,"        .Range(\"B16\").Value = \"X\" 'Responsabilidad civil frente a terceros","."]
[null,null,null,null,null,null,null,null,null,null,null,null,null,null,null,null,null,null,null,null,null,null,null,null,null,null,null,null,null,null,null,null,null,null,null,null,null,null,null,null,null,null,null,null,null,null,null,null,null,null,null,null,null,null,null,null,null,null,null,null,null,null,null,"        .Range(\"B18\").Value = \"X\" 'Rotura accidental de vidrio y/o cristales","."]
[null,null,null,null,null,null,null,null,null,null,null,null,null,null,null,null,null,null,null,null,null,null,null,null,null,null,null,null,null,null,null,null,null,null,null,null,null,null,null,null,null,null,null,null,null,null,null,null,null,null,null,null,null,null,null,null,null,null,null,null,null,null,null,"        .Range(\"B21\").Value = \"X\" 'Robo y/o daños por intento de robo (dentro y fuera de la vivienda a nivel nacional)","."]
[null,null,null,null,null,null,null,null,null,null,null,null,null,null,null,null,null,null,null,null,null,null,null,null,null,null,null,null,null,null,null,null,null,null,null,null,null,null,null,null,null,null,null,null,null,null,null,null,null,null,null,null,null,null,null,null,null,null,null,null,null,null,null,"        .Range(\"B22\").Value = \"X\" 'Robo y/o daños por intento de robo de joyas, platería, relojes, obras de arte, cámaras fotográficas o de video, laptops y bicicletas dentro de la vivienda o que estén siendo portados fuera de la vivienda","."]
[null,null,null,null,null,null,null,null,null,null,null,null,null,null,null,null,null,null,null,null,null,null,null,null,null,null,null,null,null,null,null,null,null,null,null,null,null,null,null,null,null,null,null,null,null,null,null,null,null,null,null,null,null,null,null,null,null,null,null,null,null,null,null,"        .Range(\"B26\").Value = \"X\" 'Gastos de arrendamiento de vivienda temporal a reembolso","."]
[null,null,null,null,null,null,null,null,null,null,null,null,null,null,null,null,null,null,null,null,null,null,null,null,null,null,null,null,null,null,null,null,null,null,null,null,null,null,null,null,null,null,null,null,null,null,null,null,null,null,null,null,null,null,null,null,null,null,null,null,null,null,null,"        .Range(\"B29\").Value = \"X\" 'Asistencias","."]
[null,null,null,null,null,null,null,null,null,null,null,null,null,null,null,null,null,null,null,null,null,null,null,null,null,null,null,null,null,null,null,null,null,null,null,null,null,null,null,null,null,null,null,null,null,null,null,null,null,null,null,null,null,null,null,null,null,null,null,null,null,null,null,"    End With","."]
[null,null,null,null,null,null,null,null,null,null,null,null,null,null,null,null,null,null,null,null,null,null,null,null,null,null,null,null,null,null,null,null,null,null,null,null,null,null,null,null,null,null,null,null,null,null,null,null,null,null,null,null,null,null,null,null,null,null,null,null,null,null,null,"End If","."]
[null,null,null,null,null,null,null,null,null,null,null,null,null,null,null,null,null,null,null,null,null,null,null,null,null,null,null,null,null,null,null,null,null,null,null,null,null,null,null,null,null,null,null,null,null,null,null,null,null,null,null,null,null,null,null,null,null,null,null,null,null,null,null,"'()()()()()()()()()()()()()()()()()()()()()()()()()()()()()()()()()()()()()()()()()()()()()()()()()()()()()()()()()()()()()()()()()()()()","."]
[null,null,null,null,null,null,null,null,null,null,null,null,null,null,null,null,null,null,null,null,null,null,null,null,null,null,null,null,null,null,null,null,null,null,null,null,null,null,null,null,null,null,null,null,null,null,null,null,null,null,null,null,null,null,null,null,null,null,null,null,null,null,null,"'()()()()()()()()()()()()()()()()()()()()()()()()()()()()()()()()()()()()()()()()()()()()()()()()()()()()()()()()()()()()()()()()()()()()","."]
[null,null,null,null,null,null,null,null,null,null,null,null,null,null,null,null,null,null,null,null,null,null,null,null,null,null,null,null,null,null,null,null,null,null,null,null,null,null,null,null,null,null,null,null,null,null,null,null,null,null,null,null,null,null,null,null,null,null,null,null,null,null,null,"'()()()()()()()()()()()()()()()()()()()()()()()()()()()()()()()()()()()()()()()()()()()()()()()()()()()()()()()()()()()()()()()()()()()()","."]
[null,null,null,null,null,null,null,null,null,null,null,null,null,null,null,null,null,null,null,null,null,null,null,null,null,null,null,null,null,null,null,null,null,null,null,null,null,null,null,null,null,null,null,null,null,null,null,null,null,null,null,null,null,null,null,null,null,null,null,null,null,null,null,null,"."]
[null,null,null,null,null,null,null,null,null,null,null,null,null,null,null,null,null,null,null,null,null,null,null,null,null,null,null,null,null,null,null,null,null,null,null,null,null,null,null,null,null,null,null,null,null,null,null,null,null,null,null,null,null,null,null,null,null,null,null,null,null,null,null,"'modificado el 02 octubre 2019","."]
[null,null,null,null,null,null,null,null,null,null,null,null,null,null,null,null,null,null,null,null,null,null,null,null,null,null,null,null,null,null,null,null,null,null,null,null,null,null,null,null,null,null,null,null,null,null,null,null,null,null,null,null,null,null,null,null,null,null,null,null,null,null,null,"'COBERTURAS ESPECIFICAS","."]
[null,null,null,null,null,null,null,null,null,null,null,null,null,null,null,null,null,null,null,null,null,null,null,null,null,null,null,null,null,null,null,null,null,null,null,null,null,null,null,null,null,null,null,null,null,null,null,null,null,null,null,null,null,null,null,null,null,null,null,null,null,null,null,"If TipodeCliente = \"Es dueño y alquila su vivienda\" Then","."]
[null,null,null,null,null,null,null,null,null,null,null,null,null,null,null,null,null,null,null,null,null,null,null,null,null,null,null,null,null,null,null,null,null,null,null,null,null,null,null,null,null,null,null,null,null,null,null,null,null,null,null,null,null,null,null,null,null,null,null,null,null,null,null,"    If Quedeseacotizar = \"Inmueble\" Then","."]
[null,null,null,null,null,null,null,null,null,null,null,null,null,null,null,null,null,null,null,null,null,null,null,null,null,null,null,null,null,null,null,null,null,null,null,null,null,null,null,null,null,null,null,null,null,null,null,null,null,null,null,null,null,null,null,null,null,null,null,null,null,null,null,"    ","."]
[null,null,null,null,null,null,null,null,null,null,null,null,null,null,null,null,null,null,null,null,null,null,null,null,null,null,null,null,null,null,null,null,null,null,null,null,null,null,null,null,null,null,null,null,null,null,null,null,null,null,null,null,null,null,null,null,null,null,null,null,null,null,null,"        With Sheets(\"VALOR TOTAL INMUEBLE\")","."]
[null,null,null,null,null,null,null,null,null,null,null,null,null,null,null,null,null,null,null,null,null,null,null,null,null,null,null,null,null,null,null,null,null,null,null,null,null,null,null,null,null,null,null,null,null,null,null,null,null,null,null,null,null,null,null,null,null,null,null,null,null,null,null,"            .Range(\"B22\").Value = \"X\" 'Alquiler no percibido por inmueble inhabitable temporalmente","."]
[null,null,null,null,null,null,null,null,null,null,null,null,null,null,null,null,null,null,null,null,null,null,null,null,null,null,null,null,null,null,null,null,null,null,null,null,null,null,null,null,null,null,null,null,null,null,null,null,null,null,null,null,null,null,null,null,null,null,null,null,null,null,null,"        End With","."]
[null,null,null,null,null,null,null,null,null,null,null,null,null,null,null,null,null,null,null,null,null,null,null,null,null,null,null,null,null,null,null,null,null,null,null,null,null,null,null,null,null,null,null,null,null,null,null,null,null,null,null,null,null,null,null,null,null,null,null,null,null,null,null,"        ","."]
[null,null,null,null,null,null,null,null,null,null,null,null,null,null,null,null,null,null,null,null,null,null,null,null,null,null,null,null,null,null,null,null,null,null,null,null,null,null,null,null,null,null,null,null,null,null,null,null,null,null,null,null,null,null,null,null,null,null,null,null,null,null,null,"        With Sheets(\"PRIMER RIESGO INMUEBLE\")","."]
[null,null,null,null,null,null,null,null,null,null,null,null,null,null,null,null,null,null,null,null,null,null,null,null,null,null,null,null,null,null,null,null,null,null,null,null,null,null,null,null,null,null,null,null,null,null,null,null,null,null,null,null,null,null,null,null,null,null,null,null,null,null,null,"            .Range(\"B22\").Value = \"X\" 'Alquiler no percibido por inmueble inhabitable temporalmente","."]
[null,null,null,null,null,null,null,null,null,null,null,null,null,null,null,null,null,null,null,null,null,null,null,null,null,null,null,null,null,null,null,null,null,null,null,null,null,null,null,null,null,null,null,null,null,null,null,null,null,null,null,null,null,null,null,null,null,null,null,null,null,null,null,"        End With","."]
[null,null,null,null,null,null,null,null,null,null,null,null,null,null,null,null,null,null,null,null,null,null,null,null,null,null,null,null,null,null,null,null,null,null,null,null,null,null,null,null,null,null,null,null,null,null,null,null,null,null,null,null,null,null,null,null,null,null,null,null,null,null,null,"    End If","."]
[null,null,null,null,null,null,null,null,null,null,null,null,null,null,null,null,null,null,null,null,null,null,null,null,null,null,null,null,null,null,null,null,null,null,null,null,null,null,null,null,null,null,null,null,null,null,null,null,null,null,null,null,null,null,null,null,null,null,null,null,null,null,null,"End If","."]
[null,null,null,null,null,null,null,null,null,null,null,null,null,null,null,null,null,null,null,null,null,null,null,null,null,null,null,null,null,null,null,null,null,null,null,null,null,null,null,null,null,null,null,null,null,null,null,null,null,null,null,null,null,null,null,null,null,null,null,null,null,null,null,"'()()()()()()()()()()()()()()()()()()()()()()()()()()()()()()()()()()()()()()()()()()()()()()()()()()()()()()()()()()()()()()()()()()()()","."]
[null,null,null,null,null,null,null,null,null,null,null,null,null,null,null,null,null,null,null,null,null,null,null,null,null,null,null,null,null,null,null,null,null,null,null,null,null,null,null,null,null,null,null,null,null,null,null,null,null,null,null,null,null,null,null,null,null,null,null,null,null,null,null,"'()()()()()()()()()()()()()()()()()()()()()()()()()()()()()()()()()()()()()()()()()()()()()()()()()()()()()()()()()()()()()()()()()()()()","."]
[null,null,null,null,null,null,null,null,null,null,null,null,null,null,null,null,null,null,null,null,null,null,null,null,null,null,null,null,null,null,null,null,null,null,null,null,null,null,null,null,null,null,null,null,null,null,null,null,null,null,null,null,null,null,null,null,null,null,null,null,null,null,null,"'()()()()()()()()()()()()()()()()()()()()()()()()()()()()()()()()()()()()()()()()()()()()()()()()()()()()()()()()()()()()()()()()()()()()","."]
[null,null,null,null,null,null,null,null,null,null,null,null,null,null,null,null,null,null,null,null,null,null,null,null,null,null,null,null,null,null,null,null,null,null,null,null,null,null,null,null,null,null,null,null,null,null,null,null,null,null,null,null,null,null,null,null,null,null,null,null,null,null,null,null,"."]
[null,null,null,null,null,null,null,null,null,null,null,null,null,null,null,null,null,null,null,null,null,null,null,null,null,null,null,null,null,null,null,null,null,null,null,null,null,null,null,null,null,null,null,null,null,null,null,null,null,null,null,null,null,null,null,null,null,null,null,null,null,null,null,"'agregado el 01 octubre 2019","."]
[null,null,null,null,null,null,null,null,null,null,null,null,null,null,null,null,null,null,null,null,null,null,null,null,null,null,null,null,null,null,null,null,null,null,null,null,null,null,null,null,null,null,null,null,null,null,null,null,null,null,null,null,null,null,null,null,null,null,null,null,null,null,null,"protectsheets","."]
[null,null,null,null,null,null,null,null,null,null,null,null,null,null,null,null,null,null,null,null,null,null,null,null,null,null,null,null,null,null,null,null,null,null,null,null,null,null,null,null,null,null,null,null,null,null,null,null,null,null,null,null,null,null,null,null,null,null,null,null,null,null,null,"'Application.EnableEvents = True 'review 02 octubre 2019","."]
[null,null,null,null,null,null,null,null,null,null,null,null,null,null,null,null,null,null,null,null,null,null,null,null,null,null,null,null,null,null,null,null,null,null,null,null,null,null,null,null,null,null,null,null,null,null,null,null,null,null,null,null,null,null,null,null,null,null,null,null,null,null,null,"End Sub","."]

{"sheet":"tabla","index":6,"n_rows":7,"n_cols":10,"rows_kept":7,"cut":false,"hidden":true,"merged":[[3,4,3,22],[6,4,6,22]]}
[null,null,null,null,"Consideraciones :",null,null,null,null,"Ir a Panel"]
[]
[null,null,null,null,"primer riesgo absoluto"]
[null,null,null,null,"-          La modalidad de aseguramiento que brinda este plan de seguros es a primer riesgo absoluto y se deja expresa constancia que nuestro límite máximo de responsabilidad es hasta el valor que usted determinó como Suma Asegurada, pudiendo ser esta un valor inferior al valor total del Inmueble y/o bien. No se aplicará INFRASEGURO."]
[]
[null,null,null,null,"valor total"]
[null,null,null,null,"-          La modalidad de aseguramiento que brinda este plan de seguros es a valor total."]

{"sheet":"tasasCupones","index":7,"n_rows":22,"n_cols":4,"rows_kept":22,"cut":false,"hidden":true,"merged":[]}
[]
[]
[]
[]
[]
[]
[]
[]
[]
[]
[]
[]
[]
[]
[null,"Tasas Cuotas Corredores","Factores"]
[null,"4 CUOTAS",0.25]
[null,"6 CUOTAS DA",0.17224535521308482]
[null,"6 CUOTAS Cupones",0.17464738217893,1.2154]
[null,"10 CUOTAS DA",0.10529275549614135]
[null,"10 CUOTAS Cupones",0.10759130788909588]
[null,"12 Cuotas DA",8.8562000000000002E-2,1.2154]
[null,"12 Cuotas CUPONES",9.0842417251572619E-2,1.2154]

{"sheet":"CotizacionInmueble","index":8,"n_rows":113,"n_cols":9,"rows_kept":113,"cut":false,"hidden":true,"merged":[[60,2,60,3],[61,2,61,3],[67,2,67,3],[67,4,67,5],[112,2,147,5],[79,2,109,5],[74,2,74,5],[76,2,76,5],[68,2,68,3],[68,4,68,5],[69,2,69,3],[69,4,69,5],[70,2,70,3],[70,4,70,5],[75,2,75,5],[64,2,64,3],[64,4,64,5],[65,2,65,3],[65,4,65,5],[66,2,66,3],[66,4,66,5],[48,2,48,3],[49,2,49,3],[62,2,62,5],[63,2,63,3],[63,4,63,5],[50,2,50,3],[51,2,51,3],[52,2,52,3],[53,2,53,3],[54,2,54,3],[55,2,55,3],[50,5,61,5],[56,2,56,3],[57,2,57,3],[58,2,58,3],[59,2,59,3],[43,2,43,3],[44,2,44,3],[45,2,45,3],[46,2,46,3],[47,2,47,3],[39,1,40,1],[39,2,40,3],[39,5,40,5],[41,1,42,1],[41,2,42,3],[41,5,42,5],[12,3,12,5],[20,3,20,5],[0,2,0,6],[35,2,35,3],[37,2,37,3],[21,3,21,5],[22,3,22,5],[23,3,23,5],[24,3,24,5],[5,3,5,4]]}
[null,null,{"$f":"\"Cotización Seguro de Hogar Flex \" & configuracion!$K$2","v":"Cotización Seguro de Hogar Flex Enero 2025"}]
[]
[null,null,"Vigencia de la cotización",{"$f":"TEXT(TODAY(),\"dd/mm/yyyy\") & \" - \" &  TEXT(TODAY()+15,\"dd/mm/yyyy\")","v":"25/03/2025 - 09/04/2025"}]
[null,null,"Fecha inicio de Vigencia",{"$f":"Cotizador!$L$6","v":"00:00:00"}]
[null,null,"Canal",{"$f":"Cotizador!$G$10","v":"Corredor"}]
[null,null,"Agente",{"$f":"Cotizador!R$10","v":0}]
[]
[null,null,"Datos del Contratante "]
[null,null,"Nombre del Contratante",{"$f":"Cotizador!$G$15 & \" \" & Cotizador!$M$15& \" \" & Cotizador!$R$15","v":"  "}]
[null,null,"Tipo de documento ",{"$f":"Cotizador!$G$14&\" \" &Cotizador!$M$14","v":" "}]
[null,null,null,null,null,"Descuento"]
[null,null,"Planes de Pago Prima",null,null,{"$f":"Cotizador!$M$40","v":0}]
[null,null,"Débito automático","Valores de la Cuota"]
[null,null,"Plan de pago  ","Prima Comercial","IGV","Prima Total"]
[null,null,"Prima anual + IGV sin intereses:",{"$f":"IF(Cotizador!$G$54=0,\"\",Cotizador!$G$54)","v":""},{"$f":"IF(Cotizador!$G$55=0,\"\",Cotizador!$G$55)","v":""},{"$f":"IF(Cotizador!$G$56=0,\"\",Cotizador!$G$56)","v":""}]
[null,null,"Prima anual + IGV sin intereses:",{"$f":"IF(Cotizador!$L$54=0,\"\",Cotizador!$L$54)","v":""},{"$f":"IF(Cotizador!$L$55=0,\"\",Cotizador!$L$55)","v":""},{"$f":"IF(Cotizador!$L$56=0,\"\",Cotizador!$L$56)","v":""}]
[null,null,{"$f":"IF(Cotizador!$I$61=\"X\",Cotizador!$B$61,IF(Cotizador!$I$62=\"X\",Cotizador!$B$62,IF(Cotizador!$I$63=\"X\",Cotizador!$B$63,IF(Cotizador!$I$64=\"X\",Cotizador!$B$64,IF(Cotizador!$I$66=\"X\",Cotizador!$B$66,IF(Cotizador!$I$67=\"X\",Cotizador!$B$67,IF(Cotizador!$I$68=\"X\",Cotizador!$B$68,IF(Cotizador!$I$69=\"X\",Cotizador!$B$69,\"\"))))))))","v":""},{"$f":"IFERROR(F17/1.18,\"\")","v":""},{"$f":"IFERROR(F17-D17,\"\")","v":""},{"$f":"IF(Cotizador!$I$61=\"X\",Cotizador!$J$61,IF(Cotizador!$I$62=\"X\",Cotizador!$J$62,IF(Cotizador!$I$63=\"X\",Cotizador!$J$63,IF(Cotizador!$I$64=\"X\",Cotizador!$J$64,IF(Cotizador!$I$66=\"X\",Cotizador!$J$66,IF(Cotizador!$I$67=\"X\",Cotizador!$J$67,IF(Cotizador!$I$68=\"X\",Cotizador!$J$68,IF(Cotizador!$I$69=\"X\",Cotizador!$J$69,\"\"))))))))","v":""}]
[null,null,"Materia Asegurada",{"$f":"IF(Cotizador!$H$29=\"X\",Cotizador!$G$29,IF(Cotizador!$K$29=\"X\",Cotizador!$J$29,IF(Cotizador!$O$29=\"X\",Cotizador!$M$29)))","v":false}]
[]
[null,null,"Datos del Inmueble asegurado"]
[null,null,"Dirección",{"$f":"Cotizador!$G$22 & \" \" & Cotizador!G23","v":" "}]
[null,null,"Departamento",{"$f":"IF(Cotizador!$L$26=0,\"\",Cotizador!$L$26)","v":""}]
[null,null,"Provincia",{"$f":"IF(Cotizador!$G$26=0,\"\",Cotizador!$G$26)","v":""}]
[null,null,"Distrito",{"$f":"IF(Cotizador!$G$25=0,\"\",Cotizador!$G$25)","v":""}]
[null,null,"Tipo de Inmueble",{"$f":"IF(Cotizador!$E$34=\"X\",Cotizador!$B$34,IF(Cotizador!$E$35=\"X\",Cotizador!$B$35,\"\"))","v":""}]
[]
[null,null,"Modalidad de Aseguramiento",{"$f":"IF(Cotizador!$H$31=\"X\",Cotizador!$G$31,IF(Cotizador!$K$31=\"X\",Cotizador!$J$31,\"\"))","v":""}]
[]
[null,null,"Plan  contratado",{"$f":"IF(Cotizador!$G$29=\"PLAN BÁSICO\",\"Plan Básico\",IF(Cotizador!$G$29=\"PLAN FULL\",\"Plan Full\",\"Personalizado\"))","v":"Personalizado"}]
[]
[null,null,"Suma Asegurada"]
[null,null,"Suma Asegurada Inmueble",{"$f":"Cotizador!$G$40","v":0},"Valor Declarado Inmueble",{"$f":"Cotizador!$G$38","v":0}]
[null,null,"Suma Asegurada Bienes",{"$f":"Cotizador!G41","v":0}]
[null,null,"Suma Asegurada Total (Inmueble + Bienes)",{"$f":"SUM(D32:D33)","v":0}]
[]
[null,null,"COBERTURAS  (solo INMUEBLE)",null,"Límites asegurados por vigencia","Prima Comercial",null,null,"OK"]
[null,null,"Cobertura principal"]
[{"$f":"IF(LEN(B38)=0,\"hide\",\"\")","v":""},{"$f":"IF('PRIMER RIESGO INMUEBLE'!B12=0,\"\",'PRIMER RIESGO INMUEBLE'!B12)","v":"X"},"Incendio y/o rayo, explosión, incendio en aparatos eléctricos. Daños por agua, daños por humo, impacto de vehículos y/o aeronaves o daños por riesgos políticos y sociales",null,{"$f":"'PRIMER RIESGO INMUEBLE'!F12","v":0},{"$f":"'PRIMER RIESGO INMUEBLE'!G12","v":51.5}]
[{"$f":"IF(AND(A40=\"hide\",A41=\"hide\",A42=\"hide\",A43=\"hide\",A44=\"hide\",A45=\"hide\",A46=\"hide\",A47=\"hide\",A48=\"hide\",A49=\"hide\"),\"hide\",\"\")","v":""},null,"Coberturas adicionales"]
[{"$f":"IF(LEN(B40)=0,\"hide\",\"\")","v":"hide"},{"$f":"IF('PRIMER RIESGO INMUEBLE'!B14=0,\"\",'PRIMER RIESGO INMUEBLE'!B14)","v":""},"Terremoto, temblor, maremoto, Inundaciones y riesgos de la naturaleza",null,{"$f":"'PRIMER RIESGO INMUEBLE'!F14","v":0},{"$f":"'PRIMER RIESGO INMUEBLE'!G14","v":0}]
[{"$f":"IF(LEN(B40)=0,\"hide\",\"\")","v":"hide"},{"$f":"IF('PRIMER RIESGO INMUEBLE'!B15=0,\"\",'PRIMER RIESGO INMUEBLE'!B15)","v":""},null,null,{"$f":"'PRIMER RIESGO INMUEBLE'!F15","v":"Suma asegurada que forma parte de la cobertura principal"}]
[{"$f":"IF(LEN(B42)=0,\"hide\",\"\")","v":"hide"},{"$f":"IF('PRIMER RIESGO INMUEBLE'!B16=0,\"\",'PRIMER RIESGO INMUEBLE'!B16)","v":""},"Responsabilidad civil frente a terceros",null,{"$f":"'PRIMER RIESGO INMUEBLE'!F16","v":0},{"$f":"'PRIMER RIESGO INMUEBLE'!G16","v":0}]
[{"$f":"IF(LEN(B42)=0,\"hide\",\"\")","v":"hide"},{"$f":"IF('PRIMER RIESGO INMUEBLE'!B17=0,\"\",'PRIMER RIESGO INMUEBLE'!B17)","v":""},null,null,{"$f":"'PRIMER RIESGO INMUEBLE'!F17","v":"máximo US$ 200,000"}]
[{"$f":"IF(LEN(B44)=0,\"hide\",\"\")","v":"hide"},{"$f":"IF('PRIMER RIESGO INMUEBLE'!B18=0,\"\",'PRIMER RIESGO INMUEBLE'!B18)","v":""},"Rotura accidental de vidrio y/o cristales",null,{"$f":"'PRIMER RIESGO INMUEBLE'!F18","v":"Hasta US$ 3,000 ,suma asegurada que forma parte de la cobertura principal"},{"$f":"'PRIMER RIESGO INMUEBLE'!G18","v":0}]
[{"$f":"IF(LEN(B45)=0,\"hide\",\"\")","v":"hide"},{"$f":"IF('PRIMER RIESGO INMUEBLE'!B19=0,\"\",'PRIMER RIESGO INMUEBLE'!B19)","v":""},"Robo o intento de robo de instalaciones fijas",null,{"$f":"'PRIMER RIESGO INMUEBLE'!F19","v":"Hasta el 20% de la suma asegurada de inmueble, máximo US$ 5,000 ,suma asegurada que forma parte de la cobertura principal"},{"$f":"'PRIMER RIESGO INMUEBLE'!G19","v":0}]
[{"$f":"IF(LEN(B46)=0,\"hide\",\"\")","v":"hide"},{"$f":"IF('PRIMER RIESGO INMUEBLE'!B20=0,\"\",'PRIMER RIESGO INMUEBLE'!B20)","v":""},"Reembolso de gastos médicos por accidentes de trabajadores del hogar, ocurridos dentro del inmueble",null,{"$f":"'PRIMER RIESGO INMUEBLE'!F20","v":"Hasta US$ 5,000 por evento, máximo 3 eventos por vigencia de la póliza"},{"$f":"'PRIMER RIESGO INMUEBLE'!G20","v":0}]
["hide",{"$f":"IF('PRIMER RIESGO INMUEBLE'!B21=0,\"\",'PRIMER RIESGO INMUEBLE'!B21)","v":""},"Gastos de arrendamiento de vivienda temporal a reembolso",null,{"$f":"'PRIMER RIESGO INMUEBLE'!F21","v":"Hasta US$ 2,000 mensuales, máximo 6 meses por vigencia de la póliza, suma asegurada que forma parte de la cobertura principal"},{"$f":"'PRIMER RIESGO INMUEBLE'!G21","v":0}]
["hide",{"$f":"IF('PRIMER RIESGO INMUEBLE'!B22=0,\"\",'PRIMER RIESGO INMUEBLE'!B22)","v":""},"Alquiler no percibido por inmueble inhabitable temporalmente",null,{"$f":"'PRIMER RIESGO INMUEBLE'!F22","v":"Hasta US$ 2,000 mensuales, máximo 6 meses por vigencia de la póliza, suma asegurada que forma parte de la cobertura principal"},{"$f":"'PRIMER RIESGO INMUEBLE'!G22","v":0}]
[{"$f":"IF(LEN(B49)=0,\"hide\",\"\")","v":""},{"$f":"IF('PRIMER RIESGO INMUEBLE'!B23=0,\"\",'PRIMER RIESGO INMUEBLE'!B23)","v":"X"},"Gastos extraordinarios: remoción de escombros, honorarios profesionales y construcción de documentos y modelos ",null,{"$f":"'PRIMER RIESGO INMUEBLE'!F23","v":"Hasta el 20% de la suma asegurada de Inmueble, suma asegurada que forma parte de la cobertura principal"},{"$f":"'PRIMER RIESGO INMUEBLE'!G23","v":0}]
[{"$f":"IF(LEN($B$50)=0,\"hide\",\"\")","v":"hide"},{"$f":"IF('PRIMER RIESGO INMUEBLE'!B24=0,\"\",'PRIMER RIESGO INMUEBLE'!B24)","v":""},"Asistencias",null,null,null,null,null,"OK"]
[{"$f":"IF(LEN($B$50)=0,\"hide\",\"\")","v":"hide"},null,{"$f":"'PRIMER RIESGO INMUEBLE'!D25","v":"Envío y pago de Cerrajero por emergencia las 24H"},null,{"$f":"'PRIMER RIESGO INMUEBLE'!F25","v":"Hasta US$ 300 por evento, Máximo de 3 eventos"},{"$f":"'PRIMER RIESGO INMUEBLE'!G25","v":0}]
[{"$f":"IF(LEN($B$50)=0,\"hide\",\"\")","v":"hide"},null,{"$f":"'PRIMER RIESGO INMUEBLE'!D26","v":"Envío y pago de Gasfitero por emergencia las 24H"},null,{"$f":"'PRIMER RIESGO INMUEBLE'!F26","v":"Hasta US$ 300 por evento, Máximo de 3 eventos"}]
["hide",null,{"$f":"'PRIMER RIESGO INMUEBLE'!D27","v":"Envío y pago de Electricista por emergencia las 24H"},null,{"$f":"'PRIMER RIESGO INMUEBLE'!F27","v":"Hasta US$ 300 por evento, Máximo de 3 eventos"}]
["hide",null,{"$f":"'PRIMER RIESGO INMUEBLE'!D28","v":"Envío y pago de Vidriero por emergencia las 24H"},null,{"$f":"'PRIMER RIESGO INMUEBLE'!F28","v":"Hasta US$ 300 por evento, Máximo de 3 eventos"}]
["hide",null,{"$f":"'PRIMER RIESGO INMUEBLE'!D29","v":"Limpieza del inmueble asegurado a consecuencia de un siniestro"},null,{"$f":"'PRIMER RIESGO INMUEBLE'!F29","v":"Hasta US$ 500 por evento, Máximo de 3 eventos"}]
["hide",null,{"$f":"'PRIMER RIESGO INMUEBLE'!D30","v":"Servicio de Lavado de estores, roller, alfombras"},null,{"$f":"'PRIMER RIESGO INMUEBLE'!F30","v":"Hasta US$ 80 por evento, máximo de 1 evento, cubriendo la limpieza de una pieza."}]
["hide",null,{"$f":"'PRIMER RIESGO INMUEBLE'!D31","v":"Servicio de Lavado de colchón"},null,{"$f":"'PRIMER RIESGO INMUEBLE'!F31","v":"Hasta US$ 80 por evento, máximo de 1 evento, cubriendo la limpieza de una pieza."}]
["hide",null,{"$f":"'PRIMER RIESGO INMUEBLE'!D32","v":"Masajes  relajantes a domicilio durante 1 hora"},null,{"$f":"'PRIMER RIESGO INMUEBLE'!F32","v":"Hasta US$ 80 por evento, máximo de 1 evento, cubriendo la limpieza de una pieza."}]
["hide",null,{"$f":"'PRIMER RIESGO INMUEBLE'!D33","v":"Mozo a domicilio "},null,{"$f":"'PRIMER RIESGO INMUEBLE'!F33","v":"Hasta máximo de 3 eventos al año, con servicio una vez al mes."}]
["hide",null,{"$f":"'PRIMER RIESGO INMUEBLE'!D34","v":"Mantenimiento Preventivo de Línea Blanca"},null,{"$f":"'PRIMER RIESGO INMUEBLE'!F34","v":"Hasta US$ 75 por evento, máximo de 3 eventos, cubriendo la revisión de un equipo."}]
["hide",null,{"$f":"'PRIMER RIESGO INMUEBLE'!D35","v":"Orientación telefónica veterinaria para perros las 24H"},null,{"$f":"'PRIMER RIESGO INMUEBLE'!F35","v":"Sin límite"}]
["hide",null,{"$f":"'PRIMER RIESGO INMUEBLE'!D36","v":"Hospedaje de perros"},null,{"$f":"'PRIMER RIESGO INMUEBLE'!F36","v":"Hasta máximo de 3 eventos. Se considera 1 día de hospedaje por evento."}]
[null,null,"Deducibles:\nAplicables por evento/pérdida, en caso de discrepancia prevalece el mayor",null,null,null,null,null,"OK"]
[{"$f":"IF(LEN(B64)=0,\"hide\",\"\")","v":"hide"},{"$f":"IF('PRIMER RIESGO INMUEBLE'!B38=0,\"\",'PRIMER RIESGO INMUEBLE'!B38)","v":""},"Terremoto / Maremoto",null,{"$f":"'PRIMER RIESGO INMUEBLE'!F38","v":"Hasta el 1% del límite asegurado, mínimo US$ 200"}]
[{"$f":"IF(LEN(B65)=0,\"hide\",\"\")","v":"hide"},{"$f":"IF('PRIMER RIESGO INMUEBLE'!B39=0,\"\",'PRIMER RIESGO INMUEBLE'!B39)","v":""},"Otros Riesgos de la Naturaleza (entre ellos lluvia, inundación, otros)",null,{"$f":"'PRIMER RIESGO INMUEBLE'!F39","v":"Hasta 10% del monto indemnizable, mínimo US$ 200"}]
["",{"$f":"IF('PRIMER RIESGO INMUEBLE'!B40=0,\"\",'PRIMER RIESGO INMUEBLE'!B40)","v":"X"},"Daños por agua",null,{"$f":"'PRIMER RIESGO INMUEBLE'!F40","v":"Hasta 10% del monto indemnizable, mínimo US$ 200"}]
["",{"$f":"IF('PRIMER RIESGO INMUEBLE'!B41=0,\"\",'PRIMER RIESGO INMUEBLE'!B41)","v":"X"},"Riesgos políticos y sociales",null,{"$f":"'PRIMER RIESGO INMUEBLE'!F41","v":"Hasta 10% del monto indemnizable, mínimo US$ 200"}]
["hide",{"$f":"IF('PRIMER RIESGO INMUEBLE'!B42=0,\"\",'PRIMER RIESGO INMUEBLE'!B42)","v":""},"Responsabilidad civil frente a terceros",null,{"$f":"'PRIMER RIESGO INMUEBLE'!F42","v":"Hasta 10% del monto indemnizable, mínimo US$ 200"}]
["hide",{"$f":"IF('PRIMER RIESGO INMUEBLE'!B43=0,\"\",'PRIMER RIESGO INMUEBLE'!B43)","v":""},"Rotura accidental de vidrio y/o cristales",null,{"$f":"'PRIMER RIESGO INMUEBLE'!F43","v":"Hasta 10% del monto indemnizable, mínimo US$ 200"}]
["hide",{"$f":"IF('PRIMER RIESGO INMUEBLE'!B44=0,\"\",'PRIMER RIESGO INMUEBLE'!B44)","v":""},"Robo o intento de robo de instalaciones fijas",null,{"$f":"'PRIMER RIESGO INMUEBLE'!F44","v":"Hasta 10% del monto indemnizable, mínimo US$ 200"}]
["hide",{"$f":"IF('PRIMER RIESGO INMUEBLE'!B45=0,\"\",'PRIMER RIESGO INMUEBLE'!B45)","v":""},"Demás coberturas",null,{"$f":"'PRIMER RIESGO INMUEBLE'!F45","v":"Sin deducible"}]
[]
[]
[null,null,"Importante:",null,null,null,null,null,"OK"]
[null,null,"Si se encuentran discrepancias entre la presente cotización y los términos de la póliza, prevalecerán las condiciones de esta última."]
[null,null,"La presente cotización es válida por un plazo de 30 días calendarios contados a partir de la fecha de recepción de la misma. Luego de vencido dicho plazo la oferta contenida en la presente cotización quedará sin efecto legal alguno entre las partes."]
[null,null,"Se deja constancia expresa que, a potestad de la Compañía, la aceptación final del riesgo por parte de esta queda sujeta a la realización de la inspección, por parte de nuestro Departamento de Ingeniería o la persona autorizada para tal efecto, para verificar el efectivo estado del riesgo, así como el estricto cumplimiento por parte del Asegurado de las garantías que a mérito de dicha inspección establezca el Departamento de Ingeniería de la Compañía."]
[]
[null,null,"Consideraciones: ",null,null,null,null,null,"OK"]
[null,null,"-   La forma de entrega de la póliza es electrónica.     \n-   La forma de pago de la póliza es solo con afiliación al débito automático a una tarjeta de crédito o a una cuenta bancaria.   \n-   La modalidad de aseguramiento que brinda este plan de seguros es a valor total. \n-   La cobertura principal comprende además cualquier otro riesgo, súbito e imprevisto, que no esté excluido explícitamente en las exclusiones de las Condiciones Generales y/o Cláusulas Adicionales de la Póliza.        \n-  Las coberturas señaladas en Coberturas Adicionales forman parte de la suma asegurada de la Cobertura Principal, es decir, cada indemnización que le paguemos por las coberturas adicionales, reducirá la suma asegurada de la cobertura principal, a excepción de la cobertura adicional Responsabilidad civil frente a terceros, la cual es independiente a la suma asegurada de la cobertura principal.         \n-  La cobertura de la póliza en cuanto a pérdida o daños causados por agua que inunde, descargue o derrame de cualquier instalación de agua o desagüe de otros elementos líquidos; no comprenderá el costo de reparar el desperfecto que originó tal pérdida o daño.   \n-   Este seguro no otorga cobertura cuando en el inmueble se realiza cualquier actividad o giro comercial diferente al de casa habitación.       \n-   Este seguro se renovará automáticamente, es decir, en las mismas condiciones vigentes en el periodo anterior.          \n-   Para la cobertura de Robo y/o daños por intento de robo de Joyas y platería se define lo siguiente: Objetos y/o adornos de uso personal elaborados en oro, plata, platino, perlas y que pueden llevar o no incrustadas piedras preciosas de origen biológico o mineral, tanto si están engastadas como si no. También se considera a cualquier objeto ornamental o de uso doméstico elaborado con los materiales enumerados en el párrafo anterior.    \n-   El ASEGURADO deberá presentar una relación detallada, a ser actualizada mínimo cada dos años, de los bienes cuyo valor unitario excedan los S/ 5,000. En caso de siniestro, esta relación de bienes es el sustento de la pre-existencia de cada bien declarado. En caso de no cumplir con lo anterior o para bienes afectados no incluidos en la relación presentada, el Asegurado deberá demostrarnos la pre-existencia de los bienes afectados en el siniestro, a través de comprobantes de pago y/o constancia visual (fotografías, video, manuales de uso o similares) en donde se muestre el artículo en el interior del Inmueble asegurado o a la persona usando dicho artículo.    \n-   En caso de robo: Se mantiene la exigencia de la denuncia policial, pero se manejará a discreción cada caso hasta por un monto máximo de siniestro de S/ 30,000, siniestros por encima de este monto deberán presentar denuncia policial de manera obligatoria.    \n-  Las asistencias están disponibles los 365 días del año en las siguientes ciudades:  \n•      Lima Metropolitana exceptuando Ancón, Punta Hermosa, San Bartolo, Santa María y Pucusana.\n•      Trujillo: En los distritos de Trujillo, Victor Larco, Moche y Huanchaco. \n•      Chiclayo: En los distritos de Chiclayo, La Victoria, José Leonardo Ortiz, Pimentel.  \n•      Piura: En los distritos de Piura, Castilla, Catacaos.      \n•      Arequipa: En los distritos de Arequipa (Cercado), Yanahuara, Cayma, Sachaca, José Luis Bustamante y Rivero, Cerro Colorado.        \n•      Cusco: En los distritos de Cusco, San Jerónimo, San Sebastián, Santiago, Wanchaq.  \n Aplican y deben aparecer tanto para a primer riesgo como para valor total "]
[]
[]
[]
[]
[]
[]
[]
[]
[]
[]
[]
[]
[]
[]
[]
[]
[]
[]
[]
[]
[]
[]
[]
[]
[]
[]
[]
[]
[]
[]
[]
[null,null,"Exlusiones: ",null,null,null,null,null,"OK"]
[null,null,"Tenga en cuenta que no pagaremos la reparación del desperfecto ni del bien que originó el daño, como tampoco ninguna pérdida o daño proveniente o que sean causa de, o en conexión con, o atribuibles principalmente a:        \na)      Dolo, culpa grave o negligencia inexcusable del CONTRATANTE o de USTED y/o del BENEFICIARIO y/o ENDOSATARIO o de los familiares de cualquiera de ellos, o de sus dependientes, especialmente de los responsables de la seguridad de los BIENES asegurados.   \nb)      Guerra, Guerra Civil, invasión, acto de enemigo extranjero, hostilidades u operaciones de guerra, declarada o no.          \nc)       Desgaste o deterioro paulatino o fatiga de material, causado por, o resultado de, el uso y funcionamiento del bien; uso o deterioro gradual; deficiencias de rendimiento o capacidad; polución, contaminación; corrosión, erosión; herrumbre u oxidación; hongos, moho húmedo o seco, combustión espontánea, fermentación; humedad, sequedad, smog o cambios de temperatura; asentamiento o contracción o expansión de edificios o cimientos; la calefacción o la desecación a que hubieran sido sometidos los objetos que forman parte de la Materia Asegurada.  \nd)      Hundimientos, desplazamientos, agrietamientos o asentamientos de muros, pisos, techos, pavimentos, cimientos, muros de contención. Sin embargo, si estos daños son causados por los eventos de Terremoto, Temblor, Erupción Volcánica o Maremoto para los cuales se haya contratado amparo bajo la presente póliza, no se aplicará esta exclusión.     \ne)      Todo gasto o costo para implementar modificaciones o mejoras, o por mantenimiento, o para hacer otras reparaciones o arreglos, en el INMUEBLE y/o BIENES dañados o afectados; así como los gastos o costos de cualquier reparación provisional, a menos que constituyan, a la vez, parte de los gastos de la reparación definitiva amparada por la póliza.     \nf)        Valor atribuido a los BIENES por razones sentimentales o simbólicas, por afición, por antigüedad, o por exclusividad.         \ng)      Pérdida o daño ocurrido cuando el INMUEBLE esté deshabitado y/o cuando los BIENES se hallen en el INMUEBLE deshabitado; en ambos casos durante más de noventa (90) días consecutivos.  \nLas demás exclusiones se encuentran en el acápite 3 de las Condiciones Generales de la Póliza. Aplican exclusiones específicas a la cobertura que se contrate, detalladas en su respectiva Cláusula Adicional.           \nBienes excluidos:          \na)      INMUEBLE y/o BIENES con cualquier actividad o giro diferente al de casa habitación. \nb)      Animales vivos de cualquier tipo.      \nc)       Plantaciones, cultivos, cosechas de cualquier tipo, invernaderos, bosques, selvas, monte bajo, praderas, pampas, árboles, parques, prados, jardines naturales y ornamentales, agua.  \nd)      INMUEBLES y/o BIENES en proceso de construcción, reconstrucción, montaje o desmontaje.\ne)      Vehículos motorizados con una placa de rodaje, equipos flotantes o submarinos, aeronaves o artefactos aéreos, embarcaciones, naves acuáticas; de cualquier tipo y tamaño.  \nf)    BIENES de cualquier tipo que sean propiedad de terceros aun cuando dichos BIENES se encuentren bajo custodia y/o posesión del Asegurado.      \ng)      Material pirotécnico, explosivos, combustibles, mechas, fulminantes, detonadores y similares.\nh)      BIENES situados o instalados u operando o trabajando o siendo usados en él, o a las orillas del, mar, río, lago o laguna, en subterráneos, o debajo del nivel de la superficie terrestre. \ni)        Dinero en efectivo, títulos valores.       \nj)       Cualquier tipo de contenido o bien para fines comerciales, de la profesión u ocupación o de negocios de USTED, de cualquier miembro de su familia, por medio de los cuales obtengan un lucro."]

{"sheet":"CotizacionBienes","index":9,"n_rows":110,"n_cols":9,"rows_kept":110,"cut":false,"hidden":true,"merged":[[47,5,58,5],[53,2,53,3],[54,2,54,3],[76,2,106,5],[62,4,62,5],[59,2,59,5],[60,2,60,3],[60,4,60,5],[61,2,61,3],[61,4,61,5],[47,2,47,3],[48,2,48,3],[49,2,49,3],[50,2,50,3],[51,2,51,3],[109,2,144,5],[73,2,73,5],[63,2,63,3],[63,4,63,5],[64,2,64,3],[64,4,64,5],[65,2,65,3],[65,4,65,5],[66,2,66,3],[66,4,66,5],[67,2,67,3],[67,4,67,5],[71,2,71,5],[72,2,72,5],[41,1,42,1],[41,2,42,3],[43,2,43,3],[44,2,44,3],[62,2,62,3],[45,2,45,3],[46,2,46,3],[52,2,52,3],[55,2,55,3],[56,2,56,3],[57,2,57,3],[58,2,58,3],[0,2,0,6],[12,3,12,5],[20,3,20,5],[35,2,35,3],[37,2,37,3],[5,3,5,4],[39,2,39,3],[40,2,40,3],[21,3,21,5],[22,3,22,5],[23,3,23,5],[24,3,24,5]]}
[null,null,{"$f":"\"Cotización Seguro de Hogar Flex \" & configuracion!$K$2","v":"Cotización Seguro de Hogar Flex Enero 2025"}]
[]
[null,null,"Vigencia de la cotización",{"$f":"TEXT(TODAY(),\"dd/mm/yyyy\") & \" - \" &  TEXT(TODAY()+15,\"dd/mm/yyyy\")","v":"25/03/2025 - 09/04/2025"}]
[null,null,"Fecha inicio de Vigencia",{"$f":"Cotizador!$L$6","v":"00:00:00"}]
[null,null,"Canal",{"$f":"Cotizador!$G$10","v":"Corredor"}]
[null,null,"Agente",{"$f":"Cotizador!R$10","v":0}]
[]
[null,null,"Datos del Contratante "]
[null,null,"Nombre del Contratante",{"$f":"Cotizador!$G$15 & \" \" & Cotizador!$M$15& \" \" & Cotizador!$R$15","v":"  "}]
[null,null,"Tipo de documento ",{"$f":"Cotizador!$G$14&\" \" &Cotizador!$M$14","v":" "}]
[null,null,null,null,null,"Descuento"]
[null,null,"Planes de Pago Prima",null,null,{"$f":"Cotizador!$M$40","v":0}]
[null,null,"Débito automático","Valores de la Cuota"]
[null,null,"Plan de pago  ","Prima Comercial","IGV","Prima Total"]
[null,null,"Prima anual + IGV sin intereses:",{"$f":"IF(Cotizador!$G$54=0,\"\",Cotizador!$G$54)","v":""},{"$f":"IF(Cotizador!$G$55=0,\"\",Cotizador!$G$55)","v":""},{"$f":"IF(Cotizador!$G$56=0,\"\",Cotizador!$G$56)","v":""}]
[null,null,"Prima anual + IGV sin intereses:",{"$f":"IF(Cotizador!$L$54=0,\"\",Cotizador!$L$54)","v":""},{"$f":"IF(Cotizador!$L$55=0,\"\",Cotizador!$L$55)","v":""},{"$f":"IF(Cotizador!$L$56=0,\"\",Cotizador!$L$56)","v":""}]
[null,null,{"$f":"IF(Cotizador!$I$61=\"X\",Cotizador!$B$61,IF(Cotizador!$I$62=\"X\",Cotizador!$B$62,IF(Cotizador!$I$63=\"X\",Cotizador!$B$63,IF(Cotizador!$I$64=\"X\",Cotizador!$B$64,IF(Cotizador!$I$66=\"X\",Cotizador!$B$66,IF(Cotizador!$I$67=\"X\",Cotizador!$B$67,IF(Cotizador!$I$68=\"X\",Cotizador!$B$68,IF(Cotizador!$I$69=\"X\",Cotizador!$B$69,\"\"))))))))","v":""},{"$f":"IFERROR(F17/1.18,\"\")","v":""},{"$f":"IFERROR(F17-D17,\"\")","v":""},{"$f":"IF(Cotizador!$I$61=\"X\",Cotizador!$J$61,IF(Cotizador!$I$62=\"X\",Cotizador!$J$62,IF(Cotizador!$I$63=\"X\",Cotizador!$J$63,IF(Cotizador!$I$64=\"X\",Cotizador!$J$64,IF(Cotizador!$I$66=\"X\",Cotizador!$J$66,IF(Cotizador!$I$67=\"X\",Cotizador!$J$67,IF(Cotizador!$I$68=\"X\",Cotizador!$J$68,IF(Cotizador!$I$69=\"X\",Cotizador!$J$69,\"\"))))))))","v":""}]
[null,null,"Materia Asegurada",{"$f":"IF(Cotizador!$H$29=\"X\",Cotizador!$G$29,IF(Cotizador!$K$29=\"X\",Cotizador!$J$29,IF(Cotizador!$O$29=\"X\",Cotizador!$M$29)))","v":false}]
[]
[null,null,"Datos del Inmueble asegurado"]
[null,null,"Dirección",{"$f":"Cotizador!$G$22 & \" \" & Cotizador!G23","v":" "}]
[null,null,"Departamento",{"$f":"IF(Cotizador!$L$26=0,\"\",Cotizador!$L$26)","v":""}]
[null,null,"Provincia",{"$f":"IF(Cotizador!$G$26=0,\"\",Cotizador!$G$26)","v":""}]
[null,null,"Distrito",{"$f":"IF(Cotizador!$G$25=0,\"\",Cotizador!$G$25)","v":""}]
[null,null,"Tipo de Inmueble",{"$f":"IF(Cotizador!$E$34=\"X\",Cotizador!$B$34,IF(Cotizador!$E$35=\"X\",Cotizador!$B$35,\"\"))","v":""}]
[]
[null,null,"Modalidad de Aseguramiento",{"$f":"IF(Cotizador!$H$31=\"X\",Cotizador!$G$31,IF(Cotizador!$K$31=\"X\",Cotizador!$J$31,\"\"))","v":""}]
[]
[null,null,"Plan  contratado",{"$f":"IF(Cotizador!$G$29=\"PLAN BÁSICO\",\"Plan Básico\",IF(Cotizador!$G$29=\"PLAN FULL\",\"Plan Full\",\"Personalizado\"))","v":"Personalizado"}]
[]
[null,null,"Suma Asegurada"]
[null,null,"Suma Asegurada Inmueble",{"$f":"Cotizador!$G$40","v":0}]
[null,null,"Suma Asegurada Bienes",{"$f":"Cotizador!G41","v":0},"Valor Declarado Bienes",{"$f":"Cotizador!$G$39","v":0}]
[null,null,"Suma Asegurada Total (Inmueble + Bienes)",{"$f":"SUM(D32:D33)","v":0}]
[]
[null,null,"COBERTURAS  (solo BIENES)",null,"Límites asegurados por vigencia","Prima Comercial",null,null,"OK"]
[null,null,"Cobertura principal"]
[{"$f":"IF(LEN(B38)=0,\"hide\",\"\")","v":""},{"$f":"IF('PRIMER RIESGO BIENES'!B12=0,\"\",'PRIMER RIESGO BIENES'!B12)","v":"X"},"Incendio y/o rayo, explosión, incendio en aparatos eléctricos. Daños por agua, daños por humo, impacto de vehículos y/o aeronaves o daños por riesgos políticos y sociales",null,{"$f":"'PRIMER RIESGO BIENES'!F12","v":0},{"$f":"'PRIMER RIESGO BIENES'!G12","v":51.5}]
[{"$f":"IF(AND(A40=\"hide\",A41=\"hide\",A42=\"hide\",A43=\"hide\",A44=\"hide\",A45=\"hide\",A46=\"hide\"),\"hide\",\"\")","v":""},null,"Coberturas adicionales"]
[{"$f":"IF(LEN(B40)=0,\"hide\",\"\")","v":"hide"},{"$f":"IF('PRIMER RIESGO BIENES'!B14=0,\"\",'PRIMER RIESGO BIENES'!B14)","v":""},"Robo y/o daños por intento de robo (dentro y fuera de la vivienda a nivel nacional)",null,{"$f":"'PRIMER RIESGO BIENES'!F14","v":0},{"$f":"'PRIMER RIESGO BIENES'!G14","v":0}]
[{"$f":"IF(LEN(B41)=0,\"hide\",\"\")","v":"hide"},{"$f":"IF('PRIMER RIESGO BIENES'!B15=0,\"\",'PRIMER RIESGO BIENES'!B15)","v":""},"Robo y/o daños por intento de robo de joyas, platería, relojes, obras de arte, cámaras fotográficas o de video, laptops y bicicletas dentro de la vivienda o que estén siendo portados fuera de la vivienda. ",null,{"$f":"'PRIMER RIESGO BIENES'!F15","v":"USD 10,000, sublímite de la cobertura de Robo"},{"$f":"'PRIMER RIESGO BIENES'!G15","v":0}]
[{"$f":"IF(LEN(B42)=0,\"hide\",\"\")","v":"hide"},{"$f":"IF('PRIMER RIESGO BIENES'!B16=0,\"\",'PRIMER RIESGO BIENES'!B16)","v":""},"Terremoto, temblor, maremoto, Inundaciones y riesgos de la naturaleza",null,{"$f":"'PRIMER RIESGO BIENES'!F16","v":0},{"$f":"'PRIMER RIESGO BIENES'!G16","v":0}]
[{"$f":"IF(LEN(B42)=0,\"hide\",\"\")","v":"hide"},null,null,null,{"$f":"'PRIMER RIESGO BIENES'!F17","v":"Suma asegurada que forma parte de la cobertura principal"},{"$f":"'PRIMER RIESGO BIENES'!G17","v":0}]
[{"$f":"IF(LEN(B44)=0,\"hide\",\"\")","v":"hide"},{"$f":"IF('PRIMER RIESGO BIENES'!B18=0,\"\",'PRIMER RIESGO BIENES'!B18)","v":""},"Hurto",null,{"$f":"'PRIMER RIESGO BIENES'!F18","v":"Hasta US$ 3,000 , sublímite de la cobertura de Robo"},{"$f":"'PRIMER RIESGO BIENES'!G18","v":0}]
[{"$f":"IF(LEN(B45)=0,\"hide\",\"\")","v":"hide"},{"$f":"IF('PRIMER RIESGO BIENES'!B19=0,\"\",'PRIMER RIESGO BIENES'!B19)","v":""},"Deshonestidad de trabajadores del hogar",null,{"$f":"'PRIMER RIESGO BIENES'!F19","v":"Hasta US$ 5,000 por evento, máximo 3 eventos por vigencia de la póliza, sublímite de la cobertura de Robo"},{"$f":"'PRIMER RIESGO BIENES'!G19","v":0}]
[{"$f":"IF(LEN(B46)=0,\"hide\",\"\")","v":""},{"$f":"IF('PRIMER RIESGO BIENES'!B20=0,\"\",'PRIMER RIESGO BIENES'!B20)","v":"X"},"Gastos extraordinarios: remoción de escombros, honorarios profesionales y construcción de documentos y modelos ",null,{"$f":"'PRIMER RIESGO BIENES'!F20","v":"Hasta el 20% de la suma asegurada de bienes, suma asegurada que forma parte de la cobertura principal"},{"$f":"'PRIMER RIESGO BIENES'!G20","v":0}]
[{"$f":"IF(AND(A48=\"hide\",A52=\"hide\",A53=\"hide\",A50=\"hide\",A49=\"hide\",A51=\"hide\",A60=\"hide\",A61=\"hide\",A62=\"hide\",A63=\"hide\"),\"hide\",\"\")","v":""},{"$f":"IF('PRIMER RIESGO BIENES'!B21=0,\"\",'PRIMER RIESGO BIENES'!B21)","v":""},"Asistencias",null,null,null,null,null,"OK"]
[{"$f":"IF(LEN($B$47)=0,\"hide\",\"\")","v":"hide"},null,{"$f":"'PRIMER RIESGO BIENES'!D22","v":"Envío y pago de Cerrajero por emergencia "},null,{"$f":"'PRIMER RIESGO BIENES'!F22","v":"Hasta US$ 300 por evento, Máximo de 3 eventos"},{"$f":"'PRIMER RIESGO BIENES'!G22","v":0}]
[{"$f":"IF(LEN($B$47)=0,\"hide\",\"\")","v":"hide"},null,{"$f":"'PRIMER RIESGO BIENES'!D23","v":"Envío y pago de Gasfitero por emergencia "},null,{"$f":"'PRIMER RIESGO BIENES'!F23","v":"Hasta US$ 300 por evento, Máximo de 3 eventos"}]
["hide",null,{"$f":"'PRIMER RIESGO BIENES'!D24","v":"Envío y pago de Electricista por emergencia"},null,{"$f":"'PRIMER RIESGO BIENES'!F24","v":"Hasta US$ 300 por evento, Máximo de 3 eventos"}]
["hide",null,{"$f":"'PRIMER RIESGO BIENES'!D25","v":"Envío y pago de Vidriero por emergencia"},null,{"$f":"'PRIMER RIESGO BIENES'!F25","v":"Hasta US$ 300 por evento, Máximo de 3 eventos"}]
["hide",null,{"$f":"'PRIMER RIESGO BIENES'!D26","v":"Limpieza del inmueble asegurado a consecuencia de un siniestro"},null,{"$f":"'PRIMER RIESGO BIENES'!F26","v":"Hasta US$ 500 por evento, Máximo de 3 eventos"}]
["hide",null,{"$f":"'PRIMER RIESGO BIENES'!D27","v":"Servicio de Lavado de estores, roller, alfombras"},null,{"$f":"'PRIMER RIESGO BIENES'!F27","v":"Hasta US$ 80 por evento, máximo de 1 evento, cubriendo la limpieza de una pieza."}]
["hide",null,{"$f":"'PRIMER RIESGO BIENES'!D28","v":"Servicio de Lavado de colchón"},null,{"$f":"'PRIMER RIESGO BIENES'!F28","v":"Hasta US$ 80 por evento, máximo de 1 evento, cubriendo la limpieza de una pieza."}]
["hide",null,{"$f":"'PRIMER RIESGO BIENES'!D29","v":"Masajes  relajantes a domicilio durante 1 hora"},null,{"$f":"'PRIMER RIESGO BIENES'!F29","v":"Hasta US$ 80 por evento, máximo de 1 evento, cubriendo la limpieza de una pieza."}]
["hide",null,{"$f":"'PRIMER RIESGO BIENES'!D30","v":"Mozo a domicilio "},null,{"$f":"'PRIMER RIESGO BIENES'!F30","v":"Hasta máximo de 3 eventos al año, con servicio una vez al mes."}]
["hide",null,{"$f":"'PRIMER RIESGO BIENES'!D31","v":"Mantenimiento Preventivo de Línea Blanca"},null,{"$f":"'PRIMER RIESGO BIENES'!F31","v":"Hasta US$ 75 por evento, máximo de 3 eventos, cubriendo la revisión de un equipo."}]
["hide",null,{"$f":"'PRIMER RIESGO BIENES'!D32","v":"Orientación telefónica veterinaria para perros las 24H"},null,{"$f":"'PRIMER RIESGO BIENES'!F32","v":"Sin límite"}]
["hide",null,{"$f":"'PRIMER RIESGO BIENES'!D33","v":"Hospedaje de perros"},null,{"$f":"'PRIMER RIESGO BIENES'!F33","v":"Hasta máximo de 3 eventos. Se considera 1 día de hospedaje por evento."}]
[null,null,"Deducibles:\nAplicables por evento/pérdida, en caso de discrepancia prevalece el mayor",null,null,null,null,"OK"]
[{"$f":"IF(LEN(B61)=0,\"hide\",\"\")","v":"hide"},{"$f":"IF('PRIMER RIESGO BIENES'!B35=0,\"\",'PRIMER RIESGO BIENES'!B35)","v":""},"Robo y/o daños por intento de robo",null,{"$f":"'PRIMER RIESGO BIENES'!F35","v":"Hasta 10% del monto indemnizable, mínimo US$ 200"}]
["hide",{"$f":"IF('PRIMER RIESGO BIENES'!B36=0,\"\",'PRIMER RIESGO BIENES'!B36)","v":""},"Hurto",null,{"$f":"'PRIMER RIESGO BIENES'!F36","v":"Hasta 10% del monto indemnizable, mínimo US$ 200"}]
["hide",{"$f":"IF('PRIMER RIESGO BIENES'!B37=0,\"\",'PRIMER RIESGO BIENES'!B37)","v":""},"Deshonestidad de trabajadores del hogar",null,{"$f":"'PRIMER RIESGO BIENES'!F37","v":"Hasta 10% del monto indemnizable, mínimo US$ 200"}]
["hide",{"$f":"IF('PRIMER RIESGO BIENES'!B38=0,\"\",'PRIMER RIESGO BIENES'!B38)","v":""},"Terremoto / Maremoto",null,{"$f":"'PRIMER RIESGO BIENES'!F38","v":"Hasta el 1% del límite asegurado, mínimo US$ 200"}]
["hide",{"$f":"IF('PRIMER RIESGO BIENES'!B39=0,\"\",'PRIMER RIESGO BIENES'!B39)","v":""},"Otros Riesgos de la Naturaleza (entre ellos lluvia, inundación, otros)",null,{"$f":"'PRIMER RIESGO BIENES'!F39","v":"Hasta 10% del monto indemnizable, mínimo US$ 200"}]
["",{"$f":"IF('PRIMER RIESGO BIENES'!B40=0,\"\",'PRIMER RIESGO BIENES'!B40)","v":"X"},"Daños por agua",null,{"$f":"'PRIMER RIESGO BIENES'!F40","v":"Hasta 10% del monto indemnizable, mínimo US$ 200"}]
["",{"$f":"IF('PRIMER RIESGO BIENES'!B41=0,\"\",'PRIMER RIESGO BIENES'!B41)","v":"X"},"Riesgos políticos y sociales",null,{"$f":"'PRIMER RIESGO BIENES'!F41","v":"Hasta 10% del monto indemnizable, mínimo US$ 200"}]
[{"$f":"IF(LEN(B68)=0,\"hide\",\"\")","v":"hide"},{"$f":"IF('PRIMER RIESGO BIENES'!B42=0,\"\",'PRIMER RIESGO BIENES'!B42)","v":""},"Demás coberturas",null,{"$f":"'PRIMER RIESGO BIENES'!F42","v":"Sin deducible"}]
[]
[]
[null,null,"Importante:",null,null,null,null,null,"OK"]
[null,null,"Si se encuentran discrepancias entre la presente cotización y los términos de la póliza, prevalecerán las condiciones de esta última."]
[null,null,"La presente cotización es válida por un plazo de 30 días calendarios contados a partir de la fecha de recepción de la misma. Luego de vencido dicho plazo la oferta contenida en la presente cotización quedará sin efecto legal alguno entre las partes."]
[null,null,"Se deja constancia expresa que, a potestad de la Compañía, la aceptación final del riesgo por parte de esta queda sujeta a la realización de la inspección, por parte de nuestro Departamento de Ingeniería o la persona autorizada para tal efecto, para verificar el efectivo estado del riesgo, así como el estricto cumplimiento por parte del Asegurado de las garantías que a mérito de dicha inspección establezca el Departamento de Ingeniería de la Compañía."]
[]
[null,null,"Consideraciones: ",null,null,null,null,null,"OK"]
[null,null,"-   La forma de entrega de la póliza es electrónica.     \n-   La forma de pago de la póliza es solo con afiliación al débito automático a una tarjeta de crédito o a una cuenta bancaria.\n-   La modalidad de aseguramiento que brinda este plan de seguros es a valor total. \n-   La cobertura principal comprende además cualquier otro riesgo, súbito e imprevisto, que no esté excluido explícitamente en las exclusiones de las Condiciones Generales y/o Cláusulas Adicionales de la Póliza.        \n-  Las coberturas señaladas en Coberturas Adicionales forman parte de la suma asegurada de la Cobertura Principal, es decir, cada indemnización que le paguemos por las coberturas adicionales, reducirá la suma asegurada de la cobertura principal, a excepción de la cobertura adicional Responsabilidad civil frente a terceros, la cual es independiente a la suma asegurada de la cobertura principal.         \n-  La cobertura de la póliza en cuanto a pérdida o daños causados por agua que inunde, descargue o derrame de cualquier instalación de agua o desagüe de otros elementos líquidos; no comprenderá el costo de reparar el desperfecto que originó tal pérdida o daño.   \n-   Este seguro no otorga cobertura cuando en el inmueble se realiza cualquier actividad o giro comercial diferente al de casa habitación.       \n-   Este seguro se renovará automáticamente, es decir, en las mismas condiciones vigentes en el periodo anterior.          \n-   Para la cobertura de Robo y/o daños por intento de robo de Joyas y platería se define lo siguiente: Objetos y/o adornos de uso personal elaborados en oro, plata, platino, perlas y que pueden llevar o no incrustadas piedras preciosas de origen biológico o mineral, tanto si están engastadas como si no. También se considera a cualquier objeto ornamental o de uso doméstico elaborado con los materiales enumerados en el párrafo anterior.    \n-   El ASEGURADO deberá presentar una relación detallada, a ser actualizada mínimo cada dos años, de los bienes cuyo valor unitario excedan los S/ 5,000. En caso de siniestro, esta relación de bienes es el sustento de la pre-existencia de cada bien declarado. En caso de no cumplir con lo anterior o para bienes afectados no incluidos en la relación presentada, el Asegurado deberá demostrarnos la pre-existencia de los bienes afectados en el siniestro, a través de comprobantes de pago y/o constancia visual (fotografías, video, manuales de uso o similares) en donde se muestre el artículo en el interior del Inmueble asegurado o a la persona usando dicho artículo.    \n-   En caso de robo: Se mantiene la exigencia de la denuncia policial, pero se manejará a discreción cada caso hasta por un monto máximo de siniestro de S/ 30,000, siniestros por encima de este monto deberán presentar denuncia policial de manera obligatoria.    \n-  Las asistencias están disponibles los 365 días del año en las siguientes ciudades:  \n•      Lima Metropolitana exceptuando Ancón, Punta Hermosa, San Bartolo, Santa María y Pucusana.\n•      Trujillo: En los distritos de Trujillo, Victor Larco, Moche y Huanchaco. \n•      Chiclayo: En los distritos de Chiclayo, La Victoria, José Leonardo Ortiz, Pimentel.  \n•      Piura: En los distritos de Piura, Castilla, Catacaos.      \n•      Arequipa: En los distritos de Arequipa (Cercado), Yanahuara, Cayma, Sachaca, José Luis Bustamante y Rivero, Cerro Colorado.        \n•      Cusco: En los distritos de Cusco, San Jerónimo, San Sebastián, Santiago, Wanchaq.  \n Aplican y deben aparecer tanto para a primer riesgo como para valor total "]
[]
[]
[]
[]
[]
[]
[]
[]
[]
[]
[]
[]
[]
[]
[]
[]
[]
[]
[]
[]
[]
[]
[]
[]
[]
[]
[]
[]
[]
[]
[]
[null,null,"Exlusiones: ",null,null,null,null,null,"OK"]
[null,null,"Tenga en cuenta que no pagaremos la reparación del desperfecto ni del bien que originó el daño, como tampoco ninguna pérdida o daño proveniente o que sean causa de, o en conexión con, o atribuibles principalmente a:        \na)      Dolo, culpa grave o negligencia inexcusable del CONTRATANTE o de USTED y/o del BENEFICIARIO y/o ENDOSATARIO o de los familiares de cualquiera de ellos, o de sus dependientes, especialmente de los responsables de la seguridad de los BIENES asegurados.   \nb)      Guerra, Guerra Civil, invasión, acto de enemigo extranjero, hostilidades u operaciones de guerra, declarada o no.          \nc)       Desgaste o deterioro paulatino o fatiga de material, causado por, o resultado de, el uso y funcionamiento del bien; uso o deterioro gradual; deficiencias de rendimiento o capacidad; polución, contaminación; corrosión, erosión; herrumbre u oxidación; hongos, moho húmedo o seco, combustión espontánea, fermentación; humedad, sequedad, smog o cambios de temperatura; asentamiento o contracción o expansión de edificios o cimientos; la calefacción o la desecación a que hubieran sido sometidos los objetos que forman parte de la Materia Asegurada.  \nd)      Hundimientos, desplazamientos, agrietamientos o asentamientos de muros, pisos, techos, pavimentos, cimientos, muros de contención. Sin embargo, si estos daños son causados por los eventos de Terremoto, Temblor, Erupción Volcánica o Maremoto para los cuales se haya contratado amparo bajo la presente póliza, no se aplicará esta exclusión.     \ne)      Todo gasto o costo para implementar modificaciones o mejoras, o por mantenimiento, o para hacer otras reparaciones o arreglos, en el INMUEBLE y/o BIENES dañados o afectados; así como los gastos o costos de cualquier reparación provisional, a menos que constituyan, a la vez, parte de los gastos de la reparación definitiva amparada por la póliza.     \nf)        Valor atribuido a los BIENES por razones sentimentales o simbólicas, por afición, por antigüedad, o por exclusividad.         \ng)      Pérdida o daño ocurrido cuando el INMUEBLE esté deshabitado y/o cuando los BIENES se hallen en el INMUEBLE deshabitado; en ambos casos durante más de noventa (90) días consecutivos.  \nLas demás exclusiones se encuentran en el acápite 3 de las Condiciones Generales de la Póliza. Aplican exclusiones específicas a la cobertura que se contrate, detalladas en su respectiva Cláusula Adicional.           \nBienes excluidos:          \na)      INMUEBLE y/o BIENES con cualquier actividad o giro diferente al de casa habitación. \nb)      Animales vivos de cualquier tipo.      \nc)       Plantaciones, cultivos, cosechas de cualquier tipo, invernaderos, bosques, selvas, monte bajo, praderas, pampas, árboles, parques, prados, jardines naturales y ornamentales, agua.  \nd)      INMUEBLES y/o BIENES en proceso de construcción, reconstrucción, montaje o desmontaje.\ne)      Vehículos motorizados con una placa de rodaje, equipos flotantes o submarinos, aeronaves o artefactos aéreos, embarcaciones, naves acuáticas; de cualquier tipo y tamaño.  \nf)    BIENES de cualquier tipo que sean propiedad de terceros aun cuando dichos BIENES se encuentren bajo custodia y/o posesión del Asegurado.      \ng)      Material pirotécnico, explosivos, combustibles, mechas, fulminantes, detonadores y similares.\nh)      BIENES situados o instalados u operando o trabajando o siendo usados en él, o a las orillas del, mar, río, lago o laguna, en subterráneos, o debajo del nivel de la superficie terrestre.  \ni)        Dinero en efectivo, títulos valores.       \nj)       Cualquier tipo de contenido o bien para fines comerciales, de la profesión u ocupación o de negocios de USTED, de cualquier miembro de su familia, por medio de los cuales obtengan un lucro."]

{"sheet":"CotizacionInmuebleyBienes","index":10,"n_rows":121,"n_cols":9,"rows_kept":121,"cut":false,"hidden":true,"merged":[[60,2,60,3],[60,4,60,5],[75,2,75,3],[75,4,75,6],[55,6,66,6],[61,2,61,3],[61,4,61,5],[62,2,62,3],[63,2,63,3],[64,2,64,3],[65,2,65,3],[66,2,66,3],[63,4,63,5],[64,4,64,5],[65,4,65,5],[66,4,66,5],[76,4,76,6],[70,2,70,3],[70,4,70,6],[68,2,68,3],[68,4,68,6],[71,2,71,3],[71,4,71,6],[87,2,117,6],[120,2,155,6],[84,2,84,6],[83,2,83,6],[72,2,72,3],[72,4,72,6],[73,2,73,3],[73,4,73,6],[74,2,74,3],[74,4,74,6],[77,2,77,3],[77,4,77,6],[78,2,78,3],[78,4,78,6],[82,2,82,6],[76,2,76,3],[54,4,54,5],[54,2,54,3],[67,2,67,6],[69,2,69,3],[69,4,69,6],[55,2,55,3],[55,4,55,5],[56,2,56,3],[56,4,56,5],[57,2,57,3],[57,4,57,5],[58,2,58,3],[58,4,58,5],[59,2,59,3],[59,4,59,5],[62,4,62,5],[51,2,51,3],[51,4,51,5],[52,2,52,3],[52,4,52,5],[53,2,53,3],[53,4,53,5],[50,4,50,5],[43,1,44,1],[43,2,44,3],[43,4,43,5],[43,6,44,6],[44,4,44,5],[45,2,45,3],[45,4,45,5],[46,2,46,3],[47,2,47,3],[48,2,48,3],[49,2,49,3],[50,2,50,3],[39,1,40,1],[39,2,40,3],[39,6,40,6],[41,1,42,1],[41,2,42,3],[41,5,42,5],[41,6,42,6],[37,2,37,3],[0,2,0,6],[12,3,12,5],[20,3,20,5],[35,2,35,3],[35,6,36,6],[21,3,21,5],[22,3,22,5],[23,3,23,5],[24,3,24,5],[5,3,5,4]]}
[null,null,{"$f":"\"Cotización Seguro de Hogar Flex \" & configuracion!$K$2","v":"Cotización Seguro de Hogar Flex Enero 2025"}]
[]
[null,null,"Vigencia de la cotización",{"$f":"TEXT(TODAY(),\"dd/mm/yyyy\") & \" - \" &  TEXT(TODAY()+15,\"dd/mm/yyyy\")","v":"25/03/2025 - 09/04/2025"}]
[null,null,"Fecha inicio de Vigencia",{"$f":"Cotizador!$L$6","v":"00:00:00"}]
[null,null,"Canal",{"$f":"Cotizador!$G$10","v":"Corredor"}]
[null,null,"Agente",{"$f":"Cotizador!R$10","v":0}]
[]
[null,null,"Datos del Contratante "]
[null,null,"Nombre del Contratante",{"$f":"Cotizador!$G$15 & \" \" & Cotizador!$M$15& \" \" & Cotizador!$R$15","v":"  "}]
[null,null,"Tipo de documento ",{"$f":"Cotizador!$G$14&\" \" &Cotizador!$M$14","v":" "}]
[null,null,null,null,null,"Descuento"]
[null,null,"Planes de Pago Prima",null,null,{"$f":"Cotizador!$M$40","v":0}]
[null,null,"Débito automático","Valores de la Cuota"]
[null,null,"Plan de pago  ","Prima Comercial","IGV","Prima Total"]
[null,null,"Prima anual + IGV sin intereses:",{"$f":"IF(Cotizador!$G$54=0,\"\",Cotizador!$G$54)","v":""},{"$f":"IF(Cotizador!$G$55=0,\"\",Cotizador!$G$55)","v":""},{"$f":"IF(Cotizador!$G$56=0,\"\",Cotizador!$G$56)","v":""}]
[null,null,"Prima anual + IGV sin intereses:",{"$f":"IF(Cotizador!$L$54=0,\"\",Cotizador!$L$54)","v":""},{"$f":"IF(Cotizador!$L$55=0,\"\",Cotizador!$L$55)","v":""},{"$f":"IF(Cotizador!$L$56=0,\"\",Cotizador!$L$56)","v":""}]
[null,null,{"$f":"IF(Cotizador!$I$61=\"X\",Cotizador!$B$61,IF(Cotizador!$I$62=\"X\",Cotizador!$B$62,IF(Cotizador!$I$63=\"X\",Cotizador!$B$63,IF(Cotizador!$I$64=\"X\",Cotizador!$B$64,IF(Cotizador!$I$66=\"X\",Cotizador!$B$66,IF(Cotizador!$I$67=\"X\",Cotizador!$B$67,IF(Cotizador!$I$68=\"X\",Cotizador!$B$68,IF(Cotizador!$I$69=\"X\",Cotizador!$B$69,\"\"))))))))","v":""},{"$f":"IFERROR(F17/1.18,\"\")","v":""},{"$f":"IFERROR(F17-D17,\"\")","v":""},{"$f":"IF(Cotizador!$I$61=\"X\",Cotizador!$J$61,IF(Cotizador!$I$62=\"X\",Cotizador!$J$62,IF(Cotizador!$I$63=\"X\",Cotizador!$J$63,IF(Cotizador!$I$64=\"X\",Cotizador!$J$64,IF(Cotizador!$I$66=\"X\",Cotizador!$J$66,IF(Cotizador!$I$67=\"X\",Cotizador!$J$67,IF(Cotizador!$I$68=\"X\",Cotizador!$J$68,IF(Cotizador!$I$69=\"X\",Cotizador!$J$69,\"\"))))))))","v":""}]
[null,null,"Materia Asegurada",{"$f":"IF(Cotizador!$H$29=\"X\",Cotizador!$G$29,IF(Cotizador!$K$29=\"X\",Cotizador!$J$29,IF(Cotizador!$O$29=\"X\",Cotizador!$M$29)))","v":false}]
[]
[null,null,"Datos del Inmueble asegurado"]
[null,null,"Dirección",{"$f":"Cotizador!$G$22 & \" \" & Cotizador!G23","v":" "}]
[null,null,"Departamento",{"$f":"IF(Cotizador!$L$26=0,\"\",Cotizador!$L$26)","v":""}]
[null,null,"Provincia",{"$f":"IF(Cotizador!$G$26=0,\"\",Cotizador!$G$26)","v":""}]
[null,null,"Distrito",{"$f":"IF(Cotizador!$G$25=0,\"\",Cotizador!$G$25)","v":""}]
[null,null,"Tipo de Inmueble",{"$f":"IF(Cotizador!$E$34=\"X\",Cotizador!$B$34,IF(Cotizador!$E$35=\"X\",Cotizador!$B$35,\"\"))","v":""}]
[]
[null,null,"Modalidad de Aseguramiento",{"$f":"IF(Cotizador!$H$31=\"X\",Cotizador!$G$31,IF(Cotizador!$K$31=\"X\",Cotizador!$J$31,\"\"))","v":""}]
[]
[null,null,"Plan  contratado",{"$f":"IF(Cotizador!$G$29=\"PLAN BÁSICO\",\"Plan Básico\",IF(Cotizador!$G$29=\"PLAN FULL\",\"Plan Full\",\"Personalizado\"))","v":"Personalizado"}]
[]
[null,null,"Sumas Aseguradas "]
[null,null,"Suma Asegurada Inmueble",{"$f":"Cotizador!$G$40","v":0},"Valor Declarado Inmueble",{"$f":"Cotizador!$G$38","v":0}]
[null,null,"Suma Asegurada Bienes",{"$f":"Cotizador!G41","v":0},"Valor Declarado Bienes",{"$f":"Cotizador!$G$39","v":0}]
[null,null,"Suma Asegurada Total (Inmueble + Bienes)",{"$f":"SUM(D32:D33)","v":0}]
[]
[null,null,"COBERTURAS  (INMUEBLE Y BIENES)",null,"Límites asegurados por vigencia, hasta","Límites asegurados por vigencia, hasta","Prima Comercial",null,"OK"]
[null,null,"Cobertura principal",null,"INMUEBLE","BIENES"]
[{"$f":"IF(LEN(B38)=0,\"hide\",\"\")","v":""},{"$f":"IF('PRIMER RIESGO INMUEBLE+BIENES'!B12=0,\"\",'PRIMER RIESGO INMUEBLE+BIENES'!B12)","v":"X"},"Incendio y/o rayo, explosión, incendio en aparatos eléctricos. Daños por agua, daños por humo, impacto de vehículos y/o aeronaves o daños por riesgos políticos y sociales",null,{"$f":"'PRIMER RIESGO INMUEBLE+BIENES'!F12","v":200000},{"$f":"'PRIMER RIESGO INMUEBLE+BIENES'!G12","v":10000},{"$f":"'PRIMER RIESGO INMUEBLE+BIENES'!H12","v":114.8605}]
[null,null,"Coberturas adicionales"]
[{"$f":"IF(LEN(B40)=0,\"hide\",\"\")","v":""},{"$f":"IF('PRIMER RIESGO INMUEBLE+BIENES'!B14=0,\"\",'PRIMER RIESGO INMUEBLE+BIENES'!B14)","v":"X"},"Terremoto, temblor, maremoto, Inundaciones y riesgos de la naturaleza",null,{"$f":"'PRIMER RIESGO INMUEBLE+BIENES'!F14","v":200000},{"$f":"'PRIMER RIESGO INMUEBLE+BIENES'!G14","v":10000},{"$f":"'PRIMER RIESGO INMUEBLE+BIENES'!H14","v":447.79}]
[{"$f":"IF(LEN(B40)=0,\"hide\",\"\")","v":""},null,null,null,"Suma asegurada que forma parte de la cobertura principal","Suma asegurada que forma parte de la cobertura principal"]
[{"$f":"IF(LEN(B42)=0,\"hide\",\"\")","v":""},{"$f":"IF('PRIMER RIESGO INMUEBLE+BIENES'!B16=0,\"\",'PRIMER RIESGO INMUEBLE+BIENES'!B16)","v":"X"},"Responsabilidad civil frente a terceros",null,{"$f":"'PRIMER RIESGO INMUEBLE+BIENES'!F16","v":200000},{"$f":"'PRIMER RIESGO INMUEBLE+BIENES'!G16","v":"-"},{"$f":"'PRIMER RIESGO INMUEBLE+BIENES'!H16","v":2.0299999999999998}]
[{"$f":"IF(LEN(B42)=0,\"hide\",\"\")","v":""},null,null,null,{"$f":"coberturasyClausulas!$J$64","v":" máximo US$ 200,000"}]
[{"$f":"IF(LEN(B44)=0,\"hide\",\"\")","v":""},{"$f":"IF('PRIMER RIESGO INMUEBLE+BIENES'!B18=0,\"\",'PRIMER RIESGO INMUEBLE+BIENES'!B18)","v":"X"},"Rotura accidental de vidrio y/o cristales",null,{"$f":"'PRIMER RIESGO INMUEBLE+BIENES'!F18","v":"US$ 3,000"},null,{"$f":"'PRIMER RIESGO INMUEBLE+BIENES'!H18","v":4.46}]
[{"$f":"IF(LEN(B44)=0,\"hide\",\"\")","v":""},null,null,null,"Suma asegurada que forma parte de la cobertura principal"]
[{"$f":"IF(LEN(B46)=0,\"hide\",\"\")","v":""},{"$f":"IF('PRIMER RIESGO INMUEBLE+BIENES'!B20=0,\"\",'PRIMER RIESGO INMUEBLE+BIENES'!B20)","v":"X"},"Robo o intento de robo de instalaciones fijas",null,{"$f":"'PRIMER RIESGO INMUEBLE+BIENES'!F20","v":"20% de la suma asegurada de inmueble, máximo US$ 5,000 , suma asegurada que forma parte de la cobertura principal"},null,{"$f":"'PRIMER RIESGO INMUEBLE+BIENES'!H20","v":0.36}]
[{"$f":"IF(LEN(B47)=0,\"hide\",\"\")","v":""},{"$f":"IF('PRIMER RIESGO INMUEBLE+BIENES'!B21=0,\"\",'PRIMER RIESGO INMUEBLE+BIENES'!B21)","v":"X"},"Robo y/o daños por intento de robo (dentro y fuera de la vivienda a nivel nacional)",null,{"$f":"'PRIMER RIESGO INMUEBLE+BIENES'!F21","v":"-"},{"$f":"'PRIMER RIESGO INMUEBLE+BIENES'!G21","v":10000},{"$f":"'PRIMER RIESGO INMUEBLE+BIENES'!H21","v":45.25}]
["",{"$f":"IF('PRIMER RIESGO INMUEBLE+BIENES'!B22=0,\"\",'PRIMER RIESGO INMUEBLE+BIENES'!B22)","v":"X"},"Robo y/o daños por intento de robo de joyas, platería, relojes, obras de arte, cámaras fotográficas o de video, laptops y bicicletas dentro de la vivienda o que estén siendo portados fuera de la vivienda. ",null,{"$f":"'PRIMER RIESGO INMUEBLE+BIENES'!F22","v":"-"},{"$f":"'PRIMER RIESGO INMUEBLE+BIENES'!G22","v":"USD 10,000, sublímite de la cobertura de Robo"},{"$f":"'PRIMER RIESGO INMUEBLE+BIENES'!H22","v":4.37}]
["",{"$f":"IF('PRIMER RIESGO INMUEBLE+BIENES'!B23=0,\"\",'PRIMER RIESGO INMUEBLE+BIENES'!B23)","v":"X"},"Hurto",null,{"$f":"'PRIMER RIESGO INMUEBLE+BIENES'!F23","v":"-"},{"$f":"'PRIMER RIESGO INMUEBLE+BIENES'!G23","v":"US$ 3,000 , sublímite de la cobertura de Robo"},{"$f":"'PRIMER RIESGO INMUEBLE+BIENES'!H23","v":4.96}]
["hide",{"$f":"IF('PRIMER RIESGO INMUEBLE+BIENES'!B24=0,\"\",'PRIMER RIESGO INMUEBLE+BIENES'!B24)","v":""},"Deshonestidad de trabajadores del hogar",null,{"$f":"'PRIMER RIESGO INMUEBLE+BIENES'!F24","v":"-"},{"$f":"'PRIMER RIESGO INMUEBLE+BIENES'!G24","v":"US$ 5,000 por evento, máximo 3 eventos por vigencia de la póliza, sublímite de la cobertura de Robo"},{"$f":"'PRIMER RIESGO INMUEBLE+BIENES'!H24","v":0}]
["hide",{"$f":"IF('PRIMER RIESGO INMUEBLE+BIENES'!B25=0,\"\",'PRIMER RIESGO INMUEBLE+BIENES'!B25)","v":""},"Reembolso de gastos médicos por accidentes de trabajadores del hogar, ocurridos dentro del inmueble",null,{"$f":"'PRIMER RIESGO INMUEBLE+BIENES'!F25","v":"US$ 5,000 por evento, máximo 3 eventos por vigencia de la póliza"},"Hasta US$ 5,000 / S/ 15,000 por evento, máximo 3 eventos por vigencia de la póliza",{"$f":"'PRIMER RIESGO INMUEBLE+BIENES'!H25","v":0}]
["hide",{"$f":"IF('PRIMER RIESGO INMUEBLE+BIENES'!B26=0,\"\",'PRIMER RIESGO INMUEBLE+BIENES'!B26)","v":""},"Gastos de arrendamiento de vivienda temporal a reembolso",null,{"$f":"'PRIMER RIESGO INMUEBLE+BIENES'!F26","v":"US$ 2,000 mensuales, máximo 6 meses por vigencia de la póliza, suma asegurada que forma parte de la cobertura principal"},"Hasta US$ 5,000 / S/ 15,000 por evento, máximo 3 eventos por vigencia de la póliza",{"$f":"'PRIMER RIESGO INMUEBLE+BIENES'!H26","v":0}]
["hide",{"$f":"IF('PRIMER RIESGO INMUEBLE+BIENES'!B27=0,\"\",'PRIMER RIESGO INMUEBLE+BIENES'!B27)","v":""},"Alquiler no percibido por inmueble inhabitable temporalmente (aplica solo para el arrendador)",null,{"$f":"'PRIMER RIESGO INMUEBLE+BIENES'!F27","v":"US$ 2,000 mensuales, máximo 6 meses por vigencia de la póliza, suma asegurada que forma parte de la cobertura principal"},"Hasta US$ 5,000 / S/ 15,000 por evento, máximo 3 eventos por vigencia de la póliza",{"$f":"'PRIMER RIESGO INMUEBLE+BIENES'!H27","v":0}]
["",{"$f":"IF('PRIMER RIESGO INMUEBLE+BIENES'!B28=0,\"\",'PRIMER RIESGO INMUEBLE+BIENES'!B28)","v":"X"},"Gastos extraordinarios: remoción de escombros, honorarios profesionales y construcción de documentos y modelos ",null,{"$f":"'PRIMER RIESGO INMUEBLE+BIENES'!F28","v":"20% de la suma asegurada de inmueble y/o bienes, suma asegurada que forma parte de la cobertura principal"},"Hasta US$ 5,000 / S/ 15,000 por evento, máximo 3 eventos por vigencia de la póliza",{"$f":"'PRIMER RIESGO INMUEBLE+BIENES'!H28","v":0}]
[{"$f":"IF(LEN($B$55)=0,\"hide\",\"\")","v":""},{"$f":"IF('PRIMER RIESGO INMUEBLE+BIENES'!B29=0,\"\",'PRIMER RIESGO INMUEBLE+BIENES'!B29)","v":"X"},"Asistencias",null,null,null,null,null,"OK"]
[{"$f":"IF(LEN($B$55)=0,\"hide\",\"\")","v":""},null,{"$f":"'PRIMER RIESGO INMUEBLE+BIENES'!D30","v":"Envío y pago de Cerrajero por emergencia "},null,{"$f":"'PRIMER RIESGO INMUEBLE+BIENES'!F30","v":"Hasta US$ 300 por evento, Máximo de 3 eventos"},null,{"$f":"'PRIMER RIESGO INMUEBLE+BIENES'!H30","v":5.75}]
[{"$f":"IF(LEN($B$55)=0,\"hide\",\"\")","v":""},null,{"$f":"'PRIMER RIESGO INMUEBLE+BIENES'!D31","v":"Envío y pago de Gasfitero por emergencia "},null,{"$f":"'PRIMER RIESGO INMUEBLE+BIENES'!F31","v":"Hasta US$ 300 por evento, Máximo de 3 eventos"}]
[{"$f":"IF(LEN($B$55)=0,\"hide\",\"\")","v":""},null,{"$f":"'PRIMER RIESGO INMUEBLE+BIENES'!D32","v":"Envío y pago de Electricista por emergencia"},null,{"$f":"'PRIMER RIESGO INMUEBLE+BIENES'!F32","v":"Hasta US$ 300 por evento, Máximo de 3 eventos"}]
["",null,{"$f":"'PRIMER RIESGO INMUEBLE+BIENES'!D33","v":"Envío y pago de Vidriero por emergencia"},null,{"$f":"'PRIMER RIESGO INMUEBLE+BIENES'!F33","v":"Hasta US$ 300 por evento, Máximo de 3 eventos"}]
["",null,{"$f":"'PRIMER RIESGO INMUEBLE+BIENES'!D34","v":"Limpieza del inmueble asegurado a consecuencia de un siniestro"},null,{"$f":"'PRIMER RIESGO INMUEBLE+BIENES'!F34","v":"Hasta US$ 500 por evento, Máximo de 3 eventos"}]
["",null,{"$f":"'PRIMER RIESGO INMUEBLE+BIENES'!D35","v":"Servicio de Lavado de estores, roller, alfombras"},null,{"$f":"'PRIMER RIESGO INMUEBLE+BIENES'!F35","v":"Hasta US$ 80 por evento, máximo de 1 evento, cubriendo la limpieza de una pieza."}]
[null,null,{"$f":"'PRIMER RIESGO INMUEBLE+BIENES'!D36","v":"Servicio de Lavado de colchón"},null,{"$f":"'PRIMER RIESGO INMUEBLE+BIENES'!F36","v":"Hasta US$ 80 por evento, máximo de 1 evento, cubriendo la limpieza de una pieza."}]
[null,null,{"$f":"'PRIMER RIESGO INMUEBLE+BIENES'!D37","v":"Masajes  relajantes a domicilio durante 1 hora"},null,{"$f":"'PRIMER RIESGO INMUEBLE+BIENES'!F37","v":"Hasta US$ 80 por evento, máximo de 1 evento, cubriendo la limpieza de una pieza."}]
[null,null,{"$f":"'PRIMER RIESGO INMUEBLE+BIENES'!D38","v":"Mozo a domicilio "},null,{"$f":"'PRIMER RIESGO INMUEBLE+BIENES'!F38","v":"Hasta máximo de 3 eventos al año, con servicio una vez al mes."}]
[null,null,{"$f":"'PRIMER RIESGO INMUEBLE+BIENES'!D39","v":"Mantenimiento Preventivo de Línea Blanca"},null,{"$f":"'PRIMER RIESGO INMUEBLE+BIENES'!F39","v":"Hasta US$ 75 por evento, máximo de 3 eventos, cubriendo la revisión de un equipo."}]
["",null,{"$f":"'PRIMER RIESGO INMUEBLE+BIENES'!D40","v":"Orientación telefónica veterinaria para perros las 24H"},null,{"$f":"'PRIMER RIESGO INMUEBLE+BIENES'!F40","v":"Sin límite"}]
["",null,{"$f":"'PRIMER RIESGO INMUEBLE+BIENES'!D41","v":"Hospedaje de perros"},null,{"$f":"'PRIMER RIESGO INMUEBLE+BIENES'!F41","v":"Hasta máximo de 3 eventos. Se considera 1 día de hospedaje por evento."}]
[null,null,"Deducibles:\nAplicables por evento/pérdida, en caso de discrepancia prevalece el mayor",null,null,null,null,null,"OK"]
[{"$f":"IF(LEN(B69)=0,\"hide\",\"\")","v":""},{"$f":"IF('PRIMER RIESGO INMUEBLE+BIENES'!B43=0,\"\",'PRIMER RIESGO INMUEBLE+BIENES'!B43)","v":"X"},"Terremoto / Maremoto",null,{"$f":"'PRIMER RIESGO INMUEBLE+BIENES'!F43","v":"Hasta el 1% del límite asegurado, mínimo US$ 200"}]
["",{"$f":"IF('PRIMER RIESGO INMUEBLE+BIENES'!B44=0,\"\",'PRIMER RIESGO INMUEBLE+BIENES'!B44)","v":"X"},"Otros Riesgos de la Naturaleza (entre ellos lluvia, inundación, otros)",null,{"$f":"'PRIMER RIESGO INMUEBLE+BIENES'!F44","v":"Hasta 10% del monto indemnizable, mínimo US$ 200"}]
["",{"$f":"IF('PRIMER RIESGO INMUEBLE+BIENES'!B45=0,\"\",'PRIMER RIESGO INMUEBLE+BIENES'!B45)","v":"X"},"Daños por agua",null,{"$f":"'PRIMER RIESGO INMUEBLE+BIENES'!F45","v":"Hasta 10% del monto indemnizable, mínimo US$ 200"}]
["",{"$f":"IF('PRIMER RIESGO INMUEBLE+BIENES'!B46=0,\"\",'PRIMER RIESGO INMUEBLE+BIENES'!B46)","v":"X"},"Riesgos políticos y sociales",null,{"$f":"'PRIMER RIESGO INMUEBLE+BIENES'!F46","v":"Hasta 10% del monto indemnizable, mínimo US$ 200"}]
["",{"$f":"IF('PRIMER RIESGO INMUEBLE+BIENES'!B47=0,\"\",'PRIMER RIESGO INMUEBLE+BIENES'!B47)","v":"X"},"Responsabilidad civil frente a terceros",null,{"$f":"'PRIMER RIESGO INMUEBLE+BIENES'!F47","v":"Hasta 10% del monto indemnizable, mínimo US$ 200"}]
["",{"$f":"IF('PRIMER RIESGO INMUEBLE+BIENES'!B48=0,\"\",'PRIMER RIESGO INMUEBLE+BIENES'!B48)","v":"X"},"Rotura accidental de vidrio y/o cristales",null,{"$f":"'PRIMER RIESGO INMUEBLE+BIENES'!F48","v":"Hasta 10% del monto indemnizable, mínimo US$ 200"}]
["",{"$f":"IF('PRIMER RIESGO INMUEBLE+BIENES'!B49=0,\"\",'PRIMER RIESGO INMUEBLE+BIENES'!B49)","v":"X"},"Robo o intento de robo de instalaciones fijas",null,{"$f":"'PRIMER RIESGO INMUEBLE+BIENES'!F49","v":"Hasta 10% del monto indemnizable, mínimo US$ 200"}]
["",{"$f":"IF('PRIMER RIESGO INMUEBLE+BIENES'!B50=0,\"\",'PRIMER RIESGO INMUEBLE+BIENES'!B50)","v":"X"},"Robo y/o daños por intento de robo",null,{"$f":"'PRIMER RIESGO INMUEBLE+BIENES'!F50","v":"Hasta 10% del monto indemnizable, mínimo US$ 200"}]
["",{"$f":"IF('PRIMER RIESGO INMUEBLE+BIENES'!B51=0,\"\",'PRIMER RIESGO INMUEBLE+BIENES'!B51)","v":"X"},"Hurto",null,{"$f":"'PRIMER RIESGO INMUEBLE+BIENES'!F51","v":"Hasta 10% del monto indemnizable, mínimo US$ 200"}]
["hide",{"$f":"IF('PRIMER RIESGO INMUEBLE+BIENES'!B52=0,\"\",'PRIMER RIESGO INMUEBLE+BIENES'!B52)","v":""},"Deshonestidad de trabajadores del hogar",null,{"$f":"'PRIMER RIESGO INMUEBLE+BIENES'!F52","v":"Hasta 10% del monto indemnizable, mínimo US$ 200"}]
["",{"$f":"IF('PRIMER RIESGO INMUEBLE+BIENES'!B53=0,\"\",'PRIMER RIESGO INMUEBLE+BIENES'!B53)","v":"X"},"Demás coberturas",null,{"$f":"'PRIMER RIESGO INMUEBLE+BIENES'!F53","v":"Sin deducible"}]
[]
[]
[null,null,"Importante:",null,null,null,null,null,"OK"]
[null,null,"Si se encuentran discrepancias entre la presente cotización y los términos de la póliza, prevalecerán las condiciones de esta última."]
[null,null,"La presente cotización es válida por un plazo de 30 días calendarios contados a partir de la fecha de recepción de la misma. Luego de vencido dicho plazo la oferta contenida en la presente cotización quedará sin efecto legal alguno entre las partes."]
[null,null,"Se deja constancia expresa que, a potestad de la Compañía, la aceptación final del riesgo por parte de esta queda sujeta a la realización de la inspección, por parte de nuestro Departamento de Ingeniería o la persona autorizada para tal efecto, para verificar el efectivo estado del riesgo, así como el estricto cumplimiento por parte del Asegurado de las garantías que a mérito de dicha inspección establezca el Departamento de Ingeniería de la Compañía."]
[]
[null,null,"Consideraciones: ",null,null,null,null,null,"OK"]
[null,null,"-   La forma de entrega de la póliza es electrónica.     \n-   La forma de pago de la póliza es solo con afiliación al débito automático a una tarjeta de crédito o a una cuenta bancaria.\n-   La modalidad de aseguramiento que brinda este plan de seguros es a valor total. \n-   La cobertura principal comprende además cualquier otro riesgo, súbito e imprevisto, que no esté excluido explícitamente en las exclusiones de las Condiciones Generales y/o Cláusulas Adicionales de la Póliza.        \n-  Las coberturas señaladas en Coberturas Adicionales forman parte de la suma asegurada de la Cobertura Principal, es decir, cada indemnización que le paguemos por las coberturas adicionales, reducirá la suma asegurada de la cobertura principal, a excepción de la cobertura adicional Responsabilidad civil frente a terceros, la cual es independiente a la suma asegurada de la cobertura principal.         \n-  La cobertura de la póliza en cuanto a pérdida o daños causados por agua que inunde, descargue o derrame de cualquier instalación de agua o desagüe de otros elementos líquidos; no comprenderá el costo de reparar el desperfecto que originó tal pérdida o daño.   \n-   Este seguro no otorga cobertura cuando en el inmueble se realiza cualquier actividad o giro comercial diferente al de casa habitación.       \n-   Este seguro se renovará automáticamente, es decir, en las mismas condiciones vigentes en el periodo anterior.          \n-   Para la cobertura de Robo y/o daños por intento de robo de Joyas y platería se define lo siguiente: Objetos y/o adornos de uso personal elaborados en oro, plata, platino, perlas y que pueden llevar o no incrustadas piedras preciosas de origen biológico o mineral, tanto si están engastadas como si no. También se considera a cualquier objeto ornamental o de uso doméstico elaborado con los materiales enumerados en el párrafo anterior.    \n-   El ASEGURADO deberá presentar una relación detallada, a ser actualizada mínimo cada dos años, de los bienes cuyo valor unitario excedan los S/ 5,000. En caso de siniestro, esta relación de bienes es el sustento de la pre-existencia de cada bien declarado. En caso de no cumplir con lo anterior o para bienes afectados no incluidos en la relación presentada, el Asegurado deberá demostrarnos la pre-existencia de los bienes afectados en el siniestro, a través de comprobantes de pago y/o constancia visual (fotografías, video, manuales de uso o similares) en donde se muestre el artículo en el interior del Inmueble asegurado o a la persona usando dicho artículo.    \n-   En caso de robo: Se mantiene la exigencia de la denuncia policial, pero se manejará a discreción cada caso hasta por un monto máximo de siniestro de S/ 30,000, siniestros por encima de este monto deberán presentar denuncia policial de manera obligatoria.    \n-  Las asistencias están disponibles los 365 días del año en las siguientes ciudades:  \n•      Lima Metropolitana exceptuando Ancón, Punta Hermosa, San Bartolo, Santa María y Pucusana.\n•      Trujillo: En los distritos de Trujillo, Victor Larco, Moche y Huanchaco. \n•      Chiclayo: En los distritos de Chiclayo, La Victoria, José Leonardo Ortiz, Pimentel.  \n•      Piura: En los distritos de Piura, Castilla, Catacaos.      \n•      Arequipa: En los distritos de Arequipa (Cercado), Yanahuara, Cayma, Sachaca, José Luis Bustamante y Rivero, Cerro Colorado.        \n•      Cusco: En los distritos de Cusco, San Jerónimo, San Sebastián, Santiago, Wanchaq.  \n Aplican y deben aparecer tanto para a primer riesgo como para valor total "]
[]
[]
[]
[]
[]
[]
[]
[]
[]
[]
[]
[]
[]
[]
[]
[]
[]
[]
[]
[]
[]
[]
[]
[]
[]
[]
[]
[]
[]
[]
[]
[null,null,"Exlusiones: ",null,null,null,null,null,"OK"]
[null,null,"Tenga en cuenta que no pagaremos la reparación del desperfecto ni del bien que originó el daño, como tampoco ninguna pérdida o daño proveniente o que sean causa de, o en conexión con, o atribuibles principalmente a:        \na)      Dolo, culpa grave o negligencia inexcusable del CONTRATANTE o de USTED y/o del BENEFICIARIO y/o ENDOSATARIO o de los familiares de cualquiera de ellos, o de sus dependientes, especialmente de los responsables de la seguridad de los BIENES asegurados.   \nb)      Guerra, Guerra Civil, invasión, acto de enemigo extranjero, hostilidades u operaciones de guerra, declarada o no.          \nc)       Desgaste o deterioro paulatino o fatiga de material, causado por, o resultado de, el uso y funcionamiento del bien; uso o deterioro gradual; deficiencias de rendimiento o capacidad; polución, contaminación; corrosión, erosión; herrumbre u oxidación; hongos, moho húmedo o seco, combustión espontánea, fermentación; humedad, sequedad, smog o cambios de temperatura; asentamiento o contracción o expansión de edificios o cimientos; la calefacción o la desecación a que hubieran sido sometidos los objetos que forman parte de la Materia Asegurada.  \nd)      Hundimientos, desplazamientos, agrietamientos o asentamientos de muros, pisos, techos, pavimentos, cimientos, muros de contención. Sin embargo, si estos daños son causados por los eventos de Terremoto, Temblor, Erupción Volcánica o Maremoto para los cuales se haya contratado amparo bajo la presente póliza, no se aplicará esta exclusión.     \ne)      Todo gasto o costo para implementar modificaciones o mejoras, o por mantenimiento, o para hacer otras reparaciones o arreglos, en el INMUEBLE y/o BIENES dañados o afectados; así como los gastos o costos de cualquier reparación provisional, a menos que constituyan, a la vez, parte de los gastos de la reparación definitiva amparada por la póliza.     \nf)        Valor atribuido a los BIENES por razones sentimentales o simbólicas, por afición, por antigüedad, o por exclusividad.         \ng)      Pérdida o daño ocurrido cuando el INMUEBLE esté deshabitado y/o cuando los BIENES se hallen en el INMUEBLE deshabitado; en ambos casos durante más de noventa (90) días consecutivos.  \nLas demás exclusiones se encuentran en el acápite 3 de las Condiciones Generales de la Póliza. Aplican exclusiones específicas a la cobertura que se contrate, detalladas en su respectiva Cláusula Adicional.           \nBienes excluidos:          \na)      INMUEBLE y/o BIENES con cualquier actividad o giro diferente al de casa habitación. \nb)      Animales vivos de cualquier tipo.      \nc)       Plantaciones, cultivos, cosechas de cualquier tipo, invernaderos, bosques, selvas, monte bajo, praderas, pampas, árboles, parques, prados, jardines naturales y ornamentales, agua.  \nd)      INMUEBLES y/o BIENES en proceso de construcción, reconstrucción, montaje o desmontaje.\ne)      Vehículos motorizados con una placa de rodaje, equipos flotantes o submarinos, aeronaves o artefactos aéreos, embarcaciones, naves acuáticas; de cualquier tipo y tamaño.  \nf)    BIENES de cualquier tipo que sean propiedad de terceros aun cuando dichos BIENES se encuentren bajo custodia y/o posesión del Asegurado.      \ng)      Material pirotécnico, explosivos, combustibles, mechas, fulminantes, detonadores y similares.\nh)      BIENES situados o instalados u operando o trabajando o siendo usados en él, o a las orillas del, mar, río, lago o laguna, en subterráneos, o debajo del nivel de la superficie terrestre.  \ni)        Dinero en efectivo, títulos valores.       \nj)       Cualquier tipo de contenido o bien para fines comerciales, de la profesión u ocupación o de negocios de USTED, de cualquier miembro de su familia, por medio de los cuales obtengan un lucro."]

{"sheet":"CotizacionInmuebleVT","index":11,"n_rows":113,"n_cols":9,"rows_kept":113,"cut":false,"hidden":true,"merged":[[65,4,65,5],[64,2,64,3],[79,2,109,5],[112,2,147,5],[64,4,64,5],[76,2,76,5],[66,2,66,3],[66,4,66,5],[67,2,67,3],[67,4,67,5],[68,2,68,3],[68,4,68,5],[69,2,69,3],[69,4,69,5],[70,2,70,3],[70,4,70,5],[74,2,74,5],[65,2,65,3],[75,2,75,5],[49,2,49,3],[55,2,55,3],[50,5,61,5],[56,2,56,3],[57,2,57,3],[61,2,61,3],[62,2,62,5],[63,2,63,3],[63,4,63,5],[50,2,50,3],[51,2,51,3],[52,2,52,3],[53,2,53,3],[54,2,54,3],[39,1,40,1],[39,2,40,3],[39,5,40,5],[45,2,45,3],[41,1,42,1],[41,2,42,3],[41,5,42,5],[43,2,43,3],[44,2,44,3],[58,2,58,3],[59,2,59,3],[60,2,60,3],[0,2,0,6],[12,3,12,5],[20,3,20,5],[35,2,35,3],[37,2,37,3],[21,3,21,5],[22,3,22,5],[23,3,23,5],[24,3,24,5],[5,3,5,4],[46,2,46,3],[47,2,47,3],[48,2,48,3]]}
[null,null,{"$f":"\"Cotización Seguro de Hogar Flex \" & configuracion!$K$2","v":"Cotización Seguro de Hogar Flex Enero 2025"}]
[]
[null,null,"Vigencia de la cotización",{"$f":"TEXT(TODAY(),\"dd/mm/yyyy\") & \" - \" &  TEXT(TODAY()+15,\"dd/mm/yyyy\")","v":"25/03/2025 - 09/04/2025"}]
[null,null,"Fecha inicio de Vigencia",{"$f":"Cotizador!$L$6","v":"00:00:00"}]
[null,null,"Canal",{"$f":"Cotizador!$G$10","v":"Corredor"}]
[null,null,"Agente",{"$f":"Cotizador!R$10","v":0}]
[]
[null,null,"Datos del Contratante "]
[null,null,"Nombre del Contratante",{"$f":"Cotizador!$G$15 & \" \" & Cotizador!$M$15& \" \" & Cotizador!$R$15","v":"  "}]
[null,null,"Tipo de documento ",{"$f":"Cotizador!$G$14&\" \" &Cotizador!$M$14","v":" "}]
[null,null,null,null,null,"Descuento"]
[null,null,"Planes de Pago Prima",null,null,{"$f":"Cotizador!$M$40","v":0}]
[null,null,"Débito automático","Valores de la Cuota"]
[null,null,"Plan de pago  ","Prima Comercial","IGV","Prima Total"]
[null,null,"Prima anual + IGV sin intereses:",{"$f":"IF(Cotizador!$G$54=0,\"\",Cotizador!$G$54)","v":""},{"$f":"IF(Cotizador!$G$55=0,\"\",Cotizador!$G$55)","v":""},{"$f":"IF(Cotizador!$G$56=0,\"\",Cotizador!$G$56)","v":""}]
[null,null,"Prima anual + IGV sin intereses:",{"$f":"IF(Cotizador!$L$54=0,\"\",Cotizador!$L$54)","v":""},{"$f":"IF(Cotizador!$L$55=0,\"\",Cotizador!$L$55)","v":""},{"$f":"IF(Cotizador!$L$56=0,\"\",Cotizador!$L$56)","v":""}]
[null,null,{"$f":"IF(Cotizador!$I$61=\"X\",Cotizador!$B$61,IF(Cotizador!$I$62=\"X\",Cotizador!$B$62,IF(Cotizador!$I$63=\"X\",Cotizador!$B$63,IF(Cotizador!$I$64=\"X\",Cotizador!$B$64,IF(Cotizador!$I$66=\"X\",Cotizador!$B$66,IF(Cotizador!$I$67=\"X\",Cotizador!$B$67,IF(Cotizador!$I$68=\"X\",Cotizador!$B$68,IF(Cotizador!$I$69=\"X\",Cotizador!$B$69,\"\"))))))))","v":""},{"$f":"IFERROR(F17/1.18,\"\")","v":""},{"$f":"IFERROR(F17-D17,\"\")","v":""},{"$f":"IF(Cotizador!$I$61=\"X\",Cotizador!$J$61,IF(Cotizador!$I$62=\"X\",Cotizador!$J$62,IF(Cotizador!$I$63=\"X\",Cotizador!$J$63,IF(Cotizador!$I$64=\"X\",Cotizador!$J$64,IF(Cotizador!$I$66=\"X\",Cotizador!$J$66,IF(Cotizador!$I$67=\"X\",Cotizador!$J$67,IF(Cotizador!$I$68=\"X\",Cotizador!$J$68,IF(Cotizador!$I$69=\"X\",Cotizador!$J$69,\"\"))))))))","v":""}]
[null,null,"Materia Asegurada",{"$f":"IF(Cotizador!$H$29=\"X\",Cotizador!$G$29,IF(Cotizador!$K$29=\"X\",Cotizador!$J$29,IF(Cotizador!$O$29=\"X\",Cotizador!$M$29)))","v":false}]
[]
[null,null,"Datos del Inmueble asegurado"]
[null,null,"Dirección",{"$f":"Cotizador!$G$22 & \" \" & Cotizador!G23","v":" "}]
[null,null,"Departamento",{"$f":"IF(Cotizador!$L$26=0,\"\",Cotizador!$L$26)","v":""}]
[null,null,"Provincia",{"$f":"IF(Cotizador!$G$26=0,\"\",Cotizador!$G$26)","v":""}]
[null,null,"Distrito",{"$f":"IF(Cotizador!$G$25=0,\"\",Cotizador!$G$25)","v":""}]
[null,null,"Tipo de Inmueble",{"$f":"IF(Cotizador!$E$34=\"X\",Cotizador!$B$34,IF(Cotizador!$E$35=\"X\",Cotizador!$B$35,\"\"))","v":""}]
[]
[null,null,"Modalidad de Aseguramiento",{"$f":"IF(Cotizador!$H$31=\"X\",Cotizador!$G$31,IF(Cotizador!$K$31=\"X\",Cotizador!$J$31,\"\"))","v":""}]
[]
[null,null,"Plan  contratado",{"$f":"IF(Cotizador!$G$29=\"PLAN BÁSICO\",\"Plan Básico\",IF(Cotizador!$G$29=\"PLAN FULL\",\"Plan Full\",\"Personalizado\"))","v":"Personalizado"}]
[]
[null,null,"Suma Asegurada"]
[null,null,"Suma Asegurada Inmueble",{"$f":"Cotizador!$G$40","v":0},"Valor Declarado Inmueble",{"$f":"Cotizador!$G$38","v":0}]
[null,null,"Suma Asegurada Bienes",{"$f":"Cotizador!G41","v":0}]
[null,null,"Suma Asegurada Total (Inmueble + Bienes)",{"$f":"SUM(D32:D33)","v":0}]
[]
[null,null,"COBERTURAS  (solo INMUEBLE)",null,"Límites asegurados por vigencia","Prima Comercial",null,null,"OK"]
[null,null,"Cobertura principal"]
[{"$f":"IF(LEN(B38)=0,\"hide\",\"\")","v":""},{"$f":"IF('VALOR TOTAL INMUEBLE'!B12=0,\"\",'VALOR TOTAL INMUEBLE'!B12)","v":"X"},"Incendio y/o rayo, explosión, incendio en aparatos eléctricos. Daños por agua, daños por humo, impacto de vehículos y/o aeronaves o daños por riesgos políticos y sociales",null,{"$f":"'VALOR TOTAL INMUEBLE'!F12","v":0},{"$f":"'VALOR TOTAL INMUEBLE'!G12","v":51.5}]
[{"$f":"IF(AND(A40=\"hide\",A41=\"hide\",A42=\"hide\",A43=\"hide\",A44=\"hide\",A45=\"hide\",A46=\"hide\",A47=\"hide\",A48=\"hide\",A49=\"hide\"),\"hide\",\"\")","v":""},null,"Coberturas adicionales"]
[{"$f":"IF(LEN(B40)=0,\"hide\",\"\")","v":"hide"},{"$f":"IF('VALOR TOTAL INMUEBLE'!B14=0,\"\",'VALOR TOTAL INMUEBLE'!B14)","v":""},"Terremoto, temblor, maremoto, Inundaciones y riesgos de la naturaleza",null,{"$f":"'VALOR TOTAL INMUEBLE'!F14","v":0},{"$f":"'VALOR TOTAL INMUEBLE'!G14","v":0}]
[{"$f":"IF(LEN(B40)=0,\"hide\",\"\")","v":"hide"},{"$f":"IF('PRIMER RIESGO INMUEBLE'!B15=0,\"\",'PRIMER RIESGO INMUEBLE'!B15)","v":""},null,null,{"$f":"'VALOR TOTAL INMUEBLE'!F15","v":"Suma asegurada que forma parte de la cobertura principal"}]
[{"$f":"IF(LEN(B42)=0,\"hide\",\"\")","v":"hide"},{"$f":"IF('VALOR TOTAL INMUEBLE'!B16=0,\"\",'VALOR TOTAL INMUEBLE'!B16)","v":""},"Responsabilidad civil frente a terceros",null,{"$f":"'VALOR TOTAL INMUEBLE'!F16","v":0},{"$f":"'VALOR TOTAL INMUEBLE'!G16","v":0}]
[{"$f":"IF(LEN(B42)=0,\"hide\",\"\")","v":"hide"},{"$f":"IF('PRIMER RIESGO INMUEBLE'!B17=0,\"\",'PRIMER RIESGO INMUEBLE'!B17)","v":""},null,null,{"$f":"'VALOR TOTAL INMUEBLE'!F17","v":"máximo US$ 200,000"}]
[{"$f":"IF(LEN(B44)=0,\"hide\",\"\")","v":"hide"},{"$f":"IF('VALOR TOTAL INMUEBLE'!B18=0,\"\",'VALOR TOTAL INMUEBLE'!B18)","v":""},"Rotura accidental de vidrio y/o cristales",null,{"$f":"'VALOR TOTAL INMUEBLE'!F18","v":"Hasta US$ 3,000 ,suma asegurada que forma parte de la cobertura principal"},{"$f":"'VALOR TOTAL INMUEBLE'!G18","v":0}]
[{"$f":"IF(LEN(B45)=0,\"hide\",\"\")","v":"hide"},{"$f":"IF('VALOR TOTAL INMUEBLE'!B19=0,\"\",'VALOR TOTAL INMUEBLE'!B19)","v":""},"Robo o intento de robo de instalaciones fijas",null,{"$f":"'VALOR TOTAL INMUEBLE'!F19","v":"Hasta el 20% de la suma asegurada de inmueble, máximo US$ 5,000 ,suma asegurada que forma parte de la cobertura principal"},{"$f":"'VALOR TOTAL INMUEBLE'!G19","v":0}]
[{"$f":"IF(LEN(B46)=0,\"hide\",\"\")","v":"hide"},{"$f":"IF('VALOR TOTAL INMUEBLE'!B20=0,\"\",'VALOR TOTAL INMUEBLE'!B20)","v":""},"Reembolso de gastos médicos por accidentes de trabajadores del hogar, ocurridos dentro del inmueble",null,{"$f":"'VALOR TOTAL INMUEBLE'!F20","v":"Hasta US$ 5,000 por evento, máximo 3 eventos por vigencia de la póliza"},{"$f":"'VALOR TOTAL INMUEBLE'!G20","v":0}]
["hide",{"$f":"IF('VALOR TOTAL INMUEBLE'!B21=0,\"\",'VALOR TOTAL INMUEBLE'!B21)","v":""},"Gastos de arrendamiento de vivienda temporal a reembolso",null,{"$f":"'VALOR TOTAL INMUEBLE'!F21","v":"Hasta US$ 2,000 mensuales, máximo 6 meses por vigencia de la póliza, suma asegurada que forma parte de la cobertura principal"},{"$f":"'VALOR TOTAL INMUEBLE'!G21","v":0}]
["hide",{"$f":"IF('VALOR TOTAL INMUEBLE'!B22=0,\"\",'VALOR TOTAL INMUEBLE'!B22)","v":""},"Alquiler no percibido por inmueble inhabitable temporalmente",null,{"$f":"'VALOR TOTAL INMUEBLE'!F22","v":"Hasta US$ 2,000 mensuales, máximo 6 meses por vigencia de la póliza, suma asegurada que forma parte de la cobertura principal"},{"$f":"'VALOR TOTAL INMUEBLE'!G22","v":0}]
[{"$f":"IF(LEN(B49)=0,\"hide\",\"\")","v":""},{"$f":"IF('VALOR TOTAL INMUEBLE'!B23=0,\"\",'VALOR TOTAL INMUEBLE'!B23)","v":"X"},"Gastos extraordinarios: remoción de escombros, honorarios profesionales y construcción de documentos y modelos ",null,{"$f":"'VALOR TOTAL INMUEBLE'!F23","v":"Hasta el 20% de la suma asegurada de Inmueble, suma asegurada que forma parte de la cobertura principal"},{"$f":"'VALOR TOTAL INMUEBLE'!G23","v":0}]
[{"$f":"IF(LEN($B$50)=0,\"hide\",\"\")","v":"hide"},{"$f":"IF('VALOR TOTAL INMUEBLE'!B24=0,\"\",'VALOR TOTAL INMUEBLE'!B24)","v":""},"Asistencias",null,null,null,null,null,"OK"]
[{"$f":"IF(LEN($B$50)=0,\"hide\",\"\")","v":"hide"},null,{"$f":"'VALOR TOTAL INMUEBLE'!D25","v":"Envío y pago de Cerrajero por emergencia las 24H"},null,{"$f":"'VALOR TOTAL INMUEBLE'!F25","v":"Hasta US$ 300 por evento, Máximo de 3 eventos"},{"$f":"'PRIMER RIESGO INMUEBLE'!G25","v":0}]
[{"$f":"IF(LEN($B$50)=0,\"hide\",\"\")","v":"hide"},null,{"$f":"'VALOR TOTAL INMUEBLE'!D26","v":"Envío y pago de Gasfitero por emergencia las 24H"},null,{"$f":"'VALOR TOTAL INMUEBLE'!F26","v":"Hasta US$ 300 por evento, Máximo de 3 eventos"}]
["hide",null,{"$f":"'VALOR TOTAL INMUEBLE'!D27","v":"Envío y pago de Electricista por emergencia las 24H"},null,{"$f":"'VALOR TOTAL INMUEBLE'!F27","v":"Hasta US$ 300 por evento, Máximo de 3 eventos"}]
["hide",null,{"$f":"'VALOR TOTAL INMUEBLE'!D28","v":"Envío y pago de Vidriero por emergencia las 24H"},null,{"$f":"'VALOR TOTAL INMUEBLE'!F28","v":"Hasta US$ 300 por evento, Máximo de 3 eventos"}]
[{"$f":"IF(LEN($B$50)=0,\"hide\",\"\")","v":"hide"},null,{"$f":"'VALOR TOTAL INMUEBLE'!D29","v":"Limpieza del inmueble asegurado a consecuencia de un siniestro"},null,{"$f":"'VALOR TOTAL INMUEBLE'!F29","v":"Hasta US$ 500 por evento, Máximo de 3 eventos"}]
["hide",null,{"$f":"'VALOR TOTAL INMUEBLE'!D30","v":"Servicio de Lavado de estores, roller, alfombras"},null,{"$f":"'VALOR TOTAL INMUEBLE'!F30","v":"Hasta US$ 80 por evento, máximo de 1 evento, cubriendo la limpieza de una pieza."}]
["hide",null,{"$f":"'VALOR TOTAL INMUEBLE'!D31","v":"Servicio de Lavado de colchón"},null,{"$f":"'VALOR TOTAL INMUEBLE'!F31","v":"Hasta US$ 80 por evento, máximo de 1 evento, cubriendo la limpieza de una pieza."}]
["hide",null,{"$f":"'VALOR TOTAL INMUEBLE'!D32","v":"Masajes  relajantes a domicilio durante 1 hora"},null,{"$f":"'VALOR TOTAL INMUEBLE'!F32","v":"Hasta US$ 80 por evento, máximo de 1 evento, cubriendo la limpieza de una pieza."}]
["hide",null,{"$f":"'VALOR TOTAL INMUEBLE'!D33","v":"Mozo a domicilio "},null,{"$f":"'VALOR TOTAL INMUEBLE'!F33","v":"Hasta máximo de 3 eventos al año, con servicio una vez al mes."}]
["hide",null,{"$f":"'VALOR TOTAL INMUEBLE'!D34","v":"Mantenimiento Preventivo de Línea Blanca"},null,{"$f":"'VALOR TOTAL INMUEBLE'!F34","v":"Hasta US$ 75 por evento, máximo de 3 eventos, cubriendo la revisión de un equipo."}]
["hide",null,{"$f":"'VALOR TOTAL INMUEBLE'!D35","v":"Orientación telefónica veterinaria para perros las 24H"},null,{"$f":"'VALOR TOTAL INMUEBLE'!F35","v":"Sin límite"}]
["hide",null,{"$f":"'VALOR TOTAL INMUEBLE'!D36","v":"Hospedaje de perros"},null,{"$f":"'VALOR TOTAL INMUEBLE'!F36","v":"Hasta máximo de 3 eventos. Se considera 1 día de hospedaje por evento."}]
[null,null,"Deducibles:\nAplicables por evento/pérdida, en caso de discrepancia prevalece el mayor",null,null,null,null,null,"OK"]
[{"$f":"IF(LEN(B64)=0,\"hide\",\"\")","v":"hide"},{"$f":"IF('VALOR TOTAL INMUEBLE'!B38=0,\"\",'VALOR TOTAL INMUEBLE'!B38)","v":""},"Terremoto / Maremoto",null,{"$f":"'VALOR TOTAL INMUEBLE'!F38","v":"Hasta el 1% del límite asegurado, mínimo US$ 200"}]
[{"$f":"IF(LEN(B65)=0,\"hide\",\"\")","v":"hide"},{"$f":"IF('VALOR TOTAL INMUEBLE'!B39=0,\"\",'VALOR TOTAL INMUEBLE'!B39)","v":""},"Otros Riesgos de la Naturaleza (entre ellos lluvia, inundación, otros)",null,{"$f":"'VALOR TOTAL INMUEBLE'!F39","v":"Hasta 10% del monto indemnizable, mínimo US$ 200"}]
["",{"$f":"IF('VALOR TOTAL INMUEBLE'!B40=0,\"\",'VALOR TOTAL INMUEBLE'!B40)","v":"X"},"Daños por agua",null,{"$f":"'VALOR TOTAL INMUEBLE'!F40","v":"Hasta 10% del monto indemnizable, mínimo US$ 200"}]
["",{"$f":"IF('VALOR TOTAL INMUEBLE'!B41=0,\"\",'VALOR TOTAL INMUEBLE'!B41)","v":"X"},"Riesgos políticos y sociales",null,{"$f":"'VALOR TOTAL INMUEBLE'!F41","v":"Hasta 10% del monto indemnizable, mínimo US$ 200"}]
["hide",{"$f":"IF('VALOR TOTAL INMUEBLE'!B42=0,\"\",'VALOR TOTAL INMUEBLE'!B42)","v":""},"Responsabilidad civil frente a terceros",null,{"$f":"'VALOR TOTAL INMUEBLE'!F42","v":"Hasta 10% del monto indemnizable, mínimo US$ 200"}]
["hide",{"$f":"IF('VALOR TOTAL INMUEBLE'!B43=0,\"\",'VALOR TOTAL INMUEBLE'!B43)","v":""},"Rotura accidental de vidrio y/o cristales",null,{"$f":"'VALOR TOTAL INMUEBLE'!F43","v":"Hasta 10% del monto indemnizable, mínimo US$ 200"}]
["hide",{"$f":"IF('VALOR TOTAL INMUEBLE'!B44=0,\"\",'VALOR TOTAL INMUEBLE'!B44)","v":""},"Robo o intento de robo de instalaciones fijas",null,{"$f":"'VALOR TOTAL INMUEBLE'!F44","v":"Hasta 10% del monto indemnizable, mínimo US$ 200"}]
["hide",{"$f":"IF('VALOR TOTAL INMUEBLE'!B45=0,\"\",'VALOR TOTAL INMUEBLE'!B45)","v":""},"Demás coberturas",null,{"$f":"'VALOR TOTAL INMUEBLE'!F45","v":"Sin deducible"}]
[]
[]
[null,null,"Importante:",null,null,null,null,null,"OK"]
[null,null,"Si se encuentran discrepancias entre la presente cotización y los términos de la póliza, prevalecerán las condiciones de esta última."]
[null,null,"La presente cotización es válida por un plazo de 30 días calendarios contados a partir de la fecha de recepción de la misma. Luego de vencido dicho plazo la oferta contenida en la presente cotización quedará sin efecto legal alguno entre las partes."]
[null,null,"Se deja constancia expresa que, a potestad de la Compañía, la aceptación final del riesgo por parte de esta queda sujeta a la realización de la inspección, por parte de nuestro Departamento de Ingeniería o la persona autorizada para tal efecto, para verificar el efectivo estado del riesgo, así como el estricto cumplimiento por parte del Asegurado de las garantías que a mérito de dicha inspección establezca el Departamento de Ingeniería de la Compañía."]
[]
[null,null,"Consideraciones: ",null,null,null,null,null,"OK"]
[null,null,"-   La forma de entrega de la póliza es electrónica.     \n-   La forma de pago de la póliza es solo con afiliación al débito automático a una tarjeta de crédito o a una cuenta bancaria.\n-   La modalidad de aseguramiento que brinda este plan de seguros es a valor total. \n-   La cobertura principal comprende además cualquier otro riesgo, súbito e imprevisto, que no esté excluido explícitamente en las exclusiones de las Condiciones Generales y/o Cláusulas Adicionales de la Póliza.        \n-  Las coberturas señaladas en Coberturas Adicionales forman parte de la suma asegurada de la Cobertura Principal, es decir, cada indemnización que le paguemos por las coberturas adicionales, reducirá la suma asegurada de la cobertura principal, a excepción de la cobertura adicional Responsabilidad civil frente a terceros, la cual es independiente a la suma asegurada de la cobertura principal.         \n-  La cobertura de la póliza en cuanto a pérdida o daños causados por agua que inunde, descargue o derrame de cualquier instalación de agua o desagüe de otros elementos líquidos; no comprenderá el costo de reparar el desperfecto que originó tal pérdida o daño.   \n-   Este seguro no otorga cobertura cuando en el inmueble se realiza cualquier actividad o giro comercial diferente al de casa habitación.       \n-   Este seguro se renovará automáticamente, es decir, en las mismas condiciones vigentes en el periodo anterior.          \n-   Para la cobertura de Robo y/o daños por intento de robo de Joyas y platería se define lo siguiente: Objetos y/o adornos de uso personal elaborados en oro, plata, platino, perlas y que pueden llevar o no incrustadas piedras preciosas de origen biológico o mineral, tanto si están engastadas como si no. También se considera a cualquier objeto ornamental o de uso doméstico elaborado con los materiales enumerados en el párrafo anterior.    \n-   El ASEGURADO deberá presentar una relación detallada, a ser actualizada mínimo cada dos años, de los bienes cuyo valor unitario excedan los S/ 5,000. En caso de siniestro, esta relación de bienes es el sustento de la pre-existencia de cada bien declarado. En caso de no cumplir con lo anterior o para bienes afectados no incluidos en la relación presentada, el Asegurado deberá demostrarnos la pre-existencia de los bienes afectados en el siniestro, a través de comprobantes de pago y/o constancia visual (fotografías, video, manuales de uso o similares) en donde se muestre el artículo en el interior del Inmueble asegurado o a la persona usando dicho artículo.    \n-   En caso de robo: Se mantiene la exigencia de la denuncia policial, pero se manejará a discreción cada caso hasta por un monto máximo de siniestro de S/ 30,000, siniestros por encima de este monto deberán presentar denuncia policial de manera obligatoria.    \n-  Las asistencias están disponibles los 365 días del año en las siguientes ciudades:  \n•      Lima Metropolitana exceptuando Ancón, Punta Hermosa, San Bartolo, Santa María y Pucusana.\n•      Trujillo: En los distritos de Trujillo, Victor Larco, Moche y Huanchaco. \n•      Chiclayo: En los distritos de Chiclayo, La Victoria, José Leonardo Ortiz, Pimentel.  \n•      Piura: En los distritos de Piura, Castilla, Catacaos.      \n•      Arequipa: En los distritos de Arequipa (Cercado), Yanahuara, Cayma, Sachaca, José Luis Bustamante y Rivero, Cerro Colorado.        \n•      Cusco: En los distritos de Cusco, San Jerónimo, San Sebastián, Santiago, Wanchaq.  \n Aplican y deben aparecer tanto para a primer riesgo como para valor total "]
[]
[]
[]
[]
[]
[]
[]
[]
[]
[]
[]
[]
[]
[]
[]
[]
[]
[]
[]
[]
[]
[]
[]
[]
[]
[]
[]
[]
[]
[]
[]
[null,null,"Exlusiones: ",null,null,null,null,null,"OK"]
[null,null,"Tenga en cuenta que no pagaremos la reparación del desperfecto ni del bien que originó el daño, como tampoco ninguna pérdida o daño proveniente o que sean causa de, o en conexión con, o atribuibles principalmente a:        \na)      Dolo, culpa grave o negligencia inexcusable del CONTRATANTE o de USTED y/o del BENEFICIARIO y/o ENDOSATARIO o de los familiares de cualquiera de ellos, o de sus dependientes, especialmente de los responsables de la seguridad de los BIENES asegurados.   \nb)      Guerra, Guerra Civil, invasión, acto de enemigo extranjero, hostilidades u operaciones de guerra, declarada o no.          \nc)       Desgaste o deterioro paulatino o fatiga de material, causado por, o resultado de, el uso y funcionamiento del bien; uso o deterioro gradual; deficiencias de rendimiento o capacidad; polución, contaminación; corrosión, erosión; herrumbre u oxidación; hongos, moho húmedo o seco, combustión espontánea, fermentación; humedad, sequedad, smog o cambios de temperatura; asentamiento o contracción o expansión de edificios o cimientos; la calefacción o la desecación a que hubieran sido sometidos los objetos que forman parte de la Materia Asegurada.  \nd)      Hundimientos, desplazamientos, agrietamientos o asentamientos de muros, pisos, techos, pavimentos, cimientos, muros de contención. Sin embargo, si estos daños son causados por los eventos de Terremoto, Temblor, Erupción Volcánica o Maremoto para los cuales se haya contratado amparo bajo la presente póliza, no se aplicará esta exclusión.     \ne)      Todo gasto o costo para implementar modificaciones o mejoras, o por mantenimiento, o para hacer otras reparaciones o arreglos, en el INMUEBLE y/o BIENES dañados o afectados; así como los gastos o costos de cualquier reparación provisional, a menos que constituyan, a la vez, parte de los gastos de la reparación definitiva amparada por la póliza.     \nf)        Valor atribuido a los BIENES por razones sentimentales o simbólicas, por afición, por antigüedad, o por exclusividad.         \ng)      Pérdida o daño ocurrido cuando el INMUEBLE esté deshabitado y/o cuando los BIENES se hallen en el INMUEBLE deshabitado; en ambos casos durante más de noventa (90) días consecutivos.  \nLas demás exclusiones se encuentran en el acápite 3 de las Condiciones Generales de la Póliza. Aplican exclusiones específicas a la cobertura que se contrate, detalladas en su respectiva Cláusula Adicional.           \nBienes excluidos:          \na)      INMUEBLE y/o BIENES con cualquier actividad o giro diferente al de casa habitación. \nb)      Animales vivos de cualquier tipo.      \nc)       Plantaciones, cultivos, cosechas de cualquier tipo, invernaderos, bosques, selvas, monte bajo, praderas, pampas, árboles, parques, prados, jardines naturales y ornamentales, agua.  \nd)      INMUEBLES y/o BIENES en proceso de construcción, reconstrucción, montaje o desmontaje.\ne)      Vehículos motorizados con una placa de rodaje, equipos flotantes o submarinos, aeronaves o artefactos aéreos, embarcaciones, naves acuáticas; de cualquier tipo y tamaño.  \nf)    BIENES de cualquier tipo que sean propiedad de terceros aun cuando dichos BIENES se encuentren bajo custodia y/o posesión del Asegurado.      \ng)      Material pirotécnico, explosivos, combustibles, mechas, fulminantes, detonadores y similares.\nh)      BIENES situados o instalados u operando o trabajando o siendo usados en él, o a las orillas del, mar, río, lago o laguna, en subterráneos, o debajo del nivel de la superficie terrestre.  \ni)        Dinero en efectivo, títulos valores.       \nj)       Cualquier tipo de contenido o bien para fines comerciales, de la profesión u ocupación o de negocios de USTED, de cualquier miembro de su familia, por medio de los cuales obtengan un lucro."]

{"sheet":"CotizacionBienesVT","index":12,"n_rows":110,"n_cols":9,"rows_kept":110,"cut":false,"hidden":true,"merged":[[52,2,52,3],[47,5,58,5],[53,2,53,3],[58,2,58,3],[76,2,106,5],[47,2,47,3],[48,2,48,3],[49,2,49,3],[50,2,50,3],[51,2,51,3],[54,2,54,3],[55,2,55,3],[56,2,56,3],[57,2,57,3],[109,2,144,5],[73,2,73,5],[66,2,66,3],[66,4,66,5],[67,2,67,3],[67,4,67,5],[72,2,72,5],[41,1,42,1],[71,2,71,5],[63,2,63,3],[63,4,63,5],[64,2,64,3],[64,4,64,5],[65,2,65,3],[65,4,65,5],[59,2,59,5],[60,2,60,3],[60,4,60,5],[61,2,61,3],[61,4,61,5],[62,2,62,3],[62,4,62,5],[46,2,46,3],[0,2,0,6],[12,3,12,5],[20,3,20,5],[35,2,35,3],[37,2,37,3],[5,3,5,4],[45,2,45,3],[21,3,21,5],[22,3,22,5],[23,3,23,5],[24,3,24,5],[39,2,39,3],[40,2,40,3],[41,2,42,3],[43,2,43,3],[44,2,44,3]]}
[null,null,{"$f":"\"Cotización Seguro de Hogar Flex \" & configuracion!$K$2","v":"Cotización Seguro de Hogar Flex Enero 2025"}]
[]
[null,null,"Vigencia de la cotización",{"$f":"TEXT(TODAY(),\"dd/mm/yyyy\") & \" - \" &  TEXT(TODAY()+15,\"dd/mm/yyyy\")","v":"25/03/2025 - 09/04/2025"}]
[null,null,"Fecha inicio de Vigencia",{"$f":"Cotizador!$L$6","v":"00:00:00"}]
[null,null,"Canal",{"$f":"Cotizador!$G$10","v":"Corredor"}]
[null,null,"Agente",{"$f":"Cotizador!R$10","v":0}]
[]
[null,null,"Datos del Contratante "]
[null,null,"Nombre del Contratante",{"$f":"Cotizador!$G$15 & \" \" & Cotizador!$M$15& \" \" & Cotizador!$R$15","v":"  "}]
[null,null,"Tipo de documento ",{"$f":"Cotizador!$G$14&\" \" &Cotizador!$M$14","v":" "}]
[null,null,null,null,null,"Descuento"]
[null,null,"Planes de Pago Prima",null,null,{"$f":"Cotizador!$M$40","v":0}]
[null,null,"Débito automático","Valores de la Cuota"]
[null,null,"Plan de pago  ","Prima Comercial","IGV","Prima Total"]
[null,null,"Prima anual + IGV sin intereses (referencial):",{"$f":"IF(Cotizador!$G$54=0,\"\",Cotizador!$G$54)","v":""},{"$f":"IF(Cotizador!$G$55=0,\"\",Cotizador!$G$55)","v":""},{"$f":"IF(Cotizador!$G$56=0,\"\",Cotizador!$G$56)","v":""}]
[null,null,"Prima anual + IGV sin intereses con descuento 15% (final):",{"$f":"IF(Cotizador!$L$54=0,\"\",Cotizador!$L$54)","v":""},{"$f":"IF(Cotizador!$L$55=0,\"\",Cotizador!$L$55)","v":""},{"$f":"IF(Cotizador!$L$56=0,\"\",Cotizador!$L$56)","v":""}]
[null,null,{"$f":"IF(Cotizador!$I$61=\"X\",Cotizador!$B$61,IF(Cotizador!$I$62=\"X\",Cotizador!$B$62,IF(Cotizador!$I$63=\"X\",Cotizador!$B$63,IF(Cotizador!$I$64=\"X\",Cotizador!$B$64,IF(Cotizador!$I$66=\"X\",Cotizador!$B$66,IF(Cotizador!$I$67=\"X\",Cotizador!$B$67,IF(Cotizador!$I$68=\"X\",Cotizador!$B$68,IF(Cotizador!$I$69=\"X\",Cotizador!$B$69,\"\"))))))))","v":""},{"$f":"IFERROR(F17/1.18,\"\")","v":""},{"$f":"IFERROR(F17-D17,\"\")","v":""},{"$f":"IF(Cotizador!$I$61=\"X\",Cotizador!$L$61,IF(Cotizador!$I$62=\"X\",Cotizador!$L$62,IF(Cotizador!$I$63=\"X\",Cotizador!$L$63,IF(Cotizador!$I$64=\"X\",Cotizador!$L$64,IF(Cotizador!$I$66=\"X\",Cotizador!$L$66,IF(Cotizador!$I$67=\"X\",Cotizador!$L$67,IF(Cotizador!$I$68=\"X\",Cotizador!$L$68,IF(Cotizador!$I$69=\"X\",Cotizador!$L$69,\"\"))))))))","v":""}]
[null,null,"Materia Asegurada",{"$f":"IF(Cotizador!$H$29=\"X\",Cotizador!$G$29,IF(Cotizador!$K$29=\"X\",Cotizador!$J$29,IF(Cotizador!$O$29=\"X\",Cotizador!$M$29)))","v":false}]
[]
[null,null,"Datos del Inmueble asegurado"]
[null,null,"Dirección",{"$f":"Cotizador!$G$22 & \" \" & Cotizador!G23","v":" "}]
[null,null,"Departamento",{"$f":"IF(Cotizador!$L$26=0,\"\",Cotizador!$L$26)","v":""}]
[null,null,"Provincia",{"$f":"IF(Cotizador!$G$26=0,\"\",Cotizador!$G$26)","v":""}]
[null,null,"Distrito",{"$f":"IF(Cotizador!$G$25=0,\"\",Cotizador!$G$25)","v":""}]
[null,null,"Tipo de Inmueble",{"$f":"IF(Cotizador!$E$34=\"X\",Cotizador!$B$34,IF(Cotizador!$E$35=\"X\",Cotizador!$B$35,\"\"))","v":""}]
[]
[null,null,"Modalidad de Aseguramiento",{"$f":"IF(Cotizador!$H$31=\"X\",Cotizador!$G$31,IF(Cotizador!$K$31=\"X\",Cotizador!$J$31,\"\"))","v":""}]
[]
[null,null,"Plan  contratado",{"$f":"IF(Cotizador!$G$29=\"PLAN BÁSICO\",\"Plan Básico\",IF(Cotizador!$G$29=\"PLAN FULL\",\"Plan Full\",\"Personalizado\"))","v":"Personalizado"}]
[]
[null,null,"Suma Asegurada"]
[null,null,"Suma Asegurada Inmueble",{"$f":"Cotizador!$G$40","v":0}]
[null,null,"Suma Asegurada Bienes",{"$f":"Cotizador!G41","v":0},"Valor Declarado Bienes",{"$f":"Cotizador!$G$39","v":0}]
[null,null,"Suma Asegurada Total (Inmueble + Bienes)",{"$f":"SUM(D32:D33)","v":0}]
[]
[null,null,"COBERTURAS  (solo BIENES)",null,"Límites asegurados por vigencia","Prima Comercial",null,null,"OK"]
[null,null,"Cobertura principal"]
[{"$f":"IF(LEN(B38)=0,\"hide\",\"\")","v":""},{"$f":"IF('VALOR TOTAL BIENES'!B12=0,\"\",'VALOR TOTAL BIENES'!B12)","v":"X"},"Incendio y/o rayo, explosión, incendio en aparatos eléctricos. Daños por agua, daños por humo, impacto de vehículos y/o aeronaves o daños por riesgos políticos y sociales",null,{"$f":"'VALOR TOTAL BIENES'!F12","v":0},{"$f":"'VALOR TOTAL BIENES'!G12","v":51.5}]
[{"$f":"IF(AND(A40=\"hide\",A41=\"hide\",A42=\"hide\",A43=\"hide\",A44=\"hide\",A45=\"hide\",A46=\"hide\"),\"hide\",\"\")","v":""},null,"Coberturas adicionales"]
[{"$f":"IF(LEN(B40)=0,\"hide\",\"\")","v":"hide"},{"$f":"IF('VALOR TOTAL BIENES'!B14=0,\"\",'VALOR TOTAL BIENES'!B14)","v":""},"Robo y/o daños por intento de robo (dentro y fuera de la vivienda a nivel nacional)",null,{"$f":"'VALOR TOTAL BIENES'!F14","v":0},{"$f":"'VALOR TOTAL BIENES'!G14","v":0}]
[{"$f":"IF(LEN(B41)=0,\"hide\",\"\")","v":"hide"},{"$f":"IF('VALOR TOTAL BIENES'!B15=0,\"\",'VALOR TOTAL BIENES'!B15)","v":""},"Robo y/o daños por intento de robo de joyas, platería, relojes, obras de arte, cámaras fotográficas o de video, laptops y bicicletas dentro de la vivienda o que estén siendo portados fuera de la vivienda. ",null,{"$f":"'VALOR TOTAL BIENES'!F15","v":"USD 10,000, sublímite de la cobertura de Robo"},{"$f":"'VALOR TOTAL BIENES'!G15","v":0}]
[{"$f":"IF(LEN(B42)=0,\"hide\",\"\")","v":"hide"},{"$f":"IF('VALOR TOTAL BIENES'!B16=0,\"\",'VALOR TOTAL BIENES'!B16)","v":""},"Terremoto, temblor, maremoto, Inundaciones y riesgos de la naturaleza",null,{"$f":"'VALOR TOTAL BIENES'!F16","v":0},{"$f":"'VALOR TOTAL BIENES'!G16","v":0}]
[{"$f":"IF(LEN(B42)=0,\"hide\",\"\")","v":"hide"},null,null,null,{"$f":"'VALOR TOTAL BIENES'!F17","v":"Suma asegurada que forma parte de la cobertura principal"},{"$f":"'VALOR TOTAL BIENES'!G17","v":0}]
[{"$f":"IF(LEN(B44)=0,\"hide\",\"\")","v":"hide"},{"$f":"IF('VALOR TOTAL BIENES'!B18=0,\"\",'VALOR TOTAL BIENES'!B18)","v":""},"Hurto",null,{"$f":"'VALOR TOTAL BIENES'!F18","v":"Hasta US$ 3,000 , sublímite de la cobertura de Robo"},{"$f":"'VALOR TOTAL BIENES'!G18","v":0}]
[{"$f":"IF(LEN(B45)=0,\"hide\",\"\")","v":"hide"},{"$f":"IF('VALOR TOTAL BIENES'!B19=0,\"\",'VALOR TOTAL BIENES'!B19)","v":""},"Deshonestidad de trabajadores del hogar",null,{"$f":"'VALOR TOTAL BIENES'!F19","v":"Hasta US$ 5,000 por evento, máximo 3 eventos por vigencia de la póliza, sublímite de la cobertura de Robo"},{"$f":"'VALOR TOTAL BIENES'!G19","v":0}]
[{"$f":"IF(LEN(B46)=0,\"hide\",\"\")","v":""},{"$f":"IF('VALOR TOTAL BIENES'!B20=0,\"\",'VALOR TOTAL BIENES'!B20)","v":"X"},"Gastos extraordinarios: remoción de escombros, honorarios profesionales y construcción de documentos y modelos ",null,{"$f":"'VALOR TOTAL BIENES'!F20","v":"Hasta el 20% de la suma asegurada de bienes, suma asegurada que forma parte de la cobertura principal"},{"$f":"'VALOR TOTAL BIENES'!G20","v":0}]
[{"$f":"IF(LEN($B$47)=0,\"hide\",\"\")","v":"hide"},{"$f":"IF('VALOR TOTAL BIENES'!B21=0,\"\",'VALOR TOTAL BIENES'!B21)","v":""},"Asistencias",null,null,null,null,null,"OK"]
[{"$f":"IF(LEN($B$47)=0,\"hide\",\"\")","v":"hide"},null,{"$f":"'VALOR TOTAL BIENES'!D22","v":"Envío y pago de Cerrajero por emergencia "},null,{"$f":"'VALOR TOTAL BIENES'!F22","v":"Hasta US$ 300 por evento, Máximo de 3 eventos"},{"$f":"'VALOR TOTAL BIENES'!G22","v":0}]
[{"$f":"IF(LEN($B$47)=0,\"hide\",\"\")","v":"hide"},null,{"$f":"'VALOR TOTAL BIENES'!D23","v":"Envío y pago de Gasfitero por emergencia "},null,{"$f":"'VALOR TOTAL BIENES'!F23","v":"Hasta US$ 300 por evento, Máximo de 3 eventos"}]
["hide",null,{"$f":"'VALOR TOTAL BIENES'!D24","v":"Envío y pago de Electricista por emergencia"},null,{"$f":"'VALOR TOTAL BIENES'!F24","v":"Hasta US$ 300 por evento, Máximo de 3 eventos"}]
["hide",null,{"$f":"'VALOR TOTAL BIENES'!D25","v":"Envío y pago de Vidriero por emergencia"},null,{"$f":"'VALOR TOTAL BIENES'!F25","v":"Hasta US$ 300 por evento, Máximo de 3 eventos"}]
["hide",null,{"$f":"'VALOR TOTAL BIENES'!D26","v":"Limpieza del inmueble asegurado a consecuencia de un siniestro"},null,{"$f":"'VALOR TOTAL BIENES'!F26","v":"Hasta US$ 500 por evento, Máximo de 3 eventos"}]
["hide",null,{"$f":"'VALOR TOTAL BIENES'!D27","v":"Servicio de Lavado de estores, roller, alfombras"},null,{"$f":"'VALOR TOTAL BIENES'!F27","v":"Hasta US$ 80 por evento, máximo de 1 evento, cubriendo la limpieza de una pieza."}]
["hide",null,{"$f":"'VALOR TOTAL BIENES'!D28","v":"Servicio de Lavado de colchón"},null,{"$f":"'VALOR TOTAL BIENES'!F28","v":"Hasta US$ 80 por evento, máximo de 1 evento, cubriendo la limpieza de una pieza."}]
["hide",null,{"$f":"'VALOR TOTAL BIENES'!D29","v":"Masajes  relajantes a domicilio durante 1 hora"},null,{"$f":"'VALOR TOTAL BIENES'!F29","v":"Hasta US$ 80 por evento, máximo de 1 evento, cubriendo la limpieza de una pieza."}]
["hide",null,{"$f":"'VALOR TOTAL BIENES'!D30","v":"Mozo a domicilio "},null,{"$f":"'VALOR TOTAL BIENES'!F30","v":"Hasta máximo de 3 eventos al año, con servicio una vez al mes."}]
["hide",null,{"$f":"'VALOR TOTAL BIENES'!D31","v":"Mantenimiento Preventivo de Línea Blanca"},null,{"$f":"'VALOR TOTAL BIENES'!F31","v":"Hasta US$ 75 por evento, máximo de 3 eventos, cubriendo la revisión de un equipo."}]
["hide",null,{"$f":"'VALOR TOTAL BIENES'!D32","v":"Orientación telefónica veterinaria para perros las 24H"},null,{"$f":"'VALOR TOTAL BIENES'!F32","v":"Sin límite"}]
["hide",null,{"$f":"'VALOR TOTAL BIENES'!D33","v":"Hospedaje de perros"},null,{"$f":"'VALOR TOTAL BIENES'!F33","v":"Hasta máximo de 3 eventos. Se considera 1 día de hospedaje por evento."}]
[null,null,"Deducibles:\nAplicables por evento/pérdida, en caso de discrepancia prevalece el mayor"]
[{"$f":"IF(LEN(B61)=0,\"hide\",\"\")","v":"hide"},{"$f":"IF('VALOR TOTAL BIENES'!B35=0,\"\",'VALOR TOTAL BIENES'!B35)","v":""},"Robo y/o daños por intento de robo",null,{"$f":"'VALOR TOTAL BIENES'!F35","v":"Hasta 10% del monto indemnizable, mínimo US$ 200"}]
["hide",{"$f":"IF('VALOR TOTAL BIENES'!B36=0,\"\",'VALOR TOTAL BIENES'!B36)","v":""},"Hurto",null,{"$f":"'VALOR TOTAL BIENES'!F36","v":"Hasta 10% del monto indemnizable, mínimo US$ 200"}]
["hide",{"$f":"IF('VALOR TOTAL BIENES'!B37=0,\"\",'VALOR TOTAL BIENES'!B37)","v":""},"Deshonestidad de trabajadores del hogar",null,{"$f":"'VALOR TOTAL BIENES'!F37","v":"Hasta 10% del monto indemnizable, mínimo US$ 200"}]
["hide",{"$f":"IF('VALOR TOTAL BIENES'!B38=0,\"\",'VALOR TOTAL BIENES'!B38)","v":""},"Terremoto / Maremoto",null,{"$f":"'VALOR TOTAL BIENES'!F38","v":"Hasta el 1% del límite asegurado, mínimo US$ 200"}]
["hide",{"$f":"IF('VALOR TOTAL BIENES'!B39=0,\"\",'VALOR TOTAL BIENES'!B39)","v":""},"Otros Riesgos de la Naturaleza (entre ellos lluvia, inundación, otros)",null,{"$f":"'VALOR TOTAL BIENES'!F39","v":"Hasta 10% del monto indemnizable, mínimo US$ 200"}]
["",{"$f":"IF('VALOR TOTAL BIENES'!B40=0,\"\",'VALOR TOTAL BIENES'!B40)","v":"X"},"Daños por agua",null,{"$f":"'VALOR TOTAL BIENES'!F40","v":"Hasta 10% del monto indemnizable, mínimo US$ 200"}]
["",{"$f":"IF('VALOR TOTAL BIENES'!B41=0,\"\",'VALOR TOTAL BIENES'!B41)","v":"X"},"Riesgos políticos y sociales",null,{"$f":"'VALOR TOTAL BIENES'!F41","v":"Hasta 10% del monto indemnizable, mínimo US$ 200"}]
[{"$f":"IF(LEN(B68)=0,\"hide\",\"\")","v":"hide"},{"$f":"IF('VALOR TOTAL BIENES'!B42=0,\"\",'VALOR TOTAL BIENES'!B42)","v":""},"Demás coberturas",null,{"$f":"'VALOR TOTAL BIENES'!F42","v":"Sin deducible"}]
[]
[]
[null,null,"Importante:",null,null,null,null,null,"OK"]
[null,null,"Si se encuentran discrepancias entre la presente cotización y los términos de la póliza, prevalecerán las condiciones de esta última."]
[null,null,"La presente cotización es válida por un plazo de 30 días calendarios contados a partir de la fecha de recepción de la misma. Luego de vencido dicho plazo la oferta contenida en la presente cotización quedará sin efecto legal alguno entre las partes."]
[null,null,"Se deja constancia expresa que, a potestad de la Compañía, la aceptación final del riesgo por parte de esta queda sujeta a la realización de la inspección, por parte de nuestro Departamento de Ingeniería o la persona autorizada para tal efecto, para verificar el efectivo estado del riesgo, así como el estricto cumplimiento por parte del Asegurado de las garantías que a mérito de dicha inspección establezca el Departamento de Ingeniería de la Compañía."]
[]
[null,null,"Consideraciones: ",null,null,null,null,null,"OK"]
[null,null,"-   La forma de entrega de la póliza es electrónica.     \n-   La forma de pago de la póliza es solo con afiliación al débito automático a una tarjeta de crédito o a una cuenta bancaria.\n-   La modalidad de aseguramiento que brinda este plan de seguros es a valor total. \n-   La cobertura principal comprende además cualquier otro riesgo, súbito e imprevisto, que no esté excluido explícitamente en las exclusiones de las Condiciones Generales y/o Cláusulas Adicionales de la Póliza.        \n-  Las coberturas señaladas en Coberturas Adicionales forman parte de la suma asegurada de la Cobertura Principal, es decir, cada indemnización que le paguemos por las coberturas adicionales, reducirá la suma asegurada de la cobertura principal, a excepción de la cobertura adicional Responsabilidad civil frente a terceros, la cual es independiente a la suma asegurada de la cobertura principal.         \n-  La cobertura de la póliza en cuanto a pérdida o daños causados por agua que inunde, descargue o derrame de cualquier instalación de agua o desagüe de otros elementos líquidos; no comprenderá el costo de reparar el desperfecto que originó tal pérdida o daño.   \n-   Este seguro no otorga cobertura cuando en el inmueble se realiza cualquier actividad o giro comercial diferente al de casa habitación.       \n-   Este seguro se renovará automáticamente, es decir, en las mismas condiciones vigentes en el periodo anterior.          \n-   Para la cobertura de Robo y/o daños por intento de robo de Joyas y platería se define lo siguiente: Objetos y/o adornos de uso personal elaborados en oro, plata, platino, perlas y que pueden llevar o no incrustadas piedras preciosas de origen biológico o mineral, tanto si están engastadas como si no. También se considera a cualquier objeto ornamental o de uso doméstico elaborado con los materiales enumerados en el párrafo anterior.    \n-   El ASEGURADO deberá presentar una relación detallada, a ser actualizada mínimo cada dos años, de los bienes cuyo valor unitario excedan los S/ 5,000. En caso de siniestro, esta relación de bienes es el sustento de la pre-existencia de cada bien declarado. En caso de no cumplir con lo anterior o para bienes afectados no incluidos en la relación presentada, el Asegurado deberá demostrarnos la pre-existencia de los bienes afectados en el siniestro, a través de comprobantes de pago y/o constancia visual (fotografías, video, manuales de uso o similares) en donde se muestre el artículo en el interior del Inmueble asegurado o a la persona usando dicho artículo.    \n-   En caso de robo: Se mantiene la exigencia de la denuncia policial, pero se manejará a discreción cada caso hasta por un monto máximo de siniestro de S/ 30,000, siniestros por encima de este monto deberán presentar denuncia policial de manera obligatoria.    \n-  Las asistencias están disponibles los 365 días del año en las siguientes ciudades:  \n•      Lima Metropolitana exceptuando Ancón, Punta Hermosa, San Bartolo, Santa María y Pucusana.\n•      Trujillo: En los distritos de Trujillo, Victor Larco, Moche y Huanchaco. \n•      Chiclayo: En los distritos de Chiclayo, La Victoria, José Leonardo Ortiz, Pimentel.  \n•      Piura: En los distritos de Piura, Castilla, Catacaos.      \n•      Arequipa: En los distritos de Arequipa (Cercado), Yanahuara, Cayma, Sachaca, José Luis Bustamante y Rivero, Cerro Colorado.        \n•      Cusco: En los distritos de Cusco, San Jerónimo, San Sebastián, Santiago, Wanchaq.  \n Aplican y deben aparecer tanto para a primer riesgo como para valor total "]
[]
[]
[]
[]
[]
[]
[]
[]
[]
[]
[]
[]
[]
[]
[]
[]
[]
[]
[]
[]
[]
[]
[]
[]
[]
[]
[]
[]
[]
[]
[]
[null,null,"Exlusiones: ",null,null,null,null,null,"OK"]
[null,null,"Tenga en cuenta que no pagaremos la reparación del desperfecto ni del bien que originó el daño, como tampoco ninguna pérdida o daño proveniente o que sean causa de, o en conexión con, o atribuibles principalmente a:        \na)      Dolo, culpa grave o negligencia inexcusable del CONTRATANTE o de USTED y/o del BENEFICIARIO y/o ENDOSATARIO o de los familiares de cualquiera de ellos, o de sus dependientes, especialmente de los responsables de la seguridad de los BIENES asegurados.   \nb)      Guerra, Guerra Civil, invasión, acto de enemigo extranjero, hostilidades u operaciones de guerra, declarada o no.          \nc)       Desgaste o deterioro paulatino o fatiga de material, causado por, o resultado de, el uso y funcionamiento del bien; uso o deterioro gradual; deficiencias de rendimiento o capacidad; polución, contaminación; corrosión, erosión; herrumbre u oxidación; hongos, moho húmedo o seco, combustión espontánea, fermentación; humedad, sequedad, smog o cambios de temperatura; asentamiento o contracción o expansión de edificios o cimientos; la calefacción o la desecación a que hubieran sido sometidos los objetos que forman parte de la Materia Asegurada.  \nd)      Hundimientos, desplazamientos, agrietamientos o asentamientos de muros, pisos, techos, pavimentos, cimientos, muros de contención. Sin embargo, si estos daños son causados por los eventos de Terremoto, Temblor, Erupción Volcánica o Maremoto para los cuales se haya contratado amparo bajo la presente póliza, no se aplicará esta exclusión.     \ne)      Todo gasto o costo para implementar modificaciones o mejoras, o por mantenimiento, o para hacer otras reparaciones o arreglos, en el INMUEBLE y/o BIENES dañados o afectados; así como los gastos o costos de cualquier reparación provisional, a menos que constituyan, a la vez, parte de los gastos de la reparación definitiva amparada por la póliza.     \nf)        Valor atribuido a los BIENES por razones sentimentales o simbólicas, por afición, por antigüedad, o por exclusividad.         \ng)      Pérdida o daño ocurrido cuando el INMUEBLE esté deshabitado y/o cuando los BIENES se hallen en el INMUEBLE deshabitado; en ambos casos durante más de noventa (90) días consecutivos.  \nLas demás exclusiones se encuentran en el acápite 3 de las Condiciones Generales de la Póliza. Aplican exclusiones específicas a la cobertura que se contrate, detalladas en su respectiva Cláusula Adicional.           \nBienes excluidos:          \na)      INMUEBLE y/o BIENES con cualquier actividad o giro diferente al de casa habitación. \nb)      Animales vivos de cualquier tipo.      \nc)       Plantaciones, cultivos, cosechas de cualquier tipo, invernaderos, bosques, selvas, monte bajo, praderas, pampas, árboles, parques, prados, jardines naturales y ornamentales, agua.  \nd)      INMUEBLES y/o BIENES en proceso de construcción, reconstrucción, montaje o desmontaje.\ne)      Vehículos motorizados con una placa de rodaje, equipos flotantes o submarinos, aeronaves o artefactos aéreos, embarcaciones, naves acuáticas; de cualquier tipo y tamaño.  \nf)    BIENES de cualquier tipo que sean propiedad de terceros aun cuando dichos BIENES se encuentren bajo custodia y/o posesión del Asegurado.      \ng)      Material pirotécnico, explosivos, combustibles, mechas, fulminantes, detonadores y similares.\nh)      BIENES situados o instalados u operando o trabajando o siendo usados en él, o a las orillas del, mar, río, lago o laguna, en subterráneos, o debajo del nivel de la superficie terrestre.  \ni)        Dinero en efectivo, títulos valores.       \nj)       Cualquier tipo de contenido o bien para fines comerciales, de la profesión u ocupación o de negocios de USTED, de cualquier miembro de su familia, por medio de los cuales obtengan un lucro."]

{"sheet":"CotizacionInmuebleyBienesVT","index":13,"n_rows":121,"n_cols":9,"rows_kept":121,"cut":false,"hidden":true,"merged":[[60,2,60,3],[60,4,60,5],[75,2,75,3],[75,4,75,6],[55,6,66,6],[61,2,61,3],[61,4,61,5],[62,2,62,3],[63,2,63,3],[64,2,64,3],[65,2,65,3],[66,2,66,3],[63,4,63,5],[64,4,64,5],[65,4,65,5],[66,4,66,5],[76,4,76,6],[70,2,70,3],[70,4,70,6],[68,2,68,3],[68,4,68,6],[71,2,71,3],[71,4,71,6],[87,2,117,6],[120,2,155,6],[84,2,84,6],[83,2,83,6],[72,2,72,3],[72,4,72,6],[73,2,73,3],[73,4,73,6],[74,2,74,3],[74,4,74,6],[77,2,77,3],[77,4,77,6],[78,2,78,3],[78,4,78,6],[82,2,82,6],[76,2,76,3],[54,4,54,5],[54,2,54,3],[67,2,67,6],[69,2,69,3],[69,4,69,6],[55,2,55,3],[55,4,55,5],[56,2,56,3],[56,4,56,5],[57,2,57,3],[57,4,57,5],[58,2,58,3],[58,4,58,5],[59,2,59,3],[59,4,59,5],[62,4,62,5],[51,2,51,3],[51,4,51,5],[52,2,52,3],[52,4,52,5],[53,2,53,3],[53,4,53,5],[50,4,50,5],[43,1,44,1],[43,2,44,3],[43,4,43,5],[43,6,44,6],[44,4,44,5],[45,2,45,3],[45,4,45,5],[46,2,46,3],[47,2,47,3],[48,2,48,3],[49,2,49,3],[50,2,50,3],[39,1,40,1],[39,2,40,3],[39,6,40,6],[41,1,42,1],[41,2,42,3],[41,5,42,5],[41,6,42,6],[37,2,37,3],[0,2,0,6],[12,3,12,5],[20,3,20,5],[35,2,35,3],[35,6,36,6],[21,3,21,5],[22,3,22,5],[23,3,23,5],[24,3,24,5],[5,3,5,4]]}
[null,null,{"$f":"\"Cotización Seguro de Hogar Flex \" & configuracion!$K$2","v":"Cotización Seguro de Hogar Flex Enero 2025"}]
[]
[null,null,"Vigencia de la cotización",{"$f":"TEXT(TODAY(),\"dd/mm/yyyy\") & \" - \" &  TEXT(TODAY()+15,\"dd/mm/yyyy\")","v":"25/03/2025 - 09/04/2025"}]
[null,null,"Fecha inicio de Vigencia",{"$f":"Cotizador!$L$6","v":"00:00:00"}]
[null,null,"Canal",{"$f":"Cotizador!$G$10","v":"Corredor"}]
[null,null,"Agente",{"$f":"Cotizador!R$10","v":0}]
[]
[null,null,"Datos del Contratante "]
[null,null,"Nombre del Contratante",{"$f":"Cotizador!$G$15 & \" \" & Cotizador!$M$15& \" \" & Cotizador!$R$15","v":"  "}]
[null,null,"Tipo de documento ",{"$f":"Cotizador!$G$14&\" \" &Cotizador!$M$14","v":" "}]
[null,null,null,null,null,"Descuento"]
[null,null,"Planes de Pago Prima",null,null,{"$f":"Cotizador!$M$40","v":0}]
[null,null,"Débito automático","Valores de la Cuota"]
[null,null,"Plan de pago  ","Prima Comercial","IGV","Prima Total"]
[null,null,"Prima anual + IGV sin intereses:",{"$f":"IF(Cotizador!$G$54=0,\"\",Cotizador!$G$54)","v":""},{"$f":"IF(Cotizador!$G$55=0,\"\",Cotizador!$G$55)","v":""},{"$f":"IF(Cotizador!$G$56=0,\"\",Cotizador!$G$56)","v":""}]
[null,null,"Prima anual + IGV sin intereses:",{"$f":"IF(Cotizador!$L$54=0,\"\",Cotizador!$L$54)","v":""},{"$f":"IF(Cotizador!$L$55=0,\"\",Cotizador!$L$55)","v":""},{"$f":"IF(Cotizador!$L$56=0,\"\",Cotizador!$L$56)","v":""}]
[null,null,{"$f":"IF(Cotizador!$I$61=\"X\",Cotizador!$B$61,IF(Cotizador!$I$62=\"X\",Cotizador!$B$62,IF(Cotizador!$I$63=\"X\",Cotizador!$B$63,IF(Cotizador!$I$64=\"X\",Cotizador!$B$64,IF(Cotizador!$I$66=\"X\",Cotizador!$B$66,IF(Cotizador!$I$67=\"X\",Cotizador!$B$67,IF(Cotizador!$I$68=\"X\",Cotizador!$B$68,IF(Cotizador!$I$69=\"X\",Cotizador!$B$69,\"\"))))))))","v":""},{"$f":"IFERROR(F17/1.18,\"\")","v":""},{"$f":"IFERROR(F17-D17,\"\")","v":""},{"$f":"IF(Cotizador!$I$61=\"X\",Cotizador!$J$61,IF(Cotizador!$I$62=\"X\",Cotizador!$J$62,IF(Cotizador!$I$63=\"X\",Cotizador!$J$63,IF(Cotizador!$I$64=\"X\",Cotizador!$J$64,IF(Cotizador!$I$66=\"X\",Cotizador!$J$66,IF(Cotizador!$I$67=\"X\",Cotizador!$J$67,IF(Cotizador!$I$68=\"X\",Cotizador!$J$68,IF(Cotizador!$I$69=\"X\",Cotizador!$J$69,\"\"))))))))","v":""}]
[null,null,"Materia Asegurada",{"$f":"IF(Cotizador!$H$29=\"X\",Cotizador!$G$29,IF(Cotizador!$K$29=\"X\",Cotizador!$J$29,IF(Cotizador!$O$29=\"X\",Cotizador!$M$29)))","v":false}]
[]
[null,null,"Datos del Inmueble asegurado"]
[null,null,"Dirección",{"$f":"Cotizador!$G$22 & \" \" & Cotizador!G23","v":" "}]
[null,null,"Departamento",{"$f":"IF(Cotizador!$L$26=0,\"\",Cotizador!$L$26)","v":""}]
[null,null,"Provincia",{"$f":"IF(Cotizador!$G$26=0,\"\",Cotizador!$G$26)","v":""}]
[null,null,"Distrito",{"$f":"IF(Cotizador!$G$25=0,\"\",Cotizador!$G$25)","v":""}]
[null,null,"Tipo de Inmueble",{"$f":"IF(Cotizador!$E$34=\"X\",Cotizador!$B$34,IF(Cotizador!$E$35=\"X\",Cotizador!$B$35,\"\"))","v":""}]
[]
[null,null,"Modalidad de Aseguramiento",{"$f":"IF(Cotizador!$H$31=\"X\",Cotizador!$G$31,IF(Cotizador!$K$31=\"X\",Cotizador!$J$31,\"\"))","v":""}]
[]
[null,null,"Plan  contratado",{"$f":"IF(Cotizador!$G$29=\"PLAN BÁSICO\",\"Plan Básico\",IF(Cotizador!$G$29=\"PLAN FULL\",\"Plan Full\",\"Personalizado\"))","v":"Personalizado"}]
[]
[null,null,"Sumas Aseguradas "]
[null,null,"Suma Asegurada Inmueble",{"$f":"Cotizador!$G$40","v":0},"Valor Declarado Inmueble",{"$f":"Cotizador!$G$38","v":0}]
[null,null,"Suma Asegurada Bienes",{"$f":"Cotizador!G41","v":0},"Valor Declarado Bienes",{"$f":"Cotizador!$G$39","v":0}]
[null,null,"Suma Asegurada Total (Inmueble + Bienes)",{"$f":"SUM(D32:D33)","v":0}]
[]
[null,null,"COBERTURAS  (INMUEBLE Y BIENES)",null,"Límites asegurados por vigencia, hasta","Límites asegurados por vigencia, hasta","Prima Comercial",null,"OK"]
[null,null,"Cobertura principal",null,"INMUEBLE","BIENES"]
[{"$f":"IF(LEN(B38)=0,\"hide\",\"\")","v":""},{"$f":"IF('VALOR TOTAL INMUEBLE +BIENES'!B12=0,\"\",'VALOR TOTAL INMUEBLE +BIENES'!B12)","v":"X"},"Incendio y/o rayo, explosión, incendio en aparatos eléctricos. Daños por agua, daños por humo, impacto de vehículos y/o aeronaves o daños por riesgos políticos y sociales",null,{"$f":"'VALOR TOTAL INMUEBLE +BIENES'!F12","v":0},{"$f":"'VALOR TOTAL INMUEBLE +BIENES'!G12","v":0},{"$f":"'VALOR TOTAL INMUEBLE +BIENES'!H12","v":114.8605}]
[{"$f":"IF(AND(A40=\"hide\",A41=\"hide\",A42=\"hide\",A43=\"hide\",A44=\"hide\",A45=\"hide\",A46=\"hide\",A47=\"hide\",A48=\"hide\",A49=\"hide\",A50=\"hide\",A51=\"hide\",A52=\"hide\",A53=\"hide\",A54=\"hide\"),\"hide\",\"\")","v":""},null,"Coberturas adicionales"]
[{"$f":"IF(LEN(B40)=0,\"hide\",\"\")","v":""},{"$f":"IF('VALOR TOTAL INMUEBLE +BIENES'!B14=0,\"\",'VALOR TOTAL INMUEBLE +BIENES'!B14)","v":"X"},"Terremoto, temblor, maremoto, Inundaciones y riesgos de la naturaleza",null,{"$f":"'VALOR TOTAL INMUEBLE +BIENES'!F14","v":0},{"$f":"'VALOR TOTAL INMUEBLE +BIENES'!G14","v":0},{"$f":"'VALOR TOTAL INMUEBLE +BIENES'!H14","v":447.79}]
[{"$f":"IF(LEN(B40)=0,\"hide\",\"\")","v":""},null,null,null,"Suma asegurada que forma parte de la cobertura principal","Suma asegurada que forma parte de la cobertura principal"]
[{"$f":"IF(LEN(B42)=0,\"hide\",\"\")","v":""},{"$f":"IF('VALOR TOTAL INMUEBLE +BIENES'!B16=0,\"\",'VALOR TOTAL INMUEBLE +BIENES'!B16)","v":"X"},"Responsabilidad civil frente a terceros",null,{"$f":"'VALOR TOTAL INMUEBLE +BIENES'!F16","v":0},{"$f":"'VALOR TOTAL INMUEBLE +BIENES'!G16","v":"-"},{"$f":"'VALOR TOTAL INMUEBLE +BIENES'!H16","v":2.0299999999999998}]
[{"$f":"IF(LEN(B42)=0,\"hide\",\"\")","v":""},null,null,null,{"$f":"coberturasyClausulas!$J$64","v":" máximo US$ 200,000"}]
[{"$f":"IF(LEN(B44)=0,\"hide\",\"\")","v":""},{"$f":"IF('VALOR TOTAL INMUEBLE +BIENES'!B18=0,\"\",'VALOR TOTAL INMUEBLE +BIENES'!B18)","v":"X"},"Rotura accidental de vidrio y/o cristales",null,{"$f":"'VALOR TOTAL INMUEBLE +BIENES'!F18","v":"US$ 3,000"},null,{"$f":"'VALOR TOTAL INMUEBLE +BIENES'!H18","v":4.46}]
[{"$f":"IF(LEN(B44)=0,\"hide\",\"\")","v":""},null,null,null,"Suma asegurada que forma parte de la cobertura principal"]
[{"$f":"IF(LEN(B46)=0,\"hide\",\"\")","v":"hide"},{"$f":"IF('VALOR TOTAL INMUEBLE +BIENES'!B20=0,\"\",'VALOR TOTAL INMUEBLE +BIENES'!B20)","v":""},"Robo o intento de robo de instalaciones fijas",null,{"$f":"'VALOR TOTAL INMUEBLE +BIENES'!F20","v":"20% de la suma asegurada de inmueble, máximo US$ 5,000 , suma asegurada que forma parte de la cobertura principal"},null,{"$f":"'VALOR TOTAL INMUEBLE +BIENES'!H20","v":0.36}]
[{"$f":"IF(LEN(B47)=0,\"hide\",\"\")","v":"hide"},{"$f":"IF('VALOR TOTAL INMUEBLE +BIENES'!B21=0,\"\",'VALOR TOTAL INMUEBLE +BIENES'!B21)","v":""},"Robo y/o daños por intento de robo (dentro y fuera de la vivienda a nivel nacional)",null,{"$f":"'VALOR TOTAL INMUEBLE +BIENES'!F21","v":"-"},{"$f":"'VALOR TOTAL INMUEBLE +BIENES'!G21","v":0},{"$f":"'VALOR TOTAL INMUEBLE +BIENES'!H21","v":45.25}]
["hide",{"$f":"IF('VALOR TOTAL INMUEBLE +BIENES'!B22=0,\"\",'VALOR TOTAL INMUEBLE +BIENES'!B22)","v":""},"Robo y/o daños por intento de robo de joyas, platería, relojes, obras de arte, cámaras fotográficas o de video, laptops y bicicletas dentro de la vivienda o que estén siendo portados fuera de la vivienda. ",null,{"$f":"'VALOR TOTAL INMUEBLE +BIENES'!F22","v":"-"},{"$f":"'VALOR TOTAL INMUEBLE +BIENES'!G22","v":"USD 10,000, sublímite de la cobertura de Robo"},{"$f":"'VALOR TOTAL INMUEBLE +BIENES'!H22","v":4.37}]
["hide",{"$f":"IF('VALOR TOTAL INMUEBLE +BIENES'!B23=0,\"\",'VALOR TOTAL INMUEBLE +BIENES'!B23)","v":""},"Hurto",null,{"$f":"'VALOR TOTAL INMUEBLE +BIENES'!F23","v":"-"},{"$f":"'VALOR TOTAL INMUEBLE +BIENES'!G23","v":"US$ 3,000 , sublímite de la cobertura de Robo"},{"$f":"'VALOR TOTAL INMUEBLE +BIENES'!H23","v":4.96}]
["hide",{"$f":"IF('VALOR TOTAL INMUEBLE +BIENES'!B24=0,\"\",'VALOR TOTAL INMUEBLE +BIENES'!B24)","v":""},"Deshonestidad de trabajadores del hogar",null,{"$f":"'VALOR TOTAL INMUEBLE +BIENES'!F24","v":"-"},{"$f":"'VALOR TOTAL INMUEBLE +BIENES'!G24","v":"US$ 5,000 por evento, máximo 3 eventos por vigencia de la póliza, sublímite de la cobertura de Robo"},{"$f":"'VALOR TOTAL INMUEBLE +BIENES'!H24","v":0}]
["hide",{"$f":"IF('VALOR TOTAL INMUEBLE +BIENES'!B25=0,\"\",'VALOR TOTAL INMUEBLE +BIENES'!B25)","v":""},"Reembolso de gastos médicos por accidentes de trabajadores del hogar, ocurridos dentro del inmueble",null,{"$f":"'VALOR TOTAL INMUEBLE +BIENES'!F25","v":"US$ 5,000 por evento, máximo 3 eventos por vigencia de la póliza"},"Hasta US$ 5,000 / S/ 15,000 por evento, máximo 3 eventos por vigencia de la póliza",{"$f":"'VALOR TOTAL INMUEBLE +BIENES'!H25","v":0}]
["",{"$f":"IF('VALOR TOTAL INMUEBLE +BIENES'!B26=0,\"\",'VALOR TOTAL INMUEBLE +BIENES'!B26)","v":"X"},"Gastos de arrendamiento de vivienda temporal a reembolso",null,{"$f":"'VALOR TOTAL INMUEBLE +BIENES'!F26","v":"US$ 2,000 mensuales, máximo 6 meses por vigencia de la póliza, suma asegurada que forma parte de la cobertura principal"},"Hasta US$ 5,000 / S/ 15,000 por evento, máximo 3 eventos por vigencia de la póliza",{"$f":"'VALOR TOTAL INMUEBLE +BIENES'!H26","v":0}]
["hide",{"$f":"IF('VALOR TOTAL INMUEBLE +BIENES'!B27=0,\"\",'VALOR TOTAL INMUEBLE +BIENES'!B27)","v":""},"Alquiler no percibido por inmueble inhabitable temporalmente (aplica solo para el arrendador)",null,{"$f":"'VALOR TOTAL INMUEBLE +BIENES'!F27","v":"US$ 2,000 mensuales, máximo 6 meses por vigencia de la póliza, suma asegurada que forma parte de la cobertura principal"},"Hasta US$ 5,000 / S/ 15,000 por evento, máximo 3 eventos por vigencia de la póliza",{"$f":"'VALOR TOTAL INMUEBLE +BIENES'!H27","v":0}]
["",{"$f":"IF('VALOR TOTAL INMUEBLE +BIENES'!B28=0,\"\",'VALOR TOTAL INMUEBLE +BIENES'!B28)","v":"X"},"Gastos extraordinarios: remoción de escombros, honorarios profesionales y construcción de documentos y modelos ",null,{"$f":"'VALOR TOTAL INMUEBLE +BIENES'!F28","v":"20% de la suma asegurada de inmueble y/o bienes, suma asegurada que forma parte de la cobertura principal"},"Hasta US$ 5,000 / S/ 15,000 por evento, máximo 3 eventos por vigencia de la póliza",{"$f":"'VALOR TOTAL INMUEBLE +BIENES'!H28","v":0}]
[{"$f":"IF(LEN($B$55)=0,\"hide\",\"\")","v":""},{"$f":"IF('VALOR TOTAL INMUEBLE +BIENES'!B29=0,\"\",'VALOR TOTAL INMUEBLE +BIENES'!B29)","v":"X"},"Asistencias",null,null,null,null,null,"OK"]
[{"$f":"IF(LEN($B$55)=0,\"hide\",\"\")","v":""},null,{"$f":"'VALOR TOTAL INMUEBLE +BIENES'!D30","v":"Envío y pago de Cerrajero por emergencia "},null,{"$f":"'VALOR TOTAL INMUEBLE +BIENES'!F30","v":"Hasta US$ 300 por evento, Máximo de 3 eventos"},null,{"$f":"'VALOR TOTAL INMUEBLE +BIENES'!H30","v":5.75}]
[{"$f":"IF(LEN($B$55)=0,\"hide\",\"\")","v":""},null,{"$f":"'VALOR TOTAL INMUEBLE +BIENES'!D31","v":"Envío y pago de Gasfitero por emergencia "},null,{"$f":"'VALOR TOTAL INMUEBLE +BIENES'!F31","v":"Hasta US$ 300 por evento, Máximo de 3 eventos"}]
[{"$f":"IF(LEN($B$55)=0,\"hide\",\"\")","v":""},null,{"$f":"'VALOR TOTAL INMUEBLE +BIENES'!D32","v":"Envío y pago de Electricista por emergencia"},null,{"$f":"'VALOR TOTAL INMUEBLE +BIENES'!F32","v":"Hasta US$ 300 por evento, Máximo de 3 eventos"}]
[{"$f":"IF(LEN($B$55)=0,\"hide\",\"\")","v":""},null,{"$f":"'VALOR TOTAL INMUEBLE +BIENES'!D33","v":"Envío y pago de Vidriero por emergencia"},null,{"$f":"'VALOR TOTAL INMUEBLE +BIENES'!F33","v":"Hasta US$ 300 por evento, Máximo de 3 eventos"}]
[{"$f":"IF(LEN($B$55)=0,\"hide\",\"\")","v":""},null,{"$f":"'VALOR TOTAL INMUEBLE +BIENES'!D34","v":"Limpieza del inmueble asegurado a consecuencia de un siniestro"},null,{"$f":"'VALOR TOTAL INMUEBLE +BIENES'!F34","v":"Hasta US$ 500 por evento, Máximo de 3 eventos"}]
[{"$f":"IF(LEN($B$55)=0,\"hide\",\"\")","v":""},null,{"$f":"'VALOR TOTAL INMUEBLE +BIENES'!D35","v":"Servicio de Lavado de estores, roller, alfombras"},null,{"$f":"'VALOR TOTAL INMUEBLE +BIENES'!F35","v":"Hasta US$ 80 por evento, máximo de 1 evento, cubriendo la limpieza de una pieza."}]
[null,null,{"$f":"'VALOR TOTAL INMUEBLE +BIENES'!D36","v":"Servicio de Lavado de colchón"},null,{"$f":"'VALOR TOTAL INMUEBLE +BIENES'!F36","v":"Hasta US$ 80 por evento, máximo de 1 evento, cubriendo la limpieza de una pieza."}]
[null,null,{"$f":"'VALOR TOTAL INMUEBLE +BIENES'!D37","v":"Masajes  relajantes a domicilio durante 1 hora"},null,{"$f":"'VALOR TOTAL INMUEBLE +BIENES'!F37","v":"Hasta US$ 80 por evento, máximo de 1 evento, cubriendo la limpieza de una pieza."}]
[null,null,{"$f":"'VALOR TOTAL INMUEBLE +BIENES'!D38","v":"Mozo a domicilio "},null,{"$f":"'VALOR TOTAL INMUEBLE +BIENES'!F38","v":"Hasta máximo de 3 eventos al año, con servicio una vez al mes."}]
[null,null,{"$f":"'VALOR TOTAL INMUEBLE +BIENES'!D39","v":"Mantenimiento Preventivo de Línea Blanca"},null,{"$f":"'VALOR TOTAL INMUEBLE +BIENES'!F39","v":"Hasta US$ 75 por evento, máximo de 3 eventos, cubriendo la revisión de un equipo."}]
[{"$f":"IF(LEN($B$55)=0,\"hide\",\"\")","v":""},null,{"$f":"'VALOR TOTAL INMUEBLE +BIENES'!D40","v":"Orientación telefónica veterinaria para perros las 24H"},null,{"$f":"'VALOR TOTAL INMUEBLE +BIENES'!F40","v":"Sin límite"}]
["",null,{"$f":"'VALOR TOTAL INMUEBLE +BIENES'!D41","v":"Hospedaje de perros"},null,{"$f":"'VALOR TOTAL INMUEBLE +BIENES'!F41","v":"Hasta máximo de 3 eventos. Se considera 1 día de hospedaje por evento."}]
[null,null,"Deducibles:\nAplicables por evento/pérdida, en caso de discrepancia prevalece el mayor",null,null,null,null,null,"OK"]
[{"$f":"IF(LEN(B69)=0,\"hide\",\"\")","v":""},{"$f":"IF('VALOR TOTAL INMUEBLE +BIENES'!B43=0,\"\",'VALOR TOTAL INMUEBLE +BIENES'!B43)","v":"X"},"Terremoto / Maremoto",null,{"$f":"'VALOR TOTAL INMUEBLE +BIENES'!F43","v":"Hasta el 1% del límite asegurado, mínimo US$ 200"}]
[{"$f":"IF(LEN(B70)=0,\"hide\",\"\")","v":""},{"$f":"IF('VALOR TOTAL INMUEBLE +BIENES'!B44=0,\"\",'VALOR TOTAL INMUEBLE +BIENES'!B44)","v":"X"},"Otros Riesgos de la Naturaleza (entre ellos lluvia, inundación, otros)",null,{"$f":"'VALOR TOTAL INMUEBLE +BIENES'!F44","v":"Hasta 10% del monto indemnizable, mínimo US$ 200"}]
["",{"$f":"IF('VALOR TOTAL INMUEBLE +BIENES'!B45=0,\"\",'VALOR TOTAL INMUEBLE +BIENES'!B45)","v":"X"},"Daños por agua",null,{"$f":"'VALOR TOTAL INMUEBLE +BIENES'!F45","v":"Hasta 10% del monto indemnizable, mínimo US$ 200"}]
["",{"$f":"IF('VALOR TOTAL INMUEBLE +BIENES'!B46=0,\"\",'VALOR TOTAL INMUEBLE +BIENES'!B46)","v":"X"},"Riesgos políticos y sociales",null,{"$f":"'VALOR TOTAL INMUEBLE +BIENES'!F46","v":"Hasta 10% del monto indemnizable, mínimo US$ 200"}]
["",{"$f":"IF('VALOR TOTAL INMUEBLE +BIENES'!B47=0,\"\",'VALOR TOTAL INMUEBLE +BIENES'!B47)","v":"X"},"Responsabilidad civil frente a terceros",null,{"$f":"'VALOR TOTAL INMUEBLE +BIENES'!F47","v":"Hasta 10% del monto indemnizable, mínimo US$ 200"}]
["",{"$f":"IF('VALOR TOTAL INMUEBLE +BIENES'!B48=0,\"\",'VALOR TOTAL INMUEBLE +BIENES'!B48)","v":"X"},"Rotura accidental de vidrio y/o cristales",null,{"$f":"'VALOR TOTAL INMUEBLE +BIENES'!F48","v":"Hasta 10% del monto indemnizable, mínimo US$ 200"}]
["hide",{"$f":"IF('VALOR TOTAL INMUEBLE +BIENES'!B49=0,\"\",'VALOR TOTAL INMUEBLE +BIENES'!B49)","v":""},"Robo o intento de robo de instalaciones fijas",null,{"$f":"'VALOR TOTAL INMUEBLE +BIENES'!F49","v":"Hasta 10% del monto indemnizable, mínimo US$ 200"}]
["hide",{"$f":"IF('VALOR TOTAL INMUEBLE +BIENES'!B50=0,\"\",'VALOR TOTAL INMUEBLE +BIENES'!B50)","v":""},"Robo y/o daños por intento de robo",null,{"$f":"'VALOR TOTAL INMUEBLE +BIENES'!F50","v":"Hasta 10% del monto indemnizable, mínimo US$ 200"}]
["hide",{"$f":"IF('VALOR TOTAL INMUEBLE +BIENES'!B51=0,\"\",'VALOR TOTAL INMUEBLE +BIENES'!B51)","v":""},"Hurto",null,{"$f":"'VALOR TOTAL INMUEBLE +BIENES'!F51","v":"Hasta 10% del monto indemnizable, mínimo US$ 200"}]
["hide",{"$f":"IF('VALOR TOTAL INMUEBLE +BIENES'!B52=0,\"\",'VALOR TOTAL INMUEBLE +BIENES'!B52)","v":""},"Deshonestidad de trabajadores del hogar",null,{"$f":"'VALOR TOTAL INMUEBLE +BIENES'!F52","v":"Hasta 10% del monto indemnizable, mínimo US$ 200"}]
["",{"$f":"IF('VALOR TOTAL INMUEBLE +BIENES'!B53=0,\"\",'VALOR TOTAL INMUEBLE +BIENES'!B53)","v":"X"},"Demás coberturas",null,{"$f":"'VALOR TOTAL INMUEBLE +BIENES'!F53","v":"Sin deducible"}]
[]
[]
[null,null,"Importante:",null,null,null,null,null,"OK"]
[null,null,"Si se encuentran discrepancias entre la presente cotización y los términos de la póliza, prevalecerán las condiciones de esta última."]
[null,null,"La presente cotización es válida por un plazo de 30 días calendarios contados a partir de la fecha de recepción de la misma. Luego de vencido dicho plazo la oferta contenida en la presente cotización quedará sin efecto legal alguno entre las partes."]
[null,null,"Se deja constancia expresa que, a potestad de la Compañía, la aceptación final del riesgo por parte de esta queda sujeta a la realización de la inspección, por parte de nuestro Departamento de Ingeniería o la persona autorizada para tal efecto, para verificar el efectivo estado del riesgo, así como el estricto cumplimiento por parte del Asegurado de las garantías que a mérito de dicha inspección establezca el Departamento de Ingeniería de la Compañía."]
[]
[null,null,"Consideraciones: ",null,null,null,null,null,"OK"]
[null,null,"-   La forma de entrega de la póliza es electrónica.     \n-   La forma de pago de la póliza es solo con afiliación al débito automático a una tarjeta de crédito o a una cuenta bancaria.\n-   La modalidad de aseguramiento que brinda este plan de seguros es a valor total. \n-   La cobertura principal comprende además cualquier otro riesgo, súbito e imprevisto, que no esté excluido explícitamente en las exclusiones de las Condiciones Generales y/o Cláusulas Adicionales de la Póliza.        \n-  Las coberturas señaladas en Coberturas Adicionales forman parte de la suma asegurada de la Cobertura Principal, es decir, cada indemnización que le paguemos por las coberturas adicionales, reducirá la suma asegurada de la cobertura principal, a excepción de la cobertura adicional Responsabilidad civil frente a terceros, la cual es independiente a la suma asegurada de la cobertura principal.         \n-  La cobertura de la póliza en cuanto a pérdida o daños causados por agua que inunde, descargue o derrame de cualquier instalación de agua o desagüe de otros elementos líquidos; no comprenderá el costo de reparar el desperfecto que originó tal pérdida o daño.   \n-   Este seguro no otorga cobertura cuando en el inmueble se realiza cualquier actividad o giro comercial diferente al de casa habitación.       \n-   Este seguro se renovará automáticamente, es decir, en las mismas condiciones vigentes en el periodo anterior.          \n-   Para la cobertura de Robo y/o daños por intento de robo de Joyas y platería se define lo siguiente: Objetos y/o adornos de uso personal elaborados en oro, plata, platino, perlas y que pueden llevar o no incrustadas piedras preciosas de origen biológico o mineral, tanto si están engastadas como si no. También se considera a cualquier objeto ornamental o de uso doméstico elaborado con los materiales enumerados en el párrafo anterior.    \n-   El ASEGURADO deberá presentar una relación detallada, a ser actualizada mínimo cada dos años, de los bienes cuyo valor unitario excedan los S/ 5,000. En caso de siniestro, esta relación de bienes es el sustento de la pre-existencia de cada bien declarado. En caso de no cumplir con lo anterior o para bienes afectados no incluidos en la relación presentada, el Asegurado deberá demostrarnos la pre-existencia de los bienes afectados en el siniestro, a través de comprobantes de pago y/o constancia visual (fotografías, video, manuales de uso o similares) en donde se muestre el artículo en el interior del Inmueble asegurado o a la persona usando dicho artículo.    \n-   En caso de robo: Se mantiene la exigencia de la denuncia policial, pero se manejará a discreción cada caso hasta por un monto máximo de siniestro de S/ 30,000, siniestros por encima de este monto deberán presentar denuncia policial de manera obligatoria.    \n-  Las asistencias están disponibles los 365 días del año en las siguientes ciudades:  \n•      Lima Metropolitana exceptuando Ancón, Punta Hermosa, San Bartolo, Santa María y Pucusana.\n•      Trujillo: En los distritos de Trujillo, Victor Larco, Moche y Huanchaco. \n•      Chiclayo: En los distritos de Chiclayo, La Victoria, José Leonardo Ortiz, Pimentel.  \n•      Piura: En los distritos de Piura, Castilla, Catacaos.      \n•      Arequipa: En los distritos de Arequipa (Cercado), Yanahuara, Cayma, Sachaca, José Luis Bustamante y Rivero, Cerro Colorado.        \n•      Cusco: En los distritos de Cusco, San Jerónimo, San Sebastián, Santiago, Wanchaq.  \n Aplican y deben aparecer tanto para a primer riesgo como para valor total "]
[]
[]
[]
[]
[]
[]
[]
[]
[]
[]
[]
[]
[]
[]
[]
[]
[]
[]
[]
[]
[]
[]
[]
[]
[]
[]
[]
[]
[]
[]
[]
[null,null,"Exlusiones: ",null,null,null,null,null,"OK"]
[null,null,"Tenga en cuenta que no pagaremos la reparación del desperfecto ni del bien que originó el daño, como tampoco ninguna pérdida o daño proveniente o que sean causa de, o en conexión con, o atribuibles principalmente a:        \na)      Dolo, culpa grave o negligencia inexcusable del CONTRATANTE o de USTED y/o del BENEFICIARIO y/o ENDOSATARIO o de los familiares de cualquiera de ellos, o de sus dependientes, especialmente de los responsables de la seguridad de los BIENES asegurados.   \nb)      Guerra, Guerra Civil, invasión, acto de enemigo extranjero, hostilidades u operaciones de guerra, declarada o no.          \nc)       Desgaste o deterioro paulatino o fatiga de material, causado por, o resultado de, el uso y funcionamiento del bien; uso o deterioro gradual; deficiencias de rendimiento o capacidad; polución, contaminación; corrosión, erosión; herrumbre u oxidación; hongos, moho húmedo o seco, combustión espontánea, fermentación; humedad, sequedad, smog o cambios de temperatura; asentamiento o contracción o expansión de edificios o cimientos; la calefacción o la desecación a que hubieran sido sometidos los objetos que forman parte de la Materia Asegurada.  \nd)      Hundimientos, desplazamientos, agrietamientos o asentamientos de muros, pisos, techos, pavimentos, cimientos, muros de contención. Sin embargo, si estos daños son causados por los eventos de Terremoto, Temblor, Erupción Volcánica o Maremoto para los cuales se haya contratado amparo bajo la presente póliza, no se aplicará esta exclusión.     \ne)      Todo gasto o costo para implementar modificaciones o mejoras, o por mantenimiento, o para hacer otras reparaciones o arreglos, en el INMUEBLE y/o BIENES dañados o afectados; así como los gastos o costos de cualquier reparación provisional, a menos que constituyan, a la vez, parte de los gastos de la reparación definitiva amparada por la póliza.     \nf)        Valor atribuido a los BIENES por razones sentimentales o simbólicas, por afición, por antigüedad, o por exclusividad.         \ng)      Pérdida o daño ocurrido cuando el INMUEBLE esté deshabitado y/o cuando los BIENES se hallen en el INMUEBLE deshabitado; en ambos casos durante más de noventa (90) días consecutivos.  \nLas demás exclusiones se encuentran en el acápite 3 de las Condiciones Generales de la Póliza. Aplican exclusiones específicas a la cobertura que se contrate, detalladas en su respectiva Cláusula Adicional.           \nBienes excluidos:          \na)      INMUEBLE y/o BIENES con cualquier actividad o giro diferente al de casa habitación. \nb)      Animales vivos de cualquier tipo.      \nc)       Plantaciones, cultivos, cosechas de cualquier tipo, invernaderos, bosques, selvas, monte bajo, praderas, pampas, árboles, parques, prados, jardines naturales y ornamentales, agua.  \nd)      INMUEBLES y/o BIENES en proceso de construcción, reconstrucción, montaje o desmontaje.\ne)      Vehículos motorizados con una placa de rodaje, equipos flotantes o submarinos, aeronaves o artefactos aéreos, embarcaciones, naves acuáticas; de cualquier tipo y tamaño.  \nf)    BIENES de cualquier tipo que sean propiedad de terceros aun cuando dichos BIENES se encuentren bajo custodia y/o posesión del Asegurado.      \ng)      Material pirotécnico, explosivos, combustibles, mechas, fulminantes, detonadores y similares.\nh)      BIENES situados o instalados u operando o trabajando o siendo usados en él, o a las orillas del, mar, río, lago o laguna, en subterráneos, o debajo del nivel de la superficie terrestre.  \ni)        Dinero en efectivo, títulos valores.       \nj)       Cualquier tipo de contenido o bien para fines comerciales, de la profesión u ocupación o de negocios de USTED, de cualquier miembro de su familia, por medio de los cuales obtengan un lucro."]

{"sheet":"VALOR TOTAL INMUEBLE","index":14,"n_rows":45,"n_cols":10,"rows_kept":45,"cut":false,"hidden":true,"merged":[[35,3,35,4],[44,3,44,4],[39,3,39,4],[40,3,40,4],[41,3,41,4],[42,3,42,4],[43,3,43,4],[40,5,40,6],[41,5,41,6],[42,5,42,6],[43,5,43,6],[44,5,44,6],[9,3,9,4],[11,3,11,4],[15,3,16,4],[22,3,22,4],[39,5,39,6],[38,5,38,6],[37,5,37,6],[17,3,17,4],[18,3,18,4],[19,3,19,4],[20,3,20,4],[21,3,21,4],[24,3,24,4],[25,3,25,4],[26,3,26,4],[32,3,32,4],[13,1,14,1],[13,3,14,4],[13,6,14,6],[37,3,37,4],[38,3,38,4],[15,6,16,6],[15,1,16,1],[36,3,36,6],[27,3,27,4],[28,3,28,4],[31,3,31,4],[24,6,35,6],[29,3,29,4],[30,3,30,4],[33,3,33,4],[34,3,34,4]]}
[null,null,null,"VALOR TOTAL INMUEBLE",null,"Ir a Cotizador"]
[null,null,null,null,"INGRESE LA SUMA ASEGURADA",null,null,null,null,"total"]
[null,null,null,"Suma asegurada",null,"Prima comercial",{"$f":"IFERROR(INMUEBLE!$P$7,0)","v":51.5},null,null,{"$f":"SUM(#REF!)","v":{"$error":"#REF!"}}]
[null,null,null,null,null,"Igv",{"$f":"IFERROR(INMUEBLE!$P$8,0)","v":9.27}]
[null,null,null,null,null,"Prima total",{"$f":"IFERROR(INMUEBLE!$P$9,0)","v":60.769999999999996}]
[]
[]
[]
[]
[null,null,null,"COBERTURAS  (solo INMUEBLE)",null,"Límites asegurados por vigencia","Prima Comercial"]
[null,null,null,"Cobertura principal"]
[null,"X",null,"Incendio y/o rayo, explosión, incendio en aparatos eléctricos. Daños por agua, daños por humo, impacto de vehículos y/o aeronaves o daños por riesgos políticos y sociales",null,{"$f":"$E$3","v":0},{"$f":"+IF(Cotizador!$H$37=\"X\",INMUEBLE!$L$11,INMUEBLE!$K$11)","v":51.5}]
[null,null,null,"Coberturas adicionales"]
[null,null,null,"Terremoto, temblor, maremoto, Inundaciones y riesgos de la naturaleza",null,{"$f":"$E$3","v":0},{"$f":"+IF(Cotizador!$H$37=\"X\",INMUEBLE!$L$12,INMUEBLE!$K$12)","v":0}]
[null,null,null,null,null,"Suma asegurada que forma parte de la cobertura principal"]
[null,null,null,"Responsabilidad civil frente a terceros",null,{"$f":"$E$3","v":0},{"$f":"+IF(Cotizador!$H$37=\"X\",INMUEBLE!$L$13,INMUEBLE!$K$13)","v":0}]
[null,null,null,null,null,{"$f":"coberturasyClausulas!$J$3","v":"máximo US$ 200,000"}]
[null,null,null,"Rotura accidental de vidrio y/o cristales",null,{"$f":"coberturasyClausulas!$J$4","v":"Hasta US$ 3,000 ,suma asegurada que forma parte de la cobertura principal"},{"$f":"+IF(Cotizador!$H$37=\"X\",INMUEBLE!$L$14,INMUEBLE!$K$14)","v":0}]
[null,null,null,"Robo o intento de robo de instalaciones fijas",null,{"$f":"coberturasyClausulas!$J$5","v":"Hasta el 20% de la suma asegurada de inmueble, máximo US$ 5,000 ,suma asegurada que forma parte de la cobertura principal"},{"$f":"+IF(Cotizador!$H$37=\"X\",INMUEBLE!$L$15,INMUEBLE!$K$15)","v":0}]
[null,null,null,"Reembolso de gastos médicos por accidentes de trabajadores del hogar, ocurridos dentro del inmueble",null,{"$f":"coberturasyClausulas!$J$6","v":"Hasta US$ 5,000 por evento, máximo 3 eventos por vigencia de la póliza"},{"$f":"+IF(Cotizador!$H$37=\"X\",INMUEBLE!$L$16,INMUEBLE!$K$16)","v":0}]
[null,null,null,"Gastos de arrendamiento de vivienda temporal a reembolso",null,{"$f":"coberturasyClausulas!$J$7","v":"Hasta US$ 2,000 mensuales, máximo 6 meses por vigencia de la póliza, suma asegurada que forma parte de la cobertura principal"},{"$f":"+IF(Cotizador!$H$37=\"X\",INMUEBLE!$L$17,INMUEBLE!$K$17)","v":0}]
[null,null,null,"Alquiler no percibido por inmueble inhabitable temporalmente",null,{"$f":"coberturasyClausulas!$J$8","v":"Hasta US$ 2,000 mensuales, máximo 6 meses por vigencia de la póliza, suma asegurada que forma parte de la cobertura principal"},{"$f":"+IF(Cotizador!$H$37=\"X\",INMUEBLE!$L$18,INMUEBLE!$K$18)","v":0}]
[null,"X",null,"Gastos extraordinarios: remoción de escombros, honorarios profesionales y construcción de documentos y modelos ",null,"Hasta el 20% de la suma asegurada de Inmueble, suma asegurada que forma parte de la cobertura principal",0]
[null,null,null,null,"Asistencias"]
[null,null,null,{"$f":"coberturasyClausulas!$E$11","v":"Envío y pago de Cerrajero por emergencia las 24H"},null,{"$f":"coberturasyClausulas!$J$11","v":"Hasta US$ 300 por evento, Máximo de 3 eventos"},{"$f":"+IF(Cotizador!$H$37=\"X\",INMUEBLE!$L$19,INMUEBLE!$K$19)","v":0}]
[null,null,null,{"$f":"coberturasyClausulas!$E$12","v":"Envío y pago de Gasfitero por emergencia las 24H"},null,{"$f":"coberturasyClausulas!$J$12","v":"Hasta US$ 300 por evento, Máximo de 3 eventos"}]
[null,null,null,{"$f":"coberturasyClausulas!$E$13","v":"Envío y pago de Electricista por emergencia las 24H"},null,{"$f":"coberturasyClausulas!$J$13","v":"Hasta US$ 300 por evento, Máximo de 3 eventos"}]
[null,null,null,{"$f":"coberturasyClausulas!$E$14","v":"Envío y pago de Vidriero por emergencia las 24H"},null,{"$f":"coberturasyClausulas!$J$14","v":"Hasta US$ 300 por evento, Máximo de 3 eventos"}]
[null,null,null,{"$f":"coberturasyClausulas!$E$15","v":"Limpieza del inmueble asegurado a consecuencia de un siniestro"},null,{"$f":"coberturasyClausulas!$J$15","v":"Hasta US$ 500 por evento, Máximo de 3 eventos"}]
[null,null,null,{"$f":"coberturasyClausulas!$E$16","v":"Servicio de Lavado de estores, roller, alfombras"},null,{"$f":"coberturasyClausulas!$J$16","v":"Hasta US$ 80 por evento, máximo de 1 evento, cubriendo la limpieza de una pieza."}]
[null,null,null,{"$f":"coberturasyClausulas!$E$17","v":"Servicio de Lavado de colchón"},null,{"$f":"coberturasyClausulas!$J$18","v":"Hasta US$ 80 por evento, máximo de 1 evento, cubriendo la limpieza de una pieza."}]
[null,null,null,{"$f":"coberturasyClausulas!$E18","v":"Masajes  relajantes a domicilio durante 1 hora"},null,{"$f":"coberturasyClausulas!$J18","v":"Hasta US$ 80 por evento, máximo de 1 evento, cubriendo la limpieza de una pieza."}]
[null,null,null,{"$f":"coberturasyClausulas!$E19","v":"Mozo a domicilio "},null,{"$f":"coberturasyClausulas!$J19","v":"Hasta máximo de 3 eventos al año, con servicio una vez al mes."}]
[null,null,null,{"$f":"coberturasyClausulas!$E20","v":"Mantenimiento Preventivo de Línea Blanca"},null,{"$f":"coberturasyClausulas!$J20","v":"Hasta US$ 75 por evento, máximo de 3 eventos, cubriendo la revisión de un equipo."}]
[null,null,null,{"$f":"coberturasyClausulas!$E21","v":"Orientación telefónica veterinaria para perros las 24H"},null,{"$f":"coberturasyClausulas!$J21","v":"Sin límite"}]
[null,null,null,{"$f":"coberturasyClausulas!$E22","v":"Hospedaje de perros"},null,{"$f":"coberturasyClausulas!$J22","v":"Hasta máximo de 3 eventos. Se considera 1 día de hospedaje por evento."}]
[null,null,null,"Deducibles:\nAplicables por evento/pérdida, en caso de discrepancia prevalece el mayor"]
[null,{"$f":"IF($B$14=0,\"\",$B$14)","v":""},null,"Terremoto / Maremoto",null,{"$f":"coberturasyClausulas!$J$26","v":"Hasta el 1% del límite asegurado, mínimo US$ 200"}]
[null,{"$f":"IF($B$14=0,\"\",$B$14)","v":""},null,"Otros Riesgos de la Naturaleza (entre ellos lluvia, inundación, otros)",null,{"$f":"coberturasyClausulas!$J$27","v":"Hasta 10% del monto indemnizable, mínimo US$ 200"}]
[null,"X",null,"Daños por agua",null,{"$f":"coberturasyClausulas!$J$28","v":"Hasta 10% del monto indemnizable, mínimo US$ 200"}]
[null,"X",null,"Riesgos políticos y sociales",null,{"$f":"coberturasyClausulas!$J$29","v":"Hasta 10% del monto indemnizable, mínimo US$ 200"}]
[null,{"$f":"IF($B$16=0,\"\",$B$16)","v":""},null,"Responsabilidad civil frente a terceros",null,{"$f":"coberturasyClausulas!$J$30","v":"Hasta 10% del monto indemnizable, mínimo US$ 200"}]
[null,{"$f":"IF($B$18=0,\"\",$B$18)","v":""},null,"Rotura accidental de vidrio y/o cristales",null,{"$f":"coberturasyClausulas!$J$31","v":"Hasta 10% del monto indemnizable, mínimo US$ 200"}]
[null,{"$f":"IF($B$19=0,\"\",$B$19)","v":""},null,"Robo o intento de robo de instalaciones fijas",null,{"$f":"coberturasyClausulas!$J$32","v":"Hasta 10% del monto indemnizable, mínimo US$ 200"}]
[null,{"$f":"IF($B$24=0,\"\",$B$24)","v":""},null,"Demás coberturas",null,"Sin deducible"]

{"sheet":"VALOR TOTAL BIENES","index":15,"n_rows":42,"n_cols":10,"rows_kept":42,"cut":false,"hidden":true,"merged":[[37,5,37,6],[39,5,39,6],[40,5,40,6],[41,5,41,6],[38,5,38,6],[37,3,37,4],[38,3,38,4],[39,3,39,4],[40,3,40,4],[41,3,41,4],[9,3,9,4],[11,3,11,4],[13,3,13,4],[14,3,14,4],[17,3,17,4],[15,3,16,4],[36,5,36,6],[36,3,36,4],[34,3,34,4],[35,3,35,4],[18,3,18,4],[19,3,19,4],[21,3,21,4],[22,3,22,4],[23,3,23,4],[24,3,24,4],[25,3,25,4],[28,3,28,4],[21,6,32,6],[29,3,29,4],[30,3,30,4],[31,3,31,4],[15,6,16,6],[15,1,16,1],[33,3,33,6],[34,5,34,6],[35,5,35,6],[26,3,26,4],[27,3,27,4],[32,3,32,4]]}
[null,null,null,"VALOR TOTAL BIENES",null,"Ir a Cotizador"]
[null,null,null,null,"INGRESE LA SUMA ASEGURADA",null,null,null,null,"total"]
[null,null,null,"Suma Asegurada de Bienes",null,"Prima comercial",{"$f":"IFERROR(BIENES!$P$7,0)","v":51.5},null,null,{"$f":"SUM(#REF!)","v":{"$error":"#REF!"}}]
[null,null,null,null,null,"Igv",{"$f":"IFERROR(BIENES!$P$8,0)","v":9.27}]
[null,null,null,null,null,"Prima total",{"$f":"IFERROR(BIENES!$P$9,0)","v":60.769999999999996}]
[]
[]
[]
[]
[null,null,null,"COBERTURAS  (solo BIENES)",null,"Límites asegurados por vigencia","Prima Comercial"]
[null,null,null,"Cobertura principal"]
[null,"X",null,"Incendio y/o rayo, explosión, incendio en aparatos eléctricos. Daños por agua, daños por humo, impacto de vehículos y/o aeronaves o daños por riesgos políticos y sociales",null,{"$f":"$E$3","v":0},{"$f":"+IF(Cotizador!$H$37=\"X\",BIENES!$L$13,BIENES!$K$13)","v":51.5}]
[null,null,null,"Coberturas adicionales"]
[null,null,null,"Robo y/o daños por intento de robo (dentro y fuera de la vivienda a nivel nacional)",null,{"$f":"$F$12","v":0},{"$f":"+IF(Cotizador!$H$37=\"X\",BIENES!$L$32,BIENES!$K$32)","v":0}]
[null,null,null,"Robo y/o daños por intento de robo de joyas, platería, relojes, obras de arte, cámaras fotográficas o de video, laptops y bicicletas dentro de la vivienda o que estén siendo portados fuera de la vivienda. ",null,"USD 10,000, sublímite de la cobertura de Robo",{"$f":"+IF(Cotizador!$H$37=\"X\",BIENES!$L$33,BIENES!$K$33)","v":0}]
[null,null,null,"Terremoto, temblor, maremoto, Inundaciones y riesgos de la naturaleza",null,{"$f":"$F$14","v":0},{"$f":"+IF(Cotizador!$H$37=\"X\",BIENES!$L$14,BIENES!$K$14)","v":0}]
[null,null,null,null,null,"Suma asegurada que forma parte de la cobertura principal"]
[null,null,null,"Hurto",null,{"$f":"coberturasyClausulas!$J$37","v":"Hasta US$ 3,000 , sublímite de la cobertura de Robo"},{"$f":"+IF(Cotizador!$H$37=\"X\",BIENES!$L$34,BIENES!$K$34)","v":0}]
[null,null,null,"Deshonestidad de trabajadores del hogar",null,{"$f":"coberturasyClausulas!$J$38","v":"Hasta US$ 5,000 por evento, máximo 3 eventos por vigencia de la póliza, sublímite de la cobertura de Robo"},{"$f":"+IF(Cotizador!$H$37=\"X\",BIENES!$L$35,BIENES!$K$35)","v":0}]
[null,"X",null,"Gastos extraordinarios: remoción de escombros, honorarios profesionales y construcción de documentos y modelos ",null,"Hasta el 20% de la suma asegurada de bienes, suma asegurada que forma parte de la cobertura principal",0]
[null,null,null,null,"Asistencias"]
[null,null,null,{"$f":"coberturasyClausulas!$E$39","v":"Envío y pago de Cerrajero por emergencia "},null,{"$f":"coberturasyClausulas!$J$39","v":"Hasta US$ 300 por evento, Máximo de 3 eventos"},{"$f":"+IF(Cotizador!H37=\"X\",BIENES!$L$15,BIENES!$K$15)","v":0}]
[null,null,null,{"$f":"coberturasyClausulas!$E$40","v":"Envío y pago de Gasfitero por emergencia "},null,{"$f":"coberturasyClausulas!$J$40","v":"Hasta US$ 300 por evento, Máximo de 3 eventos"}]
[null,null,null,{"$f":"coberturasyClausulas!$E$41","v":"Envío y pago de Electricista por emergencia"},null,{"$f":"coberturasyClausulas!$J$41","v":"Hasta US$ 300 por evento, Máximo de 3 eventos"}]
[null,null,null,{"$f":"coberturasyClausulas!$E$42","v":"Envío y pago de Vidriero por emergencia"},null,{"$f":"coberturasyClausulas!$J$42","v":"Hasta US$ 300 por evento, Máximo de 3 eventos"}]
[null,null,null,{"$f":"coberturasyClausulas!$E$43","v":"Limpieza del inmueble asegurado a consecuencia de un siniestro"},null,{"$f":"coberturasyClausulas!$J$43","v":"Hasta US$ 500 por evento, Máximo de 3 eventos"}]
[null,null,null,{"$f":"coberturasyClausulas!$E$44","v":"Servicio de Lavado de estores, roller, alfombras"},null,{"$f":"coberturasyClausulas!$J$44","v":"Hasta US$ 80 por evento, máximo de 1 evento, cubriendo la limpieza de una pieza."}]
[null,null,null,{"$f":"coberturasyClausulas!$E$45","v":"Servicio de Lavado de colchón"},null,{"$f":"coberturasyClausulas!$J$45","v":"Hasta US$ 80 por evento, máximo de 1 evento, cubriendo la limpieza de una pieza."}]
[null,null,null,{"$f":"coberturasyClausulas!$E46","v":"Masajes  relajantes a domicilio durante 1 hora"},null,{"$f":"coberturasyClausulas!$J$46","v":"Hasta US$ 80 por evento, máximo de 1 evento, cubriendo la limpieza de una pieza."}]
[null,null,null,{"$f":"coberturasyClausulas!$E47","v":"Mozo a domicilio "},null,{"$f":"coberturasyClausulas!$J47","v":"Hasta máximo de 3 eventos al año, con servicio una vez al mes."}]
[null,null,null,{"$f":"coberturasyClausulas!$E48","v":"Mantenimiento Preventivo de Línea Blanca"},null,{"$f":"coberturasyClausulas!$J48","v":"Hasta US$ 75 por evento, máximo de 3 eventos, cubriendo la revisión de un equipo."}]
[null,null,null,{"$f":"coberturasyClausulas!$E49","v":"Orientación telefónica veterinaria para perros las 24H"},null,{"$f":"coberturasyClausulas!$J49","v":"Sin límite"}]
[null,null,null,{"$f":"coberturasyClausulas!$E50","v":"Hospedaje de perros"},null,{"$f":"coberturasyClausulas!$J50","v":"Hasta máximo de 3 eventos. Se considera 1 día de hospedaje por evento."}]
[null,null,null,"Deducibles:\nAplicables por evento/pérdida, en caso de discrepancia prevalece el mayor"]
[null,{"$f":"IF($B$14=0,\"\",$B$14)","v":""},null,"Robo y/o daños por intento de robo",null,{"$f":"coberturasyClausulas!$J$54","v":"Hasta 10% del monto indemnizable, mínimo US$ 200"}]
[null,{"$f":"IF($B$18=0,\"\",$B$18)","v":""},null,"Hurto",null,{"$f":"coberturasyClausulas!$J$55","v":"Hasta 10% del monto indemnizable, mínimo US$ 200"}]
[null,{"$f":"IF($B$19=0,\"\",$B$19)","v":""},null,"Deshonestidad de trabajadores del hogar",null,{"$f":"coberturasyClausulas!$J$56","v":"Hasta 10% del monto indemnizable, mínimo US$ 200"}]
[null,{"$f":"IF($B$16=0,\"\",$B$16)","v":""},null,"Terremoto / Maremoto",null,{"$f":"coberturasyClausulas!$J$57","v":"Hasta el 1% del límite asegurado, mínimo US$ 200"}]
[null,{"$f":"IF($B$16=0,\"\",$B$16)","v":""},null,"Otros Riesgos de la Naturaleza (entre ellos lluvia, inundación, otros)",null,{"$f":"coberturasyClausulas!$J$58","v":"Hasta 10% del monto indemnizable, mínimo US$ 200"}]
[null,"X",null,"Daños por agua",null,{"$f":"coberturasyClausulas!$J$59","v":"Hasta 10% del monto indemnizable, mínimo US$ 200"}]
[null,"X",null,"Riesgos políticos y sociales",null,{"$f":"coberturasyClausulas!$J$60","v":"Hasta 10% del monto indemnizable, mínimo US$ 200"}]
[null,{"$f":"IF($B$21=0,\"\",$B$21)","v":""},null,"Demás coberturas",null,"Sin deducible"]

{"sheet":"configMatConstruccion","index":16,"n_rows":35,"n_cols":27,"rows_kept":35,"cut":false,"hidden":true,"merged":[]}
[null,null,null,null,null,null,null,null,null,"yearMinimo",null,null,null,"COD MATERIAL",null,null,10,32,4,4,null,null,null,10,10,1,1]
[null,null,null,null,null,null,null,null,null,{"$f":"+YEAR(TODAY())-50","v":1975},null,null,null,null,null,null,"PISOS","PISOS","PISOS","PISOS",null,null,null,"SOTANOS","SOTANOS","SOTANOS","SOTANOS"]
[null,null,null,null,null,null,null,null,null,null,null,null,null,"3.0CA",null,null,"3.0CA","4.0CP","8.0M2R","9.0M2F",null,null,null,"3.0CA","4.0CP","8.0M2R","9.0M2F"]
[null,null,null,null,null,null,null,null,null,null,null,null,null,"4.0CP",null,null,1,1,1,1,null,null,null,0,0,0,0]
[null,null,null,null,null,null,null,null,null,null,null,null,null,"8.0M2R",null,null,{"$f":"Q4+1","v":2},{"$f":"R4+1","v":2},{"$f":"S4+1","v":2},{"$f":"T4+1","v":2},null,null,null,{"$f":"X4+1","v":1},{"$f":"Y4+1","v":1},{"$f":"Z4+1","v":1},{"$f":"AA4+1","v":1}]
[null,null,null,null,null,null,null,null,null,null,null,null,null,"9.0M2F",null,null,{"$f":"Q5+1","v":3},3,3,3,null,null,null,{"$f":"X5+1","v":2},2]
[null,null,null,null,null,null,null,null,null,null,null,null,null,null,null,null,4,4,4,4,null,null,null,3,3]
[null,null,null,null,null,null,null,null,null,null,null,null,null,null,null,null,5,5,null,null,null,null,null,4,4]
[null,null,null,null,null,null,null,null,null,null,null,null,null,null,null,null,6,6,null,null,null,null,null,5,5]
[null,null,null,null,null,null,null,null,null,null,null,null,null,null,null,null,7,7,null,null,null,null,null,6,6]
[null,null,null,null,null,null,null,null,null,null,null,null,null,null,null,null,8,8,null,null,null,null,null,7,7]
[null,null,null,null,null,null,null,null,null,null,null,null,null,null,null,null,9,9,null,null,null,null,null,8,8]
[null,null,null,null,null,null,null,null,null,null,null,null,null,null,null,null,10,10,null,null,null,null,null,9,9]
[null,null,null,null,null,null,null,null,null,null,null,null,null,null,null,null,null,11,null,null,null,null,null,10,10]
[null,null,null,null,null,null,null,null,null,null,null,null,null,null,null,null,null,12]
[null,null,null,null,null,null,null,null,null,null,null,null,null,null,null,null,null,13]
[null,null,null,null,null,null,null,null,null,null,null,null,null,null,null,null,null,14]
[null,null,null,null,null,null,null,null,null,null,null,null,null,null,null,null,null,15]
[null,null,null,null,null,null,null,null,null,null,null,null,null,null,null,null,null,16]
[null,null,null,null,null,null,null,null,null,null,null,null,null,null,null,null,null,17]
[null,null,null,null,null,null,null,null,null,null,null,null,null,null,null,null,null,18]
[null,null,null,null,null,null,null,null,null,null,null,null,null,null,null,null,null,{"$f":"R21+1","v":19}]
[null,null,null,null,null,null,null,null,null,null,null,null,null,null,null,null,null,20]
[null,null,null,null,null,null,null,null,null,null,null,null,null,null,null,null,null,21]
[null,null,null,null,null,null,null,null,null,null,null,null,null,null,null,null,null,22]
[null,null,null,null,null,null,null,null,null,null,null,null,null,null,null,null,null,23]
[null,null,null,null,null,null,null,null,null,null,null,null,null,null,null,null,null,24]
[null,null,null,null,null,null,null,null,null,null,null,null,null,null,null,null,null,25]
[null,null,null,null,null,null,null,null,null,null,null,null,null,null,null,null,null,26]
[null,null,null,null,null,null,null,null,null,null,null,null,null,null,null,null,null,27]
[null,null,null,null,null,null,null,null,null,null,null,null,null,null,null,null,null,28]
[null,null,null,null,null,null,null,null,null,null,null,null,null,null,null,null,null,29]
[null,null,null,null,null,null,null,null,null,null,null,null,null,null,null,null,null,30]
[null,null,null,null,null,null,null,null,null,null,null,null,null,null,null,null,null,31]
[null,null,null,null,null,null,null,null,null,null,null,null,null,null,null,null,null,32]

{"sheet":"VALOR TOTAL INMUEBLE +BIENES","index":17,"n_rows":53,"n_cols":10,"rows_kept":53,"cut":false,"hidden":true,"merged":[[19,5,19,6],[24,3,24,4],[25,3,25,4],[26,5,26,6],[27,5,27,6],[22,3,22,4],[26,3,26,4],[27,3,27,4],[24,5,24,6],[25,5,25,6],[44,5,44,7],[34,3,34,4],[34,5,34,6],[35,3,35,4],[35,5,35,6],[37,3,37,4],[38,3,38,4],[39,3,39,4],[40,3,40,4],[37,5,37,6],[38,5,38,6],[39,5,39,6],[40,5,40,6],[13,1,14,1],[13,3,14,4],[15,6,16,6],[17,5,17,6],[9,7,10,7],[15,7,16,7],[13,7,14,7],[17,3,18,4],[18,5,18,6],[9,3,9,4],[11,3,11,4],[31,3,31,4],[31,5,31,6],[17,1,18,1],[17,7,18,7],[15,1,16,1],[15,3,16,4],[29,7,40,7],[33,3,33,4],[33,5,33,6],[36,3,36,4],[32,3,32,4],[32,5,32,6],[23,3,23,4],[19,3,19,4],[20,3,20,4],[21,3,21,4],[52,5,52,7],[50,5,50,7],[51,3,51,4],[36,5,36,6],[51,5,51,7],[46,5,46,7],[47,5,47,7],[48,5,48,7],[49,5,49,7],[41,3,41,7],[42,5,42,7],[43,5,43,7],[44,3,44,4],[42,3,42,4],[43,3,43,4],[45,5,45,7],[52,3,52,4],[45,3,45,4],[46,3,46,4],[47,3,47,4],[48,3,48,4],[49,3,49,4],[50,3,50,4],[28,5,28,6],[29,3,29,4],[29,5,29,6],[30,3,30,4],[30,5,30,6]]}
[null,null,null,"VALOR TOTAL INMUEBLE +BIENES",null,null,"Ir a Cotizador"]
[null,null,null,null,"INGRESE LAS SUMAS ASEGURADAS",null,null,null,null,"total"]
[null,null,null,"Suma Asegurada de Inmueble",null,null,"Prima comercial",{"$f":"IFERROR('INMUEBLE Y BIENES'!$P$7,0)","v":629.83050000000003}]
[null,null,null,"Suma Asegurada de Bienes",null,null,"Igv",{"$f":"IFERROR('INMUEBLE Y BIENES'!$P$8,0)","v":113.36949}]
[null,null,null,null,null,null,"Prima total",{"$f":"IFERROR('INMUEBLE Y BIENES'!$P$9,0)","v":743.19999000000007}]
[]
[]
[]
[]
[null,null,null,"COBERTURAS  (INMUEBLE Y BIENES)",null,"Límites asegurados por vigencia, hasta","Límites asegurados por vigencia, hasta","Prima Comercial"]
[null,null,null,"Cobertura principal",null,"INMUEBLE","BIENES"]
[null,"X",null,"Incendio y/o rayo, explosión, incendio en aparatos eléctricos. Daños por agua, daños por humo, impacto de vehículos y/o aeronaves o daños por riesgos políticos y sociales",null,{"$f":"$E$3","v":0},{"$f":"$E$4","v":0},{"$f":"+IF(Cotizador!$H$37=\"X\",'INMUEBLE Y BIENES'!$L$50,'INMUEBLE Y BIENES'!$K$50)","v":114.8605}]
[null,null,null,"Coberturas adicionales"]
[null,"X",null,"Terremoto, temblor, maremoto, Inundaciones y riesgos de la naturaleza",null,{"$f":"$E$3","v":0},{"$f":"$E$4","v":0},{"$f":"+IF(Cotizador!$H$37=\"X\",'INMUEBLE Y BIENES'!$L$51,'INMUEBLE Y BIENES'!$K$51)","v":447.79}]
[null,null,null,null,null,"Suma asegurada que forma parte de la cobertura principal","Suma asegurada que forma parte de la cobertura principal"]
[null,"X",null,"Responsabilidad civil frente a terceros",null,{"$f":"$E$3","v":0},"-",{"$f":"+IF(Cotizador!$H$37=\"X\",'INMUEBLE Y BIENES'!$L$52,'INMUEBLE Y BIENES'!$K$52)","v":2.0299999999999998}]
[null,null,null,null,null,{"$f":"coberturasyClausulas!$J$64","v":" máximo US$ 200,000"}]
[null,"X",null,"Rotura accidental de vidrio y/o cristales",null,{"$f":"coberturasyClausulas!$J$65","v":"US$ 3,000"},null,{"$f":"+IF(Cotizador!$H$37=\"X\",'INMUEBLE Y BIENES'!$L$53,'INMUEBLE Y BIENES'!$K$53)","v":4.46}]
[null,null,null,null,null,"Suma asegurada que forma parte de la cobertura principal"]
[null,null,null,"Robo o intento de robo de instalaciones fijas",null,{"$f":"coberturasyClausulas!$J$66","v":"20% de la suma asegurada de inmueble, máximo US$ 5,000 , suma asegurada que forma parte de la cobertura principal"},null,{"$f":"+IF(Cotizador!$H$37=\"X\",'INMUEBLE Y BIENES'!$L$54,'INMUEBLE Y BIENES'!$K$54)","v":0.36}]
[null,null,null,"Robo y/o daños por intento de robo (dentro y fuera de la vivienda a nivel nacional)",null,"-",{"$f":"$E$4","v":0},{"$f":"+IF(Cotizador!$H$37=\"X\",'INMUEBLE Y BIENES'!$L$70,'INMUEBLE Y BIENES'!$K$70)","v":45.25}]
[null,null,null,"Robo y/o daños por intento de robo de joyas, platería, relojes, obras de arte, cámaras fotográficas o de video, laptops y bicicletas dentro de la vivienda o que estén siendo portados fuera de la vivienda. ",null,"-","USD 10,000, sublímite de la cobertura de Robo",{"$f":"+IF(Cotizador!$H$37=\"X\",'INMUEBLE Y BIENES'!$L$71,'INMUEBLE Y BIENES'!$K$71)","v":4.37}]
[null,null,null,"Hurto",null,"-",{"$f":"coberturasyClausulas!$J$68","v":"US$ 3,000 , sublímite de la cobertura de Robo"},{"$f":"+IF(Cotizador!$H$37=\"X\",'INMUEBLE Y BIENES'!$L$72,'INMUEBLE Y BIENES'!$K$72)","v":4.96}]
[null,null,null,"Deshonestidad de trabajadores del hogar",null,"-",{"$f":"coberturasyClausulas!$J$69","v":"US$ 5,000 por evento, máximo 3 eventos por vigencia de la póliza, sublímite de la cobertura de Robo"},{"$f":"+IF(Cotizador!$H$37=\"X\",'INMUEBLE Y BIENES'!$L$73,'INMUEBLE Y BIENES'!$K$73)","v":0}]
[null,null,null,"Reembolso de gastos médicos por accidentes de trabajadores del hogar, ocurridos dentro del inmueble",null,{"$f":"coberturasyClausulas!$J$70","v":"US$ 5,000 por evento, máximo 3 eventos por vigencia de la póliza"},"Hasta US$ 5,000 / S/ 15,000 por evento, máximo 3 eventos por vigencia de la póliza",{"$f":"+IF(Cotizador!$H$37=\"X\",'INMUEBLE Y BIENES'!$L$55,'INMUEBLE Y BIENES'!$K$55)","v":0}]
[null,"X",null,"Gastos de arrendamiento de vivienda temporal a reembolso",null,{"$f":"coberturasyClausulas!$J$71","v":"US$ 2,000 mensuales, máximo 6 meses por vigencia de la póliza, suma asegurada que forma parte de la cobertura principal"},"Hasta US$ 2,000 / S/ 6,000 mensuales, máximo 6 meses por vigencia de la póliza, suma asegurada que forma parte de la cobertura principal",{"$f":"+IF(Cotizador!$H$37=\"X\",'INMUEBLE Y BIENES'!$L$56,'INMUEBLE Y BIENES'!$K$56)","v":0}]
[null,null,null,"Alquiler no percibido por inmueble inhabitable temporalmente (aplica solo para el arrendador)",null,{"$f":"coberturasyClausulas!$J$72","v":"US$ 2,000 mensuales, máximo 6 meses por vigencia de la póliza, suma asegurada que forma parte de la cobertura principal"},"Hasta US$ 2,000 / S/ 6,000 mensuales, máximo 6 meses por vigencia de la póliza, suma asegurada que forma parte de la cobertura principal",{"$f":"+IF(Cotizador!$H$37=\"X\",'INMUEBLE Y BIENES'!$L$57,'INMUEBLE Y BIENES'!$K$57)","v":0}]
[null,"X",null,"Gastos extraordinarios: remoción de escombros, honorarios profesionales y construcción de documentos y modelos ",null,"20% de la suma asegurada de inmueble y/o bienes, suma asegurada que forma parte de la cobertura principal","Hasta el 20% de la suma asegurada de inmueble y/o bienes, suma asegurada que forma parte de la cobertura principal",0]
[null,"X",null,null,"Asistencias"]
[null,null,null,{"$f":"coberturasyClausulas!$E$73","v":"Envío y pago de Cerrajero por emergencia "},null,{"$f":"coberturasyClausulas!$J$73","v":"Hasta US$ 300 por evento, Máximo de 3 eventos"},null,{"$f":"+IF(Cotizador!$H$37=\"X\",'INMUEBLE Y BIENES'!$L$58,'INMUEBLE Y BIENES'!$K$58)","v":5.75}]
[null,null,null,{"$f":"coberturasyClausulas!$E$74","v":"Envío y pago de Gasfitero por emergencia "},null,{"$f":"coberturasyClausulas!$J$74","v":"Hasta US$ 300 por evento, Máximo de 3 eventos"}]
[null,null,null,{"$f":"coberturasyClausulas!$E$75","v":"Envío y pago de Electricista por emergencia"},null,{"$f":"coberturasyClausulas!$J$75","v":"Hasta US$ 300 por evento, Máximo de 3 eventos"}]
[null,null,null,{"$f":"coberturasyClausulas!$E$76","v":"Envío y pago de Vidriero por emergencia"},null,{"$f":"coberturasyClausulas!$J$76","v":"Hasta US$ 300 por evento, Máximo de 3 eventos"}]
[null,null,null,{"$f":"coberturasyClausulas!$E$77","v":"Limpieza del inmueble asegurado a consecuencia de un siniestro"},null,{"$f":"coberturasyClausulas!$J$77","v":"Hasta US$ 500 por evento, Máximo de 3 eventos"}]
[null,null,null,{"$f":"coberturasyClausulas!$E$78","v":"Servicio de Lavado de estores, roller, alfombras"},null,{"$f":"coberturasyClausulas!$J$78","v":"Hasta US$ 80 por evento, máximo de 1 evento, cubriendo la limpieza de una pieza."}]
[null,null,null,{"$f":"coberturasyClausulas!$E$79","v":"Servicio de Lavado de colchón"},null,{"$f":"coberturasyClausulas!$J$79","v":"Hasta US$ 80 por evento, máximo de 1 evento, cubriendo la limpieza de una pieza."}]
[null,null,null,{"$f":"coberturasyClausulas!$E80","v":"Masajes  relajantes a domicilio durante 1 hora"},null,{"$f":"coberturasyClausulas!$J80","v":"Hasta US$ 80 por evento, máximo de 1 evento, cubriendo la limpieza de una pieza."}]
[null,null,null,{"$f":"coberturasyClausulas!$E81","v":"Mozo a domicilio "},null,{"$f":"coberturasyClausulas!$J81","v":"Hasta máximo de 3 eventos al año, con servicio una vez al mes."}]
[null,null,null,{"$f":"coberturasyClausulas!$E82","v":"Mantenimiento Preventivo de Línea Blanca"},null,{"$f":"coberturasyClausulas!$J82","v":"Hasta US$ 75 por evento, máximo de 3 eventos, cubriendo la revisión de un equipo."}]
[null,null,null,{"$f":"coberturasyClausulas!$E83","v":"Orientación telefónica veterinaria para perros las 24H"},null,{"$f":"coberturasyClausulas!$J83","v":"Sin límite"}]
[null,null,null,{"$f":"coberturasyClausulas!$E84","v":"Hospedaje de perros"},null,{"$f":"coberturasyClausulas!$J84","v":"Hasta máximo de 3 eventos. Se considera 1 día de hospedaje por evento."}]
[null,null,null,"Deducibles:\nAplicables por evento/pérdida, en caso de discrepancia prevalece el mayor"]
[null,{"$f":"IF($B$14=0,\"\",$B$14)","v":"X"},null,"Terremoto / Maremoto",null,{"$f":"coberturasyClausulas!$J$88","v":"Hasta el 1% del límite asegurado, mínimo US$ 200"}]
[null,{"$f":"IF($B$14=0,\"\",$B$14)","v":"X"},null,"Otros Riesgos de la Naturaleza (entre ellos lluvia, inundación, otros)",null,{"$f":"coberturasyClausulas!$J$89","v":"Hasta 10% del monto indemnizable, mínimo US$ 200"}]
[null,"X",null,"Daños por agua",null,{"$f":"coberturasyClausulas!$J$90","v":"Hasta 10% del monto indemnizable, mínimo US$ 200"}]
[null,"X",null,"Riesgos políticos y sociales",null,{"$f":"coberturasyClausulas!$J$91","v":"Hasta 10% del monto indemnizable, mínimo US$ 200"}]
[null,{"$f":"IF($B$16=0,\"\",$B$16)","v":"X"},null,"Responsabilidad civil frente a terceros",null,{"$f":"coberturasyClausulas!$J$92","v":"Hasta 10% del monto indemnizable, mínimo US$ 200"}]
[null,{"$f":"IF($B$18=0,\"\",$B$18)","v":"X"},null,"Rotura accidental de vidrio y/o cristales",null,{"$f":"coberturasyClausulas!$J$93","v":"Hasta 10% del monto indemnizable, mínimo US$ 200"}]
[null,{"$f":"IF($B$20=0,\"\",$B$20)","v":""},null,"Robo o intento de robo de instalaciones fijas",null,{"$f":"coberturasyClausulas!$J$94","v":"Hasta 10% del monto indemnizable, mínimo US$ 200"}]
[null,{"$f":"IF($B$21=0,\"\",$B$21)","v":""},null,"Robo y/o daños por intento de robo",null,{"$f":"coberturasyClausulas!$J$95","v":"Hasta 10% del monto indemnizable, mínimo US$ 200"}]
[null,{"$f":"IF($B$23=0,\"\",$B$23)","v":""},null,"Hurto",null,{"$f":"coberturasyClausulas!$J$96","v":"Hasta 10% del monto indemnizable, mínimo US$ 200"}]
[null,{"$f":"IF($B$24=0,\"\",$B$24)","v":""},null,"Deshonestidad de trabajadores del hogar",null,{"$f":"coberturasyClausulas!$J$97","v":"Hasta 10% del monto indemnizable, mínimo US$ 200"}]
[null,{"$f":"IF($B$29=0,\"\",$B$29)","v":"X"},null,"Demás coberturas",null,"Sin deducible"]

{"sheet":"PRIMER RIESGO INMUEBLE","index":18,"n_rows":45,"n_cols":10,"rows_kept":45,"cut":false,"hidden":true,"merged":[[9,3,9,4],[11,3,11,4],[17,3,17,4],[18,3,18,4],[32,3,32,4],[19,3,19,4],[20,3,20,4],[22,3,22,4],[21,3,21,4],[24,6,35,6],[24,3,24,4],[25,3,25,4],[26,3,26,4],[27,3,27,4],[31,3,31,4],[28,3,28,4],[29,3,29,4],[30,3,30,4],[33,3,33,4],[34,3,34,4],[35,3,35,4],[13,1,14,1],[13,3,14,4],[13,6,14,6],[15,1,16,1],[15,3,16,4],[15,6,16,6],[37,3,37,4],[38,3,38,4],[39,3,39,4],[36,3,36,6],[37,5,37,6],[38,5,38,6],[39,5,39,6],[43,3,43,4],[43,5,43,6],[44,3,44,4],[44,5,44,6],[40,3,40,4],[41,3,41,4],[42,3,42,4],[40,5,40,6],[42,5,42,6],[41,5,41,6]]}
[null,null,null,"PRIMER RIESGO  INMUEBLE",null,"Ir a Cotizador"]
[null,null,null,null,"INGRESE LA SUMA ASEGURADA y MARQUE CON \"X\" LAS COBERTURAS",null,null,null,null,"total"]
[null,null,null,"Suma asegurada",null,"Prima comercial",{"$f":"IFERROR(INMUEBLE!$P$7,0)","v":51.5},null,null,{"$f":"SUM(#REF!)","v":{"$error":"#REF!"}}]
[null,null,null,null,null,"Igv",{"$f":"IFERROR(INMUEBLE!$P$8,0)","v":9.27}]
[null,null,null,null,null,"Prima total",{"$f":"IFERROR(INMUEBLE!$P$9,0)","v":60.769999999999996}]
[]
[]
[]
[]
[null,null,null,"COBERTURAS  (solo INMUEBLE)",null,"Límites asegurados por vigencia","Prima Comercial"]
[null,null,null,"Cobertura principal"]
[null,"X",null,"Incendio y/o rayo, explosión, incendio en aparatos eléctricos. Daños por agua, daños por humo, impacto de vehículos y/o aeronaves o daños por riesgos políticos y sociales",null,{"$f":"$E$3","v":0},{"$f":"+IF(Cotizador!$H$37=\"X\",INMUEBLE!$L$11,INMUEBLE!$K$11)","v":51.5}]
[null,null,null,"Coberturas adicionales"]
[null,null,null,"Terremoto, temblor, maremoto, Inundaciones y riesgos de la naturaleza",null,{"$f":"$E$3","v":0},{"$f":"+IF(Cotizador!$H$37=\"X\",INMUEBLE!$L$12,INMUEBLE!$K$12)","v":0}]
[null,null,null,null,null,"Suma asegurada que forma parte de la cobertura principal"]
[null,null,null,"Responsabilidad civil frente a terceros",null,{"$f":"$E$3","v":0},{"$f":"+IF(Cotizador!$H$37=\"X\",INMUEBLE!$L$13,INMUEBLE!$K$13)","v":0}]
[null,null,null,null,null,{"$f":"coberturasyClausulas!$J$3","v":"máximo US$ 200,000"}]
[null,null,null,"Rotura accidental de vidrio y/o cristales",null,{"$f":"coberturasyClausulas!$J$4","v":"Hasta US$ 3,000 ,suma asegurada que forma parte de la cobertura principal"},{"$f":"+IF(Cotizador!$H$37=\"X\",INMUEBLE!$L$14,INMUEBLE!$K$14)","v":0}]
[null,null,null,"Robo o intento de robo de instalaciones fijas",null,{"$f":"coberturasyClausulas!$J$5","v":"Hasta el 20% de la suma asegurada de inmueble, máximo US$ 5,000 ,suma asegurada que forma parte de la cobertura principal"},{"$f":"+IF(Cotizador!$H$37=\"X\",INMUEBLE!$L$15,INMUEBLE!$K$15)","v":0}]
[null,null,null,"Reembolso de gastos médicos por accidentes de trabajadores del hogar, ocurridos dentro del inmueble",null,{"$f":"coberturasyClausulas!$J$6","v":"Hasta US$ 5,000 por evento, máximo 3 eventos por vigencia de la póliza"},{"$f":"+IF(Cotizador!$H$37=\"X\",INMUEBLE!$L$16,INMUEBLE!$K$16)","v":0}]
[null,null,null,"Gastos de arrendamiento de vivienda temporal a reembolso",null,{"$f":"coberturasyClausulas!$J$7","v":"Hasta US$ 2,000 mensuales, máximo 6 meses por vigencia de la póliza, suma asegurada que forma parte de la cobertura principal"},{"$f":"+IF(Cotizador!$H$37=\"X\",INMUEBLE!$L$17,INMUEBLE!$K$17)","v":0}]
[null,null,null,"Alquiler no percibido por inmueble inhabitable temporalmente",null,{"$f":"coberturasyClausulas!$J$8","v":"Hasta US$ 2,000 mensuales, máximo 6 meses por vigencia de la póliza, suma asegurada que forma parte de la cobertura principal"},{"$f":"+IF(Cotizador!$H$37=\"X\",INMUEBLE!$L$18,INMUEBLE!$K$18)","v":0}]
[null,"X",null,"Gastos extraordinarios: remoción de escombros, honorarios profesionales y construcción de documentos y modelos ",null,"Hasta el 20% de la suma asegurada de Inmueble, suma asegurada que forma parte de la cobertura principal",0]
[null,null,null,null,"Asistencias"]
[null,null,null,{"$f":"coberturasyClausulas!$E$11","v":"Envío y pago de Cerrajero por emergencia las 24H"},null,{"$f":"coberturasyClausulas!$J$11","v":"Hasta US$ 300 por evento, Máximo de 3 eventos"},{"$f":"+IF(Cotizador!$H$37=\"X\",INMUEBLE!$L$19,INMUEBLE!$K$19)","v":0}]
[null,null,null,{"$f":"coberturasyClausulas!$E$12","v":"Envío y pago de Gasfitero por emergencia las 24H"},null,{"$f":"coberturasyClausulas!$J$12","v":"Hasta US$ 300 por evento, Máximo de 3 eventos"}]
[null,null,null,{"$f":"coberturasyClausulas!$E$13","v":"Envío y pago de Electricista por emergencia las 24H"},null,{"$f":"coberturasyClausulas!$J$13","v":"Hasta US$ 300 por evento, Máximo de 3 eventos"}]
[null,null,null,{"$f":"coberturasyClausulas!$E$14","v":"Envío y pago de Vidriero por emergencia las 24H"},null,{"$f":"coberturasyClausulas!$J$14","v":"Hasta US$ 300 por evento, Máximo de 3 eventos"}]
[null,null,null,{"$f":"coberturasyClausulas!$E$15","v":"Limpieza del inmueble asegurado a consecuencia de un siniestro"},null,{"$f":"coberturasyClausulas!$J$15","v":"Hasta US$ 500 por evento, Máximo de 3 eventos"}]
[null,null,null,{"$f":"coberturasyClausulas!$E$16","v":"Servicio de Lavado de estores, roller, alfombras"},null,{"$f":"coberturasyClausulas!$J$16","v":"Hasta US$ 80 por evento, máximo de 1 evento, cubriendo la limpieza de una pieza."}]
[null,null,null,{"$f":"coberturasyClausulas!$E$17","v":"Servicio de Lavado de colchón"},null,{"$f":"coberturasyClausulas!$J$17","v":"Hasta US$ 80 por evento, máximo de 1 evento, cubriendo la limpieza de una pieza."}]
[null,null,null,{"$f":"coberturasyClausulas!$E18","v":"Masajes  relajantes a domicilio durante 1 hora"},null,{"$f":"coberturasyClausulas!$J18","v":"Hasta US$ 80 por evento, máximo de 1 evento, cubriendo la limpieza de una pieza."}]
[null,null,null,{"$f":"coberturasyClausulas!$E19","v":"Mozo a domicilio "},null,{"$f":"coberturasyClausulas!$J19","v":"Hasta máximo de 3 eventos al año, con servicio una vez al mes."}]
[null,null,null,{"$f":"coberturasyClausulas!$E20","v":"Mantenimiento Preventivo de Línea Blanca"},null,{"$f":"coberturasyClausulas!$J20","v":"Hasta US$ 75 por evento, máximo de 3 eventos, cubriendo la revisión de un equipo."}]
[null,null,null,{"$f":"coberturasyClausulas!$E21","v":"Orientación telefónica veterinaria para perros las 24H"},null,{"$f":"coberturasyClausulas!$J21","v":"Sin límite"}]
[null,null,null,{"$f":"coberturasyClausulas!$E22","v":"Hospedaje de perros"},null,{"$f":"coberturasyClausulas!$J22","v":"Hasta máximo de 3 eventos. Se considera 1 día de hospedaje por evento."}]
[null,null,null,"Deducibles:\nAplicables por evento/pérdida, en caso de discrepancia prevalece el mayor"]
[null,{"$f":"IF($B$14=0,\"\",$B$14)","v":""},null,"Terremoto / Maremoto",null,{"$f":"coberturasyClausulas!$J$26","v":"Hasta el 1% del límite asegurado, mínimo US$ 200"}]
[null,{"$f":"IF($B$14=0,\"\",$B$14)","v":""},null,"Otros Riesgos de la Naturaleza (entre ellos lluvia, inundación, otros)",null,{"$f":"coberturasyClausulas!$J$27","v":"Hasta 10% del monto indemnizable, mínimo US$ 200"}]
[null,"X",null,"Daños por agua",null,{"$f":"coberturasyClausulas!$J$28","v":"Hasta 10% del monto indemnizable, mínimo US$ 200"}]
[null,"X",null,"Riesgos políticos y sociales",null,{"$f":"coberturasyClausulas!$J$29","v":"Hasta 10% del monto indemnizable, mínimo US$ 200"}]
[null,{"$f":"IF($B$16=0,\"\",$B$16)","v":""},null,"Responsabilidad civil frente a terceros",null,{"$f":"coberturasyClausulas!$J$30","v":"Hasta 10% del monto indemnizable, mínimo US$ 200"}]
[null,{"$f":"IF($B$18=0,\"\",$B$18)","v":""},null,"Rotura accidental de vidrio y/o cristales",null,{"$f":"coberturasyClausulas!$J$31","v":"Hasta 10% del monto indemnizable, mínimo US$ 200"}]
[null,{"$f":"IF($B$19=0,\"\",$B$19)","v":""},null,"Robo o intento de robo de instalaciones fijas",null,{"$f":"coberturasyClausulas!$J$32","v":"Hasta 10% del monto indemnizable, mínimo US$ 200"}]
[null,{"$f":"IF($B$24=0,\"\",$B$24)","v":""},null,"Demás coberturas",null,"Sin deducible"]

{"sheet":"PRIMER RIESGO BIENES","index":19,"n_rows":42,"n_cols":10,"rows_kept":42,"cut":false,"hidden":true,"merged":[[9,3,9,4],[11,3,11,4],[13,3,13,4],[14,3,14,4],[15,3,16,4],[41,3,41,4],[41,5,41,6],[38,3,38,4],[39,3,39,4],[40,3,40,4],[21,6,32,6],[36,3,36,4],[37,3,37,4],[19,3,19,4],[40,5,40,6],[24,3,24,4],[21,3,21,4],[22,3,22,4],[23,3,23,4],[38,5,38,6],[39,5,39,6],[33,3,33,6],[34,5,34,6],[35,5,35,6],[36,5,36,6],[37,5,37,6],[15,1,16,1],[17,3,17,4],[18,3,18,4],[34,3,34,4],[35,3,35,4],[26,3,26,4],[27,3,27,4],[25,3,25,4],[28,3,28,4],[29,3,29,4],[30,3,30,4],[31,3,31,4],[32,3,32,4]]}
[null,null,null,"PRIMER RIESGO  BIENES",null,"Ir a Cotizador"]
[null,null,null,null,"INGRESE LA SUMA ASEGURADA",null,null,null,null,"total"]
[null,null,null,"Suma Asegurada de Bienes",null,"Prima comercial",{"$f":"IFERROR(BIENES!$P$7,0)","v":51.5},null,null,{"$f":"SUM(#REF!)","v":{"$error":"#REF!"}}]
[null,null,null,null,null,"Igv",{"$f":"IFERROR(BIENES!$P$8,0)","v":9.27}]
[null,null,null,null,null,"Prima total",{"$f":"IFERROR(BIENES!$P$9,0)","v":60.769999999999996}]
[]
[]
[]
[]
[null,null,null,"COBERTURAS  (solo BIENES)",null,"Límites asegurados por vigencia","Prima Comercial"]
[null,null,null,"Cobertura principal"]
[null,"X",null,"Incendio y/o rayo, explosión, incendio en aparatos eléctricos. Daños por agua, daños por humo, impacto de vehículos y/o aeronaves o daños por riesgos políticos y sociales",null,{"$f":"$E$3","v":0},{"$f":"+IF(Cotizador!$H$37=\"X\",BIENES!$L$13,BIENES!$K$13)","v":51.5}]
[null,null,null,"Coberturas adicionales"]
[null,null,null,"Robo y/o daños por intento de robo (dentro y fuera de la vivienda a nivel nacional)",null,{"$f":"$F$12","v":0},{"$f":"+IF(Cotizador!$H$37=\"X\",BIENES!$L$32,BIENES!$K$32)","v":0}]
[null,null,null,"Robo y/o daños por intento de robo de joyas, platería, relojes, obras de arte, cámaras fotográficas o de video, laptops y bicicletas dentro de la vivienda o que estén siendo portados fuera de la vivienda. ",null,"USD 10,000, sublímite de la cobertura de Robo",{"$f":"+IF(Cotizador!$H$37=\"X\",BIENES!$L$33,BIENES!$K$33)","v":0}]
[null,null,null,"Terremoto, temblor, maremoto, Inundaciones y riesgos de la naturaleza",null,{"$f":"$F$14","v":0},{"$f":"+IF(Cotizador!$H$37=\"X\",BIENES!$L$14,BIENES!$K$14)","v":0}]
[null,null,null,null,null,"Suma asegurada que forma parte de la cobertura principal"]
[null,null,null,"Hurto",null,{"$f":"coberturasyClausulas!$J$37","v":"Hasta US$ 3,000 , sublímite de la cobertura de Robo"},{"$f":"+IF(Cotizador!$H$37=\"X\",BIENES!$L$34,BIENES!$K$34)","v":0}]
[null,null,null,"Deshonestidad de trabajadores del hogar",null,{"$f":"coberturasyClausulas!$J$38","v":"Hasta US$ 5,000 por evento, máximo 3 eventos por vigencia de la póliza, sublímite de la cobertura de Robo"},{"$f":"+IF(Cotizador!$H$37=\"X\",BIENES!$L$35,BIENES!$K$35)","v":0}]
[null,"X",null,"Gastos extraordinarios: remoción de escombros, honorarios profesionales y construcción de documentos y modelos ",null,"Hasta el 20% de la suma asegurada de bienes, suma asegurada que forma parte de la cobertura principal",0]
[null,null,null,null,"Asistencias"]
[null,null,null,{"$f":"coberturasyClausulas!$E$39","v":"Envío y pago de Cerrajero por emergencia "},null,{"$f":"coberturasyClausulas!$J$39","v":"Hasta US$ 300 por evento, Máximo de 3 eventos"},{"$f":"+IF(Cotizador!H37=\"X\",BIENES!$L$15,BIENES!$K$15)","v":0}]
[null,null,null,{"$f":"coberturasyClausulas!$E$40","v":"Envío y pago de Gasfitero por emergencia "},null,{"$f":"coberturasyClausulas!$J$40","v":"Hasta US$ 300 por evento, Máximo de 3 eventos"}]
[null,null,null,{"$f":"coberturasyClausulas!$E$41","v":"Envío y pago de Electricista por emergencia"},null,{"$f":"coberturasyClausulas!$J$41","v":"Hasta US$ 300 por evento, Máximo de 3 eventos"}]
[null,null,null,{"$f":"coberturasyClausulas!$E$42","v":"Envío y pago de Vidriero por emergencia"},null,{"$f":"coberturasyClausulas!$J$42","v":"Hasta US$ 300 por evento, Máximo de 3 eventos"}]
[null,null,null,{"$f":"coberturasyClausulas!$E$43","v":"Limpieza del inmueble asegurado a consecuencia de un siniestro"},null,{"$f":"coberturasyClausulas!$J$43","v":"Hasta US$ 500 por evento, Máximo de 3 eventos"}]
[null,null,null,{"$f":"coberturasyClausulas!$E$44","v":"Servicio de Lavado de estores, roller, alfombras"},null,{"$f":"coberturasyClausulas!$J$44","v":"Hasta US$ 80 por evento, máximo de 1 evento, cubriendo la limpieza de una pieza."}]
[null,null,null,{"$f":"coberturasyClausulas!$E$45","v":"Servicio de Lavado de colchón"},null,{"$f":"coberturasyClausulas!$J$45","v":"Hasta US$ 80 por evento, máximo de 1 evento, cubriendo la limpieza de una pieza."}]
[null,null,null,{"$f":"coberturasyClausulas!$E$46","v":"Masajes  relajantes a domicilio durante 1 hora"},null,{"$f":"coberturasyClausulas!$J$46","v":"Hasta US$ 80 por evento, máximo de 1 evento, cubriendo la limpieza de una pieza."}]
[null,null,null,{"$f":"coberturasyClausulas!$E$47","v":"Mozo a domicilio "},null,{"$f":"coberturasyClausulas!$J$47","v":"Hasta máximo de 3 eventos al año, con servicio una vez al mes."}]
[null,null,null,{"$f":"coberturasyClausulas!$E$48","v":"Mantenimiento Preventivo de Línea Blanca"},null,{"$f":"coberturasyClausulas!$J$48","v":"Hasta US$ 75 por evento, máximo de 3 eventos, cubriendo la revisión de un equipo."}]
[null,null,null,{"$f":"coberturasyClausulas!$E$49","v":"Orientación telefónica veterinaria para perros las 24H"},null,{"$f":"coberturasyClausulas!$J$49","v":"Sin límite"}]
[null,null,null,{"$f":"coberturasyClausulas!$E$50","v":"Hospedaje de perros"},null,{"$f":"coberturasyClausulas!$J$50","v":"Hasta máximo de 3 eventos. Se considera 1 día de hospedaje por evento."}]
[null,null,null,"Deducibles:\nAplicables por evento/pérdida, en caso de discrepancia prevalece el mayor"]
[null,{"$f":"IF($B$14=0,\"\",$B$14)","v":""},null,"Robo y/o daños por intento de robo",null,{"$f":"coberturasyClausulas!$J$54","v":"Hasta 10% del monto indemnizable, mínimo US$ 200"}]
[null,{"$f":"IF($B$18=0,\"\",$B$18)","v":""},null,"Hurto",null,{"$f":"coberturasyClausulas!$J$55","v":"Hasta 10% del monto indemnizable, mínimo US$ 200"}]
[null,{"$f":"IF($B$19=0,\"\",$B$19)","v":""},null,"Deshonestidad de trabajadores del hogar",null,{"$f":"coberturasyClausulas!$J$56","v":"Hasta 10% del monto indemnizable, mínimo US$ 200"}]
[null,{"$f":"IF($B$16=0,\"\",$B$16)","v":""},null,"Terremoto / Maremoto",null,{"$f":"coberturasyClausulas!$J$57","v":"Hasta el 1% del límite asegurado, mínimo US$ 200"}]
[null,{"$f":"IF($B$16=0,\"\",$B$16)","v":""},null,"Otros Riesgos de la Naturaleza (entre ellos lluvia, inundación, otros)",null,{"$f":"coberturasyClausulas!$J$58","v":"Hasta 10% del monto indemnizable, mínimo US$ 200"}]
[null,"X",null,"Daños por agua",null,{"$f":"coberturasyClausulas!$J$59","v":"Hasta 10% del monto indemnizable, mínimo US$ 200"}]
[null,"X",null,"Riesgos políticos y sociales",null,{"$f":"coberturasyClausulas!$J$60","v":"Hasta 10% del monto indemnizable, mínimo US$ 200"}]
[null,{"$f":"IF($B$21=0,\"\",$B$21)","v":""},null,"Demás coberturas",null,"Sin deducible"]

{"sheet":"PRIMER RIESGO INMUEBLE+BIENES","index":20,"n_rows":53,"n_cols":10,"rows_kept":53,"cut":false,"hidden":true,"merged":[[39,3,39,4],[39,5,39,6],[40,3,40,4],[40,5,40,6],[45,5,45,7],[41,3,41,7],[42,5,42,7],[43,5,43,7],[44,5,44,7],[42,3,42,4],[43,3,43,4],[44,3,44,4],[45,3,45,4],[29,7,40,7],[32,3,32,4],[33,3,33,4],[27,3,27,4],[29,3,29,4],[30,3,30,4],[31,3,31,4],[27,5,27,6],[28,5,28,6],[29,5,29,6],[17,1,18,1],[17,3,18,4],[17,5,17,6],[17,7,18,7],[32,5,32,6],[18,5,18,6],[19,5,19,6],[24,5,24,6],[25,3,25,4],[25,5,25,6],[26,5,26,6],[24,3,24,4],[26,3,26,4],[23,3,23,4],[19,3,19,4],[20,3,20,4],[9,7,10,7],[13,1,14,1],[13,3,14,4],[13,7,14,7],[15,1,16,1],[15,3,16,4],[15,6,16,6],[15,7,16,7],[9,3,9,4],[11,3,11,4],[21,3,21,4],[22,3,22,4],[51,3,51,4],[51,5,51,7],[52,3,52,4],[52,5,52,7],[46,5,46,7],[47,5,47,7],[48,5,48,7],[49,5,49,7],[50,3,50,4],[50,5,50,7],[49,3,49,4],[47,3,47,4],[48,3,48,4],[46,3,46,4],[33,5,33,6],[36,5,36,6],[30,5,30,6],[31,5,31,6],[34,3,34,4],[34,5,34,6],[35,3,35,4],[35,5,35,6],[37,3,37,4],[37,5,37,6],[38,3,38,4],[38,5,38,6],[36,3,36,4]]}
[null,null,null,"PRIMER RIESGO INMUEBLE +BIENES",null,null,"Ir a Cotizador"]
[null,null,null,null,"INGRESE LAS SUMAS ASEGURADAS",null,null,null,null,"total"]
[null,null,null,"Suma Asegurada de Inmueble",200000,null,null,{"$f":"IFERROR('INMUEBLE Y BIENES'!$P$7,0)","v":629.83050000000003},null,{"$f":"SUM(#REF!)","v":{"$error":"#REF!"}}]
[null,null,null,"Suma Asegurada de Bienes",10000,null,null,{"$f":"IFERROR('INMUEBLE Y BIENES'!$P$8,0)","v":113.36949}]
[null,null,null,null,null,null,null,{"$f":"IFERROR('INMUEBLE Y BIENES'!$P$9,0)","v":743.19999000000007}]
[]
[]
[]
[]
[null,null,null,"COBERTURAS  (INMUEBLE Y BIENES)",null,"Límites asegurados por vigencia, hasta","Límites asegurados por vigencia, hasta","Prima Comercial"]
[null,null,null,"Cobertura principal",null,"INMUEBLE","BIENES"]
[null,"X",null,"Incendio y/o rayo, explosión, incendio en aparatos eléctricos. Daños por agua, daños por humo, impacto de vehículos y/o aeronaves o daños por riesgos políticos y sociales",null,{"$f":"$E$3","v":200000},{"$f":"$E$4","v":10000},{"$f":"+IF(Cotizador!$H$37=\"X\",'INMUEBLE Y BIENES'!$L$50,'INMUEBLE Y BIENES'!$K$50)","v":114.8605}]
[null,null,null,"Coberturas adicionales"]
[null,"X",null,"Terremoto, temblor, maremoto, Inundaciones y riesgos de la naturaleza",null,{"$f":"$E$3","v":200000},{"$f":"$E$4","v":10000},{"$f":"+IF(Cotizador!$H$37=\"X\",'INMUEBLE Y BIENES'!$L$51,'INMUEBLE Y BIENES'!$K$51)","v":447.79}]
[null,null,null,null,null,"Suma asegurada que forma parte de la cobertura principal","Suma asegurada que forma parte de la cobertura principal"]
[null,"X",null,"Responsabilidad civil frente a terceros",null,{"$f":"$E$3","v":200000},"-",{"$f":"+IF(Cotizador!$H$37=\"X\",'INMUEBLE Y BIENES'!$L$52,'INMUEBLE Y BIENES'!$K$52)","v":2.0299999999999998}]
[null,null,null,null,null,{"$f":"coberturasyClausulas!$J$64","v":" máximo US$ 200,000"}]
[null,"X",null,"Rotura accidental de vidrio y/o cristales",null,{"$f":"coberturasyClausulas!$J$65","v":"US$ 3,000"},null,{"$f":"+IF(Cotizador!$H$37=\"X\",'INMUEBLE Y BIENES'!$L$53,'INMUEBLE Y BIENES'!$K$53)","v":4.46}]
[null,null,null,null,null,"Suma asegurada que forma parte de la cobertura principal"]
[null,"X",null,"Robo o intento de robo de instalaciones fijas",null,{"$f":"coberturasyClausulas!$J$66","v":"20% de la suma asegurada de inmueble, máximo US$ 5,000 , suma asegurada que forma parte de la cobertura principal"},null,{"$f":"+IF(Cotizador!$H$37=\"X\",'INMUEBLE Y BIENES'!$L$54,'INMUEBLE Y BIENES'!$K$54)","v":0.36}]
[null,"X",null,"Robo y/o daños por intento de robo (dentro y fuera de la vivienda a nivel nacional)",null,"-",{"$f":"$E$4","v":10000},{"$f":"+IF(Cotizador!$H$37=\"X\",'INMUEBLE Y BIENES'!$L$70,'INMUEBLE Y BIENES'!$K$70)","v":45.25}]
[null,"X",null,"Robo y/o daños por intento de robo de joyas, platería, relojes, obras de arte, cámaras fotográficas o de video, laptops y bicicletas dentro de la vivienda o que estén siendo portados fuera de la vivienda. ",null,"-","USD 10,000, sublímite de la cobertura de Robo",{"$f":"+IF(Cotizador!$H$37=\"X\",'INMUEBLE Y BIENES'!$L$71,'INMUEBLE Y BIENES'!$K$71)","v":4.37}]
[null,"X",null,"Hurto",null,"-",{"$f":"coberturasyClausulas!$J$68","v":"US$ 3,000 , sublímite de la cobertura de Robo"},{"$f":"+IF(Cotizador!$H$37=\"X\",'INMUEBLE Y BIENES'!$L$72,'INMUEBLE Y BIENES'!$K$72)","v":4.96}]
[null,null,null,"Deshonestidad de trabajadores del hogar",null,"-",{"$f":"coberturasyClausulas!$J$69","v":"US$ 5,000 por evento, máximo 3 eventos por vigencia de la póliza, sublímite de la cobertura de Robo"},{"$f":"+IF(Cotizador!$H$37=\"X\",'INMUEBLE Y BIENES'!$L$73,'INMUEBLE Y BIENES'!$K$73)","v":0}]
[null,null,null,"Reembolso de gastos médicos por accidentes de trabajadores del hogar, ocurridos dentro del inmueble",null,{"$f":"coberturasyClausulas!$J$70","v":"US$ 5,000 por evento, máximo 3 eventos por vigencia de la póliza"},"Hasta US$ 5,000 / S/ 15,000 por evento, máximo 3 eventos por vigencia de la póliza",{"$f":"+IF(Cotizador!$H$37=\"X\",'INMUEBLE Y BIENES'!$L$55,'INMUEBLE Y BIENES'!$K$55)","v":0}]
[null,null,null,"Gastos de arrendamiento de vivienda temporal a reembolso",null,{"$f":"coberturasyClausulas!$J$71","v":"US$ 2,000 mensuales, máximo 6 meses por vigencia de la póliza, suma asegurada que forma parte de la cobertura principal"},"Hasta US$ 2,000 / S/ 6,000 mensuales, máximo 6 meses por vigencia de la póliza, suma asegurada que forma parte de la cobertura principal",{"$f":"+IF(Cotizador!$H$37=\"X\",'INMUEBLE Y BIENES'!$L$56,'INMUEBLE Y BIENES'!$K$56)","v":0}]
[null,null,null,"Alquiler no percibido por inmueble inhabitable temporalmente (aplica solo para el arrendador)",null,{"$f":"coberturasyClausulas!$J$72","v":"US$ 2,000 mensuales, máximo 6 meses por vigencia de la póliza, suma asegurada que forma parte de la cobertura principal"},"Hasta US$ 2,000 / S/ 6,000 mensuales, máximo 6 meses por vigencia de la póliza, suma asegurada que forma parte de la cobertura principal",{"$f":"+IF(Cotizador!$H$37=\"X\",'INMUEBLE Y BIENES'!$L$57,'INMUEBLE Y BIENES'!$K$57)","v":0}]
[null,"X",null,"Gastos extraordinarios: remoción de escombros, honorarios profesionales y construcción de documentos y modelos ",null,"20% de la suma asegurada de inmueble y/o bienes, suma asegurada que forma parte de la cobertura principal","Hasta el 20% de la suma asegurada de inmueble y/o bienes, suma asegurada que forma parte de la cobertura principal",0]
[null,"X",null,null,"Asistencias"]
[null,null,null,{"$f":"coberturasyClausulas!$E$73","v":"Envío y pago de Cerrajero por emergencia "},null,{"$f":"coberturasyClausulas!$J$73","v":"Hasta US$ 300 por evento, Máximo de 3 eventos"},null,{"$f":"+IF(Cotizador!$H$37=\"X\",'INMUEBLE Y BIENES'!$L$58,'INMUEBLE Y BIENES'!$K$58)","v":5.75}]
[null,null,null,{"$f":"coberturasyClausulas!$E$74","v":"Envío y pago de Gasfitero por emergencia "},null,{"$f":"coberturasyClausulas!$J$74","v":"Hasta US$ 300 por evento, Máximo de 3 eventos"}]
[null,null,null,{"$f":"coberturasyClausulas!$E$75","v":"Envío y pago de Electricista por emergencia"},null,{"$f":"coberturasyClausulas!$J$75","v":"Hasta US$ 300 por evento, Máximo de 3 eventos"}]
[null,null,null,{"$f":"coberturasyClausulas!$E$76","v":"Envío y pago de Vidriero por emergencia"},null,{"$f":"coberturasyClausulas!$J$76","v":"Hasta US$ 300 por evento, Máximo de 3 eventos"}]
[null,null,null,{"$f":"coberturasyClausulas!$E$77","v":"Limpieza del inmueble asegurado a consecuencia de un siniestro"},null,{"$f":"coberturasyClausulas!$J$77","v":"Hasta US$ 500 por evento, Máximo de 3 eventos"}]
[null,null,null,{"$f":"coberturasyClausulas!$E$78","v":"Servicio de Lavado de estores, roller, alfombras"},null,{"$f":"coberturasyClausulas!$J$78","v":"Hasta US$ 80 por evento, máximo de 1 evento, cubriendo la limpieza de una pieza."}]
[null,null,null,{"$f":"coberturasyClausulas!$E$79","v":"Servicio de Lavado de colchón"},null,{"$f":"coberturasyClausulas!$J$79","v":"Hasta US$ 80 por evento, máximo de 1 evento, cubriendo la limpieza de una pieza."}]
[null,null,null,{"$f":"coberturasyClausulas!$E80","v":"Masajes  relajantes a domicilio durante 1 hora"},null,{"$f":"coberturasyClausulas!$J80","v":"Hasta US$ 80 por evento, máximo de 1 evento, cubriendo la limpieza de una pieza."}]
[null,null,null,{"$f":"coberturasyClausulas!$E81","v":"Mozo a domicilio "},null,{"$f":"coberturasyClausulas!$J81","v":"Hasta máximo de 3 eventos al año, con servicio una vez al mes."}]
[null,null,null,{"$f":"coberturasyClausulas!$E82","v":"Mantenimiento Preventivo de Línea Blanca"},null,{"$f":"coberturasyClausulas!$J82","v":"Hasta US$ 75 por evento, máximo de 3 eventos, cubriendo la revisión de un equipo."}]
[null,null,null,{"$f":"coberturasyClausulas!$E83","v":"Orientación telefónica veterinaria para perros las 24H"},null,{"$f":"coberturasyClausulas!$J83","v":"Sin límite"}]
[null,null,null,{"$f":"coberturasyClausulas!$E84","v":"Hospedaje de perros"},null,{"$f":"coberturasyClausulas!$J84","v":"Hasta máximo de 3 eventos. Se considera 1 día de hospedaje por evento."}]
[null,null,null,"Deducibles:\nAplicables por evento/pérdida, en caso de discrepancia prevalece el mayor"]
[null,{"$f":"IF($B$14=0,\"\",$B$14)","v":"X"},null,"Terremoto / Maremoto",null,{"$f":"coberturasyClausulas!$J$88","v":"Hasta el 1% del límite asegurado, mínimo US$ 200"}]
[null,{"$f":"IF($B$14=0,\"\",$B$14)","v":"X"},null,"Otros Riesgos de la Naturaleza (entre ellos lluvia, inundación, otros)",null,{"$f":"coberturasyClausulas!$J$89","v":"Hasta 10% del monto indemnizable, mínimo US$ 200"}]
[null,"X",null,"Daños por agua",null,{"$f":"coberturasyClausulas!$J$90","v":"Hasta 10% del monto indemnizable, mínimo US$ 200"}]
[null,"X",null,"Riesgos políticos y sociales",null,{"$f":"coberturasyClausulas!$J$91","v":"Hasta 10% del monto indemnizable, mínimo US$ 200"}]
[null,{"$f":"IF($B$16=0,\"\",$B$16)","v":"X"},null,"Responsabilidad civil frente a terceros",null,{"$f":"coberturasyClausulas!$J$92","v":"Hasta 10% del monto indemnizable, mínimo US$ 200"}]
[null,{"$f":"IF($B$18=0,\"\",$B$18)","v":"X"},null,"Rotura accidental de vidrio y/o cristales",null,{"$f":"coberturasyClausulas!$J$93","v":"Hasta 10% del monto indemnizable, mínimo US$ 200"}]
[null,{"$f":"IF($B$20=0,\"\",$B$20)","v":"X"},null,"Robo o intento de robo de instalaciones fijas",null,{"$f":"coberturasyClausulas!$J$94","v":"Hasta 10% del monto indemnizable, mínimo US$ 200"}]
[null,{"$f":"IF($B$21=0,\"\",$B$21)","v":"X"},null,"Robo y/o daños por intento de robo",null,{"$f":"coberturasyClausulas!$J$95","v":"Hasta 10% del monto indemnizable, mínimo US$ 200"}]
[null,{"$f":"IF($B$23=0,\"\",$B$23)","v":"X"},null,"Hurto",null,{"$f":"coberturasyClausulas!$J$96","v":"Hasta 10% del monto indemnizable, mínimo US$ 200"}]
[null,{"$f":"IF($B$24=0,\"\",$B$24)","v":""},null,"Deshonestidad de trabajadores del hogar",null,{"$f":"coberturasyClausulas!$J$97","v":"Hasta 10% del monto indemnizable, mínimo US$ 200"}]
[null,{"$f":"IF($B$29=0,\"\",$B$29)","v":"X"},null,"Demás coberturas",null,"Sin deducible"]

{"sheet":"PlanFullCasaCompleta","index":21,"n_rows":49,"n_cols":8,"rows_kept":49,"cut":false,"hidden":true,"merged":[[47,3,47,4],[47,5,47,7],[48,3,48,4],[48,5,48,7],[44,3,44,4],[44,5,44,7],[45,3,45,4],[45,5,45,7],[46,3,46,4],[46,5,46,7],[41,3,41,4],[41,5,41,7],[42,3,42,4],[42,5,42,7],[43,3,43,4],[43,5,43,7],[39,3,39,4],[39,5,39,7],[40,3,40,4],[40,5,40,7],[37,3,37,7],[38,3,38,4],[38,5,38,7],[29,7,36,7],[30,3,30,4],[30,5,30,6],[31,3,31,4],[31,5,31,6],[32,3,32,4],[32,5,32,6],[35,3,35,4],[35,5,35,6],[36,3,36,4],[36,5,36,6],[33,3,33,4],[33,5,33,6],[34,3,34,4],[34,5,34,6],[27,5,27,6],[28,5,28,6],[29,3,29,4],[29,5,29,6],[24,5,24,6],[25,3,25,4],[25,5,25,6],[26,3,26,4],[26,5,26,6],[21,3,21,4],[22,3,22,4],[23,3,23,4],[24,3,24,4],[27,3,27,4],[19,3,19,4],[19,5,19,6],[20,3,20,4],[15,7,16,7],[17,5,17,6],[17,7,18,7],[15,1,16,1],[15,3,16,4],[15,6,16,6],[17,1,18,1],[17,3,18,4],[18,5,18,6],[9,3,9,4],[9,7,10,7],[11,3,11,4],[13,1,14,1],[13,3,14,4],[13,7,14,7]]}
[null,null,null,"PLAN FULL CASA COMPLETA",null,"Ir a Cotizador"]
[]
[]
[]
[]
[]
[]
[]
[]
[null,null,null,"COBERTURAS  (INMUEBLE Y BIENES)",null,"Límites asegurados por vigencia, hasta","Límites asegurados por vigencia, hasta","Prima Comercial"]
[null,null,null,"Cobertura principal",null,"INMUEBLE","BIENES"]
[null,"X",null,"Incendio y/o rayo, explosión, incendio en aparatos eléctricos. Daños por agua, daños por humo, impacto de vehículos y/o aeronaves o daños por riesgos políticos y sociales"]
[null,null,null,"Coberturas adicionales"]
[null,"X",null,"Terremoto, temblor, maremoto, Inundaciones y riesgos de la naturaleza"]
[null,null,null,null,null,"Suma asegurada que forma parte de la cobertura principal","Suma asegurada que forma parte de la cobertura principal"]
[null,null,null,"Responsabilidad civil frente a terceros",null,null,"-"]
[null,null,null,null,null,{"$f":"coberturasyClausulas!$J$64","v":" máximo US$ 200,000"}]
[null,"X",null,"Rotura accidental de vidrio y/o cristales",null,{"$f":"coberturasyClausulas!$J$65","v":"US$ 3,000"}]
[null,null,null,null,null,"Suma asegurada que forma parte de la cobertura principal"]
[null,"X",null,"Robo o intento de robo de instalaciones fijas",null,{"$f":"coberturasyClausulas!$J$66","v":"20% de la suma asegurada de inmueble, máximo US$ 5,000 , suma asegurada que forma parte de la cobertura principal"}]
[null,"X",null,"Robo y/o daños por intento de robo (dentro y fuera de la vivienda a nivel nacional)",null,"-"]
[null,"X",null,"Robo y/o daños por intento de robo de joyas, platería, relojes, obras de arte, cámaras fotográficas o de video, laptops y bicicletas dentro de la vivienda o que estén siendo portados fuera de la vivienda. ",null,"-","USD 10,000, sublímite de la cobertura de Robo"]
[null,null,null,"Hurto",null,"-",{"$f":"coberturasyClausulas!$J$68","v":"US$ 3,000 , sublímite de la cobertura de Robo"}]
[null,null,null,"Deshonestidad de trabajadores del hogar",null,"-",{"$f":"coberturasyClausulas!$J$69","v":"US$ 5,000 por evento, máximo 3 eventos por vigencia de la póliza, sublímite de la cobertura de Robo"}]
[null,"X",null,"Reembolso de gastos médicos por accidentes de trabajadores del hogar, ocurridos dentro del inmueble",null,{"$f":"coberturasyClausulas!$J$70","v":"US$ 5,000 por evento, máximo 3 eventos por vigencia de la póliza"},"Hasta US$ 5,000 / S/ 15,000 por evento, máximo 3 eventos por vigencia de la póliza"]
[null,null,null,"Gastos de arrendamiento de vivienda temporal a reembolso",null,{"$f":"coberturasyClausulas!$J$71","v":"US$ 2,000 mensuales, máximo 6 meses por vigencia de la póliza, suma asegurada que forma parte de la cobertura principal"},"Hasta US$ 2,000 / S/ 6,000 mensuales, máximo 6 meses por vigencia de la póliza, suma asegurada que forma parte de la cobertura principal"]
[null,null,null,"Alquiler no percibido por inmueble inhabitable temporalmente (aplica solo para el arrendador)",null,{"$f":"coberturasyClausulas!$J$72","v":"US$ 2,000 mensuales, máximo 6 meses por vigencia de la póliza, suma asegurada que forma parte de la cobertura principal"},"Hasta US$ 2,000 / S/ 6,000 mensuales, máximo 6 meses por vigencia de la póliza, suma asegurada que forma parte de la cobertura principal"]
[null,"X",null,"Gastos extraordinarios: remoción de escombros, honorarios profesionales y construcción de documentos y modelos ",null,"20% de la suma asegurada de inmueble y/o bienes, suma asegurada que forma parte de la cobertura principal","Hasta el 20% de la suma asegurada de inmueble y/o bienes, suma asegurada que forma parte de la cobertura principal"]
[null,"X",null,null,"Asistencias"]
[null,"X",null,{"$f":"coberturasyClausulas!$E$73","v":"Envío y pago de Cerrajero por emergencia "},null,{"$f":"coberturasyClausulas!$J$73","v":"Hasta US$ 300 por evento, Máximo de 3 eventos"}]
[null,"X",null,{"$f":"coberturasyClausulas!$E$74","v":"Envío y pago de Gasfitero por emergencia "},null,{"$f":"coberturasyClausulas!$J$74","v":"Hasta US$ 300 por evento, Máximo de 3 eventos"}]
[null,"X",null,{"$f":"coberturasyClausulas!$E$75","v":"Envío y pago de Electricista por emergencia"},null,{"$f":"coberturasyClausulas!$J$75","v":"Hasta US$ 300 por evento, Máximo de 3 eventos"}]
[null,"X",null,{"$f":"coberturasyClausulas!$E$76","v":"Envío y pago de Vidriero por emergencia"},null,{"$f":"coberturasyClausulas!$J$76","v":"Hasta US$ 300 por evento, Máximo de 3 eventos"}]
[null,null,null,{"$f":"coberturasyClausulas!$E$77","v":"Limpieza del inmueble asegurado a consecuencia de un siniestro"},null,{"$f":"coberturasyClausulas!$J$77","v":"Hasta US$ 500 por evento, Máximo de 3 eventos"}]
[null,"X",null,{"$f":"coberturasyClausulas!$E$78","v":"Servicio de Lavado de estores, roller, alfombras"},null,{"$f":"coberturasyClausulas!$J$78","v":"Hasta US$ 80 por evento, máximo de 1 evento, cubriendo la limpieza de una pieza."}]
[null,"X",null,{"$f":"coberturasyClausulas!$E$79","v":"Servicio de Lavado de colchón"},null,{"$f":"coberturasyClausulas!$J$79","v":"Hasta US$ 80 por evento, máximo de 1 evento, cubriendo la limpieza de una pieza."}]
[null,"X",null,{"$f":"coberturasyClausulas!$E$80","v":"Masajes  relajantes a domicilio durante 1 hora"},null,{"$f":"coberturasyClausulas!$J$80","v":"Hasta US$ 80 por evento, máximo de 1 evento, cubriendo la limpieza de una pieza."}]
[null,null,null,"Deducibles:\nAplicables por evento/pérdida, en caso de discrepancia prevalece el mayor"]
[null,null,null,"Terremoto / Maremoto",null,{"$f":"coberturasyClausulas!$J$88","v":"Hasta el 1% del límite asegurado, mínimo US$ 200"}]
[null,null,null,"Otros Riesgos de la Naturaleza (entre ellos lluvia, inundación, otros)",null,{"$f":"coberturasyClausulas!$J$89","v":"Hasta 10% del monto indemnizable, mínimo US$ 200"}]
[null,null,null,"Daños por agua",null,{"$f":"coberturasyClausulas!$J$90","v":"Hasta 10% del monto indemnizable, mínimo US$ 200"}]
[null,null,null,"Riesgos políticos y sociales",null,{"$f":"coberturasyClausulas!$J$91","v":"Hasta 10% del monto indemnizable, mínimo US$ 200"}]
[null,null,null,"Responsabilidad civil frente a terceros",null,{"$f":"coberturasyClausulas!$J$92","v":"Hasta 10% del monto indemnizable, mínimo US$ 200"}]
[null,null,null,"Rotura accidental de vidrio y/o cristales",null,{"$f":"coberturasyClausulas!$J$93","v":"Hasta 10% del monto indemnizable, mínimo US$ 200"}]
[null,null,null,"Robo o intento de robo de instalaciones fijas",null,{"$f":"coberturasyClausulas!$J$94","v":"Hasta 10% del monto indemnizable, mínimo US$ 200"}]
[null,null,null,"Robo y/o daños por intento de robo",null,{"$f":"coberturasyClausulas!$J$95","v":"Hasta 10% del monto indemnizable, mínimo US$ 200"}]
[null,null,null,"Hurto",null,{"$f":"coberturasyClausulas!$J$96","v":"Hasta 10% del monto indemnizable, mínimo US$ 200"}]
[null,null,null,"Deshonestidad de trabajadores del hogar",null,{"$f":"coberturasyClausulas!$J$97","v":"Hasta 10% del monto indemnizable, mínimo US$ 200"}]
[null,null,null,"Demás coberturas",null,"Sin deducible"]

{"sheet":"PlanBasico","index":22,"n_rows":49,"n_cols":8,"rows_kept":49,"cut":false,"hidden":true,"merged":[[47,3,47,4],[47,5,47,7],[48,3,48,4],[48,5,48,7],[44,3,44,4],[44,5,44,7],[45,3,45,4],[45,5,45,7],[46,3,46,4],[46,5,46,7],[41,3,41,4],[41,5,41,7],[42,3,42,4],[42,5,42,7],[43,3,43,4],[43,5,43,7],[27,5,27,6],[28,5,28,6],[29,5,29,6],[29,7,36,7],[30,5,30,6],[31,5,31,6],[32,5,32,6],[33,5,33,6],[19,5,19,6],[23,3,23,4],[24,5,24,6],[25,5,25,6],[26,5,26,6],[25,3,25,4],[19,3,19,4],[20,3,20,4],[21,3,21,4],[22,3,22,4],[24,3,24,4],[26,3,26,4],[9,7,10,7],[13,7,14,7],[15,7,16,7],[17,1,18,1],[17,3,18,4],[17,5,17,6],[17,7,18,7],[18,5,18,6],[13,1,14,1],[13,3,14,4],[15,1,16,1],[15,3,16,4],[15,6,16,6],[9,3,9,4],[11,3,11,4],[34,3,34,4],[34,5,34,6],[40,3,40,4],[35,3,35,4],[35,5,35,6],[36,3,36,4],[36,5,36,6],[38,3,38,4],[39,3,39,4],[37,3,37,7],[38,5,38,7],[39,5,39,7],[40,5,40,7],[27,3,27,4],[29,3,29,4],[30,3,30,4],[31,3,31,4],[33,3,33,4],[32,3,32,4]]}
[null,null,null,"PLAN BÁSICO ",null,"Ir a Cotizador"]
[]
[]
[]
[]
[]
[]
[]
[]
[null,null,null,"COBERTURAS  (INMUEBLE Y BIENES)",null,"Límites asegurados por vigencia, hasta","Límites asegurados por vigencia, hasta","Prima Comercial"]
[null,null,null,"Cobertura principal",null,"INMUEBLE","BIENES"]
[null,"X",null,"Incendio y/o rayo, explosión, incendio en aparatos eléctricos. Daños por agua, daños por humo, impacto de vehículos y/o aeronaves o daños por riesgos políticos y sociales"]
[null,null,null,"Coberturas adicionales"]
[null,null,null,"Terremoto, temblor, maremoto, Inundaciones y riesgos de la naturaleza"]
[null,null,null,null,null,"Suma asegurada que forma parte de la cobertura principal","Suma asegurada que forma parte de la cobertura principal"]
[null,null,null,"Responsabilidad civil frente a terceros",null,null,"-"]
[null,null,null,null,null,{"$f":"coberturasyClausulas!$J$64","v":" máximo US$ 200,000"}]
[null,null,null,"Rotura accidental de vidrio y/o cristales",null,{"$f":"coberturasyClausulas!$J$65","v":"US$ 3,000"}]
[null,null,null,null,null,"Suma asegurada que forma parte de la cobertura principal"]
[null,null,null,"Robo o intento de robo de instalaciones fijas",null,{"$f":"coberturasyClausulas!$J$66","v":"20% de la suma asegurada de inmueble, máximo US$ 5,000 , suma asegurada que forma parte de la cobertura principal"}]
[null,"X",null,"Robo y/o daños por intento de robo (dentro y fuera de la vivienda a nivel nacional)",null,"-"]
[null,null,null,"Robo y/o daños por intento de robo de joyas, platería, relojes, obras de arte, cámaras fotográficas o de video, laptops y bicicletas dentro de la vivienda o que estén siendo portados fuera de la vivienda. ",null,"-","USD 10,000, sublímite de la cobertura de Robo"]
[null,null,null,"Hurto",null,"-",{"$f":"coberturasyClausulas!$J$68","v":"US$ 3,000 , sublímite de la cobertura de Robo"}]
[null,null,null,"Deshonestidad de trabajadores del hogar",null,"-",{"$f":"coberturasyClausulas!$J$69","v":"US$ 5,000 por evento, máximo 3 eventos por vigencia de la póliza, sublímite de la cobertura de Robo"}]
[null,null,null,"Reembolso de gastos médicos por accidentes de trabajadores del hogar, ocurridos dentro del inmueble",null,{"$f":"coberturasyClausulas!$J$70","v":"US$ 5,000 por evento, máximo 3 eventos por vigencia de la póliza"},"Hasta US$ 5,000 / S/ 15,000 por evento, máximo 3 eventos por vigencia de la póliza"]
[null,null,null,"Gastos de arrendamiento de vivienda temporal a reembolso",null,{"$f":"coberturasyClausulas!$J$71","v":"US$ 2,000 mensuales, máximo 6 meses por vigencia de la póliza, suma asegurada que forma parte de la cobertura principal"},"Hasta US$ 2,000 / S/ 6,000 mensuales, máximo 6 meses por vigencia de la póliza, suma asegurada que forma parte de la cobertura principal"]
[null,null,null,"Alquiler no percibido por inmueble inhabitable temporalmente (aplica solo para el arrendador)",null,{"$f":"coberturasyClausulas!$J$72","v":"US$ 2,000 mensuales, máximo 6 meses por vigencia de la póliza, suma asegurada que forma parte de la cobertura principal"},"Hasta US$ 2,000 / S/ 6,000 mensuales, máximo 6 meses por vigencia de la póliza, suma asegurada que forma parte de la cobertura principal"]
[null,"X",null,"Gastos extraordinarios: remoción de escombros, honorarios profesionales y construcción de documentos y modelos ",null,"20% de la suma asegurada de inmueble y/o bienes, suma asegurada que forma parte de la cobertura principal","Hasta el 20% de la suma asegurada de inmueble y/o bienes, suma asegurada que forma parte de la cobertura principal"]
[null,"X",null,null,"Asistencias"]
[null,"X",null,{"$f":"coberturasyClausulas!$E$73","v":"Envío y pago de Cerrajero por emergencia "},null,{"$f":"coberturasyClausulas!$J$73","v":"Hasta US$ 300 por evento, Máximo de 3 eventos"}]
[null,"X",null,{"$f":"coberturasyClausulas!$E$74","v":"Envío y pago de Gasfitero por emergencia "},null,{"$f":"coberturasyClausulas!$J$74","v":"Hasta US$ 300 por evento, Máximo de 3 eventos"}]
[null,"X",null,{"$f":"coberturasyClausulas!$E$75","v":"Envío y pago de Electricista por emergencia"},null,{"$f":"coberturasyClausulas!$J$75","v":"Hasta US$ 300 por evento, Máximo de 3 eventos"}]
[null,"X",null,{"$f":"coberturasyClausulas!$E$76","v":"Envío y pago de Vidriero por emergencia"},null,{"$f":"coberturasyClausulas!$J$76","v":"Hasta US$ 300 por evento, Máximo de 3 eventos"}]
[null,"X",null,{"$f":"coberturasyClausulas!$E$77","v":"Limpieza del inmueble asegurado a consecuencia de un siniestro"},null,{"$f":"coberturasyClausulas!$J$77","v":"Hasta US$ 500 por evento, Máximo de 3 eventos"}]
[null,null,null,{"$f":"coberturasyClausulas!$E$78","v":"Servicio de Lavado de estores, roller, alfombras"},null,{"$f":"coberturasyClausulas!$J$78","v":"Hasta US$ 80 por evento, máximo de 1 evento, cubriendo la limpieza de una pieza."}]
[null,null,null,{"$f":"coberturasyClausulas!$E$79","v":"Servicio de Lavado de colchón"},null,{"$f":"coberturasyClausulas!$J$79","v":"Hasta US$ 80 por evento, máximo de 1 evento, cubriendo la limpieza de una pieza."}]
[null,null,null,{"$f":"coberturasyClausulas!$E$80","v":"Masajes  relajantes a domicilio durante 1 hora"},null,{"$f":"coberturasyClausulas!$J$80","v":"Hasta US$ 80 por evento, máximo de 1 evento, cubriendo la limpieza de una pieza."}]
[null,null,null,"Deducibles:\nAplicables por evento/pérdida, en caso de discrepancia prevalece el mayor"]
[null,null,null,"Terremoto / Maremoto",null,{"$f":"coberturasyClausulas!$J$88","v":"Hasta el 1% del límite asegurado, mínimo US$ 200"}]
[null,null,null,"Otros Riesgos de la Naturaleza (entre ellos lluvia, inundación, otros)",null,{"$f":"coberturasyClausulas!$J$89","v":"Hasta 10% del monto indemnizable, mínimo US$ 200"}]
[null,null,null,"Daños por agua",null,{"$f":"coberturasyClausulas!$J$90","v":"Hasta 10% del monto indemnizable, mínimo US$ 200"}]
[null,null,null,"Riesgos políticos y sociales",null,{"$f":"coberturasyClausulas!$J$91","v":"Hasta 10% del monto indemnizable, mínimo US$ 200"}]
[null,null,null,"Responsabilidad civil frente a terceros",null,{"$f":"coberturasyClausulas!$J$92","v":"Hasta 10% del monto indemnizable, mínimo US$ 200"}]
[null,null,null,"Rotura accidental de vidrio y/o cristales",null,{"$f":"coberturasyClausulas!$J$93","v":"Hasta 10% del monto indemnizable, mínimo US$ 200"}]
[null,null,null,"Robo o intento de robo de instalaciones fijas",null,{"$f":"coberturasyClausulas!$J$94","v":"Hasta 10% del monto indemnizable, mínimo US$ 200"}]
[null,null,null,"Robo y/o daños por intento de robo",null,{"$f":"coberturasyClausulas!$J$95","v":"Hasta 10% del monto indemnizable, mínimo US$ 200"}]
[null,null,null,"Hurto",null,{"$f":"coberturasyClausulas!$J$96","v":"Hasta 10% del monto indemnizable, mínimo US$ 200"}]
[null,null,null,"Deshonestidad de trabajadores del hogar",null,{"$f":"coberturasyClausulas!$J$97","v":"Hasta 10% del monto indemnizable, mínimo US$ 200"}]
[null,null,null,"Demás coberturas",null,"Sin deducible"]

{"sheet":"tasas","index":23,"n_rows":74,"n_cols":23,"rows_kept":74,"cut":false,"hidden":true,"merged":[[0,1,0,2],[0,7,0,8],[0,13,0,14]]}
[null,"INMUEBLE",null,null,null,null,null,"BIENES",null,null,null,null,null,"INMUEBLE Y BIENES",null,null,null,null,"Límites para cobertura de joyas"]
[null,"VALOR TOTAL","PRIMER RIESTO",null,null,null,null,"VALOR TOTAL","PRIMER RIESTO",null,null,null,null,"VALOR TOTAL","PRIMER RIESTO",null,null,null,"Monto USD","Monto PEN","Moneda","Límites asegurados por vigencia, hasta","Tasa pura de riesgo"]
[null,null,null,null,null,null,null,null,null,null,null,null,null,null,null,null,null,null,10000,{"$f":"S3*3","v":30000},"USD",{"$f":"U3&\" \"&IF(U3=\"S/\",TEXT(T3,\"##,##0\"),IF(U3=\"USD\",TEXT(S3,\"##,##0\"),\"\"))&\", sublímite de la cobertura de Robo\"","v":"USD 10,000, sublímite de la cobertura de Robo"},0.22247402852806913]
["Tipo de bien: Inmueble","tasa de riesgo","tasa de riesgo",null,null,null,"Tipo de bien: Bienes","tasa de riesgo","tasa de riesgo",null,null,null,"Tipo de bien: Inmueble","tasa de riesgo","tasa de riesgo",null,null,null,20000,{"$f":"S4*3","v":60000},"USD",{"$f":"U4&\" \"&IF(U4=\"S/\",TEXT(T4,\"##,##0\"),IF(U4=\"USD\",TEXT(S4,\"##,##0\"),\"\"))&\", sublímite de la cobertura de Robo\"","v":"USD 20,000, sublímite de la cobertura de Robo"},0.22247402852806913]
[null,"Corredores","Corredores",null,null,null,null,"Corredores","Corredores",null,null,null,null,"Corredores","Corredores"]
["Gastos generales",0.14000000000000001,0.14000000000000001,null,null,null,"Gastos generales",0,0,null,null,null,"Gastos generales",{"$f":"B6","v":0.14000000000000001},0.14000000000000001,null,null,null,null,null,null,"Difernecia Actual",{"$f":"W3-W4","v":0}]
["Gastos de comercialización",0.05,0.05,null,null,null,"Gastos de comercialización",0.05,0.05,null,null,null,"Gastos de comercialización",0.05,0.05,null,null,null,null,null,null,"Diferencia",1.9999999999999997E-2]
["Comisión local",0.17499999999999999,0.17499999999999999,null,null,null,"Comisión local",0.17499999999999999,0.17499999999999999,null,null,null,"Comisión local",0.17499999999999999,0.17499999999999999]
["Utilidad antes de Imp",0,0,null,null,null,"Utilidad antes de Imp",0,0,null,null,null,"Utilidad antes de Imp",0,0]
["Tasa comercial %o",{"$f":"+B11/(1-(B6+B7+B8+B9))","v":2.6219140085432358},{"$f":"+C11/(1-(C6+C7+C8+C9))","v":2.6219140085432358},null,null,null,"Tasa comercial %o",{"$f":"+H11/(1-(H6+H7+H8+H9))","v":3.7935780735369091},{"$f":"+I11/(1-(I6+I7+I8+I9))","v":3.7935780735369091},null,null,null,"Tasa comercial %o",{"$f":"+N11/(1-(N6+N7+N8+N9))","v":2.6219140085432358},{"$f":"+O11/(1-(O6+O7+O8+O9))","v":2.6219140085432358}]
["Tasa de Riesgo %o",{"$f":"+SUM(B12:B20)","v":1.6649153954249547},{"$f":"+SUM(C12:C20)","v":1.6649153954249547},null,null,null,"Tasa de Riesgo %o",{"$f":"+SUM(H12:H14)","v":2.9400230069911046},{"$f":"+SUM(I12:I14)","v":2.9400230069911046},null,null,null,"Tasa de Riesgo %o",{"$f":"+SUM(N12:N20)","v":1.6649153954249547},{"$f":"+SUM(O12:O20)","v":1.6649153954249547}]
["Incendio y/o rayo, explosión. Daños por agua, daños por humo, impacto de vehículos y/o aeronaves",0.29225599038914341,0.29225599038914341,null,null,null,"Incendio y/o rayo, explosión. Daños por agua, daños por humo, impacto de vehículos y/o aeronaves",1.5137841154840102,1.5137841154840102,null,null,null,"Incendio y/o rayo, explosión. Daños por agua, daños por humo, impacto de vehículos y/o aeronaves",{"$f":"B12","v":0.29225599038914341},{"$f":"C12","v":0.29225599038914341}]
["Terremoto, temblor, maremoto, Inundaciones y riesgos de la naturaleza",1.3260000000000001,1.3260000000000001,null,null,null,"Terremoto, temblor, maremoto, Inundaciones y riesgos de la naturaleza",1.3260000000000001,1.3260000000000001,null,null,null,"Terremoto, temblor, maremoto, Inundaciones y riesgos de la naturaleza",{"$f":"B13","v":1.3260000000000001},1.3260000000000001]
["Responsabilidad Civil frente a terceros",6.267E-3,6.267E-3,null,null,null,"Asistencias",0.1002388915070945,0.1002388915070945,null,null,null,"Responsabilidad Civil frente a terceros",6.267E-3,6.267E-3]
["Rotura accidental de vidrio y/o cristales",1.376348607600922E-2,1.376348607600922E-2,null,null,null,"Cantidad de asistencias",6,6,null,null,null,"Rotura accidental de vidrio y/o cristales",1.376348607600922E-2,1.376348607600922E-2]
["Robo o intento de robo de instalaciones fijas",1.0978465801088598E-3,1.0978465801088598E-3,null,null,null,"Tasa por asistencia",{"$f":"H14/H15","v":1.6706481917849084E-2},{"$f":"I14/I15","v":1.6706481917849084E-2},null,null,null,"Robo o intento de robo de instalaciones fijas",1.0978465801088598E-3,1.0978465801088598E-3]
["Reembolso de gastos médicos por accidentes de trabajadores del hogar",2.9409000000000002E-3,2.9409000000000002E-3,null,null,null,null,null,null,null,null,null,"Reembolso de gastos médicos por accidentes de trabajadores del hogar",2.9409000000000002E-3,2.9409000000000002E-3]
["Gasto de arrendamiento de vivienda temporal",4.5742999999999999E-3,4.5742999999999999E-3,null,null,null,null,null,null,null,null,null,"Gasto de arrendamiento de vivienda temporal",4.5742999999999999E-3,4.5742999999999999E-3]
["Alquiler no  percibido por inmueble inhabitable temporalmente",4.5742999999999999E-3,4.5742999999999999E-3,null,null,null,null,null,null,null,null,null,"Alquiler no  percibido por inmueble inhabitable temporalmente",4.5742999999999999E-3,4.5742999999999999E-3]
["Asistencias",1.3441572379693026E-2,1.3441572379693026E-2,null,null,null,null,null,null,null,null,null,"Asistencias",1.3441572379693026E-2,1.3441572379693026E-2]
["Cantidad de asistencias",6,6,null,null,null,null,null,null,null,null,null,"Cantidad de asistencias",6,6]
["Tasa por asistencia",{"$f":"B20/B21","v":2.240262063282171E-3},{"$f":"C20/C21","v":2.240262063282171E-3},null,null,null,null,null,null,null,null,null,"Tasa por asistencia",{"$f":"N20/N21","v":2.240262063282171E-3},{"$f":"O20/O21","v":2.240262063282171E-3}]
[]
[null,null,null,null,null,null,"Tipo de bien: Bienes con robo","Corredores","Corredores"]
[null,null,null,null,null,null,"Gastos generales",0.15,0.15]
[null,null,null,null,null,null,"Gastos de comercialización",0.05,0.05]
[null,null,null,null,null,null,"Comisión local",0.17499999999999999,0.17499999999999999]
[null,null,null,null,null,null,"Utilidad antes de Imp",0.1,0.1]
[null,null,null,null,null,null,"Tasa comercial %o",{"$f":"+H30/(1-(H25+H26+H27+H28))","v":5.3121527114371379},{"$f":"+I30/(1-(I25+I26+I27+I28))","v":5.3121527114371379}]
[null,null,null,null,null,null,"Tasa de Riesgo %o",{"$f":"+SUM(H31:H34)","v":2.7888801735044977},{"$f":"+SUM(I31:I34)","v":2.7888801735044977}]
[null,null,null,null,null,null,"Robo y/o daños por intento de robo de bienes ",2.3064046957840652,2.3064046957840652]
[null,null,null,null,null,null,"Robo y/o daños por intento de robo de joyas, platería, relojes, obras de arte, cámaras fotográficas o de video, laptops y bicicletas dentro de la vivienda o que estén siendo portados fuera de la vivienda",0.22247402852806913,0.22247402852806913,null,null,null,"Tipo de bien: Bienes","tasa de riesgo","tasa de riesgo"]
[null,null,null,null,null,null,"Hurto",0.25330726214356974,0.25330726214356974,null,null,null,null,"Corredores","Corredores"]
[null,null,null,null,null,null,"Deshonestidad de trabajadores del hogar",6.6941870487933512E-3,6.6941870487933512E-3,null,null,null,"Gastos generales",{"$f":"H6","v":0},{"$f":"I6","v":0}]
[null,null,null,null,null,null,null,null,null,null,null,null,"Gastos de comercialización",{"$f":"H7","v":0.05},0.05]
[null,null,null,null,null,null,null,null,null,null,null,null,"Comisión local",0.17499999999999999,0.17499999999999999]
[null,null,null,null,null,null,null,null,null,null,null,null,"Utilidad antes de Imp",0,0]
[null,null,null,null,null,null,null,null,null,null,null,null,"Tasa comercial %o",{"$f":"+N39/(1-(N34+N35+N36+N37))","v":3.7935780735369091},{"$f":"+O39/(1-(O34+O35+O36+O37))","v":3.7935780735369091}]
[null,null,null,null,null,null,null,null,null,null,null,null,"Tasa de Riesgo %o",{"$f":"+SUM(N40:N42)","v":2.9400230069911046},{"$f":"+SUM(O40:O42)","v":2.9400230069911046}]
[null,null,null,null,null,null,null,null,null,null,null,null,"Incendio y/o rayo, explosión. Daños por agua, daños por humo, impacto de vehículos y/o aeronaves",{"$f":"H12","v":1.5137841154840102},1.5137841154840102]
[null,null,null,null,null,null,null,null,null,null,null,null,"Terremoto, temblor, maremoto, Inundaciones y riesgos de la naturaleza",1.3260000000000001,1.3260000000000001]
[null,null,null,null,null,null,null,null,null,null,null,null,"Asistencias",0.1002388915070945,0.1002388915070945]
[null,null,null,null,null,null,null,null,null,null,null,null,"Cantidad de asistencias",6,6]
[null,null,null,null,null,null,null,null,null,null,null,null,"Tasa por asistencia",{"$f":"N42/N43","v":1.6706481917849084E-2},{"$f":"O42/O43","v":1.6706481917849084E-2}]
[]
[]
[]
[]
[]
[null,null,null,null,null,null,null,null,null,null,null,null,"COBERTURAS TOTALES (TODO RIESGO)"]
[null,null,null,null,null,null,null,null,null,null,null,null,"Incendio y/o rayo, explosión. Daños por agua, daños por humo, impacto de vehículos y/o aeronaves"]
[null,null,null,null,null,null,null,null,null,null,null,null,"Terremoto, temblor, maremoto, Inundaciones y riesgos de la naturaleza"]
[null,null,null,null,null,null,null,null,null,null,null,null,"Responsabilidad Civil frente a terceros"]
[null,null,null,null,null,null,null,null,null,null,null,null,"Rotura accidental de vidrio y/o cristales"]
[null,null,null,null,null,null,null,null,null,null,null,null,"Robo o intento de robo de instalaciones fijas"]
[null,null,null,null,null,null,null,null,null,null,null,null,"Reembolso de gastos médicos por accidentes de trabajadores del hogar"]
[null,null,null,null,null,null,null,null,null,null,null,null,"Gasto de arrendamiento de vivienda temporal"]
[null,null,null,null,null,null,null,null,null,null,null,null,"Alquiler no  percibido por inmueble inhabitable temporalmente"]
[null,null,null,null,null,null,null,null,null,null,null,null,"Asistencias"]
[null,null,null,null,null,null,null,null,null,null,null,null,"TOTAL"]
[]
[]
[]
[null,null,null,null,null,null,null,null,null,null,null,null,"Tipo de bien: Bienes con robo","Corredores","Corredores"]
[null,null,null,null,null,null,null,null,null,null,null,null,"Gastos generales",{"$f":"H25","v":0.15},0.15]
[null,null,null,null,null,null,null,null,null,null,null,null,"Gastos de comercialización",{"$f":"H26","v":0.05},0.05]
[null,null,null,null,null,null,null,null,null,null,null,null,"Comisión local",0.17499999999999999,0.17499999999999999]
[null,null,null,null,null,null,null,null,null,null,null,null,"Utilidad antes de Imp",0.1,0.1]
[null,null,null,null,null,null,null,null,null,null,null,null,"Tasa comercial %o",{"$f":"+N70/(1-(N65+N66+N67+N68))","v":5.3121527114371379},{"$f":"+O70/(1-(O65+O66+O67+O68))","v":5.3121527114371379}]
[null,null,null,null,null,null,null,null,null,null,null,null,"Tasa de Riesgo %o",{"$f":"+SUM(N71:N74)","v":2.7888801735044977},{"$f":"+SUM(O71:O74)","v":2.7888801735044977}]
[null,null,null,null,null,null,null,null,null,null,null,null,"Robo y/o daños por intento de robo de bienes ",{"$f":"H31","v":2.3064046957840652},2.3064046957840652]
[null,null,null,null,null,null,null,null,null,null,null,null,"Robo y/o daños por intento de robo de joyas, platería, relojes, obras de arte, cámaras fotográficas o de video, laptops y bicicletas dentro de la vivienda o que estén siendo portados fuera de la vivienda",0.22247402852806913,0.22247402852806913]
[null,null,null,null,null,null,null,null,null,null,null,null,"Hurto",{"$f":"H33","v":0.25330726214356974},0.25330726214356974]
[null,null,null,null,null,null,null,null,null,null,null,null,"Deshonestidad de trabajadores del hogar",6.6941870487933512E-3,6.6941870487933512E-3]

{"sheet":"coberturasyClausulas","index":24,"n_rows":97,"n_cols":10,"rows_kept":97,"cut":false,"hidden":true,"merged":[]}
["INMUEBLE valor total"]
[null,null,"DOLARES","SOLES",null,"TEXTO1","TEXTO2","DOLARES",null,"TEXTO FINAL"]
[null,null,"US$ 200,000","S/ 600,000",null,"máximo",null,"US$ 200,000",null,{"$f":"F3& \" \" &H3","v":"máximo US$ 200,000"}]
[null,null,"US$ 3,000","S/ 9,000",null,"Hasta",",suma asegurada que forma parte de la cobertura principal","US$ 3,000",null,{"$f":"F4& \" \" &H4 & \" \" &G4","v":"Hasta US$ 3,000 ,suma asegurada que forma parte de la cobertura principal"}]
[null,null,"US$ 5,000","S/ 15,000",null,"Hasta el 20% de la suma asegurada de inmueble, máximo",",suma asegurada que forma parte de la cobertura principal","US$ 5,000",null,{"$f":"F5& \" \" &H5 & \" \" &G5","v":"Hasta el 20% de la suma asegurada de inmueble, máximo US$ 5,000 ,suma asegurada que forma parte de la cobertura principal"}]
[null,null,"US$ 5,000","S/ 15,000",null,"Hasta","por evento, máximo 3 eventos por vigencia de la póliza","US$ 5,000",null,{"$f":"F6& \" \" &H6 & \" \" &G6","v":"Hasta US$ 5,000 por evento, máximo 3 eventos por vigencia de la póliza"}]
[null,null,"US$ 2,000","S/ 6,000",null,"Hasta","mensuales, máximo 6 meses por vigencia de la póliza, suma asegurada que forma parte de la cobertura principal","US$ 2,000",null,{"$f":"F7& \" \" &H7 & \" \" &G7","v":"Hasta US$ 2,000 mensuales, máximo 6 meses por vigencia de la póliza, suma asegurada que forma parte de la cobertura principal"}]
[null,null,"US$ 2,000","S/ 6,000",null,"Hasta","mensuales, máximo 6 meses por vigencia de la póliza, suma asegurada que forma parte de la cobertura principal","US$ 2,000",null,{"$f":"F8& \" \" &H8 & \" \" &G8","v":"Hasta US$ 2,000 mensuales, máximo 6 meses por vigencia de la póliza, suma asegurada que forma parte de la cobertura principal"}]
[]
[]
[null,1,"US$ 300","S/ 900","Envío y pago de Cerrajero por emergencia las 24H","Hasta","por evento, Máximo de 3 eventos","US$ 300",null,{"$f":"F11& \" \" &H11 & \" \" &G11","v":"Hasta US$ 300 por evento, Máximo de 3 eventos"}]
[null,2,"US$ 300","S/ 900","Envío y pago de Gasfitero por emergencia las 24H","Hasta","por evento, Máximo de 3 eventos","US$ 300",null,{"$f":"F12& \" \" &H12 & \" \" &G12","v":"Hasta US$ 300 por evento, Máximo de 3 eventos"}]
[null,3,"US$ 300","S/ 900","Envío y pago de Electricista por emergencia las 24H","Hasta","por evento, Máximo de 3 eventos","US$ 300",null,{"$f":"F13& \" \" &H13 & \" \" &G13","v":"Hasta US$ 300 por evento, Máximo de 3 eventos"}]
[null,4,"US$ 300","S/ 900","Envío y pago de Vidriero por emergencia las 24H","Hasta","por evento, Máximo de 3 eventos","US$ 300",null,{"$f":"F14& \" \" &H14 & \" \" &G14","v":"Hasta US$ 300 por evento, Máximo de 3 eventos"}]
[null,5,"US$ 500","S/ 1500","Limpieza del inmueble asegurado a consecuencia de un siniestro","Hasta","por evento, Máximo de 3 eventos","US$ 500",null,{"$f":"F15& \" \" &H15 & \" \" &G15","v":"Hasta US$ 500 por evento, Máximo de 3 eventos"}]
[null,6,"US$ 80","S/ 240","Servicio de Lavado de estores, roller, alfombras","Hasta","(sin copago) por evento, Máximo de 1 evento","US$ 80",null,"Hasta US$ 80 por evento, máximo de 1 evento, cubriendo la limpieza de una pieza."]
[null,7,"US$ 80","S/ 240","Servicio de Lavado de colchón","Hasta","(sin copago) por evento, Máximo de 1 evento","US$ 80",null,"Hasta US$ 80 por evento, máximo de 1 evento, cubriendo la limpieza de una pieza."]
[null,8,"US$ 80","S/ 240","Masajes  relajantes a domicilio durante 1 hora","Hasta","(sin copago) por evento, Máximo de 1 evento","US$ 80",null,"Hasta US$ 80 por evento, máximo de 1 evento, cubriendo la limpieza de una pieza."]
[null,9,"S/ 70","S/ 70","Mozo a domicilio ","Hasta","(sin copago) por evento, Máximo de 3 eventos","S/ 70",null,"Hasta máximo de 3 eventos al año, con servicio una vez al mes."]
[null,10,"US$ 75","S/ 225","Mantenimiento Preventivo de Línea Blanca","Hasta","(sin copago) por evento, Máximo de 3 eventos","US$ 75",null,"Hasta US$ 75 por evento, máximo de 3 eventos, cubriendo la revisión de un equipo."]
[null,11,null,null,"Orientación telefónica veterinaria para perros las 24H","Hasta",null,null,null,"Sin límite"]
[null,12,null,null,"Hospedaje de perros","Hasta",null,null,null,"Hasta máximo de 3 eventos. Se considera 1 día de hospedaje por evento."]
[null,null,"US$ 300","S/ 900","Asesoría legal por robo dentro del inmueble","Hasta","máximo 3 atenciones por vigencia de la póliza","US$ 300",null,{"$f":"F23& \" \" &H23 & \" \" &G23","v":"Hasta US$ 300 máximo 3 atenciones por vigencia de la póliza"}]
[null,null,null,null,"Asesoría legal teléfonica",null,null,null,null,"Sin límite"]
[null,null,"S/ 20","S/ 20","Baño de mascotas",null,"2 eventos, Co - pago","S/ 20",null,{"$f":"F25& \" \" &G25 & \" \" &H25 & \" por evento\"","v":" 2 eventos, Co - pago S/ 20 por evento"}]
[null,null,"US$ 200","S/ 600",null,"Hasta el 1% del límite asegurado, mínimo",null,"US$ 200",null,{"$f":"F26& \" \" &H26","v":"Hasta el 1% del límite asegurado, mínimo US$ 200"}]
[null,null,"US$ 200","S/ 600",null,"Hasta 10% del monto indemnizable, mínimo",null,"US$ 200",null,"Hasta 10% del monto indemnizable, mínimo US$ 200"]
[null,null,"US$ 200","S/ 600",null,"Hasta 10% del monto indemnizable, mínimo",null,"US$ 200",null,"Hasta 10% del monto indemnizable, mínimo US$ 200"]
[null,null,"US$ 200","S/ 600",null,"Hasta 10% del monto indemnizable, mínimo",null,"US$ 200",null,"Hasta 10% del monto indemnizable, mínimo US$ 200"]
[null,null,"US$ 200","S/ 600",null,"Hasta 10% del monto indemnizable, mínimo",null,"US$ 200",null,"Hasta 10% del monto indemnizable, mínimo US$ 200"]
[null,null,"US$ 200","S/ 600",null,"Hasta 10% del monto indemnizable, mínimo",null,"US$ 200",null,"Hasta 10% del monto indemnizable, mínimo US$ 200"]
[null,null,"US$ 200","S/ 600",null,"Hasta 10% del monto indemnizable, mínimo",null,"US$ 200",null,"Hasta 10% del monto indemnizable, mínimo US$ 200"]
[]
["BIENES valor total"]
[]
[null,null,"US$ 5,000","S/ 15,000",null,"Hasta",", sublímite de la cobertura de Robo","US$ 5,000",null,{"$f":"F36& \" \" &H36 & \" \" &G36","v":"Hasta US$ 5,000 , sublímite de la cobertura de Robo"}]
[null,null,"US$ 3,000","S/ 9,000",null,"Hasta",", sublímite de la cobertura de Robo","US$ 3,000",null,"Hasta US$ 3,000 , sublímite de la cobertura de Robo"]
[null,null,"US$ 5,000","S/ 15,000",null,"Hasta","por evento, máximo 3 eventos por vigencia de la póliza, sublímite de la cobertura de Robo","US$ 5,000",null,"Hasta US$ 5,000 por evento, máximo 3 eventos por vigencia de la póliza, sublímite de la cobertura de Robo"]
[null,1,"US$ 300","S/ 900","Envío y pago de Cerrajero por emergencia ","Hasta","por evento, Máximo de 3 eventos","US$ 300",null,"Hasta US$ 300 por evento, Máximo de 3 eventos"]
[null,2,"US$ 300","S/ 900","Envío y pago de Gasfitero por emergencia ","Hasta","por evento, Máximo de 3 eventos","US$ 300",null,{"$f":"F40& \" \" &H40 & \" \" &G40","v":"Hasta US$ 300 por evento, Máximo de 3 eventos"}]
[null,3,"US$ 300","S/ 900","Envío y pago de Electricista por emergencia","Hasta","por evento, Máximo de 3 eventos","US$ 300",null,{"$f":"F41& \" \" &H41 & \" \" &G41","v":"Hasta US$ 300 por evento, Máximo de 3 eventos"}]
[null,4,"US$ 300","S/ 900","Envío y pago de Vidriero por emergencia","Hasta","por evento, Máximo de 3 eventos","US$ 300",null,{"$f":"F42& \" \" &H42 & \" \" &G42","v":"Hasta US$ 300 por evento, Máximo de 3 eventos"}]
[null,5,"US$ 500","S/ 1500","Limpieza del inmueble asegurado a consecuencia de un siniestro","Hasta","por evento, Máximo de 3 eventos","US$ 500",null,{"$f":"F43& \" \" &H43 & \" \" &G43","v":"Hasta US$ 500 por evento, Máximo de 3 eventos"}]
[null,6,"US$ 80","S/ 240","Servicio de Lavado de estores, roller, alfombras","Hasta","(sin copago) por evento, Máximo de 1 evento","US$ 80",null,"Hasta US$ 80 por evento, máximo de 1 evento, cubriendo la limpieza de una pieza."]
[null,7,"US$ 80","S/ 240","Servicio de Lavado de colchón","Hasta","(sin copago) por evento, Máximo de 1 evento","US$ 80",null,"Hasta US$ 80 por evento, máximo de 1 evento, cubriendo la limpieza de una pieza."]
[null,8,"US$ 80","S/ 240","Masajes  relajantes a domicilio durante 1 hora","Hasta","(sin copago) por evento, Máximo de 1 evento","US$ 80",null,"Hasta US$ 80 por evento, máximo de 1 evento, cubriendo la limpieza de una pieza."]
[null,9,"S/ 70","S/ 70","Mozo a domicilio ","Hasta","(sin copago) por evento, Máximo de 3 eventos","S/ 70",null,"Hasta máximo de 3 eventos al año, con servicio una vez al mes."]
[null,10,"US$ 75","S/ 225","Mantenimiento Preventivo de Línea Blanca","Hasta","(sin copago) por evento, Máximo de 3 eventos","US$ 75",null,"Hasta US$ 75 por evento, máximo de 3 eventos, cubriendo la revisión de un equipo."]
[null,11,null,null,"Orientación telefónica veterinaria para perros las 24H","Hasta",null,null,null,"Sin límite"]
[null,12,null,null,"Hospedaje de perros","Hasta",null,null,null,"Hasta máximo de 3 eventos. Se considera 1 día de hospedaje por evento."]
[null,null,"US$ 300","S/ 900","Asesoría legal por robo dentro del inmueble","Hasta","máximo 3 atenciones por vigencia de la póliza","US$ 300",null,{"$f":"F51& \" \" &H51 & \" \" &G51","v":"Hasta US$ 300 máximo 3 atenciones por vigencia de la póliza"}]
[null,null,null,null,"Asesoría legal teléfonica",null,null,null,null,"Sin límite"]
[null,null,"S/ 20","S/ 20","Baño de mascotas",null,"2 eventos, Co - pago","S/ 20",null,{"$f":"F53& \" \" &G53 & \" \" &H53 & \" por evento\"","v":" 2 eventos, Co - pago S/ 20 por evento"}]
[null,null,"US$ 200","S/ 600",null,"Hasta 10% del monto indemnizable, mínimo",null,"US$ 200",null,{"$f":"F54& \" \" &H54","v":"Hasta 10% del monto indemnizable, mínimo US$ 200"}]
[null,null,"US$ 200","S/ 600",null,"Hasta 10% del monto indemnizable, mínimo",null,"US$ 200",null,"Hasta 10% del monto indemnizable, mínimo US$ 200"]
[null,null,"US$ 200","S/ 600",null,"Hasta 10% del monto indemnizable, mínimo",null,"US$ 200",null,"Hasta 10% del monto indemnizable, mínimo US$ 200"]
[null,null,"US$ 200","S/ 600",null,"Hasta el 1% del límite asegurado, mínimo",null,"US$ 200",null,"Hasta el 1% del límite asegurado, mínimo US$ 200"]
[null,null,"US$ 200","S/ 600",null,"Hasta 10% del monto indemnizable, mínimo",null,"US$ 200",null,"Hasta 10% del monto indemnizable, mínimo US$ 200"]
[null,null,"US$ 200","S/ 600",null,"Hasta 10% del monto indemnizable, mínimo",null,"US$ 200",null,"Hasta 10% del monto indemnizable, mínimo US$ 200"]
[null,null,"US$ 200","S/ 600",null,"Hasta 10% del monto indemnizable, mínimo",null,"US$ 200",null,"Hasta 10% del monto indemnizable, mínimo US$ 200"]
[]
["INMUEBLE Y BIENES valor total"]
[]
[null,null,"US$ 200,000","S/ 600,000",null," máximo",null,"US$ 200,000","F17",{"$f":"F64& \" \" &H64","v":" máximo US$ 200,000"}]
[null,null,"US$ 3,000","S/ 9,000",null,null,null,"US$ 3,000","F18",{"$f":"H65","v":"US$ 3,000"}]
[null,null,"US$ 5,000","S/ 15,000",null,"20% de la suma asegurada de inmueble, máximo",", suma asegurada que forma parte de la cobertura principal","US$ 5,000","F20",{"$f":"F66& \" \" &H66 & \" \" &G66","v":"20% de la suma asegurada de inmueble, máximo US$ 5,000 , suma asegurada que forma parte de la cobertura principal"}]
[null,null,"US$ 5,000","S/ 15,000",null,", sublímite de la cobertura de Robo","","US$ 5,000","G22",{"$f":"H67& \" \" & F67","v":"US$ 5,000 , sublímite de la cobertura de Robo"}]
[null,null,"US$ 3,000","S/ 9,000",null,", sublímite de la cobertura de Robo","","US$ 3,000","G23","US$ 3,000 , sublímite de la cobertura de Robo"]
[null,null,"US$ 5,000","S/ 15,000",null,"por evento, máximo 3 eventos por vigencia de la póliza, sublímite de la cobertura de Robo","","US$ 5,000","G24","US$ 5,000 por evento, máximo 3 eventos por vigencia de la póliza, sublímite de la cobertura de Robo"]
[null,null,"US$ 5,000","S/ 15,000",null,"por evento, máximo 3 eventos por vigencia de la póliza","","US$ 5,000","F25","US$ 5,000 por evento, máximo 3 eventos por vigencia de la póliza"]
[null,null,"US$ 2,000","S/ 6,000",null,"mensuales, máximo 6 meses por vigencia de la póliza, suma asegurada que forma parte de la cobertura principal","","US$ 2,000","F26","US$ 2,000 mensuales, máximo 6 meses por vigencia de la póliza, suma asegurada que forma parte de la cobertura principal"]
[null,null,"US$ 2,000","S/ 6,000",null,"mensuales, máximo 6 meses por vigencia de la póliza, suma asegurada que forma parte de la cobertura principal","","US$ 2,000","F27","US$ 2,000 mensuales, máximo 6 meses por vigencia de la póliza, suma asegurada que forma parte de la cobertura principal"]
[null,1,"US$ 300","S/ 900","Envío y pago de Cerrajero por emergencia ","Hasta","por evento, Máximo de 3 eventos","US$ 300","F30",{"$f":"F73& \" \" &H73 & \" \" &G73","v":"Hasta US$ 300 por evento, Máximo de 3 eventos"}]
[null,2,"US$ 300","S/ 900","Envío y pago de Gasfitero por emergencia ","Hasta","por evento, Máximo de 3 eventos","US$ 300","F31",{"$f":"F74& \" \" &H74 & \" \" &G74","v":"Hasta US$ 300 por evento, Máximo de 3 eventos"}]
[null,3,"US$ 300","S/ 900","Envío y pago de Electricista por emergencia","Hasta","por evento, Máximo de 3 eventos","US$ 300","F32",{"$f":"F75& \" \" &H75 & \" \" &G75","v":"Hasta US$ 300 por evento, Máximo de 3 eventos"}]
[null,4,"US$ 300","S/ 900","Envío y pago de Vidriero por emergencia","Hasta","por evento, Máximo de 3 eventos","US$ 300","F33",{"$f":"F76& \" \" &H76 & \" \" &G76","v":"Hasta US$ 300 por evento, Máximo de 3 eventos"}]
[null,5,"US$ 500","S/ 1500","Limpieza del inmueble asegurado a consecuencia de un siniestro","Hasta","por evento, Máximo de 3 eventos","US$ 500","F34",{"$f":"F77& \" \" &H77 & \" \" &G77","v":"Hasta US$ 500 por evento, Máximo de 3 eventos"}]
[null,6,"US$ 80","S/ 240","Servicio de Lavado de estores, roller, alfombras","Hasta","(sin copago) por evento, Máximo de 1 evento","US$ 80",null,"Hasta US$ 80 por evento, máximo de 1 evento, cubriendo la limpieza de una pieza."]
[null,7,"US$ 80","S/ 240","Servicio de Lavado de colchón","Hasta","(sin copago) por evento, Máximo de 1 evento","US$ 80",null,"Hasta US$ 80 por evento, máximo de 1 evento, cubriendo la limpieza de una pieza."]
[null,8,"US$ 80","S/ 240","Masajes  relajantes a domicilio durante 1 hora","Hasta","(sin copago) por evento, Máximo de 1 evento","US$ 80",null,"Hasta US$ 80 por evento, máximo de 1 evento, cubriendo la limpieza de una pieza."]
[null,9,"S/ 70","S/ 70","Mozo a domicilio ","Hasta","(sin copago) por evento, Máximo de 3 eventos","S/ 70",null,"Hasta máximo de 3 eventos al año, con servicio una vez al mes."]
[null,10,"US$ 75","S/ 225","Mantenimiento Preventivo de Línea Blanca","Hasta","(sin copago) por evento, Máximo de 3 eventos","US$ 75",null,"Hasta US$ 75 por evento, máximo de 3 eventos, cubriendo la revisión de un equipo."]
[null,11,null,null,"Orientación telefónica veterinaria para perros las 24H","Hasta",null,null,null,"Sin límite"]
[null,12,null,null,"Hospedaje de perros","Hasta",null,null,null,"Hasta máximo de 3 eventos. Se considera 1 día de hospedaje por evento."]
[null,null,"US$ 300","S/ 900","Asesoría legal por robo dentro del inmueble","Hasta","máximo 3 atenciones por vigencia de la póliza","US$ 300",null,{"$f":"F85& \" \" &H85 & \" \" &G85","v":"Hasta US$ 300 máximo 3 atenciones por vigencia de la póliza"}]
[null,null,null,null,"Asesoría legal teléfonica",null,null,null,null,"Sin límite"]
[null,null,"S/ 20","S/ 20","Baño de mascotas",null,"2 eventos, Co - pago","S/ 20",null,{"$f":"F87& \" \" &G87 & \" \" &H87 & \" por evento\"","v":" 2 eventos, Co - pago S/ 20 por evento"}]
[null,null,"US$ 200","S/ 600",null,"Hasta el 1% del límite asegurado, mínimo","","US$ 200","F41","Hasta el 1% del límite asegurado, mínimo US$ 200"]
[null,null,"US$ 200","S/ 600",null,"Hasta 10% del monto indemnizable, mínimo","","US$ 200","F42","Hasta 10% del monto indemnizable, mínimo US$ 200"]
[null,null,"US$ 200","S/ 600",null,"Hasta 10% del monto indemnizable, mínimo","","US$ 200","F43","Hasta 10% del monto indemnizable, mínimo US$ 200"]
[null,null,"US$ 200","S/ 600",null,"Hasta 10% del monto indemnizable, mínimo","","US$ 200","F44","Hasta 10% del monto indemnizable, mínimo US$ 200"]
[null,null,"US$ 200","S/ 600",null,"Hasta 10% del monto indemnizable, mínimo","","US$ 200","F45","Hasta 10% del monto indemnizable, mínimo US$ 200"]
[null,null,"US$ 200","S/ 600",null,"Hasta 10% del monto indemnizable, mínimo","","US$ 200","F46","Hasta 10% del monto indemnizable, mínimo US$ 200"]
[null,null,"US$ 200","S/ 600",null,"Hasta 10% del monto indemnizable, mínimo","","US$ 200","F47","Hasta 10% del monto indemnizable, mínimo US$ 200"]
[null,null,"US$ 200","S/ 600",null,"Hasta 10% del monto indemnizable, mínimo","","US$ 200","F48","Hasta 10% del monto indemnizable, mínimo US$ 200"]
[null,null,"US$ 200","S/ 600",null,"Hasta 10% del monto indemnizable, mínimo","","US$ 200","F49","Hasta 10% del monto indemnizable, mínimo US$ 200"]
[null,null,"US$ 200","S/ 600",null,"Hasta 10% del monto indemnizable, mínimo","","US$ 200","F50","Hasta 10% del monto indemnizable, mínimo US$ 200"]

{"sheet":"INMUEBLE","index":25,"n_rows":252,"n_cols":33,"rows_kept":252,"cut":false,"hidden":true,"merged":[[4,13,4,16],[8,10,8,11]]}
[null,null,null,null,"Ir a Panel"]
[]
["Tipo de bien: Inmueble","tasa de riesgo",null,"Suma asegurada Inmueble",15000,null,null,null,null,null,null,null,null,null,null,null,null,null,null,null,null,null,"Tipo de bien: Inmueble","tasa de riesgo","tasa comercial","tasa de riesgo","tasa comercial",null,null,"COMPLETA 1 - Inmueble"]
[null,"Corredores",null,null,null,null,null,null,null,null,null,null,null,null,null,null,null,null,null,null,null,null,null,"Corredores","Corredores","NNDD","NNDD"]
["Gastos generales",{"$f":"tasas!$C$6","v":0.14000000000000001},null,null,null,null,null,null,null,null,null,null,null,null,null,null,null,null,null,null,null,null,"Gastos generales",3.0672899999999999E-2,3.0672905132556546E-2,0.15,0.15]
["Gastos de comercialización",{"$f":"tasas!$C$7","v":0.05},null,null,null,null,null,null,null,null,null,null,null,null,"PRIMA NETA",{"$f":"+P7/1.03","v":50},null,null,null,null,null,null,"Gastos de comercialización",0,0,0.05,0.05]
["Comisión local",{"$f":"tasas!$C$8","v":0.17499999999999999},null,null,null,null,null,null,null,null,null,null,null,null,"Prima Comercial",{"$f":"+IF(Cotizador!H37=\"X\",INMUEBLE!L24-INMUEBLE!L24*Cotizador!$M$40,INMUEBLE!K24-INMUEBLE!K24*Cotizador!$M$40)","v":51.5},null,null,null,null,null,null,"Comisión local",0.2,0.2,0,0]
["Utilidad antes de Imp",{"$f":"tasas!$C$9","v":0},null,null,null,null,null,null,null,null,null,null,null,null,"IGV",{"$f":"+P7*0.18","v":9.27},null,null,null,null,null,null,"Utilidad antes de Imp",0,0,3.0656800000000001E-2,3.0656799711687509E-2]
["Tasa comercial %o",{"$f":"+B10/(1-(B5+B6+B7+B8))","v":2.6219140085432358},null,"Tasa Comercial","Prima Neta","Prima","Comision",null,"Operativas","Prima comercial con ajuste","Prima comercial con ajuste de prima mínima",null,null,null,"Prima Total",{"$f":"+P7+P8","v":60.769999999999996},null,null,null,null,null,null,"Tasa comercial %o",{"$f":"+X10/(1-(X5+X6+X7+X8))","v":0.7294643591783001},{"$f":"+SUM(Y11:Y19)","v":{"$error":"#REF!"}},{"$f":"+Z10/(1-(Z5+Z6+Z7+Z8))","v":0.72944909372046185},{"$f":"+SUM(AA11:AA19)","v":{"$error":"#REF!"}},null,null,"Tasa Comercial","Prima Neta","Prima","Comision"]
["Tasa de Riesgo %o",{"$f":"+SUM(B11:B19)","v":1.6649153954249547},null,null,null,null,null,null,null,null,"Dólares","Soles",null,null,"Comisión Total",{"$f":"+ROUND(P6*0.2,2)","v":10},null,null,null,null,null,null,"Tasa de Riesgo %o",{"$f":"+SUM(X11:X19)","v":0.56119669999999999},null,{"$f":"+SUM(Z11:Z19)","v":0.56119669999999999}]
["Incendio y/o rayo, explosión. Daños por agua, daños por humo, impacto de vehículos y/o aeronaves",{"$f":"tasas!$C$12","v":0.29225599038914341},null,{"$f":"B11/(1-(B5+B6+B7+B8))","v":0.46024565415613133},{"$f":"ROUND(E3*D11/1000,2)","v":6.9},{"$f":"ROUND(E11*(1-B7),2)","v":5.69},{"$f":"ROUND(E11*B7,2)","v":1.21},null,{"$f":"+ROUND(E11*1.03,2)","v":7.11},{"$f":"+IF(0<=F26>=0,F26+I11,0)","v":7.1400000000000006},{"$f":"+IF(J24<F251,(J11+J251),J11)","v":51.5},{"$f":"+IF(J24<F252,(J11+J252),J11)","v":154.5},null,null,null,null,null,null,null,null,null,null,"Incendio y/o rayo, explosión. Daños por agua, daños por humo, impacto de vehículos y/o aeronaves",0.56119669999999999,{"$f":"+X11/(1-(#REF!+#REF!+#REF!+#REF!))","v":{"$error":"#REF!"}},0.56119669999999999,{"$f":"+Z11/(1-(#REF!+#REF!+#REF!+#REF!))","v":{"$error":"#REF!"}},null,null,{"$f":"X11/(1-(X5+X6+X7+X8))","v":0.7294643591783001},{"$f":"ROUND(AE3*AD11/1000,2)","v":0},{"$f":"ROUND(AE11*(1-X7),2)","v":0},{"$f":"ROUND(AE11*X7,2)","v":0}]
["Terremoto, temblor, maremoto, Inundaciones y riesgos de la naturaleza",{"$f":"tasas!$C$13","v":1.3260000000000001},null,{"$f":"B12/(1-(B5+B6+B7+B8))","v":2.0881889763779529},{"$f":"ROUND(E3*D12/1000,2)","v":31.32},{"$f":"ROUND(E12*(1-B7),2)","v":25.84},{"$f":"ROUND(E12*B7,2)","v":5.48},null,0,{"$f":"+I12","v":0},{"$f":"+J12","v":0},{"$f":"+K12","v":0}]
["Responsabilidad Civil frente a terceros",{"$f":"tasas!$C$14","v":6.267E-3},null,{"$f":"B13/(1-(B5+B6+B7+B8))","v":9.8692913385826763E-3},{"$f":"ROUND(E3*D13/1000,2)","v":0.15},{"$f":"ROUND(E13*(1-B7),2)","v":0.12},{"$f":"ROUND(E13*B7,2)","v":0.03},null,0,{"$f":"+I13","v":0},{"$f":"+J13","v":0},0]
["Rotura accidental de vidrio y/o cristales",{"$f":"tasas!$C$15","v":1.376348607600922E-2},null,{"$f":"B14/(1-(B5+B6+B7+B8))","v":2.1674781222061762E-2},{"$f":"ROUND(E3*D14/1000,2)","v":0.33},{"$f":"ROUND(E14*(1-B7),2)","v":0.27},{"$f":"ROUND(E14*B7,2)","v":0.06},null,0,0,0,0]
["Robo o intento de robo de instalaciones fijas",{"$f":"tasas!$C$16","v":1.0978465801088598E-3},null,{"$f":"B15/(1-(B5+B6+B7+B8))","v":1.7288922521399366E-3},{"$f":"ROUND(E3*D15/1000,2)","v":0.03},{"$f":"ROUND(E15*(1-B7),2)","v":0.02},{"$f":"ROUND(E15*B7,2)","v":0.01},null,0,0,0,0]
["Reembolso de gastos médicos por accidentes de trabajadores del hogar",{"$f":"tasas!$C$17","v":2.9409000000000002E-3},null,{"$f":"B16/(1-(B5+B6+B7+B8))","v":4.6313385826771657E-3},{"$f":"ROUND(E3*D16/1000,2)","v":7.0000000000000007E-2},{"$f":"ROUND(E16*(1-B7),2)","v":0.06},{"$f":"ROUND(E16*B7,2)","v":0.01},null,0,0,0,0]
["Gasto de arrendamiento de vivienda temporal",{"$f":"tasas!$C$18","v":4.5742999999999999E-3},null,{"$f":"B17/(1-(B5+B6+B7+B8))","v":7.2036220472440939E-3},{"$f":"ROUND(E3*D17/1000,2)","v":0.11},{"$f":"ROUND(E17*(1-B7),2)","v":0.09},{"$f":"ROUND(E17*B7,2)","v":0.02},null,0,0,0,0]
["Alquiler no  percibido por inmueble inhabitable temporalmente",{"$f":"tasas!$C$19","v":4.5742999999999999E-3},null,{"$f":"B18/(1-(B5+B6+B7+B8))","v":7.2036220472440939E-3},{"$f":"ROUND(E3*D18/1000,2)","v":0.11},{"$f":"ROUND(E18*(1-B7),2)","v":0.09},{"$f":"ROUND(E18*B7,2)","v":0.02},null,0,0,0,0]
["Asistencias",{"$f":"tasas!$C$20","v":1.3441572379693026E-2},null,null,{"$f":"E21*B20","v":0.30000000000000004},{"$f":"F21*B20","v":0.24},{"$f":"G21*B20","v":0.06},null,0,{"$f":"+I19","v":0},0,0]
["Cantidad de asistencias",{"$f":"tasas!$C$21","v":6}]
["Tasa por asistencia",{"$f":"B19/B20","v":2.240262063282171E-3},null,{"$f":"B21/(1-(B5+B6+B7+B8))","v":3.5279717532002691E-3},{"$f":"ROUND(E3*D21/1000,2)","v":0.05},{"$f":"ROUND(E21*(1-B7),2)","v":0.04},{"$f":"ROUND(E21*B7,2)","v":0.01}]
[]
[null,null,null,{"$f":"B10/(1-(B5+B6+B7+B8))","v":2.6219140085432358},{"$f":"ROUND(E3*D23/1000,2)","v":39.33},{"$f":"ROUND(E23*(1-B7),2)","v":32.450000000000003},{"$f":"ROUND(E23*B7,2)","v":6.88}]
[null,null,null,null,"Suma de Cob",{"$f":"SUM(F11:F19)","v":32.420000000000009},{"$f":"SUM(G11:G19)","v":6.8999999999999986},null,{"$f":"SUM(I11:I19)","v":7.11},{"$f":"SUM(J11:J19)","v":7.1400000000000006},{"$f":"SUM(K11:K19)","v":51.5},{"$f":"SUM(L11:L19)","v":154.5}]
[null,null,null,{"$f":"+((D23*E3)/1000)+F26","v":39.358710128148537},"Esperado",{"$f":"E23*(1-B7)","v":32.447249999999997},{"$f":"E23*B7","v":6.8827499999999997}]
[null,null,null,{"$f":"+D25*1.03*1.18","v":47.836576289751733},"Faltante",{"$f":"ROUND(F25-F24,2)","v":0.03},{"$f":"G25-G24","v":-1.7249999999998877E-2}]
[]
[]
["Tipo de bien: Inmueble","tasa de riesgo",null,null,null,null,null,null,null,null,null,null,null,null,null,null,null,null,null,null,null,null,"Tipo de bien: Inmueble","tasa de riesgo","tasa comercial","tasa de riesgo","tasa comercial",null,null,"COMPLETA 2 - Inmueble"]
[null,"Corredores",null,null,null,null,null,null,null,null,null,null,null,null,null,null,null,null,null,null,null,null,null,"Corredores","Corredores","NNDD","NNDD"]
["Gastos generales",3.0672899999999999E-2,null,null,null,null,null,null,null,null,null,null,null,null,null,null,null,null,null,null,null,null,"Gastos generales",3.0672899999999999E-2,3.0672905132556546E-2,0.15,0.15]
["Gastos de comercialización",0,null,null,null,null,null,null,null,null,null,null,null,null,null,null,null,null,null,null,null,null,"Gastos de comercialización",0,0,0.05,0.05]
["Comisión local",0.2,null,null,null,null,null,null,null,null,null,null,null,null,null,null,null,null,null,null,null,null,"Comisión local",0.2,0.2,0,0]
["Utilidad antes de Imp",0,null,null,null,null,null,null,null,null,null,null,null,null,null,null,null,null,null,null,null,null,"Utilidad antes de Imp",0,0,3.0656800000000001E-2,3.0656799711687509E-2]
["Tasa comercial %o",{"$f":"+B36/(1-(B31+B32+B33+B34))","v":2.2000583366944961},null,null,"Prima Neta","Prima","Comisión",null,null,null,null,null,null,null,null,null,null,null,null,null,null,null,"Tasa comercial %o",{"$f":"+X36/(1-(X31+X32+X33+X34))","v":2.2000583366944961},{"$f":"+SUM(Y37:Y47)","v":{"$error":"#REF!"}},{"$f":"+Z36/(1-(Z31+Z32+Z33+Z34))","v":2.2000120362407829},{"$f":"+SUM(AA37:AA47)","v":{"$error":"#REF!"}},null,null,"Tasa Comercial","Prima Neta","Prima","Comisión"]
["Tasa de Riesgo %o",{"$f":"+SUM(B37:B47)","v":1.6925645},null,null,null,null,null,null,null,null,null,null,null,null,null,null,null,null,null,null,null,null,"Tasa de Riesgo %o",{"$f":"+SUM(X37:X47)","v":1.6925645},null,{"$f":"+SUM(Z37:Z47)","v":1.6925642999999999}]
["Incendio y/o rayo, explosión. Daños por agua, daños por humo, impacto de vehículos y/o aeronaves",0.56119669999999999,null,null,{"$f":"ROUND(E29*D37/1000,2)","v":0},{"$f":"ROUND(E37*(1-B33),2)","v":0},{"$f":"ROUND(E37*B33,2)","v":0},null,null,null,null,null,null,null,null,null,null,null,null,null,null,null,"Incendio y/o rayo, explosión. Daños por agua, daños por humo, impacto de vehículos y/o aeronaves",0.56119669999999999,{"$f":"+X37/(1-(#REF!+#REF!+#REF!+#REF!))","v":{"$error":"#REF!"}},0.56119669999999999,{"$f":"+Z37/(1-(#REF!+#REF!+#REF!+#REF!))","v":{"$error":"#REF!"}},null,null,{"$f":"X37/(1-(X31+X32+X33+X34))","v":0.7294643591783001},{"$f":"ROUND(AE29*AD37/1000,2)","v":0},{"$f":"ROUND(AE37*(1-X33),2)","v":0},{"$f":"ROUND(AE37*X33,2)","v":0}]
["Terremoto, temblor",0.92508789999999996,null,null,{"$f":"ROUND(E29*D38/1000,2)","v":0},{"$f":"ROUND(E38*(1-B33),2)","v":0},{"$f":"ROUND(E38*B33,2)","v":0},null,null,null,null,null,null,null,null,null,null,null,null,null,null,null,"Terremoto, temblor",0.92508789999999996,{"$f":"+X38/(1-(#REF!+#REF!+#REF!+#REF!))","v":{"$error":"#REF!"}},0.92508789999999996,{"$f":"+Z38/(1-(#REF!+#REF!+#REF!+#REF!))","v":{"$error":"#REF!"}},null,null,{"$f":"X38/(1-(X31+X32+X33+X34))","v":1.2024636854726682},{"$f":"ROUND(AE29*AD38/1000,2)","v":0},{"$f":"ROUND(AE38*(1-X33),2)","v":0},{"$f":"ROUND(AE38*X33,2)","v":0}]
["Riesgos de la naturaleza",0.1027875,null,null,{"$f":"ROUND(E29*D39/1000,2)","v":0},{"$f":"ROUND(E39*(1-B33),2)","v":0},{"$f":"ROUND(E39*B33,2)","v":0},null,null,null,null,null,null,null,null,null,null,null,null,null,null,null,"Riesgos de la naturaleza",0.1027875,{"$f":"+X39/(1-(#REF!+#REF!+#REF!+#REF!))","v":{"$error":"#REF!"}},0.1027875,{"$f":"+Z39/(1-(#REF!+#REF!+#REF!+#REF!))","v":{"$error":"#REF!"}},null,null,{"$f":"X39/(1-(X31+X32+X33+X34))","v":0.13360701839308664},{"$f":"ROUND(AE29*AD39/1000,2)","v":0},{"$f":"ROUND(AE39*(1-X33),2)","v":0},{"$f":"ROUND(AE39*X33,2)","v":0}]
["Riesgos políticos y sociales",5.0000000000000001E-3,null,null,{"$f":"ROUND(E29*D40/1000,2)","v":0},{"$f":"ROUND(E40*(1-B33),2)","v":0},{"$f":"ROUND(E40*B33,2)","v":0},null,null,null,null,null,null,null,null,null,null,null,null,null,null,null,"Riesgos políticos y sociales",5.0000000000000001E-3,{"$f":"+X40/(1-(#REF!+#REF!+#REF!+#REF!))","v":{"$error":"#REF!"}},5.0000000000000001E-3,{"$f":"+Z40/(1-(#REF!+#REF!+#REF!+#REF!))","v":{"$error":"#REF!"}},null,null,{"$f":"X40/(1-(X31+X32+X33+X34))","v":6.4991861069238306E-3},{"$f":"ROUND(AE29*AD40/1000,2)","v":0},{"$f":"ROUND(AE40*(1-X33),2)","v":0},{"$f":"ROUND(AE40*X33,2)","v":0}]
["Responsabilidad Civil frente a terceros",6.267E-3,null,null,{"$f":"ROUND(E29*D41/1000,2)","v":0},{"$f":"ROUND(E41*(1-B33),2)","v":0},{"$f":"ROUND(E41*B33,2)","v":0},null,null,null,null,null,null,null,null,null,null,null,null,null,null,null,"Responsabilidad Civil frente a terceros",6.267E-3,{"$f":"+X41/(1-(#REF!+#REF!+#REF!+#REF!))","v":{"$error":"#REF!"}},6.267E-3,{"$f":"+Z41/(1-(#REF!+#REF!+#REF!+#REF!))","v":{"$error":"#REF!"}},null,null,{"$f":"X41/(1-(X31+X32+X33+X34))","v":8.14607986641833E-3},{"$f":"ROUND(AE29*AD41/1000,2)","v":0},{"$f":"ROUND(AE41*(1-X33),2)","v":0},{"$f":"ROUND(AE41*X33,2)","v":0}]
["Rotura accidental de vidrio y/o cristales",1.7274100000000001E-2,null,null,{"$f":"ROUND(E29*D42/1000,2)","v":0},{"$f":"ROUND(E42*(1-B33),2)","v":0},{"$f":"ROUND(E42*B33,2)","v":0},null,null,null,null,null,null,null,null,null,null,null,null,null,null,null,"Rotura accidental de vidrio y/o cristales",1.7274100000000001E-2,{"$f":"+X42/(1-(#REF!+#REF!+#REF!+#REF!))","v":{"$error":"#REF!"}},1.7274100000000001E-2,{"$f":"+Z42/(1-(#REF!+#REF!+#REF!+#REF!))","v":{"$error":"#REF!"}},null,null,{"$f":"X42/(1-(X31+X32+X33+X34))","v":2.2453518145922589E-2},{"$f":"ROUND(AE29*AD42/1000,2)","v":0},{"$f":"ROUND(AE42*(1-X33),2)","v":0},{"$f":"ROUND(AE42*X33,2)","v":0}]
["Robo o intento de robo de instalaciones fijas",3.6160000000000001E-4,null,null,{"$f":"ROUND(E29*D43/1000,2)","v":0},{"$f":"ROUND(E43*(1-B33),2)","v":0},{"$f":"ROUND(E43*B33,2)","v":0},null,null,null,null,null,null,null,null,null,null,null,null,null,null,null,"Robo o intento de robo de instalaciones fijas",3.6160000000000001E-4,{"$f":"+X43/(1-(#REF!+#REF!+#REF!+#REF!))","v":{"$error":"#REF!"}},3.6160000000000001E-4,{"$f":"+Z43/(1-(#REF!+#REF!+#REF!+#REF!))","v":{"$error":"#REF!"}},null,null,{"$f":"X43/(1-(X31+X32+X33+X34))","v":4.7002113925273141E-4},{"$f":"ROUND(AE29*AD43/1000,2)","v":0},{"$f":"ROUND(AE43*(1-X33),2)","v":0},{"$f":"ROUND(AE43*X33,2)","v":0}]
["Reembolso de gastos médicos por accidentes de trabajadores del hogar",2.9409000000000002E-3,null,null,{"$f":"ROUND(E29*D44/1000,2)","v":0},{"$f":"ROUND(E44*(1-B33),2)","v":0},{"$f":"ROUND(E44*B33,2)","v":0},null,null,null,null,null,null,null,null,null,null,null,null,null,null,null,"Reembolso de gastos médicos por accidentes de trabajadores del hogar",2.9409000000000002E-3,{"$f":"+X44/(1-(#REF!+#REF!+#REF!+#REF!))","v":{"$error":"#REF!"}},2.9409000000000002E-3,{"$f":"+Z44/(1-(#REF!+#REF!+#REF!+#REF!))","v":{"$error":"#REF!"}},null,null,{"$f":"X44/(1-(X31+X32+X33+X34))","v":3.8226912843704591E-3},{"$f":"ROUND(AE29*AD44/1000,2)","v":0},{"$f":"ROUND(AE44*(1-X33),2)","v":0},{"$f":"ROUND(AE44*X33,2)","v":0}]
["Gasto de arrendamiento de vivienda temporal",4.5742999999999999E-3,null,null,{"$f":"ROUND(E29*D45/1000,2)","v":0},{"$f":"ROUND(E45*(1-B33),2)","v":0},{"$f":"ROUND(E45*B33,2)","v":0},null,null,null,null,null,null,null,null,null,null,null,null,null,null,null,"Gasto de arrendamiento de vivienda temporal",4.5742999999999999E-3,{"$f":"+X45/(1-(#REF!+#REF!+#REF!+#REF!))","v":{"$error":"#REF!"}},4.5742999999999999E-3,{"$f":"+Z45/(1-(#REF!+#REF!+#REF!+#REF!))","v":{"$error":"#REF!"}},null,null,{"$f":"X45/(1-(X31+X32+X33+X34))","v":5.9458454017803355E-3},{"$f":"ROUND(AE29*AD45/1000,2)","v":0},{"$f":"ROUND(AE45*(1-X33),2)","v":0},{"$f":"ROUND(AE45*X33,2)","v":0}]
["Alquiler no  percibido por inmueble inhabitable temporalmente",4.5742999999999999E-3,null,null,{"$f":"ROUND(E29*D46/1000,2)","v":0},{"$f":"ROUND(E46*(1-B33),2)","v":0},{"$f":"ROUND(E46*B33,2)","v":0},null,null,null,null,null,null,null,null,null,null,null,null,null,null,null,"Alquiler no  percibido por inmueble inhabitable temporalmente",4.5742999999999999E-3,{"$f":"+X46/(1-(#REF!+#REF!+#REF!+#REF!))","v":{"$error":"#REF!"}},4.5742999999999999E-3,{"$f":"+Z46/(1-(#REF!+#REF!+#REF!+#REF!))","v":{"$error":"#REF!"}},null,null,{"$f":"X46/(1-(X31+X32+X33+X34))","v":5.9458454017803355E-3},{"$f":"ROUND(AE29*AD46/1000,2)","v":0},{"$f":"ROUND(AE46*(1-X33),2)","v":0},{"$f":"ROUND(AE46*X33,2)","v":0}]
["Asistencias",6.2500200000000006E-2,null,null,{"$f":"E49*B48","v":0},{"$f":"F49*B48","v":0},{"$f":"G49*B48","v":0},null,null,null,null,null,null,null,null,null,null,null,null,null,null,null,"Asistencias",6.2500200000000006E-2,{"$f":"+X47/(1-(#REF!+#REF!+#REF!+#REF!))","v":{"$error":"#REF!"}},6.25E-2,{"$f":"+Z47/(1-(#REF!+#REF!+#REF!+#REF!))","v":{"$error":"#REF!"}},null,null,null,{"$f":"AE49*X48","v":0},{"$f":"AF49*X48","v":0},{"$f":"AG49*X48","v":0}]
["Cantidad de asistencias",6,null,null,null,null,null,null,null,null,null,null,null,null,null,null,null,null,null,null,null,null,"Cantidad de asistencias",6,6,6,6]
["Tasa por asistencia",{"$f":"B47/B48","v":1.0416700000000001E-2},null,null,{"$f":"ROUND(E29*D49/1000,2)","v":0},{"$f":"ROUND(E49*(1-B33),2)","v":0},{"$f":"ROUND(E49*B33,2)","v":0},null,null,null,null,null,null,null,null,null,null,null,null,null,null,null,"Tasa por asistencia",{"$f":"X47/X48","v":1.0416700000000001E-2},{"$f":"+ROUND(Y47/Y48,7)","v":{"$error":"#REF!"}},1.0416699999999999E-2,1.0416699999999999E-2,null,null,{"$f":"X49/(1-(X31+X32+X33+X34))","v":1.3540014383998693E-2},{"$f":"ROUND(AE29*AD49/1000,2)","v":0},{"$f":"ROUND(AE49*(1-X33),2)","v":0},{"$f":"ROUND(AE49*X33,2)","v":0}]
[]
[null,null,null,null,{"$f":"ROUND(E29*D51/1000,2)","v":0},{"$f":"ROUND(E51*(1-B33),2)","v":0},{"$f":"ROUND(E51*B33,2)","v":0},null,null,null,null,null,null,null,null,null,null,null,null,null,null,null,null,null,null,null,null,null,null,{"$f":"X36/(1-(X31+X32+X33+X34))","v":2.2000583366944961},{"$f":"ROUND(AE29*AD51/1000,2)","v":0},{"$f":"ROUND(AE51*(1-X33),2)","v":0},{"$f":"ROUND(AE51*X33,2)","v":0}]
[null,null,null,null,"Suma de Cob",{"$f":"SUM(F37:F47)","v":0},{"$f":"SUM(G37:G47)","v":0},null,null,null,null,null,null,null,null,null,null,null,null,null,null,null,null,null,null,null,null,null,null,null,"Suma de Cob",{"$f":"SUM(AF37:AF47)","v":0},{"$f":"SUM(AG37:AG47)","v":0}]
[null,null,null,null,"Esperado",{"$f":"E51*(1-B33)","v":0},{"$f":"E51*B33","v":0},null,null,null,null,null,null,null,null,null,null,null,null,null,null,null,null,null,null,null,null,null,null,null,"Esperado",{"$f":"AE51*(1-X33)","v":0},{"$f":"AE51*X33","v":0}]
[null,null,null,null,"Faltante",{"$f":"F53-F52","v":0},{"$f":"G53-G52","v":0},null,null,null,null,null,null,null,null,null,null,null,null,null,null,null,null,null,null,null,null,null,null,null,"Faltante",{"$f":"AF53-AF52","v":0},{"$f":"AG53-AG52","v":0}]
[]
[]
[]
["Tipo de bien: Bienes","tasa de riesgo",null,null,null,null,null,null,null,null,null,null,null,null,null,null,null,null,null,null,null,null,"Tipo de bien: Bienes","tasa de riesgo","tasa comercial","tasa de riesgo","tasa comercial",null,null,"COMPLETA 2 - Contenido"]
[null,"Corredores",null,null,null,null,null,null,null,null,null,null,null,null,null,null,null,null,null,null,null,null,null,"Corredores","Corredores","NNDD","NNDD"]
["Gastos generales",0.1142203,null,null,null,null,null,null,null,null,null,null,null,null,null,null,null,null,null,null,null,null,"Gastos generales",0.1142203,3.0672905132556546E-2,0.13963639999999999,0.15]
["Gastos de comercialización",0,null,null,null,null,null,null,null,null,null,null,null,null,null,null,null,null,null,null,null,null,"Gastos de comercialización",0,0,0.05,0.05]
["Comisión local",0.2,null,null,null,null,null,null,null,null,null,null,null,null,null,null,null,null,null,null,null,null,"Comisión local",0.2,0.2,0,0]
["Utilidad antes de Imp",0,null,null,null,null,null,null,null,null,null,null,null,null,null,null,null,null,null,null,null,null,"Utilidad antes de Imp",0,0,0,3.0656799711687509E-2]
["Tasa comercial %o",{"$f":"+B65/(1-(B60+B61+B62+B63))","v":2.2000875791453143},null,null,"Prima Neta","Prima","Comisión",null,null,null,null,null,null,null,null,null,null,null,null,null,null,null,"Tasa comercial %o",{"$f":"+X65/(1-(X60+X61+X62+X63))","v":2.2000875791453143},{"$f":"+SUM(Y66:Y70)","v":{"$error":"#REF!"}},{"$f":"+Z65/(1-(Z60+Z61+Z62+Z63))","v":2.2003151424866565},{"$f":"+SUM(AA66:AA70)","v":{"$error":"#REF!"}},null,null,"Tasa Comercial","Prima Neta","Prima","Comisión"]
["Tasa de Riesgo %o",{"$f":"+SUM(B66:B70)","v":1.5087753999999998},null,null,null,null,null,null,null,null,null,null,null,null,null,null,null,null,null,null,null,null,"Tasa de Riesgo %o",{"$f":"+SUM(X66:X70)","v":1.5087753999999998},null,{"$f":"+SUM(Z66:Z70)","v":1.7830553}]
["Incendio y/o rayo, explosión. Daños por agua, daños por humo, impacto de vehículos y/o aeronaves",0.41339979999999998,null,null,{"$f":"ROUND(E58*D66/1000, 2)","v":0},{"$f":"ROUND(E66*(1-B62),2)","v":0},{"$f":"ROUND(E66*B62,2)","v":0},null,null,null,null,null,null,null,null,null,null,null,null,null,null,null,"Incendio y/o rayo, explosión. Daños por agua, daños por humo, impacto de vehículos y/o aeronaves",0.41339979999999998,{"$f":"+X66/(1-(#REF!+#REF!+#REF!+#REF!))","v":{"$error":"#REF!"}},0.41339979999999998,{"$f":"+Z66/(1-(#REF!+#REF!+#REF!+#REF!))","v":{"$error":"#REF!"}},null,null,{"$f":"X66/(1-(X60+X61+X62+X63))","v":0.60281720208399281},{"$f":"ROUND(AE58*AD66/1000, 2)","v":0},{"$f":"ROUND(AE66*(1-X62),2)","v":0},{"$f":"ROUND(AE66*X62,2)","v":0}]
["Terremoto, temblor",0.92508789999999996,null,null,{"$f":"ROUND(E58*D67/1000,2)","v":0},{"$f":"ROUND(E67*(1-B62),2)","v":0},{"$f":"ROUND(E67*B62,2)","v":0},null,null,null,null,null,null,null,null,null,null,null,null,null,null,null,"Terremoto, temblor",0.92508789999999996,{"$f":"+X67/(1-(#REF!+#REF!+#REF!+#REF!))","v":{"$error":"#REF!"}},0.92508789999999996,{"$f":"+Z67/(1-(#REF!+#REF!+#REF!+#REF!))","v":{"$error":"#REF!"}},null,null,{"$f":"X67/(1-(X60+X61+X62+X63))","v":1.3489578358764482},{"$f":"ROUND(AE58*AD67/1000,2)","v":0},{"$f":"ROUND(AE67*(1-X62),2)","v":0},{"$f":"ROUND(AE67*X62,2)","v":0}]
["Riesgos de la naturaleza",0.1027875,null,null,{"$f":"ROUND(E58*D68/1000,2)","v":0},{"$f":"ROUND(E68*(1-B62),2)","v":0},{"$f":"ROUND(E68*B62,2)","v":0},null,null,null,null,null,null,null,null,null,null,null,null,null,null,null,"Riesgos de la naturaleza",0.1027875,{"$f":"+X68/(1-(#REF!+#REF!+#REF!+#REF!))","v":{"$error":"#REF!"}},0.1027875,{"$f":"+Z68/(1-(#REF!+#REF!+#REF!+#REF!))","v":{"$error":"#REF!"}},null,null,{"$f":"X68/(1-(X60+X61+X62+X63))","v":0.14988413917763971},{"$f":"ROUND(AE58*AD68/1000,2)","v":0},{"$f":"ROUND(AE68*(1-X62),2)","v":0},{"$f":"ROUND(AE68*X62,2)","v":0}]
["Riesgos políticos y sociales",5.0000000000000001E-3,null,null,{"$f":"ROUND(E58*D69/1000,2)","v":0},{"$f":"ROUND(E69*(1-B62),2)","v":0},{"$f":"ROUND(E69*B62,2)","v":0},null,null,null,null,null,null,null,null,null,null,null,null,null,null,null,"Riesgos políticos y sociales",5.0000000000000001E-3,{"$f":"+X69/(1-(#REF!+#REF!+#REF!+#REF!))","v":{"$error":"#REF!"}},5.0000000000000001E-3,{"$f":"+Z69/(1-(#REF!+#REF!+#REF!+#REF!))","v":{"$error":"#REF!"}},null,null,{"$f":"X69/(1-(X60+X61+X62+X63))","v":7.2909711383991101E-3},{"$f":"ROUND(AE58*AD69/1000,2)","v":0},{"$f":"ROUND(AE69*(1-X62),2)","v":0},{"$f":"ROUND(AE69*X62,2)","v":0}]
["Asistencias",6.2500200000000006E-2,null,null,{"$f":"E72*B71","v":0},{"$f":"F72*B71","v":0},{"$f":"G72*B71","v":0},null,null,{"$f":"+I70","v":0},null,null,null,null,null,null,null,null,null,null,null,null,"Asistencias",6.2500200000000006E-2,{"$f":"+X70/(1-(#REF!+#REF!+#REF!+#REF!))","v":{"$error":"#REF!"}},0.33678010000000003,{"$f":"+Z70/(1-(#REF!+#REF!+#REF!+#REF!))","v":{"$error":"#REF!"}},null,null,null,{"$f":"AE72*X71","v":0},{"$f":"AF72*X71","v":0},{"$f":"AG72*X71","v":0}]
["Cantidad de asistencias",6,null,null,null,null,null,null,null,null,null,null,null,null,null,null,null,null,null,null,null,null,"Cantidad de asistencias",6,6,6,6]
["Tasa por asistencia",{"$f":"B70/B71","v":1.0416700000000001E-2},null,null,{"$f":"ROUND(E58*D72/1000,2)","v":0},{"$f":"ROUND(E72*(1-B62),2)","v":0},{"$f":"ROUND(E72*B62,2)","v":0},null,null,null,null,null,null,null,null,null,null,null,null,null,null,null,"Tasa por asistencia",{"$f":"X70/X71","v":1.0416700000000001E-2},{"$f":"+ROUND(Y70/Y71,7)","v":{"$error":"#REF!"}},1.0416699999999999E-2,1.0416699999999999E-2,null,null,{"$f":"X72/(1-(X60+X61+X62+X63))","v":1.5189571811472404E-2},{"$f":"ROUND(AE58*AD72/1000,2)","v":0},{"$f":"ROUND(AE72*(1-X62),2)","v":0},{"$f":"ROUND(AE72*X62,2)","v":0}]
[]
[null,null,null,null,{"$f":"ROUND(E58*D74/1000,2)","v":0},{"$f":"ROUND(E74*(1-B62),2)","v":0},{"$f":"ROUND(E74*B62,2)","v":0},null,null,null,null,null,null,null,null,null,null,null,null,null,null,null,null,null,null,null,null,null,null,{"$f":"X65/(1-(X60+X61+X62+X63))","v":2.2000875791453143},{"$f":"ROUND(AE58*AD74/1000,2)","v":0},{"$f":"ROUND(AE74*(1-X62),2)","v":0},{"$f":"ROUND(AE74*X62,2)","v":0}]
[null,null,null,null,"Suma de Cob",{"$f":"SUM(F66:F70)","v":0},{"$f":"SUM(G66:G70)","v":0},null,null,null,null,null,null,null,null,null,null,null,null,null,null,null,null,null,null,null,null,null,null,null,"Suma de Cob",{"$f":"SUM(AF66:AF70)","v":0},{"$f":"SUM(AG66:AG70)","v":0}]
[null,null,null,null,"Esperado",{"$f":"E74*(1-B62)","v":0},{"$f":"E74*B62","v":0},null,null,null,null,null,null,null,null,null,null,null,null,null,null,null,null,null,null,null,null,null,null,null,"Esperado",{"$f":"AE74*(1-X62)","v":0},{"$f":"AE74*X62","v":0}]
[null,null,null,null,"Faltante",{"$f":"F76-F75","v":0},{"$f":"G76-G75","v":0},null,null,null,null,null,null,null,null,null,null,null,null,null,null,null,null,null,null,null,null,null,null,null,"Faltante",{"$f":"AF76-AF75","v":0},{"$f":"AG76-AG75","v":0}]
[]
[]
["Tipo de bien: Bienes con robo","Corredores",null,null,null,null,null,null,null,null,null,null,null,null,null,null,null,null,null,null,null,null,"Tipo de bien: Bienes con robo","Corredores","Corredores","NNDD","NNDD"]
["Gastos generales",0.15,null,null,null,null,null,null,null,null,null,null,null,null,null,null,null,null,null,null,null,null,"Gastos generales",0.15,0.15,0.15,0.15]
["Gastos de comercialización",0.05,null,null,null,null,null,null,null,null,null,null,null,null,null,null,null,null,null,null,null,null,"Gastos de comercialización",0.05,0.05,0.05,0.05]
["Comisión local",0.2,null,null,null,null,null,null,null,null,null,null,null,null,null,null,null,null,null,null,null,null,"Comisión local",0.2,0.2,0,0]
["Utilidad antes de Imp",9.4818600000000003E-2,null,null,null,null,null,null,null,null,null,null,null,null,null,null,null,null,null,null,null,null,"Utilidad antes de Imp",9.4818600000000003E-2,9.4818618872647503E-2,0.29477880000000001,0.29477881366445952]
["Tasa comercial %o",{"$f":"+B86/(1-(B81+B82+B83+B84))","v":4.9999008277026826},null,null,"Prima Neta","Prima","Comisión",null,null,null,null,null,null,null,null,null,null,null,null,null,null,null,"Tasa comercial %o",{"$f":"+X86/(1-(X81+X82+X83+X84))","v":4.9999008277026826},{"$f":"+SUM(Y87:Y90)","v":{"$error":"#REF!"}},{"$f":"+Z86/(1-(Z81+Z82+Z83+Z84))","v":4.9995069486395263},{"$f":"+SUM(AA87:AA90)","v":{"$error":"#REF!"}},null,null,"Tasa Comercial","Prima Neta","Prima","Comisión"]
["Tasa de Riesgo %o",{"$f":"+SUM(B87:B90)","v":2.5258569},null,null,null,null,null,null,null,null,null,null,null,null,null,null,null,null,null,null,null,null,"Tasa de Riesgo %o",{"$f":"+SUM(X87:X90)","v":2.5258569},null,{"$f":"+SUM(Z87:Z90)","v":2.5258569}]
["Robo y/o daños por intento de robo de bienes ",2.4425075000000001,null,null,{"$f":"ROUND(E58*D87/1000,2)","v":0},{"$f":"ROUND(E87*(1-B83),2)","v":0},{"$f":"ROUND(E87*B83,2)","v":0},null,null,null,null,null,null,null,null,null,null,null,null,null,null,null,"Robo y/o daños por intento de robo de bienes ",2.4425075000000001,{"$f":"+X87/(1-(#REF!+#REF!+#REF!+#REF!))","v":{"$error":"#REF!"}},2.4425075000000001,{"$f":"+Z87/(1-(#REF!+#REF!+#REF!+#REF!))","v":{"$error":"#REF!"}},null,null,{"$f":"X87/(1-(X81+X82+X83+X84))","v":4.8349117762451268},{"$f":"ROUND(AE58*AD87/1000,2)","v":0},{"$f":"ROUND(AE87*(1-X83),2)","v":0},{"$f":"ROUND(AE87*X83,2)","v":0}]
["Robo y/o daños por intento de robo de bienes especiales: joyas, platería, relojes, obras de arte, cámaras fotográficas o de video, laptops y bicicletas dentro de la vivienda o que estén siendo portados fuera de la vivienda",6.2311999999999999E-2,null,null,{"$f":"ROUND(E58*D88/1000,2)","v":0},{"$f":"ROUND(E88*(1-B83),2)","v":0},{"$f":"ROUND(E88*B83,2)","v":0},null,null,null,null,null,null,null,null,null,null,null,null,null,null,null,"Robo y/o daños por intento de robo de bienes especiales: joyas, platería, relojes, obras de arte, cámaras fotográficas o de video, laptops y bicicletas dentro de la vivienda o que estén siendo portados fuera de la vivienda",6.2311999999999999E-2,{"$f":"+X88/(1-(#REF!+#REF!+#REF!+#REF!))","v":{"$error":"#REF!"}},6.2311999999999999E-2,{"$f":"+Z88/(1-(#REF!+#REF!+#REF!+#REF!))","v":{"$error":"#REF!"}},null,null,{"$f":"X88/(1-(X81+X82+X83+X84))","v":0.12334579222433763},{"$f":"ROUND(AE58*AD88/1000,2)","v":0},{"$f":"ROUND(AE88*(1-X83),2)","v":0},{"$f":"ROUND(AE88*X83,2)","v":0}]
["Hurto",1.3968700000000001E-2,null,null,{"$f":"ROUND(E58*D89/1000,2)","v":0},{"$f":"ROUND(E89*(1-B83),2)","v":0},{"$f":"ROUND(E89*B83,2)","v":0},null,null,null,null,null,null,null,null,null,null,null,null,null,null,null,"Hurto",1.3968700000000001E-2,{"$f":"+X89/(1-(#REF!+#REF!+#REF!+#REF!))","v":{"$error":"#REF!"}},1.3968700000000001E-2,{"$f":"+Z89/(1-(#REF!+#REF!+#REF!+#REF!))","v":{"$error":"#REF!"}},null,null,{"$f":"X89/(1-(X81+X82+X83+X84))","v":2.7650859671397247E-2},{"$f":"ROUND(AE58*AD89/1000,2)","v":0},{"$f":"ROUND(AE89*(1-X83),2)","v":0},{"$f":"ROUND(AE89*X83,2)","v":0}]
["Deshonestidad de trabajadores del hogar",7.0686999999999998E-3,null,null,{"$f":"ROUND(E58*D90/1000,2)","v":0},{"$f":"ROUND(E90*(1-B83),2)","v":0},{"$f":"ROUND(E90*B83,2)","v":0},null,null,null,null,null,null,null,null,null,null,null,null,null,null,null,"Deshonestidad de trabajadores del hogar",7.0686999999999998E-3,{"$f":"+X90/(1-(#REF!+#REF!+#REF!+#REF!))","v":{"$error":"#REF!"}},7.0686999999999998E-3,{"$f":"+Z90/(1-(#REF!+#REF!+#REF!+#REF!))","v":{"$error":"#REF!"}},null,null,{"$f":"X90/(1-(X81+X82+X83+X84))","v":1.3992399561820763E-2},{"$f":"ROUND(AE58*AD90/1000,2)","v":0},{"$f":"ROUND(AE90*(1-X83),2)","v":0},{"$f":"ROUND(AE90*X83,2)","v":0}]
[]
[null,null,null,null,{"$f":"ROUND(E58*D92/1000,2)","v":0},{"$f":"ROUND(E92*(1-B83),2)","v":0},{"$f":"ROUND(E92*B83,2)","v":0},null,null,null,null,null,null,null,null,null,null,null,null,null,null,null,null,null,null,null,null,null,null,{"$f":"X86/(1-(X81+X82+X83+X84))","v":4.9999008277026826},{"$f":"ROUND(AE58*AD92/1000,2)","v":0},{"$f":"ROUND(AE92*(1-X83),2)","v":0},{"$f":"ROUND(AE92*X83,2)","v":0}]
[]
[null,null,null,null,{"$f":"E51+E74+E92","v":0},{"$f":"IF(F96<>F95,F95,F96)","v":{"$error":"#REF!"}},{"$f":"IF(G96<>G95,G95,G96)","v":{"$error":"#REF!"}},null,null,null,null,null,null,null,null,null,null,null,null,null,null,null,null,null,null,null,null,null,null,"TOTAL COMPLETA 2",{"$f":"AE51+AE74+AE92","v":0},{"$f":"IF(AF96<>AF95,AF95,AF96)","v":{"$error":"#REF!"}},{"$f":"IF(AG96<>AG95,AG95,AG96)","v":{"$error":"#REF!"}}]
[null,null,null,null,"Suma Ajustada",{"$f":"#REF!+#REF!","v":{"$error":"#REF!"}},{"$f":"#REF!+#REF!","v":{"$error":"#REF!"}},null,null,null,null,null,null,null,null,null,null,null,null,null,null,null,null,null,null,null,null,null,null,null,"Suma Ajustada",{"$f":"#REF!+#REF!","v":{"$error":"#REF!"}},{"$f":"#REF!+#REF!","v":{"$error":"#REF!"}}]
[null,null,null,null,"Suma Esperada",{"$f":"F51+F74+F92","v":0},{"$f":"G51+G74+G92","v":0},null,null,null,null,null,null,null,null,null,null,null,null,null,null,null,null,null,null,null,null,null,null,null,"Suma Esperada",{"$f":"AF51+AF74+AF92","v":0},{"$f":"AE94*X83","v":0}]
[]
[]
[]
[]
[]
[]
[]
[]
["Tipo de bien: Inmueble","tasa de riesgo",null,null,null,null,null,null,null,null,null,null,null,null,null,null,null,null,null,null,null,null,"Tipo de bien: Inmueble","tasa de riesgo","tasa comercial","tasa de riesgo","tasa comercial",null,null,"COMPLETA 3 - Inmueble"]
[null,"Corredores",null,null,null,null,null,null,null,null,null,null,null,null,null,null,null,null,null,null,null,null,null,"Corredores","Corredores","NNDD","NNDD"]
["Gastos generales",3.0672899999999999E-2,null,null,null,null,null,null,null,null,null,null,null,null,null,null,null,null,null,null,null,null,"Gastos generales",3.0672899999999999E-2,3.0672905132556546E-2,0.15,0.15]
["Gastos de comercialización",0,null,null,null,null,null,null,null,null,null,null,null,null,null,null,null,null,null,null,null,null,"Gastos de comercialización",0,0,0.05,0.05]
["Comisión local",0.2,null,null,null,null,null,null,null,null,null,null,null,null,null,null,null,null,null,null,null,null,"Comisión local",0.2,0.2,0,0]
["Utilidad antes de Imp",0,null,null,null,null,null,null,null,null,null,null,null,null,null,null,null,null,null,null,null,null,"Utilidad antes de Imp",0,0,3.0656800000000001E-2,3.0656799711687509E-2]
["Tasa comercial %o",{"$f":"+B112/(1-(B107+B108+B109+B110))","v":2.2000583366944961},null,null,"Prima Neta","Prima","Comisión",null,null,null,null,null,null,null,null,null,null,null,null,null,null,null,"Tasa comercial %o",{"$f":"+X112/(1-(X107+X108+X109+X110))","v":2.2000583366944961},{"$f":"+SUM(Y113:Y123)","v":{"$error":"#REF!"}},{"$f":"+Z112/(1-(Z107+Z108+Z109+Z110))","v":2.2000120362407829},{"$f":"+SUM(AA113:AA123)","v":{"$error":"#REF!"}},null,null,"Tasa Comercial","Prima Neta","Prima","Comisión"]
["Tasa de Riesgo %o",{"$f":"+SUM(B113:B123)","v":1.6925645},null,null,null,null,null,null,null,null,null,null,null,null,null,null,null,null,null,null,null,null,"Tasa de Riesgo %o",{"$f":"+SUM(X113:X123)","v":1.6925645},null,{"$f":"+SUM(Z113:Z123)","v":1.6925642999999999}]
["Incendio y/o rayo, explosión. Daños por agua, daños por humo, impacto de vehículos y/o aeronaves",0.56119669999999999,null,null,{"$f":"ROUND(E105*D113/1000,2)","v":0},{"$f":"ROUND(E113*(1-B109),2)","v":0},{"$f":"ROUND(E113*B109,2)","v":0},null,null,null,null,null,null,null,null,null,null,null,null,null,null,null,"Incendio y/o rayo, explosión. Daños por agua, daños por humo, impacto de vehículos y/o aeronaves",0.56119669999999999,{"$f":"+X113/(1-(#REF!+#REF!+#REF!+#REF!))","v":{"$error":"#REF!"}},0.56119669999999999,{"$f":"+Z113/(1-(#REF!+#REF!+#REF!+#REF!))","v":{"$error":"#REF!"}},null,null,{"$f":"X113/(1-(X107+X108+X109+X110))","v":0.7294643591783001},{"$f":"ROUND(AE105*AD113/1000,2)","v":0},{"$f":"ROUND(AE113*(1-X109),2)","v":0},{"$f":"ROUND(AE113*X109,2)","v":0}]
["Terremoto, temblor",0.92508789999999996,null,null,{"$f":"ROUND(E105*D114/1000,2)","v":0},{"$f":"ROUND(E114*(1-B109),2)","v":0},{"$f":"ROUND(E114*B109,2)","v":0},null,null,null,null,null,null,null,null,null,null,null,null,null,null,null,"Terremoto, temblor",0.92508789999999996,{"$f":"+X114/(1-(#REF!+#REF!+#REF!+#REF!))","v":{"$error":"#REF!"}},0.92508789999999996,{"$f":"+Z114/(1-(#REF!+#REF!+#REF!+#REF!))","v":{"$error":"#REF!"}},null,null,{"$f":"X114/(1-(X107+X108+X109+X110))","v":1.2024636854726682},{"$f":"ROUND(AE105*AD114/1000,2)","v":0},{"$f":"ROUND(AE114*(1-X109),2)","v":0},{"$f":"ROUND(AE114*X109,2)","v":0}]
["Riesgos de la naturaleza",0.1027875,null,null,{"$f":"ROUND(E105*D115/1000,2)","v":0},{"$f":"ROUND(E115*(1-B109),2)","v":0},{"$f":"ROUND(E115*B109,2)","v":0},null,null,null,null,null,null,null,null,null,null,null,null,null,null,null,"Riesgos de la naturaleza",0.1027875,{"$f":"+X115/(1-(#REF!+#REF!+#REF!+#REF!))","v":{"$error":"#REF!"}},0.1027875,{"$f":"+Z115/(1-(#REF!+#REF!+#REF!+#REF!))","v":{"$error":"#REF!"}},null,null,{"$f":"X115/(1-(X107+X108+X109+X110))","v":0.13360701839308664},{"$f":"ROUND(AE105*AD115/1000,2)","v":0},{"$f":"ROUND(AE115*(1-X109),2)","v":0},{"$f":"ROUND(AE115*X109,2)","v":0}]
["Riesgos políticos y sociales",5.0000000000000001E-3,null,null,{"$f":"ROUND(E105*D116/1000,2)","v":0},{"$f":"ROUND(E116*(1-B109),2)","v":0},{"$f":"ROUND(E116*B109,2)","v":0},null,null,null,null,null,null,null,null,null,null,null,null,null,null,null,"Riesgos políticos y sociales",5.0000000000000001E-3,{"$f":"+X116/(1-(#REF!+#REF!+#REF!+#REF!))","v":{"$error":"#REF!"}},5.0000000000000001E-3,{"$f":"+Z116/(1-(#REF!+#REF!+#REF!+#REF!))","v":{"$error":"#REF!"}},null,null,{"$f":"X116/(1-(X107+X108+X109+X110))","v":6.4991861069238306E-3},{"$f":"ROUND(AE105*AD116/1000,2)","v":0},{"$f":"ROUND(AE116*(1-X109),2)","v":0},{"$f":"ROUND(AE116*X109,2)","v":0}]
["Responsabilidad Civil frente a terceros",6.267E-3,null,null,{"$f":"ROUND(E105*D117/1000,2)","v":0},{"$f":"ROUND(E117*(1-B109),2)","v":0},{"$f":"ROUND(E117*B109,2)","v":0},null,null,null,null,null,null,null,null,null,null,null,null,null,null,null,"Responsabilidad Civil frente a terceros",6.267E-3,{"$f":"+X117/(1-(#REF!+#REF!+#REF!+#REF!))","v":{"$error":"#REF!"}},6.267E-3,{"$f":"+Z117/(1-(#REF!+#REF!+#REF!+#REF!))","v":{"$error":"#REF!"}},null,null,{"$f":"X117/(1-(X107+X108+X109+X110))","v":8.14607986641833E-3},{"$f":"ROUND(AE105*AD117/1000,2)","v":0},{"$f":"ROUND(AE117*(1-X109),2)","v":0},{"$f":"ROUND(AE117*X109,2)","v":0}]
["Rotura accidental de vidrio y/o cristales",1.7274100000000001E-2,null,null,{"$f":"ROUND(E105*D118/1000,2)","v":0},{"$f":"ROUND(E118*(1-B109),2)","v":0},{"$f":"ROUND(E118*B109,2)","v":0},null,null,null,null,null,null,null,null,null,null,null,null,null,null,null,"Rotura accidental de vidrio y/o cristales",1.7274100000000001E-2,{"$f":"+X118/(1-(#REF!+#REF!+#REF!+#REF!))","v":{"$error":"#REF!"}},1.7274100000000001E-2,{"$f":"+Z118/(1-(#REF!+#REF!+#REF!+#REF!))","v":{"$error":"#REF!"}},null,null,{"$f":"X118/(1-(X107+X108+X109+X110))","v":2.2453518145922589E-2},{"$f":"ROUND(AE105*AD118/1000,2)","v":0},{"$f":"ROUND(AE118*(1-X109),2)","v":0},{"$f":"ROUND(AE118*X109,2)","v":0}]
["Robo o intento de robo de instalaciones fijas",3.6160000000000001E-4,null,null,{"$f":"ROUND(E105*D119/1000,2)","v":0},{"$f":"ROUND(E119*(1-B109),2)","v":0},{"$f":"ROUND(E119*B109,2)","v":0},null,null,null,null,null,null,null,null,null,null,null,null,null,null,null,"Robo o intento de robo de instalaciones fijas",3.6160000000000001E-4,{"$f":"+X119/(1-(#REF!+#REF!+#REF!+#REF!))","v":{"$error":"#REF!"}},3.6160000000000001E-4,{"$f":"+Z119/(1-(#REF!+#REF!+#REF!+#REF!))","v":{"$error":"#REF!"}},null,null,{"$f":"X119/(1-(X107+X108+X109+X110))","v":4.7002113925273141E-4},{"$f":"ROUND(AE105*AD119/1000,2)","v":0},{"$f":"ROUND(AE119*(1-X109),2)","v":0},{"$f":"ROUND(AE119*X109,2)","v":0}]
["Reembolso de gastos médicos por accidentes de trabajadores del hogar",2.9409000000000002E-3,null,null,{"$f":"ROUND(E105*D120/1000,2)","v":0},{"$f":"ROUND(E120*(1-B109),2)","v":0},{"$f":"ROUND(E120*B109,2)","v":0},null,null,null,null,null,null,null,null,null,null,null,null,null,null,null,"Reembolso de gastos médicos por accidentes de trabajadores del hogar",2.9409000000000002E-3,{"$f":"+X120/(1-(#REF!+#REF!+#REF!+#REF!))","v":{"$error":"#REF!"}},2.9409000000000002E-3,{"$f":"+Z120/(1-(#REF!+#REF!+#REF!+#REF!))","v":{"$error":"#REF!"}},null,null,{"$f":"X120/(1-(X107+X108+X109+X110))","v":3.8226912843704591E-3},{"$f":"ROUND(AE105*AD120/1000,2)","v":0},{"$f":"ROUND(AE120*(1-X109),2)","v":0},{"$f":"ROUND(AE120*X109,2)","v":0}]
["Gasto de arrendamiento de vivienda temporal",4.5742999999999999E-3,null,null,{"$f":"ROUND(E105*D121/1000,2)","v":0},{"$f":"ROUND(E121*(1-B109),2)","v":0},{"$f":"ROUND(E121*B109,2)","v":0},null,null,null,null,null,null,null,null,null,null,null,null,null,null,null,"Gasto de arrendamiento de vivienda temporal",4.5742999999999999E-3,{"$f":"+X121/(1-(#REF!+#REF!+#REF!+#REF!))","v":{"$error":"#REF!"}},4.5742999999999999E-3,{"$f":"+Z121/(1-(#REF!+#REF!+#REF!+#REF!))","v":{"$error":"#REF!"}},null,null,{"$f":"X121/(1-(X107+X108+X109+X110))","v":5.9458454017803355E-3},{"$f":"ROUND(AE105*AD121/1000,2)","v":0},{"$f":"ROUND(AE121*(1-X109),2)","v":0},{"$f":"ROUND(AE121*X109,2)","v":0}]
["Alquiler no  percibido por inmueble inhabitable temporalmente",4.5742999999999999E-3,null,null,{"$f":"ROUND(E105*D122/1000,2)","v":0},{"$f":"ROUND(E122*(1-B109),2)","v":0},{"$f":"ROUND(E122*B109,2)","v":0},null,null,null,null,null,null,null,null,null,null,null,null,null,null,null,"Alquiler no  percibido por inmueble inhabitable temporalmente",4.5742999999999999E-3,{"$f":"+X122/(1-(#REF!+#REF!+#REF!+#REF!))","v":{"$error":"#REF!"}},4.5742999999999999E-3,{"$f":"+Z122/(1-(#REF!+#REF!+#REF!+#REF!))","v":{"$error":"#REF!"}},null,null,{"$f":"X122/(1-(X107+X108+X109+X110))","v":5.9458454017803355E-3},{"$f":"ROUND(AE105*AD122/1000,2)","v":0},{"$f":"ROUND(AE122*(1-X109),2)","v":0},{"$f":"ROUND(AE122*X109,2)","v":0}]
["Asistencias",6.2500200000000006E-2,null,null,{"$f":"E125*B124","v":0},{"$f":"F125*B124","v":0},{"$f":"G125*B124","v":0},null,null,null,null,null,null,null,null,null,null,null,null,null,null,null,"Asistencias",6.2500200000000006E-2,{"$f":"+X123/(1-(#REF!+#REF!+#REF!+#REF!))","v":{"$error":"#REF!"}},6.25E-2,{"$f":"+Z123/(1-(#REF!+#REF!+#REF!+#REF!))","v":{"$error":"#REF!"}},null,null,null,{"$f":"AE125*X124","v":0},{"$f":"AF125*X124","v":0},{"$f":"AG125*X124","v":0}]
["Cantidad de asistencias",6,null,null,null,null,null,null,null,null,null,null,null,null,null,null,null,null,null,null,null,null,"Cantidad de asistencias",6,6,6,6]
["Tasa por asistencia",{"$f":"B123/B124","v":1.0416700000000001E-2},null,null,{"$f":"ROUND(E105*D125/1000,2)","v":0},{"$f":"ROUND(E125*(1-B109),2)","v":0},{"$f":"ROUND(E125*B109,2)","v":0},null,null,null,null,null,null,null,null,null,null,null,null,null,null,null,"Tasa por asistencia",{"$f":"X123/X124","v":1.0416700000000001E-2},{"$f":"+ROUND(Y123/Y124,7)","v":{"$error":"#REF!"}},1.0416699999999999E-2,1.0416699999999999E-2,null,null,{"$f":"X125/(1-(X107+X108+X109+X110))","v":1.3540014383998693E-2},{"$f":"ROUND(AE105*AD125/1000,2)","v":0},{"$f":"ROUND(AE125*(1-X109),2)","v":0},{"$f":"ROUND(AE125*X109,2)","v":0}]
[]
[null,null,null,null,{"$f":"ROUND(E105*D127/1000,2)","v":0},{"$f":"ROUND(E127*(1-B109),2)","v":0},{"$f":"ROUND(E127*B109,2)","v":0},null,null,null,null,null,null,null,null,null,null,null,null,null,null,null,null,null,null,null,null,null,null,{"$f":"X112/(1-(X107+X108+X109+X110))","v":2.2000583366944961},{"$f":"ROUND(AE105*AD127/1000,2)","v":0},{"$f":"ROUND(AE127*(1-X109),2)","v":0},{"$f":"ROUND(AE127*X109,2)","v":0}]
[]
[]
[]
[]
[]
[]
["Tipo de bien: Bienes","tasa de riesgo",null,null,null,null,null,null,null,null,null,null,null,null,null,null,null,null,null,null,null,null,"Tipo de bien: Bienes","tasa de riesgo","tasa comercial","tasa de riesgo","tasa comercial",null,null,"COMPLETA 3 - Contenido"]
[null,"Corredores",null,null,null,null,null,null,null,null,null,null,null,null,null,null,null,null,null,null,null,null,null,"Corredores","Corredores","NNDD","NNDD"]
["Gastos generales",0.1142203,null,null,null,null,null,null,null,null,null,null,null,null,null,null,null,null,null,null,null,null,"Gastos generales",0.1142203,3.0672905132556546E-2,0.13963639999999999,0.15]
["Gastos de comercialización",0,null,null,null,null,null,null,null,null,null,null,null,null,null,null,null,null,null,null,null,null,"Gastos de comercialización",0,0,0.05,0.05]
["Comisión local",0.2,null,null,null,null,null,null,null,null,null,null,null,null,null,null,null,null,null,null,null,null,"Comisión local",0.2,0.2,0,0]
["Utilidad antes de Imp",0,null,null,null,null,null,null,null,null,null,null,null,null,null,null,null,null,null,null,null,null,"Utilidad antes de Imp",0,0,0,3.0656799711687509E-2]
["Tasa comercial %o",{"$f":"+B141/(1-(B136+B137+B138+B139))","v":2.2000875791453143},null,null,"Prima Neta","Prima","Comisión",null,null,null,null,null,null,null,null,null,null,null,null,null,null,null,"Tasa comercial %o",{"$f":"+X141/(1-(X136+X137+X138+X139))","v":2.2000875791453143},{"$f":"+SUM(Y142:Y146)","v":{"$error":"#REF!"}},{"$f":"+Z141/(1-(Z136+Z137+Z138+Z139))","v":2.2003151424866565},{"$f":"+SUM(AA142:AA146)","v":{"$error":"#REF!"}},null,null,"Tasa Comercial","Prima Neta","Prima","Comisión"]
["Tasa de Riesgo %o",{"$f":"+SUM(B142:B146)","v":1.5087753999999998},null,null,null,null,null,null,null,null,null,null,null,null,null,null,null,null,null,null,null,null,"Tasa de Riesgo %o",{"$f":"+SUM(X142:X146)","v":1.5087753999999998},null,{"$f":"+SUM(Z142:Z146)","v":1.7830553}]
["Incendio y/o rayo, explosión. Daños por agua, daños por humo, impacto de vehículos y/o aeronaves",0.41339979999999998,null,null,{"$f":"ROUND(E134*D142/1000, 2)","v":0},{"$f":"ROUND(E142*(1-B138),2)","v":0},{"$f":"ROUND(E142*B138,2)","v":0},null,null,null,null,null,null,null,null,null,null,null,null,null,null,null,"Incendio y/o rayo, explosión. Daños por agua, daños por humo, impacto de vehículos y/o aeronaves",0.41339979999999998,{"$f":"+X142/(1-(#REF!+#REF!+#REF!+#REF!))","v":{"$error":"#REF!"}},0.41339979999999998,{"$f":"+Z142/(1-(#REF!+#REF!+#REF!+#REF!))","v":{"$error":"#REF!"}},null,null,{"$f":"X142/(1-(X136+X137+X138+X139))","v":0.60281720208399281},{"$f":"ROUND(AE134*AD142/1000, 2)","v":0},{"$f":"ROUND(AE142*(1-X138),2)","v":0},{"$f":"ROUND(AE142*X138,2)","v":0}]
["Terremoto, temblor",0.92508789999999996,null,null,{"$f":"ROUND(E134*D143/1000,2)","v":0},{"$f":"ROUND(E143*(1-B138),2)","v":0},{"$f":"ROUND(E143*B138,2)","v":0},null,null,null,null,null,null,null,null,null,null,null,null,null,null,null,"Terremoto, temblor",0.92508789999999996,{"$f":"+X143/(1-(#REF!+#REF!+#REF!+#REF!))","v":{"$error":"#REF!"}},0.92508789999999996,{"$f":"+Z143/(1-(#REF!+#REF!+#REF!+#REF!))","v":{"$error":"#REF!"}},null,null,{"$f":"X143/(1-(X136+X137+X138+X139))","v":1.3489578358764482},{"$f":"ROUND(AE134*AD143/1000,2)","v":0},{"$f":"ROUND(AE143*(1-X138),2)","v":0},{"$f":"ROUND(AE143*X138,2)","v":0}]
["Riesgos de la naturaleza",0.1027875,null,null,{"$f":"ROUND(E134*D144/1000,2)","v":0},{"$f":"ROUND(E144*(1-B138),2)","v":0},{"$f":"ROUND(E144*B138,2)","v":0},null,null,null,null,null,null,null,null,null,null,null,null,null,null,null,"Riesgos de la naturaleza",0.1027875,{"$f":"+X144/(1-(#REF!+#REF!+#REF!+#REF!))","v":{"$error":"#REF!"}},0.1027875,{"$f":"+Z144/(1-(#REF!+#REF!+#REF!+#REF!))","v":{"$error":"#REF!"}},null,null,{"$f":"X144/(1-(X136+X137+X138+X139))","v":0.14988413917763971},{"$f":"ROUND(AE134*AD144/1000,2)","v":0},{"$f":"ROUND(AE144*(1-X138),2)","v":0},{"$f":"ROUND(AE144*X138,2)","v":0}]
["Riesgos políticos y sociales",5.0000000000000001E-3,null,null,{"$f":"ROUND(E134*D145/1000,2)","v":0},{"$f":"ROUND(E145*(1-B138),2)","v":0},{"$f":"ROUND(E145*B138,2)","v":0},null,null,null,null,null,null,null,null,null,null,null,null,null,null,null,"Riesgos políticos y sociales",5.0000000000000001E-3,{"$f":"+X145/(1-(#REF!+#REF!+#REF!+#REF!))","v":{"$error":"#REF!"}},5.0000000000000001E-3,{"$f":"+Z145/(1-(#REF!+#REF!+#REF!+#REF!))","v":{"$error":"#REF!"}},null,null,{"$f":"X145/(1-(X136+X137+X138+X139))","v":7.2909711383991101E-3},{"$f":"ROUND(AE134*AD145/1000,2)","v":0},{"$f":"ROUND(AE145*(1-X138),2)","v":0},{"$f":"ROUND(AE145*X138,2)","v":0}]
["Asistencias",6.2500200000000006E-2,null,null,{"$f":"E148*B147","v":0},{"$f":"F148*B147","v":0},{"$f":"G148*B147","v":0},null,null,null,null,null,null,null,null,null,null,null,null,null,null,null,"Asistencias",6.2500200000000006E-2,{"$f":"+X146/(1-(#REF!+#REF!+#REF!+#REF!))","v":{"$error":"#REF!"}},0.33678010000000003,{"$f":"+Z146/(1-(#REF!+#REF!+#REF!+#REF!))","v":{"$error":"#REF!"}},null,null,null,{"$f":"AE148*X147","v":0},{"$f":"AF148*X147","v":0},{"$f":"AG148*X147","v":0}]
["Cantidad de asistencias",6,null,null,null,null,null,null,null,null,null,null,null,null,null,null,null,null,null,null,null,null,"Cantidad de asistencias",6,6,6,6]
["Tasa por asistencia",{"$f":"B146/B147","v":1.0416700000000001E-2},null,null,{"$f":"ROUND(E134*D148/1000,2)","v":0},{"$f":"ROUND(E148*(1-B138),2)","v":0},{"$f":"ROUND(E148*B138,2)","v":0},null,null,null,null,null,null,null,null,null,null,null,null,null,null,null,"Tasa por asistencia",{"$f":"X146/X147","v":1.0416700000000001E-2},{"$f":"+ROUND(Y146/Y147,7)","v":{"$error":"#REF!"}},1.0416699999999999E-2,1.0416699999999999E-2,null,null,{"$f":"X148/(1-(X136+X137+X138+X139))","v":1.5189571811472404E-2},{"$f":"ROUND(AE134*AD148/1000,2)","v":0},{"$f":"ROUND(AE148*(1-X138),2)","v":0},{"$f":"ROUND(AE148*X138,2)","v":0}]
[]
[null,null,null,null,{"$f":"ROUND(E134*D150/1000,2)","v":0},{"$f":"ROUND(E150*(1-B138),2)","v":0},{"$f":"ROUND(E150*B138,2)","v":0},null,null,null,null,null,null,null,null,null,null,null,null,null,null,null,null,null,null,null,null,null,null,{"$f":"X141/(1-(X136+X137+X138+X139))","v":2.2000875791453143},{"$f":"ROUND(AE134*AD150/1000,2)","v":0},{"$f":"ROUND(AE150*(1-X138),2)","v":0},{"$f":"ROUND(AE150*X138,2)","v":0}]
[]
[]
[]
[]
[]
["Tipo de bien: Bienes con robo","Corredores",null,null,null,null,null,null,null,null,null,null,null,null,null,null,null,null,null,null,null,null,"Tipo de bien: Bienes con robo","Corredores","Corredores","NNDD","NNDD"]
["Gastos generales",0.15,null,null,null,null,null,null,null,null,null,null,null,null,null,null,null,null,null,null,null,null,"Gastos generales",0.15,0.15,0.15,0.15]
["Gastos de comercialización",0.05,null,null,null,null,null,null,null,null,null,null,null,null,null,null,null,null,null,null,null,null,"Gastos de comercialización",0.05,0.05,0.05,0.05]
["Comisión local",0.2,null,null,null,null,null,null,null,null,null,null,null,null,null,null,null,null,null,null,null,null,"Comisión local",0.2,0.2,0,0]
["Utilidad antes de Imp",9.4818600000000003E-2,null,null,null,null,null,null,null,null,null,null,null,null,null,null,null,null,null,null,null,null,"Utilidad antes de Imp",9.4818600000000003E-2,9.4818618872647503E-2,0.29477880000000001,0.29477881366445952]
["Tasa comercial %o",{"$f":"+B162/(1-(B157+B158+B159+B160))","v":4.9999008277026826},null,null,"Prima Neta","Prima","Comisión",null,null,null,null,null,null,null,null,null,null,null,null,null,null,null,"Tasa comercial %o",{"$f":"+X162/(1-(X157+X158+X159+X160))","v":4.9999008277026826},{"$f":"+SUM(Y163:Y166)","v":{"$error":"#REF!"}},{"$f":"+Z162/(1-(Z157+Z158+Z159+Z160))","v":4.9995069486395263},{"$f":"+SUM(AA163:AA166)","v":{"$error":"#REF!"}},null,null,"Tasa Comercial","Prima Neta","Prima","Comisión"]
["Tasa de Riesgo %o",{"$f":"+SUM(B163:B166)","v":2.5258569},null,null,null,null,null,null,null,null,null,null,null,null,null,null,null,null,null,null,null,null,"Tasa de Riesgo %o",{"$f":"+SUM(X163:X166)","v":2.5258569},null,{"$f":"+SUM(Z163:Z166)","v":2.5258569}]
["Robo y/o daños por intento de robo de bienes ",2.4425075000000001,null,null,{"$f":"ROUND(E134*D163/1000,2)","v":0},{"$f":"ROUND(E163*(1-B159),2)","v":0},{"$f":"ROUND(E163*B159,2)","v":0},null,null,null,null,null,null,null,null,null,null,null,null,null,null,null,"Robo y/o daños por intento de robo de bienes ",2.4425075000000001,{"$f":"+X163/(1-(#REF!+#REF!+#REF!+#REF!))","v":{"$error":"#REF!"}},2.4425075000000001,{"$f":"+Z163/(1-(#REF!+#REF!+#REF!+#REF!))","v":{"$error":"#REF!"}},null,null,{"$f":"X163/(1-(X157+X158+X159+X160))","v":4.8349117762451268},{"$f":"ROUND(AE134*AD163/1000,2)","v":0},{"$f":"ROUND(AE163*(1-X159),2)","v":0},{"$f":"ROUND(AE163*X159,2)","v":0}]
["Robo y/o daños por intento de robo de bienes especiales: joyas, platería, relojes, obras de arte, cámaras fotográficas o de video, laptops y bicicletas dentro de la vivienda o que estén siendo portados fuera de la vivienda",6.2311999999999999E-2,null,null,{"$f":"ROUND(E134*D164/1000,2)","v":0},{"$f":"ROUND(E164*(1-B159),2)","v":0},{"$f":"ROUND(E164*B159,2)","v":0},null,null,null,null,null,null,null,null,null,null,null,null,null,null,null,"Robo y/o daños por intento de robo de bienes especiales: joyas, platería, relojes, obras de arte, cámaras fotográficas o de video, laptops y bicicletas dentro de la vivienda o que estén siendo portados fuera de la vivienda",6.2311999999999999E-2,{"$f":"+X164/(1-(#REF!+#REF!+#REF!+#REF!))","v":{"$error":"#REF!"}},6.2311999999999999E-2,{"$f":"+Z164/(1-(#REF!+#REF!+#REF!+#REF!))","v":{"$error":"#REF!"}},null,null,{"$f":"X164/(1-(X157+X158+X159+X160))","v":0.12334579222433763},{"$f":"ROUND(AE134*AD164/1000,2)","v":0},{"$f":"ROUND(AE164*(1-X159),2)","v":0},{"$f":"ROUND(AE164*X159,2)","v":0}]
["Hurto",1.3968700000000001E-2,null,null,{"$f":"ROUND(E134*D165/1000,2)","v":0},{"$f":"ROUND(E165*(1-B159),2)","v":0},{"$f":"ROUND(E165*B159,2)","v":0},null,null,null,null,null,null,null,null,null,null,null,null,null,null,null,"Hurto",1.3968700000000001E-2,{"$f":"+X165/(1-(#REF!+#REF!+#REF!+#REF!))","v":{"$error":"#REF!"}},1.3968700000000001E-2,{"$f":"+Z165/(1-(#REF!+#REF!+#REF!+#REF!))","v":{"$error":"#REF!"}},null,null,{"$f":"X165/(1-(X157+X158+X159+X160))","v":2.7650859671397247E-2},{"$f":"ROUND(AE134*AD165/1000,2)","v":0},{"$f":"ROUND(AE165*(1-X159),2)","v":0},{"$f":"ROUND(AE165*X159,2)","v":0}]
["Deshonestidad de trabajadores del hogar",7.0686999999999998E-3,null,null,{"$f":"ROUND(E134*D166/1000,2)","v":0},{"$f":"ROUND(E166*(1-B159),2)","v":0},{"$f":"ROUND(E166*B159,2)","v":0},null,null,null,null,null,null,null,null,null,null,null,null,null,null,null,"Deshonestidad de trabajadores del hogar",7.0686999999999998E-3,{"$f":"+X166/(1-(#REF!+#REF!+#REF!+#REF!))","v":{"$error":"#REF!"}},7.0686999999999998E-3,{"$f":"+Z166/(1-(#REF!+#REF!+#REF!+#REF!))","v":{"$error":"#REF!"}},null,null,{"$f":"X166/(1-(X157+X158+X159+X160))","v":1.3992399561820763E-2},{"$f":"ROUND(AE134*AD166/1000,2)","v":0},{"$f":"ROUND(AE166*(1-X159),2)","v":0},{"$f":"ROUND(AE166*X159,2)","v":0}]
[]
[null,null,null,null,{"$f":"ROUND(E134*D168/1000,2)","v":0},{"$f":"ROUND(E168*(1-B159),2)","v":0},{"$f":"ROUND(E168*B159,2)","v":0},null,null,null,null,null,null,null,null,null,null,null,null,null,null,null,null,null,null,null,null,null,null,{"$f":"X162/(1-(X157+X158+X159+X160))","v":4.9999008277026826},{"$f":"ROUND(AE134*AD168/1000,2)","v":0},{"$f":"ROUND(AE168*(1-X159),2)","v":0},{"$f":"ROUND(AE168*X159,2)","v":0}]
[]
[null,null,null,null,{"$f":"E127+E150+E168","v":0},{"$f":"IF(F172<>F171,F171,F172)","v":{"$error":"#REF!"}},{"$f":"IF(G172<>G171,G171,G172)","v":{"$error":"#REF!"}},null,null,null,null,null,null,null,null,null,null,null,null,null,null,null,null,null,null,null,null,null,null,"TOTAL COMPLETA 3",{"$f":"AE127+AE150+AE168","v":0},{"$f":"IF(AF127+AF150+AF168<>AF175,AF175,AF168)","v":0},{"$f":"AG127+AG150+AG168","v":0}]
[null,null,null,null,"Suma Ajustada",{"$f":"#REF!+#REF!","v":{"$error":"#REF!"}},{"$f":"#REF!+#REF!","v":{"$error":"#REF!"}},null,null,null,null,null,null,null,null,null,null,null,null,null,null,null,null,null,null,null,null,null,null,null,"Suma de Cob",{"$f":"SUM(AF163:AF166)+SUM(AF142:AF146)+SUM(AF113:AF123)","v":0},{"$f":"SUM(AG163:AG166)+SUM(AG142:AG146)+SUM(AG113:AG123)","v":0}]
[null,null,null,null,"Suma Esperada",{"$f":"F127+F150+F168","v":0},{"$f":"E170*B159","v":0},null,null,null,null,null,null,null,null,null,null,null,null,null,null,null,null,null,null,null,null,null,null,null,"Esperado",{"$f":"AE170*(1-X159)","v":0},{"$f":"AE170*X159","v":0}]
[null,null,null,null,null,null,null,null,null,null,null,null,null,null,null,null,null,null,null,null,null,null,null,null,null,null,null,null,null,null,"Faltante",{"$f":"AF172-AF171","v":0},{"$f":"AG172-AG170","v":0}]
[null,null,null,null,null,null,null,null,null,null,null,null,null,null,null,null,null,null,null,null,null,null,null,null,null,null,null,null,null,null,null,{"$f":"AF113+AF173","v":0},{"$f":"AG113+AG173","v":0}]
[null,null,null,null,null,null,null,null,null,null,null,null,null,null,null,null,null,null,null,null,null,null,null,null,null,null,null,null,null,null,{"$f":"AF175+AG175","v":0},{"$f":"ROUND(AF171-AF113+AF174,2)","v":0},{"$f":"ROUND(AG170-AG113+AG174,2)","v":0}]
[]
[]
[]
[]
["Tipo de bien: Inmueble","tasa de riesgo",null,null,null,null,null,null,null,null,null,null,null,null,null,null,null,null,null,null,null,null,"Tipo de bien: Inmueble","tasa de riesgo","tasa comercial","tasa de riesgo","tasa comercial",null,null,"COMPLETA 4 - Inmueble"]
[null,"Corredores",null,null,null,null,null,null,null,null,null,null,null,null,null,null,null,null,null,null,null,null,null,"Corredores","Corredores","NNDD","NNDD"]
["Gastos generales",3.0672899999999999E-2,null,null,null,null,null,null,null,null,null,null,null,null,null,null,null,null,null,null,null,null,"Gastos generales",3.0672899999999999E-2,3.0672905132556546E-2,0.15,0.15]
["Gastos de comercialización",0,null,null,null,null,null,null,null,null,null,null,null,null,null,null,null,null,null,null,null,null,"Gastos de comercialización",0,0,0.05,0.05]
["Comisión local",0.2,null,null,null,null,null,null,null,null,null,null,null,null,null,null,null,null,null,null,null,null,"Comisión local",0.2,0.2,0,0]
["Utilidad antes de Imp",0,null,null,null,null,null,null,null,null,null,null,null,null,null,null,null,null,null,null,null,null,"Utilidad antes de Imp",0,0,3.0656800000000001E-2,3.0656799711687509E-2]
["Tasa comercial %o",{"$f":"+B187/(1-(B182+B183+B184+B185))","v":2.2000583366944961},null,null,"Prima Neta","Prima","Comisión",null,null,null,null,null,null,null,null,null,null,null,null,null,null,null,"Tasa comercial %o",{"$f":"+X187/(1-(X182+X183+X184+X185))","v":2.2000583366944961},{"$f":"+SUM(Y188:Y198)","v":{"$error":"#REF!"}},{"$f":"+Z187/(1-(Z182+Z183+Z184+Z185))","v":2.2000120362407829},{"$f":"+SUM(AA188:AA198)","v":{"$error":"#REF!"}},null,null,"Tasa Comercial","Prima Neta","Prima","Comisión"]
["Tasa de Riesgo %o",{"$f":"+SUM(B188:B198)","v":1.6925645},null,null,null,null,null,null,null,null,null,null,null,null,null,null,null,null,null,null,null,null,"Tasa de Riesgo %o",{"$f":"+SUM(X188:X198)","v":1.6925645},null,{"$f":"+SUM(Z188:Z198)","v":1.6925642999999999}]
["Incendio y/o rayo, explosión. Daños por agua, daños por humo, impacto de vehículos y/o aeronaves",0.56119669999999999,null,null,{"$f":"ROUND(E180*D188/1000,2)","v":0},{"$f":"ROUND(E188*(1-B184),2)","v":0},{"$f":"ROUND(E188*B184,2)","v":0},null,null,null,null,null,null,null,null,null,null,null,null,null,null,null,"Incendio y/o rayo, explosión. Daños por agua, daños por humo, impacto de vehículos y/o aeronaves",0.56119669999999999,{"$f":"+X188/(1-(#REF!+#REF!+#REF!+#REF!))","v":{"$error":"#REF!"}},0.56119669999999999,{"$f":"+Z188/(1-(#REF!+#REF!+#REF!+#REF!))","v":{"$error":"#REF!"}},null,null,{"$f":"X188/(1-(X182+X183+X184+X185))","v":0.7294643591783001},{"$f":"ROUND(AE180*AD188/1000,2)","v":0},{"$f":"ROUND(AE188*(1-X184),2)","v":0},{"$f":"ROUND(AE188*X184,2)","v":0}]
["Terremoto, temblor",0.92508789999999996,null,null,{"$f":"ROUND(E180*D189/1000,2)","v":0},{"$f":"ROUND(E189*(1-B184),2)","v":0},{"$f":"ROUND(E189*B184,2)","v":0},null,null,null,null,null,null,null,null,null,null,null,null,null,null,null,"Terremoto, temblor",0.92508789999999996,{"$f":"+X189/(1-(#REF!+#REF!+#REF!+#REF!))","v":{"$error":"#REF!"}},0.92508789999999996,{"$f":"+Z189/(1-(#REF!+#REF!+#REF!+#REF!))","v":{"$error":"#REF!"}},null,null,{"$f":"X189/(1-(X182+X183+X184+X185))","v":1.2024636854726682},{"$f":"ROUND(AE180*AD189/1000,2)","v":0},{"$f":"ROUND(AE189*(1-X184),2)","v":0},{"$f":"ROUND(AE189*X184,2)","v":0}]
["Riesgos de la naturaleza",0.1027875,null,null,{"$f":"ROUND(E180*D190/1000,2)","v":0},{"$f":"ROUND(E190*(1-B184),2)","v":0},{"$f":"ROUND(E190*B184,2)","v":0},null,null,null,null,null,null,null,null,null,null,null,null,null,null,null,"Riesgos de la naturaleza",0.1027875,{"$f":"+X190/(1-(#REF!+#REF!+#REF!+#REF!))","v":{"$error":"#REF!"}},0.1027875,{"$f":"+Z190/(1-(#REF!+#REF!+#REF!+#REF!))","v":{"$error":"#REF!"}},null,null,{"$f":"X190/(1-(X182+X183+X184+X185))","v":0.13360701839308664},{"$f":"ROUND(AE180*AD190/1000,2)","v":0},{"$f":"ROUND(AE190*(1-X184),2)","v":0},{"$f":"ROUND(AE190*X184,2)","v":0}]
["Riesgos políticos y sociales",5.0000000000000001E-3,null,null,{"$f":"ROUND(E180*D191/1000,2)","v":0},{"$f":"ROUND(E191*(1-B184),2)","v":0},{"$f":"ROUND(E191*B184,2)","v":0},null,null,null,null,null,null,null,null,null,null,null,null,null,null,null,"Riesgos políticos y sociales",5.0000000000000001E-3,{"$f":"+X191/(1-(#REF!+#REF!+#REF!+#REF!))","v":{"$error":"#REF!"}},5.0000000000000001E-3,{"$f":"+Z191/(1-(#REF!+#REF!+#REF!+#REF!))","v":{"$error":"#REF!"}},null,null,{"$f":"X191/(1-(X182+X183+X184+X185))","v":6.4991861069238306E-3},{"$f":"ROUND(AE180*AD191/1000,2)","v":0},{"$f":"ROUND(AE191*(1-X184),2)","v":0},{"$f":"ROUND(AE191*X184,2)","v":0}]
["Responsabilidad Civil frente a terceros",6.267E-3,null,null,{"$f":"ROUND(E180*D192/1000,2)","v":0},{"$f":"ROUND(E192*(1-B184),2)","v":0},{"$f":"ROUND(E192*B184,2)","v":0},null,null,null,null,null,null,null,null,null,null,null,null,null,null,null,"Responsabilidad Civil frente a terceros",6.267E-3,{"$f":"+X192/(1-(#REF!+#REF!+#REF!+#REF!))","v":{"$error":"#REF!"}},6.267E-3,{"$f":"+Z192/(1-(#REF!+#REF!+#REF!+#REF!))","v":{"$error":"#REF!"}},null,null,{"$f":"X192/(1-(X182+X183+X184+X185))","v":8.14607986641833E-3},{"$f":"ROUND(AE180*AD192/1000,2)","v":0},{"$f":"ROUND(AE192*(1-X184),2)","v":0},{"$f":"ROUND(AE192*X184,2)","v":0}]
["Rotura accidental de vidrio y/o cristales",1.7274100000000001E-2,null,null,{"$f":"ROUND(E180*D193/1000,2)","v":0},{"$f":"ROUND(E193*(1-B184),2)","v":0},{"$f":"ROUND(E193*B184,2)","v":0},null,null,null,null,null,null,null,null,null,null,null,null,null,null,null,"Rotura accidental de vidrio y/o cristales",1.7274100000000001E-2,{"$f":"+X193/(1-(#REF!+#REF!+#REF!+#REF!))","v":{"$error":"#REF!"}},1.7274100000000001E-2,{"$f":"+Z193/(1-(#REF!+#REF!+#REF!+#REF!))","v":{"$error":"#REF!"}},null,null,{"$f":"X193/(1-(X182+X183+X184+X185))","v":2.2453518145922589E-2},{"$f":"ROUND(AE180*AD193/1000,2)","v":0},{"$f":"ROUND(AE193*(1-X184),2)","v":0},{"$f":"ROUND(AE193*X184,2)","v":0}]
["Robo o intento de robo de instalaciones fijas",3.6160000000000001E-4,null,null,{"$f":"ROUND(E180*D194/1000,2)","v":0},{"$f":"ROUND(E194*(1-B184),2)","v":0},{"$f":"ROUND(E194*B184,2)","v":0},null,null,null,null,null,null,null,null,null,null,null,null,null,null,null,"Robo o intento de robo de instalaciones fijas",3.6160000000000001E-4,{"$f":"+X194/(1-(#REF!+#REF!+#REF!+#REF!))","v":{"$error":"#REF!"}},3.6160000000000001E-4,{"$f":"+Z194/(1-(#REF!+#REF!+#REF!+#REF!))","v":{"$error":"#REF!"}},null,null,{"$f":"X194/(1-(X182+X183+X184+X185))","v":4.7002113925273141E-4},{"$f":"ROUND(AE180*AD194/1000,2)","v":0},{"$f":"ROUND(AE194*(1-X184),2)","v":0},{"$f":"ROUND(AE194*X184,2)","v":0}]
["Reembolso de gastos médicos por accidentes de trabajadores del hogar",2.9409000000000002E-3,null,null,{"$f":"ROUND(E180*D195/1000,2)","v":0},{"$f":"ROUND(E195*(1-B184),2)","v":0},{"$f":"ROUND(E195*B184,2)","v":0},null,null,null,null,null,null,null,null,null,null,null,null,null,null,null,"Reembolso de gastos médicos por accidentes de trabajadores del hogar",2.9409000000000002E-3,{"$f":"+X195/(1-(#REF!+#REF!+#REF!+#REF!))","v":{"$error":"#REF!"}},2.9409000000000002E-3,{"$f":"+Z195/(1-(#REF!+#REF!+#REF!+#REF!))","v":{"$error":"#REF!"}},null,null,{"$f":"X195/(1-(X182+X183+X184+X185))","v":3.8226912843704591E-3},{"$f":"ROUND(AE180*AD195/1000,2)","v":0},{"$f":"ROUND(AE195*(1-X184),2)","v":0},{"$f":"ROUND(AE195*X184,2)","v":0}]
["Gasto de arrendamiento de vivienda temporal",4.5742999999999999E-3,null,null,{"$f":"ROUND(E180*D196/1000,2)","v":0},{"$f":"ROUND(E196*(1-B184),2)","v":0},{"$f":"ROUND(E196*B184,2)","v":0},null,null,null,null,null,null,null,null,null,null,null,null,null,null,null,"Gasto de arrendamiento de vivienda temporal",4.5742999999999999E-3,{"$f":"+X196/(1-(#REF!+#REF!+#REF!+#REF!))","v":{"$error":"#REF!"}},4.5742999999999999E-3,{"$f":"+Z196/(1-(#REF!+#REF!+#REF!+#REF!))","v":{"$error":"#REF!"}},null,null,{"$f":"X196/(1-(X182+X183+X184+X185))","v":5.9458454017803355E-3},{"$f":"ROUND(AE180*AD196/1000,2)","v":0},{"$f":"ROUND(AE196*(1-X184),2)","v":0},{"$f":"ROUND(AE196*X184,2)","v":0}]
["Alquiler no  percibido por inmueble inhabitable temporalmente",4.5742999999999999E-3,null,null,{"$f":"ROUND(E180*D197/1000,2)","v":0},{"$f":"ROUND(E197*(1-B184),2)","v":0},{"$f":"ROUND(E197*B184,2)","v":0},null,null,null,null,null,null,null,null,null,null,null,null,null,null,null,"Alquiler no  percibido por inmueble inhabitable temporalmente",4.5742999999999999E-3,{"$f":"+X197/(1-(#REF!+#REF!+#REF!+#REF!))","v":{"$error":"#REF!"}},4.5742999999999999E-3,{"$f":"+Z197/(1-(#REF!+#REF!+#REF!+#REF!))","v":{"$error":"#REF!"}},null,null,{"$f":"X197/(1-(X182+X183+X184+X185))","v":5.9458454017803355E-3},{"$f":"ROUND(AE180*AD197/1000,2)","v":0},{"$f":"ROUND(AE197*(1-X184),2)","v":0},{"$f":"ROUND(AE197*X184,2)","v":0}]
["Asistencias",6.2500200000000006E-2,null,null,{"$f":"E200*B199","v":0},{"$f":"F200*B199","v":0},{"$f":"G200*B199","v":0},null,null,null,null,null,null,null,null,null,null,null,null,null,null,null,"Asistencias",6.2500200000000006E-2,{"$f":"+X198/(1-(#REF!+#REF!+#REF!+#REF!))","v":{"$error":"#REF!"}},6.25E-2,{"$f":"+Z198/(1-(#REF!+#REF!+#REF!+#REF!))","v":{"$error":"#REF!"}},null,null,null,{"$f":"AE200*X199","v":0},{"$f":"AF200*X199","v":0},{"$f":"AG200*X199","v":0}]
["Cantidad de asistencias",6,null,null,null,null,null,null,null,null,null,null,null,null,null,null,null,null,null,null,null,null,"Cantidad de asistencias",6,6,6,6]
["Tasa por asistencia",{"$f":"B198/B199","v":1.0416700000000001E-2},null,null,{"$f":"ROUND(E180*D200/1000,2)","v":0},{"$f":"ROUND(E200*(1-B184),2)","v":0},{"$f":"ROUND(E200*B184,2)","v":0},null,null,null,null,null,null,null,null,null,null,null,null,null,null,null,"Tasa por asistencia",{"$f":"X198/X199","v":1.0416700000000001E-2},{"$f":"+ROUND(Y198/Y199,7)","v":{"$error":"#REF!"}},1.0416699999999999E-2,1.0416699999999999E-2,null,null,{"$f":"X200/(1-(X182+X183+X184+X185))","v":1.3540014383998693E-2},{"$f":"ROUND(AE180*AD200/1000,2)","v":0},{"$f":"ROUND(AE200*(1-X184),2)","v":0},{"$f":"ROUND(AE200*X184,2)","v":0}]
[]
[null,null,null,null,{"$f":"ROUND(E180*D202/1000,2)","v":0},{"$f":"ROUND(E202*(1-B184),2)","v":0},{"$f":"ROUND(E202*B184,2)","v":0},null,null,null,null,null,null,null,null,null,null,null,null,null,null,null,null,null,null,null,null,null,null,{"$f":"X187/(1-(X182+X183+X184+X185))","v":2.2000583366944961},{"$f":"ROUND(AE180*AD202/1000,2)","v":0},{"$f":"ROUND(AE202*(1-X184),2)","v":0},{"$f":"ROUND(AE202*X184,2)","v":0}]
[]
[]
[]
[]
[]
[]
["Tipo de bien: Bienes","tasa de riesgo",null,null,null,null,null,null,null,null,null,null,null,null,null,null,null,null,null,null,null,null,"Tipo de bien: Bienes","tasa de riesgo","tasa comercial","tasa de riesgo","tasa comercial",null,null,"COMPLETA 4 - Contenido"]
[null,"Corredores",null,null,null,null,null,null,null,null,null,null,null,null,null,null,null,null,null,null,null,null,null,"Corredores","Corredores","NNDD","NNDD"]
["Gastos generales",0.1142203,null,null,null,null,null,null,null,null,null,null,null,null,null,null,null,null,null,null,null,null,"Gastos generales",0.1142203,3.0672905132556546E-2,0.13963639999999999,0.15]
["Gastos de comercialización",0,null,null,null,null,null,null,null,null,null,null,null,null,null,null,null,null,null,null,null,null,"Gastos de comercialización",0,0,0.05,0.05]
["Comisión local",0.2,null,null,null,null,null,null,null,null,null,null,null,null,null,null,null,null,null,null,null,null,"Comisión local",0.2,0.2,0,0]
["Utilidad antes de Imp",0,null,null,null,null,null,null,null,null,null,null,null,null,null,null,null,null,null,null,null,null,"Utilidad antes de Imp",0,0,0,3.0656799711687509E-2]
["Tasa comercial %o",{"$f":"+B216/(1-(B211+B212+B213+B214))","v":2.2000875791453143},null,null,"Prima Neta","Prima","Comisión",null,null,null,null,null,null,null,null,null,null,null,null,null,null,null,"Tasa comercial %o",{"$f":"+X216/(1-(X211+X212+X213+X214))","v":2.2000875791453143},{"$f":"+SUM(Y217:Y221)","v":{"$error":"#REF!"}},{"$f":"+Z216/(1-(Z211+Z212+Z213+Z214))","v":2.2003151424866565},{"$f":"+SUM(AA217:AA221)","v":{"$error":"#REF!"}},null,null,"Tasa Comercial","Prima Neta","Prima","Comisión"]
["Tasa de Riesgo %o",{"$f":"+SUM(B217:B221)","v":1.5087753999999998},null,null,null,null,null,null,null,null,null,null,null,null,null,null,null,null,null,null,null,null,"Tasa de Riesgo %o",{"$f":"+SUM(X217:X221)","v":1.5087753999999998},null,{"$f":"+SUM(Z217:Z221)","v":1.7830553}]
["Incendio y/o rayo, explosión. Daños por agua, daños por humo, impacto de vehículos y/o aeronaves",0.41339979999999998,null,null,{"$f":"ROUND(E209*D217/1000, 2)","v":0},{"$f":"ROUND(E217*(1-B213),2)","v":0},{"$f":"ROUND(E217*B213,2)","v":0},null,null,null,null,null,null,null,null,null,null,null,null,null,null,null,"Incendio y/o rayo, explosión. Daños por agua, daños por humo, impacto de vehículos y/o aeronaves",0.41339979999999998,{"$f":"+X217/(1-(#REF!+#REF!+#REF!+#REF!))","v":{"$error":"#REF!"}},0.41339979999999998,{"$f":"+Z217/(1-(#REF!+#REF!+#REF!+#REF!))","v":{"$error":"#REF!"}},null,null,{"$f":"X217/(1-(X211+X212+X213+X214))","v":0.60281720208399281},{"$f":"ROUND(AE209*AD217/1000, 2)","v":0},{"$f":"ROUND(AE217*(1-X213),2)","v":0},{"$f":"ROUND(AE217*X213,2)","v":0}]
["Terremoto, temblor",0.92508789999999996,null,null,{"$f":"ROUND(E209*D218/1000,2)","v":0},{"$f":"ROUND(E218*(1-B213),2)","v":0},{"$f":"ROUND(E218*B213,2)","v":0},null,null,null,null,null,null,null,null,null,null,null,null,null,null,null,"Terremoto, temblor",0.92508789999999996,{"$f":"+X218/(1-(#REF!+#REF!+#REF!+#REF!))","v":{"$error":"#REF!"}},0.92508789999999996,{"$f":"+Z218/(1-(#REF!+#REF!+#REF!+#REF!))","v":{"$error":"#REF!"}},null,null,{"$f":"X218/(1-(X211+X212+X213+X214))","v":1.3489578358764482},{"$f":"ROUND(AE209*AD218/1000,2)","v":0},{"$f":"ROUND(AE218*(1-X213),2)","v":0},{"$f":"ROUND(AE218*X213,2)","v":0}]
["Riesgos de la naturaleza",0.1027875,null,null,{"$f":"ROUND(E209*D219/1000,2)","v":0},{"$f":"ROUND(E219*(1-B213),2)","v":0},{"$f":"ROUND(E219*B213,2)","v":0},null,null,null,null,null,null,null,null,null,null,null,null,null,null,null,"Riesgos de la naturaleza",0.1027875,{"$f":"+X219/(1-(#REF!+#REF!+#REF!+#REF!))","v":{"$error":"#REF!"}},0.1027875,{"$f":"+Z219/(1-(#REF!+#REF!+#REF!+#REF!))","v":{"$error":"#REF!"}},null,null,{"$f":"X219/(1-(X211+X212+X213+X214))","v":0.14988413917763971},{"$f":"ROUND(AE209*AD219/1000,2)","v":0},{"$f":"ROUND(AE219*(1-X213),2)","v":0},{"$f":"ROUND(AE219*X213,2)","v":0}]
["Riesgos políticos y sociales",5.0000000000000001E-3,null,null,{"$f":"ROUND(E209*D220/1000,2)","v":0},{"$f":"ROUND(E220*(1-B213),2)","v":0},{"$f":"ROUND(E220*B213,2)","v":0},null,null,null,null,null,null,null,null,null,null,null,null,null,null,null,"Riesgos políticos y sociales",5.0000000000000001E-3,{"$f":"+X220/(1-(#REF!+#REF!+#REF!+#REF!))","v":{"$error":"#REF!"}},5.0000000000000001E-3,{"$f":"+Z220/(1-(#REF!+#REF!+#REF!+#REF!))","v":{"$error":"#REF!"}},null,null,{"$f":"X220/(1-(X211+X212+X213+X214))","v":7.2909711383991101E-3},{"$f":"ROUND(AE209*AD220/1000,2)","v":0},{"$f":"ROUND(AE220*(1-X213),2)","v":0},{"$f":"ROUND(AE220*X213,2)","v":0}]
["Asistencias",6.2500200000000006E-2,null,null,{"$f":"E223*B222","v":0},{"$f":"F223*B222","v":0},{"$f":"G223*B222","v":0},null,null,null,null,null,null,null,null,null,null,null,null,null,null,null,"Asistencias",6.2500200000000006E-2,{"$f":"+X221/(1-(#REF!+#REF!+#REF!+#REF!))","v":{"$error":"#REF!"}},0.33678010000000003,{"$f":"+Z221/(1-(#REF!+#REF!+#REF!+#REF!))","v":{"$error":"#REF!"}},null,null,null,{"$f":"AE223*X222","v":0},{"$f":"AF223*X222","v":0},{"$f":"AG223*X222","v":0}]
["Cantidad de asistencias",6,null,null,null,null,null,null,null,null,null,null,null,null,null,null,null,null,null,null,null,null,"Cantidad de asistencias",6,6,6,6]
["Tasa por asistencia",{"$f":"B221/B222","v":1.0416700000000001E-2},null,null,{"$f":"ROUND(E209*D223/1000,2)","v":0},{"$f":"ROUND(E223*(1-B213),2)","v":0},{"$f":"ROUND(E223*B213,2)","v":0},null,null,null,null,null,null,null,null,null,null,null,null,null,null,null,"Tasa por asistencia",{"$f":"X221/X222","v":1.0416700000000001E-2},{"$f":"+ROUND(Y221/Y222,7)","v":{"$error":"#REF!"}},1.0416699999999999E-2,1.0416699999999999E-2,null,null,{"$f":"X223/(1-(X211+X212+X213+X214))","v":1.5189571811472404E-2},{"$f":"ROUND(AE209*AD223/1000,2)","v":0},{"$f":"ROUND(AE223*(1-X213),2)","v":0},{"$f":"ROUND(AE223*X213,2)","v":0}]
[]
[null,null,null,null,{"$f":"ROUND(E209*D225/1000,2)","v":0},{"$f":"ROUND(E225*(1-B213),2)","v":0},{"$f":"ROUND(E225*B213,2)","v":0},null,null,null,null,null,null,null,null,null,null,null,null,null,null,null,null,null,null,null,null,null,null,{"$f":"X216/(1-(X211+X212+X213+X214))","v":2.2000875791453143},{"$f":"ROUND(AE209*AD225/1000,2)","v":0},{"$f":"ROUND(AE225*(1-X213),2)","v":0},{"$f":"ROUND(AE225*X213,2)","v":0}]
[]
[]
[]
[]
[]
["Tipo de bien: Bienes con robo","Corredores",null,null,null,null,null,null,null,null,null,null,null,null,null,null,null,null,null,null,null,null,"Tipo de bien: Bienes con robo","Corredores","Corredores","NNDD","NNDD"]
["Gastos generales",0.15,null,null,null,null,null,null,null,null,null,null,null,null,null,null,null,null,null,null,null,null,"Gastos generales",0.15,0.15,0.15,0.15]
["Gastos de comercialización",0.05,null,null,null,null,null,null,null,null,null,null,null,null,null,null,null,null,null,null,null,null,"Gastos de comercialización",0.05,0.05,0.05,0.05]
["Comisión local",0.2,null,null,null,null,null,null,null,null,null,null,null,null,null,null,null,null,null,null,null,null,"Comisión local",0.2,0.2,0,0]
["Utilidad antes de Imp",9.4818600000000003E-2,null,null,null,null,null,null,null,null,null,null,null,null,null,null,null,null,null,null,null,null,"Utilidad antes de Imp",9.4818600000000003E-2,9.4818618872647503E-2,0.29477880000000001,0.29477881366445952]
["Tasa comercial %o",{"$f":"+B237/(1-(B232+B233+B234+B235))","v":4.9999008277026826},null,null,"Prima Neta","Prima","Comisión",null,null,null,null,null,null,null,null,null,null,null,null,null,null,null,"Tasa comercial %o",{"$f":"+X237/(1-(X232+X233+X234+X235))","v":4.9999008277026826},{"$f":"+SUM(Y238:Y241)","v":{"$error":"#REF!"}},{"$f":"+Z237/(1-(Z232+Z233+Z234+Z235))","v":4.9995069486395263},{"$f":"+SUM(AA238:AA241)","v":{"$error":"#REF!"}},null,null,"Tasa Comercial","Prima Neta","Prima","Comisión"]
["Tasa de Riesgo %o",{"$f":"+SUM(B238:B241)","v":2.5258569},null,null,null,null,null,null,null,null,null,null,null,null,null,null,null,null,null,null,null,null,"Tasa de Riesgo %o",{"$f":"+SUM(X238:X241)","v":2.5258569},null,{"$f":"+SUM(Z238:Z241)","v":2.5258569}]
["Robo y/o daños por intento de robo de bienes ",2.4425075000000001,null,null,{"$f":"ROUND(E209*D238/1000,2)","v":0},{"$f":"ROUND(E238*(1-B234),2)","v":0},{"$f":"ROUND(E238*B234,2)","v":0},null,null,null,null,null,null,null,null,null,null,null,null,null,null,null,"Robo y/o daños por intento de robo de bienes ",2.4425075000000001,{"$f":"+X238/(1-(#REF!+#REF!+#REF!+#REF!))","v":{"$error":"#REF!"}},2.4425075000000001,{"$f":"+Z238/(1-(#REF!+#REF!+#REF!+#REF!))","v":{"$error":"#REF!"}},null,null,{"$f":"X238/(1-(X232+X233+X234+X235))","v":4.8349117762451268},{"$f":"ROUND(AE209*AD238/1000,2)","v":0},{"$f":"ROUND(AE238*(1-X234),2)","v":0},{"$f":"ROUND(AE238*X234,2)","v":0}]
["Robo y/o daños por intento de robo de bienes especiales: joyas, platería, relojes, obras de arte, cámaras fotográficas o de video, laptops y bicicletas dentro de la vivienda o que estén siendo portados fuera de la vivienda",6.2311999999999999E-2,null,null,{"$f":"ROUND(E209*D239/1000,2)","v":0},{"$f":"ROUND(E239*(1-B234),2)","v":0},{"$f":"ROUND(E239*B234,2)","v":0},null,null,null,null,null,null,null,null,null,null,null,null,null,null,null,"Robo y/o daños por intento de robo de bienes especiales: joyas, platería, relojes, obras de arte, cámaras fotográficas o de video, laptops y bicicletas dentro de la vivienda o que estén siendo portados fuera de la vivienda",6.2311999999999999E-2,{"$f":"+X239/(1-(#REF!+#REF!+#REF!+#REF!))","v":{"$error":"#REF!"}},6.2311999999999999E-2,{"$f":"+Z239/(1-(#REF!+#REF!+#REF!+#REF!))","v":{"$error":"#REF!"}},null,null,{"$f":"X239/(1-(X232+X233+X234+X235))","v":0.12334579222433763},{"$f":"ROUND(AE209*AD239/1000,2)","v":0},{"$f":"ROUND(AE239*(1-X234),2)","v":0},{"$f":"ROUND(AE239*X234,2)","v":0}]
["Hurto",1.3968700000000001E-2,null,null,{"$f":"ROUND(E209*D240/1000,2)","v":0},{"$f":"ROUND(E240*(1-B234),2)","v":0},{"$f":"ROUND(E240*B234,2)","v":0},null,null,null,null,null,null,null,null,null,null,null,null,null,null,null,"Hurto",1.3968700000000001E-2,{"$f":"+X240/(1-(#REF!+#REF!+#REF!+#REF!))","v":{"$error":"#REF!"}},1.3968700000000001E-2,{"$f":"+Z240/(1-(#REF!+#REF!+#REF!+#REF!))","v":{"$error":"#REF!"}},null,null,{"$f":"X240/(1-(X232+X233+X234+X235))","v":2.7650859671397247E-2},{"$f":"ROUND(AE209*AD240/1000,2)","v":0},{"$f":"ROUND(AE240*(1-X234),2)","v":0},{"$f":"ROUND(AE240*X234,2)","v":0}]
["Deshonestidad de trabajadores del hogar",7.0686999999999998E-3,null,null,{"$f":"ROUND(E209*D241/1000,2)","v":0},{"$f":"ROUND(E241*(1-B234),2)","v":0},{"$f":"ROUND(E241*B234,2)","v":0},null,null,null,null,null,null,null,null,null,null,null,null,null,null,null,"Deshonestidad de trabajadores del hogar",7.0686999999999998E-3,{"$f":"+X241/(1-(#REF!+#REF!+#REF!+#REF!))","v":{"$error":"#REF!"}},7.0686999999999998E-3,{"$f":"+Z241/(1-(#REF!+#REF!+#REF!+#REF!))","v":{"$error":"#REF!"}},null,null,{"$f":"X241/(1-(X232+X233+X234+X235))","v":1.3992399561820763E-2},{"$f":"ROUND(AE209*AD241/1000,2)","v":0},{"$f":"ROUND(AE241*(1-X234),2)","v":0},{"$f":"ROUND(AE241*X234,2)","v":0}]
[]
[null,null,null,null,{"$f":"ROUND(E209*D243/1000,2)","v":0},{"$f":"ROUND(E243*(1-B234),2)","v":0},{"$f":"ROUND(E243*B234,2)","v":0},null,null,null,null,null,null,null,null,null,null,null,null,null,null,null,null,null,null,null,null,null,null,{"$f":"X237/(1-(X232+X233+X234+X235))","v":4.9999008277026826},{"$f":"ROUND(AE209*AD243/1000,2)","v":0},{"$f":"ROUND(AE243*(1-X234),2)","v":0},{"$f":"ROUND(AE243*X234,2)","v":0}]
[]
[null,null,null,null,{"$f":"E202+E225+E243","v":0},{"$f":"IF(F247<>F246,F246,F247)","v":{"$error":"#REF!"}},{"$f":"IF(G247<>G246,G246,G247)","v":{"$error":"#REF!"}},null,null,null,null,null,null,null,null,null,null,null,null,null,null,null,null,null,null,null,null,null,null,"TOTAL COMPLETA 4",{"$f":"AE202+AE225+AE243","v":0},{"$f":"IF(AF202+AF225+AF243<>AF250,AF250,AF243)","v":0},{"$f":"AG202+AG225+AG243","v":0}]
[null,null,null,null,"Suma Ajustada",{"$f":"#REF!+#REF!","v":{"$error":"#REF!"}},{"$f":"#REF!+#REF!","v":{"$error":"#REF!"}},null,null,null,null,null,null,null,null,null,null,null,null,null,null,null,null,null,null,null,null,null,null,null,"Suma de Cob",{"$f":"SUM(AF238:AF241)+SUM(AF217:AF221)+SUM(AF188:AF198)","v":0},{"$f":"SUM(AG238:AG241)+SUM(AG217:AG221)+SUM(AG188:AG198)","v":0}]
[null,null,null,null,"Suma Esperada",{"$f":"F202+F225+F243","v":0},{"$f":"E245*B234","v":0},null,null,null,null,null,null,null,null,null,null,null,null,null,null,null,null,null,null,null,null,null,null,null,"Esperado",{"$f":"AE245*(1-X234)","v":0},{"$f":"AE245*X234","v":0}]
[null,null,null,null,null,null,null,null,null,null,null,null,null,null,null,null,null,null,null,null,null,null,null,null,null,null,null,null,null,null,"Faltante",{"$f":"AF247-AF246","v":0},{"$f":"AG247-AG245","v":0}]
[null,null,null,null,null,null,null,null,null,null,null,null,null,null,null,null,null,null,null,null,null,null,null,null,null,null,null,null,null,null,null,{"$f":"AF188+AF248","v":0},{"$f":"AG188+AG248","v":0}]
[null,null,null,null,null,null,null,null,null,null,null,null,null,null,null,null,null,null,null,null,null,null,null,null,null,null,null,null,null,null,{"$f":"AF250+AG250","v":0},{"$f":"ROUND(AF246-AF188+AF249,2)","v":0},{"$f":"ROUND(AG245-AG188+AG249,2)","v":0}]
[null,null,null,null,"Prima comercial mínima dólares",51.5,null,null,null,{"$f":"+F251-J24","v":44.36}]
[null,null,null,null,"Prima comercial mínima soles",154.5,null,null,null,{"$f":"+F252-J24","v":147.36000000000001}]

{"sheet":"BIENES","index":26,"n_rows":270,"n_cols":33,"rows_kept":270,"cut":false,"hidden":true,"merged":[[3,13,3,16],[10,10,10,11],[29,10,29,11]]}
[null,null,null,null,"Ir a Panel"]
[]
[null,null,null,"Suma asegurada Bienes",8000]
[]
["Tipo de bien: Bienes","tasa de riesgo",null,null,null,null,null,null,null,null,null,null,null,null,"PRIMA NETA",{"$f":"+P7/1.03","v":50},null,null,null,null,null,null,"Tipo de bien: Bienes","tasa de riesgo","tasa comercial","tasa de riesgo","tasa comercial",null,null,"COMPLETA 1 - Contenido"]
[null,"Corredores",null,null,null,null,null,null,null,null,null,null,null,null,null,null,null,null,null,null,null,null,null,"Corredores","Corredores","NNDD","NNDD"]
["Gastos generales",{"$f":"tasas!$I$6","v":0},null,null,null,null,null,null,null,null,null,null,null,null,"Prima Comercial",{"$f":"+IF(Cotizador!H37=\"X\",(BIENES!L20+BIENES!L38),(BIENES!K20+BIENES!K38))","v":51.5},null,null,null,null,null,null,"Gastos generales",0.1142203,3.0672905132556546E-2,0.13963639999999999,0.15]
["Gastos de comercialización",{"$f":"tasas!$I$7","v":0.05},null,null,null,null,null,null,null,null,null,null,null,null,"IGV",{"$f":"+P7*0.18","v":9.27},null,null,null,null,null,null,"Gastos de comercialización",0,0,0.05,0.05]
["Comisión local",{"$f":"tasas!$I$8","v":0.17499999999999999},null,null,null,null,null,null,null,null,null,null,null,null,"Prima Total",{"$f":"+P7+P8","v":60.769999999999996},null,null,null,null,null,null,"Comisión local",0.2,0.2,0,0]
["Utilidad antes de Imp",{"$f":"tasas!$I$9","v":0},null,null,null,null,null,null,null,null,null,null,null,null,"Comisión Total",{"$f":"+ROUND(P5*0.2,2)","v":10},null,null,null,null,null,null,"Utilidad antes de Imp",0,0,0,3.0656799711687509E-2]
["Tasa comercial %o",{"$f":"+B12/(1-(B7+B8+B9+B10))","v":3.7935780735369091},null,"Tasa Comercial","Prima Neta","Prima","Comisión",null,"Operativas","Prima comercial con ajuste","Prima comercial con ajuste de prima mínima",null,null,null,null,null,null,null,null,null,null,null,"Tasa comercial %o",{"$f":"+X12/(1-(X7+X8+X9+X10))","v":2.0429124688292757},{"$f":"+SUM(Y13:Y15)","v":{"$error":"#REF!"}},{"$f":"+Z12/(1-(Z7+Z8+Z9+Z10))","v":2.0673038621181896},{"$f":"+SUM(AA13:AA15)","v":{"$error":"#REF!"}},null,null,"Tasa Comercial","Prima Neta","Prima","Comisión"]
["Tasa de Riesgo %o",{"$f":"+SUM(B13:B15)","v":2.9400230069911046},null,null,null,null,{"$f":"+IF(Cotizador!$H$37=\"X\",BIENES!L13,BIENES!K13)","v":51.5},null,null,null,"Dólares","Soles",null,null,null,null,null,null,null,null,null,null,"Tasa de Riesgo %o",{"$f":"+SUM(X13:X15)","v":1.4009879000000001},null,{"$f":"+SUM(Z13:Z15)","v":1.6752677999999999}]
["Incendio y/o rayo, explosión. Daños por agua, daños por humo, impacto de vehículos y/o aeronaves",{"$f":"tasas!$I$12","v":1.5137841154840102},null,{"$f":"B13/(1-(B7+B8+B9+B10))","v":1.9532698264309807},{"$f":"ROUND(E3*D13/1000, 2)","v":15.63},{"$f":"ROUND(E13*(1-B9),2)","v":12.89},{"$f":"ROUND(E13*B9,2)","v":2.74},null,{"$f":"+ROUND(E13*1.03,2)","v":16.100000000000001},{"$f":"+IF(0<=F22>=0,F22+I13,0)","v":16.12},{"$f":"+IF(J20<F24,(J24+J13),J13)","v":51.5},{"$f":"+IF(J20<F25,(J25+J13),J13)","v":154.5},null,null,null,null,null,null,null,null,null,null,"Incendio y/o rayo, explosión. Daños por agua, daños por humo, impacto de vehículos y/o aeronaves",0.41339979999999998,{"$f":"+X13/(1-(#REF!+#REF!+#REF!+#REF!))","v":{"$error":"#REF!"}},0.41339979999999998,{"$f":"+Z13/(1-(#REF!+#REF!+#REF!+#REF!))","v":{"$error":"#REF!"}},null,null,{"$f":"X13/(1-(X7+X8+X9+X10))","v":0.60281720208399281},{"$f":"ROUND(AE5*AD13/1000, 2)","v":0},{"$f":"ROUND(AE13*(1-X9),2)","v":0},{"$f":"ROUND(AE13*X9,2)","v":0}]
["Terremoto, temblor, maremoto, Inundaciones y riesgos de la naturaleza",{"$f":"tasas!$I$13","v":1.3260000000000001},null,{"$f":"B14/(1-(B7+B8+B9+B10))","v":1.7109677419354838},{"$f":"ROUND(E3*D14/1000,2)","v":13.69},{"$f":"ROUND(E14*(1-B9),2)","v":11.29},{"$f":"ROUND(E14*B9,2)","v":2.4},null,0,{"$f":"+I14","v":0},0,{"$f":"+J14","v":0},null,null,null,null,null,null,null,null,null,null,"Terremoto, temblor",0.92508789999999996,{"$f":"+X14/(1-(#REF!+#REF!+#REF!+#REF!))","v":{"$error":"#REF!"}},0.92508789999999996,{"$f":"+Z14/(1-(#REF!+#REF!+#REF!+#REF!))","v":{"$error":"#REF!"}},null,null,{"$f":"X14/(1-(X7+X8+X9+X10))","v":1.3489578358764482},{"$f":"ROUND(AE5*AD14/1000,2)","v":0},{"$f":"ROUND(AE14*(1-X9),2)","v":0},{"$f":"ROUND(AE14*X9,2)","v":0}]
["Asistencias",{"$f":"tasas!$I$14","v":0.1002388915070945},null,null,{"$f":"E17*B16","v":1.02},{"$f":"F17*B16","v":0.84000000000000008},{"$f":"G17*B16","v":0.18},null,0,0,0,{"$f":"+J15","v":0},null,null,null,null,null,null,null,null,null,null,"Asistencias",6.2500200000000006E-2,{"$f":"+X15/(1-(#REF!+#REF!+#REF!+#REF!))","v":{"$error":"#REF!"}},0.33678010000000003,{"$f":"+Z15/(1-(#REF!+#REF!+#REF!+#REF!))","v":{"$error":"#REF!"}},null,null,null,{"$f":"AE17*X16","v":0},{"$f":"AF17*X16","v":0},{"$f":"AG17*X16","v":0}]
["Cantidad de asistencias",{"$f":"tasas!$I$15","v":6},null,null,null,null,null,null,null,null,null,null,null,null,null,null,null,null,null,null,null,null,"Cantidad de asistencias",6,6,6,6]
["Tasa por asistencia",{"$f":"B15/B16","v":1.6706481917849084E-2},null,{"$f":"B17/(1-(B7+B8+B9+B10))","v":2.1556750861740751E-2},{"$f":"ROUND(E3*D17/1000,2)","v":0.17},{"$f":"ROUND(E17*(1-B9),2)","v":0.14000000000000001},{"$f":"ROUND(E17*B9,2)","v":0.03},null,null,null,null,null,null,null,null,null,null,null,null,null,null,null,"Tasa por asistencia",{"$f":"X15/X16","v":1.0416700000000001E-2},{"$f":"+ROUND(Y15/Y16,7)","v":{"$error":"#REF!"}},1.0416699999999999E-2,1.0416699999999999E-2,null,null,{"$f":"X17/(1-(X7+X8+X9+X10))","v":1.5189571811472404E-2},{"$f":"ROUND(AE5*AD17/1000,2)","v":0},{"$f":"ROUND(AE17*(1-X9),2)","v":0},{"$f":"ROUND(AE17*X9,2)","v":0}]
[]
[null,null,null,{"$f":"B12/(1-(B7+B8+B9+B10))","v":3.7935780735369091},{"$f":"ROUND(E3*D19/1000,2)","v":30.35},{"$f":"ROUND(E19*(1-B9),2)","v":25.04},{"$f":"ROUND(E19*B9,2)","v":5.31},null,null,null,null,null,null,null,null,null,null,null,null,null,null,null,null,null,null,null,null,null,null,{"$f":"X12/(1-(X7+X8+X9+X10))","v":2.0429124688292757},{"$f":"ROUND(AE5*AD19/1000,2)","v":0},{"$f":"ROUND(AE19*(1-X9),2)","v":0},{"$f":"ROUND(AE19*X9,2)","v":0}]
[null,null,null,null,"Suma de Cob",{"$f":"SUM(F13:F15)","v":25.02},{"$f":"SUM(G13:G15)","v":5.32},null,{"$f":"SUM(I13:I15)","v":16.100000000000001},{"$f":"SUM(J13:J15)","v":16.12},{"$f":"SUM(K13:K15)","v":51.5},154.5,null,null,null,null,null,null,null,null,null,null,null,null,null,null,null,null,null,null,"Suma de Cob",{"$f":"SUM(AF13:AF15)","v":0},{"$f":"SUM(AG13:AG15)","v":0}]
[null,null,null,null,"Esperado",{"$f":"E19*(1-B9)","v":25.03875},{"$f":"E19*B9","v":5.3112500000000002},null,null,null,null,null,null,null,null,null,null,null,null,null,null,null,null,null,null,null,null,null,null,null,"Esperado",{"$f":"AE19*(1-X9)","v":0},{"$f":"AE19*X9","v":0}]
[null,null,null,null,"Faltante",{"$f":"ROUND(F21-F20,2)","v":0.02},{"$f":"G21-G20","v":-8.7500000000000355E-3},null,null,null,null,null,null,null,null,null,null,null,null,null,null,null,null,null,null,null,null,null,null,null,"Faltante",{"$f":"AF21-AF20","v":0},{"$f":"AG21-AG20","v":0}]
[]
[null,null,null,null,"Prima comercial mínima dólares",51.5,null,null,null,{"$f":"+F24-J20","v":35.379999999999995}]
["Tipo de bien: Bienes con robo","Corredores",null,null,"Prima comercial mínima soles",154.5,null,null,null,{"$f":"+F25-J20","v":138.38},null,null,null,null,null,null,null,null,null,null,null,null,"Tipo de bien: Bienes con robo","Corredores","Corredores","NNDD","NNDD"]
["Gastos generales",{"$f":"tasas!$I$25","v":0.15},null,null,null,null,null,null,null,null,null,null,null,null,null,null,null,null,null,null,null,null,"Gastos generales",0.15,0.15,0.15,0.15]
["Gastos de comercialización",{"$f":"tasas!$I$26","v":0.05},null,null,null,null,null,null,null,null,null,null,null,null,null,null,null,null,null,null,null,null,"Gastos de comercialización",0.05,0.05,0.05,0.05]
["Comisión local",{"$f":"tasas!$I$27","v":0.17499999999999999},null,null,null,null,null,null,null,null,null,null,null,null,null,null,null,null,null,null,null,null,"Comisión local",0.2,0.2,0,0]
["Utilidad antes de Imp",{"$f":"tasas!$I$28","v":0.1},null,null,null,null,null,null,null,null,null,null,null,null,null,null,null,null,null,null,null,null,"Utilidad antes de Imp",9.4818600000000003E-2,9.4818618872647503E-2,0.29477880000000001,0.29477881366445952]
["Tasa comercial %o",{"$f":"+B31/(1-(B26+B27+B28+B29))","v":5.3121527114371379},null,"Tasa Comercial","Prima Neta","Prima","Comisión",null,"Operativas","Prima comercial con ajuste","Prima comercial con ajuste de prima mínima",null,null,null,null,null,null,null,null,null,null,null,"Tasa comercial %o",{"$f":"+X31/(1-(X26+X27+X28+X29))","v":4.9999008277026826},{"$f":"+SUM(Y32:Y35)","v":{"$error":"#REF!"}},{"$f":"+Z31/(1-(Z26+Z27+Z28+Z29))","v":4.9995069486395263},{"$f":"+SUM(AA32:AA35)","v":{"$error":"#REF!"}},null,null,"Tasa Comercial","Prima Neta","Prima","Comisión"]
["Tasa de Riesgo %o",{"$f":"+SUM(B32:B35)","v":2.7888801735044977},null,null,null,null,null,null,null,null,"Dólares","Soles",null,null,null,null,null,null,null,null,null,null,"Tasa de Riesgo %o",{"$f":"+SUM(X32:X35)","v":2.5258569},null,{"$f":"+SUM(Z32:Z35)","v":2.5258569}]
["Robo y/o daños por intento de robo de bienes ",{"$f":"tasas!$I$31","v":2.3064046957840652},null,{"$f":"B32/(1-(B26+B27+B28+B29))","v":4.393151801493457},{"$f":"ROUND(E3*D32/1000,2)","v":35.15},{"$f":"ROUND(E32*(1-B28),2)","v":29},{"$f":"ROUND(E32*B28,2)","v":6.15},null,0,{"$f":"+IF(0<=F40>=0,F40+I32,0)","v":2.4999999999977263E-3},{"$f":"IF(I32=0,0,IF(J38<F269,(J269+J32),J32))","v":0},{"$f":"IF(I32=0,0,IF(J38<F270,(J270+J32),K32))","v":0},null,null,null,null,null,null,null,null,null,null,"Robo y/o daños por intento de robo de bienes ",2.4425075000000001,{"$f":"+X32/(1-(#REF!+#REF!+#REF!+#REF!))","v":{"$error":"#REF!"}},2.4425075000000001,{"$f":"+Z32/(1-(#REF!+#REF!+#REF!+#REF!))","v":{"$error":"#REF!"}},null,null,{"$f":"X32/(1-(X26+X27+X28+X29))","v":4.8349117762451268},{"$f":"ROUND(AE5*AD32/1000,2)","v":0},{"$f":"ROUND(AE32*(1-X28),2)","v":0},{"$f":"ROUND(AE32*X28,2)","v":0}]
["Robo y/o daños por intento de robo de joyas, platería, relojes, obras de arte, cámaras fotográficas o de video, laptops y bicicletas dentro de la vivienda o que estén siendo portados fuera de la vivienda",{"$f":"tasas!$I$32","v":0.22247402852806913},null,{"$f":"B33/(1-(B26+B27+B28+B29))","v":0.42376005433917929},{"$f":"ROUND(E3*D33/1000,2)","v":3.39},{"$f":"ROUND(E33*(1-B28),2)","v":2.8},{"$f":"ROUND(E33*B28,2)","v":0.59},null,0,{"$f":"+I33","v":0},{"$f":"+J33","v":0},{"$f":"+J33","v":0},null,null,null,null,null,null,null,null,null,null,"Robo y/o daños por intento de robo de bienes especiales: joyas, platería, relojes, obras de arte, cámaras fotográficas o de video, laptops y bicicletas dentro de la vivienda o que estén siendo portados fuera de la vivienda",6.2311999999999999E-2,{"$f":"+X33/(1-(#REF!+#REF!+#REF!+#REF!))","v":{"$error":"#REF!"}},6.2311999999999999E-2,{"$f":"+Z33/(1-(#REF!+#REF!+#REF!+#REF!))","v":{"$error":"#REF!"}},null,null,{"$f":"X33/(1-(X26+X27+X28+X29))","v":0.12334579222433763},{"$f":"ROUND(AE5*AD33/1000,2)","v":0},{"$f":"ROUND(AE33*(1-X28),2)","v":0},{"$f":"ROUND(AE33*X28,2)","v":0}]
["Hurto",{"$f":"tasas!$I$33","v":0.25330726214356974},null,{"$f":"B34/(1-(B26+B27+B28+B29))","v":0.48249002313060901},{"$f":"ROUND(E3*D34/1000,2)","v":3.86},{"$f":"ROUND(E34*(1-B28),2)","v":3.18},{"$f":"ROUND(E34*B28,2)","v":0.68},null,0,{"$f":"+I34","v":0},0,{"$f":"+J34","v":0},null,null,null,null,null,null,null,null,null,null,"Hurto",1.3968700000000001E-2,{"$f":"+X34/(1-(#REF!+#REF!+#REF!+#REF!))","v":{"$error":"#REF!"}},1.3968700000000001E-2,{"$f":"+Z34/(1-(#REF!+#REF!+#REF!+#REF!))","v":{"$error":"#REF!"}},null,null,{"$f":"X34/(1-(X26+X27+X28+X29))","v":2.7650859671397247E-2},{"$f":"ROUND(AE5*AD34/1000,2)","v":0},{"$f":"ROUND(AE34*(1-X28),2)","v":0},{"$f":"ROUND(AE34*X28,2)","v":0}]
["Deshonestidad de trabajadores del hogar",{"$f":"tasas!$I$34","v":6.6941870487933512E-3},null,{"$f":"B35/(1-(B26+B27+B28+B29))","v":1.2750832473892098E-2},{"$f":"ROUND(E3*D35/1000,2)","v":0.1},{"$f":"ROUND(E35*(1-B28),2)","v":0.08},{"$f":"ROUND(E35*B28,2)","v":0.02},null,0,0,0,0,null,null,null,null,null,null,null,null,null,null,"Deshonestidad de trabajadores del hogar",7.0686999999999998E-3,{"$f":"+X35/(1-(#REF!+#REF!+#REF!+#REF!))","v":{"$error":"#REF!"}},7.0686999999999998E-3,{"$f":"+Z35/(1-(#REF!+#REF!+#REF!+#REF!))","v":{"$error":"#REF!"}},null,null,{"$f":"X35/(1-(X26+X27+X28+X29))","v":1.3992399561820763E-2},{"$f":"ROUND(AE5*AD35/1000,2)","v":0},{"$f":"ROUND(AE35*(1-X28),2)","v":0},{"$f":"ROUND(AE35*X28,2)","v":0}]
[]
[null,null,null,{"$f":"B31/(1-(B26+B27+B28+B29))","v":5.3121527114371379},{"$f":"ROUND(E3*D37/1000,2)","v":42.5},{"$f":"ROUND(E37*(1-B28),2)","v":35.06},{"$f":"ROUND(E37*B28,2)","v":7.44},null,null,null,null,null,null,null,null,null,null,null,null,null,null,null,null,null,null,null,null,null,null,{"$f":"X31/(1-(X26+X27+X28+X29))","v":4.9999008277026826},{"$f":"ROUND(AE5*AD37/1000,2)","v":0},{"$f":"ROUND(AE37*(1-X28),2)","v":0},{"$f":"ROUND(AE37*X28,2)","v":0}]
[null,null,null,null,"Suma de Cob",{"$f":"SUM(F32:F35)","v":35.06},{"$f":"SUM(G32:G35)","v":7.4399999999999995},null,{"$f":"SUM(I32:I35)","v":0},{"$f":"SUM(J32:J35)","v":2.4999999999977263E-3},{"$f":"SUM(K32:K35)","v":0},{"$f":"SUM(L32:L35)","v":0}]
[null,null,null,null,"Esperado",{"$f":"E37*(1-B28)","v":35.0625},{"$f":"E37*B28","v":7.4374999999999991},null,null,null,null,null,null,null,null,null,null,null,null,null,null,null,null,null,null,null,null,null,null,"TOTAL COMPLETA 1",{"$f":"#REF!+AE19+AE37","v":{"$error":"#REF!"}},{"$f":"IF(AF41<>AF40,AF40,AF41)","v":{"$error":"#REF!"}},{"$f":"IF(AG41<>AG40,AG40,AG41)","v":{"$error":"#REF!"}}]
[null,null,null,null,"Faltante",{"$f":"F39-F38","v":2.4999999999977263E-3},{"$f":"G39-G38","v":-2.5000000000003908E-3},null,null,null,null,null,null,null,null,null,null,null,null,null,null,null,null,null,null,null,null,null,null,null,"Suma Ajustada",{"$f":"#REF!+#REF!","v":{"$error":"#REF!"}},{"$f":"#REF!+#REF!","v":{"$error":"#REF!"}}]
[null,null,null,null,null,null,null,null,null,null,null,null,null,null,null,null,null,null,null,null,null,null,null,null,null,null,null,null,null,null,"Suma Esperada",{"$f":"#REF!+AF19+AF37","v":{"$error":"#REF!"}},{"$f":"#REF!+AG19+AG37","v":{"$error":"#REF!"}}]
[null,null,null,"TOTAL COMPLETA 1",{"$f":"+E19+E37","v":72.849999999999994},{"$f":"IF(F44<>F43,F43,F44)","v":0},{"$f":"IF(G44<>G43,G43,G44)","v":0}]
[null,null,null,null,"Suma Ajustada",null,null,null,{"$f":"+I38+I20","v":16.100000000000001},{"$f":"+J38+J20","v":16.122499999999999},{"$f":"+K38+K20","v":51.5},154.5]
[null,null,null,null,"Suma Esperada",{"$f":"+F39+F21","v":60.10125},{"$f":"+G39+G21","v":12.748749999999999}]
[]
["Tipo de bien: Inmueble","tasa de riesgo",null,"COMPLETA 2 - Inmueble",null,null,null,null,null,null,null,null,null,null,null,null,null,null,null,null,null,null,"Tipo de bien: Inmueble","tasa de riesgo","tasa comercial","tasa de riesgo","tasa comercial",null,null,"COMPLETA 2 - Inmueble"]
[null,"Corredores",null,null,null,null,null,null,null,null,null,null,null,null,null,null,null,null,null,null,null,null,null,"Corredores","Corredores","NNDD","NNDD"]
["Gastos generales",3.0672899999999999E-2,null,null,null,null,null,null,null,null,null,null,null,null,null,null,null,null,null,null,null,null,"Gastos generales",3.0672899999999999E-2,3.0672905132556546E-2,0.15,0.15]
["Gastos de comercialización",0,null,null,null,null,null,null,null,null,null,null,null,null,null,null,null,null,null,null,null,null,"Gastos de comercialización",0,0,0.05,0.05]
["Comisión local",0.2,null,null,null,null,null,null,null,null,null,null,null,null,null,null,null,null,null,null,null,null,"Comisión local",0.2,0.2,0,0]
["Utilidad antes de Imp",0,null,null,null,null,null,null,null,null,null,null,null,null,null,null,null,null,null,null,null,null,"Utilidad antes de Imp",0,0,3.0656800000000001E-2,3.0656799711687509E-2]
["Tasa comercial %o",{"$f":"+B53/(1-(B48+B49+B50+B51))","v":2.2000583366944961},null,"Tasa Comercial","Prima Neta","Prima","Comisión",null,null,null,null,null,null,null,null,null,null,null,null,null,null,null,"Tasa comercial %o",{"$f":"+X53/(1-(X48+X49+X50+X51))","v":2.2000583366944961},{"$f":"+SUM(Y54:Y64)","v":{"$error":"#REF!"}},{"$f":"+Z53/(1-(Z48+Z49+Z50+Z51))","v":2.2000120362407829},{"$f":"+SUM(AA54:AA64)","v":{"$error":"#REF!"}},null,null,"Tasa Comercial","Prima Neta","Prima","Comisión"]
["Tasa de Riesgo %o",{"$f":"+SUM(B54:B64)","v":1.6925645},null,null,null,null,null,null,null,null,null,null,null,null,null,null,null,null,null,null,null,null,"Tasa de Riesgo %o",{"$f":"+SUM(X54:X64)","v":1.6925645},null,{"$f":"+SUM(Z54:Z64)","v":1.6925642999999999}]
["Incendio y/o rayo, explosión. Daños por agua, daños por humo, impacto de vehículos y/o aeronaves",0.56119669999999999,null,{"$f":"B54/(1-(B48+B49+B50+B51))","v":0.7294643591783001},{"$f":"ROUND(E46*D54/1000,2)","v":0},{"$f":"ROUND(E54*(1-B50),2)","v":0},{"$f":"ROUND(E54*B50,2)","v":0},null,null,null,null,null,null,null,null,null,null,null,null,null,null,null,"Incendio y/o rayo, explosión. Daños por agua, daños por humo, impacto de vehículos y/o aeronaves",0.56119669999999999,{"$f":"+X54/(1-(#REF!+#REF!+#REF!+#REF!))","v":{"$error":"#REF!"}},0.56119669999999999,{"$f":"+Z54/(1-(#REF!+#REF!+#REF!+#REF!))","v":{"$error":"#REF!"}},null,null,{"$f":"X54/(1-(X48+X49+X50+X51))","v":0.7294643591783001},{"$f":"ROUND(AE46*AD54/1000,2)","v":0},{"$f":"ROUND(AE54*(1-X50),2)","v":0},{"$f":"ROUND(AE54*X50,2)","v":0}]
["Terremoto, temblor",0.92508789999999996,null,{"$f":"B55/(1-(B48+B49+B50+B51))","v":1.2024636854726682},{"$f":"ROUND(E46*D55/1000,2)","v":0},{"$f":"ROUND(E55*(1-B50),2)","v":0},{"$f":"ROUND(E55*B50,2)","v":0},null,null,null,null,null,null,null,null,null,null,null,null,null,null,null,"Terremoto, temblor",0.92508789999999996,{"$f":"+X55/(1-(#REF!+#REF!+#REF!+#REF!))","v":{"$error":"#REF!"}},0.92508789999999996,{"$f":"+Z55/(1-(#REF!+#REF!+#REF!+#REF!))","v":{"$error":"#REF!"}},null,null,{"$f":"X55/(1-(X48+X49+X50+X51))","v":1.2024636854726682},{"$f":"ROUND(AE46*AD55/1000,2)","v":0},{"$f":"ROUND(AE55*(1-X50),2)","v":0},{"$f":"ROUND(AE55*X50,2)","v":0}]
["Riesgos de la naturaleza",0.1027875,null,{"$f":"B56/(1-(B48+B49+B50+B51))","v":0.13360701839308664},{"$f":"ROUND(E46*D56/1000,2)","v":0},{"$f":"ROUND(E56*(1-B50),2)","v":0},{"$f":"ROUND(E56*B50,2)","v":0},null,null,null,null,null,null,null,null,null,null,null,null,null,null,null,"Riesgos de la naturaleza",0.1027875,{"$f":"+X56/(1-(#REF!+#REF!+#REF!+#REF!))","v":{"$error":"#REF!"}},0.1027875,{"$f":"+Z56/(1-(#REF!+#REF!+#REF!+#REF!))","v":{"$error":"#REF!"}},null,null,{"$f":"X56/(1-(X48+X49+X50+X51))","v":0.13360701839308664},{"$f":"ROUND(AE46*AD56/1000,2)","v":0},{"$f":"ROUND(AE56*(1-X50),2)","v":0},{"$f":"ROUND(AE56*X50,2)","v":0}]
["Riesgos políticos y sociales",5.0000000000000001E-3,null,{"$f":"B57/(1-(B48+B49+B50+B51))","v":6.4991861069238306E-3},{"$f":"ROUND(E46*D57/1000,2)","v":0},{"$f":"ROUND(E57*(1-B50),2)","v":0},{"$f":"ROUND(E57*B50,2)","v":0},null,null,null,null,null,null,null,null,null,null,null,null,null,null,null,"Riesgos políticos y sociales",5.0000000000000001E-3,{"$f":"+X57/(1-(#REF!+#REF!+#REF!+#REF!))","v":{"$error":"#REF!"}},5.0000000000000001E-3,{"$f":"+Z57/(1-(#REF!+#REF!+#REF!+#REF!))","v":{"$error":"#REF!"}},null,null,{"$f":"X57/(1-(X48+X49+X50+X51))","v":6.4991861069238306E-3},{"$f":"ROUND(AE46*AD57/1000,2)","v":0},{"$f":"ROUND(AE57*(1-X50),2)","v":0},{"$f":"ROUND(AE57*X50,2)","v":0}]
["Responsabilidad Civil frente a terceros",6.267E-3,null,{"$f":"B58/(1-(B48+B49+B50+B51))","v":8.14607986641833E-3},{"$f":"ROUND(E46*D58/1000,2)","v":0},{"$f":"ROUND(E58*(1-B50),2)","v":0},{"$f":"ROUND(E58*B50,2)","v":0},null,null,null,null,null,null,null,null,null,null,null,null,null,null,null,"Responsabilidad Civil frente a terceros",6.267E-3,{"$f":"+X58/(1-(#REF!+#REF!+#REF!+#REF!))","v":{"$error":"#REF!"}},6.267E-3,{"$f":"+Z58/(1-(#REF!+#REF!+#REF!+#REF!))","v":{"$error":"#REF!"}},null,null,{"$f":"X58/(1-(X48+X49+X50+X51))","v":8.14607986641833E-3},{"$f":"ROUND(AE46*AD58/1000,2)","v":0},{"$f":"ROUND(AE58*(1-X50),2)","v":0},{"$f":"ROUND(AE58*X50,2)","v":0}]
["Rotura accidental de vidrio y/o cristales",1.7274100000000001E-2,null,{"$f":"B59/(1-(B48+B49+B50+B51))","v":2.2453518145922589E-2},{"$f":"ROUND(E46*D59/1000,2)","v":0},{"$f":"ROUND(E59*(1-B50),2)","v":0},{"$f":"ROUND(E59*B50,2)","v":0},null,null,null,null,null,null,null,null,null,null,null,null,null,null,null,"Rotura accidental de vidrio y/o cristales",1.7274100000000001E-2,{"$f":"+X59/(1-(#REF!+#REF!+#REF!+#REF!))","v":{"$error":"#REF!"}},1.7274100000000001E-2,{"$f":"+Z59/(1-(#REF!+#REF!+#REF!+#REF!))","v":{"$error":"#REF!"}},null,null,{"$f":"X59/(1-(X48+X49+X50+X51))","v":2.2453518145922589E-2},{"$f":"ROUND(AE46*AD59/1000,2)","v":0},{"$f":"ROUND(AE59*(1-X50),2)","v":0},{"$f":"ROUND(AE59*X50,2)","v":0}]
["Robo o intento de robo de instalaciones fijas",3.6160000000000001E-4,null,{"$f":"B60/(1-(B48+B49+B50+B51))","v":4.7002113925273141E-4},{"$f":"ROUND(E46*D60/1000,2)","v":0},{"$f":"ROUND(E60*(1-B50),2)","v":0},{"$f":"ROUND(E60*B50,2)","v":0},null,null,null,null,null,null,null,null,null,null,null,null,null,null,null,"Robo o intento de robo de instalaciones fijas",3.6160000000000001E-4,{"$f":"+X60/(1-(#REF!+#REF!+#REF!+#REF!))","v":{"$error":"#REF!"}},3.6160000000000001E-4,{"$f":"+Z60/(1-(#REF!+#REF!+#REF!+#REF!))","v":{"$error":"#REF!"}},null,null,{"$f":"X60/(1-(X48+X49+X50+X51))","v":4.7002113925273141E-4},{"$f":"ROUND(AE46*AD60/1000,2)","v":0},{"$f":"ROUND(AE60*(1-X50),2)","v":0},{"$f":"ROUND(AE60*X50,2)","v":0}]
["Reembolso de gastos médicos por accidentes de trabajadores del hogar",2.9409000000000002E-3,null,{"$f":"B61/(1-(B48+B49+B50+B51))","v":3.8226912843704591E-3},{"$f":"ROUND(E46*D61/1000,2)","v":0},{"$f":"ROUND(E61*(1-B50),2)","v":0},{"$f":"ROUND(E61*B50,2)","v":0},null,null,null,null,null,null,null,null,null,null,null,null,null,null,null,"Reembolso de gastos médicos por accidentes de trabajadores del hogar",2.9409000000000002E-3,{"$f":"+X61/(1-(#REF!+#REF!+#REF!+#REF!))","v":{"$error":"#REF!"}},2.9409000000000002E-3,{"$f":"+Z61/(1-(#REF!+#REF!+#REF!+#REF!))","v":{"$error":"#REF!"}},null,null,{"$f":"X61/(1-(X48+X49+X50+X51))","v":3.8226912843704591E-3},{"$f":"ROUND(AE46*AD61/1000,2)","v":0},{"$f":"ROUND(AE61*(1-X50),2)","v":0},{"$f":"ROUND(AE61*X50,2)","v":0}]
["Gasto de arrendamiento de vivienda temporal",4.5742999999999999E-3,null,{"$f":"B62/(1-(B48+B49+B50+B51))","v":5.9458454017803355E-3},{"$f":"ROUND(E46*D62/1000,2)","v":0},{"$f":"ROUND(E62*(1-B50),2)","v":0},{"$f":"ROUND(E62*B50,2)","v":0},null,null,null,null,null,null,null,null,null,null,null,null,null,null,null,"Gasto de arrendamiento de vivienda temporal",4.5742999999999999E-3,{"$f":"+X62/(1-(#REF!+#REF!+#REF!+#REF!))","v":{"$error":"#REF!"}},4.5742999999999999E-3,{"$f":"+Z62/(1-(#REF!+#REF!+#REF!+#REF!))","v":{"$error":"#REF!"}},null,null,{"$f":"X62/(1-(X48+X49+X50+X51))","v":5.9458454017803355E-3},{"$f":"ROUND(AE46*AD62/1000,2)","v":0},{"$f":"ROUND(AE62*(1-X50),2)","v":0},{"$f":"ROUND(AE62*X50,2)","v":0}]
["Alquiler no  percibido por inmueble inhabitable temporalmente",4.5742999999999999E-3,null,{"$f":"B63/(1-(B48+B49+B50+B51))","v":5.9458454017803355E-3},{"$f":"ROUND(E46*D63/1000,2)","v":0},{"$f":"ROUND(E63*(1-B50),2)","v":0},{"$f":"ROUND(E63*B50,2)","v":0},null,null,null,null,null,null,null,null,null,null,null,null,null,null,null,"Alquiler no  percibido por inmueble inhabitable temporalmente",4.5742999999999999E-3,{"$f":"+X63/(1-(#REF!+#REF!+#REF!+#REF!))","v":{"$error":"#REF!"}},4.5742999999999999E-3,{"$f":"+Z63/(1-(#REF!+#REF!+#REF!+#REF!))","v":{"$error":"#REF!"}},null,null,{"$f":"X63/(1-(X48+X49+X50+X51))","v":5.9458454017803355E-3},{"$f":"ROUND(AE46*AD63/1000,2)","v":0},{"$f":"ROUND(AE63*(1-X50),2)","v":0},{"$f":"ROUND(AE63*X50,2)","v":0}]
["Asistencias",6.2500200000000006E-2,null,null,{"$f":"E66*B65","v":0},{"$f":"F66*B65","v":0},{"$f":"G66*B65","v":0},null,null,null,null,null,null,null,null,null,null,null,null,null,null,null,"Asistencias",6.2500200000000006E-2,{"$f":"+X64/(1-(#REF!+#REF!+#REF!+#REF!))","v":{"$error":"#REF!"}},6.25E-2,{"$f":"+Z64/(1-(#REF!+#REF!+#REF!+#REF!))","v":{"$error":"#REF!"}},null,null,null,{"$f":"AE66*X65","v":0},{"$f":"AF66*X65","v":0},{"$f":"AG66*X65","v":0}]
["Cantidad de asistencias",6,null,null,null,null,null,null,null,null,null,null,null,null,null,null,null,null,null,null,null,null,"Cantidad de asistencias",6,6,6,6]
["Tasa por asistencia",{"$f":"B64/B65","v":1.0416700000000001E-2},null,{"$f":"B66/(1-(B48+B49+B50+B51))","v":1.3540014383998693E-2},{"$f":"ROUND(E46*D66/1000,2)","v":0},{"$f":"ROUND(E66*(1-B50),2)","v":0},{"$f":"ROUND(E66*B50,2)","v":0},null,null,null,null,null,null,null,null,null,null,null,null,null,null,null,"Tasa por asistencia",{"$f":"X64/X65","v":1.0416700000000001E-2},{"$f":"+ROUND(Y64/Y65,7)","v":{"$error":"#REF!"}},1.0416699999999999E-2,1.0416699999999999E-2,null,null,{"$f":"X66/(1-(X48+X49+X50+X51))","v":1.3540014383998693E-2},{"$f":"ROUND(AE46*AD66/1000,2)","v":0},{"$f":"ROUND(AE66*(1-X50),2)","v":0},{"$f":"ROUND(AE66*X50,2)","v":0}]
[]
[null,null,null,{"$f":"B53/(1-(B48+B49+B50+B51))","v":2.2000583366944961},{"$f":"ROUND(E46*D68/1000,2)","v":0},{"$f":"ROUND(E68*(1-B50),2)","v":0},{"$f":"ROUND(E68*B50,2)","v":0},null,null,null,null,null,null,null,null,null,null,null,null,null,null,null,null,null,null,null,null,null,null,{"$f":"X53/(1-(X48+X49+X50+X51))","v":2.2000583366944961},{"$f":"ROUND(AE46*AD68/1000,2)","v":0},{"$f":"ROUND(AE68*(1-X50),2)","v":0},{"$f":"ROUND(AE68*X50,2)","v":0}]
[null,null,null,null,"Suma de Cob",{"$f":"SUM(F54:F64)","v":0},{"$f":"SUM(G54:G64)","v":0},null,null,null,null,null,null,null,null,null,null,null,null,null,null,null,null,null,null,null,null,null,null,null,"Suma de Cob",{"$f":"SUM(AF54:AF64)","v":0},{"$f":"SUM(AG54:AG64)","v":0}]
[null,null,null,null,"Esperado",{"$f":"E68*(1-B50)","v":0},{"$f":"E68*B50","v":0},null,null,null,null,null,null,null,null,null,null,null,null,null,null,null,null,null,null,null,null,null,null,null,"Esperado",{"$f":"AE68*(1-X50)","v":0},{"$f":"AE68*X50","v":0}]
[null,null,null,null,"Faltante",{"$f":"F70-F69","v":0},{"$f":"G70-G69","v":0},null,null,null,null,null,null,null,null,null,null,null,null,null,null,null,null,null,null,null,null,null,null,null,"Faltante",{"$f":"AF70-AF69","v":0},{"$f":"AG70-AG69","v":0}]
[]
[]
[]
["Tipo de bien: Bienes","tasa de riesgo",null,"COMPLETA 2 - Contenido",null,null,null,null,null,null,null,null,null,null,null,null,null,null,null,null,null,null,"Tipo de bien: Bienes","tasa de riesgo","tasa comercial","tasa de riesgo","tasa comercial",null,null,"COMPLETA 2 - Contenido"]
[null,"Corredores",null,null,null,null,null,null,null,null,null,null,null,null,null,null,null,null,null,null,null,null,null,"Corredores","Corredores","NNDD","NNDD"]
["Gastos generales",0.1142203,null,null,null,null,null,null,null,null,null,null,null,null,null,null,null,null,null,null,null,null,"Gastos generales",0.1142203,3.0672905132556546E-2,0.13963639999999999,0.15]
["Gastos de comercialización",0,null,null,null,null,null,null,null,null,null,null,null,null,null,null,null,null,null,null,null,null,"Gastos de comercialización",0,0,0.05,0.05]
["Comisión local",0.2,null,null,null,null,null,null,null,null,null,null,null,null,null,null,null,null,null,null,null,null,"Comisión local",0.2,0.2,0,0]
["Utilidad antes de Imp",0,null,null,null,null,null,null,null,null,null,null,null,null,null,null,null,null,null,null,null,null,"Utilidad antes de Imp",0,0,0,3.0656799711687509E-2]
["Tasa comercial %o",{"$f":"+B82/(1-(B77+B78+B79+B80))","v":2.2000875791453143},null,"Tasa Comercial","Prima Neta","Prima","Comisión",null,null,null,null,null,null,null,null,null,null,null,null,null,null,null,"Tasa comercial %o",{"$f":"+X82/(1-(X77+X78+X79+X80))","v":2.2000875791453143},{"$f":"+SUM(Y83:Y87)","v":{"$error":"#REF!"}},{"$f":"+Z82/(1-(Z77+Z78+Z79+Z80))","v":2.2003151424866565},{"$f":"+SUM(AA83:AA87)","v":{"$error":"#REF!"}},null,null,"Tasa Comercial","Prima Neta","Prima","Comisión"]
["Tasa de Riesgo %o",{"$f":"+SUM(B83:B87)","v":1.5087753999999998},null,null,null,null,null,null,null,null,null,null,null,null,null,null,null,null,null,null,null,null,"Tasa de Riesgo %o",{"$f":"+SUM(X83:X87)","v":1.5087753999999998},null,{"$f":"+SUM(Z83:Z87)","v":1.7830553}]
["Incendio y/o rayo, explosión. Daños por agua, daños por humo, impacto de vehículos y/o aeronaves",0.41339979999999998,null,{"$f":"B83/(1-(B77+B78+B79+B80))","v":0.60281720208399281},{"$f":"ROUND(E75*D83/1000, 2)","v":0},{"$f":"ROUND(E83*(1-B79),2)","v":0},{"$f":"ROUND(E83*B79,2)","v":0},null,null,null,null,null,null,null,null,null,null,null,null,null,null,null,"Incendio y/o rayo, explosión. Daños por agua, daños por humo, impacto de vehículos y/o aeronaves",0.41339979999999998,{"$f":"+X83/(1-(#REF!+#REF!+#REF!+#REF!))","v":{"$error":"#REF!"}},0.41339979999999998,{"$f":"+Z83/(1-(#REF!+#REF!+#REF!+#REF!))","v":{"$error":"#REF!"}},null,null,{"$f":"X83/(1-(X77+X78+X79+X80))","v":0.60281720208399281},{"$f":"ROUND(AE75*AD83/1000, 2)","v":0},{"$f":"ROUND(AE83*(1-X79),2)","v":0},{"$f":"ROUND(AE83*X79,2)","v":0}]
["Terremoto, temblor",0.92508789999999996,null,{"$f":"B84/(1-(B77+B78+B79+B80))","v":1.3489578358764482},{"$f":"ROUND(E75*D84/1000,2)","v":0},{"$f":"ROUND(E84*(1-B79),2)","v":0},{"$f":"ROUND(E84*B79,2)","v":0},null,null,null,null,null,null,null,null,null,null,null,null,null,null,null,"Terremoto, temblor",0.92508789999999996,{"$f":"+X84/(1-(#REF!+#REF!+#REF!+#REF!))","v":{"$error":"#REF!"}},0.92508789999999996,{"$f":"+Z84/(1-(#REF!+#REF!+#REF!+#REF!))","v":{"$error":"#REF!"}},null,null,{"$f":"X84/(1-(X77+X78+X79+X80))","v":1.3489578358764482},{"$f":"ROUND(AE75*AD84/1000,2)","v":0},{"$f":"ROUND(AE84*(1-X79),2)","v":0},{"$f":"ROUND(AE84*X79,2)","v":0}]
["Riesgos de la naturaleza",0.1027875,null,{"$f":"B85/(1-(B77+B78+B79+B80))","v":0.14988413917763971},{"$f":"ROUND(E75*D85/1000,2)","v":0},{"$f":"ROUND(E85*(1-B79),2)","v":0},{"$f":"ROUND(E85*B79,2)","v":0},null,null,null,null,null,null,null,null,null,null,null,null,null,null,null,"Riesgos de la naturaleza",0.1027875,{"$f":"+X85/(1-(#REF!+#REF!+#REF!+#REF!))","v":{"$error":"#REF!"}},0.1027875,{"$f":"+Z85/(1-(#REF!+#REF!+#REF!+#REF!))","v":{"$error":"#REF!"}},null,null,{"$f":"X85/(1-(X77+X78+X79+X80))","v":0.14988413917763971},{"$f":"ROUND(AE75*AD85/1000,2)","v":0},{"$f":"ROUND(AE85*(1-X79),2)","v":0},{"$f":"ROUND(AE85*X79,2)","v":0}]
["Riesgos políticos y sociales",5.0000000000000001E-3,null,{"$f":"B86/(1-(B77+B78+B79+B80))","v":7.2909711383991101E-3},{"$f":"ROUND(E75*D86/1000,2)","v":0},{"$f":"ROUND(E86*(1-B79),2)","v":0},{"$f":"ROUND(E86*B79,2)","v":0},null,null,null,null,null,null,null,null,null,null,null,null,null,null,null,"Riesgos políticos y sociales",5.0000000000000001E-3,{"$f":"+X86/(1-(#REF!+#REF!+#REF!+#REF!))","v":{"$error":"#REF!"}},5.0000000000000001E-3,{"$f":"+Z86/(1-(#REF!+#REF!+#REF!+#REF!))","v":{"$error":"#REF!"}},null,null,{"$f":"X86/(1-(X77+X78+X79+X80))","v":7.2909711383991101E-3},{"$f":"ROUND(AE75*AD86/1000,2)","v":0},{"$f":"ROUND(AE86*(1-X79),2)","v":0},{"$f":"ROUND(AE86*X79,2)","v":0}]
["Asistencias",6.2500200000000006E-2,null,null,{"$f":"E89*B88","v":0},{"$f":"F89*B88","v":0},{"$f":"G89*B88","v":0},null,null,null,null,null,null,null,null,null,null,null,null,null,null,null,"Asistencias",6.2500200000000006E-2,{"$f":"+X87/(1-(#REF!+#REF!+#REF!+#REF!))","v":{"$error":"#REF!"}},0.33678010000000003,{"$f":"+Z87/(1-(#REF!+#REF!+#REF!+#REF!))","v":{"$error":"#REF!"}},null,null,null,{"$f":"AE89*X88","v":0},{"$f":"AF89*X88","v":0},{"$f":"AG89*X88","v":0}]
["Cantidad de asistencias",6,null,null,null,null,null,null,null,null,null,null,null,null,null,null,null,null,null,null,null,null,"Cantidad de asistencias",6,6,6,6]
["Tasa por asistencia",{"$f":"B87/B88","v":1.0416700000000001E-2},null,{"$f":"B89/(1-(B77+B78+B79+B80))","v":1.5189571811472404E-2},{"$f":"ROUND(E75*D89/1000,2)","v":0},{"$f":"ROUND(E89*(1-B79),2)","v":0},{"$f":"ROUND(E89*B79,2)","v":0},null,null,null,null,null,null,null,null,null,null,null,null,null,null,null,"Tasa por asistencia",{"$f":"X87/X88","v":1.0416700000000001E-2},{"$f":"+ROUND(Y87/Y88,7)","v":{"$error":"#REF!"}},1.0416699999999999E-2,1.0416699999999999E-2,null,null,{"$f":"X89/(1-(X77+X78+X79+X80))","v":1.5189571811472404E-2},{"$f":"ROUND(AE75*AD89/1000,2)","v":0},{"$f":"ROUND(AE89*(1-X79),2)","v":0},{"$f":"ROUND(AE89*X79,2)","v":0}]
[]
[null,null,null,{"$f":"B82/(1-(B77+B78+B79+B80))","v":2.2000875791453143},{"$f":"ROUND(E75*D91/1000,2)","v":0},{"$f":"ROUND(E91*(1-B79),2)","v":0},{"$f":"ROUND(E91*B79,2)","v":0},null,null,null,null,null,null,null,null,null,null,null,null,null,null,null,null,null,null,null,null,null,null,{"$f":"X82/(1-(X77+X78+X79+X80))","v":2.2000875791453143},{"$f":"ROUND(AE75*AD91/1000,2)","v":0},{"$f":"ROUND(AE91*(1-X79),2)","v":0},{"$f":"ROUND(AE91*X79,2)","v":0}]
[null,null,null,null,"Suma de Cob",{"$f":"SUM(F83:F87)","v":0},{"$f":"SUM(G83:G87)","v":0},null,null,null,null,null,null,null,null,null,null,null,null,null,null,null,null,null,null,null,null,null,null,null,"Suma de Cob",{"$f":"SUM(AF83:AF87)","v":0},{"$f":"SUM(AG83:AG87)","v":0}]
[null,null,null,null,"Esperado",{"$f":"E91*(1-B79)","v":0},{"$f":"E91*B79","v":0},null,null,null,null,null,null,null,null,null,null,null,null,null,null,null,null,null,null,null,null,null,null,null,"Esperado",{"$f":"AE91*(1-X79)","v":0},{"$f":"AE91*X79","v":0}]
[null,null,null,null,"Faltante",{"$f":"F93-F92","v":0},{"$f":"G93-G92","v":0},null,null,null,null,null,null,null,null,null,null,null,null,null,null,null,null,null,null,null,null,null,null,null,"Faltante",{"$f":"AF93-AF92","v":0},{"$f":"AG93-AG92","v":0}]
[]
[]
["Tipo de bien: Bienes con robo","Corredores",null,null,null,null,null,null,null,null,null,null,null,null,null,null,null,null,null,null,null,null,"Tipo de bien: Bienes con robo","Corredores","Corredores","NNDD","NNDD"]
["Gastos generales",0.15,null,null,null,null,null,null,null,null,null,null,null,null,null,null,null,null,null,null,null,null,"Gastos generales",0.15,0.15,0.15,0.15]
["Gastos de comercialización",0.05,null,null,null,null,null,null,null,null,null,null,null,null,null,null,null,null,null,null,null,null,"Gastos de comercialización",0.05,0.05,0.05,0.05]
["Comisión local",0.2,null,null,null,null,null,null,null,null,null,null,null,null,null,null,null,null,null,null,null,null,"Comisión local",0.2,0.2,0,0]
["Utilidad antes de Imp",9.4818600000000003E-2,null,null,null,null,null,null,null,null,null,null,null,null,null,null,null,null,null,null,null,null,"Utilidad antes de Imp",9.4818600000000003E-2,9.4818618872647503E-2,0.29477880000000001,0.29477881366445952]
["Tasa comercial %o",{"$f":"+B103/(1-(B98+B99+B100+B101))","v":4.9999008277026826},null,"Tasa Comercial","Prima Neta","Prima","Comisión",null,null,null,null,null,null,null,null,null,null,null,null,null,null,null,"Tasa comercial %o",{"$f":"+X103/(1-(X98+X99+X100+X101))","v":4.9999008277026826},{"$f":"+SUM(Y104:Y107)","v":{"$error":"#REF!"}},{"$f":"+Z103/(1-(Z98+Z99+Z100+Z101))","v":4.9995069486395263},{"$f":"+SUM(AA104:AA107)","v":{"$error":"#REF!"}},null,null,"Tasa Comercial","Prima Neta","Prima","Comisión"]
["Tasa de Riesgo %o",{"$f":"+SUM(B104:B107)","v":2.5258569},null,null,null,null,null,null,null,null,null,null,null,null,null,null,null,null,null,null,null,null,"Tasa de Riesgo %o",{"$f":"+SUM(X104:X107)","v":2.5258569},null,{"$f":"+SUM(Z104:Z107)","v":2.5258569}]
["Robo y/o daños por intento de robo de bienes ",2.4425075000000001,null,{"$f":"B104/(1-(B98+B99+B100+B101))","v":4.8349117762451268},{"$f":"ROUND(E75*D104/1000,2)","v":0},{"$f":"ROUND(E104*(1-B100),2)","v":0},{"$f":"ROUND(E104*B100,2)","v":0},null,null,null,null,null,null,null,null,null,null,null,null,null,null,null,"Robo y/o daños por intento de robo de bienes ",2.4425075000000001,{"$f":"+X104/(1-(#REF!+#REF!+#REF!+#REF!))","v":{"$error":"#REF!"}},2.4425075000000001,{"$f":"+Z104/(1-(#REF!+#REF!+#REF!+#REF!))","v":{"$error":"#REF!"}},null,null,{"$f":"X104/(1-(X98+X99+X100+X101))","v":4.8349117762451268},{"$f":"ROUND(AE75*AD104/1000,2)","v":0},{"$f":"ROUND(AE104*(1-X100),2)","v":0},{"$f":"ROUND(AE104*X100,2)","v":0}]
["Robo y/o daños por intento de robo de bienes especiales: joyas, platería, relojes, obras de arte, cámaras fotográficas o de video, laptops y bicicletas dentro de la vivienda o que estén siendo portados fuera de la vivienda",6.2311999999999999E-2,null,{"$f":"B105/(1-(B98+B99+B100+B101))","v":0.12334579222433763},{"$f":"ROUND(E75*D105/1000,2)","v":0},{"$f":"ROUND(E105*(1-B100),2)","v":0},{"$f":"ROUND(E105*B100,2)","v":0},null,null,null,null,null,null,null,null,null,null,null,null,null,null,null,"Robo y/o daños por intento de robo de bienes especiales: joyas, platería, relojes, obras de arte, cámaras fotográficas o de video, laptops y bicicletas dentro de la vivienda o que estén siendo portados fuera de la vivienda",6.2311999999999999E-2,{"$f":"+X105/(1-(#REF!+#REF!+#REF!+#REF!))","v":{"$error":"#REF!"}},6.2311999999999999E-2,{"$f":"+Z105/(1-(#REF!+#REF!+#REF!+#REF!))","v":{"$error":"#REF!"}},null,null,{"$f":"X105/(1-(X98+X99+X100+X101))","v":0.12334579222433763},{"$f":"ROUND(AE75*AD105/1000,2)","v":0},{"$f":"ROUND(AE105*(1-X100),2)","v":0},{"$f":"ROUND(AE105*X100,2)","v":0}]
["Hurto",1.3968700000000001E-2,null,{"$f":"B106/(1-(B98+B99+B100+B101))","v":2.7650859671397247E-2},{"$f":"ROUND(E75*D106/1000,2)","v":0},{"$f":"ROUND(E106*(1-B100),2)","v":0},{"$f":"ROUND(E106*B100,2)","v":0},null,null,null,null,null,null,null,null,null,null,null,null,null,null,null,"Hurto",1.3968700000000001E-2,{"$f":"+X106/(1-(#REF!+#REF!+#REF!+#REF!))","v":{"$error":"#REF!"}},1.3968700000000001E-2,{"$f":"+Z106/(1-(#REF!+#REF!+#REF!+#REF!))","v":{"$error":"#REF!"}},null,null,{"$f":"X106/(1-(X98+X99+X100+X101))","v":2.7650859671397247E-2},{"$f":"ROUND(AE75*AD106/1000,2)","v":0},{"$f":"ROUND(AE106*(1-X100),2)","v":0},{"$f":"ROUND(AE106*X100,2)","v":0}]
["Deshonestidad de trabajadores del hogar",7.0686999999999998E-3,null,{"$f":"B107/(1-(B98+B99+B100+B101))","v":1.3992399561820763E-2},{"$f":"ROUND(E75*D107/1000,2)","v":0},{"$f":"ROUND(E107*(1-B100),2)","v":0},{"$f":"ROUND(E107*B100,2)","v":0},null,null,null,null,null,null,null,null,null,null,null,null,null,null,null,"Deshonestidad de trabajadores del hogar",7.0686999999999998E-3,{"$f":"+X107/(1-(#REF!+#REF!+#REF!+#REF!))","v":{"$error":"#REF!"}},7.0686999999999998E-3,{"$f":"+Z107/(1-(#REF!+#REF!+#REF!+#REF!))","v":{"$error":"#REF!"}},null,null,{"$f":"X107/(1-(X98+X99+X100+X101))","v":1.3992399561820763E-2},{"$f":"ROUND(AE75*AD107/1000,2)","v":0},{"$f":"ROUND(AE107*(1-X100),2)","v":0},{"$f":"ROUND(AE107*X100,2)","v":0}]
[]
[null,null,null,{"$f":"B103/(1-(B98+B99+B100+B101))","v":4.9999008277026826},{"$f":"ROUND(E75*D109/1000,2)","v":0},{"$f":"ROUND(E109*(1-B100),2)","v":0},{"$f":"ROUND(E109*B100,2)","v":0},null,null,null,null,null,null,null,null,null,null,null,null,null,null,null,null,null,null,null,null,null,null,{"$f":"X103/(1-(X98+X99+X100+X101))","v":4.9999008277026826},{"$f":"ROUND(AE75*AD109/1000,2)","v":0},{"$f":"ROUND(AE109*(1-X100),2)","v":0},{"$f":"ROUND(AE109*X100,2)","v":0}]
[]
[null,null,null,"TOTAL COMPLETA 2",{"$f":"E68+E91+E109","v":0},{"$f":"IF(F113<>F112,F112,F113)","v":{"$error":"#REF!"}},{"$f":"IF(G113<>G112,G112,G113)","v":{"$error":"#REF!"}},null,null,null,null,null,null,null,null,null,null,null,null,null,null,null,null,null,null,null,null,null,null,"TOTAL COMPLETA 2",{"$f":"AE68+AE91+AE109","v":0},{"$f":"IF(AF113<>AF112,AF112,AF113)","v":{"$error":"#REF!"}},{"$f":"IF(AG113<>AG112,AG112,AG113)","v":{"$error":"#REF!"}}]
[null,null,null,null,"Suma Ajustada",{"$f":"#REF!+#REF!","v":{"$error":"#REF!"}},{"$f":"#REF!+#REF!","v":{"$error":"#REF!"}},null,null,null,null,null,null,null,null,null,null,null,null,null,null,null,null,null,null,null,null,null,null,null,"Suma Ajustada",{"$f":"#REF!+#REF!","v":{"$error":"#REF!"}},{"$f":"#REF!+#REF!","v":{"$error":"#REF!"}}]
[null,null,null,null,"Suma Esperada",{"$f":"F68+F91+F109","v":0},{"$f":"G68+G91+G109","v":0},null,null,null,null,null,null,null,null,null,null,null,null,null,null,null,null,null,null,null,null,null,null,null,"Suma Esperada",{"$f":"AF68+AF91+AF109","v":0},{"$f":"AE111*X100","v":0}]
[]
[]
[]
[]
[]
[]
[]
[]
["Tipo de bien: Inmueble","tasa de riesgo",null,"COMPLETA 3 - Inmueble",null,null,null,null,null,null,null,null,null,null,null,null,null,null,null,null,null,null,"Tipo de bien: Inmueble","tasa de riesgo","tasa comercial","tasa de riesgo","tasa comercial",null,null,"COMPLETA 3 - Inmueble"]
[null,"Corredores",null,null,null,null,null,null,null,null,null,null,null,null,null,null,null,null,null,null,null,null,null,"Corredores","Corredores","NNDD","NNDD"]
["Gastos generales",3.0672899999999999E-2,null,null,null,null,null,null,null,null,null,null,null,null,null,null,null,null,null,null,null,null,"Gastos generales",3.0672899999999999E-2,3.0672905132556546E-2,0.15,0.15]
["Gastos de comercialización",0,null,null,null,null,null,null,null,null,null,null,null,null,null,null,null,null,null,null,null,null,"Gastos de comercialización",0,0,0.05,0.05]
["Comisión local",0.2,null,null,null,null,null,null,null,null,null,null,null,null,null,null,null,null,null,null,null,null,"Comisión local",0.2,0.2,0,0]
["Utilidad antes de Imp",0,null,null,null,null,null,null,null,null,null,null,null,null,null,null,null,null,null,null,null,null,"Utilidad antes de Imp",0,0,3.0656800000000001E-2,3.0656799711687509E-2]
["Tasa comercial %o",{"$f":"+B129/(1-(B124+B125+B126+B127))","v":2.2000583366944961},null,"Tasa Comercial","Prima Neta","Prima","Comisión",null,null,null,null,null,null,null,null,null,null,null,null,null,null,null,"Tasa comercial %o",{"$f":"+X129/(1-(X124+X125+X126+X127))","v":2.2000583366944961},{"$f":"+SUM(Y130:Y140)","v":{"$error":"#REF!"}},{"$f":"+Z129/(1-(Z124+Z125+Z126+Z127))","v":2.2000120362407829},{"$f":"+SUM(AA130:AA140)","v":{"$error":"#REF!"}},null,null,"Tasa Comercial","Prima Neta","Prima","Comisión"]
["Tasa de Riesgo %o",{"$f":"+SUM(B130:B140)","v":1.6925645},null,null,null,null,null,null,null,null,null,null,null,null,null,null,null,null,null,null,null,null,"Tasa de Riesgo %o",{"$f":"+SUM(X130:X140)","v":1.6925645},null,{"$f":"+SUM(Z130:Z140)","v":1.6925642999999999}]
["Incendio y/o rayo, explosión. Daños por agua, daños por humo, impacto de vehículos y/o aeronaves",0.56119669999999999,null,{"$f":"B130/(1-(B124+B125+B126+B127))","v":0.7294643591783001},{"$f":"ROUND(E122*D130/1000,2)","v":0},{"$f":"ROUND(E130*(1-B126),2)","v":0},{"$f":"ROUND(E130*B126,2)","v":0},null,null,null,null,null,null,null,null,null,null,null,null,null,null,null,"Incendio y/o rayo, explosión. Daños por agua, daños por humo, impacto de vehículos y/o aeronaves",0.56119669999999999,{"$f":"+X130/(1-(#REF!+#REF!+#REF!+#REF!))","v":{"$error":"#REF!"}},0.56119669999999999,{"$f":"+Z130/(1-(#REF!+#REF!+#REF!+#REF!))","v":{"$error":"#REF!"}},null,null,{"$f":"X130/(1-(X124+X125+X126+X127))","v":0.7294643591783001},{"$f":"ROUND(AE122*AD130/1000,2)","v":0},{"$f":"ROUND(AE130*(1-X126),2)","v":0},{"$f":"ROUND(AE130*X126,2)","v":0}]
["Terremoto, temblor",0.92508789999999996,null,{"$f":"B131/(1-(B124+B125+B126+B127))","v":1.2024636854726682},{"$f":"ROUND(E122*D131/1000,2)","v":0},{"$f":"ROUND(E131*(1-B126),2)","v":0},{"$f":"ROUND(E131*B126,2)","v":0},null,null,null,null,null,null,null,null,null,null,null,null,null,null,null,"Terremoto, temblor",0.92508789999999996,{"$f":"+X131/(1-(#REF!+#REF!+#REF!+#REF!))","v":{"$error":"#REF!"}},0.92508789999999996,{"$f":"+Z131/(1-(#REF!+#REF!+#REF!+#REF!))","v":{"$error":"#REF!"}},null,null,{"$f":"X131/(1-(X124+X125+X126+X127))","v":1.2024636854726682},{"$f":"ROUND(AE122*AD131/1000,2)","v":0},{"$f":"ROUND(AE131*(1-X126),2)","v":0},{"$f":"ROUND(AE131*X126,2)","v":0}]
["Riesgos de la naturaleza",0.1027875,null,{"$f":"B132/(1-(B124+B125+B126+B127))","v":0.13360701839308664},{"$f":"ROUND(E122*D132/1000,2)","v":0},{"$f":"ROUND(E132*(1-B126),2)","v":0},{"$f":"ROUND(E132*B126,2)","v":0},null,null,null,null,null,null,null,null,null,null,null,null,null,null,null,"Riesgos de la naturaleza",0.1027875,{"$f":"+X132/(1-(#REF!+#REF!+#REF!+#REF!))","v":{"$error":"#REF!"}},0.1027875,{"$f":"+Z132/(1-(#REF!+#REF!+#REF!+#REF!))","v":{"$error":"#REF!"}},null,null,{"$f":"X132/(1-(X124+X125+X126+X127))","v":0.13360701839308664},{"$f":"ROUND(AE122*AD132/1000,2)","v":0},{"$f":"ROUND(AE132*(1-X126),2)","v":0},{"$f":"ROUND(AE132*X126,2)","v":0}]
["Riesgos políticos y sociales",5.0000000000000001E-3,null,{"$f":"B133/(1-(B124+B125+B126+B127))","v":6.4991861069238306E-3},{"$f":"ROUND(E122*D133/1000,2)","v":0},{"$f":"ROUND(E133*(1-B126),2)","v":0},{"$f":"ROUND(E133*B126,2)","v":0},null,null,null,null,null,null,null,null,null,null,null,null,null,null,null,"Riesgos políticos y sociales",5.0000000000000001E-3,{"$f":"+X133/(1-(#REF!+#REF!+#REF!+#REF!))","v":{"$error":"#REF!"}},5.0000000000000001E-3,{"$f":"+Z133/(1-(#REF!+#REF!+#REF!+#REF!))","v":{"$error":"#REF!"}},null,null,{"$f":"X133/(1-(X124+X125+X126+X127))","v":6.4991861069238306E-3},{"$f":"ROUND(AE122*AD133/1000,2)","v":0},{"$f":"ROUND(AE133*(1-X126),2)","v":0},{"$f":"ROUND(AE133*X126,2)","v":0}]
["Responsabilidad Civil frente a terceros",6.267E-3,null,{"$f":"B134/(1-(B124+B125+B126+B127))","v":8.14607986641833E-3},{"$f":"ROUND(E122*D134/1000,2)","v":0},{"$f":"ROUND(E134*(1-B126),2)","v":0},{"$f":"ROUND(E134*B126,2)","v":0},null,null,null,null,null,null,null,null,null,null,null,null,null,null,null,"Responsabilidad Civil frente a terceros",6.267E-3,{"$f":"+X134/(1-(#REF!+#REF!+#REF!+#REF!))","v":{"$error":"#REF!"}},6.267E-3,{"$f":"+Z134/(1-(#REF!+#REF!+#REF!+#REF!))","v":{"$error":"#REF!"}},null,null,{"$f":"X134/(1-(X124+X125+X126+X127))","v":8.14607986641833E-3},{"$f":"ROUND(AE122*AD134/1000,2)","v":0},{"$f":"ROUND(AE134*(1-X126),2)","v":0},{"$f":"ROUND(AE134*X126,2)","v":0}]
["Rotura accidental de vidrio y/o cristales",1.7274100000000001E-2,null,{"$f":"B135/(1-(B124+B125+B126+B127))","v":2.2453518145922589E-2},{"$f":"ROUND(E122*D135/1000,2)","v":0},{"$f":"ROUND(E135*(1-B126),2)","v":0},{"$f":"ROUND(E135*B126,2)","v":0},null,null,null,null,null,null,null,null,null,null,null,null,null,null,null,"Rotura accidental de vidrio y/o cristales",1.7274100000000001E-2,{"$f":"+X135/(1-(#REF!+#REF!+#REF!+#REF!))","v":{"$error":"#REF!"}},1.7274100000000001E-2,{"$f":"+Z135/(1-(#REF!+#REF!+#REF!+#REF!))","v":{"$error":"#REF!"}},null,null,{"$f":"X135/(1-(X124+X125+X126+X127))","v":2.2453518145922589E-2},{"$f":"ROUND(AE122*AD135/1000,2)","v":0},{"$f":"ROUND(AE135*(1-X126),2)","v":0},{"$f":"ROUND(AE135*X126,2)","v":0}]
["Robo o intento de robo de instalaciones fijas",3.6160000000000001E-4,null,{"$f":"B136/(1-(B124+B125+B126+B127))","v":4.7002113925273141E-4},{"$f":"ROUND(E122*D136/1000,2)","v":0},{"$f":"ROUND(E136*(1-B126),2)","v":0},{"$f":"ROUND(E136*B126,2)","v":0},null,null,null,null,null,null,null,null,null,null,null,null,null,null,null,"Robo o intento de robo de instalaciones fijas",3.6160000000000001E-4,{"$f":"+X136/(1-(#REF!+#REF!+#REF!+#REF!))","v":{"$error":"#REF!"}},3.6160000000000001E-4,{"$f":"+Z136/(1-(#REF!+#REF!+#REF!+#REF!))","v":{"$error":"#REF!"}},null,null,{"$f":"X136/(1-(X124+X125+X126+X127))","v":4.7002113925273141E-4},{"$f":"ROUND(AE122*AD136/1000,2)","v":0},{"$f":"ROUND(AE136*(1-X126),2)","v":0},{"$f":"ROUND(AE136*X126,2)","v":0}]
["Reembolso de gastos médicos por accidentes de trabajadores del hogar",2.9409000000000002E-3,null,{"$f":"B137/(1-(B124+B125+B126+B127))","v":3.8226912843704591E-3},{"$f":"ROUND(E122*D137/1000,2)","v":0},{"$f":"ROUND(E137*(1-B126),2)","v":0},{"$f":"ROUND(E137*B126,2)","v":0},null,null,null,null,null,null,null,null,null,null,null,null,null,null,null,"Reembolso de gastos médicos por accidentes de trabajadores del hogar",2.9409000000000002E-3,{"$f":"+X137/(1-(#REF!+#REF!+#REF!+#REF!))","v":{"$error":"#REF!"}},2.9409000000000002E-3,{"$f":"+Z137/(1-(#REF!+#REF!+#REF!+#REF!))","v":{"$error":"#REF!"}},null,null,{"$f":"X137/(1-(X124+X125+X126+X127))","v":3.8226912843704591E-3},{"$f":"ROUND(AE122*AD137/1000,2)","v":0},{"$f":"ROUND(AE137*(1-X126),2)","v":0},{"$f":"ROUND(AE137*X126,2)","v":0}]
["Gasto de arrendamiento de vivienda temporal",4.5742999999999999E-3,null,{"$f":"B138/(1-(B124+B125+B126+B127))","v":5.9458454017803355E-3},{"$f":"ROUND(E122*D138/1000,2)","v":0},{"$f":"ROUND(E138*(1-B126),2)","v":0},{"$f":"ROUND(E138*B126,2)","v":0},null,null,null,null,null,null,null,null,null,null,null,null,null,null,null,"Gasto de arrendamiento de vivienda temporal",4.5742999999999999E-3,{"$f":"+X138/(1-(#REF!+#REF!+#REF!+#REF!))","v":{"$error":"#REF!"}},4.5742999999999999E-3,{"$f":"+Z138/(1-(#REF!+#REF!+#REF!+#REF!))","v":{"$error":"#REF!"}},null,null,{"$f":"X138/(1-(X124+X125+X126+X127))","v":5.9458454017803355E-3},{"$f":"ROUND(AE122*AD138/1000,2)","v":0},{"$f":"ROUND(AE138*(1-X126),2)","v":0},{"$f":"ROUND(AE138*X126,2)","v":0}]
["Alquiler no  percibido por inmueble inhabitable temporalmente",4.5742999999999999E-3,null,{"$f":"B139/(1-(B124+B125+B126+B127))","v":5.9458454017803355E-3},{"$f":"ROUND(E122*D139/1000,2)","v":0},{"$f":"ROUND(E139*(1-B126),2)","v":0},{"$f":"ROUND(E139*B126,2)","v":0},null,null,null,null,null,null,null,null,null,null,null,null,null,null,null,"Alquiler no  percibido por inmueble inhabitable temporalmente",4.5742999999999999E-3,{"$f":"+X139/(1-(#REF!+#REF!+#REF!+#REF!))","v":{"$error":"#REF!"}},4.5742999999999999E-3,{"$f":"+Z139/(1-(#REF!+#REF!+#REF!+#REF!))","v":{"$error":"#REF!"}},null,null,{"$f":"X139/(1-(X124+X125+X126+X127))","v":5.9458454017803355E-3},{"$f":"ROUND(AE122*AD139/1000,2)","v":0},{"$f":"ROUND(AE139*(1-X126),2)","v":0},{"$f":"ROUND(AE139*X126,2)","v":0}]
["Asistencias",6.2500200000000006E-2,null,null,{"$f":"E142*B141","v":0},{"$f":"F142*B141","v":0},{"$f":"G142*B141","v":0},null,null,null,null,null,null,null,null,null,null,null,null,null,null,null,"Asistencias",6.2500200000000006E-2,{"$f":"+X140/(1-(#REF!+#REF!+#REF!+#REF!))","v":{"$error":"#REF!"}},6.25E-2,{"$f":"+Z140/(1-(#REF!+#REF!+#REF!+#REF!))","v":{"$error":"#REF!"}},null,null,null,{"$f":"AE142*X141","v":0},{"$f":"AF142*X141","v":0},{"$f":"AG142*X141","v":0}]
["Cantidad de asistencias",6,null,null,null,null,null,null,null,null,null,null,null,null,null,null,null,null,null,null,null,null,"Cantidad de asistencias",6,6,6,6]
["Tasa por asistencia",{"$f":"B140/B141","v":1.0416700000000001E-2},null,{"$f":"B142/(1-(B124+B125+B126+B127))","v":1.3540014383998693E-2},{"$f":"ROUND(E122*D142/1000,2)","v":0},{"$f":"ROUND(E142*(1-B126),2)","v":0},{"$f":"ROUND(E142*B126,2)","v":0},null,null,null,null,null,null,null,null,null,null,null,null,null,null,null,"Tasa por asistencia",{"$f":"X140/X141","v":1.0416700000000001E-2},{"$f":"+ROUND(Y140/Y141,7)","v":{"$error":"#REF!"}},1.0416699999999999E-2,1.0416699999999999E-2,null,null,{"$f":"X142/(1-(X124+X125+X126+X127))","v":1.3540014383998693E-2},{"$f":"ROUND(AE122*AD142/1000,2)","v":0},{"$f":"ROUND(AE142*(1-X126),2)","v":0},{"$f":"ROUND(AE142*X126,2)","v":0}]
[]
[null,null,null,{"$f":"B129/(1-(B124+B125+B126+B127))","v":2.2000583366944961},{"$f":"ROUND(E122*D144/1000,2)","v":0},{"$f":"ROUND(E144*(1-B126),2)","v":0},{"$f":"ROUND(E144*B126,2)","v":0},null,null,null,null,null,null,null,null,null,null,null,null,null,null,null,null,null,null,null,null,null,null,{"$f":"X129/(1-(X124+X125+X126+X127))","v":2.2000583366944961},{"$f":"ROUND(AE122*AD144/1000,2)","v":0},{"$f":"ROUND(AE144*(1-X126),2)","v":0},{"$f":"ROUND(AE144*X126,2)","v":0}]
[]
[]
[]
[]
[]
[]
["Tipo de bien: Bienes","tasa de riesgo",null,"COMPLETA 3 - Contenido",null,null,null,null,null,null,null,null,null,null,null,null,null,null,null,null,null,null,"Tipo de bien: Bienes","tasa de riesgo","tasa comercial","tasa de riesgo","tasa comercial",null,null,"COMPLETA 3 - Contenido"]
[null,"Corredores",null,null,null,null,null,null,null,null,null,null,null,null,null,null,null,null,null,null,null,null,null,"Corredores","Corredores","NNDD","NNDD"]
["Gastos generales",0.1142203,null,null,null,null,null,null,null,null,null,null,null,null,null,null,null,null,null,null,null,null,"Gastos generales",0.1142203,3.0672905132556546E-2,0.13963639999999999,0.15]
["Gastos de comercialización",0,null,null,null,null,null,null,null,null,null,null,null,null,null,null,null,null,null,null,null,null,"Gastos de comercialización",0,0,0.05,0.05]
["Comisión local",0.2,null,null,null,null,null,null,null,null,null,null,null,null,null,null,null,null,null,null,null,null,"Comisión local",0.2,0.2,0,0]
["Utilidad antes de Imp",0,null,null,null,null,null,null,null,null,null,null,null,null,null,null,null,null,null,null,null,null,"Utilidad antes de Imp",0,0,0,3.0656799711687509E-2]
["Tasa comercial %o",{"$f":"+B158/(1-(B153+B154+B155+B156))","v":2.2000875791453143},null,"Tasa Comercial","Prima Neta","Prima","Comisión",null,null,null,null,null,null,null,null,null,null,null,null,null,null,null,"Tasa comercial %o",{"$f":"+X158/(1-(X153+X154+X155+X156))","v":2.2000875791453143},{"$f":"+SUM(Y159:Y163)","v":{"$error":"#REF!"}},{"$f":"+Z158/(1-(Z153+Z154+Z155+Z156))","v":2.2003151424866565},{"$f":"+SUM(AA159:AA163)","v":{"$error":"#REF!"}},null,null,"Tasa Comercial","Prima Neta","Prima","Comisión"]
["Tasa de Riesgo %o",{"$f":"+SUM(B159:B163)","v":1.5087753999999998},null,null,null,null,null,null,null,null,null,null,null,null,null,null,null,null,null,null,null,null,"Tasa de Riesgo %o",{"$f":"+SUM(X159:X163)","v":1.5087753999999998},null,{"$f":"+SUM(Z159:Z163)","v":1.7830553}]
["Incendio y/o rayo, explosión. Daños por agua, daños por humo, impacto de vehículos y/o aeronaves",0.41339979999999998,null,{"$f":"B159/(1-(B153+B154+B155+B156))","v":0.60281720208399281},{"$f":"ROUND(E151*D159/1000, 2)","v":0},{"$f":"ROUND(E159*(1-B155),2)","v":0},{"$f":"ROUND(E159*B155,2)","v":0},null,null,null,null,null,null,null,null,null,null,null,null,null,null,null,"Incendio y/o rayo, explosión. Daños por agua, daños por humo, impacto de vehículos y/o aeronaves",0.41339979999999998,{"$f":"+X159/(1-(#REF!+#REF!+#REF!+#REF!))","v":{"$error":"#REF!"}},0.41339979999999998,{"$f":"+Z159/(1-(#REF!+#REF!+#REF!+#REF!))","v":{"$error":"#REF!"}},null,null,{"$f":"X159/(1-(X153+X154+X155+X156))","v":0.60281720208399281},{"$f":"ROUND(AE151*AD159/1000, 2)","v":0},{"$f":"ROUND(AE159*(1-X155),2)","v":0},{"$f":"ROUND(AE159*X155,2)","v":0}]
["Terremoto, temblor",0.92508789999999996,null,{"$f":"B160/(1-(B153+B154+B155+B156))","v":1.3489578358764482},{"$f":"ROUND(E151*D160/1000,2)","v":0},{"$f":"ROUND(E160*(1-B155),2)","v":0},{"$f":"ROUND(E160*B155,2)","v":0},null,null,null,null,null,null,null,null,null,null,null,null,null,null,null,"Terremoto, temblor",0.92508789999999996,{"$f":"+X160/(1-(#REF!+#REF!+#REF!+#REF!))","v":{"$error":"#REF!"}},0.92508789999999996,{"$f":"+Z160/(1-(#REF!+#REF!+#REF!+#REF!))","v":{"$error":"#REF!"}},null,null,{"$f":"X160/(1-(X153+X154+X155+X156))","v":1.3489578358764482},{"$f":"ROUND(AE151*AD160/1000,2)","v":0},{"$f":"ROUND(AE160*(1-X155),2)","v":0},{"$f":"ROUND(AE160*X155,2)","v":0}]
["Riesgos de la naturaleza",0.1027875,null,{"$f":"B161/(1-(B153+B154+B155+B156))","v":0.14988413917763971},{"$f":"ROUND(E151*D161/1000,2)","v":0},{"$f":"ROUND(E161*(1-B155),2)","v":0},{"$f":"ROUND(E161*B155,2)","v":0},null,null,null,null,null,null,null,null,null,null,null,null,null,null,null,"Riesgos de la naturaleza",0.1027875,{"$f":"+X161/(1-(#REF!+#REF!+#REF!+#REF!))","v":{"$error":"#REF!"}},0.1027875,{"$f":"+Z161/(1-(#REF!+#REF!+#REF!+#REF!))","v":{"$error":"#REF!"}},null,null,{"$f":"X161/(1-(X153+X154+X155+X156))","v":0.14988413917763971},{"$f":"ROUND(AE151*AD161/1000,2)","v":0},{"$f":"ROUND(AE161*(1-X155),2)","v":0},{"$f":"ROUND(AE161*X155,2)","v":0}]
["Riesgos políticos y sociales",5.0000000000000001E-3,null,{"$f":"B162/(1-(B153+B154+B155+B156))","v":7.2909711383991101E-3},{"$f":"ROUND(E151*D162/1000,2)","v":0},{"$f":"ROUND(E162*(1-B155),2)","v":0},{"$f":"ROUND(E162*B155,2)","v":0},null,null,null,null,null,null,null,null,null,null,null,null,null,null,null,"Riesgos políticos y sociales",5.0000000000000001E-3,{"$f":"+X162/(1-(#REF!+#REF!+#REF!+#REF!))","v":{"$error":"#REF!"}},5.0000000000000001E-3,{"$f":"+Z162/(1-(#REF!+#REF!+#REF!+#REF!))","v":{"$error":"#REF!"}},null,null,{"$f":"X162/(1-(X153+X154+X155+X156))","v":7.2909711383991101E-3},{"$f":"ROUND(AE151*AD162/1000,2)","v":0},{"$f":"ROUND(AE162*(1-X155),2)","v":0},{"$f":"ROUND(AE162*X155,2)","v":0}]
["Asistencias",6.2500200000000006E-2,null,null,{"$f":"E165*B164","v":0},{"$f":"F165*B164","v":0},{"$f":"G165*B164","v":0},null,null,null,null,null,null,null,null,null,null,null,null,null,null,null,"Asistencias",6.2500200000000006E-2,{"$f":"+X163/(1-(#REF!+#REF!+#REF!+#REF!))","v":{"$error":"#REF!"}},0.33678010000000003,{"$f":"+Z163/(1-(#REF!+#REF!+#REF!+#REF!))","v":{"$error":"#REF!"}},null,null,null,{"$f":"AE165*X164","v":0},{"$f":"AF165*X164","v":0},{"$f":"AG165*X164","v":0}]
["Cantidad de asistencias",6,null,null,null,null,null,null,null,null,null,null,null,null,null,null,null,null,null,null,null,null,"Cantidad de asistencias",6,6,6,6]
["Tasa por asistencia",{"$f":"B163/B164","v":1.0416700000000001E-2},null,{"$f":"B165/(1-(B153+B154+B155+B156))","v":1.5189571811472404E-2},{"$f":"ROUND(E151*D165/1000,2)","v":0},{"$f":"ROUND(E165*(1-B155),2)","v":0},{"$f":"ROUND(E165*B155,2)","v":0},null,null,null,null,null,null,null,null,null,null,null,null,null,null,null,"Tasa por asistencia",{"$f":"X163/X164","v":1.0416700000000001E-2},{"$f":"+ROUND(Y163/Y164,7)","v":{"$error":"#REF!"}},1.0416699999999999E-2,1.0416699999999999E-2,null,null,{"$f":"X165/(1-(X153+X154+X155+X156))","v":1.5189571811472404E-2},{"$f":"ROUND(AE151*AD165/1000,2)","v":0},{"$f":"ROUND(AE165*(1-X155),2)","v":0},{"$f":"ROUND(AE165*X155,2)","v":0}]
[]
[null,null,null,{"$f":"B158/(1-(B153+B154+B155+B156))","v":2.2000875791453143},{"$f":"ROUND(E151*D167/1000,2)","v":0},{"$f":"ROUND(E167*(1-B155),2)","v":0},{"$f":"ROUND(E167*B155,2)","v":0},null,null,null,null,null,null,null,null,null,null,null,null,null,null,null,null,null,null,null,null,null,null,{"$f":"X158/(1-(X153+X154+X155+X156))","v":2.2000875791453143},{"$f":"ROUND(AE151*AD167/1000,2)","v":0},{"$f":"ROUND(AE167*(1-X155),2)","v":0},{"$f":"ROUND(AE167*X155,2)","v":0}]
[]
[]
[]
[]
[]
["Tipo de bien: Bienes con robo","Corredores",null,null,null,null,null,null,null,null,null,null,null,null,null,null,null,null,null,null,null,null,"Tipo de bien: Bienes con robo","Corredores","Corredores","NNDD","NNDD"]
["Gastos generales",0.15,null,null,null,null,null,null,null,null,null,null,null,null,null,null,null,null,null,null,null,null,"Gastos generales",0.15,0.15,0.15,0.15]
["Gastos de comercialización",0.05,null,null,null,null,null,null,null,null,null,null,null,null,null,null,null,null,null,null,null,null,"Gastos de comercialización",0.05,0.05,0.05,0.05]
["Comisión local",0.2,null,null,null,null,null,null,null,null,null,null,null,null,null,null,null,null,null,null,null,null,"Comisión local",0.2,0.2,0,0]
["Utilidad antes de Imp",9.4818600000000003E-2,null,null,null,null,null,null,null,null,null,null,null,null,null,null,null,null,null,null,null,null,"Utilidad antes de Imp",9.4818600000000003E-2,9.4818618872647503E-2,0.29477880000000001,0.29477881366445952]
["Tasa comercial %o",{"$f":"+B179/(1-(B174+B175+B176+B177))","v":4.9999008277026826},null,"Tasa Comercial","Prima Neta","Prima","Comisión",null,null,null,null,null,null,null,null,null,null,null,null,null,null,null,"Tasa comercial %o",{"$f":"+X179/(1-(X174+X175+X176+X177))","v":4.9999008277026826},{"$f":"+SUM(Y180:Y183)","v":{"$error":"#REF!"}},{"$f":"+Z179/(1-(Z174+Z175+Z176+Z177))","v":4.9995069486395263},{"$f":"+SUM(AA180:AA183)","v":{"$error":"#REF!"}},null,null,"Tasa Comercial","Prima Neta","Prima","Comisión"]
["Tasa de Riesgo %o",{"$f":"+SUM(B180:B183)","v":2.5258569},null,null,null,null,null,null,null,null,null,null,null,null,null,null,null,null,null,null,null,null,"Tasa de Riesgo %o",{"$f":"+SUM(X180:X183)","v":2.5258569},null,{"$f":"+SUM(Z180:Z183)","v":2.5258569}]
["Robo y/o daños por intento de robo de bienes ",2.4425075000000001,null,{"$f":"B180/(1-(B174+B175+B176+B177))","v":4.8349117762451268},{"$f":"ROUND(E151*D180/1000,2)","v":0},{"$f":"ROUND(E180*(1-B176),2)","v":0},{"$f":"ROUND(E180*B176,2)","v":0},null,null,null,null,null,null,null,null,null,null,null,null,null,null,null,"Robo y/o daños por intento de robo de bienes ",2.4425075000000001,{"$f":"+X180/(1-(#REF!+#REF!+#REF!+#REF!))","v":{"$error":"#REF!"}},2.4425075000000001,{"$f":"+Z180/(1-(#REF!+#REF!+#REF!+#REF!))","v":{"$error":"#REF!"}},null,null,{"$f":"X180/(1-(X174+X175+X176+X177))","v":4.8349117762451268},{"$f":"ROUND(AE151*AD180/1000,2)","v":0},{"$f":"ROUND(AE180*(1-X176),2)","v":0},{"$f":"ROUND(AE180*X176,2)","v":0}]
["Robo y/o daños por intento de robo de bienes especiales: joyas, platería, relojes, obras de arte, cámaras fotográficas o de video, laptops y bicicletas dentro de la vivienda o que estén siendo portados fuera de la vivienda",6.2311999999999999E-2,null,{"$f":"B181/(1-(B174+B175+B176+B177))","v":0.12334579222433763},{"$f":"ROUND(E151*D181/1000,2)","v":0},{"$f":"ROUND(E181*(1-B176),2)","v":0},{"$f":"ROUND(E181*B176,2)","v":0},null,null,null,null,null,null,null,null,null,null,null,null,null,null,null,"Robo y/o daños por intento de robo de bienes especiales: joyas, platería, relojes, obras de arte, cámaras fotográficas o de video, laptops y bicicletas dentro de la vivienda o que estén siendo portados fuera de la vivienda",6.2311999999999999E-2,{"$f":"+X181/(1-(#REF!+#REF!+#REF!+#REF!))","v":{"$error":"#REF!"}},6.2311999999999999E-2,{"$f":"+Z181/(1-(#REF!+#REF!+#REF!+#REF!))","v":{"$error":"#REF!"}},null,null,{"$f":"X181/(1-(X174+X175+X176+X177))","v":0.12334579222433763},{"$f":"ROUND(AE151*AD181/1000,2)","v":0},{"$f":"ROUND(AE181*(1-X176),2)","v":0},{"$f":"ROUND(AE181*X176,2)","v":0}]
["Hurto",1.3968700000000001E-2,null,{"$f":"B182/(1-(B174+B175+B176+B177))","v":2.7650859671397247E-2},{"$f":"ROUND(E151*D182/1000,2)","v":0},{"$f":"ROUND(E182*(1-B176),2)","v":0},{"$f":"ROUND(E182*B176,2)","v":0},null,null,null,null,null,null,null,null,null,null,null,null,null,null,null,"Hurto",1.3968700000000001E-2,{"$f":"+X182/(1-(#REF!+#REF!+#REF!+#REF!))","v":{"$error":"#REF!"}},1.3968700000000001E-2,{"$f":"+Z182/(1-(#REF!+#REF!+#REF!+#REF!))","v":{"$error":"#REF!"}},null,null,{"$f":"X182/(1-(X174+X175+X176+X177))","v":2.7650859671397247E-2},{"$f":"ROUND(AE151*AD182/1000,2)","v":0},{"$f":"ROUND(AE182*(1-X176),2)","v":0},{"$f":"ROUND(AE182*X176,2)","v":0}]
["Deshonestidad de trabajadores del hogar",7.0686999999999998E-3,null,{"$f":"B183/(1-(B174+B175+B176+B177))","v":1.3992399561820763E-2},{"$f":"ROUND(E151*D183/1000,2)","v":0},{"$f":"ROUND(E183*(1-B176),2)","v":0},{"$f":"ROUND(E183*B176,2)","v":0},null,null,null,null,null,null,null,null,null,null,null,null,null,null,null,"Deshonestidad de trabajadores del hogar",7.0686999999999998E-3,{"$f":"+X183/(1-(#REF!+#REF!+#REF!+#REF!))","v":{"$error":"#REF!"}},7.0686999999999998E-3,{"$f":"+Z183/(1-(#REF!+#REF!+#REF!+#REF!))","v":{"$error":"#REF!"}},null,null,{"$f":"X183/(1-(X174+X175+X176+X177))","v":1.3992399561820763E-2},{"$f":"ROUND(AE151*AD183/1000,2)","v":0},{"$f":"ROUND(AE183*(1-X176),2)","v":0},{"$f":"ROUND(AE183*X176,2)","v":0}]
[]
[null,null,null,{"$f":"B179/(1-(B174+B175+B176+B177))","v":4.9999008277026826},{"$f":"ROUND(E151*D185/1000,2)","v":0},{"$f":"ROUND(E185*(1-B176),2)","v":0},{"$f":"ROUND(E185*B176,2)","v":0},null,null,null,null,null,null,null,null,null,null,null,null,null,null,null,null,null,null,null,null,null,null,{"$f":"X179/(1-(X174+X175+X176+X177))","v":4.9999008277026826},{"$f":"ROUND(AE151*AD185/1000,2)","v":0},{"$f":"ROUND(AE185*(1-X176),2)","v":0},{"$f":"ROUND(AE185*X176,2)","v":0}]
[]
[null,null,null,"TOTAL COMPLETA 3",{"$f":"E144+E167+E185","v":0},{"$f":"IF(F189<>F188,F188,F189)","v":{"$error":"#REF!"}},{"$f":"IF(G189<>G188,G188,G189)","v":{"$error":"#REF!"}},null,null,null,null,null,null,null,null,null,null,null,null,null,null,null,null,null,null,null,null,null,null,"TOTAL COMPLETA 3",{"$f":"AE144+AE167+AE185","v":0},{"$f":"IF(AF144+AF167+AF185<>AF192,AF192,AF185)","v":0},{"$f":"AG144+AG167+AG185","v":0}]
[null,null,null,null,"Suma Ajustada",{"$f":"#REF!+#REF!","v":{"$error":"#REF!"}},{"$f":"#REF!+#REF!","v":{"$error":"#REF!"}},null,null,null,null,null,null,null,null,null,null,null,null,null,null,null,null,null,null,null,null,null,null,null,"Suma de Cob",{"$f":"SUM(AF180:AF183)+SUM(AF159:AF163)+SUM(AF130:AF140)","v":0},{"$f":"SUM(AG180:AG183)+SUM(AG159:AG163)+SUM(AG130:AG140)","v":0}]
[null,null,null,null,"Suma Esperada",{"$f":"F144+F167+F185","v":0},{"$f":"E187*B176","v":0},null,null,null,null,null,null,null,null,null,null,null,null,null,null,null,null,null,null,null,null,null,null,null,"Esperado",{"$f":"AE187*(1-X176)","v":0},{"$f":"AE187*X176","v":0}]
[null,null,null,null,null,null,null,null,null,null,null,null,null,null,null,null,null,null,null,null,null,null,null,null,null,null,null,null,null,null,"Faltante",{"$f":"AF189-AF188","v":0},{"$f":"AG189-AG187","v":0}]
[null,null,null,null,null,null,null,null,null,null,null,null,null,null,null,null,null,null,null,null,null,null,null,null,null,null,null,null,null,null,null,{"$f":"AF130+AF190","v":0},{"$f":"AG130+AG190","v":0}]
[null,null,null,null,null,null,null,null,null,null,null,null,null,null,null,null,null,null,null,null,null,null,null,null,null,null,null,null,null,null,{"$f":"AF192+AG192","v":0},{"$f":"ROUND(AF188-AF130+AF191,2)","v":0},{"$f":"ROUND(AG187-AG130+AG191,2)","v":0}]
[]
[]
[]
[]
["Tipo de bien: Inmueble","tasa de riesgo",null,"COMPLETA 4 - Inmueble",null,null,null,null,null,null,null,null,null,null,null,null,null,null,null,null,null,null,"Tipo de bien: Inmueble","tasa de riesgo","tasa comercial","tasa de riesgo","tasa comercial",null,null,"COMPLETA 4 - Inmueble"]
[null,"Corredores",null,null,null,null,null,null,null,null,null,null,null,null,null,null,null,null,null,null,null,null,null,"Corredores","Corredores","NNDD","NNDD"]
["Gastos generales",3.0672899999999999E-2,null,null,null,null,null,null,null,null,null,null,null,null,null,null,null,null,null,null,null,null,"Gastos generales",3.0672899999999999E-2,3.0672905132556546E-2,0.15,0.15]
["Gastos de comercialización",0,null,null,null,null,null,null,null,null,null,null,null,null,null,null,null,null,null,null,null,null,"Gastos de comercialización",0,0,0.05,0.05]
["Comisión local",0.2,null,null,null,null,null,null,null,null,null,null,null,null,null,null,null,null,null,null,null,null,"Comisión local",0.2,0.2,0,0]
["Utilidad antes de Imp",0,null,null,null,null,null,null,null,null,null,null,null,null,null,null,null,null,null,null,null,null,"Utilidad antes de Imp",0,0,3.0656800000000001E-2,3.0656799711687509E-2]
["Tasa comercial %o",{"$f":"+B204/(1-(B199+B200+B201+B202))","v":2.2000583366944961},null,"Tasa Comercial","Prima Neta","Prima","Comisión",null,null,null,null,null,null,null,null,null,null,null,null,null,null,null,"Tasa comercial %o",{"$f":"+X204/(1-(X199+X200+X201+X202))","v":2.2000583366944961},{"$f":"+SUM(Y205:Y215)","v":{"$error":"#REF!"}},{"$f":"+Z204/(1-(Z199+Z200+Z201+Z202))","v":2.2000120362407829},{"$f":"+SUM(AA205:AA215)","v":{"$error":"#REF!"}},null,null,"Tasa Comercial","Prima Neta","Prima","Comisión"]
["Tasa de Riesgo %o",{"$f":"+SUM(B205:B215)","v":1.6925645},null,null,null,null,null,null,null,null,null,null,null,null,null,null,null,null,null,null,null,null,"Tasa de Riesgo %o",{"$f":"+SUM(X205:X215)","v":1.6925645},null,{"$f":"+SUM(Z205:Z215)","v":1.6925642999999999}]
["Incendio y/o rayo, explosión. Daños por agua, daños por humo, impacto de vehículos y/o aeronaves",0.56119669999999999,null,{"$f":"B205/(1-(B199+B200+B201+B202))","v":0.7294643591783001},{"$f":"ROUND(E197*D205/1000,2)","v":0},{"$f":"ROUND(E205*(1-B201),2)","v":0},{"$f":"ROUND(E205*B201,2)","v":0},null,null,null,null,null,null,null,null,null,null,null,null,null,null,null,"Incendio y/o rayo, explosión. Daños por agua, daños por humo, impacto de vehículos y/o aeronaves",0.56119669999999999,{"$f":"+X205/(1-(#REF!+#REF!+#REF!+#REF!))","v":{"$error":"#REF!"}},0.56119669999999999,{"$f":"+Z205/(1-(#REF!+#REF!+#REF!+#REF!))","v":{"$error":"#REF!"}},null,null,{"$f":"X205/(1-(X199+X200+X201+X202))","v":0.7294643591783001},{"$f":"ROUND(AE197*AD205/1000,2)","v":0},{"$f":"ROUND(AE205*(1-X201),2)","v":0},{"$f":"ROUND(AE205*X201,2)","v":0}]
["Terremoto, temblor",0.92508789999999996,null,{"$f":"B206/(1-(B199+B200+B201+B202))","v":1.2024636854726682},{"$f":"ROUND(E197*D206/1000,2)","v":0},{"$f":"ROUND(E206*(1-B201),2)","v":0},{"$f":"ROUND(E206*B201,2)","v":0},null,null,null,null,null,null,null,null,null,null,null,null,null,null,null,"Terremoto, temblor",0.92508789999999996,{"$f":"+X206/(1-(#REF!+#REF!+#REF!+#REF!))","v":{"$error":"#REF!"}},0.92508789999999996,{"$f":"+Z206/(1-(#REF!+#REF!+#REF!+#REF!))","v":{"$error":"#REF!"}},null,null,{"$f":"X206/(1-(X199+X200+X201+X202))","v":1.2024636854726682},{"$f":"ROUND(AE197*AD206/1000,2)","v":0},{"$f":"ROUND(AE206*(1-X201),2)","v":0},{"$f":"ROUND(AE206*X201,2)","v":0}]
["Riesgos de la naturaleza",0.1027875,null,{"$f":"B207/(1-(B199+B200+B201+B202))","v":0.13360701839308664},{"$f":"ROUND(E197*D207/1000,2)","v":0},{"$f":"ROUND(E207*(1-B201),2)","v":0},{"$f":"ROUND(E207*B201,2)","v":0},null,null,null,null,null,null,null,null,null,null,null,null,null,null,null,"Riesgos de la naturaleza",0.1027875,{"$f":"+X207/(1-(#REF!+#REF!+#REF!+#REF!))","v":{"$error":"#REF!"}},0.1027875,{"$f":"+Z207/(1-(#REF!+#REF!+#REF!+#REF!))","v":{"$error":"#REF!"}},null,null,{"$f":"X207/(1-(X199+X200+X201+X202))","v":0.13360701839308664},{"$f":"ROUND(AE197*AD207/1000,2)","v":0},{"$f":"ROUND(AE207*(1-X201),2)","v":0},{"$f":"ROUND(AE207*X201,2)","v":0}]
["Riesgos políticos y sociales",5.0000000000000001E-3,null,{"$f":"B208/(1-(B199+B200+B201+B202))","v":6.4991861069238306E-3},{"$f":"ROUND(E197*D208/1000,2)","v":0},{"$f":"ROUND(E208*(1-B201),2)","v":0},{"$f":"ROUND(E208*B201,2)","v":0},null,null,null,null,null,null,null,null,null,null,null,null,null,null,null,"Riesgos políticos y sociales",5.0000000000000001E-3,{"$f":"+X208/(1-(#REF!+#REF!+#REF!+#REF!))","v":{"$error":"#REF!"}},5.0000000000000001E-3,{"$f":"+Z208/(1-(#REF!+#REF!+#REF!+#REF!))","v":{"$error":"#REF!"}},null,null,{"$f":"X208/(1-(X199+X200+X201+X202))","v":6.4991861069238306E-3},{"$f":"ROUND(AE197*AD208/1000,2)","v":0},{"$f":"ROUND(AE208*(1-X201),2)","v":0},{"$f":"ROUND(AE208*X201,2)","v":0}]
["Responsabilidad Civil frente a terceros",6.267E-3,null,{"$f":"B209/(1-(B199+B200+B201+B202))","v":8.14607986641833E-3},{"$f":"ROUND(E197*D209/1000,2)","v":0},{"$f":"ROUND(E209*(1-B201),2)","v":0},{"$f":"ROUND(E209*B201,2)","v":0},null,null,null,null,null,null,null,null,null,null,null,null,null,null,null,"Responsabilidad Civil frente a terceros",6.267E-3,{"$f":"+X209/(1-(#REF!+#REF!+#REF!+#REF!))","v":{"$error":"#REF!"}},6.267E-3,{"$f":"+Z209/(1-(#REF!+#REF!+#REF!+#REF!))","v":{"$error":"#REF!"}},null,null,{"$f":"X209/(1-(X199+X200+X201+X202))","v":8.14607986641833E-3},{"$f":"ROUND(AE197*AD209/1000,2)","v":0},{"$f":"ROUND(AE209*(1-X201),2)","v":0},{"$f":"ROUND(AE209*X201,2)","v":0}]
["Rotura accidental de vidrio y/o cristales",1.7274100000000001E-2,null,{"$f":"B210/(1-(B199+B200+B201+B202))","v":2.2453518145922589E-2},{"$f":"ROUND(E197*D210/1000,2)","v":0},{"$f":"ROUND(E210*(1-B201),2)","v":0},{"$f":"ROUND(E210*B201,2)","v":0},null,null,null,null,null,null,null,null,null,null,null,null,null,null,null,"Rotura accidental de vidrio y/o cristales",1.7274100000000001E-2,{"$f":"+X210/(1-(#REF!+#REF!+#REF!+#REF!))","v":{"$error":"#REF!"}},1.7274100000000001E-2,{"$f":"+Z210/(1-(#REF!+#REF!+#REF!+#REF!))","v":{"$error":"#REF!"}},null,null,{"$f":"X210/(1-(X199+X200+X201+X202))","v":2.2453518145922589E-2},{"$f":"ROUND(AE197*AD210/1000,2)","v":0},{"$f":"ROUND(AE210*(1-X201),2)","v":0},{"$f":"ROUND(AE210*X201,2)","v":0}]
["Robo o intento de robo de instalaciones fijas",3.6160000000000001E-4,null,{"$f":"B211/(1-(B199+B200+B201+B202))","v":4.7002113925273141E-4},{"$f":"ROUND(E197*D211/1000,2)","v":0},{"$f":"ROUND(E211*(1-B201),2)","v":0},{"$f":"ROUND(E211*B201,2)","v":0},null,null,null,null,null,null,null,null,null,null,null,null,null,null,null,"Robo o intento de robo de instalaciones fijas",3.6160000000000001E-4,{"$f":"+X211/(1-(#REF!+#REF!+#REF!+#REF!))","v":{"$error":"#REF!"}},3.6160000000000001E-4,{"$f":"+Z211/(1-(#REF!+#REF!+#REF!+#REF!))","v":{"$error":"#REF!"}},null,null,{"$f":"X211/(1-(X199+X200+X201+X202))","v":4.7002113925273141E-4},{"$f":"ROUND(AE197*AD211/1000,2)","v":0},{"$f":"ROUND(AE211*(1-X201),2)","v":0},{"$f":"ROUND(AE211*X201,2)","v":0}]
["Reembolso de gastos médicos por accidentes de trabajadores del hogar",2.9409000000000002E-3,null,{"$f":"B212/(1-(B199+B200+B201+B202))","v":3.8226912843704591E-3},{"$f":"ROUND(E197*D212/1000,2)","v":0},{"$f":"ROUND(E212*(1-B201),2)","v":0},{"$f":"ROUND(E212*B201,2)","v":0},null,null,null,null,null,null,null,null,null,null,null,null,null,null,null,"Reembolso de gastos médicos por accidentes de trabajadores del hogar",2.9409000000000002E-3,{"$f":"+X212/(1-(#REF!+#REF!+#REF!+#REF!))","v":{"$error":"#REF!"}},2.9409000000000002E-3,{"$f":"+Z212/(1-(#REF!+#REF!+#REF!+#REF!))","v":{"$error":"#REF!"}},null,null,{"$f":"X212/(1-(X199+X200+X201+X202))","v":3.8226912843704591E-3},{"$f":"ROUND(AE197*AD212/1000,2)","v":0},{"$f":"ROUND(AE212*(1-X201),2)","v":0},{"$f":"ROUND(AE212*X201,2)","v":0}]
["Gasto de arrendamiento de vivienda temporal",4.5742999999999999E-3,null,{"$f":"B213/(1-(B199+B200+B201+B202))","v":5.9458454017803355E-3},{"$f":"ROUND(E197*D213/1000,2)","v":0},{"$f":"ROUND(E213*(1-B201),2)","v":0},{"$f":"ROUND(E213*B201,2)","v":0},null,null,null,null,null,null,null,null,null,null,null,null,null,null,null,"Gasto de arrendamiento de vivienda temporal",4.5742999999999999E-3,{"$f":"+X213/(1-(#REF!+#REF!+#REF!+#REF!))","v":{"$error":"#REF!"}},4.5742999999999999E-3,{"$f":"+Z213/(1-(#REF!+#REF!+#REF!+#REF!))","v":{"$error":"#REF!"}},null,null,{"$f":"X213/(1-(X199+X200+X201+X202))","v":5.9458454017803355E-3},{"$f":"ROUND(AE197*AD213/1000,2)","v":0},{"$f":"ROUND(AE213*(1-X201),2)","v":0},{"$f":"ROUND(AE213*X201,2)","v":0}]
["Alquiler no  percibido por inmueble inhabitable temporalmente",4.5742999999999999E-3,null,{"$f":"B214/(1-(B199+B200+B201+B202))","v":5.9458454017803355E-3},{"$f":"ROUND(E197*D214/1000,2)","v":0},{"$f":"ROUND(E214*(1-B201),2)","v":0},{"$f":"ROUND(E214*B201,2)","v":0},null,null,null,null,null,null,null,null,null,null,null,null,null,null,null,"Alquiler no  percibido por inmueble inhabitable temporalmente",4.5742999999999999E-3,{"$f":"+X214/(1-(#REF!+#REF!+#REF!+#REF!))","v":{"$error":"#REF!"}},4.5742999999999999E-3,{"$f":"+Z214/(1-(#REF!+#REF!+#REF!+#REF!))","v":{"$error":"#REF!"}},null,null,{"$f":"X214/(1-(X199+X200+X201+X202))","v":5.9458454017803355E-3},{"$f":"ROUND(AE197*AD214/1000,2)","v":0},{"$f":"ROUND(AE214*(1-X201),2)","v":0},{"$f":"ROUND(AE214*X201,2)","v":0}]
["Asistencias",6.2500200000000006E-2,null,null,{"$f":"E217*B216","v":0},{"$f":"F217*B216","v":0},{"$f":"G217*B216","v":0},null,null,null,null,null,null,null,null,null,null,null,null,null,null,null,"Asistencias",6.2500200000000006E-2,{"$f":"+X215/(1-(#REF!+#REF!+#REF!+#REF!))","v":{"$error":"#REF!"}},6.25E-2,{"$f":"+Z215/(1-(#REF!+#REF!+#REF!+#REF!))","v":{"$error":"#REF!"}},null,null,null,{"$f":"AE217*X216","v":0},{"$f":"AF217*X216","v":0},{"$f":"AG217*X216","v":0}]
["Cantidad de asistencias",6,null,null,null,null,null,null,null,null,null,null,null,null,null,null,null,null,null,null,null,null,"Cantidad de asistencias",6,6,6,6]
["Tasa por asistencia",{"$f":"B215/B216","v":1.0416700000000001E-2},null,{"$f":"B217/(1-(B199+B200+B201+B202))","v":1.3540014383998693E-2},{"$f":"ROUND(E197*D217/1000,2)","v":0},{"$f":"ROUND(E217*(1-B201),2)","v":0},{"$f":"ROUND(E217*B201,2)","v":0},null,null,null,null,null,null,null,null,null,null,null,null,null,null,null,"Tasa por asistencia",{"$f":"X215/X216","v":1.0416700000000001E-2},{"$f":"+ROUND(Y215/Y216,7)","v":{"$error":"#REF!"}},1.0416699999999999E-2,1.0416699999999999E-2,null,null,{"$f":"X217/(1-(X199+X200+X201+X202))","v":1.3540014383998693E-2},{"$f":"ROUND(AE197*AD217/1000,2)","v":0},{"$f":"ROUND(AE217*(1-X201),2)","v":0},{"$f":"ROUND(AE217*X201,2)","v":0}]
[]
[null,null,null,{"$f":"B204/(1-(B199+B200+B201+B202))","v":2.2000583366944961},{"$f":"ROUND(E197*D219/1000,2)","v":0},{"$f":"ROUND(E219*(1-B201),2)","v":0},{"$f":"ROUND(E219*B201,2)","v":0},null,null,null,null,null,null,null,null,null,null,null,null,null,null,null,null,null,null,null,null,null,null,{"$f":"X204/(1-(X199+X200+X201+X202))","v":2.2000583366944961},{"$f":"ROUND(AE197*AD219/1000,2)","v":0},{"$f":"ROUND(AE219*(1-X201),2)","v":0},{"$f":"ROUND(AE219*X201,2)","v":0}]
[]
[]
[]
[]
[]
[]
["Tipo de bien: Bienes","tasa de riesgo",null,"COMPLETA 4 - Contenido",null,null,null,null,null,null,null,null,null,null,null,null,null,null,null,null,null,null,"Tipo de bien: Bienes","tasa de riesgo","tasa comercial","tasa de riesgo","tasa comercial",null,null,"COMPLETA 4 - Contenido"]
[null,"Corredores",null,null,null,null,null,null,null,null,null,null,null,null,null,null,null,null,null,null,null,null,null,"Corredores","Corredores","NNDD","NNDD"]
["Gastos generales",0.1142203,null,null,null,null,null,null,null,null,null,null,null,null,null,null,null,null,null,null,null,null,"Gastos generales",0.1142203,3.0672905132556546E-2,0.13963639999999999,0.15]
["Gastos de comercialización",0,null,null,null,null,null,null,null,null,null,null,null,null,null,null,null,null,null,null,null,null,"Gastos de comercialización",0,0,0.05,0.05]
["Comisión local",0.2,null,null,null,null,null,null,null,null,null,null,null,null,null,null,null,null,null,null,null,null,"Comisión local",0.2,0.2,0,0]
["Utilidad antes de Imp",0,null,null,null,null,null,null,null,null,null,null,null,null,null,null,null,null,null,null,null,null,"Utilidad antes de Imp",0,0,0,3.0656799711687509E-2]
["Tasa comercial %o",{"$f":"+B233/(1-(B228+B229+B230+B231))","v":2.2000875791453143},null,"Tasa Comercial","Prima Neta","Prima","Comisión",null,null,null,null,null,null,null,null,null,null,null,null,null,null,null,"Tasa comercial %o",{"$f":"+X233/(1-(X228+X229+X230+X231))","v":2.2000875791453143},{"$f":"+SUM(Y234:Y238)","v":{"$error":"#REF!"}},{"$f":"+Z233/(1-(Z228+Z229+Z230+Z231))","v":2.2003151424866565},{"$f":"+SUM(AA234:AA238)","v":{"$error":"#REF!"}},null,null,"Tasa Comercial","Prima Neta","Prima","Comisión"]
["Tasa de Riesgo %o",{"$f":"+SUM(B234:B238)","v":1.5087753999999998},null,null,null,null,null,null,null,null,null,null,null,null,null,null,null,null,null,null,null,null,"Tasa de Riesgo %o",{"$f":"+SUM(X234:X238)","v":1.5087753999999998},null,{"$f":"+SUM(Z234:Z238)","v":1.7830553}]
["Incendio y/o rayo, explosión. Daños por agua, daños por humo, impacto de vehículos y/o aeronaves",0.41339979999999998,null,{"$f":"B234/(1-(B228+B229+B230+B231))","v":0.60281720208399281},{"$f":"ROUND(E226*D234/1000, 2)","v":0},{"$f":"ROUND(E234*(1-B230),2)","v":0},{"$f":"ROUND(E234*B230,2)","v":0},null,null,null,null,null,null,null,null,null,null,null,null,null,null,null,"Incendio y/o rayo, explosión. Daños por agua, daños por humo, impacto de vehículos y/o aeronaves",0.41339979999999998,{"$f":"+X234/(1-(#REF!+#REF!+#REF!+#REF!))","v":{"$error":"#REF!"}},0.41339979999999998,{"$f":"+Z234/(1-(#REF!+#REF!+#REF!+#REF!))","v":{"$error":"#REF!"}},null,null,{"$f":"X234/(1-(X228+X229+X230+X231))","v":0.60281720208399281},{"$f":"ROUND(AE226*AD234/1000, 2)","v":0},{"$f":"ROUND(AE234*(1-X230),2)","v":0},{"$f":"ROUND(AE234*X230,2)","v":0}]
["Terremoto, temblor",0.92508789999999996,null,{"$f":"B235/(1-(B228+B229+B230+B231))","v":1.3489578358764482},{"$f":"ROUND(E226*D235/1000,2)","v":0},{"$f":"ROUND(E235*(1-B230),2)","v":0},{"$f":"ROUND(E235*B230,2)","v":0},null,null,null,null,null,null,null,null,null,null,null,null,null,null,null,"Terremoto, temblor",0.92508789999999996,{"$f":"+X235/(1-(#REF!+#REF!+#REF!+#REF!))","v":{"$error":"#REF!"}},0.92508789999999996,{"$f":"+Z235/(1-(#REF!+#REF!+#REF!+#REF!))","v":{"$error":"#REF!"}},null,null,{"$f":"X235/(1-(X228+X229+X230+X231))","v":1.3489578358764482},{"$f":"ROUND(AE226*AD235/1000,2)","v":0},{"$f":"ROUND(AE235*(1-X230),2)","v":0},{"$f":"ROUND(AE235*X230,2)","v":0}]
["Riesgos de la naturaleza",0.1027875,null,{"$f":"B236/(1-(B228+B229+B230+B231))","v":0.14988413917763971},{"$f":"ROUND(E226*D236/1000,2)","v":0},{"$f":"ROUND(E236*(1-B230),2)","v":0},{"$f":"ROUND(E236*B230,2)","v":0},null,null,null,null,null,null,null,null,null,null,null,null,null,null,null,"Riesgos de la naturaleza",0.1027875,{"$f":"+X236/(1-(#REF!+#REF!+#REF!+#REF!))","v":{"$error":"#REF!"}},0.1027875,{"$f":"+Z236/(1-(#REF!+#REF!+#REF!+#REF!))","v":{"$error":"#REF!"}},null,null,{"$f":"X236/(1-(X228+X229+X230+X231))","v":0.14988413917763971},{"$f":"ROUND(AE226*AD236/1000,2)","v":0},{"$f":"ROUND(AE236*(1-X230),2)","v":0},{"$f":"ROUND(AE236*X230,2)","v":0}]
["Riesgos políticos y sociales",5.0000000000000001E-3,null,{"$f":"B237/(1-(B228+B229+B230+B231))","v":7.2909711383991101E-3},{"$f":"ROUND(E226*D237/1000,2)","v":0},{"$f":"ROUND(E237*(1-B230),2)","v":0},{"$f":"ROUND(E237*B230,2)","v":0},null,null,null,null,null,null,null,null,null,null,null,null,null,null,null,"Riesgos políticos y sociales",5.0000000000000001E-3,{"$f":"+X237/(1-(#REF!+#REF!+#REF!+#REF!))","v":{"$error":"#REF!"}},5.0000000000000001E-3,{"$f":"+Z237/(1-(#REF!+#REF!+#REF!+#REF!))","v":{"$error":"#REF!"}},null,null,{"$f":"X237/(1-(X228+X229+X230+X231))","v":7.2909711383991101E-3},{"$f":"ROUND(AE226*AD237/1000,2)","v":0},{"$f":"ROUND(AE237*(1-X230),2)","v":0},{"$f":"ROUND(AE237*X230,2)","v":0}]
["Asistencias",6.2500200000000006E-2,null,null,{"$f":"E240*B239","v":0},{"$f":"F240*B239","v":0},{"$f":"G240*B239","v":0},null,null,null,null,null,null,null,null,null,null,null,null,null,null,null,"Asistencias",6.2500200000000006E-2,{"$f":"+X238/(1-(#REF!+#REF!+#REF!+#REF!))","v":{"$error":"#REF!"}},0.33678010000000003,{"$f":"+Z238/(1-(#REF!+#REF!+#REF!+#REF!))","v":{"$error":"#REF!"}},null,null,null,{"$f":"AE240*X239","v":0},{"$f":"AF240*X239","v":0},{"$f":"AG240*X239","v":0}]
["Cantidad de asistencias",6,null,null,null,null,null,null,null,null,null,null,null,null,null,null,null,null,null,null,null,null,"Cantidad de asistencias",6,6,6,6]
["Tasa por asistencia",{"$f":"B238/B239","v":1.0416700000000001E-2},null,{"$f":"B240/(1-(B228+B229+B230+B231))","v":1.5189571811472404E-2},{"$f":"ROUND(E226*D240/1000,2)","v":0},{"$f":"ROUND(E240*(1-B230),2)","v":0},{"$f":"ROUND(E240*B230,2)","v":0},null,null,null,null,null,null,null,null,null,null,null,null,null,null,null,"Tasa por asistencia",{"$f":"X238/X239","v":1.0416700000000001E-2},{"$f":"+ROUND(Y238/Y239,7)","v":{"$error":"#REF!"}},1.0416699999999999E-2,1.0416699999999999E-2,null,null,{"$f":"X240/(1-(X228+X229+X230+X231))","v":1.5189571811472404E-2},{"$f":"ROUND(AE226*AD240/1000,2)","v":0},{"$f":"ROUND(AE240*(1-X230),2)","v":0},{"$f":"ROUND(AE240*X230,2)","v":0}]
[]
[null,null,null,{"$f":"B233/(1-(B228+B229+B230+B231))","v":2.2000875791453143},{"$f":"ROUND(E226*D242/1000,2)","v":0},{"$f":"ROUND(E242*(1-B230),2)","v":0},{"$f":"ROUND(E242*B230,2)","v":0},null,null,null,null,null,null,null,null,null,null,null,null,null,null,null,null,null,null,null,null,null,null,{"$f":"X233/(1-(X228+X229+X230+X231))","v":2.2000875791453143},{"$f":"ROUND(AE226*AD242/1000,2)","v":0},{"$f":"ROUND(AE242*(1-X230),2)","v":0},{"$f":"ROUND(AE242*X230,2)","v":0}]
[]
[]
[]
[]
[]
["Tipo de bien: Bienes con robo","Corredores",null,null,null,null,null,null,null,null,null,null,null,null,null,null,null,null,null,null,null,null,"Tipo de bien: Bienes con robo","Corredores","Corredores","NNDD","NNDD"]
["Gastos generales",0.15,null,null,null,null,null,null,null,null,null,null,null,null,null,null,null,null,null,null,null,null,"Gastos generales",0.15,0.15,0.15,0.15]
["Gastos de comercialización",0.05,null,null,null,null,null,null,null,null,null,null,null,null,null,null,null,null,null,null,null,null,"Gastos de comercialización",0.05,0.05,0.05,0.05]
["Comisión local",0.2,null,null,null,null,null,null,null,null,null,null,null,null,null,null,null,null,null,null,null,null,"Comisión local",0.2,0.2,0,0]
["Utilidad antes de Imp",9.4818600000000003E-2,null,null,null,null,null,null,null,null,null,null,null,null,null,null,null,null,null,null,null,null,"Utilidad antes de Imp",9.4818600000000003E-2,9.4818618872647503E-2,0.29477880000000001,0.29477881366445952]
["Tasa comercial %o",{"$f":"+B254/(1-(B249+B250+B251+B252))","v":4.9999008277026826},null,"Tasa Comercial","Prima Neta","Prima","Comisión",null,null,null,null,null,null,null,null,null,null,null,null,null,null,null,"Tasa comercial %o",{"$f":"+X254/(1-(X249+X250+X251+X252))","v":4.9999008277026826},{"$f":"+SUM(Y255:Y258)","v":{"$error":"#REF!"}},{"$f":"+Z254/(1-(Z249+Z250+Z251+Z252))","v":4.9995069486395263},{"$f":"+SUM(AA255:AA258)","v":{"$error":"#REF!"}},null,null,"Tasa Comercial","Prima Neta","Prima","Comisión"]
["Tasa de Riesgo %o",{"$f":"+SUM(B255:B258)","v":2.5258569},null,null,null,null,null,null,null,null,null,null,null,null,null,null,null,null,null,null,null,null,"Tasa de Riesgo %o",{"$f":"+SUM(X255:X258)","v":2.5258569},null,{"$f":"+SUM(Z255:Z258)","v":2.5258569}]
["Robo y/o daños por intento de robo de bienes ",2.4425075000000001,null,{"$f":"B255/(1-(B249+B250+B251+B252))","v":4.8349117762451268},{"$f":"ROUND(E226*D255/1000,2)","v":0},{"$f":"ROUND(E255*(1-B251),2)","v":0},{"$f":"ROUND(E255*B251,2)","v":0},null,null,null,null,null,null,null,null,null,null,null,null,null,null,null,"Robo y/o daños por intento de robo de bienes ",2.4425075000000001,{"$f":"+X255/(1-(#REF!+#REF!+#REF!+#REF!))","v":{"$error":"#REF!"}},2.4425075000000001,{"$f":"+Z255/(1-(#REF!+#REF!+#REF!+#REF!))","v":{"$error":"#REF!"}},null,null,{"$f":"X255/(1-(X249+X250+X251+X252))","v":4.8349117762451268},{"$f":"ROUND(AE226*AD255/1000,2)","v":0},{"$f":"ROUND(AE255*(1-X251),2)","v":0},{"$f":"ROUND(AE255*X251,2)","v":0}]
["Robo y/o daños por intento de robo de bienes especiales: joyas, platería, relojes, obras de arte, cámaras fotográficas o de video, laptops y bicicletas dentro de la vivienda o que estén siendo portados fuera de la vivienda",6.2311999999999999E-2,null,{"$f":"B256/(1-(B249+B250+B251+B252))","v":0.12334579222433763},{"$f":"ROUND(E226*D256/1000,2)","v":0},{"$f":"ROUND(E256*(1-B251),2)","v":0},{"$f":"ROUND(E256*B251,2)","v":0},null,null,null,null,null,null,null,null,null,null,null,null,null,null,null,"Robo y/o daños por intento de robo de bienes especiales: joyas, platería, relojes, obras de arte, cámaras fotográficas o de video, laptops y bicicletas dentro de la vivienda o que estén siendo portados fuera de la vivienda",6.2311999999999999E-2,{"$f":"+X256/(1-(#REF!+#REF!+#REF!+#REF!))","v":{"$error":"#REF!"}},6.2311999999999999E-2,{"$f":"+Z256/(1-(#REF!+#REF!+#REF!+#REF!))","v":{"$error":"#REF!"}},null,null,{"$f":"X256/(1-(X249+X250+X251+X252))","v":0.12334579222433763},{"$f":"ROUND(AE226*AD256/1000,2)","v":0},{"$f":"ROUND(AE256*(1-X251),2)","v":0},{"$f":"ROUND(AE256*X251,2)","v":0}]
["Hurto",1.3968700000000001E-2,null,{"$f":"B257/(1-(B249+B250+B251+B252))","v":2.7650859671397247E-2},{"$f":"ROUND(E226*D257/1000,2)","v":0},{"$f":"ROUND(E257*(1-B251),2)","v":0},{"$f":"ROUND(E257*B251,2)","v":0},null,null,null,null,null,null,null,null,null,null,null,null,null,null,null,"Hurto",1.3968700000000001E-2,{"$f":"+X257/(1-(#REF!+#REF!+#REF!+#REF!))","v":{"$error":"#REF!"}},1.3968700000000001E-2,{"$f":"+Z257/(1-(#REF!+#REF!+#REF!+#REF!))","v":{"$error":"#REF!"}},null,null,{"$f":"X257/(1-(X249+X250+X251+X252))","v":2.7650859671397247E-2},{"$f":"ROUND(AE226*AD257/1000,2)","v":0},{"$f":"ROUND(AE257*(1-X251),2)","v":0},{"$f":"ROUND(AE257*X251,2)","v":0}]
["Deshonestidad de trabajadores del hogar",7.0686999999999998E-3,null,{"$f":"B258/(1-(B249+B250+B251+B252))","v":1.3992399561820763E-2},{"$f":"ROUND(E226*D258/1000,2)","v":0},{"$f":"ROUND(E258*(1-B251),2)","v":0},{"$f":"ROUND(E258*B251,2)","v":0},null,null,null,null,null,null,null,null,null,null,null,null,null,null,null,"Deshonestidad de trabajadores del hogar",7.0686999999999998E-3,{"$f":"+X258/(1-(#REF!+#REF!+#REF!+#REF!))","v":{"$error":"#REF!"}},7.0686999999999998E-3,{"$f":"+Z258/(1-(#REF!+#REF!+#REF!+#REF!))","v":{"$error":"#REF!"}},null,null,{"$f":"X258/(1-(X249+X250+X251+X252))","v":1.3992399561820763E-2},{"$f":"ROUND(AE226*AD258/1000,2)","v":0},{"$f":"ROUND(AE258*(1-X251),2)","v":0},{"$f":"ROUND(AE258*X251,2)","v":0}]
[]
[null,null,null,{"$f":"B254/(1-(B249+B250+B251+B252))","v":4.9999008277026826},{"$f":"ROUND(E226*D260/1000,2)","v":0},{"$f":"ROUND(E260*(1-B251),2)","v":0},{"$f":"ROUND(E260*B251,2)","v":0},null,null,null,null,null,null,null,null,null,null,null,null,null,null,null,null,null,null,null,null,null,null,{"$f":"X254/(1-(X249+X250+X251+X252))","v":4.9999008277026826},{"$f":"ROUND(AE226*AD260/1000,2)","v":0},{"$f":"ROUND(AE260*(1-X251),2)","v":0},{"$f":"ROUND(AE260*X251,2)","v":0}]
[]
[null,null,null,"TOTAL COMPLETA 4",{"$f":"E219+E242+E260","v":0},{"$f":"IF(F264<>F263,F263,F264)","v":{"$error":"#REF!"}},{"$f":"IF(G264<>G263,G263,G264)","v":{"$error":"#REF!"}},null,null,null,null,null,null,null,null,null,null,null,null,null,null,null,null,null,null,null,null,null,null,"TOTAL COMPLETA 4",{"$f":"AE219+AE242+AE260","v":0},{"$f":"IF(AF219+AF242+AF260<>AF267,AF267,AF260)","v":0},{"$f":"AG219+AG242+AG260","v":0}]
[null,null,null,null,"Suma Ajustada",{"$f":"#REF!+#REF!","v":{"$error":"#REF!"}},{"$f":"#REF!+#REF!","v":{"$error":"#REF!"}},null,null,null,null,null,null,null,null,null,null,null,null,null,null,null,null,null,null,null,null,null,null,null,"Suma de Cob",{"$f":"SUM(AF255:AF258)+SUM(AF234:AF238)+SUM(AF205:AF215)","v":0},{"$f":"SUM(AG255:AG258)+SUM(AG234:AG238)+SUM(AG205:AG215)","v":0}]
[null,null,null,null,"Suma Esperada",{"$f":"F219+F242+F260","v":0},{"$f":"E262*B251","v":0},null,null,null,null,null,null,null,null,null,null,null,null,null,null,null,null,null,null,null,null,null,null,null,"Esperado",{"$f":"AE262*(1-X251)","v":0},{"$f":"AE262*X251","v":0}]
[null,null,null,null,null,null,null,null,null,null,null,null,null,null,null,null,null,null,null,null,null,null,null,null,null,null,null,null,null,null,"Faltante",{"$f":"AF264-AF263","v":0},{"$f":"AG264-AG262","v":0}]
[null,null,null,null,null,null,null,null,null,null,null,null,null,null,null,null,null,null,null,null,null,null,null,null,null,null,null,null,null,null,null,{"$f":"AF205+AF265","v":0},{"$f":"AG205+AG265","v":0}]
[null,null,null,null,null,null,null,null,null,null,null,null,null,null,null,null,null,null,null,null,null,null,null,null,null,null,null,null,null,null,{"$f":"AF267+AG267","v":0},{"$f":"ROUND(AF263-AF205+AF266,2)","v":0},{"$f":"ROUND(AG262-AG205+AG266,2)","v":0}]
[]
[null,null,null,null,"Prima comercial mínima dólares",51.5,null,null,null,{"$f":"+F269-J38","v":51.497500000000002}]
[null,null,null,null,"Prima comercial mínima soles",154.5,null,null,null,{"$f":"+F270-J38","v":154.4975}]

{"sheet":"INMUEBLE Y BIENES","index":27,"n_rows":312,"n_cols":36,"rows_kept":312,"cut":false,"hidden":true,"merged":[[4,13,4,16],[8,10,8,11],[36,10,36,11],[67,10,67,11],[47,10,47,11]]}
[null,null,null,null,"Ir a Panel"]
[]
["Tipo de bien: Inmueble","tasa de riesgo",null,"Suma asegurada Inmueble",200000,null,null,null,null,null,null,null,null,null,null,null,null,null,null,null,null,null,"Tipo de bien: Inmueble","tasa de riesgo","tasa comercial","tasa de riesgo","tasa comercial",null,null,"COMPLETA 1 - Inmueble"]
[null,"Corredores",null,null,null,null,null,null,null,null,null,null,null,null,null,null,null,null,null,null,null,null,null,"Corredores","Corredores","NNDD","NNDD"]
["Gastos generales",{"$f":"tasas!$O$6","v":0.14000000000000001},null,null,null,null,null,null,null,null,null,null,null,null,null,null,null,null,null,null,null,null,"Gastos generales",3.0672899999999999E-2,3.0672905132556546E-2,0.15,0.15]
["Gastos de comercialización",{"$f":"tasas!$O$7","v":0.05},null,null,null,null,null,null,null,null,null,null,null,null,"PRIMA NETA",{"$f":"+P7/1.03","v":611.48592233009708},null,null,null,null,null,null,"Gastos de comercialización",0,0,0.05,0.05]
["Comisión local",{"$f":"tasas!$O$8","v":0.17499999999999999},null,null,null,null,null,null,null,null,null,null,null,null,"Prima Comercial",{"$f":"+IF(Cotizador!H37=\"X\",('INMUEBLE Y BIENES'!L59+'INMUEBLE Y BIENES'!L75)-('INMUEBLE Y BIENES'!L59+'INMUEBLE Y BIENES'!L75)*Cotizador!$M$40,('INMUEBLE Y BIENES'!K59+'INMUEBLE Y BIENES'!K75)-('INMUEBLE Y BIENES'!K59+'INMUEBLE Y BIENES'!K75)*Cotizador!$M$40)","v":629.83050000000003},null,null,650.94000000000005,null,null,null,"Comisión local",0.2,0.2,0,0,null,null,null,null,null,null,null,null,{"$f":"P7-S7","v":-21.109500000000025}]
["Utilidad antes de Imp",{"$f":"tasas!$O$9","v":0},null,null,null,null,null,null,null,null,null,null,null,null,"IGV",{"$f":"+P7*0.18","v":113.36949},null,null,117.1692,null,null,null,"Utilidad antes de Imp",0,0,3.0656800000000001E-2,3.0656799711687509E-2,null,null,null,null,null,null,null,null,{"$f":"P8-S8","v":-3.7997100000000046}]
["Tasa comercial %o",{"$f":"+B10/(1-(B5+B6+B7+B8))","v":2.6219140085432358},null,"Tasa Comercial","Prima Neta","Prima","Comision",null,"Operativas","Prima comercial con ajuste",null,null,null,null,"Prima Total",{"$f":"+P7+P8","v":743.19999000000007},null,null,768.1092000000001,null,null,null,"Tasa comercial %o",{"$f":"+X10/(1-(X5+X6+X7+X8))","v":0.7294643591783001},{"$f":"+SUM(Y11:Y19)","v":{"$error":"#REF!"}},{"$f":"+Z10/(1-(Z5+Z6+Z7+Z8))","v":0.72944909372046185},{"$f":"+SUM(AA11:AA19)","v":{"$error":"#REF!"}},null,null,"Tasa Comercial","Prima Neta","Prima","Comision",null,null,{"$f":"P9-S9","v":-24.90921000000003}]
["Tasa de Riesgo %o",{"$f":"+SUM(B11:B19)","v":1.6649153954249547},null,null,null,null,null,null,null,null,null,null,null,null,"Comisión Total ",{"$f":"+ROUND(P6*0.2,2)","v":122.3},null,null,null,null,null,null,"Tasa de Riesgo %o",{"$f":"+SUM(X11:X19)","v":0.56119669999999999},null,{"$f":"+SUM(Z11:Z19)","v":0.56119669999999999}]
["Incendio y/o rayo, explosión. Daños por agua, daños por humo, impacto de vehículos y/o aeronaves",{"$f":"tasas!$O$12","v":0.29225599038914341},null,{"$f":"B11/(1-(B5+B6+B7+B8))","v":0.46024565415613133},{"$f":"ROUND(E3*D11/1000,2)","v":92.05},{"$f":"ROUND(E11*(1-B7),2)","v":75.94},{"$f":"ROUND(E11*B7,2)","v":16.11},null,{"$f":"+ROUND(E11*1.03,2)","v":94.81},{"$f":"+IF(0<=F26>=0,F26+I11,0)","v":94.75},null,null,null,null,null,null,null,null,null,null,null,null,"Incendio y/o rayo, explosión. Daños por agua, daños por humo, impacto de vehículos y/o aeronaves",0.56119669999999999,{"$f":"+X11/(1-(#REF!+#REF!+#REF!+#REF!))","v":{"$error":"#REF!"}},0.56119669999999999,{"$f":"+Z11/(1-(#REF!+#REF!+#REF!+#REF!))","v":{"$error":"#REF!"}},null,null,{"$f":"X11/(1-(X5+X6+X7+X8))","v":0.7294643591783001},{"$f":"ROUND(AE3*AD11/1000,2)","v":0},{"$f":"ROUND(AE11*(1-X7),2)","v":0},{"$f":"ROUND(AE11*X7,2)","v":0}]
["Terremoto, temblor, maremoto, Inundaciones y riesgos de la naturaleza",{"$f":"tasas!$O$13","v":1.3260000000000001},null,{"$f":"B12/(1-(B5+B6+B7+B8))","v":2.0881889763779529},{"$f":"ROUND(E3*D12/1000,2)","v":417.64},{"$f":"ROUND(E12*(1-B7),2)","v":344.55},{"$f":"ROUND(E12*B7,2)","v":73.09},null,{"$f":"+ROUND(E12*1.03,2)","v":430.17},{"$f":"+I12","v":430.17}]
["Responsabilidad Civil frente a terceros",{"$f":"tasas!$O$14","v":6.267E-3},null,{"$f":"B13/(1-(B5+B6+B7+B8))","v":9.8692913385826763E-3},{"$f":"ROUND(E3*D13/1000,2)","v":1.97},{"$f":"ROUND(E13*(1-B7),2)","v":1.63},{"$f":"ROUND(E13*B7,2)","v":0.34},null,2.0299999999999998,{"$f":"+I13","v":2.0299999999999998}]
["Rotura accidental de vidrio y/o cristales",{"$f":"tasas!$O$15","v":1.376348607600922E-2},null,{"$f":"B14/(1-(B5+B6+B7+B8))","v":2.1674781222061762E-2},{"$f":"ROUND(E3*D14/1000,2)","v":4.33},{"$f":"ROUND(E14*(1-B7),2)","v":3.57},{"$f":"ROUND(E14*B7,2)","v":0.76},null,4.46,4.46]
["Robo o intento de robo de instalaciones fijas",{"$f":"tasas!$O$16","v":1.0978465801088598E-3},null,{"$f":"B15/(1-(B5+B6+B7+B8))","v":1.7288922521399366E-3},{"$f":"ROUND(E3*D15/1000,2)","v":0.35},{"$f":"ROUND(E15*(1-B7),2)","v":0.28999999999999998},{"$f":"ROUND(E15*B7,2)","v":0.06},null,0.36,0.36]
["Reembolso de gastos médicos por accidentes de trabajadores del hogar",{"$f":"tasas!$O$17","v":2.9409000000000002E-3},null,{"$f":"B16/(1-(B5+B6+B7+B8))","v":4.6313385826771657E-3},{"$f":"ROUND(E3*D16/1000,2)","v":0.93},{"$f":"ROUND(E16*(1-B7),2)","v":0.77},{"$f":"ROUND(E16*B7,2)","v":0.16},null,0.96,0.96]
["Gasto de arrendamiento de vivienda temporal",{"$f":"tasas!$O$18","v":4.5742999999999999E-3},null,{"$f":"B17/(1-(B5+B6+B7+B8))","v":7.2036220472440939E-3},{"$f":"ROUND(E3*D17/1000,2)","v":1.44},{"$f":"ROUND(E17*(1-B7),2)","v":1.19},{"$f":"ROUND(E17*B7,2)","v":0.25},null,1.48,1.48]
["Alquiler no  percibido por inmueble inhabitable temporalmente",{"$f":"tasas!$O$19","v":4.5742999999999999E-3},null,{"$f":"B18/(1-(B5+B6+B7+B8))","v":7.2036220472440939E-3},{"$f":"ROUND(E3*D18/1000,2)","v":1.44},{"$f":"ROUND(E18*(1-B7),2)","v":1.19},{"$f":"ROUND(E18*B7,2)","v":0.25},null,1.48,1.48]
["Asistencias",{"$f":"tasas!$O$20","v":1.3441572379693026E-2},null,null,{"$f":"E21*B20","v":4.26},{"$f":"F21*B20","v":3.54},{"$f":"G21*B20","v":0.72},null,4.3899999999999997,4.3899999999999997]
["Cantidad de asistencias",{"$f":"tasas!$O$21","v":6}]
["Tasa por asistencia",{"$f":"B19/B20","v":2.240262063282171E-3},null,{"$f":"B21/(1-(B5+B6+B7+B8))","v":3.5279717532002691E-3},{"$f":"ROUND(E3*D21/1000,2)","v":0.71},{"$f":"ROUND(E21*(1-B7),2)","v":0.59},{"$f":"ROUND(E21*B7,2)","v":0.12}]
[]
[null,null,null,{"$f":"B10/(1-(B5+B6+B7+B8))","v":2.6219140085432358},{"$f":"ROUND(E3*D23/1000,2)","v":524.38},{"$f":"ROUND(E23*(1-B7),2)","v":432.61},{"$f":"ROUND(E23*B7,2)","v":91.77}]
[null,null,null,null,"Suma de Cob",{"$f":"SUM(F11:F19)","v":432.67},{"$f":"SUM(G11:G19)","v":91.740000000000009},null,{"$f":"SUM(I11:I19)","v":540.1400000000001},{"$f":"SUM(J11:J19)","v":540.08000000000015}]
[null,null,null,null,"Esperado",{"$f":"E23*(1-B7)","v":432.61349999999999},{"$f":"E23*B7","v":91.766499999999994}]
[null,null,null,null,"Faltante",{"$f":"ROUND(F25-F24,2)","v":-0.06},{"$f":"G25-G24","v":2.6499999999984425E-2}]
[]
[null,null,null,null,"Prima comercial mínima dólares",51.5,null,null,null,{"$f":"+F28-J24","v":-488.58000000000015}]
[null,null,null,null,"Prima comercial mínima soles",154.5,null,null,null,{"$f":"+F29-J24","v":-385.58000000000015}]
[]
["Tipo de bien: Bienes","tasa de riesgo",null,"Suma asegurada Bienes",10000,null,null,null,null,null,null,null,null,null,null,null,null,null,null,null,null,null,"Tipo de bien: Bienes","tasa de riesgo","tasa comercial","tasa de riesgo","tasa comercial",null,null,"COMPLETA 1 - Contenido"]
[null,"Corredores",null,null,null,null,null,null,null,null,null,null,null,null,null,null,null,null,null,null,null,null,null,"Corredores","Corredores","NNDD","NNDD"]
["Gastos generales",{"$f":"tasas!$O$34","v":0},null,null,null,null,null,null,null,null,null,null,null,null,null,null,null,null,null,null,null,null,"Gastos generales",0.1142203,3.0672905132556546E-2,0.13963639999999999,0.15]
["Gastos de comercialización",{"$f":"tasas!$O$35","v":0.05},null,null,null,null,null,null,null,null,null,null,null,null,null,null,null,null,null,null,null,null,"Gastos de comercialización",0,0,0.05,0.05]
["Comisión local",{"$f":"tasas!$O$36","v":0.17499999999999999},null,null,null,null,null,null,null,null,null,null,null,null,null,null,null,null,null,null,null,null,"Comisión local",0.2,0.2,0,0]
["Utilidad antes de Imp",{"$f":"tasas!$O$37","v":0},null,null,null,null,null,null,null,null,null,null,null,null,null,null,null,null,null,null,null,null,"Utilidad antes de Imp",0,0,0,3.0656799711687509E-2]
["Tasa comercial %o",{"$f":"+B38/(1-(B33+B34+B35+B36))","v":3.7935780735369091},null,"Tasa Comercial","Prima Neta","Prima","Comisión",null,"Operativas","Prima comercial con ajuste",null,null,null,null,null,null,null,null,null,null,null,null,"Tasa comercial %o",{"$f":"+X38/(1-(X33+X34+X35+X36))","v":2.0429124688292757},{"$f":"+SUM(Y39:Y41)","v":{"$error":"#REF!"}},{"$f":"+Z38/(1-(Z33+Z34+Z35+Z36))","v":2.0673038621181896},{"$f":"+SUM(AA39:AA41)","v":{"$error":"#REF!"}},null,null,"Tasa Comercial","Prima Neta","Prima","Comisión"]
["Tasa de Riesgo %o",{"$f":"+SUM(B39:B41)","v":2.9400230069911046},null,null,null,null,null,null,null,null,null,null,null,null,null,null,null,null,null,null,null,null,"Tasa de Riesgo %o",{"$f":"+SUM(X39:X41)","v":1.4009879000000001},null,{"$f":"+SUM(Z39:Z41)","v":1.6752677999999999}]
["Incendio y/o rayo, explosión. Daños por agua, daños por humo, impacto de vehículos y/o aeronaves",{"$f":"tasas!$O$40","v":1.5137841154840102},null,{"$f":"B39/(1-(B33+B34+B35+B36))","v":1.9532698264309807},{"$f":"ROUND(E31*D39/1000, 2)","v":19.53},{"$f":"ROUND(E39*(1-B35),2)","v":16.11},{"$f":"ROUND(E39*B35,2)","v":3.42},null,{"$f":"+ROUND(E39*1.03,2)","v":20.12},{"$f":"+IF(0<=F48>=0,F48+I39,0)","v":20.110500000000002},null,null,null,null,null,null,null,null,null,null,null,null,"Incendio y/o rayo, explosión. Daños por agua, daños por humo, impacto de vehículos y/o aeronaves",0.41339979999999998,{"$f":"+X39/(1-(#REF!+#REF!+#REF!+#REF!))","v":{"$error":"#REF!"}},0.41339979999999998,{"$f":"+Z39/(1-(#REF!+#REF!+#REF!+#REF!))","v":{"$error":"#REF!"}},null,null,{"$f":"X39/(1-(X33+X34+X35+X36))","v":0.60281720208399281},{"$f":"ROUND(AE31*AD39/1000, 2)","v":0},{"$f":"ROUND(AE39*(1-X35),2)","v":0},{"$f":"ROUND(AE39*X35,2)","v":0}]
["Terremoto, temblor, maremoto, Inundaciones y riesgos de la naturaleza",{"$f":"tasas!$O$41","v":1.3260000000000001},null,{"$f":"B40/(1-(B33+B34+B35+B36))","v":1.7109677419354838},{"$f":"ROUND(E31*D40/1000,2)","v":17.11},{"$f":"ROUND(E40*(1-B35),2)","v":14.12},{"$f":"ROUND(E40*B35,2)","v":2.99},null,{"$f":"+ROUND(E40*1.03,2)","v":17.62},{"$f":"+I40","v":17.62},null,null,null,null,null,null,null,null,null,null,null,null,"Terremoto, temblor",0.92508789999999996,{"$f":"+X40/(1-(#REF!+#REF!+#REF!+#REF!))","v":{"$error":"#REF!"}},0.92508789999999996,{"$f":"+Z40/(1-(#REF!+#REF!+#REF!+#REF!))","v":{"$error":"#REF!"}},null,null,{"$f":"X40/(1-(X33+X34+X35+X36))","v":1.3489578358764482},{"$f":"ROUND(AE31*AD40/1000,2)","v":0},{"$f":"ROUND(AE40*(1-X35),2)","v":0},{"$f":"ROUND(AE40*X35,2)","v":0}]
["Asistencias",{"$f":"tasas!$O$42","v":0.1002388915070945},null,null,{"$f":"E43*B42","v":1.32},{"$f":"F43*B42","v":1.08},{"$f":"G43*B42","v":0.24},null,1.36,{"$f":"+I41","v":1.36},null,null,null,null,null,null,null,null,null,null,null,null,"Asistencias",6.2500200000000006E-2,{"$f":"+X41/(1-(#REF!+#REF!+#REF!+#REF!))","v":{"$error":"#REF!"}},0.33678010000000003,{"$f":"+Z41/(1-(#REF!+#REF!+#REF!+#REF!))","v":{"$error":"#REF!"}},null,null,null,{"$f":"AE43*X42","v":0},{"$f":"AF43*X42","v":0},{"$f":"AG43*X42","v":0}]
["Cantidad de asistencias",{"$f":"tasas!N43","v":6},null,null,null,null,null,null,null,null,null,null,null,null,null,null,null,null,null,null,null,null,"Cantidad de asistencias",6,6,6,6]
["Tasa por asistencia",{"$f":"B41/B42","v":1.6706481917849084E-2},null,{"$f":"B43/(1-(B33+B34+B35+B36))","v":2.1556750861740751E-2},{"$f":"ROUND(E31*D43/1000,2)","v":0.22},{"$f":"ROUND(E43*(1-B35),2)","v":0.18},{"$f":"ROUND(E43*B35,2)","v":0.04},null,null,null,null,null,null,null,null,null,null,null,null,null,null,null,"Tasa por asistencia",{"$f":"X41/X42","v":1.0416700000000001E-2},{"$f":"+ROUND(Y41/Y42,7)","v":{"$error":"#REF!"}},1.0416699999999999E-2,1.0416699999999999E-2,null,null,{"$f":"X43/(1-(X33+X34+X35+X36))","v":1.5189571811472404E-2},{"$f":"ROUND(AE31*AD43/1000,2)","v":0},{"$f":"ROUND(AE43*(1-X35),2)","v":0},{"$f":"ROUND(AE43*X35,2)","v":0}]
[]
[null,null,null,{"$f":"B38/(1-(B33+B34+B35+B36))","v":3.7935780735369091},{"$f":"ROUND(E31*D45/1000,2)","v":37.94},{"$f":"ROUND(E45*(1-B35),2)","v":31.3},{"$f":"ROUND(E45*B35,2)","v":6.64},null,null,null,null,null,null,null,null,null,null,null,null,null,null,null,null,null,null,null,null,null,null,{"$f":"X38/(1-(X33+X34+X35+X36))","v":2.0429124688292757},{"$f":"ROUND(AE31*AD45/1000,2)","v":0},{"$f":"ROUND(AE45*(1-X35),2)","v":0},{"$f":"ROUND(AE45*X35,2)","v":0}]
[null,null,null,null,"Suma de Cob",{"$f":"SUM(F39:F41)","v":31.309999999999995},{"$f":"SUM(G39:G41)","v":6.65},null,{"$f":"SUM(I39:I41)","v":39.1},{"$f":"SUM(J39:J41)","v":39.090500000000006},null,null,null,null,null,null,null,null,null,null,null,null,null,null,null,null,null,null,null,null,"Suma de Cob",{"$f":"SUM(AF39:AF41)","v":0},{"$f":"SUM(AG39:AG41)","v":0}]
[null,null,null,null,"Esperado",{"$f":"E45*(1-B35)","v":31.300499999999996},{"$f":"E45*B35","v":6.6394999999999991},null,null,null,null,null,null,null,null,null,null,null,null,null,null,null,null,null,null,null,null,null,null,null,"Esperado",{"$f":"AE45*(1-X35)","v":0},{"$f":"AE45*X35","v":0}]
[null,null,null,null,"Faltante",{"$f":"+F47-F46","v":-9.4999999999991758E-3},{"$f":"G47-G46","v":-1.0500000000001286E-2},null,null,"Prima comercial con ajuste","Prima comercial con ajuste de prima mínima",null,null,null,null,null,null,null,null,null,null,null,null,null,null,null,null,null,null,null,"Faltante",{"$f":"AF47-AF46","v":0},{"$f":"AG47-AG46","v":0}]
["COBERTURAS TOTALES (TODO RIESGO)",null,null,null,null,null,null,null,null,null,"Dólares","Soles"]
["Incendio y/o rayo, explosión. Daños por agua, daños por humo, impacto de vehículos y/o aeronaves",null,null,null,null,null,null,null,{"$f":"+I11+I39","v":114.93},{"$f":"+J11+J39","v":114.8605},{"$f":"+IF(J59<F61,(J50+J61),J50)","v":114.8605},{"$f":"+IF(J59<F62,(J50+J62),J50)","v":114.8605}]
["Terremoto, temblor, maremoto, Inundaciones y riesgos de la naturaleza",null,null,null,null,null,null,null,{"$f":"+I12+I40","v":447.79},{"$f":"+J12+J40","v":447.79},{"$f":"+J51","v":447.79},{"$f":"+J51","v":447.79}]
["Responsabilidad Civil frente a terceros",null,null,null,null,null,null,null,{"$f":"+I13","v":2.0299999999999998},{"$f":"+J13","v":2.0299999999999998},{"$f":"+J52","v":2.0299999999999998},{"$f":"+J52","v":2.0299999999999998}]
["Rotura accidental de vidrio y/o cristales",null,null,null,null,null,null,null,4.46,{"$f":"+J14","v":4.46},4.46,4.46]
["Robo o intento de robo de instalaciones fijas",null,null,null,null,null,null,null,0.36,{"$f":"+J15","v":0.36},0.36,0.36]
["Reembolso de gastos médicos por accidentes de trabajadores del hogar",null,null,null,null,null,null,null,0.96,0,0,0]
["Gasto de arrendamiento de vivienda temporal",null,null,null,null,null,null,null,1.48,0,0,0]
["Alquiler no  percibido por inmueble inhabitable temporalmente",null,null,null,null,null,null,null,1.48,0,{"$f":"+J57","v":0},0]
["Asistencias",null,null,null,null,null,null,null,{"$f":"+I19+I41","v":5.75},{"$f":"+J19+J41","v":5.75},5.75,5.75]
["TOTAL",null,null,null,null,null,null,null,{"$f":"SUM(I50:I58)","v":579.24000000000012},{"$f":"SUM(J50:J58)","v":575.25049999999999},{"$f":"SUM(K50:K58)","v":575.25049999999999},{"$f":"SUM(L50:L58)","v":575.25049999999999}]
[]
[null,null,null,null,"Prima comercial mínima dólares",51.5,null,null,null,{"$f":"+F61-J59","v":-523.75049999999999}]
[null,null,null,null,"Prima comercial mínima soles",154.5,null,null,null,{"$f":"+F62-J59","v":-420.75049999999999}]
["Tipo de bien: Bienes con robo","Corredores",null,null,null,null,null,null,null,null,null,null,null,null,null,null,null,null,null,null,null,null,"Tipo de bien: Bienes con robo","Corredores","Corredores","NNDD","NNDD"]
["Gastos generales",{"$f":"tasas!$O$65","v":0.15},null,null,null,null,null,null,null,null,null,null,null,null,null,null,null,null,null,null,null,null,"Gastos generales",0.15,0.15,0.15,0.15]
["Gastos de comercialización",{"$f":"tasas!$O$66","v":0.05},null,null,null,null,null,null,null,null,null,null,null,null,null,null,null,null,null,null,null,null,"Gastos de comercialización",0.05,0.05,0.05,0.05]
["Comisión local",{"$f":"tasas!$O$67","v":0.17499999999999999},null,null,null,null,null,null,null,null,null,null,null,null,null,null,null,null,null,null,null,null,"Comisión local",0.2,0.2,0,0]
["Utilidad antes de Imp",{"$f":"tasas!$O$68","v":0.1},null,null,null,null,null,null,null,null,null,null,null,null,null,null,null,null,null,null,null,null,"Utilidad antes de Imp",9.4818600000000003E-2,9.4818618872647503E-2,0.29477880000000001,0.29477881366445952]
["Tasa comercial %o",{"$f":"+B69/(1-(B64+B65+B66+B67))","v":5.3121527114371379},null,"Tasa Comercial","Prima Neta","Prima","Comisión",null,"Operativas","Prima comercial con ajuste","Prima comercial con ajuste de prima mínima",null,null,null,null,null,null,null,null,null,null,null,"Tasa comercial %o",{"$f":"+X69/(1-(X64+X65+X66+X67))","v":4.9999008277026826},{"$f":"+SUM(Y70:Y73)","v":{"$error":"#REF!"}},{"$f":"+Z69/(1-(Z64+Z65+Z66+Z67))","v":4.9995069486395263},{"$f":"+SUM(AA70:AA73)","v":{"$error":"#REF!"}},null,null,"Tasa Comercial","Prima Neta","Prima","Comisión"]
["Tasa de Riesgo %o",{"$f":"+SUM(B70:B73)","v":2.7888801735044977},null,null,null,null,null,null,null,null,"Dólares","Soles",null,null,null,null,null,null,null,null,null,null,"Tasa de Riesgo %o",{"$f":"+SUM(X70:X73)","v":2.5258569},null,{"$f":"+SUM(Z70:Z73)","v":2.5258569}]
["Robo y/o daños por intento de robo de bienes ",{"$f":"tasas!$O$71","v":2.3064046957840652},null,{"$f":"B70/(1-(B64+B65+B66+B67))","v":4.393151801493457},{"$f":"ROUND(E31*D70/1000,2)","v":43.93},{"$f":"ROUND(E70*(1-B66),2)","v":36.24},{"$f":"ROUND(E70*B66,2)","v":7.69},null,{"$f":"+ROUND(E70*1.03,2)","v":45.25},{"$f":"+I70","v":45.25},{"$f":"IF(J70=0,0,IF(J75<F84,(J70+J84),J70))","v":45.25},{"$f":"IF(J70=0,0,IF(J75<F85,(J70+J85),J70))","v":145.17000000000002},null,null,null,null,null,null,null,null,null,null,"Robo y/o daños por intento de robo de bienes ",2.4425075000000001,{"$f":"+X70/(1-(#REF!+#REF!+#REF!+#REF!))","v":{"$error":"#REF!"}},2.4425075000000001,{"$f":"+Z70/(1-(#REF!+#REF!+#REF!+#REF!))","v":{"$error":"#REF!"}},null,null,{"$f":"X70/(1-(X64+X65+X66+X67))","v":4.8349117762451268},{"$f":"ROUND(AE31*AD70/1000,2)","v":0},{"$f":"ROUND(AE70*(1-X66),2)","v":0},{"$f":"ROUND(AE70*X66,2)","v":0}]
["Robo y/o daños por intento de robo de joyas, platería, relojes, obras de arte, cámaras fotográficas o de video, laptops y bicicletas dentro de la vivienda o que estén siendo portados fuera de la vivienda",{"$f":"tasas!$O$72","v":0.22247402852806913},null,{"$f":"B71/(1-(B64+B65+B66+B67))","v":0.42376005433917929},{"$f":"ROUND(E31*D71/1000,2)","v":4.24},{"$f":"ROUND(E71*(1-B66),2)","v":3.5},{"$f":"ROUND(E71*B66,2)","v":0.74},null,{"$f":"+ROUND(E71*1.03,2)","v":4.37},{"$f":"+I71","v":4.37},{"$f":"+J71","v":4.37},{"$f":"+J71","v":4.37},null,null,null,null,null,null,null,null,null,null,"Robo y/o daños por intento de robo de bienes especiales: joyas, platería, relojes, obras de arte, cámaras fotográficas o de video, laptops y bicicletas dentro de la vivienda o que estén siendo portados fuera de la vivienda",6.2311999999999999E-2,{"$f":"+X71/(1-(#REF!+#REF!+#REF!+#REF!))","v":{"$error":"#REF!"}},6.2311999999999999E-2,{"$f":"+Z71/(1-(#REF!+#REF!+#REF!+#REF!))","v":{"$error":"#REF!"}},null,null,{"$f":"X71/(1-(X64+X65+X66+X67))","v":0.12334579222433763},{"$f":"ROUND(AE31*AD71/1000,2)","v":0},{"$f":"ROUND(AE71*(1-X66),2)","v":0},{"$f":"ROUND(AE71*X66,2)","v":0}]
["Hurto",{"$f":"tasas!$O$73","v":0.25330726214356974},null,{"$f":"B72/(1-(B64+B65+B66+B67))","v":0.48249002313060901},{"$f":"ROUND(E31*D72/1000,2)","v":4.82},{"$f":"ROUND(E72*(1-B66),2)","v":3.98},{"$f":"ROUND(E72*B66,2)","v":0.84},null,4.96,{"$f":"+I72","v":4.96},{"$f":"+J72","v":4.96},{"$f":"+J72","v":4.96},null,null,null,null,null,null,null,null,null,null,"Hurto",1.3968700000000001E-2,{"$f":"+X72/(1-(#REF!+#REF!+#REF!+#REF!))","v":{"$error":"#REF!"}},1.3968700000000001E-2,{"$f":"+Z72/(1-(#REF!+#REF!+#REF!+#REF!))","v":{"$error":"#REF!"}},null,null,{"$f":"X72/(1-(X64+X65+X66+X67))","v":2.7650859671397247E-2},{"$f":"ROUND(AE31*AD72/1000,2)","v":0},{"$f":"ROUND(AE72*(1-X66),2)","v":0},{"$f":"ROUND(AE72*X66,2)","v":0}]
["Deshonestidad de trabajadores del hogar",{"$f":"tasas!$O$74","v":6.6941870487933512E-3},null,{"$f":"B73/(1-(B64+B65+B66+B67))","v":1.2750832473892098E-2},{"$f":"ROUND(E31*D73/1000,2)","v":0.13},{"$f":"ROUND(E73*(1-B66),2)","v":0.11},{"$f":"ROUND(E73*B66,2)","v":0.02},null,{"$f":"+ROUND(E73*1.03,2)","v":0.13},0,0,{"$f":"+J73","v":0},null,null,null,null,null,null,null,null,null,null,"Deshonestidad de trabajadores del hogar",7.0686999999999998E-3,{"$f":"+X73/(1-(#REF!+#REF!+#REF!+#REF!))","v":{"$error":"#REF!"}},7.0686999999999998E-3,{"$f":"+Z73/(1-(#REF!+#REF!+#REF!+#REF!))","v":{"$error":"#REF!"}},null,null,{"$f":"X73/(1-(X64+X65+X66+X67))","v":1.3992399561820763E-2},{"$f":"ROUND(AE31*AD73/1000,2)","v":0},{"$f":"ROUND(AE73*(1-X66),2)","v":0},{"$f":"ROUND(AE73*X66,2)","v":0}]
[]
[null,null,null,{"$f":"B69/(1-(B64+B65+B66+B67))","v":5.3121527114371379},{"$f":"ROUND(E31*D75/1000,2)","v":53.12},{"$f":"ROUND(E75*(1-B66),2)","v":43.82},{"$f":"ROUND(E75*B66,2)","v":9.3000000000000007},null,{"$f":"SUM(I70:I74)","v":54.71},{"$f":"SUM(J70:J74)","v":54.58},{"$f":"SUM(K70:K74)","v":54.58},{"$f":"SUM(L70:L74)","v":154.50000000000003},null,null,null,null,null,null,null,null,null,null,null,null,null,null,null,null,null,{"$f":"X69/(1-(X64+X65+X66+X67))","v":4.9999008277026826},{"$f":"ROUND(AE31*AD75/1000,2)","v":0},{"$f":"ROUND(AE75*(1-X66),2)","v":0},{"$f":"ROUND(AE75*X66,2)","v":0}]
[]
[]
[]
[]
[null,null,null,"TOTAL COMPLETA 1",{"$f":"E23+E45+E75","v":615.43999999999994},{"$f":"IF(F82<>F81,F81,F82)","v":0},{"$f":"IF(G82<>G81,G81,G82)","v":0},null,null,null,null,null,null,null,null,null,null,null,null,null,null,null,null,null,null,null,null,null,null,"TOTAL COMPLETA 1",{"$f":"AE23+AE45+AE75","v":0},{"$f":"IF(AF82<>AF81,AF81,AF82)","v":{"$error":"#REF!"}},{"$f":"IF(AG82<>AG81,AG81,AG82)","v":{"$error":"#REF!"}}]
[null,null,null,null,"Suma Ajustada",null,null,null,null,null,null,null,null,null,null,null,null,null,null,null,null,null,null,null,null,null,null,null,null,null,"Suma Ajustada",{"$f":"#REF!+#REF!","v":{"$error":"#REF!"}},{"$f":"#REF!+#REF!","v":{"$error":"#REF!"}}]
[null,null,null,null,"Suma Esperada",{"$f":"F23+F45+F75","v":507.73},{"$f":"G23+G45+G75","v":107.71},null,null,null,null,null,null,null,null,null,null,null,null,null,null,null,null,null,null,null,null,null,null,null,"Suma Esperada",{"$f":"AF23+AF45+AF75","v":0},{"$f":"AG23+AG45+AG75","v":0}]
[]
[null,null,null,null,"Prima comercial mínima dólares",51.5,null,null,null,{"$f":"+F84-J75","v":-3.0799999999999983}]
[null,null,null,null,"Prima comercial mínima soles",154.5,null,null,null,{"$f":"+F85-J75","v":99.92}]
[]
[null,null,null,null,null,{"$f":"+F85*2","v":309}]
[]
["Tipo de bien: Inmueble","tasa de riesgo",null,"COMPLETA 2 - Inmueble",null,null,null,null,null,null,null,null,null,null,null,null,null,null,null,null,null,null,"Tipo de bien: Inmueble","tasa de riesgo","tasa comercial","tasa de riesgo","tasa comercial",null,null,"COMPLETA 2 - Inmueble"]
[null,"Corredores",null,null,null,null,null,null,null,null,null,null,null,null,null,null,null,null,null,null,null,null,null,"Corredores","Corredores","NNDD","NNDD"]
["Gastos generales",3.0672899999999999E-2,null,null,null,null,null,null,null,null,null,null,null,null,null,null,null,null,null,null,null,null,"Gastos generales",3.0672899999999999E-2,3.0672905132556546E-2,0.15,0.15]
["Gastos de comercialización",0,null,null,null,null,null,null,null,null,null,null,null,null,null,null,null,null,null,null,null,null,"Gastos de comercialización",0,0,0.05,0.05]
["Comisión local",0.2,null,null,null,null,null,null,null,null,null,null,null,null,null,null,null,null,null,null,null,null,"Comisión local",0.2,0.2,0,0]
["Utilidad antes de Imp",0,null,null,null,null,null,null,null,null,null,null,null,null,null,null,null,null,null,null,null,null,"Utilidad antes de Imp",0,0,3.0656800000000001E-2,3.0656799711687509E-2]
["Tasa comercial %o",{"$f":"+B96/(1-(B91+B92+B93+B94))","v":2.2000583366944961},null,"Tasa Comercial","Prima Neta","Prima","Comisión",null,null,null,null,null,null,null,null,null,null,null,null,null,null,null,"Tasa comercial %o",{"$f":"+X96/(1-(X91+X92+X93+X94))","v":2.2000583366944961},{"$f":"+SUM(Y97:Y107)","v":{"$error":"#REF!"}},{"$f":"+Z96/(1-(Z91+Z92+Z93+Z94))","v":2.2000120362407829},{"$f":"+SUM(AA97:AA107)","v":{"$error":"#REF!"}},null,null,"Tasa Comercial","Prima Neta","Prima","Comisión"]
["Tasa de Riesgo %o",{"$f":"+SUM(B97:B107)","v":1.6925645},null,null,null,null,null,null,null,null,null,null,null,null,null,null,null,null,null,null,null,null,"Tasa de Riesgo %o",{"$f":"+SUM(X97:X107)","v":1.6925645},null,{"$f":"+SUM(Z97:Z107)","v":1.6925642999999999}]
["Incendio y/o rayo, explosión. Daños por agua, daños por humo, impacto de vehículos y/o aeronaves",0.56119669999999999,null,{"$f":"B97/(1-(B91+B92+B93+B94))","v":0.7294643591783001},{"$f":"ROUND(E89*D97/1000,2)","v":0},{"$f":"ROUND(E97*(1-B93),2)","v":0},{"$f":"ROUND(E97*B93,2)","v":0},null,null,null,null,null,null,null,null,null,null,null,null,null,null,null,"Incendio y/o rayo, explosión. Daños por agua, daños por humo, impacto de vehículos y/o aeronaves",0.56119669999999999,{"$f":"+X97/(1-(#REF!+#REF!+#REF!+#REF!))","v":{"$error":"#REF!"}},0.56119669999999999,{"$f":"+Z97/(1-(#REF!+#REF!+#REF!+#REF!))","v":{"$error":"#REF!"}},null,null,{"$f":"X97/(1-(X91+X92+X93+X94))","v":0.7294643591783001},{"$f":"ROUND(AE89*AD97/1000,2)","v":0},{"$f":"ROUND(AE97*(1-X93),2)","v":0},{"$f":"ROUND(AE97*X93,2)","v":0}]
["Terremoto, temblor",0.92508789999999996,null,{"$f":"B98/(1-(B91+B92+B93+B94))","v":1.2024636854726682},{"$f":"ROUND(E89*D98/1000,2)","v":0},{"$f":"ROUND(E98*(1-B93),2)","v":0},{"$f":"ROUND(E98*B93,2)","v":0},null,null,null,null,null,null,null,null,null,null,null,null,null,null,null,"Terremoto, temblor",0.92508789999999996,{"$f":"+X98/(1-(#REF!+#REF!+#REF!+#REF!))","v":{"$error":"#REF!"}},0.92508789999999996,{"$f":"+Z98/(1-(#REF!+#REF!+#REF!+#REF!))","v":{"$error":"#REF!"}},null,null,{"$f":"X98/(1-(X91+X92+X93+X94))","v":1.2024636854726682},{"$f":"ROUND(AE89*AD98/1000,2)","v":0},{"$f":"ROUND(AE98*(1-X93),2)","v":0},{"$f":"ROUND(AE98*X93,2)","v":0}]
["Riesgos de la naturaleza",0.1027875,null,{"$f":"B99/(1-(B91+B92+B93+B94))","v":0.13360701839308664},{"$f":"ROUND(E89*D99/1000,2)","v":0},{"$f":"ROUND(E99*(1-B93),2)","v":0},{"$f":"ROUND(E99*B93,2)","v":0},null,null,null,null,null,null,null,null,null,null,null,null,null,null,null,"Riesgos de la naturaleza",0.1027875,{"$f":"+X99/(1-(#REF!+#REF!+#REF!+#REF!))","v":{"$error":"#REF!"}},0.1027875,{"$f":"+Z99/(1-(#REF!+#REF!+#REF!+#REF!))","v":{"$error":"#REF!"}},null,null,{"$f":"X99/(1-(X91+X92+X93+X94))","v":0.13360701839308664},{"$f":"ROUND(AE89*AD99/1000,2)","v":0},{"$f":"ROUND(AE99*(1-X93),2)","v":0},{"$f":"ROUND(AE99*X93,2)","v":0}]
["Riesgos políticos y sociales",5.0000000000000001E-3,null,{"$f":"B100/(1-(B91+B92+B93+B94))","v":6.4991861069238306E-3},{"$f":"ROUND(E89*D100/1000,2)","v":0},{"$f":"ROUND(E100*(1-B93),2)","v":0},{"$f":"ROUND(E100*B93,2)","v":0},null,null,null,null,null,null,null,null,null,null,null,null,null,null,null,"Riesgos políticos y sociales",5.0000000000000001E-3,{"$f":"+X100/(1-(#REF!+#REF!+#REF!+#REF!))","v":{"$error":"#REF!"}},5.0000000000000001E-3,{"$f":"+Z100/(1-(#REF!+#REF!+#REF!+#REF!))","v":{"$error":"#REF!"}},null,null,{"$f":"X100/(1-(X91+X92+X93+X94))","v":6.4991861069238306E-3},{"$f":"ROUND(AE89*AD100/1000,2)","v":0},{"$f":"ROUND(AE100*(1-X93),2)","v":0},{"$f":"ROUND(AE100*X93,2)","v":0}]
["Responsabilidad Civil frente a terceros",6.267E-3,null,{"$f":"B101/(1-(B91+B92+B93+B94))","v":8.14607986641833E-3},{"$f":"ROUND(E89*D101/1000,2)","v":0},{"$f":"ROUND(E101*(1-B93),2)","v":0},{"$f":"ROUND(E101*B93,2)","v":0},null,null,null,null,null,null,null,null,null,null,null,null,null,null,null,"Responsabilidad Civil frente a terceros",6.267E-3,{"$f":"+X101/(1-(#REF!+#REF!+#REF!+#REF!))","v":{"$error":"#REF!"}},6.267E-3,{"$f":"+Z101/(1-(#REF!+#REF!+#REF!+#REF!))","v":{"$error":"#REF!"}},null,null,{"$f":"X101/(1-(X91+X92+X93+X94))","v":8.14607986641833E-3},{"$f":"ROUND(AE89*AD101/1000,2)","v":0},{"$f":"ROUND(AE101*(1-X93),2)","v":0},{"$f":"ROUND(AE101*X93,2)","v":0}]
["Rotura accidental de vidrio y/o cristales",1.7274100000000001E-2,null,{"$f":"B102/(1-(B91+B92+B93+B94))","v":2.2453518145922589E-2},{"$f":"ROUND(E89*D102/1000,2)","v":0},{"$f":"ROUND(E102*(1-B93),2)","v":0},{"$f":"ROUND(E102*B93,2)","v":0},null,null,null,null,null,null,null,null,null,null,null,null,null,null,null,"Rotura accidental de vidrio y/o cristales",1.7274100000000001E-2,{"$f":"+X102/(1-(#REF!+#REF!+#REF!+#REF!))","v":{"$error":"#REF!"}},1.7274100000000001E-2,{"$f":"+Z102/(1-(#REF!+#REF!+#REF!+#REF!))","v":{"$error":"#REF!"}},null,null,{"$f":"X102/(1-(X91+X92+X93+X94))","v":2.2453518145922589E-2},{"$f":"ROUND(AE89*AD102/1000,2)","v":0},{"$f":"ROUND(AE102*(1-X93),2)","v":0},{"$f":"ROUND(AE102*X93,2)","v":0}]
["Robo o intento de robo de instalaciones fijas",3.6160000000000001E-4,null,{"$f":"B103/(1-(B91+B92+B93+B94))","v":4.7002113925273141E-4},{"$f":"ROUND(E89*D103/1000,2)","v":0},{"$f":"ROUND(E103*(1-B93),2)","v":0},{"$f":"ROUND(E103*B93,2)","v":0},null,null,null,null,null,null,null,null,null,null,null,null,null,null,null,"Robo o intento de robo de instalaciones fijas",3.6160000000000001E-4,{"$f":"+X103/(1-(#REF!+#REF!+#REF!+#REF!))","v":{"$error":"#REF!"}},3.6160000000000001E-4,{"$f":"+Z103/(1-(#REF!+#REF!+#REF!+#REF!))","v":{"$error":"#REF!"}},null,null,{"$f":"X103/(1-(X91+X92+X93+X94))","v":4.7002113925273141E-4},{"$f":"ROUND(AE89*AD103/1000,2)","v":0},{"$f":"ROUND(AE103*(1-X93),2)","v":0},{"$f":"ROUND(AE103*X93,2)","v":0}]
["Reembolso de gastos médicos por accidentes de trabajadores del hogar",2.9409000000000002E-3,null,{"$f":"B104/(1-(B91+B92+B93+B94))","v":3.8226912843704591E-3},{"$f":"ROUND(E89*D104/1000,2)","v":0},{"$f":"ROUND(E104*(1-B93),2)","v":0},{"$f":"ROUND(E104*B93,2)","v":0},null,null,null,null,null,null,null,null,null,null,null,null,null,null,null,"Reembolso de gastos médicos por accidentes de trabajadores del hogar",2.9409000000000002E-3,{"$f":"+X104/(1-(#REF!+#REF!+#REF!+#REF!))","v":{"$error":"#REF!"}},2.9409000000000002E-3,{"$f":"+Z104/(1-(#REF!+#REF!+#REF!+#REF!))","v":{"$error":"#REF!"}},null,null,{"$f":"X104/(1-(X91+X92+X93+X94))","v":3.8226912843704591E-3},{"$f":"ROUND(AE89*AD104/1000,2)","v":0},{"$f":"ROUND(AE104*(1-X93),2)","v":0},{"$f":"ROUND(AE104*X93,2)","v":0}]
["Gasto de arrendamiento de vivienda temporal",4.5742999999999999E-3,null,{"$f":"B105/(1-(B91+B92+B93+B94))","v":5.9458454017803355E-3},{"$f":"ROUND(E89*D105/1000,2)","v":0},{"$f":"ROUND(E105*(1-B93),2)","v":0},{"$f":"ROUND(E105*B93,2)","v":0},null,null,null,null,null,null,null,null,null,null,null,null,null,null,null,"Gasto de arrendamiento de vivienda temporal",4.5742999999999999E-3,{"$f":"+X105/(1-(#REF!+#REF!+#REF!+#REF!))","v":{"$error":"#REF!"}},4.5742999999999999E-3,{"$f":"+Z105/(1-(#REF!+#REF!+#REF!+#REF!))","v":{"$error":"#REF!"}},null,null,{"$f":"X105/(1-(X91+X92+X93+X94))","v":5.9458454017803355E-3},{"$f":"ROUND(AE89*AD105/1000,2)","v":0},{"$f":"ROUND(AE105*(1-X93),2)","v":0},{"$f":"ROUND(AE105*X93,2)","v":0}]
["Alquiler no  percibido por inmueble inhabitable temporalmente",4.5742999999999999E-3,null,{"$f":"B106/(1-(B91+B92+B93+B94))","v":5.9458454017803355E-3},{"$f":"ROUND(E89*D106/1000,2)","v":0},{"$f":"ROUND(E106*(1-B93),2)","v":0},{"$f":"ROUND(E106*B93,2)","v":0},null,null,null,null,null,null,null,null,null,null,null,null,null,null,null,"Alquiler no  percibido por inmueble inhabitable temporalmente",4.5742999999999999E-3,{"$f":"+X106/(1-(#REF!+#REF!+#REF!+#REF!))","v":{"$error":"#REF!"}},4.5742999999999999E-3,{"$f":"+Z106/(1-(#REF!+#REF!+#REF!+#REF!))","v":{"$error":"#REF!"}},null,null,{"$f":"X106/(1-(X91+X92+X93+X94))","v":5.9458454017803355E-3},{"$f":"ROUND(AE89*AD106/1000,2)","v":0},{"$f":"ROUND(AE106*(1-X93),2)","v":0},{"$f":"ROUND(AE106*X93,2)","v":0}]
["Asistencias",6.2500200000000006E-2,null,null,{"$f":"E109*B108","v":0},{"$f":"F109*B108","v":0},{"$f":"G109*B108","v":0},null,null,null,null,null,null,null,null,null,null,null,null,null,null,null,"Asistencias",6.2500200000000006E-2,{"$f":"+X107/(1-(#REF!+#REF!+#REF!+#REF!))","v":{"$error":"#REF!"}},6.25E-2,{"$f":"+Z107/(1-(#REF!+#REF!+#REF!+#REF!))","v":{"$error":"#REF!"}},null,null,null,{"$f":"AE109*X108","v":0},{"$f":"AF109*X108","v":0},{"$f":"AG109*X108","v":0}]
["Cantidad de asistencias",6,null,null,null,null,null,null,null,null,null,null,null,null,null,null,null,null,null,null,null,null,"Cantidad de asistencias",6,6,6,6]
["Tasa por asistencia",{"$f":"B107/B108","v":1.0416700000000001E-2},null,{"$f":"B109/(1-(B91+B92+B93+B94))","v":1.3540014383998693E-2},{"$f":"ROUND(E89*D109/1000,2)","v":0},{"$f":"ROUND(E109*(1-B93),2)","v":0},{"$f":"ROUND(E109*B93,2)","v":0},null,null,null,null,null,null,null,null,null,null,null,null,null,null,null,"Tasa por asistencia",{"$f":"X107/X108","v":1.0416700000000001E-2},{"$f":"+ROUND(Y107/Y108,7)","v":{"$error":"#REF!"}},1.0416699999999999E-2,1.0416699999999999E-2,null,null,{"$f":"X109/(1-(X91+X92+X93+X94))","v":1.3540014383998693E-2},{"$f":"ROUND(AE89*AD109/1000,2)","v":0},{"$f":"ROUND(AE109*(1-X93),2)","v":0},{"$f":"ROUND(AE109*X93,2)","v":0}]
[]
[null,null,null,{"$f":"B96/(1-(B91+B92+B93+B94))","v":2.2000583366944961},{"$f":"ROUND(E89*D111/1000,2)","v":0},{"$f":"ROUND(E111*(1-B93),2)","v":0},{"$f":"ROUND(E111*B93,2)","v":0},null,null,null,null,null,null,null,null,null,null,null,null,null,null,null,null,null,null,null,null,null,null,{"$f":"X96/(1-(X91+X92+X93+X94))","v":2.2000583366944961},{"$f":"ROUND(AE89*AD111/1000,2)","v":0},{"$f":"ROUND(AE111*(1-X93),2)","v":0},{"$f":"ROUND(AE111*X93,2)","v":0}]
[null,null,null,null,"Suma de Cob",{"$f":"SUM(F97:F107)","v":0},{"$f":"SUM(G97:G107)","v":0},null,null,null,null,null,null,null,null,null,null,null,null,null,null,null,null,null,null,null,null,null,null,null,"Suma de Cob",{"$f":"SUM(AF97:AF107)","v":0},{"$f":"SUM(AG97:AG107)","v":0}]
[null,null,null,null,"Esperado",{"$f":"E111*(1-B93)","v":0},{"$f":"E111*B93","v":0},null,null,null,null,null,null,null,null,null,null,null,null,null,null,null,null,null,null,null,null,null,null,null,"Esperado",{"$f":"AE111*(1-X93)","v":0},{"$f":"AE111*X93","v":0}]
[null,null,null,null,"Faltante",{"$f":"F113-F112","v":0},{"$f":"G113-G112","v":0},null,null,null,null,null,null,null,null,null,null,null,null,null,null,null,null,null,null,null,null,null,null,null,"Faltante",{"$f":"AF113-AF112","v":0},{"$f":"AG113-AG112","v":0}]
[]
[]
[]
["Tipo de bien: Bienes","tasa de riesgo",null,"COMPLETA 2 - Contenido",null,null,null,null,null,null,null,null,null,null,null,null,null,null,null,null,null,null,"Tipo de bien: Bienes","tasa de riesgo","tasa comercial","tasa de riesgo","tasa comercial",null,null,"COMPLETA 2 - Contenido"]
[null,"Corredores",null,null,null,null,null,null,null,null,null,null,null,null,null,null,null,null,null,null,null,null,null,"Corredores","Corredores","NNDD","NNDD"]
["Gastos generales",0.1142203,null,null,null,null,null,null,null,null,null,null,null,null,null,null,null,null,null,null,null,null,"Gastos generales",0.1142203,3.0672905132556546E-2,0.13963639999999999,0.15]
["Gastos de comercialización",0,null,null,null,null,null,null,null,null,null,null,null,null,null,null,null,null,null,null,null,null,"Gastos de comercialización",0,0,0.05,0.05]
["Comisión local",0.2,null,null,null,null,null,null,null,null,null,null,null,null,null,null,null,null,null,null,null,null,"Comisión local",0.2,0.2,0,0]
["Utilidad antes de Imp",0,null,null,null,null,null,null,null,null,null,null,null,null,null,null,null,null,null,null,null,null,"Utilidad antes de Imp",0,0,0,3.0656799711687509E-2]
["Tasa comercial %o",{"$f":"+B125/(1-(B120+B121+B122+B123))","v":2.2000875791453143},null,"Tasa Comercial","Prima Neta","Prima","Comisión",null,null,null,null,null,null,null,null,null,null,null,null,null,null,null,"Tasa comercial %o",{"$f":"+X125/(1-(X120+X121+X122+X123))","v":2.2000875791453143},{"$f":"+SUM(Y126:Y130)","v":{"$error":"#REF!"}},{"$f":"+Z125/(1-(Z120+Z121+Z122+Z123))","v":2.2003151424866565},{"$f":"+SUM(AA126:AA130)","v":{"$error":"#REF!"}},null,null,"Tasa Comercial","Prima Neta","Prima","Comisión"]
["Tasa de Riesgo %o",{"$f":"+SUM(B126:B130)","v":1.5087753999999998},null,null,null,null,null,null,null,null,null,null,null,null,null,null,null,null,null,null,null,null,"Tasa de Riesgo %o",{"$f":"+SUM(X126:X130)","v":1.5087753999999998},null,{"$f":"+SUM(Z126:Z130)","v":1.7830553}]
["Incendio y/o rayo, explosión. Daños por agua, daños por humo, impacto de vehículos y/o aeronaves",0.41339979999999998,null,{"$f":"B126/(1-(B120+B121+B122+B123))","v":0.60281720208399281},{"$f":"ROUND(E118*D126/1000, 2)","v":0},{"$f":"ROUND(E126*(1-B122),2)","v":0},{"$f":"ROUND(E126*B122,2)","v":0},null,null,null,null,null,null,null,null,null,null,null,null,null,null,null,"Incendio y/o rayo, explosión. Daños por agua, daños por humo, impacto de vehículos y/o aeronaves",0.41339979999999998,{"$f":"+X126/(1-(#REF!+#REF!+#REF!+#REF!))","v":{"$error":"#REF!"}},0.41339979999999998,{"$f":"+Z126/(1-(#REF!+#REF!+#REF!+#REF!))","v":{"$error":"#REF!"}},null,null,{"$f":"X126/(1-(X120+X121+X122+X123))","v":0.60281720208399281},{"$f":"ROUND(AE118*AD126/1000, 2)","v":0},{"$f":"ROUND(AE126*(1-X122),2)","v":0},{"$f":"ROUND(AE126*X122,2)","v":0}]
["Terremoto, temblor",0.92508789999999996,null,{"$f":"B127/(1-(B120+B121+B122+B123))","v":1.3489578358764482},{"$f":"ROUND(E118*D127/1000,2)","v":0},{"$f":"ROUND(E127*(1-B122),2)","v":0},{"$f":"ROUND(E127*B122,2)","v":0},null,null,null,null,null,null,null,null,null,null,null,null,null,null,null,"Terremoto, temblor",0.92508789999999996,{"$f":"+X127/(1-(#REF!+#REF!+#REF!+#REF!))","v":{"$error":"#REF!"}},0.92508789999999996,{"$f":"+Z127/(1-(#REF!+#REF!+#REF!+#REF!))","v":{"$error":"#REF!"}},null,null,{"$f":"X127/(1-(X120+X121+X122+X123))","v":1.3489578358764482},{"$f":"ROUND(AE118*AD127/1000,2)","v":0},{"$f":"ROUND(AE127*(1-X122),2)","v":0},{"$f":"ROUND(AE127*X122,2)","v":0}]
["Riesgos de la naturaleza",0.1027875,null,{"$f":"B128/(1-(B120+B121+B122+B123))","v":0.14988413917763971},{"$f":"ROUND(E118*D128/1000,2)","v":0},{"$f":"ROUND(E128*(1-B122),2)","v":0},{"$f":"ROUND(E128*B122,2)","v":0},null,null,null,null,null,null,null,null,null,null,null,null,null,null,null,"Riesgos de la naturaleza",0.1027875,{"$f":"+X128/(1-(#REF!+#REF!+#REF!+#REF!))","v":{"$error":"#REF!"}},0.1027875,{"$f":"+Z128/(1-(#REF!+#REF!+#REF!+#REF!))","v":{"$error":"#REF!"}},null,null,{"$f":"X128/(1-(X120+X121+X122+X123))","v":0.14988413917763971},{"$f":"ROUND(AE118*AD128/1000,2)","v":0},{"$f":"ROUND(AE128*(1-X122),2)","v":0},{"$f":"ROUND(AE128*X122,2)","v":0}]
["Riesgos políticos y sociales",5.0000000000000001E-3,null,{"$f":"B129/(1-(B120+B121+B122+B123))","v":7.2909711383991101E-3},{"$f":"ROUND(E118*D129/1000,2)","v":0},{"$f":"ROUND(E129*(1-B122),2)","v":0},{"$f":"ROUND(E129*B122,2)","v":0},null,null,null,null,null,null,null,null,null,null,null,null,null,null,null,"Riesgos políticos y sociales",5.0000000000000001E-3,{"$f":"+X129/(1-(#REF!+#REF!+#REF!+#REF!))","v":{"$error":"#REF!"}},5.0000000000000001E-3,{"$f":"+Z129/(1-(#REF!+#REF!+#REF!+#REF!))","v":{"$error":"#REF!"}},null,null,{"$f":"X129/(1-(X120+X121+X122+X123))","v":7.2909711383991101E-3},{"$f":"ROUND(AE118*AD129/1000,2)","v":0},{"$f":"ROUND(AE129*(1-X122),2)","v":0},{"$f":"ROUND(AE129*X122,2)","v":0}]
["Asistencias",6.2500200000000006E-2,null,null,{"$f":"E132*B131","v":0},{"$f":"F132*B131","v":0},{"$f":"G132*B131","v":0},null,null,null,null,null,null,null,null,null,null,null,null,null,null,null,"Asistencias",6.2500200000000006E-2,{"$f":"+X130/(1-(#REF!+#REF!+#REF!+#REF!))","v":{"$error":"#REF!"}},0.33678010000000003,{"$f":"+Z130/(1-(#REF!+#REF!+#REF!+#REF!))","v":{"$error":"#REF!"}},null,null,null,{"$f":"AE132*X131","v":0},{"$f":"AF132*X131","v":0},{"$f":"AG132*X131","v":0}]
["Cantidad de asistencias",6,null,null,null,null,null,null,null,null,null,null,null,null,null,null,null,null,null,null,null,null,"Cantidad de asistencias",6,6,6,6]
["Tasa por asistencia",{"$f":"B130/B131","v":1.0416700000000001E-2},null,{"$f":"B132/(1-(B120+B121+B122+B123))","v":1.5189571811472404E-2},{"$f":"ROUND(E118*D132/1000,2)","v":0},{"$f":"ROUND(E132*(1-B122),2)","v":0},{"$f":"ROUND(E132*B122,2)","v":0},null,null,null,null,null,null,null,null,null,null,null,null,null,null,null,"Tasa por asistencia",{"$f":"X130/X131","v":1.0416700000000001E-2},{"$f":"+ROUND(Y130/Y131,7)","v":{"$error":"#REF!"}},1.0416699999999999E-2,1.0416699999999999E-2,null,null,{"$f":"X132/(1-(X120+X121+X122+X123))","v":1.5189571811472404E-2},{"$f":"ROUND(AE118*AD132/1000,2)","v":0},{"$f":"ROUND(AE132*(1-X122),2)","v":0},{"$f":"ROUND(AE132*X122,2)","v":0}]
[]
[null,null,null,{"$f":"B125/(1-(B120+B121+B122+B123))","v":2.2000875791453143},{"$f":"ROUND(E118*D134/1000,2)","v":0},{"$f":"ROUND(E134*(1-B122),2)","v":0},{"$f":"ROUND(E134*B122,2)","v":0},null,null,null,null,null,null,null,null,null,null,null,null,null,null,null,null,null,null,null,null,null,null,{"$f":"X125/(1-(X120+X121+X122+X123))","v":2.2000875791453143},{"$f":"ROUND(AE118*AD134/1000,2)","v":0},{"$f":"ROUND(AE134*(1-X122),2)","v":0},{"$f":"ROUND(AE134*X122,2)","v":0}]
[null,null,null,null,"Suma de Cob",{"$f":"SUM(F126:F130)","v":0},{"$f":"SUM(G126:G130)","v":0},null,null,null,null,null,null,null,null,null,null,null,null,null,null,null,null,null,null,null,null,null,null,null,"Suma de Cob",{"$f":"SUM(AF126:AF130)","v":0},{"$f":"SUM(AG126:AG130)","v":0}]
[null,null,null,null,"Esperado",{"$f":"E134*(1-B122)","v":0},{"$f":"E134*B122","v":0},null,null,null,null,null,null,null,null,null,null,null,null,null,null,null,null,null,null,null,null,null,null,null,"Esperado",{"$f":"AE134*(1-X122)","v":0},{"$f":"AE134*X122","v":0}]
[null,null,null,null,"Faltante",{"$f":"F136-F135","v":0},{"$f":"G136-G135","v":0},null,null,null,null,null,null,null,null,null,null,null,null,null,null,null,null,null,null,null,null,null,null,null,"Faltante",{"$f":"AF136-AF135","v":0},{"$f":"AG136-AG135","v":0}]
[]
[]
["Tipo de bien: Bienes con robo","Corredores",null,null,null,null,null,null,null,null,null,null,null,null,null,null,null,null,null,null,null,null,"Tipo de bien: Bienes con robo","Corredores","Corredores","NNDD","NNDD"]
["Gastos generales",0.15,null,null,null,null,null,null,null,null,null,null,null,null,null,null,null,null,null,null,null,null,"Gastos generales",0.15,0.15,0.15,0.15]
["Gastos de comercialización",0.05,null,null,null,null,null,null,null,null,null,null,null,null,null,null,null,null,null,null,null,null,"Gastos de comercialización",0.05,0.05,0.05,0.05]
["Comisión local",0.2,null,null,null,null,null,null,null,null,null,null,null,null,null,null,null,null,null,null,null,null,"Comisión local",0.2,0.2,0,0]
["Utilidad antes de Imp",9.4818600000000003E-2,null,null,null,null,null,null,null,null,null,null,null,null,null,null,null,null,null,null,null,null,"Utilidad antes de Imp",9.4818600000000003E-2,9.4818618872647503E-2,0.29477880000000001,0.29477881366445952]
["Tasa comercial %o",{"$f":"+B146/(1-(B141+B142+B143+B144))","v":4.9999008277026826},null,"Tasa Comercial","Prima Neta","Prima","Comisión",null,null,null,null,null,null,null,null,null,null,null,null,null,null,null,"Tasa comercial %o",{"$f":"+X146/(1-(X141+X142+X143+X144))","v":4.9999008277026826},{"$f":"+SUM(Y147:Y150)","v":{"$error":"#REF!"}},{"$f":"+Z146/(1-(Z141+Z142+Z143+Z144))","v":4.9995069486395263},{"$f":"+SUM(AA147:AA150)","v":{"$error":"#REF!"}},null,null,"Tasa Comercial","Prima Neta","Prima","Comisión"]
["Tasa de Riesgo %o",{"$f":"+SUM(B147:B150)","v":2.5258569},null,null,null,null,null,null,null,null,null,null,null,null,null,null,null,null,null,null,null,null,"Tasa de Riesgo %o",{"$f":"+SUM(X147:X150)","v":2.5258569},null,{"$f":"+SUM(Z147:Z150)","v":2.5258569}]
["Robo y/o daños por intento de robo de bienes ",2.4425075000000001,null,{"$f":"B147/(1-(B141+B142+B143+B144))","v":4.8349117762451268},{"$f":"ROUND(E118*D147/1000,2)","v":0},{"$f":"ROUND(E147*(1-B143),2)","v":0},{"$f":"ROUND(E147*B143,2)","v":0},null,null,null,null,null,null,null,null,null,null,null,null,null,null,null,"Robo y/o daños por intento de robo de bienes ",2.4425075000000001,{"$f":"+X147/(1-(#REF!+#REF!+#REF!+#REF!))","v":{"$error":"#REF!"}},2.4425075000000001,{"$f":"+Z147/(1-(#REF!+#REF!+#REF!+#REF!))","v":{"$error":"#REF!"}},null,null,{"$f":"X147/(1-(X141+X142+X143+X144))","v":4.8349117762451268},{"$f":"ROUND(AE118*AD147/1000,2)","v":0},{"$f":"ROUND(AE147*(1-X143),2)","v":0},{"$f":"ROUND(AE147*X143,2)","v":0}]
["Robo y/o daños por intento de robo de bienes especiales: joyas, platería, relojes, obras de arte, cámaras fotográficas o de video, laptops y bicicletas dentro de la vivienda o que estén siendo portados fuera de la vivienda",6.2311999999999999E-2,null,{"$f":"B148/(1-(B141+B142+B143+B144))","v":0.12334579222433763},{"$f":"ROUND(E118*D148/1000,2)","v":0},{"$f":"ROUND(E148*(1-B143),2)","v":0},{"$f":"ROUND(E148*B143,2)","v":0},null,null,null,null,null,null,null,null,null,null,null,null,null,null,null,"Robo y/o daños por intento de robo de bienes especiales: joyas, platería, relojes, obras de arte, cámaras fotográficas o de video, laptops y bicicletas dentro de la vivienda o que estén siendo portados fuera de la vivienda",6.2311999999999999E-2,{"$f":"+X148/(1-(#REF!+#REF!+#REF!+#REF!))","v":{"$error":"#REF!"}},6.2311999999999999E-2,{"$f":"+Z148/(1-(#REF!+#REF!+#REF!+#REF!))","v":{"$error":"#REF!"}},null,null,{"$f":"X148/(1-(X141+X142+X143+X144))","v":0.12334579222433763},{"$f":"ROUND(AE118*AD148/1000,2)","v":0},{"$f":"ROUND(AE148*(1-X143),2)","v":0},{"$f":"ROUND(AE148*X143,2)","v":0}]
["Hurto",1.3968700000000001E-2,null,{"$f":"B149/(1-(B141+B142+B143+B144))","v":2.7650859671397247E-2},{"$f":"ROUND(E118*D149/1000,2)","v":0},{"$f":"ROUND(E149*(1-B143),2)","v":0},{"$f":"ROUND(E149*B143,2)","v":0},null,null,null,null,null,null,null,null,null,null,null,null,null,null,null,"Hurto",1.3968700000000001E-2,{"$f":"+X149/(1-(#REF!+#REF!+#REF!+#REF!))","v":{"$error":"#REF!"}},1.3968700000000001E-2,{"$f":"+Z149/(1-(#REF!+#REF!+#REF!+#REF!))","v":{"$error":"#REF!"}},null,null,{"$f":"X149/(1-(X141+X142+X143+X144))","v":2.7650859671397247E-2},{"$f":"ROUND(AE118*AD149/1000,2)","v":0},{"$f":"ROUND(AE149*(1-X143),2)","v":0},{"$f":"ROUND(AE149*X143,2)","v":0}]
["Deshonestidad de trabajadores del hogar",7.0686999999999998E-3,null,{"$f":"B150/(1-(B141+B142+B143+B144))","v":1.3992399561820763E-2},{"$f":"ROUND(E118*D150/1000,2)","v":0},{"$f":"ROUND(E150*(1-B143),2)","v":0},{"$f":"ROUND(E150*B143,2)","v":0},null,null,null,null,null,null,null,null,null,null,null,null,null,null,null,"Deshonestidad de trabajadores del hogar",7.0686999999999998E-3,{"$f":"+X150/(1-(#REF!+#REF!+#REF!+#REF!))","v":{"$error":"#REF!"}},7.0686999999999998E-3,{"$f":"+Z150/(1-(#REF!+#REF!+#REF!+#REF!))","v":{"$error":"#REF!"}},null,null,{"$f":"X150/(1-(X141+X142+X143+X144))","v":1.3992399561820763E-2},{"$f":"ROUND(AE118*AD150/1000,2)","v":0},{"$f":"ROUND(AE150*(1-X143),2)","v":0},{"$f":"ROUND(AE150*X143,2)","v":0}]
[]
[null,null,null,{"$f":"B146/(1-(B141+B142+B143+B144))","v":4.9999008277026826},{"$f":"ROUND(E118*D152/1000,2)","v":0},{"$f":"ROUND(E152*(1-B143),2)","v":0},{"$f":"ROUND(E152*B143,2)","v":0},null,null,null,null,null,null,null,null,null,null,null,null,null,null,null,null,null,null,null,null,null,null,{"$f":"X146/(1-(X141+X142+X143+X144))","v":4.9999008277026826},{"$f":"ROUND(AE118*AD152/1000,2)","v":0},{"$f":"ROUND(AE152*(1-X143),2)","v":0},{"$f":"ROUND(AE152*X143,2)","v":0}]
[]
[null,null,null,"TOTAL COMPLETA 2",{"$f":"E111+E134+E152","v":0},{"$f":"IF(F156<>F155,F155,F156)","v":{"$error":"#REF!"}},{"$f":"IF(G156<>G155,G155,G156)","v":{"$error":"#REF!"}},null,null,null,null,null,null,null,null,null,null,null,null,null,null,null,null,null,null,null,null,null,null,"TOTAL COMPLETA 2",{"$f":"AE111+AE134+AE152","v":0},{"$f":"IF(AF156<>AF155,AF155,AF156)","v":{"$error":"#REF!"}},{"$f":"IF(AG156<>AG155,AG155,AG156)","v":{"$error":"#REF!"}}]
[null,null,null,null,"Suma Ajustada",{"$f":"#REF!+#REF!","v":{"$error":"#REF!"}},{"$f":"#REF!+#REF!","v":{"$error":"#REF!"}},null,null,null,null,null,null,null,null,null,null,null,null,null,null,null,null,null,null,null,null,null,null,null,"Suma Ajustada",{"$f":"#REF!+#REF!","v":{"$error":"#REF!"}},{"$f":"#REF!+#REF!","v":{"$error":"#REF!"}}]
[null,null,null,null,"Suma Esperada",{"$f":"F111+F134+F152","v":0},{"$f":"G111+G134+G152","v":0},null,null,null,null,null,null,null,null,null,null,null,null,null,null,null,null,null,null,null,null,null,null,null,"Suma Esperada",{"$f":"AF111+AF134+AF152","v":0},{"$f":"AE154*X143","v":0}]
[]
[]
[]
[]
[]
[]
[]
[]
["Tipo de bien: Inmueble","tasa de riesgo",null,"COMPLETA 3 - Inmueble",null,null,null,null,null,null,null,null,null,null,null,null,null,null,null,null,null,null,"Tipo de bien: Inmueble","tasa de riesgo","tasa comercial","tasa de riesgo","tasa comercial",null,null,"COMPLETA 3 - Inmueble"]
[null,"Corredores",null,null,null,null,null,null,null,null,null,null,null,null,null,null,null,null,null,null,null,null,null,"Corredores","Corredores","NNDD","NNDD"]
["Gastos generales",3.0672899999999999E-2,null,null,null,null,null,null,null,null,null,null,null,null,null,null,null,null,null,null,null,null,"Gastos generales",3.0672899999999999E-2,3.0672905132556546E-2,0.15,0.15]
["Gastos de comercialización",0,null,null,null,null,null,null,null,null,null,null,null,null,null,null,null,null,null,null,null,null,"Gastos de comercialización",0,0,0.05,0.05]
["Comisión local",0.2,null,null,null,null,null,null,null,null,null,null,null,null,null,null,null,null,null,null,null,null,"Comisión local",0.2,0.2,0,0]
["Utilidad antes de Imp",0,null,null,null,null,null,null,null,null,null,null,null,null,null,null,null,null,null,null,null,null,"Utilidad antes de Imp",0,0,3.0656800000000001E-2,3.0656799711687509E-2]
["Tasa comercial %o",{"$f":"+B172/(1-(B167+B168+B169+B170))","v":2.2000583366944961},null,"Tasa Comercial","Prima Neta","Prima","Comisión",null,null,null,null,null,null,null,null,null,null,null,null,null,null,null,"Tasa comercial %o",{"$f":"+X172/(1-(X167+X168+X169+X170))","v":2.2000583366944961},{"$f":"+SUM(Y173:Y183)","v":{"$error":"#REF!"}},{"$f":"+Z172/(1-(Z167+Z168+Z169+Z170))","v":2.2000120362407829},{"$f":"+SUM(AA173:AA183)","v":{"$error":"#REF!"}},null,null,"Tasa Comercial","Prima Neta","Prima","Comisión"]
["Tasa de Riesgo %o",{"$f":"+SUM(B173:B183)","v":1.6925645},null,null,null,null,null,null,null,null,null,null,null,null,null,null,null,null,null,null,null,null,"Tasa de Riesgo %o",{"$f":"+SUM(X173:X183)","v":1.6925645},null,{"$f":"+SUM(Z173:Z183)","v":1.6925642999999999}]
["Incendio y/o rayo, explosión. Daños por agua, daños por humo, impacto de vehículos y/o aeronaves",0.56119669999999999,null,{"$f":"B173/(1-(B167+B168+B169+B170))","v":0.7294643591783001},{"$f":"ROUND(E165*D173/1000,2)","v":0},{"$f":"ROUND(E173*(1-B169),2)","v":0},{"$f":"ROUND(E173*B169,2)","v":0},null,null,null,null,null,null,null,null,null,null,null,null,null,null,null,"Incendio y/o rayo, explosión. Daños por agua, daños por humo, impacto de vehículos y/o aeronaves",0.56119669999999999,{"$f":"+X173/(1-(#REF!+#REF!+#REF!+#REF!))","v":{"$error":"#REF!"}},0.56119669999999999,{"$f":"+Z173/(1-(#REF!+#REF!+#REF!+#REF!))","v":{"$error":"#REF!"}},null,null,{"$f":"X173/(1-(X167+X168+X169+X170))","v":0.7294643591783001},{"$f":"ROUND(AE165*AD173/1000,2)","v":0},{"$f":"ROUND(AE173*(1-X169),2)","v":0},{"$f":"ROUND(AE173*X169,2)","v":0}]
["Terremoto, temblor",0.92508789999999996,null,{"$f":"B174/(1-(B167+B168+B169+B170))","v":1.2024636854726682},{"$f":"ROUND(E165*D174/1000,2)","v":0},{"$f":"ROUND(E174*(1-B169),2)","v":0},{"$f":"ROUND(E174*B169,2)","v":0},null,null,null,null,null,null,null,null,null,null,null,null,null,null,null,"Terremoto, temblor",0.92508789999999996,{"$f":"+X174/(1-(#REF!+#REF!+#REF!+#REF!))","v":{"$error":"#REF!"}},0.92508789999999996,{"$f":"+Z174/(1-(#REF!+#REF!+#REF!+#REF!))","v":{"$error":"#REF!"}},null,null,{"$f":"X174/(1-(X167+X168+X169+X170))","v":1.2024636854726682},{"$f":"ROUND(AE165*AD174/1000,2)","v":0},{"$f":"ROUND(AE174*(1-X169),2)","v":0},{"$f":"ROUND(AE174*X169,2)","v":0}]
["Riesgos de la naturaleza",0.1027875,null,{"$f":"B175/(1-(B167+B168+B169+B170))","v":0.13360701839308664},{"$f":"ROUND(E165*D175/1000,2)","v":0},{"$f":"ROUND(E175*(1-B169),2)","v":0},{"$f":"ROUND(E175*B169,2)","v":0},null,null,null,null,null,null,null,null,null,null,null,null,null,null,null,"Riesgos de la naturaleza",0.1027875,{"$f":"+X175/(1-(#REF!+#REF!+#REF!+#REF!))","v":{"$error":"#REF!"}},0.1027875,{"$f":"+Z175/(1-(#REF!+#REF!+#REF!+#REF!))","v":{"$error":"#REF!"}},null,null,{"$f":"X175/(1-(X167+X168+X169+X170))","v":0.13360701839308664},{"$f":"ROUND(AE165*AD175/1000,2)","v":0},{"$f":"ROUND(AE175*(1-X169),2)","v":0},{"$f":"ROUND(AE175*X169,2)","v":0}]
["Riesgos políticos y sociales",5.0000000000000001E-3,null,{"$f":"B176/(1-(B167+B168+B169+B170))","v":6.4991861069238306E-3},{"$f":"ROUND(E165*D176/1000,2)","v":0},{"$f":"ROUND(E176*(1-B169),2)","v":0},{"$f":"ROUND(E176*B169,2)","v":0},null,null,null,null,null,null,null,null,null,null,null,null,null,null,null,"Riesgos políticos y sociales",5.0000000000000001E-3,{"$f":"+X176/(1-(#REF!+#REF!+#REF!+#REF!))","v":{"$error":"#REF!"}},5.0000000000000001E-3,{"$f":"+Z176/(1-(#REF!+#REF!+#REF!+#REF!))","v":{"$error":"#REF!"}},null,null,{"$f":"X176/(1-(X167+X168+X169+X170))","v":6.4991861069238306E-3},{"$f":"ROUND(AE165*AD176/1000,2)","v":0},{"$f":"ROUND(AE176*(1-X169),2)","v":0},{"$f":"ROUND(AE176*X169,2)","v":0}]
["Responsabilidad Civil frente a terceros",6.267E-3,null,{"$f":"B177/(1-(B167+B168+B169+B170))","v":8.14607986641833E-3},{"$f":"ROUND(E165*D177/1000,2)","v":0},{"$f":"ROUND(E177*(1-B169),2)","v":0},{"$f":"ROUND(E177*B169,2)","v":0},null,null,null,null,null,null,null,null,null,null,null,null,null,null,null,"Responsabilidad Civil frente a terceros",6.267E-3,{"$f":"+X177/(1-(#REF!+#REF!+#REF!+#REF!))","v":{"$error":"#REF!"}},6.267E-3,{"$f":"+Z177/(1-(#REF!+#REF!+#REF!+#REF!))","v":{"$error":"#REF!"}},null,null,{"$f":"X177/(1-(X167+X168+X169+X170))","v":8.14607986641833E-3},{"$f":"ROUND(AE165*AD177/1000,2)","v":0},{"$f":"ROUND(AE177*(1-X169),2)","v":0},{"$f":"ROUND(AE177*X169,2)","v":0}]
["Rotura accidental de vidrio y/o cristales",1.7274100000000001E-2,null,{"$f":"B178/(1-(B167+B168+B169+B170))","v":2.2453518145922589E-2},{"$f":"ROUND(E165*D178/1000,2)","v":0},{"$f":"ROUND(E178*(1-B169),2)","v":0},{"$f":"ROUND(E178*B169,2)","v":0},null,null,null,null,null,null,null,null,null,null,null,null,null,null,null,"Rotura accidental de vidrio y/o cristales",1.7274100000000001E-2,{"$f":"+X178/(1-(#REF!+#REF!+#REF!+#REF!))","v":{"$error":"#REF!"}},1.7274100000000001E-2,{"$f":"+Z178/(1-(#REF!+#REF!+#REF!+#REF!))","v":{"$error":"#REF!"}},null,null,{"$f":"X178/(1-(X167+X168+X169+X170))","v":2.2453518145922589E-2},{"$f":"ROUND(AE165*AD178/1000,2)","v":0},{"$f":"ROUND(AE178*(1-X169),2)","v":0},{"$f":"ROUND(AE178*X169,2)","v":0}]
["Robo o intento de robo de instalaciones fijas",3.6160000000000001E-4,null,{"$f":"B179/(1-(B167+B168+B169+B170))","v":4.7002113925273141E-4},{"$f":"ROUND(E165*D179/1000,2)","v":0},{"$f":"ROUND(E179*(1-B169),2)","v":0},{"$f":"ROUND(E179*B169,2)","v":0},null,null,null,null,null,null,null,null,null,null,null,null,null,null,null,"Robo o intento de robo de instalaciones fijas",3.6160000000000001E-4,{"$f":"+X179/(1-(#REF!+#REF!+#REF!+#REF!))","v":{"$error":"#REF!"}},3.6160000000000001E-4,{"$f":"+Z179/(1-(#REF!+#REF!+#REF!+#REF!))","v":{"$error":"#REF!"}},null,null,{"$f":"X179/(1-(X167+X168+X169+X170))","v":4.7002113925273141E-4},{"$f":"ROUND(AE165*AD179/1000,2)","v":0},{"$f":"ROUND(AE179*(1-X169),2)","v":0},{"$f":"ROUND(AE179*X169,2)","v":0}]
["Reembolso de gastos médicos por accidentes de trabajadores del hogar",2.9409000000000002E-3,null,{"$f":"B180/(1-(B167+B168+B169+B170))","v":3.8226912843704591E-3},{"$f":"ROUND(E165*D180/1000,2)","v":0},{"$f":"ROUND(E180*(1-B169),2)","v":0},{"$f":"ROUND(E180*B169,2)","v":0},null,null,null,null,null,null,null,null,null,null,null,null,null,null,null,"Reembolso de gastos médicos por accidentes de trabajadores del hogar",2.9409000000000002E-3,{"$f":"+X180/(1-(#REF!+#REF!+#REF!+#REF!))","v":{"$error":"#REF!"}},2.9409000000000002E-3,{"$f":"+Z180/(1-(#REF!+#REF!+#REF!+#REF!))","v":{"$error":"#REF!"}},null,null,{"$f":"X180/(1-(X167+X168+X169+X170))","v":3.8226912843704591E-3},{"$f":"ROUND(AE165*AD180/1000,2)","v":0},{"$f":"ROUND(AE180*(1-X169),2)","v":0},{"$f":"ROUND(AE180*X169,2)","v":0}]
["Gasto de arrendamiento de vivienda temporal",4.5742999999999999E-3,null,{"$f":"B181/(1-(B167+B168+B169+B170))","v":5.9458454017803355E-3},{"$f":"ROUND(E165*D181/1000,2)","v":0},{"$f":"ROUND(E181*(1-B169),2)","v":0},{"$f":"ROUND(E181*B169,2)","v":0},null,null,null,null,null,null,null,null,null,null,null,null,null,null,null,"Gasto de arrendamiento de vivienda temporal",4.5742999999999999E-3,{"$f":"+X181/(1-(#REF!+#REF!+#REF!+#REF!))","v":{"$error":"#REF!"}},4.5742999999999999E-3,{"$f":"+Z181/(1-(#REF!+#REF!+#REF!+#REF!))","v":{"$error":"#REF!"}},null,null,{"$f":"X181/(1-(X167+X168+X169+X170))","v":5.9458454017803355E-3},{"$f":"ROUND(AE165*AD181/1000,2)","v":0},{"$f":"ROUND(AE181*(1-X169),2)","v":0},{"$f":"ROUND(AE181*X169,2)","v":0}]
["Alquiler no  percibido por inmueble inhabitable temporalmente",4.5742999999999999E-3,null,{"$f":"B182/(1-(B167+B168+B169+B170))","v":5.9458454017803355E-3},{"$f":"ROUND(E165*D182/1000,2)","v":0},{"$f":"ROUND(E182*(1-B169),2)","v":0},{"$f":"ROUND(E182*B169,2)","v":0},null,null,null,null,null,null,null,null,null,null,null,null,null,null,null,"Alquiler no  percibido por inmueble inhabitable temporalmente",4.5742999999999999E-3,{"$f":"+X182/(1-(#REF!+#REF!+#REF!+#REF!))","v":{"$error":"#REF!"}},4.5742999999999999E-3,{"$f":"+Z182/(1-(#REF!+#REF!+#REF!+#REF!))","v":{"$error":"#REF!"}},null,null,{"$f":"X182/(1-(X167+X168+X169+X170))","v":5.9458454017803355E-3},{"$f":"ROUND(AE165*AD182/1000,2)","v":0},{"$f":"ROUND(AE182*(1-X169),2)","v":0},{"$f":"ROUND(AE182*X169,2)","v":0}]
["Asistencias",6.2500200000000006E-2,null,null,{"$f":"E185*B184","v":0},{"$f":"F185*B184","v":0},{"$f":"G185*B184","v":0},null,null,null,null,null,null,null,null,null,null,null,null,null,null,null,"Asistencias",6.2500200000000006E-2,{"$f":"+X183/(1-(#REF!+#REF!+#REF!+#REF!))","v":{"$error":"#REF!"}},6.25E-2,{"$f":"+Z183/(1-(#REF!+#REF!+#REF!+#REF!))","v":{"$error":"#REF!"}},null,null,null,{"$f":"AE185*X184","v":0},{"$f":"AF185*X184","v":0},{"$f":"AG185*X184","v":0}]
["Cantidad de asistencias",6,null,null,null,null,null,null,null,null,null,null,null,null,null,null,null,null,null,null,null,null,"Cantidad de asistencias",6,6,6,6]
["Tasa por asistencia",{"$f":"B183/B184","v":1.0416700000000001E-2},null,{"$f":"B185/(1-(B167+B168+B169+B170))","v":1.3540014383998693E-2},{"$f":"ROUND(E165*D185/1000,2)","v":0},{"$f":"ROUND(E185*(1-B169),2)","v":0},{"$f":"ROUND(E185*B169,2)","v":0},null,null,null,null,null,null,null,null,null,null,null,null,null,null,null,"Tasa por asistencia",{"$f":"X183/X184","v":1.0416700000000001E-2},{"$f":"+ROUND(Y183/Y184,7)","v":{"$error":"#REF!"}},1.0416699999999999E-2,1.0416699999999999E-2,null,null,{"$f":"X185/(1-(X167+X168+X169+X170))","v":1.3540014383998693E-2},{"$f":"ROUND(AE165*AD185/1000,2)","v":0},{"$f":"ROUND(AE185*(1-X169),2)","v":0},{"$f":"ROUND(AE185*X169,2)","v":0}]
[]
[null,null,null,{"$f":"B172/(1-(B167+B168+B169+B170))","v":2.2000583366944961},{"$f":"ROUND(E165*D187/1000,2)","v":0},{"$f":"ROUND(E187*(1-B169),2)","v":0},{"$f":"ROUND(E187*B169,2)","v":0},null,null,null,null,null,null,null,null,null,null,null,null,null,null,null,null,null,null,null,null,null,null,{"$f":"X172/(1-(X167+X168+X169+X170))","v":2.2000583366944961},{"$f":"ROUND(AE165*AD187/1000,2)","v":0},{"$f":"ROUND(AE187*(1-X169),2)","v":0},{"$f":"ROUND(AE187*X169,2)","v":0}]
[]
[]
[]
[]
[]
[]
["Tipo de bien: Bienes","tasa de riesgo",null,"COMPLETA 3 - Contenido",null,null,null,null,null,null,null,null,null,null,null,null,null,null,null,null,null,null,"Tipo de bien: Bienes","tasa de riesgo","tasa comercial","tasa de riesgo","tasa comercial",null,null,"COMPLETA 3 - Contenido"]
[null,"Corredores",null,null,null,null,null,null,null,null,null,null,null,null,null,null,null,null,null,null,null,null,null,"Corredores","Corredores","NNDD","NNDD"]
["Gastos generales",0.1142203,null,null,null,null,null,null,null,null,null,null,null,null,null,null,null,null,null,null,null,null,"Gastos generales",0.1142203,3.0672905132556546E-2,0.13963639999999999,0.15]
["Gastos de comercialización",0,null,null,null,null,null,null,null,null,null,null,null,null,null,null,null,null,null,null,null,null,"Gastos de comercialización",0,0,0.05,0.05]
["Comisión local",0.2,null,null,null,null,null,null,null,null,null,null,null,null,null,null,null,null,null,null,null,null,"Comisión local",0.2,0.2,0,0]
["Utilidad antes de Imp",0,null,null,null,null,null,null,null,null,null,null,null,null,null,null,null,null,null,null,null,null,"Utilidad antes de Imp",0,0,0,3.0656799711687509E-2]
["Tasa comercial %o",{"$f":"+B201/(1-(B196+B197+B198+B199))","v":2.2000875791453143},null,"Tasa Comercial","Prima Neta","Prima","Comisión",null,null,null,null,null,null,null,null,null,null,null,null,null,null,null,"Tasa comercial %o",{"$f":"+X201/(1-(X196+X197+X198+X199))","v":2.2000875791453143},{"$f":"+SUM(Y202:Y206)","v":{"$error":"#REF!"}},{"$f":"+Z201/(1-(Z196+Z197+Z198+Z199))","v":2.2003151424866565},{"$f":"+SUM(AA202:AA206)","v":{"$error":"#REF!"}},null,null,"Tasa Comercial","Prima Neta","Prima","Comisión"]
["Tasa de Riesgo %o",{"$f":"+SUM(B202:B206)","v":1.5087753999999998},null,null,null,null,null,null,null,null,null,null,null,null,null,null,null,null,null,null,null,null,"Tasa de Riesgo %o",{"$f":"+SUM(X202:X206)","v":1.5087753999999998},null,{"$f":"+SUM(Z202:Z206)","v":1.7830553}]
["Incendio y/o rayo, explosión. Daños por agua, daños por humo, impacto de vehículos y/o aeronaves",0.41339979999999998,null,{"$f":"B202/(1-(B196+B197+B198+B199))","v":0.60281720208399281},{"$f":"ROUND(E194*D202/1000, 2)","v":0},{"$f":"ROUND(E202*(1-B198),2)","v":0},{"$f":"ROUND(E202*B198,2)","v":0},null,null,null,null,null,null,null,null,null,null,null,null,null,null,null,"Incendio y/o rayo, explosión. Daños por agua, daños por humo, impacto de vehículos y/o aeronaves",0.41339979999999998,{"$f":"+X202/(1-(#REF!+#REF!+#REF!+#REF!))","v":{"$error":"#REF!"}},0.41339979999999998,{"$f":"+Z202/(1-(#REF!+#REF!+#REF!+#REF!))","v":{"$error":"#REF!"}},null,null,{"$f":"X202/(1-(X196+X197+X198+X199))","v":0.60281720208399281},{"$f":"ROUND(AE194*AD202/1000, 2)","v":0},{"$f":"ROUND(AE202*(1-X198),2)","v":0},{"$f":"ROUND(AE202*X198,2)","v":0}]
["Terremoto, temblor",0.92508789999999996,null,{"$f":"B203/(1-(B196+B197+B198+B199))","v":1.3489578358764482},{"$f":"ROUND(E194*D203/1000,2)","v":0},{"$f":"ROUND(E203*(1-B198),2)","v":0},{"$f":"ROUND(E203*B198,2)","v":0},null,null,null,null,null,null,null,null,null,null,null,null,null,null,null,"Terremoto, temblor",0.92508789999999996,{"$f":"+X203/(1-(#REF!+#REF!+#REF!+#REF!))","v":{"$error":"#REF!"}},0.92508789999999996,{"$f":"+Z203/(1-(#REF!+#REF!+#REF!+#REF!))","v":{"$error":"#REF!"}},null,null,{"$f":"X203/(1-(X196+X197+X198+X199))","v":1.3489578358764482},{"$f":"ROUND(AE194*AD203/1000,2)","v":0},{"$f":"ROUND(AE203*(1-X198),2)","v":0},{"$f":"ROUND(AE203*X198,2)","v":0}]
["Riesgos de la naturaleza",0.1027875,null,{"$f":"B204/(1-(B196+B197+B198+B199))","v":0.14988413917763971},{"$f":"ROUND(E194*D204/1000,2)","v":0},{"$f":"ROUND(E204*(1-B198),2)","v":0},{"$f":"ROUND(E204*B198,2)","v":0},null,null,null,null,null,null,null,null,null,null,null,null,null,null,null,"Riesgos de la naturaleza",0.1027875,{"$f":"+X204/(1-(#REF!+#REF!+#REF!+#REF!))","v":{"$error":"#REF!"}},0.1027875,{"$f":"+Z204/(1-(#REF!+#REF!+#REF!+#REF!))","v":{"$error":"#REF!"}},null,null,{"$f":"X204/(1-(X196+X197+X198+X199))","v":0.14988413917763971},{"$f":"ROUND(AE194*AD204/1000,2)","v":0},{"$f":"ROUND(AE204*(1-X198),2)","v":0},{"$f":"ROUND(AE204*X198,2)","v":0}]
["Riesgos políticos y sociales",5.0000000000000001E-3,null,{"$f":"B205/(1-(B196+B197+B198+B199))","v":7.2909711383991101E-3},{"$f":"ROUND(E194*D205/1000,2)","v":0},{"$f":"ROUND(E205*(1-B198),2)","v":0},{"$f":"ROUND(E205*B198,2)","v":0},null,null,null,null,null,null,null,null,null,null,null,null,null,null,null,"Riesgos políticos y sociales",5.0000000000000001E-3,{"$f":"+X205/(1-(#REF!+#REF!+#REF!+#REF!))","v":{"$error":"#REF!"}},5.0000000000000001E-3,{"$f":"+Z205/(1-(#REF!+#REF!+#REF!+#REF!))","v":{"$error":"#REF!"}},null,null,{"$f":"X205/(1-(X196+X197+X198+X199))","v":7.2909711383991101E-3},{"$f":"ROUND(AE194*AD205/1000,2)","v":0},{"$f":"ROUND(AE205*(1-X198),2)","v":0},{"$f":"ROUND(AE205*X198,2)","v":0}]
["Asistencias",6.2500200000000006E-2,null,null,{"$f":"E208*B207","v":0},{"$f":"F208*B207","v":0},{"$f":"G208*B207","v":0},null,null,null,null,null,null,null,null,null,null,null,null,null,null,null,"Asistencias",6.2500200000000006E-2,{"$f":"+X206/(1-(#REF!+#REF!+#REF!+#REF!))","v":{"$error":"#REF!"}},0.33678010000000003,{"$f":"+Z206/(1-(#REF!+#REF!+#REF!+#REF!))","v":{"$error":"#REF!"}},null,null,null,{"$f":"AE208*X207","v":0},{"$f":"AF208*X207","v":0},{"$f":"AG208*X207","v":0}]
["Cantidad de asistencias",6,null,null,null,null,null,null,null,null,null,null,null,null,null,null,null,null,null,null,null,null,"Cantidad de asistencias",6,6,6,6]
["Tasa por asistencia",{"$f":"B206/B207","v":1.0416700000000001E-2},null,{"$f":"B208/(1-(B196+B197+B198+B199))","v":1.5189571811472404E-2},{"$f":"ROUND(E194*D208/1000,2)","v":0},{"$f":"ROUND(E208*(1-B198),2)","v":0},{"$f":"ROUND(E208*B198,2)","v":0},null,null,null,null,null,null,null,null,null,null,null,null,null,null,null,"Tasa por asistencia",{"$f":"X206/X207","v":1.0416700000000001E-2},{"$f":"+ROUND(Y206/Y207,7)","v":{"$error":"#REF!"}},1.0416699999999999E-2,1.0416699999999999E-2,null,null,{"$f":"X208/(1-(X196+X197+X198+X199))","v":1.5189571811472404E-2},{"$f":"ROUND(AE194*AD208/1000,2)","v":0},{"$f":"ROUND(AE208*(1-X198),2)","v":0},{"$f":"ROUND(AE208*X198,2)","v":0}]
[]
[null,null,null,{"$f":"B201/(1-(B196+B197+B198+B199))","v":2.2000875791453143},{"$f":"ROUND(E194*D210/1000,2)","v":0},{"$f":"ROUND(E210*(1-B198),2)","v":0},{"$f":"ROUND(E210*B198,2)","v":0},null,null,null,null,null,null,null,null,null,null,null,null,null,null,null,null,null,null,null,null,null,null,{"$f":"X201/(1-(X196+X197+X198+X199))","v":2.2000875791453143},{"$f":"ROUND(AE194*AD210/1000,2)","v":0},{"$f":"ROUND(AE210*(1-X198),2)","v":0},{"$f":"ROUND(AE210*X198,2)","v":0}]
[]
[]
[]
[]
[]
["Tipo de bien: Bienes con robo","Corredores",null,null,null,null,null,null,null,null,null,null,null,null,null,null,null,null,null,null,null,null,"Tipo de bien: Bienes con robo","Corredores","Corredores","NNDD","NNDD"]
["Gastos generales",0.15,null,null,null,null,null,null,null,null,null,null,null,null,null,null,null,null,null,null,null,null,"Gastos generales",0.15,0.15,0.15,0.15]
["Gastos de comercialización",0.05,null,null,null,null,null,null,null,null,null,null,null,null,null,null,null,null,null,null,null,null,"Gastos de comercialización",0.05,0.05,0.05,0.05]
["Comisión local",0.2,null,null,null,null,null,null,null,null,null,null,null,null,null,null,null,null,null,null,null,null,"Comisión local",0.2,0.2,0,0]
["Utilidad antes de Imp",9.4818600000000003E-2,null,null,null,null,null,null,null,null,null,null,null,null,null,null,null,null,null,null,null,null,"Utilidad antes de Imp",9.4818600000000003E-2,9.4818618872647503E-2,0.29477880000000001,0.29477881366445952]
["Tasa comercial %o",{"$f":"+B222/(1-(B217+B218+B219+B220))","v":4.9999008277026826},null,"Tasa Comercial","Prima Neta","Prima","Comisión",null,null,null,null,null,null,null,null,null,null,null,null,null,null,null,"Tasa comercial %o",{"$f":"+X222/(1-(X217+X218+X219+X220))","v":4.9999008277026826},{"$f":"+SUM(Y223:Y226)","v":{"$error":"#REF!"}},{"$f":"+Z222/(1-(Z217+Z218+Z219+Z220))","v":4.9995069486395263},{"$f":"+SUM(AA223:AA226)","v":{"$error":"#REF!"}},null,null,"Tasa Comercial","Prima Neta","Prima","Comisión"]
["Tasa de Riesgo %o",{"$f":"+SUM(B223:B226)","v":2.5258569},null,null,null,null,null,null,null,null,null,null,null,null,null,null,null,null,null,null,null,null,"Tasa de Riesgo %o",{"$f":"+SUM(X223:X226)","v":2.5258569},null,{"$f":"+SUM(Z223:Z226)","v":2.5258569}]
["Robo y/o daños por intento de robo de bienes ",2.4425075000000001,null,{"$f":"B223/(1-(B217+B218+B219+B220))","v":4.8349117762451268},{"$f":"ROUND(E194*D223/1000,2)","v":0},{"$f":"ROUND(E223*(1-B219),2)","v":0},{"$f":"ROUND(E223*B219,2)","v":0},null,null,null,null,null,null,null,null,null,null,null,null,null,null,null,"Robo y/o daños por intento de robo de bienes ",2.4425075000000001,{"$f":"+X223/(1-(#REF!+#REF!+#REF!+#REF!))","v":{"$error":"#REF!"}},2.4425075000000001,{"$f":"+Z223/(1-(#REF!+#REF!+#REF!+#REF!))","v":{"$error":"#REF!"}},null,null,{"$f":"X223/(1-(X217+X218+X219+X220))","v":4.8349117762451268},{"$f":"ROUND(AE194*AD223/1000,2)","v":0},{"$f":"ROUND(AE223*(1-X219),2)","v":0},{"$f":"ROUND(AE223*X219,2)","v":0}]
["Robo y/o daños por intento de robo de bienes especiales: joyas, platería, relojes, obras de arte, cámaras fotográficas o de video, laptops y bicicletas dentro de la vivienda o que estén siendo portados fuera de la vivienda",6.2311999999999999E-2,null,{"$f":"B224/(1-(B217+B218+B219+B220))","v":0.12334579222433763},{"$f":"ROUND(E194*D224/1000,2)","v":0},{"$f":"ROUND(E224*(1-B219),2)","v":0},{"$f":"ROUND(E224*B219,2)","v":0},null,null,null,null,null,null,null,null,null,null,null,null,null,null,null,"Robo y/o daños por intento de robo de bienes especiales: joyas, platería, relojes, obras de arte, cámaras fotográficas o de video, laptops y bicicletas dentro de la vivienda o que estén siendo portados fuera de la vivienda",6.2311999999999999E-2,{"$f":"+X224/(1-(#REF!+#REF!+#REF!+#REF!))","v":{"$error":"#REF!"}},6.2311999999999999E-2,{"$f":"+Z224/(1-(#REF!+#REF!+#REF!+#REF!))","v":{"$error":"#REF!"}},null,null,{"$f":"X224/(1-(X217+X218+X219+X220))","v":0.12334579222433763},{"$f":"ROUND(AE194*AD224/1000,2)","v":0},{"$f":"ROUND(AE224*(1-X219),2)","v":0},{"$f":"ROUND(AE224*X219,2)","v":0}]
["Hurto",1.3968700000000001E-2,null,{"$f":"B225/(1-(B217+B218+B219+B220))","v":2.7650859671397247E-2},{"$f":"ROUND(E194*D225/1000,2)","v":0},{"$f":"ROUND(E225*(1-B219),2)","v":0},{"$f":"ROUND(E225*B219,2)","v":0},null,null,null,null,null,null,null,null,null,null,null,null,null,null,null,"Hurto",1.3968700000000001E-2,{"$f":"+X225/(1-(#REF!+#REF!+#REF!+#REF!))","v":{"$error":"#REF!"}},1.3968700000000001E-2,{"$f":"+Z225/(1-(#REF!+#REF!+#REF!+#REF!))","v":{"$error":"#REF!"}},null,null,{"$f":"X225/(1-(X217+X218+X219+X220))","v":2.7650859671397247E-2},{"$f":"ROUND(AE194*AD225/1000,2)","v":0},{"$f":"ROUND(AE225*(1-X219),2)","v":0},{"$f":"ROUND(AE225*X219,2)","v":0}]
["Deshonestidad de trabajadores del hogar",7.0686999999999998E-3,null,{"$f":"B226/(1-(B217+B218+B219+B220))","v":1.3992399561820763E-2},{"$f":"ROUND(E194*D226/1000,2)","v":0},{"$f":"ROUND(E226*(1-B219),2)","v":0},{"$f":"ROUND(E226*B219,2)","v":0},null,null,null,null,null,null,null,null,null,null,null,null,null,null,null,"Deshonestidad de trabajadores del hogar",7.0686999999999998E-3,{"$f":"+X226/(1-(#REF!+#REF!+#REF!+#REF!))","v":{"$error":"#REF!"}},7.0686999999999998E-3,{"$f":"+Z226/(1-(#REF!+#REF!+#REF!+#REF!))","v":{"$error":"#REF!"}},null,null,{"$f":"X226/(1-(X217+X218+X219+X220))","v":1.3992399561820763E-2},{"$f":"ROUND(AE194*AD226/1000,2)","v":0},{"$f":"ROUND(AE226*(1-X219),2)","v":0},{"$f":"ROUND(AE226*X219,2)","v":0}]
[]
[null,null,null,{"$f":"B222/(1-(B217+B218+B219+B220))","v":4.9999008277026826},{"$f":"ROUND(E194*D228/1000,2)","v":0},{"$f":"ROUND(E228*(1-B219),2)","v":0},{"$f":"ROUND(E228*B219,2)","v":0},null,null,null,null,null,null,null,null,null,null,null,null,null,null,null,null,null,null,null,null,null,null,{"$f":"X222/(1-(X217+X218+X219+X220))","v":4.9999008277026826},{"$f":"ROUND(AE194*AD228/1000,2)","v":0},{"$f":"ROUND(AE228*(1-X219),2)","v":0},{"$f":"ROUND(AE228*X219,2)","v":0}]
[]
[null,null,null,"TOTAL COMPLETA 3",{"$f":"E187+E210+E228","v":0},{"$f":"IF(F232<>F231,F231,F232)","v":{"$error":"#REF!"}},{"$f":"IF(G232<>G231,G231,G232)","v":{"$error":"#REF!"}},null,null,null,null,null,null,null,null,null,null,null,null,null,null,null,null,null,null,null,null,null,null,"TOTAL COMPLETA 3",{"$f":"AE187+AE210+AE228","v":0},{"$f":"IF(AF187+AF210+AF228<>AF235,AF235,AF228)","v":0},{"$f":"AG187+AG210+AG228","v":0}]
[null,null,null,null,"Suma Ajustada",{"$f":"#REF!+#REF!","v":{"$error":"#REF!"}},{"$f":"#REF!+#REF!","v":{"$error":"#REF!"}},null,null,null,null,null,null,null,null,null,null,null,null,null,null,null,null,null,null,null,null,null,null,null,"Suma de Cob",{"$f":"SUM(AF223:AF226)+SUM(AF202:AF206)+SUM(AF173:AF183)","v":0},{"$f":"SUM(AG223:AG226)+SUM(AG202:AG206)+SUM(AG173:AG183)","v":0}]
[null,null,null,null,"Suma Esperada",{"$f":"F187+F210+F228","v":0},{"$f":"E230*B219","v":0},null,null,null,null,null,null,null,null,null,null,null,null,null,null,null,null,null,null,null,null,null,null,null,"Esperado",{"$f":"AE230*(1-X219)","v":0},{"$f":"AE230*X219","v":0}]
[null,null,null,null,null,null,null,null,null,null,null,null,null,null,null,null,null,null,null,null,null,null,null,null,null,null,null,null,null,null,"Faltante",{"$f":"AF232-AF231","v":0},{"$f":"AG232-AG230","v":0}]
[null,null,null,null,null,null,null,null,null,null,null,null,null,null,null,null,null,null,null,null,null,null,null,null,null,null,null,null,null,null,null,{"$f":"AF173+AF233","v":0},{"$f":"AG173+AG233","v":0}]
[null,null,null,null,null,null,null,null,null,null,null,null,null,null,null,null,null,null,null,null,null,null,null,null,null,null,null,null,null,null,{"$f":"AF235+AG235","v":0},{"$f":"ROUND(AF231-AF173+AF234,2)","v":0},{"$f":"ROUND(AG230-AG173+AG234,2)","v":0}]
[]
[]
[]
[]
["Tipo de bien: Inmueble","tasa de riesgo",null,"COMPLETA 4 - Inmueble",null,null,null,null,null,null,null,null,null,null,null,null,null,null,null,null,null,null,"Tipo de bien: Inmueble","tasa de riesgo","tasa comercial","tasa de riesgo","tasa comercial",null,null,"COMPLETA 4 - Inmueble"]
[null,"Corredores",null,null,null,null,null,null,null,null,null,null,null,null,null,null,null,null,null,null,null,null,null,"Corredores","Corredores","NNDD","NNDD"]
["Gastos generales",3.0672899999999999E-2,null,null,null,null,null,null,null,null,null,null,null,null,null,null,null,null,null,null,null,null,"Gastos generales",3.0672899999999999E-2,3.0672905132556546E-2,0.15,0.15]
["Gastos de comercialización",0,null,null,null,null,null,null,null,null,null,null,null,null,null,null,null,null,null,null,null,null,"Gastos de comercialización",0,0,0.05,0.05]
["Comisión local",0.2,null,null,null,null,null,null,null,null,null,null,null,null,null,null,null,null,null,null,null,null,"Comisión local",0.2,0.2,0,0]
["Utilidad antes de Imp",0,null,null,null,null,null,null,null,null,null,null,null,null,null,null,null,null,null,null,null,null,"Utilidad antes de Imp",0,0,3.0656800000000001E-2,3.0656799711687509E-2]
["Tasa comercial %o",{"$f":"+B247/(1-(B242+B243+B244+B245))","v":2.2000583366944961},null,"Tasa Comercial","Prima Neta","Prima","Comisión",null,null,null,null,null,null,null,null,null,null,null,null,null,null,null,"Tasa comercial %o",{"$f":"+X247/(1-(X242+X243+X244+X245))","v":2.2000583366944961},{"$f":"+SUM(Y248:Y258)","v":{"$error":"#REF!"}},{"$f":"+Z247/(1-(Z242+Z243+Z244+Z245))","v":2.2000120362407829},{"$f":"+SUM(AA248:AA258)","v":{"$error":"#REF!"}},null,null,"Tasa Comercial","Prima Neta","Prima","Comisión"]
["Tasa de Riesgo %o",{"$f":"+SUM(B248:B258)","v":1.6925645},null,null,null,null,null,null,null,null,null,null,null,null,null,null,null,null,null,null,null,null,"Tasa de Riesgo %o",{"$f":"+SUM(X248:X258)","v":1.6925645},null,{"$f":"+SUM(Z248:Z258)","v":1.6925642999999999}]
["Incendio y/o rayo, explosión. Daños por agua, daños por humo, impacto de vehículos y/o aeronaves",0.56119669999999999,null,{"$f":"B248/(1-(B242+B243+B244+B245))","v":0.7294643591783001},{"$f":"ROUND(E240*D248/1000,2)","v":0},{"$f":"ROUND(E248*(1-B244),2)","v":0},{"$f":"ROUND(E248*B244,2)","v":0},null,null,null,null,null,null,null,null,null,null,null,null,null,null,null,"Incendio y/o rayo, explosión. Daños por agua, daños por humo, impacto de vehículos y/o aeronaves",0.56119669999999999,{"$f":"+X248/(1-(#REF!+#REF!+#REF!+#REF!))","v":{"$error":"#REF!"}},0.56119669999999999,{"$f":"+Z248/(1-(#REF!+#REF!+#REF!+#REF!))","v":{"$error":"#REF!"}},null,null,{"$f":"X248/(1-(X242+X243+X244+X245))","v":0.7294643591783001},{"$f":"ROUND(AE240*AD248/1000,2)","v":0},{"$f":"ROUND(AE248*(1-X244),2)","v":0},{"$f":"ROUND(AE248*X244,2)","v":0}]
["Terremoto, temblor",0.92508789999999996,null,{"$f":"B249/(1-(B242+B243+B244+B245))","v":1.2024636854726682},{"$f":"ROUND(E240*D249/1000,2)","v":0},{"$f":"ROUND(E249*(1-B244),2)","v":0},{"$f":"ROUND(E249*B244,2)","v":0},null,null,null,null,null,null,null,null,null,null,null,null,null,null,null,"Terremoto, temblor",0.92508789999999996,{"$f":"+X249/(1-(#REF!+#REF!+#REF!+#REF!))","v":{"$error":"#REF!"}},0.92508789999999996,{"$f":"+Z249/(1-(#REF!+#REF!+#REF!+#REF!))","v":{"$error":"#REF!"}},null,null,{"$f":"X249/(1-(X242+X243+X244+X245))","v":1.2024636854726682},{"$f":"ROUND(AE240*AD249/1000,2)","v":0},{"$f":"ROUND(AE249*(1-X244),2)","v":0},{"$f":"ROUND(AE249*X244,2)","v":0}]
["Riesgos de la naturaleza",0.1027875,null,{"$f":"B250/(1-(B242+B243+B244+B245))","v":0.13360701839308664},{"$f":"ROUND(E240*D250/1000,2)","v":0},{"$f":"ROUND(E250*(1-B244),2)","v":0},{"$f":"ROUND(E250*B244,2)","v":0},null,null,null,null,null,null,null,null,null,null,null,null,null,null,null,"Riesgos de la naturaleza",0.1027875,{"$f":"+X250/(1-(#REF!+#REF!+#REF!+#REF!))","v":{"$error":"#REF!"}},0.1027875,{"$f":"+Z250/(1-(#REF!+#REF!+#REF!+#REF!))","v":{"$error":"#REF!"}},null,null,{"$f":"X250/(1-(X242+X243+X244+X245))","v":0.13360701839308664},{"$f":"ROUND(AE240*AD250/1000,2)","v":0},{"$f":"ROUND(AE250*(1-X244),2)","v":0},{"$f":"ROUND(AE250*X244,2)","v":0}]
["Riesgos políticos y sociales",5.0000000000000001E-3,null,{"$f":"B251/(1-(B242+B243+B244+B245))","v":6.4991861069238306E-3},{"$f":"ROUND(E240*D251/1000,2)","v":0},{"$f":"ROUND(E251*(1-B244),2)","v":0},{"$f":"ROUND(E251*B244,2)","v":0},null,null,null,null,null,null,null,null,null,null,null,null,null,null,null,"Riesgos políticos y sociales",5.0000000000000001E-3,{"$f":"+X251/(1-(#REF!+#REF!+#REF!+#REF!))","v":{"$error":"#REF!"}},5.0000000000000001E-3,{"$f":"+Z251/(1-(#REF!+#REF!+#REF!+#REF!))","v":{"$error":"#REF!"}},null,null,{"$f":"X251/(1-(X242+X243+X244+X245))","v":6.4991861069238306E-3},{"$f":"ROUND(AE240*AD251/1000,2)","v":0},{"$f":"ROUND(AE251*(1-X244),2)","v":0},{"$f":"ROUND(AE251*X244,2)","v":0}]
["Responsabilidad Civil frente a terceros",6.267E-3,null,{"$f":"B252/(1-(B242+B243+B244+B245))","v":8.14607986641833E-3},{"$f":"ROUND(E240*D252/1000,2)","v":0},{"$f":"ROUND(E252*(1-B244),2)","v":0},{"$f":"ROUND(E252*B244,2)","v":0},null,null,null,null,null,null,null,null,null,null,null,null,null,null,null,"Responsabilidad Civil frente a terceros",6.267E-3,{"$f":"+X252/(1-(#REF!+#REF!+#REF!+#REF!))","v":{"$error":"#REF!"}},6.267E-3,{"$f":"+Z252/(1-(#REF!+#REF!+#REF!+#REF!))","v":{"$error":"#REF!"}},null,null,{"$f":"X252/(1-(X242+X243+X244+X245))","v":8.14607986641833E-3},{"$f":"ROUND(AE240*AD252/1000,2)","v":0},{"$f":"ROUND(AE252*(1-X244),2)","v":0},{"$f":"ROUND(AE252*X244,2)","v":0}]
["Rotura accidental de vidrio y/o cristales",1.7274100000000001E-2,null,{"$f":"B253/(1-(B242+B243+B244+B245))","v":2.2453518145922589E-2},{"$f":"ROUND(E240*D253/1000,2)","v":0},{"$f":"ROUND(E253*(1-B244),2)","v":0},{"$f":"ROUND(E253*B244,2)","v":0},null,null,null,null,null,null,null,null,null,null,null,null,null,null,null,"Rotura accidental de vidrio y/o cristales",1.7274100000000001E-2,{"$f":"+X253/(1-(#REF!+#REF!+#REF!+#REF!))","v":{"$error":"#REF!"}},1.7274100000000001E-2,{"$f":"+Z253/(1-(#REF!+#REF!+#REF!+#REF!))","v":{"$error":"#REF!"}},null,null,{"$f":"X253/(1-(X242+X243+X244+X245))","v":2.2453518145922589E-2},{"$f":"ROUND(AE240*AD253/1000,2)","v":0},{"$f":"ROUND(AE253*(1-X244),2)","v":0},{"$f":"ROUND(AE253*X244,2)","v":0}]
["Robo o intento de robo de instalaciones fijas",3.6160000000000001E-4,null,{"$f":"B254/(1-(B242+B243+B244+B245))","v":4.7002113925273141E-4},{"$f":"ROUND(E240*D254/1000,2)","v":0},{"$f":"ROUND(E254*(1-B244),2)","v":0},{"$f":"ROUND(E254*B244,2)","v":0},null,null,null,null,null,null,null,null,null,null,null,null,null,null,null,"Robo o intento de robo de instalaciones fijas",3.6160000000000001E-4,{"$f":"+X254/(1-(#REF!+#REF!+#REF!+#REF!))","v":{"$error":"#REF!"}},3.6160000000000001E-4,{"$f":"+Z254/(1-(#REF!+#REF!+#REF!+#REF!))","v":{"$error":"#REF!"}},null,null,{"$f":"X254/(1-(X242+X243+X244+X245))","v":4.7002113925273141E-4},{"$f":"ROUND(AE240*AD254/1000,2)","v":0},{"$f":"ROUND(AE254*(1-X244),2)","v":0},{"$f":"ROUND(AE254*X244,2)","v":0}]
["Reembolso de gastos médicos por accidentes de trabajadores del hogar",2.9409000000000002E-3,null,{"$f":"B255/(1-(B242+B243+B244+B245))","v":3.8226912843704591E-3},{"$f":"ROUND(E240*D255/1000,2)","v":0},{"$f":"ROUND(E255*(1-B244),2)","v":0},{"$f":"ROUND(E255*B244,2)","v":0},null,null,null,null,null,null,null,null,null,null,null,null,null,null,null,"Reembolso de gastos médicos por accidentes de trabajadores del hogar",2.9409000000000002E-3,{"$f":"+X255/(1-(#REF!+#REF!+#REF!+#REF!))","v":{"$error":"#REF!"}},2.9409000000000002E-3,{"$f":"+Z255/(1-(#REF!+#REF!+#REF!+#REF!))","v":{"$error":"#REF!"}},null,null,{"$f":"X255/(1-(X242+X243+X244+X245))","v":3.8226912843704591E-3},{"$f":"ROUND(AE240*AD255/1000,2)","v":0},{"$f":"ROUND(AE255*(1-X244),2)","v":0},{"$f":"ROUND(AE255*X244,2)","v":0}]
["Gasto de arrendamiento de vivienda temporal",4.5742999999999999E-3,null,{"$f":"B256/(1-(B242+B243+B244+B245))","v":5.9458454017803355E-3},{"$f":"ROUND(E240*D256/1000,2)","v":0},{"$f":"ROUND(E256*(1-B244),2)","v":0},{"$f":"ROUND(E256*B244,2)","v":0},null,null,null,null,null,null,null,null,null,null,null,null,null,null,null,"Gasto de arrendamiento de vivienda temporal",4.5742999999999999E-3,{"$f":"+X256/(1-(#REF!+#REF!+#REF!+#REF!))","v":{"$error":"#REF!"}},4.5742999999999999E-3,{"$f":"+Z256/(1-(#REF!+#REF!+#REF!+#REF!))","v":{"$error":"#REF!"}},null,null,{"$f":"X256/(1-(X242+X243+X244+X245))","v":5.9458454017803355E-3},{"$f":"ROUND(AE240*AD256/1000,2)","v":0},{"$f":"ROUND(AE256*(1-X244),2)","v":0},{"$f":"ROUND(AE256*X244,2)","v":0}]
["Alquiler no  percibido por inmueble inhabitable temporalmente",4.5742999999999999E-3,null,{"$f":"B257/(1-(B242+B243+B244+B245))","v":5.9458454017803355E-3},{"$f":"ROUND(E240*D257/1000,2)","v":0},{"$f":"ROUND(E257*(1-B244),2)","v":0},{"$f":"ROUND(E257*B244,2)","v":0},null,null,null,null,null,null,null,null,null,null,null,null,null,null,null,"Alquiler no  percibido por inmueble inhabitable temporalmente",4.5742999999999999E-3,{"$f":"+X257/(1-(#REF!+#REF!+#REF!+#REF!))","v":{"$error":"#REF!"}},4.5742999999999999E-3,{"$f":"+Z257/(1-(#REF!+#REF!+#REF!+#REF!))","v":{"$error":"#REF!"}},null,null,{"$f":"X257/(1-(X242+X243+X244+X245))","v":5.9458454017803355E-3},{"$f":"ROUND(AE240*AD257/1000,2)","v":0},{"$f":"ROUND(AE257*(1-X244),2)","v":0},{"$f":"ROUND(AE257*X244,2)","v":0}]
["Asistencias",6.2500200000000006E-2,null,null,{"$f":"E260*B259","v":0},{"$f":"F260*B259","v":0},{"$f":"G260*B259","v":0},null,null,null,null,null,null,null,null,null,null,null,null,null,null,null,"Asistencias",6.2500200000000006E-2,{"$f":"+X258/(1-(#REF!+#REF!+#REF!+#REF!))","v":{"$error":"#REF!"}},6.25E-2,{"$f":"+Z258/(1-(#REF!+#REF!+#REF!+#REF!))","v":{"$error":"#REF!"}},null,null,null,{"$f":"AE260*X259","v":0},{"$f":"AF260*X259","v":0},{"$f":"AG260*X259","v":0}]
["Cantidad de asistencias",6,null,null,null,null,null,null,null,null,null,null,null,null,null,null,null,null,null,null,null,null,"Cantidad de asistencias",6,6,6,6]
["Tasa por asistencia",{"$f":"B258/B259","v":1.0416700000000001E-2},null,{"$f":"B260/(1-(B242+B243+B244+B245))","v":1.3540014383998693E-2},{"$f":"ROUND(E240*D260/1000,2)","v":0},{"$f":"ROUND(E260*(1-B244),2)","v":0},{"$f":"ROUND(E260*B244,2)","v":0},null,null,null,null,null,null,null,null,null,null,null,null,null,null,null,"Tasa por asistencia",{"$f":"X258/X259","v":1.0416700000000001E-2},{"$f":"+ROUND(Y258/Y259,7)","v":{"$error":"#REF!"}},1.0416699999999999E-2,1.0416699999999999E-2,null,null,{"$f":"X260/(1-(X242+X243+X244+X245))","v":1.3540014383998693E-2},{"$f":"ROUND(AE240*AD260/1000,2)","v":0},{"$f":"ROUND(AE260*(1-X244),2)","v":0},{"$f":"ROUND(AE260*X244,2)","v":0}]
[]
[null,null,null,{"$f":"B247/(1-(B242+B243+B244+B245))","v":2.2000583366944961},{"$f":"ROUND(E240*D262/1000,2)","v":0},{"$f":"ROUND(E262*(1-B244),2)","v":0},{"$f":"ROUND(E262*B244,2)","v":0},null,null,null,null,null,null,null,null,null,null,null,null,null,null,null,null,null,null,null,null,null,null,{"$f":"X247/(1-(X242+X243+X244+X245))","v":2.2000583366944961},{"$f":"ROUND(AE240*AD262/1000,2)","v":0},{"$f":"ROUND(AE262*(1-X244),2)","v":0},{"$f":"ROUND(AE262*X244,2)","v":0}]
[]
[]
[]
[]
[]
[]
["Tipo de bien: Bienes","tasa de riesgo",null,"COMPLETA 4 - Contenido",null,null,null,null,null,null,null,null,null,null,null,null,null,null,null,null,null,null,"Tipo de bien: Bienes","tasa de riesgo","tasa comercial","tasa de riesgo","tasa comercial",null,null,"COMPLETA 4 - Contenido"]
[null,"Corredores",null,null,null,null,null,null,null,null,null,null,null,null,null,null,null,null,null,null,null,null,null,"Corredores","Corredores","NNDD","NNDD"]
["Gastos generales",0.1142203,null,null,null,null,null,null,null,null,null,null,null,null,null,null,null,null,null,null,null,null,"Gastos generales",0.1142203,3.0672905132556546E-2,0.13963639999999999,0.15]
["Gastos de comercialización",0,null,null,null,null,null,null,null,null,null,null,null,null,null,null,null,null,null,null,null,null,"Gastos de comercialización",0,0,0.05,0.05]
["Comisión local",0.2,null,null,null,null,null,null,null,null,null,null,null,null,null,null,null,null,null,null,null,null,"Comisión local",0.2,0.2,0,0]
["Utilidad antes de Imp",0,null,null,null,null,null,null,null,null,null,null,null,null,null,null,null,null,null,null,null,null,"Utilidad antes de Imp",0,0,0,3.0656799711687509E-2]
["Tasa comercial %o",{"$f":"+B276/(1-(B271+B272+B273+B274))","v":2.2000875791453143},null,"Tasa Comercial","Prima Neta","Prima","Comisión",null,null,null,null,null,null,null,null,null,null,null,null,null,null,null,"Tasa comercial %o",{"$f":"+X276/(1-(X271+X272+X273+X274))","v":2.2000875791453143},{"$f":"+SUM(Y277:Y281)","v":{"$error":"#REF!"}},{"$f":"+Z276/(1-(Z271+Z272+Z273+Z274))","v":2.2003151424866565},{"$f":"+SUM(AA277:AA281)","v":{"$error":"#REF!"}},null,null,"Tasa Comercial","Prima Neta","Prima","Comisión"]
["Tasa de Riesgo %o",{"$f":"+SUM(B277:B281)","v":1.5087753999999998},null,null,null,null,null,null,null,null,null,null,null,null,null,null,null,null,null,null,null,null,"Tasa de Riesgo %o",{"$f":"+SUM(X277:X281)","v":1.5087753999999998},null,{"$f":"+SUM(Z277:Z281)","v":1.7830553}]
["Incendio y/o rayo, explosión. Daños por agua, daños por humo, impacto de vehículos y/o aeronaves",0.41339979999999998,null,{"$f":"B277/(1-(B271+B272+B273+B274))","v":0.60281720208399281},{"$f":"ROUND(E269*D277/1000, 2)","v":0},{"$f":"ROUND(E277*(1-B273),2)","v":0},{"$f":"ROUND(E277*B273,2)","v":0},null,null,null,null,null,null,null,null,null,null,null,null,null,null,null,"Incendio y/o rayo, explosión. Daños por agua, daños por humo, impacto de vehículos y/o aeronaves",0.41339979999999998,{"$f":"+X277/(1-(#REF!+#REF!+#REF!+#REF!))","v":{"$error":"#REF!"}},0.41339979999999998,{"$f":"+Z277/(1-(#REF!+#REF!+#REF!+#REF!))","v":{"$error":"#REF!"}},null,null,{"$f":"X277/(1-(X271+X272+X273+X274))","v":0.60281720208399281},{"$f":"ROUND(AE269*AD277/1000, 2)","v":0},{"$f":"ROUND(AE277*(1-X273),2)","v":0},{"$f":"ROUND(AE277*X273,2)","v":0}]
["Terremoto, temblor",0.92508789999999996,null,{"$f":"B278/(1-(B271+B272+B273+B274))","v":1.3489578358764482},{"$f":"ROUND(E269*D278/1000,2)","v":0},{"$f":"ROUND(E278*(1-B273),2)","v":0},{"$f":"ROUND(E278*B273,2)","v":0},null,null,null,null,null,null,null,null,null,null,null,null,null,null,null,"Terremoto, temblor",0.92508789999999996,{"$f":"+X278/(1-(#REF!+#REF!+#REF!+#REF!))","v":{"$error":"#REF!"}},0.92508789999999996,{"$f":"+Z278/(1-(#REF!+#REF!+#REF!+#REF!))","v":{"$error":"#REF!"}},null,null,{"$f":"X278/(1-(X271+X272+X273+X274))","v":1.3489578358764482},{"$f":"ROUND(AE269*AD278/1000,2)","v":0},{"$f":"ROUND(AE278*(1-X273),2)","v":0},{"$f":"ROUND(AE278*X273,2)","v":0}]
["Riesgos de la naturaleza",0.1027875,null,{"$f":"B279/(1-(B271+B272+B273+B274))","v":0.14988413917763971},{"$f":"ROUND(E269*D279/1000,2)","v":0},{"$f":"ROUND(E279*(1-B273),2)","v":0},{"$f":"ROUND(E279*B273,2)","v":0},null,null,null,null,null,null,null,null,null,null,null,null,null,null,null,"Riesgos de la naturaleza",0.1027875,{"$f":"+X279/(1-(#REF!+#REF!+#REF!+#REF!))","v":{"$error":"#REF!"}},0.1027875,{"$f":"+Z279/(1-(#REF!+#REF!+#REF!+#REF!))","v":{"$error":"#REF!"}},null,null,{"$f":"X279/(1-(X271+X272+X273+X274))","v":0.14988413917763971},{"$f":"ROUND(AE269*AD279/1000,2)","v":0},{"$f":"ROUND(AE279*(1-X273),2)","v":0},{"$f":"ROUND(AE279*X273,2)","v":0}]
["Riesgos políticos y sociales",5.0000000000000001E-3,null,{"$f":"B280/(1-(B271+B272+B273+B274))","v":7.2909711383991101E-3},{"$f":"ROUND(E269*D280/1000,2)","v":0},{"$f":"ROUND(E280*(1-B273),2)","v":0},{"$f":"ROUND(E280*B273,2)","v":0},null,null,null,null,null,null,null,null,null,null,null,null,null,null,null,"Riesgos políticos y sociales",5.0000000000000001E-3,{"$f":"+X280/(1-(#REF!+#REF!+#REF!+#REF!))","v":{"$error":"#REF!"}},5.0000000000000001E-3,{"$f":"+Z280/(1-(#REF!+#REF!+#REF!+#REF!))","v":{"$error":"#REF!"}},null,null,{"$f":"X280/(1-(X271+X272+X273+X274))","v":7.2909711383991101E-3},{"$f":"ROUND(AE269*AD280/1000,2)","v":0},{"$f":"ROUND(AE280*(1-X273),2)","v":0},{"$f":"ROUND(AE280*X273,2)","v":0}]
["Asistencias",6.2500200000000006E-2,null,null,{"$f":"E283*B282","v":0},{"$f":"F283*B282","v":0},{"$f":"G283*B282","v":0},null,null,null,null,null,null,null,null,null,null,null,null,null,null,null,"Asistencias",6.2500200000000006E-2,{"$f":"+X281/(1-(#REF!+#REF!+#REF!+#REF!))","v":{"$error":"#REF!"}},0.33678010000000003,{"$f":"+Z281/(1-(#REF!+#REF!+#REF!+#REF!))","v":{"$error":"#REF!"}},null,null,null,{"$f":"AE283*X282","v":0},{"$f":"AF283*X282","v":0},{"$f":"AG283*X282","v":0}]
["Cantidad de asistencias",6,null,null,null,null,null,null,null,null,null,null,null,null,null,null,null,null,null,null,null,null,"Cantidad de asistencias",6,6,6,6]
["Tasa por asistencia",{"$f":"B281/B282","v":1.0416700000000001E-2},null,{"$f":"B283/(1-(B271+B272+B273+B274))","v":1.5189571811472404E-2},{"$f":"ROUND(E269*D283/1000,2)","v":0},{"$f":"ROUND(E283*(1-B273),2)","v":0},{"$f":"ROUND(E283*B273,2)","v":0},null,null,null,null,null,null,null,null,null,null,null,null,null,null,null,"Tasa por asistencia",{"$f":"X281/X282","v":1.0416700000000001E-2},{"$f":"+ROUND(Y281/Y282,7)","v":{"$error":"#REF!"}},1.0416699999999999E-2,1.0416699999999999E-2,null,null,{"$f":"X283/(1-(X271+X272+X273+X274))","v":1.5189571811472404E-2},{"$f":"ROUND(AE269*AD283/1000,2)","v":0},{"$f":"ROUND(AE283*(1-X273),2)","v":0},{"$f":"ROUND(AE283*X273,2)","v":0}]
[]
[null,null,null,{"$f":"B276/(1-(B271+B272+B273+B274))","v":2.2000875791453143},{"$f":"ROUND(E269*D285/1000,2)","v":0},{"$f":"ROUND(E285*(1-B273),2)","v":0},{"$f":"ROUND(E285*B273,2)","v":0},null,null,null,null,null,null,null,null,null,null,null,null,null,null,null,null,null,null,null,null,null,null,{"$f":"X276/(1-(X271+X272+X273+X274))","v":2.2000875791453143},{"$f":"ROUND(AE269*AD285/1000,2)","v":0},{"$f":"ROUND(AE285*(1-X273),2)","v":0},{"$f":"ROUND(AE285*X273,2)","v":0}]
[]
[]
[]
[]
[]
["Tipo de bien: Bienes con robo","Corredores",null,null,null,null,null,null,null,null,null,null,null,null,null,null,null,null,null,null,null,null,"Tipo de bien: Bienes con robo","Corredores","Corredores","NNDD","NNDD"]
["Gastos generales",0.15,null,null,null,null,null,null,null,null,null,null,null,null,null,null,null,null,null,null,null,null,"Gastos generales",0.15,0.15,0.15,0.15]
["Gastos de comercialización",0.05,null,null,null,null,null,null,null,null,null,null,null,null,null,null,null,null,null,null,null,null,"Gastos de comercialización",0.05,0.05,0.05,0.05]
["Comisión local",0.2,null,null,null,null,null,null,null,null,null,null,null,null,null,null,null,null,null,null,null,null,"Comisión local",0.2,0.2,0,0]
["Utilidad antes de Imp",9.4818600000000003E-2,null,null,null,null,null,null,null,null,null,null,null,null,null,null,null,null,null,null,null,null,"Utilidad antes de Imp",9.4818600000000003E-2,9.4818618872647503E-2,0.29477880000000001,0.29477881366445952]
["Tasa comercial %o",{"$f":"+B297/(1-(B292+B293+B294+B295))","v":4.9999008277026826},null,"Tasa Comercial","Prima Neta","Prima","Comisión",null,null,null,null,null,null,null,null,null,null,null,null,null,null,null,"Tasa comercial %o",{"$f":"+X297/(1-(X292+X293+X294+X295))","v":4.9999008277026826},{"$f":"+SUM(Y298:Y301)","v":{"$error":"#REF!"}},{"$f":"+Z297/(1-(Z292+Z293+Z294+Z295))","v":4.9995069486395263},{"$f":"+SUM(AA298:AA301)","v":{"$error":"#REF!"}},null,null,"Tasa Comercial","Prima Neta","Prima","Comisión"]
["Tasa de Riesgo %o",{"$f":"+SUM(B298:B301)","v":2.5258569},null,null,null,null,null,null,null,null,null,null,null,null,null,null,null,null,null,null,null,null,"Tasa de Riesgo %o",{"$f":"+SUM(X298:X301)","v":2.5258569},null,{"$f":"+SUM(Z298:Z301)","v":2.5258569}]
["Robo y/o daños por intento de robo de bienes ",2.4425075000000001,null,{"$f":"B298/(1-(B292+B293+B294+B295))","v":4.8349117762451268},{"$f":"ROUND(E269*D298/1000,2)","v":0},{"$f":"ROUND(E298*(1-B294),2)","v":0},{"$f":"ROUND(E298*B294,2)","v":0},null,null,null,null,null,null,null,null,null,null,null,null,null,null,null,"Robo y/o daños por intento de robo de bienes ",2.4425075000000001,{"$f":"+X298/(1-(#REF!+#REF!+#REF!+#REF!))","v":{"$error":"#REF!"}},2.4425075000000001,{"$f":"+Z298/(1-(#REF!+#REF!+#REF!+#REF!))","v":{"$error":"#REF!"}},null,null,{"$f":"X298/(1-(X292+X293+X294+X295))","v":4.8349117762451268},{"$f":"ROUND(AE269*AD298/1000,2)","v":0},{"$f":"ROUND(AE298*(1-X294),2)","v":0},{"$f":"ROUND(AE298*X294,2)","v":0}]
["Robo y/o daños por intento de robo de bienes especiales: joyas, platería, relojes, obras de arte, cámaras fotográficas o de video, laptops y bicicletas dentro de la vivienda o que estén siendo portados fuera de la vivienda",6.2311999999999999E-2,null,{"$f":"B299/(1-(B292+B293+B294+B295))","v":0.12334579222433763},{"$f":"ROUND(E269*D299/1000,2)","v":0},{"$f":"ROUND(E299*(1-B294),2)","v":0},{"$f":"ROUND(E299*B294,2)","v":0},null,null,null,null,null,null,null,null,null,null,null,null,null,null,null,"Robo y/o daños por intento de robo de bienes especiales: joyas, platería, relojes, obras de arte, cámaras fotográficas o de video, laptops y bicicletas dentro de la vivienda o que estén siendo portados fuera de la vivienda",6.2311999999999999E-2,{"$f":"+X299/(1-(#REF!+#REF!+#REF!+#REF!))","v":{"$error":"#REF!"}},6.2311999999999999E-2,{"$f":"+Z299/(1-(#REF!+#REF!+#REF!+#REF!))","v":{"$error":"#REF!"}},null,null,{"$f":"X299/(1-(X292+X293+X294+X295))","v":0.12334579222433763},{"$f":"ROUND(AE269*AD299/1000,2)","v":0},{"$f":"ROUND(AE299*(1-X294),2)","v":0},{"$f":"ROUND(AE299*X294,2)","v":0}]
["Hurto",1.3968700000000001E-2,null,{"$f":"B300/(1-(B292+B293+B294+B295))","v":2.7650859671397247E-2},{"$f":"ROUND(E269*D300/1000,2)","v":0},{"$f":"ROUND(E300*(1-B294),2)","v":0},{"$f":"ROUND(E300*B294,2)","v":0},null,null,null,null,null,null,null,null,null,null,null,null,null,null,null,"Hurto",1.3968700000000001E-2,{"$f":"+X300/(1-(#REF!+#REF!+#REF!+#REF!))","v":{"$error":"#REF!"}},1.3968700000000001E-2,{"$f":"+Z300/(1-(#REF!+#REF!+#REF!+#REF!))","v":{"$error":"#REF!"}},null,null,{"$f":"X300/(1-(X292+X293+X294+X295))","v":2.7650859671397247E-2},{"$f":"ROUND(AE269*AD300/1000,2)","v":0},{"$f":"ROUND(AE300*(1-X294),2)","v":0},{"$f":"ROUND(AE300*X294,2)","v":0}]
["Deshonestidad de trabajadores del hogar",7.0686999999999998E-3,null,{"$f":"B301/(1-(B292+B293+B294+B295))","v":1.3992399561820763E-2},{"$f":"ROUND(E269*D301/1000,2)","v":0},{"$f":"ROUND(E301*(1-B294),2)","v":0},{"$f":"ROUND(E301*B294,2)","v":0},null,null,null,null,null,null,null,null,null,null,null,null,null,null,null,"Deshonestidad de trabajadores del hogar",7.0686999999999998E-3,{"$f":"+X301/(1-(#REF!+#REF!+#REF!+#REF!))","v":{"$error":"#REF!"}},7.0686999999999998E-3,{"$f":"+Z301/(1-(#REF!+#REF!+#REF!+#REF!))","v":{"$error":"#REF!"}},null,null,{"$f":"X301/(1-(X292+X293+X294+X295))","v":1.3992399561820763E-2},{"$f":"ROUND(AE269*AD301/1000,2)","v":0},{"$f":"ROUND(AE301*(1-X294),2)","v":0},{"$f":"ROUND(AE301*X294,2)","v":0}]
[]
[null,null,null,{"$f":"B297/(1-(B292+B293+B294+B295))","v":4.9999008277026826},{"$f":"ROUND(E269*D303/1000,2)","v":0},{"$f":"ROUND(E303*(1-B294),2)","v":0},{"$f":"ROUND(E303*B294,2)","v":0},null,null,null,null,null,null,null,null,null,null,null,null,null,null,null,null,null,null,null,null,null,null,{"$f":"X297/(1-(X292+X293+X294+X295))","v":4.9999008277026826},{"$f":"ROUND(AE269*AD303/1000,2)","v":0},{"$f":"ROUND(AE303*(1-X294),2)","v":0},{"$f":"ROUND(AE303*X294,2)","v":0}]
[]
[null,null,null,"TOTAL COMPLETA 4",{"$f":"E262+E285+E303","v":0},{"$f":"IF(F307<>F306,F306,F307)","v":{"$error":"#REF!"}},{"$f":"IF(G307<>G306,G306,G307)","v":{"$error":"#REF!"}},null,null,null,null,null,null,null,null,null,null,null,null,null,null,null,null,null,null,null,null,null,null,"TOTAL COMPLETA 4",{"$f":"AE262+AE285+AE303","v":0},{"$f":"IF(AF262+AF285+AF303<>AF310,AF310,AF303)","v":0},{"$f":"AG262+AG285+AG303","v":0}]
[null,null,null,null,"Suma Ajustada",{"$f":"#REF!+#REF!","v":{"$error":"#REF!"}},{"$f":"#REF!+#REF!","v":{"$error":"#REF!"}},null,null,null,null,null,null,null,null,null,null,null,null,null,null,null,null,null,null,null,null,null,null,null,"Suma de Cob",{"$f":"SUM(AF298:AF301)+SUM(AF277:AF281)+SUM(AF248:AF258)","v":0},{"$f":"SUM(AG298:AG301)+SUM(AG277:AG281)+SUM(AG248:AG258)","v":0}]
[null,null,null,null,"Suma Esperada",{"$f":"F262+F285+F303","v":0},{"$f":"E305*B294","v":0},null,null,null,null,null,null,null,null,null,null,null,null,null,null,null,null,null,null,null,null,null,null,null,"Esperado",{"$f":"AE305*(1-X294)","v":0},{"$f":"AE305*X294","v":0}]
[null,null,null,null,null,null,null,null,null,null,null,null,null,null,null,null,null,null,null,null,null,null,null,null,null,null,null,null,null,null,"Faltante",{"$f":"AF307-AF306","v":0},{"$f":"AG307-AG305","v":0}]
[null,null,null,null,null,null,null,null,null,null,null,null,null,null,null,null,null,null,null,null,null,null,null,null,null,null,null,null,null,null,null,{"$f":"AF248+AF308","v":0},{"$f":"AG248+AG308","v":0}]
[null,null,null,null,null,null,null,null,null,null,null,null,null,null,null,null,null,null,null,null,null,null,null,null,null,null,null,null,null,null,{"$f":"AF310+AG310","v":0},{"$f":"ROUND(AF306-AF248+AF309,2)","v":0},{"$f":"ROUND(AG305-AG248+AG309,2)","v":0}]
[]
[null,null,null,null,null,null,null,null,{"$f":"+I59+I75","v":633.95000000000016},{"$f":"+J59+J75","v":629.83050000000003},629.83050000000003,729.75049999999999]

{"sheet":"PRIMER RIESGO INMUEBLEx","index":28,"n_rows":29,"n_cols":4,"rows_kept":29,"cut":false,"hidden":true,"merged":[[22,0,22,3]]}
["PRIMER RIESGO INMUEBLE",null,null,"Ir a Cotizador"]
[]
[]
[null,"Seleccione el Plan elegido"]
["Límite asegurado por vigencia"]
[]
[]
[]
[]
["Límite asegurado por vigencia (solo INMUEBLE)","Plan 50,000","Plan 100,000","Plan 250,000"]
["Prima comercial inc. IGV anual"]
["Prima comercial inc. IGV mensual","S/ 61.90","S/ 71.90","S/ 99.90"]
["Cobertura principal"]
["Incendio y/o rayo, explosión, incendio en aparatos eléctricos. Daños por agua, daños por humo, impacto de vehículos y/o aeronaves o daños por riesgos políticos y sociales","Hasta S/ 50,000","Hasta S/ 100,000","Hasta S/ 250,000"]
["Coberturas adicionales"]
["Terremoto, temblor, maremoto, Inundaciones y riesgos de la naturaleza","Hasta S/ 50,000 \nsuma asegurada que forma parte de la cobertura principal","Hasta S/ 100,000 \nsuma asegurada que forma parte de la cobertura principal","Hasta S/ 250,000 \nsuma asegurada que forma parte de la cobertura principal"]
["Gastos extraordinarios: remoción de escombros, honorarios profesionales y construcción de documentos y modelos ","Hasta S/ 10,000 \nsuma asegurada que forma parte de la cobertura principal","Hasta S/ 20,000 \nsuma asegurada que forma parte de la cobertura principal","Hasta S/ 50,000 \nsuma asegurada que forma parte de la cobertura principal"]
["Responsabilidad civil frente a terceros","Hasta S/ 50,000","Hasta S/ 100,000","Hasta S/ 250,000"]
["Asistencias"]
["Asistencia de emergencia en el hogar","Hasta S/ 500 por cada servicio, máximo 3 atenciones de cada servicio de cerrajería, gasfitería, electricidad, y vidriería, por vigencia de la póliza","Hasta S/ 800 por cada servicio, máximo 3 atenciones de cada servicio de cerrajería, gasfitería, electricidad, y vidriería, por vigencia de la póliza","Hasta S/ 1,000 por cada servicio, máximo 3 atenciones de cada servicio de cerrajería, gasfitería, electricidad, y vidriería, por vigencia de la póliza"]
["Médico en línea","Sin límite","Sin límite","Sin límite"]
["Ambulancia por accidente para el asegurado (las 24 horas del día todos los días del año)","Hasta S/ 500, máximo 3 atenciones por vigencia de la póliza","Hasta S/ 800, máximo 3 atenciones por vigencia de la póliza","Hasta S/ 1,000, máximo 3 atenciones por vigencia de la póliza"]
["Deducibles:\nAplicables por evento/pérdida, en caso de discrepancia prevalece el mayor"]
["Terremoto / Maremoto","Hasta el 1% del límite asegurado, mínimo S/ 600","Hasta el 1% del límite asegurado, mínimo S/ 600","Hasta el 1% del límite asegurado, mínimo S/ 600"]
["Otros Riesgos de la Naturaleza (entre ellos lluvia, inundación, otros)","Hasta 10% del monto indenmizable, mínimo S/ 600","Hasta 10% del monto indenmizable, mínimo S/ 600","Hasta 10% del monto indenmizable, mínimo S/ 600"]
["Daños por agua","Hasta 10% del monto indenmizable, mínimo S/ 600","Hasta 10% del monto indenmizable, mínimo S/ 600","Hasta 10% del monto indenmizable, mínimo S/ 600"]
["Riesgos políticos y sociales","Hasta 10% del monto indenmizable, mínimo S/ 600","Hasta 10% del monto indenmizable, mínimo S/ 600","Hasta 10% del monto indenmizable, mínimo S/ 600"]
["Responsabilidad civil frente a terceros","Hasta 10% del monto indenmizable, mínimo S/ 600","Hasta 10% del monto indenmizable, mínimo S/ 600","Hasta 10% del monto indenmizable, mínimo S/ 600"]
["Demás coberturas","Sin deducible","Sin deducible","Sin deducible"]

{"sheet":"PRIMER RIESGO BIENESx","index":29,"n_rows":30,"n_cols":4,"rows_kept":30,"cut":false,"hidden":true,"merged":[[23,0,23,3]]}
["PRIMER RIESGO BIENES",null,null,"Ir a Cotizador"]
[]
[]
[null,"Seleccione el Plan elegido"]
["Límite asegurado por vigencia","Plan 10,000"]
[]
[]
[]
[]
["Límite asegurado por vigencia (solo BIENES)","Plan 10,000","Plan 20,000","Plan 50,000"]
["Prima comercial inc. IGV anual","S/ 394.80","S/ 490.80","S/ 622.80"]
["Prima comercial inc. IGV mensual","S/ 32.90","S/ 40.90","S/ 51.90"]
["Cobertura principal"]
["Incendio y/o rayo, explosión, incendio en aparatos eléctricos. Daños por agua, daños por humo, impacto de vehículos y/o aeronaves o daños por riesgos políticos y sociales","Hasta S/ 10,000","Hasta S/ 20,000","Hasta S/ 50,000"]
["Coberturas adicionales"]
["Robo y/o daños por intento de robo (dentro y fuera de la vivienda a nivel nacional)","Hasta S/ 10,000","Hasta S/ 20,000","Hasta S/ 50,000"]
["Robo y/o daños por intento de robo de joyas, platería, relojes, obras de arte, cámaras fotográficas o de video, laptops y bicicletas dentro de la vivienda o que estén siendo portados fuera de la vivienda","no aplica","Hasta S/ 4,000","Hasta S/ 5,000"]
["Terremoto, temblor, maremoto, Inundaciones y riesgos de la naturaleza","Hasta S/ 10,000 \nsuma asegurada que forma parte de la cobertura principal","Hasta S/ 20,000 \nsuma asegurada que forma parte de la cobertura principal","Hasta S/ 50,000 \nsuma asegurada que forma parte de la cobertura principal"]
["Gastos extraordinarios: remoción de escombros, honorarios profesionales y construcción de documentos y modelos ","Hasta S/ 2,000 \nsuma asegurada que forma parte de la cobertura principal","Hasta S/ 4,000 \nsuma asegurada que forma parte de la cobertura principal","Hasta S/ 10,000 \nlímite asegurado que forma parte de la cobertura principal"]
["Asistencias"]
["Asistencia de emergencia en el hogar","Hasta S/ 500 por cada servicio, máximo 3 atenciones de cada servicio de cerrajería, gasfitería, electricidad, y vidriería, por vigencia de la póliza","Hasta S/ 800 por cada servicio, máximo 3 atenciones de cada servicio de cerrajería, gasfitería, electricidad, y vidriería, por vigencia de la póliza","Hasta S/ 1,000 por cada servicio, máximo 3 atenciones de cada servicio de cerrajería, gasfitería, electricidad, y vidriería, por vigencia de la póliza"]
["Orientación médica telefónica","Sin límite","Sin límite","Sin límite"]
["Ambulancia por accidente para el asegurado (las 24 horas del día todos los días del año)","Hasta S/ 500 máximo 3 atenciones por vigencia de la póliza","Hasta S/ 800 máximo 3 atenciones por vigencia de la póliza","Hasta S/ 1,000 máximo 3 atenciones por vigencia de la póliza"]
["Deducibles:\nAplicables por evento/pérdida, en caso de discrepancia prevalece el mayor"]
["Robo y/o daños por intento de robo","Hasta 10% del monto indenmizable, mínimo S/ 600","Hasta 10% del monto indenmizable, mínimo S/ 600","Hasta 10% del monto indenmizable, mínimo S/ 600"]
["Terremoto / Maremoto","Hasta el 1% del límite asegurado, mínimo S/ 600","Hasta el 1% del límite asegurado, mínimo S/ 600","Hasta el 1% del límite asegurado, mínimo S/ 600"]
["Otros Riesgos de la Naturaleza (entre ellos lluvia, inundación, otros)","Hasta 10% del monto indenmizable, mínimo S/ 600","Hasta 10% del monto indenmizable, mínimo S/ 600","Hasta 10% del monto indenmizable, mínimo S/ 600"]
["Daños por agua","Hasta 10% del monto indenmizable, mínimo S/ 600","Hasta 10% del monto indenmizable, mínimo S/ 600","Hasta 10% del monto indenmizable, mínimo S/ 600"]
["Riesgos políticos y sociales","Hasta 10% del monto indenmizable, mínimo S/ 600","Hasta 10% del monto indenmizable, mínimo S/ 600","Hasta 10% del monto indenmizable, mínimo S/ 600"]
["Demás coberturas","Sin deducible","Sin deducible","Sin deducible"]

{"sheet":"PRIMER RIESGO INMUEBLE+BIENESx","index":30,"n_rows":33,"n_cols":4,"rows_kept":33,"cut":false,"hidden":true,"merged":[[25,0,25,3]]}
["PRIMER RIESGO INMUEBLE+BIENES",null,null,"Ir a Cotizador"]
[]
[]
[null,"Seleccione el Plan elegido"]
["Límite asegurado por vigencia"]
[]
[]
[]
[]
["Límite asegurado por vigencia (INMUEBLE)","Plan 50,000","Plan 100,000","Plan 250,000"]
["Límite asegurado por vigencia (BIENES)","Plan 20,000","Plan 50,000","Plan 100,000"]
["Prima comercial inc. IGV anual"]
["Prima comercial inc. IGV mensual"]
["Cobertura principal"]
["Incendio y/o rayo, explosión, incendio en aparatos eléctricos. Daños por agua, daños por humo, impacto de vehículos y/o aeronaves o daños por riesgos políticos y sociales","Hasta S/ 50,000 para inmueble y hasta S/ 20,000 para bienes","Hasta S/ 100,000 para inmueble y hasta S/ 50,000 para bienes","Hasta S/ 250,000 para inmueble y hasta S/ 100,000 para bienes"]
["Coberturas adicionales"]
["Terremoto, temblor, maremoto, Inundaciones y riesgos de la naturaleza","Hasta S/ 50,000 para inmueble y hasta S/ 20,000 para bienes,\nsuma asegurada que forma parte de la cobertura principal","Hasta S/ 100,000 para inmueble y hasta S/ 50,000 para bienes,\nsuma asegurada que forma parte de la cobertura principal","Hasta S/ 250,000 para inmueble y hasta S/ 100,000 para bienes,\nsuma asegurada que forma parte de la cobertura principal"]
["Responsabilidad civil frente a terceros","Hasta S/ 50,000 para inmueble","Hasta S/ 100,000 para inmueble","Hasta S/ 250,000 para inmueble"]
["Robo y/o daños por intento de robo (dentro y fuera de la vivienda a nivel nacional)","Hasta S/ 20,000 para bienes","Hasta S/ 50,000 para bienes","Hasta S/ 100,000 para bienes"]
["Robo y/o daños por intento de robo de joyas, platería, relojes, obras de arte, cámaras fotográficas o de video, laptops y bicicletas dentro de la vivienda o que estén siendo portados fuera de la vivienda","Hasta S/ 4,000 para bienes","Hasta S/ 5,000 para bienes","Hasta S/ 10,000 para bienes"]
["Gastos extraordinarios: remoción de escombros, honorarios profesionales y construcción de documentos y modelos ","Hasta  S/ 10,000 para inmueble y hasta S/4,000 para bienes,\nsuma asegurada que forma parte de la cobertura principal","Hasta  S/ 20,000 para inmueble y hasta S/ 10,000 para bienes,\nsuma asegurada que forma parte de la cobertura principal","Hasta  S/ 50,000 para inmueble y hasta S/ 20,000 para bienes,\nsuma asegurada que forma parte de la cobertura principal"]
["Asistencias"]
["Asistencia de emergencia en el hogar","Hasta S/ 500 por cada servicio, máximo 3 atenciones de cada servicio de cerrajería, gasfitería, electricidad, y vidriería, por vigencia de la póliza","Hasta S/ 800 por cada servicio, máximo 3 atenciones de cada servicio de cerrajería, gasfitería, electricidad, y vidriería, por vigencia de la póliza","Hasta S/ 1,000 por cada servicio, máximo 3 atenciones de cada servicio de cerrajería, gasfitería, electricidad, y vidriería, por vigencia de la póliza"]
["Orientación médica telefónica","Sin límite","Sin límite","Sin límite"]
["Ambulancia por accidente para el asegurado (las 24 horas del día todos los días del año)","Hasta S/ 500 máximo 3 atenciones por vigencia de la póliza","Hasta S/ 800 máximo 3 atenciones por vigencia de la póliza","Hasta S/ 1,000 máximo 3 atenciones por vigencia de la póliza"]
["Deducibles:\nAplicables por evento/pérdida, en caso de discrepancia prevalece el mayor"]
["Terremoto / Maremoto","Hasta el 1% del límite asegurado, mínimo S/ 600","Hasta el 1% del límite asegurado, mínimo S/ 600","Hasta el 1% del límite asegurado, mínimo S/ 600"]
["Otros Riesgos de la Naturaleza (entre ellos lluvia, inundación, otros)","Hasta 10% del monto indenmizable, mínimo S/ 600","Hasta 10% del monto indenmizable, mínimo S/ 600","Hasta 10% del monto indenmizable, mínimo S/ 600"]
["Daños por agua","Hasta 10% del monto indenmizable, mínimo S/ 600","Hasta 10% del monto indenmizable, mínimo S/ 600","Hasta 10% del monto indenmizable, mínimo S/ 600"]
["Riesgos políticos y sociales","Hasta 10% del monto indenmizable, mínimo S/ 600","Hasta 10% del monto indenmizable, mínimo S/ 600","Hasta 10% del monto indenmizable, mínimo S/ 600"]
["Responsabilidad civil frente a terceros","Hasta 10% del monto indenmizable, mínimo S/ 600","Hasta 10% del monto indenmizable, mínimo S/ 600","Hasta 10% del monto indenmizable, mínimo S/ 600"]
["Robo y/o daños por intento de robo","Hasta 10% del monto indenmizable, mínimo S/ 600","Hasta 10% del monto indenmizable, mínimo S/ 600","Hasta 10% del monto indenmizable, mínimo S/ 600"]
["Demás coberturas","Sin deducible","Sin deducible","Sin deducible"]

{"sheet":"IngresoSolicitud","index":31,"n_rows":262,"n_cols":30,"rows_kept":262,"cut":false,"hidden":true,"merged":[[261,3,261,9],[1,1,1,29],[160,5,160,12],[160,20,160,30],[173,2,173,30],[175,2,175,30],[179,2,192,15],[194,2,195,15],[130,6,130,10],[132,6,132,10],[134,6,134,10],[138,2,139,30],[122,26,122,30],[158,25,158,30],[36,23,36,24],[37,10,37,23],[37,26,37,30],[168,2,168,30],[169,2,169,30],[170,2,170,30],[56,13,56,24],[56,26,56,27],[56,28,56,30],[57,2,57,5],[57,6,57,12],[57,13,57,24],[57,26,57,27],[57,28,57,30],[60,2,60,5],[12,3,12,10],[12,13,12,23],[30,3,30,10],[30,13,30,23],[28,26,28,30],[53,2,53,11],[38,5,38,11],[21,5,21,11],[2,26,7,30],[15,7,15,19],[15,25,15,30],[19,9,19,21],[19,23,19,24],[20,26,20,30],[21,13,21,17],[21,22,21,25],[21,27,21,30],[217,2,222,15],[236,2,240,15],[242,2,251,15],[52,5,52,9],[73,2,74,25],[76,2,76,25],[101,25,102,28],[114,6,114,9],[158,7,158,20],[126,7,126,12],[93,14,93,18],[93,22,93,28],[119,6,119,9],[122,11,122,24],[126,14,126,18],[125,7,125,30],[95,25,96,28],[98,25,99,28],[93,4,93,8],[83,2,84,30],[85,2,86,30],[52,13,52,17],[52,23,52,25],[197,2,210,15],[212,2,214,15],[212,17,214,30],[36,7,36,21],[38,13,38,17],[38,22,38,25],[38,27,38,30],[39,6,39,11],[48,23,48,24],[48,7,48,21],[49,10,49,23],[51,5,51,11],[51,13,51,17],[51,22,51,25],[171,2,171,30],[172,2,172,30],[167,2,167,30],[178,17,186,30],[188,17,196,30],[198,17,203,30],[53,23,53,25],[64,25,64,30],[50,10,50,12],[56,2,56,5],[56,6,56,12],[226,17,231,30],[243,17,248,30],[225,2,233,15],[30,28,30,30],[12,28,12,30],[34,21,34,24],[77,19,77,24],[39,13,39,24],[39,26,39,30],[40,7,40,30],[14,8,14,30],[17,21,17,24],[17,26,17,30],[31,8,31,30],[20,10,20,23],[22,6,22,11],[22,13,22,24],[33,26,34,30],[22,26,22,30],[23,7,23,30],[32,7,32,19],[32,25,32,30],[51,27,51,30],[49,26,49,30],[118,6,118,9],[60,6,60,12],[60,13,60,24],[60,26,60,27],[60,28,60,30],[58,2,58,5],[58,6,58,12],[58,13,58,24],[58,26,58,27],[58,28,58,30],[59,2,59,5],[59,6,59,12],[59,13,59,24],[59,26,59,27],[59,28,59,30],[70,2,71,25],[115,6,115,9]]}
[null,null,null,null,null,null,null,null,null,null,null,null,null,null,null,null,null,null,null,null,null,null,null,null,null,null,"Volver al Panel"]
[null,"Ingreso Manual de Solicitud Seguro Hogar"]
[null,null,null,null,null,null,null,null,null,null,null,null,null,null,null,null,null,null,null,null,null,null,null,null,null,null,"Nota Importante\nIngresar la información en los recuadros de la solicitud. Una vez que termine de ingresar los datos, proceda a validarlos."]
[]
[]
[]
[]
[null,null,"Solicitud de Seguro Hogar Flex"]
[null,null,"Contratante"]
[]
[null,null,"Persona Natural",null,null,null,null,null,null,null,null,null,"Persona Juridica"]
[]
[null,null,"DNI",null,null,null,null,null,null,null,null,null,"RUC",null,null,null,null,null,null,null,null,null,null,null,null,"Otro (indicar tipo y número)"]
[]
[null,null,"Nombre / Razon Social"]
[null,null,"Apellido Paterno",null,null,null,null,null,null,null,null,null,null,null,null,null,null,null,null,null,"Apellido Materno"]
[]
[null,null,"Sexo",null,null," <- Seleccione botón",null,null,null,null,"Fecha de Nacimiento",null,null,null,null,null,null,null,null,null,"Estado Civil",null,null,null,null,"Nacionalidad"]
[null,null,null,null,null,null,null,null,null,null,null,null,null,"dd/","mm/","aa"]
[null,null,"Direccion (Jr. / Cl / Av)",null,null,null,null,null,null,null,null,null,null,null,null,null,null,null,null,null,null,null,"Nro",null,null,"Dpto/Piso/Int",null,"Mz",null,"Lt"]
[null,null,"Urbanizacion (Urb / AAHH / Coop)",null,null,null,null,null,null,null,null,null,null,null,null,null,null,null,null,null,null,null,null,null,null,"Sec / Etapa / Zona"]
[null,null,"Departamento",null,null,null,null,null,null,null,null,null,"Provincia",null,null,null,null,null,"Distrito",null,null,null,null,null,null,null,"País","PERU"]
[null,null,"Telefono Casa",null,null,null,null,null,null,null,null,null,"Telefono trabajo",null,null,null,null,null,null,null,null,null,null,null,null,"Telefono Movil"]
[null,null,"Correo electronico(*)"]
[null,null,"(*) Para recibir informacion del contrato de seguro y/o cualquier comunicación necesaria para su ejecucion."]
[]
[null,null,"Asegurado   ¿El contratante es diferente del asegurado? (SI / NO)",null,null,null,null,null,null,null,null,null,null,"SI"]
[]
[null,null,"Persona Natural",null,null,null,null,null,null,null,null,null,"Persona Juridica"]
[]
[null,null,"DNI",null,null,null,null,null,null,null,null,null,"RUC",null,null,null,null,null,null,null,null,null,null,null,null,"Otro (indicar tipo y número)"]
[null,null,"Nombre / Razon Social"]
[null,null,"Apellido Paterno",null,null,null,null,null,null,null,null,null,null,null,null,null,null,null,null,null,"Apellido Paterno"]
[]
[null,null,"Sexo",null,null,"< Seleccione opción",null,null,null,null,"Fecha de Nacimiento",null,null,null,null,null,null,null,null,null,"Estado Civil",null,null,null,null,"Nacionalidad"]
[null,null,null,null,null,null,null,null,null,null,null,null,null,"dd/","mm/","aa"]
[null,null,"Direccion (Jr. / Cl / Av)",null,null,null,null,null,null,null,null,null,null,null,null,null,null,null,null,null,null,null,"Nro",null,null,"Dpto/Piso/Int",null,"Mz",null,"Lt"]
[null,null,"Urbanizacion (Urb / AAHH / Coop)",null,null,null,null,null,null,null,null,null,null,null,null,null,null,null,null,null,null,null,null,null,null,"Sec / Etapa / Zona"]
[null,null,"Departamento",null,null,null,null,null,null,null,null,null,"Provincia",null,null,null,null,null,"Distrito",null,null,null,null,null,null,null,"País"]
[null,null,"Teléfono Casa",null,null,null,null,null,null,null,null,null,"Teléfono trabajo",null,null,null,null,null,null,null,null,null,null,null,null,"Teléfono Móvil"]
[null,null,"Correo electronico(*)"]
[null,null,"(*) Para recibir informacion del contrato de seguro y/o cualquier comunicación necesaria para su ejecucion."]
[]
[null,null,"Datos del Inmueble",null,null,null,null,null,"¿La dirección del asegurado es la misma que del inmueble a asegurar? (SI / NO)",null,null,null,null,null,null,null,null,null,null,null,null,null,null,"NO"]
[]
[null,null,"El seguro de hogar le otorga cobertura si su Inmueble y/o los Bienes contenidos en él son usados como casa habitación. "]
[]
[null,null,"Tipo de vivienda:",null,null,null,"Casa",null,null,null,{"$f":"IF(LEN(Cotizador!$E$34)>0,Cotizador!$E$34,\"\")","v":""},null,"Departamento",{"$f":"IF(LEN(Cotizador!$E$35)>0,Cotizador!$E$35,\"\")","v":""}]
[null,null,"Direccion (Jr. / Cl / Av)",null,null,null,null,null,null,null,null,null,null,null,null,null,null,null,null,null,null,null,"Nro",null,null,"Dpto/Piso/Int",null,"Mz",null,"Lt"]
[null,null,"Urbanizacion (Urb / AAHH / Coop)",null,null,null,null,null,null,null,null,null,null,null,null,null,null,null,null,null,null,null,null,null,null,"Sec / Etapa / Zona"]
[null,null,"(*) Tipo de Material de Construccion"]
[null,null,"Departamento",null,null,null,null,null,null,null,null,null,"Provincia",null,null,null,null,null,"Distrito",null,null,null,null,null,null,null,"País","PERU"]
[null,null,"Nro de Pisos",null,null,null,null,null,null,null,"Nro de Sótanos",null,null,null,null,null,null,null,"Año de construcción"]
[null,null,"Nro de pisos de la ubicación de la vivienda",null,null,null,null,null,null,null,null,null,null,null,null,null,null,null,"m2 construccion"]
[]
[null,null,"Material de construccion predominante"]
[null,null,"(*) COD MATERIAL",null,null,null,"MATERIAL DE CONSTRUCCION",null,null,null,null,null,null,"DEFINICIÓN",null,null,null,null,null,null,null,null,null,null,null,"PISOS\n# MAXIMO","SOTANOS\n# MAXIMO",null,"SELECCIONADO"]
[null,null,"3.0CA",null,null,null,"PÓRTICOS DE CONCRETO ARMADO",null,null,null,null,null,null,"Estuctura resistente formada por columnas y vigas de concreto armado, formando pórticos, las columnas pueden ser cuadradas o circulares.",null,null,null,null,null,null,null,null,null,null,null,10,10,null,"NO"]
[null,null,"4.0CP",null,null,null,"PÓRTICOS DE CONCRETO ARMADO CON PLACAS",null,null,null,null,null,null,"Similar a 3.OCA, adicionalmente cuenta con muros de concreto armado (placas) que aumentan la rigidez.",null,null,null,null,null,null,null,null,null,null,null,32,10,null,"NO"]
[null,null,"8.0M2R",null,null,null,"MAMPOSTERÍA ARMADA O CONFINADA CON DIAFRAGMAS RÍGIDOS",null,null,null,null,null,null,"Muros portantes de ladrillos de arcilla que tienen columnas de confinamiento en los extremos, o refuerzo interior de acero, con losas aligeradas o macizas.",null,null,null,null,null,null,null,null,null,null,null,4,1,null,"NO"]
[null,null,"9.0M2F",null,null,null,"MAMPOSTERÍA ARMADA O CONFINADA CON DIAFRAGMAS FLEXIBLES",null,null,null,null,null,null,"Muros portantes de ladrillos de arcilla que tienen columnas de confinamiento en los extremos, o refuerzo interior de acero, con piso o techo flexible de vigas de madera o acero.",null,null,null,null,null,null,null,null,null,null,null,4,1,null,"NO"]
[null,null,"Sistema de seguridad en la vivienda:"]
[null,null,null,null,null,"Alarma",null,null,null,null,null,null,"Cámara de seguridad",null,null,null,null,"Sensor de movimiento"]
[]
[null,null,null,null,null,"Cerco eléctrico",null,null,null,null,null,null,"Detector de humo",null,null,null,null,"Ninguno"]
[]
[null,null,"Declaración Jurada"]
[]
[null,null,"Marque la respuesta que considere correcta a todas las preguntas:"]
[]
[null,null,"1) 1. ¿El 80% o más del material de construcción predominante del inmueble es noble \no de concreto armado, pórtico de acero, mampostería o similares? ",null,null,null,null,null,null,null,null,null,null,null,null,null,null,null,null,null,null,null,null,null,null,null,null,"SI",null,"No"]
[]
[]
[null,null,"2) ¿La ubicación del inmueble está a más de 500 metros de distancia de un río, playa o laguna/lago y a más de 15 metros de altura de alguno de estos?",null,null,null,null,null,null,null,null,null,null,null,null,null,null,null,null,null,null,null,null,null,null,null,null,"SI",null,"No"]
[]
[]
[null,null,"3) El inmueble tiene más de 50 años de construcción",null,null,null,null,null,null,null,null,null,null,null,null,null,null,null,null,null,null,null,null,null,null,null,null,"SI",null,"No"]
[null,null,"En caso marque Sí indique el año de la última remodelación"]
[]
[]
[null,null,"¿Qué es lo que quieres proteger?"]
[]
[null,null,null,null,null,"Inmueble¹",null,null,null,{"$f":"IF(LEN(Cotizador!$H$29)>0,Cotizador!$H$29,\"\")","v":""},null,null,"Bienes² ",null,{"$f":"IF(LEN(Cotizador!$K$29)>0,Cotizador!$K$29,\"\")","v":""},null,null,"Inmueble y Bienes",null,null,null,null,null,{"$f":"IF(LEN(Cotizador!$O$29)>0,Cotizador!$O$29,\"\")","v":""}]
[null,null,"¹ Se considera la estructura de tu vivienda y también los elementos que se encuentren fijados a ella, tales como redes telefónicas, muebles de cocina que se encuentren empotrados en la pared, armarios empotrados, calefacción, aire acondicionado, entre otros."]
[]
[null,null,"² Son todos los bienes de uso doméstico que se encuentren en tu vivienda. Incluyendo equipos, electrodomésticos, muebles no empotrados, joyas, obras de arte, enseres y similares. "]
[]
[]
[null,null,"Planes"]
[]
[null,null,"Plan Fijo"]
[null,null,"Modalidad de aseguramiento: A primer riesgo absoluto "]
[]
[null,null,null,null,"Inmueble",null,null,null,null,null,null,null,null,null,"Bienes",null,null,null,null,null,null,null,"Inmueble y Bienes"]
[]
[null,null,null,null,null,null,"Plan S/ 50,000",null,null,null,null,null,null,null,null,null,"Plan S/ 10,000",null,null,null,null,null,null,null,null,"Plan S/ 50,000 para inmueble y \nS/ 20,000 para bienes"]
[]
[]
[null,null,null,null,null,null,"Plan S/ 100,000",null,null,null,null,null,null,null,null,null,"Plan S/ 20,000",null,null,null,null,null,null,null,null,"Plan S/ 100,000 para inmueble y S/ 50,000 para bienes"]
[]
[]
[null,null,null,null,null,null,"Plan S/ 250,000",null,null,null,null,null,null,null,null,null,"Plan S/ 50,000",null,null,null,null,null,null,null,null,"Plan S/ 250,000 para inmueble y S/ 100,000 para bienes"]
[]
[]
[]
[null,null,"Plan Personalizado",null,null,null,null,{"$f":"IF(AND(LEN($O$106)=0,LEN($X$106)=0),\"X\",\"\")","v":"X"},null,null,null,null,"Plan Básico",null,{"$f":"IF(Cotizador!$G$29=\"PLAN BÁSICO\",\"X\",\"\")","v":""},null,null,null,"Plan Full",null,null,null,null,{"$f":"IF(Cotizador!$G$29=\"PLAN FULL\",\"X\",\"\")","v":""}]
[null,null,"Modalidad de aseguramiento: ",null,null,null,null,null,null,null,null,null,"A primer riesgo",null,{"$f":"IF(LEN(Cotizador!$H$31)>0,Cotizador!$H$31,\"\")","v":""},null,null,null,"A valor total",null,null,null,null,{"$f":"IF(LEN(Cotizador!$K$31)>0,Cotizador!$K$31,\"\")","v":""}]
[null,null,"Coberturas y sumas aseguradas detalladas en el Slip de Cotización"]
[]
[null,null,null,"Confirmo que he sido informado correctamente sobre el plan, coberturas, beneficios adicionales que estoy eligiendo"]
[]
[null,null,"Suma Asegurada"]
[]
[null,null,"Moneda",null,null,null,null,null,"Dólares",null,null,{"$f":"IF(LEN(Cotizador!$K$37)>0,Cotizador!$K$37,\"\")","v":""},"Soles",{"$f":"IF(LEN(Cotizador!$H$37)>0,Cotizador!$H$37,\"\")","v":""}]
[null,null,"Suma AsegInmueble",null,null,null,{"$f":"IF(LEN(Cotizador!$G$40)>0,Cotizador!$G$40,\"\")","v":""}]
[null,null,"Valor Inmueble",null,null,null,{"$f":"IF(LEN(Cotizador!$G$38)>0,Cotizador!$G$38,\"\")","v":""},null,null,null,null,null,null,{"$f":"IF(LEN(Cotizador!$E$35)=0,\"\",Cotizador!$E$35)","v":""},null,"Valor Comercial (para departamentos)"]
[null,null,"(Valor Declarado)"]
[null,null,null,null,null,null,null,null,null,null,null,null,null,{"$f":"IF(LEN(Cotizador!$E$34)=0,\"\",Cotizador!$E$34)","v":""},null,"Valor de Reconstrucción (para casas, se excluye el valor del terreno)"]
[null,null,"Suma AsegBienes",null,null,null,{"$f":"IF(LEN(Cotizador!$G$41)>0,Cotizador!$G$41,\"\")","v":""}]
[null,null,"Valor Bienes",null,null,null,{"$f":"IF(LEN(Cotizador!$G$39)>0,Cotizador!$G$39,\"\")","v":""}]
[null,null,"(Valor Declarado)"]
[null,null,"¿Tiene usted otros seguros contratados para los bienes objeto de este seguro?",null,null,null,null,null,null,null,null,null,null,null,null,null,null,null,"Sí",null,"No"]
[null,null,"En caso afirmativo, ¿En qué compañia?",null,null,null,null,null,null,null,null,null,null,null,null,null,null,null,null,null,null,null,null,null,null,"Nro de Póliza"]
[]
[null,null,"Endosatario"]
[null,null,"Endosado a favor de:"]
[null,null,"Monto de endoso:",null,null,null,null,null,null,null,null,null,null,"%"]
[]
[null,null,"Prima"]
[]
[null,null,"Prima comercial",null,null,null,{"$f":"IF(Cotizador!$C$52=\"SI\",IF(Cotizador!$L$54=0,\"\",Cotizador!$L$54),IF(Cotizador!$G$54=0,\"\",Cotizador!$G$54))","v":""}]
[]
[null,null,"IGV 18%",null,null,null,{"$f":"IF(Cotizador!$C$52=\"SI\",IF(Cotizador!$L$55=0,\"\",Cotizador!$L$55),IF(Cotizador!$G$55=0,\"\",Cotizador!$G$55))","v":""}]
[]
[null,null,"Prima Cliente",null,null,null,{"$f":"IF(Cotizador!$C$52=\"SI\",IF(Cotizador!$L$56=0,\"\",Cotizador!$L$56),IF(Cotizador!$G$56=0,\"\",Cotizador!$G$56))","v":""}]
[]
[null,null,"Pago de prima"]
[]
[null,null,"De acuerdo a lo establecido en el art. Nro 3, de la resolucion SBS 3198-2013, reglamento de pago de primas, la cobertura se inicia con la aceptacion de la solicitud y el pago de la prima. La forma de pago se aplicará a las posteriores renovaciones, salvo modificaciones por parte del contratante. La forma de pago es:"]
[]
[]
[null,null,null,null,null,null,null,null,null,null,{"$f":"IF(OR(LEN($L$145)>0,LEN($L$147)>0,LEN($L$149)>0,LEN($L$153)>0),\"X\",\"\")","v":""},"Débito Automático sin intereses(*)",null,null,null,null,null,null,null,null,null,{"$f":"IF(OR(LEN($W$145)>0,LEN($W$147)>0,LEN($W$149)>0),\"X\",\"\")","v":""},"Cupones"]
[]
[]
[null,null,null,null,null,null,null,null,null,null,null,{"$f":"IF(LEN(Cotizador!$I$61)>0,\"X\",\"\")","v":""},"Contado",null,null,null,null,null,null,null,null,null,{"$f":"IF(LEN(Cotizador!$I$66)>0,\"X\",\"\")","v":""},"1 cupón"]
[]
[null,null,null,null,null,null,null,null,null,null,null,{"$f":"IF(LEN(Cotizador!$I$62)>0,\"X\",\"\")","v":""},"4 cuotas",null,null,null,null,null,null,null,null,null,{"$f":"IF(LEN(Cotizador!$I$67)>0,\"X\",\"\")","v":""},"4 cupones"]
[]
[null,null,null,null,null,null,null,null,null,null,null,{"$f":"IF(LEN(Cotizador!$I$63)>0,\"X\",\"\")","v":""},"6 cuotas ",null,null,null,null,null,null,null,null,null,{"$f":"IF(LEN(Cotizador!$I$68)>0,\"X\",\"\")","v":""},"6 cupones con intereses"]
[]
[null,null,null,null,null,null,null,null,null,null,null,null,"10 cuotas (TCEA 12%)",null,null,null,null,null,null,null,null,null,null,"10 cuotas (TCEA 12%)"]
[]
[null,null,null,null,null,null,null,null,null,null,null,{"$f":"IF(LEN(Cotizador!$I$64)>0,\"X\",\"\")","v":""},"12 cuotas",null,null,null,null,null,null,null,null,null,{"$f":"IF(LEN(Cotizador!$I$69)>0,\"X\",\"\")","v":""}]
[]
[null,null,"* Según cuota mínima del producto"]
[]
[null,null,"Datos del corredor o asesor de venta"]
[]
[null,null,"Corredor / Asesor",null,null,null,null,{"$f":"IF(Cotizador!$R$10=0,\"\",Cotizador!$R$10)","v":""},null,null,null,null,null,null,null,null,null,null,null,null,null,null,null,"Código",null,{"$f":"IF(Cotizador!$M$10=0,\"\",Cotizador!$M$10)","v":""}]
[]
[null,null,"Teléfono",null,null,null,null,null,null,null,null,null,null,null,"Correo electrónico",null,null,null,null,null,"ggg"]
[]
[]
[null,null,"Declaracion del asegurado"]
[]
[null,null,"DECLARO que:"]
[]
[null,null,"1. Conozco que la veracidad y exactitud de la información aquí consignada es esencial para la determinación de la prima, la cobertura y la decisión ﬁnal de PACIFICO SEGUROS para asegurar el riesgo analizado."]
[null,null,"2. Conozco que la reticencia y/o declaración inexacta, hecha con dolo o culpa inexcusable (negligencia grave), en llenado de la presente solicitud, genera la nulidad del contrato de seguro."]
[null,null,"3. Conozco que constituye reticencia y/o declaración inexacta con culpa inexcusable (negligencia grave) o dolo, según el caso, por ejemplo, ocultar o no develar información relevante y que era de mi conocimiento al momento de realizarse la inspección al riesgo asegurado, omitir dar información a PACIFICO SEGUROS al momento de contratar la póliza; y dejar espacios en blanco en la solicitud de seguro."]
[null,null,"4. Conozco que tengo la obligación de notiﬁcar por escrito a PACIFICO SEGUROS los hechos o circunstancias que agraven el riesgo y conozco también que esta obligación se extiende durante la vigencia del Contrato de Seguro; asimismo, en las vigencias de pólizas que se negocien sucesiva e ininterrumpidamente."]
[null,null,"5. Conozco que tengo la obligación de informar a PACIFICO SEGUROS sobre cualquier evento o circunstancia que directa o indirectamente pueda ser pertinente para corregir, actualizar y/o complementar la información brindada en la solicitud de seguro. Si no actualizo la información nueva que diera al momento de la emisión de la póliza original, se entenderá que he conﬁrmado que no existe información nueva que directa o indirectamente sea relevante para corregir, actualizar y/o complementar dicha información."]
[null,null,"6. Conozco que estoy facultado para plantear ante la COMPAÑÍA todas las consultas y/o dudas que pueda tener respecto del contenido de la Solicitud de Seguro que consta en el presente documento."]
[null,null,"7. He tenido a mi disposición, de manera previa a la contratación de este seguro, las condiciones generales, condiciones particulares, condiciones especiales y demás información del seguro que solicito."]
[]
[null,null,"IMPORTANTE"]
[]
[null,null,"Aprobación de la solicitud de seguro",null,null,null,null,null,null,null,null,null,null,null,null,null,null,"AUTORIZACIONES PARA USOS ADICIONALES"]
[null,null,null,null,null,null,null,null,null,null,null,null,null,null,null,null,null,"EL CLIENTE autoriza que PACÍFICO SEGUROS, de manera directa o a través de sus Encargados:\n- Le oferte cualquiera de nuestros productos de los ramos de Riesgos Generales o de Vida.\n- Le oferte cualquier otro producto o servicio de PACÍFICO SEGUROS o de sus empresas terceras.\n- A transferir su Información a empresas Credicorp (incluyendo subsidiarias, vinculadas y afiliadas) así como socios comerciales (Terceros), para que cada uno de ellos pueda ofertar sus productos o servicios. \n"]
[null,null,"PACÍFICO SEGUROS entregará la póliza de seguro al Contratante dentro del plazo de 15 días calendario de haber recibido la solicitud, si es que no es rechazada.\nNo obstante, cuando corresponda, PACÍFICO SEGUROS se obliga a comunicar el rechazo de la solicitud dentro del plazo de 15 días calendario de recibida, salvo que PACÍFICO SEGUROS haya requerido información adicional y/u otros requerimientos adicionales, necesarios para la evaluación del riesgo, dentro del referido plazo. En este caso, el plazo para comunicar el rechazo se contará a partir de la recepción de la información completa solicitada y de cumplidos los requerimientos realizados por PACÍFICO SEGUROS. En el supuesto que el Contratante no complete la información solicitada por PACÍFICO SEGUROS y/o no cumpla con los requerimientos que PACÍFICO SEGUROS haya realizado, se considerará rechazada la solicitud."]
[]
[]
[]
[]
[]
[]
[]
[]
[null,null,null,null,null,null,null,null,null,null,null,null,null,null,null,null,null,"EL CLIENTE acepta haber tenido a su disposición la lista de Terceros y Encargados que también se encuentra disponible en https://www.pacifico.com.pe/transparencia/politica-privacidad. Dicha lista detalla los posibles usos que los Terceros darán a sus datos personales. El envío de comunicaciones o mensajes con las ofertas y/o publicidades podrá ser remitida a través de medios escritos, verbales (por ejemplo: mensajes, push notification o llamadas telefónicas) o electrónicos/informáticos (por ejemplo correo electrónico)."]
[]
[]
[]
[]
[]
[null,null,"Medios de comunicación pactados: Escritos (correo electrónico o comunicaciones enviadas al domicilio físico) y telefónicas."]
[]
[]
[null,null,"Autorizo a PACÍFICO SEGUROS, a que en el caso de aprobar la presente solicitud, pueda enviar válidamente cualquier comunicación y/o notiﬁcación vinculada con este seguro durante su vigencia por cualquiera de los medios de comunicación arriba indicados, precisándose que las comunicaciones por teléfono se realizarán únicamente en aquellos casos en que la comunicación escrita no sea requerida de forma especíﬁca, conforme al marco normativo vigente. Declaro igualmente conocer y estar de acuerdo con que las comunicaciones y/o notiﬁcaciones que sean dirigidas a mi correo electrónico surtirán efectos y las consideraré recibidas a partir del momento en que éstas sean recibidas en el servidor de mi cuenta del correo electrónico, considerándose igualmente que en ese momento he tomado conocimiento del contenido del documento enviado por dicho medio."]
[null,null,null,null,null,null,null,null,null,null,null,null,null,null,null,null,null,"PACÍFICO SEGUROS y los Terceros podrán conservar y tratar LA INFORMACIÓN de EL CLIENTE en los términos establecidos en esta sección, mientras se mantenga la relación contractual y luego de veinte (20) años de finalizado el contrato.\nLa aceptación o no de esta autorización para usos adicionales (ajenos a la ejecución de la relación contractual) no condiciona la prestación del servicio que EL CLIENTE está contratando.\n"]
[]
[]
[]
[]
[]
[]
[]
[]
[]
[]
[]
[]
[]
[null,null,"Se enviará comunicaciones por escrito al domicilio físico del contratante y/o asegurado, en caso la normatividad vigente lo exija o, no se consigne una dirección electrónica."]
[]
[]
[]
[null,null,"PROTECCIÓN DE DATOS PERSONALES",null,null,null,null,null,null,null,null,null,null,null,null,null,null,"Sí acepto"]
[null,null,"Para la correcta ejecución de la relación contractual, EL CONTRATANTE / ASEGURADO (“EL CLIENTE”) se obliga a mantener actualizada su información personal, financiera y crediticia (“LA INFORMACIÓN”) y reconoce que PACÍFICO SEGUROS podrá tratarla, actualizarla, completarla y realizar flujos transfronterizos conforme a ley.",null,null,null,null,null,null,null,null,null,null,null,null,null,null,"No acepto y"]
[null,null,null,null,null,null,null,null,null,null,null,null,null,null,null,null,null,"prefiero perder la oportunidad de recibir nuevas ofertas"]
[]
[]
[]
[]
[]
[]
[null,null,"PACÍFICO SEGUROS conservará, tratará y realizará flujos transfronterizos con LA INFORMACIÓN de EL CLIENTE mientras se mantenga la relación contractual y luego de veinte (20) años de finalizado el contrato.\nPara el tratamiento de La INFORMACIÓN de EL CLIENTE, PACÍFICO SEGUROS utilizará diversos Encargados ubicados en el Perú y el extranjero, los cuales se han puesto a disposición del El cliente y también se encuentran detallados en https://www.pacifico.com.pe/transparencia/politica-privacidad.",null,null,null,null,null,null,null,null,null,null,null,null,null,null,"Cláusulas Abusivas"]
[null,null,null,null,null,null,null,null,null,null,null,null,null,null,null,null,null,"“Las condiciones de la presente póliza se encuentran sujetas a una revisión posterior por parte de la Superintendencia de Banca, Seguros y AFPs, por lo que, en caso se identiﬁquen cláusulas abusivas en el marco de la Ley del Contrato de Seguro y normas reglamentarias, y estas no sean subsanadas por PACÍFICO SEGUROS, la Superintendencia de Banca, Seguros y AFPs,"]
[]
[]
[]
[]
[]
[]
[]
[]
[null,null,null,null,null,null,null,null,null,null,null,null,null,null,null,null,null,"Comisión por Comercialización: Hasta 17.50%"]
[null,null," Su información será incluida en el banco de datos de Usuarios que se encuentra registrado ante la Autoridad de Protección de Datos Personales bajo el número de registro RNPDP-PJ N.° 774, de titularidad de PACÍFICO SEGUROS, ubicada en Juan de Arona 830, San Isidro, Lima - Perú.",null,null,null,null,null,null,null,null,null,null,null,null,null,null,"Vigencia de la póliza: Anual renovable"]
[]
[]
[]
[]
[]
[null,null,"EL CLIENTE puede ejercer los derechos de acceso, rectificación, cancelación, revocación y oposición, dirigiéndose a PACÍFICO SEGUROS de forma presencial en cualquiera de sus oficinas a nivel nacional en el horario establecido para la atención al público o por teléfono o a través del Chat ubicado en nuestra página web www.pacifico.com.pe.\nEl detalle de nuestra Política de Privacidad se encuentra disponible en: \nhttps://www.pacifico.com.pe/transparencia/politica-privacidad",null,null,null,null,null,null,null,null,null,null,null,null,null,null,"Derecho de arrepentimiento"]
[null,null,null,null,null,null,null,null,null,null,null,null,null,null,null,null,null,"En el caso que este seguro sea ofertado por un comercializador (incluyendo la Bancaseguro), declaro conocer que tengo derecho a arrepentirme de la contratación de este seguro, sin expresión de causa ni penalidad alguna, dentro del plazo de 15 días de recibir la póliza de seguro o el certiﬁcado de seguro, de ser el caso, ya que se me devuelva la prima que hubiere pagado."]
[]
[]
[]
[]
[]
[]
[]
[]
[]
[]
[]
[]
[]
[]
[]
[]
[null,null,null,null,null,null,null,null,null,null,null,null,null,null,null,null,null,null,null,null,null,null,null,null,null,null,null,{"$f":"DAY(Cotizador!$G$6)","v":25},{"$f":"MONTH(Cotizador!$G$6)","v":3},{"$f":"YEAR(Cotizador!$G$6)","v":2025}]
[null,null,null,null,null,null,null,null,null,null,null,null,null,null,null,null,null,null,null,null,null,null,null,null,null,null,null,"dia ","mes","año"]

{"sheet":"CamposTrama1","index":32,"n_rows":53,"n_cols":5,"rows_kept":53,"cut":false,"hidden":true,"merged":[]}
["Campo","Tipo","Origen en solicitud","Origen Sistema GW","Referencia "]
["Carátula"]
["Póliza N°","variable",null,"Resumen de póliza"]
["Vigencia","variable",null,"Resumen de póliza"]
["Contratante","variable","Contratante",null,{"$f":"+IngresoSolicitud!$I$15&\" \"&IngresoSolicitud!$H$16&\" \"&IngresoSolicitud!$Z$16","v":"  "}]
["Asegurado","variable","Asegurado",null,{"$f":"+IngresoSolicitud!$I$32&\" \"&IngresoSolicitud!$H$33&\" \"&IngresoSolicitud!$Z$33","v":"  "}]
["Dirección de cobranza","variable","Contratante",null,{"$f":"+IngresoSolicitud!$J$20&\" \"&IngresoSolicitud!$X$20&\" \"&IngresoSolicitud!$AA$20&\" \"&IngresoSolicitud!$AC$20&\" \"&IngresoSolicitud!$AE$20&\" \"&IngresoSolicitud!$K$21","v":"     "}]
["Departamento","variable","Contratante",null,{"$f":"+IngresoSolicitud!$W$22","v":0}]
["Provincia","variable","Contratante",null,{"$f":"+IngresoSolicitud!$N$22","v":0}]
["Distrito","variable","Contratante",null,{"$f":"+IngresoSolicitud!$E$22","v":0}]
["Suma Asegurada","variable","Suma asegurada",null,{"$f":"IF(LEN(IngresoSolicitud!$G$115)>0,IngresoSolicitud!$G$115,0)+ IF(LEN(IngresoSolicitud!$G$120)>0,IngresoSolicitud!$G$120,0)","v":0}]
["Plan de pago","variable","Pago de prima",null,{"$f":"+IF(IngresoSolicitud!$L$145=\"x\",\"Contado\",IF(IngresoSolicitud!$L$147=\"X\",\"4 cuotas\",IF(IngresoSolicitud!$L$149=\"x\",\"6 cuotas\",IF(IngresoSolicitud!$L$153=\"x\",\"12 cuotas\",\"\"))))","v":""}]
[]
["Datos del cliente"]
["Contratante"]
["Contratante","variable","Contratante",null,{"$f":"+IngresoSolicitud!$I$15&\" \"&IngresoSolicitud!$H$16&\" \"&IngresoSolicitud!$Z$16","v":"  "}]
["DNI","variable","Contratante",null,{"$f":"+IngresoSolicitud!$D$13&IngresoSolicitud!$E$13&IngresoSolicitud!$F$13&IngresoSolicitud!$G$13&IngresoSolicitud!$H$13&IngresoSolicitud!$I$13&IngresoSolicitud!$J$13&IngresoSolicitud!$K$13","v":""}]
["RUC","variable","Contratante",null,{"$f":"+IngresoSolicitud!$N$13&IngresoSolicitud!$O$13&IngresoSolicitud!$P$13&IngresoSolicitud!$Q$13&IngresoSolicitud!$R$13&IngresoSolicitud!$S$13&IngresoSolicitud!$U$13&IngresoSolicitud!$V$13&IngresoSolicitud!$W$13&IngresoSolicitud!$X$13","v":""}]
["Fecha de nacimiento","variable","Contratante",null,{"$f":"+IngresoSolicitud!$N$18&\"/\"&IngresoSolicitud!$O$18&\"/\"&IngresoSolicitud!$P$18","v":"//"}]
["Nacionalidad","variable","Contratante",null,{"$f":"+IngresoSolicitud!$AA$18","v":0}]
["Dirección","variable","Contratante",null,{"$f":"+IngresoSolicitud!$J$20&\" \"&IngresoSolicitud!$X$20&\" \"&IngresoSolicitud!$AA$20&\" \"&IngresoSolicitud!$AC$20&\" \"&IngresoSolicitud!$AE$20&\" \"&IngresoSolicitud!$K$21","v":"     "}]
["Correo electrónico","variable","Contratante",null,{"$f":"+IngresoSolicitud!$H$24","v":0}]
["Asegurado"]
["Asegurado","variable","Asegurado",null,{"$f":"+IngresoSolicitud!$I$32&\" \"&IngresoSolicitud!$H$33&\" \"&IngresoSolicitud!$Z$33","v":"  "}]
["DNI","variable","Asegurado",null,{"$f":"+IngresoSolicitud!$D$31&IngresoSolicitud!$E$31&IngresoSolicitud!$F$31&IngresoSolicitud!$G$31&IngresoSolicitud!$H$31&IngresoSolicitud!$I$31&IngresoSolicitud!$J$31&IngresoSolicitud!$K$31","v":""}]
["RUC","variable","Contratante",null,{"$f":"+IngresoSolicitud!$N$31&IngresoSolicitud!$O$31&IngresoSolicitud!$P$31&IngresoSolicitud!$Q$31&IngresoSolicitud!$R$31&IngresoSolicitud!$S$31&IngresoSolicitud!$U$31&IngresoSolicitud!$V$31&IngresoSolicitud!$W$31&IngresoSolicitud!$X$31","v":""}]
["Fecha de nacimiento","variable","Asegurado",null,{"$f":"+IngresoSolicitud!$N$35&\"/\"&IngresoSolicitud!$O$35&\"/\"&IngresoSolicitud!$P$35","v":"//"}]
["Nacionalidad","variable","Asegurado",null,{"$f":"+IngresoSolicitud!$AA$34","v":0}]
["Dirección","variable","Asegurado",null,{"$f":"+IngresoSolicitud!$H$37&\" \"&IngresoSolicitud!$X$37&\" \"&IngresoSolicitud!$AA$37&\" \"&IngresoSolicitud!$AC$37&\" \"&IngresoSolicitud!$AE$37&\" \"&IngresoSolicitud!$K$38&\" \"&IngresoSolicitud!$AA$38","v":"      "}]
["Correo electrónico","variable","Asegurado",null,{"$f":"+IngresoSolicitud!$H$41","v":0}]
[]
["Datos  del Inmueble Asegurado"]
["Plan","Fijo","Personalizado"]
["Dirección","variable","Datos del inmueble",null,{"$f":"+IngresoSolicitud!$H$49&\" \"&IngresoSolicitud!$X$49&\" \"&IngresoSolicitud!$AA$49&\" \"&IngresoSolicitud!$AC$49&\" \"&IngresoSolicitud!$AE$49&\" \"&IngresoSolicitud!$K$50&\" \"&IngresoSolicitud!$AA$50","v":"      "}]
["Piso","variable","Datos del inmueble",null,{"$f":"IF(LEN(IngresoSolicitud!$I$54)=0,\"\",IngresoSolicitud!$I$54)","v":""}]
["N° pisos","variable","Datos del inmueble",null,{"$f":"IF(LEN(IngresoSolicitud!$F$53)=0,\"\",IngresoSolicitud!$F$53)","v":""}]
["Departamento","variable","Datos del inmueble",null,{"$f":"+IngresoSolicitud!$W$52","v":0}]
["Provincia","variable","Datos del inmueble",null,{"$f":"+IngresoSolicitud!$N$52","v":0}]
["Distrito","variable","Datos del inmueble",null,{"$f":"+IngresoSolicitud!$F$52","v":0}]
["N° sótanos","variable","Datos del inmueble",null,{"$f":"+IngresoSolicitud!$N$53","v":0}]
["Año de construcción","variable","Datos del inmueble",null,{"$f":"+IngresoSolicitud!$X$53","v":0}]
["Tipo de inmueble","variable","Datos del inmueble",null,{"$f":"+IF(IngresoSolicitud!$K$48=\"X\",\"Casa\",IF(IngresoSolicitud!$N$48=\"X\",\"Departamento\",0))","v":0}]
["Uso de inmueble","Fijo","Datos del inmueble",null,"Casa Habitación"]
["Suma asegurada edificación","variable","Suma asegurada",null,{"$f":"+IngresoSolicitud!$G$115","v":""}]
["Suma asegurada de bienes","variable","Suma asegurada",null,{"$f":"+IngresoSolicitud!$G$120","v":""}]
["Datos del canal"]
["Comisión por intermediación","variable",null,null,{"$f":"IF(Cotizador!$H$29=\"X\",INMUEBLE!$P$10,IF(Cotizador!$K$29=\"X\",BIENES!$P$10,IF(Cotizador!$O$29=\"X\",'INMUEBLE Y BIENES'!$P$10)))","v":false}]
["Endosatario"]
["Endosado a favor de:","variable",null,null,{"$f":"IF(LEN(IngresoSolicitud!$H$126)=0,\"NO\",\"SI\")","v":"NO"}]
["Nombre del Endosatario","variable",null,null,{"$f":"IF(LEN(IngresoSolicitud!$H$126)=0,\"\",IngresoSolicitud!$H$126)","v":""}]
["Material de construcción",null,null,null,{"$f":"IF(LEN(IngresoSolicitud!$J$58)>0,\"Mampostería\",IF(LEN(IngresoSolicitud!$J$60)>0,\"Madera\",IF(LEN(IngresoSolicitud!$O$58)>0,\"Adobe\",IF(LEN(IngresoSolicitud!$O$60)>0,\"Quincha\",IF(LEN(IngresoSolicitud!$X$58)>0,\"Acero Metálico\",IF(LEN(IngresoSolicitud!$X$60)>0,\"Concreto Armado\",IngresoSolicitud!$AA$60))))))","v":1}]
["Modalidad de Aseguramiento",null,null,null,{"$f":"IF(LEN(Cotizador!$H$31)>0,\"A primer riesgo absoluto\",IF(LEN(Cotizador!$K$31)>0,\"A valor total\",\"\"))","v":""}]
["Bien Asegurado","variable","Datos del inmueble",null,{"$f":"IF(LEN(Cotizador!$H$29)>0,\"Inmueble\",IF(LEN(Cotizador!$K$29)>0,\"Bienes\",IF(LEN(Cotizador!$O$29)>0,\"Inmueble+Bienes\",\"\")))","v":""}]

{"sheet":"FormularioSolicitud","index":33,"n_rows":262,"n_cols":31,"rows_kept":262,"cut":false,"hidden":true,"merged":[[53,2,53,11],[7,26,7,28],[15,7,15,19],[15,25,15,30],[19,9,19,21],[19,23,19,24],[12,28,12,30],[14,8,14,30],[17,21,17,24],[17,26,17,30],[12,3,12,10],[12,13,12,23],[32,7,32,19],[32,25,32,30],[20,10,20,23],[20,26,20,30],[21,4,21,11],[21,13,21,17],[21,22,21,25],[21,27,21,30],[22,6,22,11],[22,13,22,24],[22,26,22,30],[23,7,23,30],[28,26,28,30],[30,28,30,30],[31,8,31,30],[30,3,30,10],[30,13,30,23],[36,23,36,24],[37,10,37,23],[37,26,37,30],[38,13,38,17],[38,22,38,25],[38,27,38,30],[34,21,34,24],[34,26,34,30],[36,7,36,21],[38,5,38,11],[126,14,126,18],[130,6,130,10],[70,2,71,25],[39,6,39,11],[39,13,39,24],[39,26,39,30],[40,7,40,30],[48,23,48,24],[49,10,49,23],[49,26,49,30],[51,5,51,11],[51,13,51,17],[51,22,51,25],[51,27,51,30],[64,25,64,30],[48,7,48,21],[52,5,52,11],[52,13,52,17],[52,23,52,25],[53,23,53,25],[50,10,50,12],[56,2,56,5],[56,6,56,12],[56,13,56,24],[160,20,160,30],[167,2,167,30],[168,2,168,30],[169,2,169,30],[73,2,74,25],[76,2,76,25],[83,2,84,30],[85,2,86,30],[93,4,93,8],[93,14,93,18],[93,22,93,28],[132,6,132,10],[134,6,134,10],[106,12,106,13],[77,19,77,24],[126,7,126,12],[95,25,96,28],[98,25,99,28],[101,25,102,28],[114,6,114,9],[119,6,119,9],[122,11,122,24],[122,26,122,30],[125,7,125,30],[188,17,196,30],[178,17,186,30],[170,2,170,30],[138,2,139,30],[261,3,261,9],[212,17,214,30],[197,2,210,15],[212,2,214,15],[179,2,192,15],[194,2,195,15],[158,25,158,30],[175,2,175,30],[158,7,158,20],[198,17,203,30],[243,17,248,30],[226,17,231,30],[236,2,240,15],[242,2,251,15],[217,2,222,15],[225,2,233,15],[171,2,171,30],[172,2,172,30],[173,2,173,30],[160,5,160,12],[118,6,118,9],[115,6,115,9],[56,26,56,27],[56,28,56,30],[57,2,57,5],[57,6,57,12],[57,13,57,24],[57,26,57,27],[57,28,57,30],[60,2,60,5],[60,6,60,12],[60,13,60,24],[60,26,60,27],[60,28,60,30],[58,2,58,5],[58,6,58,12],[58,13,58,24],[58,26,58,27],[58,28,58,30],[59,2,59,5],[59,6,59,12],[59,13,59,24],[59,26,59,27],[59,28,59,30]]}
[]
[]
[]
[]
[]
[]
[]
[null,null,"Solicitud de Seguro Hogar Flex"]
[null,null,"Contratante"]
[]
[null,null,"Persona Natural",null,null,null,null,{"$f":"IF(LEN(IngresoSolicitud!H11)=0,\"\",IngresoSolicitud!H11)","v":""},null,null,null,null,"Persona Juridica",{"$f":"IF(LEN(IngresoSolicitud!N11)=0,\"\",IngresoSolicitud!N11)","v":""}]
[]
[null,null,"DNI",{"$f":"IF(LEN(IngresoSolicitud!D13)=0,\"\",IngresoSolicitud!D13)","v":""},null,null,null,null,null,null,null,null,"RUC",{"$f":"IF(LEN(IngresoSolicitud!N13)=0,\"\",IngresoSolicitud!N13)","v":""},null,null,null,null,null,null,null,null,null,null,null,"Otro (indicar tipo y número)",null,null,{"$f":"IF(IngresoSolicitud!AC13=0,\"\",IngresoSolicitud!AC13)","v":""}]
[]
[null,null,"Nombre / Razon Social",null,null,null,null,null,{"$f":"IF(IngresoSolicitud!I15=0,\"\",IngresoSolicitud!I15)","v":""}]
[null,null,"Apellido Paterno",null,null,null,null,{"$f":"IF(IngresoSolicitud!H16=0,\"\",IngresoSolicitud!H16)","v":""},null,null,null,null,null,null,null,null,null,null,null,null,"Apellido Materno",null,null,null,null,{"$f":"IF(IngresoSolicitud!Z16=0,\"\",IngresoSolicitud!Z16)","v":""}]
[]
[null,null,"Sexo",null,{"$f":"IngresoSolicitud!E18","v":0},null,null,null,null,null,"Fecha de Nacimiento",null,null,{"$f":"IF(LEN(IngresoSolicitud!N18)=0,\"\",IngresoSolicitud!N18)","v":""},{"$f":"IF(LEN(IngresoSolicitud!O18)=0,\"\",IngresoSolicitud!O18)","v":""},{"$f":"IF(LEN(IngresoSolicitud!P18)=0,\"\",IngresoSolicitud!P18)","v":""},null,null,null,null,"Estado Civil",{"$f":"IF(IngresoSolicitud!V18=0,\"\",IngresoSolicitud!V18)","v":""},null,null,null,"Nacionalidad",{"$f":"IF(IngresoSolicitud!AA18=0,\"\",IngresoSolicitud!AA18)","v":""}]
[null,null,null,null,null,null,null,null,null,null,null,null,null,"dd/","mm/","aa"]
[null,null,"Direccion (Jr. / Cl / Av)",null,null,null,null,null,null,{"$f":"IF(IngresoSolicitud!J20=0,\"\",IngresoSolicitud!J20)","v":""},null,null,null,null,null,null,null,null,null,null,null,null,"Nro",{"$f":"IF(IngresoSolicitud!X20=0,\"\",IngresoSolicitud!X20)","v":""},null,"Dpto/Piso/Int",{"$f":"IF(IngresoSolicitud!AA20=0,\"\",IngresoSolicitud!AA20)","v":""},"Mz",{"$f":"IF(IngresoSolicitud!AC20=0,\"\",IngresoSolicitud!AC20)","v":""},"Lt",{"$f":"IF(IngresoSolicitud!AE20=0,\"\",IngresoSolicitud!AE20)","v":""}]
[null,null,"Urbanizacion (Urb / AAHH / Coop)",null,null,null,null,null,null,null,{"$f":"IF(IngresoSolicitud!K21=0,\"\",IngresoSolicitud!K21)","v":""},null,null,null,null,null,null,null,null,null,null,null,null,null,null,"Sec / Etapa / Zona",{"$f":"IF(IngresoSolicitud!AA21=0,\"\",IngresoSolicitud!AA21)","v":""}]
[null,null,"Departamento",null,{"$f":"IF(IngresoSolicitud!F22=0,\"\",IngresoSolicitud!F22)","v":""},null,null,null,null,null,null,null,"Provincia",{"$f":"IF(IngresoSolicitud!N22=0,\"\",IngresoSolicitud!N22)","v":""},null,null,null,null,"Distrito",null,null,null,{"$f":"IF(IngresoSolicitud!W22=0,\"\",IngresoSolicitud!W22)","v":""},null,null,null,"País",{"$f":"IF(LEN(IngresoSolicitud!AB22)=0,\"\",IngresoSolicitud!AB22)","v":"PERU"}]
[null,null,"Telefono Casa",null,null,null,{"$f":"IF(IngresoSolicitud!G23=0,\"\",IngresoSolicitud!G23)","v":""},null,null,null,null,null,"Telefono trabajo",{"$f":"IF(IngresoSolicitud!N23=0,\"\",IngresoSolicitud!N23)","v":""},null,null,null,null,null,null,null,null,null,null,null,"Telefono Movil",{"$f":"IF(IngresoSolicitud!AA23=0,\"\",IngresoSolicitud!AA23)","v":""}]
[null,null,"Correo electronico(*)",null,null,null,null,{"$f":"IF(IngresoSolicitud!H24=0,\"\",IngresoSolicitud!H24)","v":""}]
[null,null,"(*) Para recibir informacion del contrato de seguro y/o cualquier comunicación necesaria para su ejecucion."]
[]
[null,null,"Asegurado (llenar solo si es diferente del Contratante)"]
[]
[null,null,"Persona Natural",null,null,null,null,{"$f":"IF(LEN(IngresoSolicitud!H29)=0,\"\",IngresoSolicitud!H29)","v":""},null,null,null,null,"Persona Juridica",{"$f":"IF(LEN(IngresoSolicitud!N29)=0,\"\",IngresoSolicitud!N29)","v":""}]
[]
[null,null,"DNI",{"$f":"IF(LEN(IngresoSolicitud!D31)=0,\"\",IngresoSolicitud!D31)","v":""},null,null,null,null,null,null,null,null,"RUC",{"$f":"IF(LEN(IngresoSolicitud!N31)=0,\"\",IngresoSolicitud!N31)","v":""},null,null,null,null,null,null,null,null,null,null,null,"Otro (indicar tipo y número)",null,null,{"$f":"IF(IngresoSolicitud!AC31=0,\"\",IngresoSolicitud!AC31)","v":""}]
[null,null,"Nombre / Razon Social",null,null,null,null,null,{"$f":"IF(IngresoSolicitud!I32=0,\"\",IngresoSolicitud!I32)","v":""}]
[null,null,"Apellido Paterno",null,null,null,null,{"$f":"IF(IngresoSolicitud!H33=0,\"\",IngresoSolicitud!H33)","v":""},null,null,null,null,null,null,null,null,null,null,null,null,"Apellido Paterno",null,null,null,null,{"$f":"IF(IngresoSolicitud!Z33=0,\"\",IngresoSolicitud!Z33)","v":""}]
[]
[null,null,"Sexo",null,{"$f":"IngresoSolicitud!E35","v":0},null,null,null,null,null,"Fecha de Nacimiento",null,null,{"$f":"IF(LEN(IngresoSolicitud!N35)=0,\"\",IngresoSolicitud!N35)","v":""},{"$f":"IF(LEN(IngresoSolicitud!O35)=0,\"\",IngresoSolicitud!O35)","v":""},{"$f":"IF(LEN(IngresoSolicitud!P35)=0,\"\",IngresoSolicitud!P35)","v":""},null,null,null,null,"Estado Civil",{"$f":"IF(IngresoSolicitud!V35=0,\"\",IngresoSolicitud!V35)","v":""},null,null,null,"Nacionalidad",{"$f":"IF(IngresoSolicitud!AA34=0,\"\",IngresoSolicitud!AA34)","v":""}]
[null,null,null,null,null,null,null,null,null,null,null,null,null,"dd/","mm/","aa"]
[null,null,"Direccion (Jr. / Cl / Av)",null,null,null,null,{"$f":"IF(IngresoSolicitud!H37=0,\"\",IngresoSolicitud!H37)","v":""},null,null,null,null,null,null,null,null,null,null,null,null,null,null,"Nro",{"$f":"IF(IngresoSolicitud!X37=0,\"\",IngresoSolicitud!X37)","v":""},null,"Dpto/Piso/Int",{"$f":"IF(IngresoSolicitud!AA37=0,\"\",IngresoSolicitud!AA37)","v":""},"Mz",{"$f":"IF(IngresoSolicitud!AC37=0,\"\",IngresoSolicitud!AC37)","v":""},"Lt",{"$f":"IF(IngresoSolicitud!AE37=0,\"\",IngresoSolicitud!AE37)","v":""}]
[null,null,"Urbanizacion (Urb / AAHH / Coop)",null,null,null,null,null,null,null,{"$f":"IF(IngresoSolicitud!K38=0,\"\",IngresoSolicitud!K38)","v":""},null,null,null,null,null,null,null,null,null,null,null,null,null,null,"Sec / Etapa / Zona",{"$f":"IF(IngresoSolicitud!AA38=0,\"\",IngresoSolicitud!AA38)","v":""}]
[null,null,"Departamento",null,null,{"$f":"IF(IngresoSolicitud!F39=0,\"\",IngresoSolicitud!F39)","v":""},{"$f":"IF(IngresoSolicitud!G39=0,\"\",IngresoSolicitud!G39)","v":""},{"$f":"IF(IngresoSolicitud!H39=0,\"\",IngresoSolicitud!H39)","v":""},{"$f":"IF(IngresoSolicitud!I39=0,\"\",IngresoSolicitud!I39)","v":""},{"$f":"IF(IngresoSolicitud!J39=0,\"\",IngresoSolicitud!J39)","v":""},{"$f":"IF(IngresoSolicitud!K39=0,\"\",IngresoSolicitud!K39)","v":""},{"$f":"IF(IngresoSolicitud!L39=0,\"\",IngresoSolicitud!L39)","v":""},"Provincia",{"$f":"IF(IngresoSolicitud!N39=0,\"\",IngresoSolicitud!N39)","v":""},null,null,null,null,"Distrito",null,null,null,{"$f":"IF(IngresoSolicitud!W39=0,\"\",IngresoSolicitud!W39)","v":""},null,null,null,"País",{"$f":"IF(IngresoSolicitud!AB39=0,\"\",IngresoSolicitud!AB39)","v":""}]
[null,null,"Teléfono Casa",null,null,null,{"$f":"IF(IngresoSolicitud!G40=0,\"\",IngresoSolicitud!G40)","v":""},null,null,null,null,null,"Teléfono trabajo",{"$f":"IF(IngresoSolicitud!N40=0,\"\",IngresoSolicitud!N40)","v":""},null,null,null,null,null,null,null,null,null,null,null,"Teléfono Móvil",{"$f":"IF(IngresoSolicitud!AA40=0,\"\",IngresoSolicitud!AA40)","v":""}]
[null,null,"Correo electronico(*)",null,null,null,null,{"$f":"IF(IngresoSolicitud!H41=0,\"\",IngresoSolicitud!H41)","v":""}]
[null,null,"(*) Para recibir informacion del contrato de seguro y/o cualquier comunicación necesaria para su ejecucion."]
[]
[null,null,"Datos del Inmueble"]
[]
[null,null,"El seguro de hogar le otorga cobertura si su Inmueble y/o los Bienes contenidos en él son usados como casa habitación. "]
[]
[null,null,"Tipo de vivienda:",null,null,null,"Casa",null,null,null,{"$f":"IF(LEN(IngresoSolicitud!K48)=0,\"\",IngresoSolicitud!K48)","v":""},null,"Departamento",{"$f":"IF(LEN(IngresoSolicitud!N48)=0,\"\",IngresoSolicitud!N48)","v":""}]
[null,null,"Direccion (Jr. / Cl / Av)",null,null,null,null,{"$f":"IF(IngresoSolicitud!H49=0,\"\",IngresoSolicitud!H49)","v":""},null,null,null,null,null,null,null,null,null,null,null,null,null,null,"Nro",{"$f":"IF(LEN(IngresoSolicitud!X49)=0,\"\",IngresoSolicitud!X49)","v":""},null,"Dpto/Piso/Int",{"$f":"IF(LEN(IngresoSolicitud!AA49)=0,\"\",IngresoSolicitud!AA49)","v":""},"Mz",{"$f":"IF(IngresoSolicitud!AC49=0,\"\",IngresoSolicitud!AC49)","v":""},"Lt",{"$f":"IF(LEN(IngresoSolicitud!AE49)=0,\"\",IngresoSolicitud!AE49)","v":""}]
[null,null,"Urbanizacion (Urb / AAHH / Coop)",null,null,null,null,null,null,null,{"$f":"IF(IngresoSolicitud!K50=0,\"\",IngresoSolicitud!K50)","v":""},null,null,null,null,null,null,null,null,null,null,null,null,null,null,"Sec / Etapa / Zona",{"$f":"IF(IngresoSolicitud!AA50=0,\"\",IngresoSolicitud!AA50)","v":""}]
[null,null,"Tipo de Material de Construccion",null,null,null,null,null,null,null,{"$f":"IF(IngresoSolicitud!K51=0,\"\",IngresoSolicitud!K51)","v":""}]
[null,null,"Departamento",null,null,{"$f":"IF((IngresoSolicitud!F52)=0,\"\",IngresoSolicitud!F52)","v":""},null,null,null,null,null,null,"Provincia",{"$f":"IF(IngresoSolicitud!N52=0,\"\",IngresoSolicitud!N52)","v":""},null,null,null,null,"Distrito",null,null,null,{"$f":"IF(LEN(IngresoSolicitud!W52)=0,\"\",IngresoSolicitud!W52)","v":""},null,null,null,"País",{"$f":"IF(LEN(IngresoSolicitud!AB52)=0,\"\",IngresoSolicitud!AB52)","v":"PERU"}]
[null,null,"Nro de Pisos",null,null,{"$f":"IF(LEN(IngresoSolicitud!F53)=0,\"\",IngresoSolicitud!F53)","v":""},null,null,null,null,null,null,"Nro de Sótanos",{"$f":"IF(LEN(IngresoSolicitud!N53)=0,\"\",IngresoSolicitud!N53)","v":""},null,null,null,null,"Año de construcción",null,null,null,null,{"$f":"IF(IngresoSolicitud!X53=0,\"\",IngresoSolicitud!X53)","v":""}]
[null,null,"Nro de pisos de la ubicación de la vivienda",null,null,null,null,null,null,null,null,null,{"$f":"IF(LEN(IngresoSolicitud!M54)=0,\"\",IngresoSolicitud!M54)","v":""},null,null,null,null,null,"m2 construccion",null,null,null,null,{"$f":"IF(IngresoSolicitud!X54=0,\"\",IngresoSolicitud!X54)","v":""}]
[]
[null,null,"Material de construccion predominante"]
[null,null,"COD MATERIAL",null,null,null,"MATERIAL DE CONSTRUCCION",null,null,null,null,null,null,"DEFINICIÓN",null,null,null,null,null,null,null,null,null,null,null,"PISOS\n# MAXIMO","SOTANOS\n# MAXIMO",null,"SELECCIONADO"]
[null,null,"3.0CA",null,null,null,"PÓRTICOS DE CONCRETO ARMADO",null,null,null,null,null,null,"Estuctura resistente formada por columnas y vigas de concreto armado, formando pórticos, las columnas pueden ser cuadradas o circulares.",null,null,null,null,null,null,null,null,null,null,null,10,10,null,{"$f":"IF(LEN(IngresoSolicitud!AC58)=0,\"\",IngresoSolicitud!AC58)","v":"NO"}]
[null,null,"4.0CP",null,null,null,"PÓRTICOS DE CONCRETO ARMADO CON PLACAS",null,null,null,null,null,null,"Similar a 3.OCA, adicionalmente cuenta con muros de concreto armado (placas) que aumentan la rigidez.",null,null,null,null,null,null,null,null,null,null,null,32,10,null,{"$f":"IF(LEN(IngresoSolicitud!AC59)=0,\"\",IngresoSolicitud!AC59)","v":"NO"}]
[null,null,"8.0M2R",null,null,null,"MAMPOSTERÍA ARMADA O CONFINADA CON DIAFRAGMAS RÍGIDOS",null,null,null,null,null,null,"Muros portantes de ladrillos de arcilla que tienen columnas de confinamiento en los extremos, o refuerzo interior de acero, con losas aligeradas o macizas.",null,null,null,null,null,null,null,null,null,null,null,4,1,null,{"$f":"IF(LEN(IngresoSolicitud!AC60)=0,\"\",IngresoSolicitud!AC60)","v":"NO"}]
[null,null,"9.0M2F",null,null,null,"MAMPOSTERÍA ARMADA O CONFINADA CON DIAFRAGMAS FLEXIBLES",null,null,null,null,null,null,"Muros portantes de ladrillos de arcilla que tienen columnas de confinamiento en los extremos, o refuerzo interior de acero, con piso o techo flexible de vigas de madera o acero.",null,null,null,null,null,null,null,null,null,null,null,4,1,null,{"$f":"IF(LEN(IngresoSolicitud!AC61)=0,\"\",IngresoSolicitud!AC61)","v":"NO"}]
[null,null,"Sistema de seguridad en la vivienda:"]
[null,null,null,null,null,"Alarma",null,null,null,{"$f":"IF(LEN(IngresoSolicitud!J63)=0,\"\",IngresoSolicitud!J63)","v":""},null,null,"Cámara de seguridad",null,{"$f":"IF(LEN(IngresoSolicitud!O63)=0,\"\",IngresoSolicitud!O63)","v":""},null,null,"Sensor de movimiento",null,null,null,null,null,{"$f":"IF(LEN(IngresoSolicitud!X63)=0,\"\",IngresoSolicitud!X63)","v":""}]
[]
[null,null,null,null,null,"Cerco eléctrico",null,null,null,{"$f":"IF(LEN(IngresoSolicitud!J65)=0,\"\",IngresoSolicitud!J65)","v":""},null,null,"Detector de humo",null,{"$f":"IF(LEN(IngresoSolicitud!O65)=0,\"\",IngresoSolicitud!O65)","v":""},null,null,"Ninguno",null,null,null,null,null,{"$f":"IF(LEN(IngresoSolicitud!X65)=0,\"\",IngresoSolicitud!X65)","v":""}]
[]
[null,null,"Declaración Jurada"]
[]
[null,null,"Marque la respuesta que considere correcta a todas las preguntas:"]
[]
[null,null,"1) 1. ¿El 80% o más del material de construcción predominante del inmueble es noble \no de concreto armado, pórtico de acero, mampostería o similares? ",null,null,null,null,null,null,null,null,null,null,null,null,null,null,null,null,null,null,null,null,null,null,null,null,"SI",{"$f":"IF(LEN(IngresoSolicitud!AC71)=0,\"\",IngresoSolicitud!AC71)","v":""},"No",{"$f":"IF(LEN(IngresoSolicitud!AE71)=0,\"\",IngresoSolicitud!AE71)","v":""}]
[]
[]
[null,null,"2) ¿La ubicación del inmueble está a más de 500 metros de distancia de un río, playa o laguna/lago y a más de 15 metros de altura de alguno de estos?",null,null,null,null,null,null,null,null,null,null,null,null,null,null,null,null,null,null,null,null,null,null,null,null,"SI",{"$f":"IF(LEN(IngresoSolicitud!AC74)=0,\"\",IngresoSolicitud!AC74)","v":""},"No",{"$f":"IF(LEN(IngresoSolicitud!AE74)=0,\"\",IngresoSolicitud!AE74)","v":""}]
[]
[]
[null,null,"3) El inmueble tiene más de 50 años de construcción",null,null,null,null,null,null,null,null,null,null,null,null,null,null,null,null,null,null,null,null,null,null,null,null,"SI",{"$f":"IF(LEN(IngresoSolicitud!AC77)=0,\"\",IngresoSolicitud!AC77)","v":""},"No",{"$f":"IF(LEN(IngresoSolicitud!AE77)=0,\"\",IngresoSolicitud!AE77)","v":""}]
[null,null,"En caso marque Sí indique el año de la última remodelación",null,null,null,null,null,null,null,null,null,null,null,null,null,null,null,null,{"$f":"IF(IngresoSolicitud!T78=0,\"\",IngresoSolicitud!T78)","v":""}]
[]
[]
[null,null,"¿Qué es lo que quieres proteger?"]
[]
[null,null,null,null,null,"Inmueble¹",null,null,null,{"$f":"IF(LEN(IngresoSolicitud!J83)=0,\"\",IngresoSolicitud!J83)","v":""},null,null,"Bienes² ",null,{"$f":"IF(LEN(IngresoSolicitud!O83)=0,\"\",IngresoSolicitud!O83)","v":""},null,null,"Inmueble y Bienes",null,null,null,null,null,{"$f":"IF(LEN(IngresoSolicitud!X83)=0,\"\",IngresoSolicitud!X83)","v":""}]
[null,null,"¹ Se considera la estructura de tu vivienda y también los elementos que se encuentren fijados a ella, tales como redes telefónicas, muebles de cocina que se encuentren empotrados en la pared, armarios empotrados, calefacción, aire acondicionado, entre otros."]
[]
[null,null,"² Son todos los bienes de uso doméstico que se encuentren en tu vivienda. Incluyendo equipos, electrodomésticos, muebles no empotrados, joyas, obras de arte, enseres y similares. "]
[]
[]
[null,null,"Planes"]
[]
[null,null,"Plan Fijo",null,{"$f":"IF(LEN(IngresoSolicitud!E91)=0,\"\",IngresoSolicitud!E91)","v":""}]
[null,null,"Modalidad de aseguramiento: A primer riesgo absoluto "]
[]
[null,null,null,null,"Inmueble",null,null,null,null,null,null,null,null,null,"Bienes",null,null,null,null,null,null,null,"Inmueble y Bienes"]
[]
[null,null,null,null,{"$f":"IF(LEN(IngresoSolicitud!E96)=0,\"\",IngresoSolicitud!E96)","v":""},null,"Plan S/ 50,000",null,null,null,null,null,null,null,{"$f":"IF(LEN(IngresoSolicitud!O96)=0,\"\",IngresoSolicitud!O96)","v":""},null,"Plan S/ 10,000",null,null,null,null,null,null,{"$f":"IF(LEN(IngresoSolicitud!X96)=0,\"\",IngresoSolicitud!X96)","v":""},null,"Plan S/ 50,000 para inmueble y \nS/ 20,000 para bienes"]
[]
[]
[null,null,null,null,{"$f":"IF(LEN(IngresoSolicitud!E99)=0,\"\",IngresoSolicitud!E99)","v":""},null,"Plan S/ 100,000",null,null,null,null,null,null,null,{"$f":"IF(LEN(IngresoSolicitud!O99)=0,\"\",IngresoSolicitud!O99)","v":""},null,"Plan S/ 20,000",null,null,null,null,null,null,{"$f":"IF(LEN(IngresoSolicitud!X99)=0,\"\",IngresoSolicitud!X99)","v":""},null,"Plan S/ 100,000 para inmueble y S/ 50,000 para bienes"]
[]
[]
[null,null,null,null,{"$f":"IF(LEN(IngresoSolicitud!E102)=0,\"\",IngresoSolicitud!E102)","v":""},null,"Plan S/ 250,000",null,null,null,null,null,null,null,{"$f":"IF(LEN(IngresoSolicitud!O102)=0,\"\",IngresoSolicitud!O102)","v":""},null,"Plan S/ 50,000",null,null,null,null,null,null,{"$f":"IF(LEN(IngresoSolicitud!X102)=0,\"\",IngresoSolicitud!X102)","v":""},null,"Plan S/ 250,000 para inmueble y S/ 100,000 para bienes"]
[]
[]
[]
[null,null,"Plan Personalizado",null,null,null,null,{"$f":"IF(LEN(IngresoSolicitud!H106)=0,\"\",IngresoSolicitud!H106)","v":"X"},null,null,null,null,"Plan Básico",null,{"$f":"IF(LEN(IngresoSolicitud!O106)=0,\"\",IngresoSolicitud!O106)","v":""},null,null,null,"Plan Full",null,null,null,null,{"$f":"IF(LEN(IngresoSolicitud!X106)=0,\"\",IngresoSolicitud!X106)","v":""}]
[null,null,"Modalidad de aseguramiento: ",null,null,null,null,null,null,null,null,null,"A primer riesgo",null,{"$f":"IF(LEN(IngresoSolicitud!O107)=0,\"\",IngresoSolicitud!O107)","v":""},null,null,null,"A valor total",null,null,null,null,{"$f":"IF(LEN(IngresoSolicitud!X107)=0,\"\",IngresoSolicitud!X107)","v":""}]
[null,null,"Coberturas y sumas aseguradas detalladas en el Slip de Cotización"]
[]
[null,null,{"$f":"IF(LEN(IngresoSolicitud!C110)=0,\"\",IngresoSolicitud!C110)","v":""},"Confirmo que he sido informado correctamente sobre el plan, coberturas, beneficios adicionales que estoy eligiendo"]
[]
[null,null,"Suma Asegurada"]
[]
[null,null,"Moneda",null,null,null,null,null,"Dólares",null,null,{"$f":"IF(LEN(IngresoSolicitud!L114)=0,\"\",IngresoSolicitud!L114)","v":""},"Soles",{"$f":"IF(LEN(IngresoSolicitud!N114)=0,\"\",IngresoSolicitud!N114)","v":""}]
[null,null,"Suma AsegInmueble",null,null,null,{"$f":"IF(IngresoSolicitud!G115=0,\"\",IngresoSolicitud!G115)","v":""}]
[null,null,"Valor Inmueble",null,null,null,{"$f":"IF(IngresoSolicitud!G116=0,\"\",IngresoSolicitud!G116)","v":""},null,null,null,null,null,null,{"$f":"IF(LEN(IngresoSolicitud!N116)=0,\"\",IngresoSolicitud!N116)","v":""},null,"Valor Comercial (para departamentos)"]
[null,null,"(Valor Declarado)"]
[null,null,null,null,null,null,null,null,null,null,null,null,null,{"$f":"IF(LEN(IngresoSolicitud!N118)=0,\"\",IngresoSolicitud!N118)","v":""},null,"Valor de Reconstrucción (para casas, se excluye el valor del terreno)"]
[null,null,"Suma AsegBienes",null,null,null,{"$f":"IF(IngresoSolicitud!G119=0,\"\",IngresoSolicitud!G119)","v":""}]
[null,null,"Valor Bienes",null,null,null,{"$f":"IF(IngresoSolicitud!G120=0,\"\",IngresoSolicitud!G120)","v":""}]
[]
[null,null,"¿Tiene usted otros seguros contratados para los bienes objeto de este seguro?",null,null,null,null,null,null,null,null,null,null,null,null,null,null,null,"Sí",{"$f":"IF(LEN(IngresoSolicitud!T122)=0,\"\",IngresoSolicitud!T122)","v":""},"No",{"$f":"IF(LEN(IngresoSolicitud!V122)=0,\"\",IngresoSolicitud!V122)","v":""}]
[null,null,"En caso afirmativo, ¿En qué compañia?",null,null,null,null,null,null,null,null,{"$f":"IF(IngresoSolicitud!L123=0,\"\",IngresoSolicitud!L123)","v":""},null,null,null,null,null,null,null,null,null,null,null,null,null,"Nro de Póliza",{"$f":"IF(IngresoSolicitud!AA123=0,\"\",IngresoSolicitud!AA123)","v":""}]
[]
[null,null,"Endosatario (aplica solo para el plan Personalizado)"]
[null,null,"Endosado a favor de:",null,null,null,null,{"$f":"IF(IngresoSolicitud!H126=0,\"\",IngresoSolicitud!H126)","v":""}]
[null,null,"Monto de endoso:",null,null,null,null,{"$f":"IF(IngresoSolicitud!H127=0,\"\",IngresoSolicitud!H127)","v":""},null,null,null,null,null,"%",{"$f":"IF(IngresoSolicitud!O127=0,\"\",IngresoSolicitud!O127)","v":""}]
[]
[null,null,"Prima"]
[]
[null,null,"Prima comercial",null,null,null,{"$f":"ROUND(IF(IngresoSolicitud!G131=0,\"\",IngresoSolicitud!G131),2)","v":{"$error":"#VALUE!"}}]
[]
[null,null,"IGV",null,null,null,{"$f":"ROUND(IF(IngresoSolicitud!G133=0,\"\",IngresoSolicitud!G133),2)","v":{"$error":"#VALUE!"}}]
[]
[null,null,"Prima Cliente",null,null,null,{"$f":"ROUND(IF(IngresoSolicitud!G135=0,\"\",IngresoSolicitud!G135),2)","v":{"$error":"#VALUE!"}}]
[]
[null,null,"Pago de prima"]
[]
[null,null,"De acuerdo a lo establecido en el art. Nro 3, de la resolucion SBS 3198-2013, reglamento de pago de primas, la cobertura se inicia con la aceptacion de la solicitud y el pago de la prima. La forma de pago se aplicará a las posteriores renovaciones, salvo modificaciones por parte del contratante. La forma de pago es:"]
[]
[]
[null,null,null,null,null,null,null,null,null,null,{"$f":"IF(LEN(IngresoSolicitud!K142)=0,\"\",IngresoSolicitud!K142)","v":""},"Débito Automático sin intereses(*)",null,null,null,null,null,null,null,null,null,{"$f":"IF(LEN(IngresoSolicitud!V142)=0,\"\",IngresoSolicitud!V142)","v":""},"Cupones"]
[]
[]
[null,null,null,null,null,null,null,null,null,null,null,{"$f":"IF(LEN(IngresoSolicitud!L145)=0,\"\",IngresoSolicitud!L145)","v":""},"Contado",null,null,null,null,null,null,null,null,null,{"$f":"IF(LEN(IngresoSolicitud!W145)=0,\"\",IngresoSolicitud!W145)","v":""},"1 cupón"]
[]
[null,null,null,null,null,null,null,null,null,null,null,{"$f":"IF(LEN(IngresoSolicitud!L147)=0,\"\",IngresoSolicitud!L147)","v":""},"4 cuotas",null,null,null,null,null,null,null,null,null,{"$f":"IF(LEN(IngresoSolicitud!W147)=0,\"\",IngresoSolicitud!W147)","v":""},"4 cupones"]
[]
[null,null,null,null,null,null,null,null,null,null,null,{"$f":"IF(LEN(IngresoSolicitud!L149)=0,\"\",IngresoSolicitud!L149)","v":""},"6 cuotas ",null,null,null,null,null,null,null,null,null,{"$f":"IF(LEN(IngresoSolicitud!W149)=0,\"\",IngresoSolicitud!W149)","v":""},"6 cupones con intereses"]
[]
[null,null,null,null,null,null,null,null,null,null,null,null,"10 cuotas (TCEA 12%)",null,null,null,null,null,null,null,null,null,null,"10 cuotas (TCEA 12%)"]
[]
[null,null,null,null,null,null,null,null,null,null,null,{"$f":"IF(LEN(IngresoSolicitud!L153)=0,\"\",IngresoSolicitud!L153)","v":""},"12 cuotas",null,null,null,null,null,null,null,null,null,{"$f":"IF(LEN(IngresoSolicitud!W153)=0,\"\",IngresoSolicitud!W153)","v":""},"12 cupones con intereses"]
[]
[null,null,"* Según cuota mínima del producto"]
[]
[null,null,"Datos del corredor o asesor de venta"]
[]
[null,null,"Corredor / Asesor",null,null,null,null,{"$f":"IF(IngresoSolicitud!H159=0,\"\",IngresoSolicitud!H159)","v":""},null,null,null,null,null,null,null,null,null,null,null,null,null,null,null,"Código",null,{"$f":"IF(IngresoSolicitud!Z159=0,\"\",IngresoSolicitud!Z159)","v":""}]
[]
[null,null,"Teléfono",null,null,{"$f":"IF(IngresoSolicitud!F161=0,\"\",IngresoSolicitud!F161)","v":""},null,null,null,null,null,null,null,null,"Correo electrónico",null,null,null,null,null,{"$f":"IF(IngresoSolicitud!U161=0,\"\",IngresoSolicitud!U161)","v":"ggg"}]
[]
[]
[null,null,"Declaracion del asegurado"]
[]
[null,null,"DECLARO que:"]
[]
[null,null,"1. Conozco que la veracidad y exactitud de la información aquí consignada es esencial para la determinación de la prima, la cobertura y la decisión ﬁnal de PACIFICO SEGUROS para asegurar el riesgo analizado."]
[null,null,"2. Conozco que la reticencia y/o declaración inexacta, hecha con dolo o culpa inexcusable (negligencia grave), en llenado de la presente solicitud, genera la nulidad del contrato de seguro."]
[null,null,"3. Conozco que constituye reticencia y/o declaración inexacta con culpa inexcusable (negligencia grave) o dolo, según el caso, por ejemplo, ocultar o no develar información relevante y que era de mi conocimiento al momento de realizarse la inspección al riesgo asegurado, omitir dar información a PACIFICO SEGUROS al momento de contratar la póliza; y dejar espacios en blanco en la solicitud de seguro."]
[null,null,"4. Conozco que tengo la obligación de notiﬁcar por escrito a PACIFICO SEGUROS los hechos o circunstancias que agraven el riesgo y conozco también que esta obligación se extiende durante la vigencia del Contrato de Seguro; asimismo, en las vigencias de pólizas que se negocien sucesiva e ininterrumpidamente."]
[null,null,"5. Conozco que tengo la obligación de informar a PACIFICO SEGUROS sobre cualquier evento o circunstancia que directa o indirectamente pueda ser pertinente para corregir, actualizar y/o complementar la información brindada en la solicitud de seguro. Si no actualizo la información nueva que diera al momento de la emisión de la póliza original, se entenderá que he conﬁrmado que no existe información nueva que directa o indirectamente sea relevante para corregir, actualizar y/o complementar dicha información."]
[null,null,"6. Conozco que estoy facultado para plantear ante la COMPAÑÍA todas las consultas y/o dudas que pueda tener respecto del contenido de la Solicitud de Seguro que consta en el presente documento."]
[null,null,"7. He tenido a mi disposición, de manera previa a la contratación de este seguro, las condiciones generales, condiciones particulares, condiciones especiales y demás información del seguro que solicito."]
[]
[null,null,"IMPORTANTE"]
[]
[null,null,"Aprobación de la solicitud de seguro",null,null,null,null,null,null,null,null,null,null,null,null,null,null,"AUTORIZACIONES PARA USOS ADICIONALES"]
[null,null,null,null,null,null,null,null,null,null,null,null,null,null,null,null,null,"EL CLIENTE autoriza que PACÍFICO SEGUROS, de manera directa o a través de sus Encargados:\n- Le oferte cualquiera de nuestros productos de los ramos de Riesgos Generales o de Vida.\n- Le oferte cualquier otro producto o servicio de PACÍFICO SEGUROS o de sus empresas terceras.\n- A transferir su Información a empresas Credicorp (incluyendo subsidiarias, vinculadas y afiliadas) así como socios comerciales (Terceros), para que cada uno de ellos pueda ofertar sus productos o servicios. \n"]
[null,null,"PACÍFICO SEGUROS entregará la póliza de seguro al Contratante dentro del plazo de 15 días calendario de haber recibido la solicitud, si es que no es rechazada.\nNo obstante, cuando corresponda, PACÍFICO SEGUROS se obliga a comunicar el rechazo de la solicitud dentro del plazo de 15 días calendario de recibida, salvo que PACÍFICO SEGUROS haya requerido información adicional y/u otros requerimientos adicionales, necesarios para la evaluación del riesgo, dentro del referido plazo. En este caso, el plazo para comunicar el rechazo se contará a partir de la recepción de la información completa solicitada y de cumplidos los requerimientos realizados por PACÍFICO SEGUROS. En el supuesto que el Contratante no complete la información solicitada por PACÍFICO SEGUROS y/o no cumpla con los requerimientos que PACÍFICO SEGUROS haya realizado, se considerará rechazada la solicitud."]
[]
[]
[]
[]
[]
[]
[]
[]
[null,null,null,null,null,null,null,null,null,null,null,null,null,null,null,null,null,"EL CLIENTE acepta haber tenido a su disposición la lista de Terceros y Encargados que también se encuentra disponible en https://www.pacifico.com.pe/transparencia/politica-privacidad. Dicha lista detalla los posibles usos que los Terceros darán a sus datos personales. El envío de comunicaciones o mensajes con las ofertas y/o publicidades podrá ser remitida a través de medios escritos, verbales (por ejemplo: mensajes, push notification o llamadas telefónicas) o electrónicos/informáticos (por ejemplo correo electrónico)."]
[]
[]
[]
[]
[]
[null,null,"Medios de comunicación pactados: Escritos (correo electrónico o comunicaciones enviadas al domicilio físico) y telefónicas."]
[]
[]
[null,null,"Autorizo a PACÍFICO SEGUROS, a que en el caso de aprobar la presente solicitud, pueda enviar válidamente cualquier comunicación y/o notiﬁcación vinculada con este seguro durante su vigencia por cualquiera de los medios de comunicación arriba indicados, precisándose que las comunicaciones por teléfono se realizarán únicamente en aquellos casos en que la comunicación escrita no sea requerida de forma especíﬁca, conforme al marco normativo vigente. Declaro igualmente conocer y estar de acuerdo con que las comunicaciones y/o notiﬁcaciones que sean dirigidas a mi correo electrónico surtirán efectos y las consideraré recibidas a partir del momento en que éstas sean recibidas en el servidor de mi cuenta del correo electrónico, considerándose igualmente que en ese momento he tomado conocimiento del contenido del documento enviado por dicho medio."]
[null,null,null,null,null,null,null,null,null,null,null,null,null,null,null,null,null,"PACÍFICO SEGUROS y los Terceros podrán conservar y tratar LA INFORMACIÓN de EL CLIENTE en los términos establecidos en esta sección, mientras se mantenga la relación contractual y luego de veinte (20) años de finalizado el contrato.\nLa aceptación o no de esta autorización para usos adicionales (ajenos a la ejecución de la relación contractual) no condiciona la prestación del servicio que EL CLIENTE está contratando.\n"]
[]
[]
[]
[]
[]
[]
[]
[]
[]
[]
[]
[]
[]
[null,null,"Se enviará comunicaciones por escrito al domicilio físico del contratante y/o asegurado, en caso la normatividad vigente lo exija o, no se consigne una dirección electrónica."]
[]
[]
[]
[null,null,"PROTECCIÓN DE DATOS PERSONALES",null,null,null,null,null,null,null,null,null,null,null,null,null,null,"Sí acepto",null,null,null,null,null,null,null,null,null,null,null,{"$f":"IF(LEN(IngresoSolicitud!$AD$217)=0,\"\",IngresoSolicitud!$AD$217)","v":""}]
[null,null,"Para la correcta ejecución de la relación contractual, EL CONTRATANTE / ASEGURADO (“EL CLIENTE”) se obliga a mantener actualizada su información personal, financiera y crediticia (“LA INFORMACIÓN”) y reconoce que PACÍFICO SEGUROS podrá tratarla, actualizarla, completarla y realizar flujos transfronterizos conforme a ley.",null,null,null,null,null,null,null,null,null,null,null,null,null,null,"No acepto y"]
[null,null,null,null,null,null,null,null,null,null,null,null,null,null,null,null,null,"prefiero perder la oportunidad de recibir nuevas ofertas",null,null,null,null,null,null,null,null,null,null,null,{"$f":"IF(LEN(IngresoSolicitud!$AD$219)=0,\"\",IngresoSolicitud!$AD$219)","v":""}]
[]
[]
[]
[]
[]
[]
[null,null,"PACÍFICO SEGUROS conservará, tratará y realizará flujos transfronterizos con LA INFORMACIÓN de EL CLIENTE mientras se mantenga la relación contractual y luego de veinte (20) años de finalizado el contrato.\nPara el tratamiento de La INFORMACIÓN de EL CLIENTE, PACÍFICO SEGUROS utilizará diversos Encargados ubicados en el Perú y el extranjero, los cuales se han puesto a disposición del El cliente y también se encuentran detallados en https://www.pacifico.com.pe/transparencia/politica-privacidad.",null,null,null,null,null,null,null,null,null,null,null,null,null,null,"Cláusulas Abusivas"]
[null,null,null,null,null,null,null,null,null,null,null,null,null,null,null,null,null,"“Las condiciones de la presente póliza se encuentran sujetas a una revisión posterior por parte de la Superintendencia de Banca, Seguros y AFPs, por lo que, en caso se identiﬁquen cláusulas abusivas en el marco de la Ley del Contrato de Seguro y normas reglamentarias, y estas no sean subsanadas por PACÍFICO SEGUROS, la Superintendencia de Banca, Seguros y AFPs,"]
[]
[]
[]
[]
[]
[]
[]
[]
[null,null,null,null,null,null,null,null,null,null,null,null,null,null,null,null,null,"Comisión por Comercialización: Hasta 17.50%"]
[null,null," Su información será incluida en el banco de datos de Usuarios que se encuentra registrado ante la Autoridad de Protección de Datos Personales bajo el número de registro RNPDP-PJ N.° 774, de titularidad de PACÍFICO SEGUROS, ubicada en Juan de Arona 830, San Isidro, Lima - Perú.",null,null,null,null,null,null,null,null,null,null,null,null,null,null,"Vigencia de la póliza: Anual renovable"]
[]
[]
[]
[]
[]
[null,null,"EL CLIENTE puede ejercer los derechos de acceso, rectificación, cancelación, revocación y oposición, dirigiéndose a PACÍFICO SEGUROS de forma presencial en cualquiera de sus oficinas a nivel nacional en el horario establecido para la atención al público o por teléfono o a través del Chat ubicado en nuestra página web www.pacifico.com.pe.\nEl detalle de nuestra Política de Privacidad se encuentra disponible en: \nhttps://www.pacifico.com.pe/transparencia/politica-privacidad",null,null,null,null,null,null,null,null,null,null,null,null,null,null,"Derecho de arrepentimiento"]
[null,null,null,null,null,null,null,null,null,null,null,null,null,null,null,null,null,"En el caso que este seguro sea ofertado por un comercializador (incluyendo la Bancaseguro), declaro conocer que tengo derecho a arrepentirme de la contratación de este seguro, sin expresión de causa ni penalidad alguna, dentro del plazo de 15 días de recibir la póliza de seguro o el certiﬁcado de seguro, de ser el caso, ya que se me devuelva la prima que hubiere pagado."]
[]
[]
[]
[]
[]
[]
[]
[]
[]
[]
[]
[]
[]
[]
[]
[]
[null,null,null,null,null,null,null,null,null,null,null,null,null,null,null,null,null,null,null,null,null,null,null,null,null,null,null,{"$f":"IF(LEN(IngresoSolicitud!AB261)=0,\"\",IngresoSolicitud!AB261)","v":25},{"$f":"IF(LEN(IngresoSolicitud!AC261)=0,\"\",IngresoSolicitud!AC261)","v":3},{"$f":"IF(LEN(IngresoSolicitud!AD261)=0,\"\",IngresoSolicitud!AD261)","v":2025}]
[null,null,null,null,null,null,null,null,null,null,null,null,null,null,null,null,null,null,null,null,null,null,null,null,null,null,null,"dia ","mes","año"]

{"sheet":"SolicitudenBlanco","index":34,"n_rows":262,"n_cols":30,"rows_kept":262,"cut":false,"hidden":true,"merged":[[53,2,53,11],[261,3,261,9],[197,2,210,15],[212,2,214,15],[217,2,222,15],[236,2,240,15],[242,2,251,15],[198,17,203,30],[212,17,214,30],[226,17,231,30],[243,17,248,30],[225,2,233,15],[171,2,171,30],[172,2,172,30],[173,2,173,30],[175,2,175,30],[179,2,192,15],[194,2,195,15],[160,5,160,12],[160,20,160,30],[167,2,167,30],[168,2,168,30],[169,2,169,30],[170,2,170,30],[178,17,186,30],[188,17,196,30],[130,6,130,10],[132,6,132,10],[134,6,134,10],[138,2,139,30],[158,7,158,20],[158,25,158,30],[114,6,114,9],[119,6,119,9],[122,11,122,24],[122,26,122,30],[125,7,125,30],[126,7,126,12],[126,14,126,18],[93,4,93,8],[93,14,93,18],[93,22,93,28],[95,25,96,28],[98,25,99,28],[101,25,102,28],[70,2,71,25],[73,2,74,25],[76,2,76,25],[77,19,77,24],[83,2,84,30],[85,2,86,30],[52,5,52,11],[52,13,52,17],[52,23,52,25],[64,25,64,30],[49,10,49,23],[49,26,49,30],[51,5,51,11],[51,13,51,17],[51,22,51,25],[51,27,51,30],[53,23,53,25],[50,10,50,12],[58,2,58,5],[58,6,58,12],[58,13,58,24],[58,26,58,27],[58,28,58,30],[59,2,59,5],[59,6,59,12],[59,13,59,24],[59,26,59,27],[59,28,59,30],[60,2,60,5],[60,6,60,12],[39,6,39,11],[39,13,39,24],[39,26,39,30],[40,7,40,30],[48,7,48,21],[48,23,48,24],[37,10,37,23],[37,26,37,30],[38,4,38,11],[38,13,38,17],[38,22,38,25],[38,27,38,30],[31,8,31,30],[32,7,32,19],[32,25,32,30],[34,21,34,24],[34,26,34,30],[36,7,36,21],[36,23,36,24],[22,6,22,11],[22,13,22,24],[22,26,22,30],[23,7,23,30],[28,26,28,30],[30,28,30,30],[19,9,19,21],[19,23,19,24],[20,10,20,23],[20,26,20,30],[21,4,21,11],[21,13,21,17],[21,22,21,25],[21,27,21,30],[7,26,7,28],[12,28,12,30],[14,8,14,30],[15,7,15,19],[15,25,15,30],[17,21,17,24],[17,26,17,30],[60,13,60,24],[60,26,60,27],[60,28,60,30],[56,2,56,5],[56,6,56,12],[56,13,56,24],[56,26,56,27],[56,28,56,30],[57,2,57,5],[57,6,57,12],[57,13,57,24],[57,26,57,27],[57,28,57,30]]}
[]
[]
[]
[]
[]
[]
[]
[null,null,"Solicitud de Seguro Hogar Flex"]
[null,null,"Contratante"]
[]
[null,null,"Persona Natural",null,null,null,null,null,null,null,null,null,"Persona Juridica"]
[]
[null,null,"DNI",null,null,null,null,null,null,null,null,null,null,null,null,null,null,null,null,null,null,null,null,null,null,"Otro (indicar tipo y número)"]
[]
[null,null,"Nombre / Razon Social"]
[null,null,"Apellido Paterno",null,null,null,null,null,null,null,null,null,null,null,null,null,null,null,null,null,"Apellido Materno"]
[]
[null,null,"Sexo",null,"M","F",null,null,null,null,"Fecha de Nacimiento",null,null,null,null,null,null,null,null,null,"Estado Civil",null,null,null,null,"Nacionalidad"]
[null,null,null,null,null,null,null,null,null,null,null,null,null,"dd/","mm/","aa"]
[null,null,"Direccion (Jr. / Cl / Av)",null,null,null,null,null,null,null,null,null,null,null,null,null,null,null,null,null,null,null,"Nro",null,null,"Dpto/Piso/Int",null,"Mz",null,"Lt"]
[null,null,"Urbanizacion (Urb / AAHH / Coop)",null,null,null,null,null,null,null,null,null,null,null,null,null,null,null,null,null,null,null,null,null,null,"Sec / Etapa / Zona"]
[null,null,"Departamento",null,null,null,null,null,null,null,null,null,"Provincia",null,null,null,null,null,"Distrito",null,null,null,null,null,null,null,"País"]
[null,null,"Telefono Casa",null,null,null,null,null,null,null,null,null,"Telefono trabajo",null,null,null,null,null,null,null,null,null,null,null,null,"Telefono Movil"]
[null,null,"Correo electronico(*)"]
[null,null,"(*) Para recibir informacion del contrato de seguro y/o cualquier comunicación necesaria para su ejecucion."]
[]
[null,null,"Asegurado (llenar solo si es diferente del Contratante)"]
[]
[null,null,"Persona Natural",null,null,null,null,null,null,null,null,null,"Persona Juridica"]
[]
[null,null,"DNI",null,null,null,null,null,null,null,null,null,"RUC",null,null,null,null,null,null,null,null,null,null,null,null,"Otro (indicar tipo y número)"]
[null,null,"Nombre / Razon Social"]
[null,null,"Apellido Paterno",null,null,null,null,null,null,null,null,null,null,null,null,null,null,null,null,null,"Apellido Paterno"]
[]
[null,null,"Sexo",null,"M","F",null,null,null,null,"Fecha de Nacimiento",null,null,null,null,null,null,null,null,null,"Estado Civil",null,null,null,null,"Nacionalidad"]
[null,null,null,null,null,null,null,null,null,null,null,null,null,"dd/","mm/","aa"]
[null,null,"Direccion (Jr. / Cl / Av)",null,null,null,null,null,null,null,null,null,null,null,null,null,null,null,null,null,null,null,"Nro",null,null,"Dpto/Piso/Int",null,"Mz",null,"Lt"]
[null,null,"Urbanizacion (Urb / AAHH / Coop)",null,null,null,null,null,null,null,null,null,null,null,null,null,null,null,null,null,null,null,null,null,null,"Sec / Etapa / Zona"]
[null,null,"Departamento",null,null,null,null,null,null,null,null,null,"Provincia",null,null,null,null,null,"Distrito",null,null,null,null,null,null,null,"País"]
[null,null,"Teléfono Casa",null,null,null,null,null,null,null,null,null,"Teléfono trabajo",null,null,null,null,null,null,null,null,null,null,null,null,"Teléfono Móvil"]
[null,null,"Correo electronico(*)"]
[null,null,"(*) Para recibir informacion del contrato de seguro y/o cualquier comunicación necesaria para su ejecucion."]
[]
[null,null,"Datos del Inmueble"]
[]
[null,null,"El seguro de hogar le otorga cobertura si su Inmueble y/o los Bienes contenidos en él son usados como casa habitación. "]
[]
[null,null,"Tipo de vivienda:",null,null,null,"Casa",null,null,null,null,null,"Departamento"]
[null,null,"Direccion (Jr. / Cl / Av)",null,null,null,null,null,null,null,null,null,null,null,null,null,null,null,null,null,null,null,"Nro",null,null,"Dpto/Piso/Int",null,"Mz",null,"Lt"]
[null,null,"Urbanizacion (Urb / AAHH / Coop)",null,null,null,null,null,null,null,null,null,null,null,null,null,null,null,null,null,null,null,null,null,null,"Sec / Etapa / Zona"]
[null,null,"Tipo de Material de Construccion"]
[null,null,"Departamento",null,null,null,null,null,null,null,null,null,"Provincia",null,null,null,null,null,"Distrito",null,null,null,null,null,null,null,"País"]
[null,null,"Nro de Pisos",null,null,null,null,null,null,null,null,null,"Nro de Sótanos","",null,null,null,null,"Año de construcción"]
[null,null,"Nro de pisos de la ubicación de la vivienda",null,null,null,null,null,null,null,null,null,null,null,null,null,null,null,"m2 construccion"]
[]
[null,null,"Material de construccion predominante"]
[null,null,"COD MATERIAL",null,null,null,"MATERIAL DE CONSTRUCCION",null,null,null,null,null,null,"DEFINICIÓN",null,null,null,null,null,null,null,null,null,null,null,"PISOS\n# MAXIMO","SOTANOS\n# MAXIMO",null,"SELECCIONADO"]
[null,null,"3.0CA",null,null,null,"PÓRTICOS DE CONCRETO ARMADO",null,null,null,null,null,null,"Estuctura resistente formada por columnas y vigas de concreto armado, formando pórticos, las columnas pueden ser cuadradas o circulares.",null,null,null,null,null,null,null,null,null,null,null,10,10,null,"NO"]
[null,null,"4.0CP",null,null,null,"PÓRTICOS DE CONCRETO ARMADO CON PLACAS",null,null,null,null,null,null,"Similar a 3.OCA, adicionalmente cuenta con muros de concreto armado (placas) que aumentan la rigidez.",null,null,null,null,null,null,null,null,null,null,null,32,10,null,"NO"]
[null,null,"8.0M2R",null,null,null,"MAMPOSTERÍA ARMADA O CONFINADA CON DIAFRAGMAS RÍGIDOS",null,null,null,null,null,null,"Muros portantes de ladrillos de arcilla que tienen columnas de confinamiento en los extremos, o refuerzo interior de acero, con losas aligeradas o macizas.",null,null,null,null,null,null,null,null,null,null,null,4,1,null,"NO"]
[null,null,"9.0M2F",null,null,null,"MAMPOSTERÍA ARMADA O CONFINADA CON DIAFRAGMAS FLEXIBLES",null,null,null,null,null,null,"Muros portantes de ladrillos de arcilla que tienen columnas de confinamiento en los extremos, o refuerzo interior de acero, con piso o techo flexible de vigas de madera o acero.",null,null,null,null,null,null,null,null,null,null,null,4,1,null,"NO"]
[null,null,"Sistema de seguridad en la vivienda:"]
[null,null,null,null,null,"Alarma",null,null,null,null,null,null,"Cámara de seguridad",null,null,null,null,"Sensor de movimiento"]
[]
[null,null,null,null,null,"Cerco eléctrico",null,null,null,null,null,null,"Detector de humo",null,null,null,null,"Ninguno"]
[]
[null,null,"Declaración Jurada"]
[]
[null,null,"Marque la respuesta que considere correcta a todas las preguntas:"]
[]
[null,null,"1) 1. ¿El 80% o más del material de construcción predominante del inmueble es noble \no de concreto armado, pórtico de acero, mampostería o similares? ",null,null,null,null,null,null,null,null,null,null,null,null,null,null,null,null,null,null,null,null,null,null,null,null,"SI",null,"No"]
[]
[]
[null,null,"2) ¿La ubicación del inmueble está a más de 500 metros de distancia de un río, playa o laguna/lago y a más de 15 metros de altura de alguno de estos?",null,null,null,null,null,null,null,null,null,null,null,null,null,null,null,null,null,null,null,null,null,null,null,null,"SI",null,"No"]
[]
[]
[null,null,"3) El inmueble tiene más de 50 años de construcción",null,null,null,null,null,null,null,null,null,null,null,null,null,null,null,null,null,null,null,null,null,null,null,null,"SI",null,"No"]
[null,null,"En caso marque Sí indique el año de la última remodelación"]
[]
[]
[null,null,"¿Qué es lo que quieres proteger?"]
[]
[null,null,null,null,null,"Inmueble¹",null,null,null,null,null,null,"Bienes² ",null,null,null,null,"Inmueble y Bienes"]
[null,null,"¹ Se considera la estructura de tu vivienda y también los elementos que se encuentren fijados a ella, tales como redes telefónicas, muebles de cocina que se encuentren empotrados en la pared, armarios empotrados, calefacción, aire acondicionado, entre otros."]
[]
[null,null,"² Son todos los bienes de uso doméstico que se encuentren en tu vivienda. Incluyendo equipos, electrodomésticos, muebles no empotrados, joyas, obras de arte, enseres y similares. "]
[]
[]
[null,null,"Planes"]
[]
[null,null,"Plan Fijo",null,""]
[null,null,"Modalidad de aseguramiento: A primer riesgo absoluto "]
[]
[null,null,null,null,"Inmueble",null,null,null,null,null,null,null,null,null,"Bienes",null,null,null,null,null,null,null,"Inmueble y Bienes"]
[]
[null,null,null,null,"",null,"Plan S/ 50,000",null,null,null,null,null,null,null,"",null,"Plan S/ 10,000",null,null,null,null,null,null,"",null,"Plan S/ 50,000 para inmueble y \nS/ 20,000 para bienes"]
[]
[]
[null,null,null,null,"",null,"Plan S/ 100,000",null,null,null,null,null,null,null,"",null,"Plan S/ 20,000",null,null,null,null,null,null,"",null,"Plan S/ 100,000 para inmueble y S/ 50,000 para bienes"]
[]
[]
[null,null,null,null,"",null,"Plan S/ 250,000",null,null,null,null,null,null,null,"",null,"Plan S/ 50,000",null,null,null,null,null,null,"",null,"Plan S/ 250,000 para inmueble y S/ 100,000 para bienes"]
[]
[]
[]
[null,null,"Plan Personalizado"]
[null,null,"Modalidad de aseguramiento: A valor total"]
[null,null,"Coberturas y sumas aseguradas detalladas en el Slip de Cotización"]
[]
[null,null,null,"Confirmo que he sido informado correctamente sobre el plan, coberturas, beneficios adicionales que estoy eligiendo"]
[]
[null,null,"Suma Asegurada (llenar solo si elige el plan personalizado)"]
[]
[null,null,"Moneda",null,null,null,null,null,"Dólares",null,null,null,"Soles"]
[null,null,"Inmueble"]
[null,null,null,null,null,null,null,null,null,null,null,null,null,null,null,"Valor Comercial (para departamentos)"]
[]
[null,null,null,null,null,null,null,null,null,null,null,null,null,null,null,"Valor de Reconstrucción (para casas, se excluye el valor del terreno)"]
[]
[null,null,"Bienes"]
[]
[null,null,"¿Tiene usted otros seguros contratados para los bienes objeto de este seguro?",null,null,null,null,null,null,null,null,null,null,null,null,null,null,null,"Sí",null,"No"]
[null,null,"En caso afirmativo, ¿En qué compañia?",null,null,null,null,null,null,null,null,null,null,null,null,null,null,null,null,null,null,null,null,null,null,"Nro de Póliza"]
[]
[null,null,"Endosatario (aplica solo para el plan Personalizado)"]
[null,null,"Endosado a favor de:"]
[null,null,"Monto de endoso:",null,null,null,null,null,null,null,null,null,null,"%"]
[]
[null,null,"Prima"]
[]
[null,null,"Prima comercial"]
[]
[null,null,"IGV"]
[]
[null,null,"Prima Cliente"]
[]
[null,null,"Pago de prima"]
[]
[null,null,"De acuerdo a lo establecido en el art. Nro 3, de la resolucion SBS 3198-2013, reglamento de pago de primas, la cobertura se inicia con la aceptacion de la solicitud y el pago de la prima. La forma de pago se aplicará a las posteriores renovaciones, salvo modificaciones por parte del contratante. La forma de pago es:"]
[]
[]
[null,null,null,null,null,null,null,null,null,null,null,"Débito Automático sin intereses(*)"]
[]
[]
[null,null,null,null,null,null,null,null,null,null,null,null,"Contado"]
[]
[null,null,null,null,null,null,null,null,null,null,null,null,"4 cuotas"]
[]
[null,null,null,null,null,null,null,null,null,null,null,null,"6 cuotas "]
[]
[null,null,null,null,null,null,null,null,null,null,null,null,"10 cuotas (TCEA 12%)"]
[]
[null,null,null,null,null,null,null,null,null,null,null,null,"12 cuotas"]
[]
[null,null,"* Según cuota mínima del producto"]
[]
[null,null,"Datos del corredor o asesor de venta"]
[]
[null,null,"Corredor / Asesor",null,null,null,null,null,null,null,null,null,null,null,null,null,null,null,null,null,null,null,null,"Código"]
[]
[null,null,"Teléfono",null,null,null,null,null,null,null,null,null,null,null,"Correo electrónico"]
[]
[]
[null,null,"Declaracion del asegurado"]
[]
[null,null,"DECLARO que:"]
[]
[null,null,"1. Conozco que la veracidad y exactitud de la información aquí consignada es esencial para la determinación de la prima, la cobertura y la decisión ﬁnal de PACIFICO SEGUROS para asegurar el riesgo analizado."]
[null,null,"2. Conozco que la reticencia y/o declaración inexacta, hecha con dolo o culpa inexcusable (negligencia grave), en llenado de la presente solicitud, genera la nulidad del contrato de seguro."]
[null,null,"3. Conozco que constituye reticencia y/o declaración inexacta con culpa inexcusable (negligencia grave) o dolo, según el caso, por ejemplo, ocultar o no develar información relevante y que era de mi conocimiento al momento de realizarse la inspección al riesgo asegurado, omitir dar información a PACIFICO SEGUROS al momento de contratar la póliza; y dejar espacios en blanco en la solicitud de seguro."]
[null,null,"4. Conozco que tengo la obligación de notiﬁcar por escrito a PACIFICO SEGUROS los hechos o circunstancias que agraven el riesgo y conozco también que esta obligación se extiende durante la vigencia del Contrato de Seguro; asimismo, en las vigencias de pólizas que se negocien sucesiva e ininterrumpidamente."]
[null,null,"5. Conozco que tengo la obligación de informar a PACIFICO SEGUROS sobre cualquier evento o circunstancia que directa o indirectamente pueda ser pertinente para corregir, actualizar y/o complementar la información brindada en la solicitud de seguro. Si no actualizo la información nueva que diera al momento de la emisión de la póliza original, se entenderá que he conﬁrmado que no existe información nueva que directa o indirectamente sea relevante para corregir, actualizar y/o complementar dicha información."]
[null,null,"6. Conozco que estoy facultado para plantear ante la COMPAÑÍA todas las consultas y/o dudas que pueda tener respecto del contenido de la Solicitud de Seguro que consta en el presente documento."]
[null,null,"7. He tenido a mi disposición, de manera previa a la contratación de este seguro, las condiciones generales, condiciones particulares, condiciones especiales y demás información del seguro que solicito."]
[]
[null,null,"IMPORTANTE"]
[]
[null,null,"Aprobación de la solicitud de seguro",null,null,null,null,null,null,null,null,null,null,null,null,null,null,"AUTORIZACIONES PARA USOS ADICIONALES"]
[null,null,null,null,null,null,null,null,null,null,null,null,null,null,null,null,null,"EL CLIENTE autoriza que PACÍFICO SEGUROS, de manera directa o a través de sus Encargados:\n- Le oferte cualquiera de nuestros productos de los ramos de Riesgos Generales o de Vida.\n- Le oferte cualquier otro producto o servicio de PACÍFICO SEGUROS o de sus empresas terceras.\n- A transferir su Información a empresas Credicorp (incluyendo subsidiarias, vinculadas y afiliadas) así como socios comerciales (Terceros), para que cada uno de ellos pueda ofertar sus productos o servicios. \n"]
[null,null,"PACÍFICO SEGUROS entregará la póliza de seguro al Contratante dentro del plazo de 15 días calendario de haber recibido la solicitud, si es que no es rechazada.\nNo obstante, cuando corresponda, PACÍFICO SEGUROS se obliga a comunicar el rechazo de la solicitud dentro del plazo de 15 días calendario de recibida, salvo que PACÍFICO SEGUROS haya requerido información adicional y/u otros requerimientos adicionales, necesarios para la evaluación del riesgo, dentro del referido plazo. En este caso, el plazo para comunicar el rechazo se contará a partir de la recepción de la información completa solicitada y de cumplidos los requerimientos realizados por PACÍFICO SEGUROS. En el supuesto que el Contratante no complete la información solicitada por PACÍFICO SEGUROS y/o no cumpla con los requerimientos que PACÍFICO SEGUROS haya realizado, se considerará rechazada la solicitud."]
[]
[]
[]
[]
[]
[]
[]
[]
[null,null,null,null,null,null,null,null,null,null,null,null,null,null,null,null,null,"EL CLIENTE acepta haber tenido a su disposición la lista de Terceros y Encargados que también se encuentra disponible en https://www.pacifico.com.pe/transparencia/politica-privacidad. Dicha lista detalla los posibles usos que los Terceros darán a sus datos personales. El envío de comunicaciones o mensajes con las ofertas y/o publicidades podrá ser remitida a través de medios escritos, verbales (por ejemplo: mensajes, push notification o llamadas telefónicas) o electrónicos/informáticos (por ejemplo correo electrónico)."]
[]
[]
[]
[]
[]
[null,null,"Medios de comunicación pactados: Escritos (correo electrónico o comunicaciones enviadas al domicilio físico) y telefónicas."]
[]
[]
[null,null,"Autorizo a PACÍFICO SEGUROS, a que en el caso de aprobar la presente solicitud, pueda enviar válidamente cualquier comunicación y/o notiﬁcación vinculada con este seguro durante su vigencia por cualquiera de los medios de comunicación arriba indicados, precisándose que las comunicaciones por teléfono se realizarán únicamente en aquellos casos en que la comunicación escrita no sea requerida de forma especíﬁca, conforme al marco normativo vigente. Declaro igualmente conocer y estar de acuerdo con que las comunicaciones y/o notiﬁcaciones que sean dirigidas a mi correo electrónico surtirán efectos y las consideraré recibidas a partir del momento en que éstas sean recibidas en el servidor de mi cuenta del correo electrónico, considerándose igualmente que en ese momento he tomado conocimiento del contenido del documento enviado por dicho medio."]
[null,null,null,null,null,null,null,null,null,null,null,null,null,null,null,null,null,"PACÍFICO SEGUROS y los Terceros podrán conservar y tratar LA INFORMACIÓN de EL CLIENTE en los términos establecidos en esta sección, mientras se mantenga la relación contractual y luego de veinte (20) años de finalizado el contrato.\nLa aceptación o no de esta autorización para usos adicionales (ajenos a la ejecución de la relación contractual) no condiciona la prestación del servicio que EL CLIENTE está contratando.\n"]
[]
[]
[]
[]
[]
[]
[]
[]
[]
[]
[]
[]
[]
[null,null,"Se enviará comunicaciones por escrito al domicilio físico del contratante y/o asegurado, en caso la normatividad vigente lo exija o, no se consigne una dirección electrónica."]
[]
[]
[]
[null,null,"PROTECCIÓN DE DATOS PERSONALES",null,null,null,null,null,null,null,null,null,null,null,null,null,null,"Sí acepto"]
[null,null,"Para la correcta ejecución de la relación contractual, EL CONTRATANTE / ASEGURADO (“EL CLIENTE”) se obliga a mantener actualizada su información personal, financiera y crediticia (“LA INFORMACIÓN”) y reconoce que PACÍFICO SEGUROS podrá tratarla, actualizarla, completarla y realizar flujos transfronterizos conforme a ley.",null,null,null,null,null,null,null,null,null,null,null,null,null,null,"No acepto y"]
[null,null,null,null,null,null,null,null,null,null,null,null,null,null,null,null,null,"prefiero perder la oportunidad de recibir nuevas ofertas"]
[]
[]
[]
[]
[]
[]
[null,null,"PACÍFICO SEGUROS conservará, tratará y realizará flujos transfronterizos con LA INFORMACIÓN de EL CLIENTE mientras se mantenga la relación contractual y luego de veinte (20) años de finalizado el contrato.\nPara el tratamiento de La INFORMACIÓN de EL CLIENTE, PACÍFICO SEGUROS utilizará diversos Encargados ubicados en el Perú y el extranjero, los cuales se han puesto a disposición del El cliente y también se encuentran detallados en https://www.pacifico.com.pe/transparencia/politica-privacidad.",null,null,null,null,null,null,null,null,null,null,null,null,null,null,"Cláusulas Abusivas"]
[null,null,null,null,null,null,null,null,null,null,null,null,null,null,null,null,null,"“Las condiciones de la presente póliza se encuentran sujetas a una revisión posterior por parte de la Superintendencia de Banca, Seguros y AFPs, por lo que, en caso se identiﬁquen cláusulas abusivas en el marco de la Ley del Contrato de Seguro y normas reglamentarias, y estas no sean subsanadas por PACÍFICO SEGUROS, la Superintendencia de Banca, Seguros y AFPs,"]
[]
[]
[]
[]
[]
[]
[]
[]
[]
[null,null," Su información será incluida en el banco de datos de Usuarios que se encuentra registrado ante la Autoridad de Protección de Datos Personales bajo el número de registro RNPDP-PJ N.° 774, de titularidad de PACÍFICO SEGUROS, ubicada en Juan de Arona 830, San Isidro, Lima - Perú."]
[]
[]
[]
[]
[]
[null,null,"EL CLIENTE puede ejercer los derechos de acceso, rectificación, cancelación, revocación y oposición, dirigiéndose a PACÍFICO SEGUROS de forma presencial en cualquiera de sus oficinas a nivel nacional en el horario establecido para la atención al público o por teléfono o a través del Chat ubicado en nuestra página web www.pacifico.com.pe.\nEl detalle de nuestra Política de Privacidad se encuentra disponible en: \nhttps://www.pacifico.com.pe/transparencia/politica-privacidad",null,null,null,null,null,null,null,null,null,null,null,null,null,null,"Derecho de arrepentimiento"]
[null,null,null,null,null,null,null,null,null,null,null,null,null,null,null,null,null,"En el caso que este seguro sea ofertado por un comercializador (incluyendo la Bancaseguro), declaro conocer que tengo derecho a arrepentirme de la contratación de este seguro, sin expresión de causa ni penalidad alguna, dentro del plazo de 15 días de recibir la póliza de seguro o el certiﬁcado de seguro, de ser el caso, ya que se me devuelva la prima que hubiere pagado."]
[]
[]
[]
[]
[]
[]
[]
[]
[]
[]
[]
[]
[]
[]
[]
[]
[]
[null,null,null,null,null,null,null,null,null,null,null,null,null,null,null,null,null,null,null,null,null,null,null,null,null,null,null,"dia ","mes","año"]

{"sheet":"desplegables ubigeo","index":35,"n_rows":1877,"n_cols":24,"rows_kept":1877,"cut":false,"hidden":true,"merged":[[1,11,1,13]]}
[null,"CÓDIGOS DE UBICACIÓN GEOGRÁFICA"]
[null,"DEPARTAMENTO","PROVINCIA","DISTRITO",null,null,null,null,null,null,null,"DESPLEGABLES"]
[null,"DEPARTAMENTO","PROVINCIA","DISTRITO","COD DEPARTAMENTO","COD PROVINCIA","COD DISTRITO","DESC DEPARTAMENTO","DESC PROVINCIA","DESC DISTRITO","COMBINACIÓN","DEPARTAMENTO","PROVINCIA","DISTRITO","COD DEPARTAMENTO","COD PROVINCIA","COD DISTRITO",null,null,null,null,null,"DEPARTAMENTO","PROVINCIA"]
[null,"01 Amazonas","01 Chachapoyas","01 Chachapoyas",{"$f":"+MID(B4,1,2)","v":"01"},"01","01","Amazonas","Chachapoyas","Chachapoyas",{"$f":"+CONCATENATE(E4,F4,G4)","v":"010101"},"AMAZONAS","CHACHAPOYAS","CHACHAPOYAS","01","01","01",null,null,null,null,null,"AMAZONAS","CALLAO"]
[null,"01 Amazonas","01 Chachapoyas","02 Asunción","01","01","02","Amazonas","Chachapoyas","Asunción","010102","AMAZONAS","CHACHAPOYAS","ASUNCIÓN","01","01","02",null,null,null,null,null,"ÁNCASH","LIMA"]
[null,"01 Amazonas","01 Chachapoyas","03 Balsas","01","01","03","Amazonas","Chachapoyas","Balsas","010103","AMAZONAS","CHACHAPOYAS","BALSAS","01","01","03",null,null,null,null,null,"APURÍMAC","BARRANCA"]
[null,"01 Amazonas","01 Chachapoyas","04 Cheto","01","01","04","Amazonas","Chachapoyas","Cheto","010104","AMAZONAS","CHACHAPOYAS","CHETO","01","01","04",null,null,null,null,null,"AREQUIPA","CAJATAMBO"]
[null,"01 Amazonas","01 Chachapoyas","05 Chiliquin","01","01","05","Amazonas","Chachapoyas","Chiliquin","010105","AMAZONAS","CHACHAPOYAS","CHILIQUIN","01","01","05",null,null,null,null,null,"AYACUCHO","CANTA"]
[null,"01 Amazonas","01 Chachapoyas","06 Chuquibamba","01","01","06","Amazonas","Chachapoyas","Chuquibamba","010106","AMAZONAS","CHACHAPOYAS","CHUQUIBAMBA","01","01","06",null,null,null,null,null,"CAJAMARCA","CAÑETE"]
[null,"01 Amazonas","01 Chachapoyas","07 Granada","01","01","07","Amazonas","Chachapoyas","Granada","010107","AMAZONAS","CHACHAPOYAS","GRANADA","01","01","07",null,null,null,null,null,"CUSCO","HUARAL"]
[null,"01 Amazonas","01 Chachapoyas","08 Huancas","01","01","08","Amazonas","Chachapoyas","Huancas","010108","AMAZONAS","CHACHAPOYAS","HUANCAS","01","01","08",null,null,null,null,null,"HUANCAVELICA","HUAROCHIRÍ"]
[null,"01 Amazonas","01 Chachapoyas","09 La Jalca","01","01","09","Amazonas","Chachapoyas","La Jalca","010109","AMAZONAS","CHACHAPOYAS","LA JALCA","01","01","09",null,null,null,null,null,"HUÁNUCO","HUAURA"]
[null,"01 Amazonas","01 Chachapoyas","10 Leimebamba","01","01","10","Amazonas","Chachapoyas","Leimebamba","010110","AMAZONAS","CHACHAPOYAS","LEIMEBAMBA","01","01","10",null,null,null,null,null,"ICA","OYÓN"]
[null,"01 Amazonas","01 Chachapoyas","11 Levanto","01","01","11","Amazonas","Chachapoyas","Levanto","010111","AMAZONAS","CHACHAPOYAS","LEVANTO","01","01","11",null,null,null,null,null,"JUNÍN","YAUYOS"]
[null,"01 Amazonas","01 Chachapoyas","12 Magdalena","01","01","12","Amazonas","Chachapoyas","Magdalena","010112","AMAZONAS","CHACHAPOYAS","MAGDALENA","01","01","12",null,null,null,null,null,"LA LIBERTAD"]
[null,"01 Amazonas","01 Chachapoyas","13 Mariscal Castilla","01","01","13","Amazonas","Chachapoyas","Mariscal Castilla","010113","AMAZONAS","CHACHAPOYAS","MARISCAL CASTILLA","01","01","13",null,null,null,null,null,"LAMBAYEQUE"]
[null,"01 Amazonas","01 Chachapoyas","14 Molinopampa","01","01","14","Amazonas","Chachapoyas","Molinopampa","010114","AMAZONAS","CHACHAPOYAS","MOLINOPAMPA","01","01","14",null,null,null,null,null,"LIMA"]
[null,"01 Amazonas","01 Chachapoyas","15 Montevideo","01","01","15","Amazonas","Chachapoyas","Montevideo","010115","AMAZONAS","CHACHAPOYAS","MONTEVIDEO","01","01","15",null,null,null,null,null,"LORETO"]
[null,"01 Amazonas","01 Chachapoyas","16 Olleros","01","01","16","Amazonas","Chachapoyas","Olleros","010116","AMAZONAS","CHACHAPOYAS","OLLEROS","01","01","16",null,null,null,null,null,"MADRE DE DIOS"]
[null,"01 Amazonas","01 Chachapoyas","17 Quinjalca","01","01","17","Amazonas","Chachapoyas","Quinjalca","010117","AMAZONAS","CHACHAPOYAS","QUINJALCA","01","01","17",null,null,null,null,null,"MOQUEGUA"]
[null,"01 Amazonas","01 Chachapoyas","18 San Francisco de Daguas","01","01","18","Amazonas","Chachapoyas","San Francisco de Daguas","010118","AMAZONAS","CHACHAPOYAS","SAN FRANCISCO DE DAGUAS","01","01","18",null,null,null,null,null,"PASCO"]
[null,"01 Amazonas","01 Chachapoyas","19 San Isidro de Maino","01","01","19","Amazonas","Chachapoyas","San Isidro de Maino","010119","AMAZONAS","CHACHAPOYAS","SAN ISIDRO DE MAINO","01","01","19",null,null,null,null,null,"PIURA"]
[null,"01 Amazonas","01 Chachapoyas","20 Soloco","01","01","20","Amazonas","Chachapoyas","Soloco","010120","AMAZONAS","CHACHAPOYAS","SOLOCO","01","01","20",null,null,null,null,null,"PUNO"]
[null,"01 Amazonas","01 Chachapoyas","21 Sonche","01","01","21","Amazonas","Chachapoyas","Sonche","010121","AMAZONAS","CHACHAPOYAS","SONCHE","01","01","21",null,null,null,null,null,"SAN MARTÍN"]
[null,"01 Amazonas","02 Bagua","01 Bagua","01","02","01","Amazonas","Bagua","Bagua","010201","AMAZONAS","BAGUA","BAGUA","01","02","01",null,null,null,null,null,"TACNA"]
[null,"01 Amazonas","02 Bagua","02 Aramango","01","02","02","Amazonas","Bagua","Aramango","010202","AMAZONAS","BAGUA","ARAMANGO","01","02","02",null,null,null,null,null,"TUMBES"]
[null,"01 Amazonas","02 Bagua","03 Copallin","01","02","03","Amazonas","Bagua","Copallin","010203","AMAZONAS","BAGUA","COPALLIN","01","02","03",null,null,null,null,null,"UCAYALI"]
[null,"01 Amazonas","02 Bagua","04 El Parco","01","02","04","Amazonas","Bagua","El Parco","010204","AMAZONAS","BAGUA","EL PARCO","01","02","04"]
[null,"01 Amazonas","02 Bagua","05 Imaza","01","02","05","Amazonas","Bagua","Imaza","010205","AMAZONAS","BAGUA","IMAZA","01","02","05"]
[null,"01 Amazonas","02 Bagua","06 La Peca","01","02","06","Amazonas","Bagua","La Peca","010206","AMAZONAS","BAGUA","LA PECA","01","02","06"]
[null,"01 Amazonas","03 Bongará","01 Jumbilla","01","03","01","Amazonas","Bongará","Jumbilla","010301","AMAZONAS","BONGARÁ","JUMBILLA","01","03","01"]
[null,"01 Amazonas","03 Bongará","02 Chisquilla","01","03","02","Amazonas","Bongará","Chisquilla","010302","AMAZONAS","BONGARÁ","CHISQUILLA","01","03","02"]
[null,"01 Amazonas","03 Bongará","03 Churuja","01","03","03","Amazonas","Bongará","Churuja","010303","AMAZONAS","BONGARÁ","CHURUJA","01","03","03"]
[null,"01 Amazonas","03 Bongará","04 Corosha","01","03","04","Amazonas","Bongará","Corosha","010304","AMAZONAS","BONGARÁ","COROSHA","01","03","04"]
[null,"01 Amazonas","03 Bongará","05 Cuispes","01","03","05","Amazonas","Bongará","Cuispes","010305","AMAZONAS","BONGARÁ","CUISPES","01","03","05"]
[null,"01 Amazonas","03 Bongará","06 Florida","01","03","06","Amazonas","Bongará","Florida","010306","AMAZONAS","BONGARÁ","FLORIDA","01","03","06"]
[null,"01 Amazonas","03 Bongará","07 Jazan","01","03","07","Amazonas","Bongará","Jazan","010307","AMAZONAS","BONGARÁ","JAZAN","01","03","07"]
[null,"01 Amazonas","03 Bongará","08 Recta","01","03","08","Amazonas","Bongará","Recta","010308","AMAZONAS","BONGARÁ","RECTA","01","03","08"]
[null,"01 Amazonas","03 Bongará","09 San Carlos","01","03","09","Amazonas","Bongará","San Carlos","010309","AMAZONAS","BONGARÁ","SAN CARLOS","01","03","09"]
[null,"01 Amazonas","03 Bongará","10 Shipasbamba","01","03","10","Amazonas","Bongará","Shipasbamba","010310","AMAZONAS","BONGARÁ","SHIPASBAMBA","01","03","10"]
[null,"01 Amazonas","03 Bongará","11 Valera","01","03","11","Amazonas","Bongará","Valera","010311","AMAZONAS","BONGARÁ","VALERA","01","03","11"]
[null,"01 Amazonas","03 Bongará","12 Yambrasbamba","01","03","12","Amazonas","Bongará","Yambrasbamba","010312","AMAZONAS","BONGARÁ","YAMBRASBAMBA","01","03","12"]
[null,"01 Amazonas","04 Condorcanqui","01 Nieva","01","04","01","Amazonas","Condorcanqui","Nieva","010401","AMAZONAS","CONDORCANQUI","NIEVA","01","04","01"]
[null,"01 Amazonas","04 Condorcanqui","02 El Cenepa","01","04","02","Amazonas","Condorcanqui","El Cenepa","010402","AMAZONAS","CONDORCANQUI","EL CENEPA","01","04","02"]
[null,"01 Amazonas","04 Condorcanqui","03 Río Santiago","01","04","03","Amazonas","Condorcanqui","Río Santiago","010403","AMAZONAS","CONDORCANQUI","RÍO SANTIAGO","01","04","03"]
[null,"01 Amazonas","05 Luya","01 Lamud","01","05","01","Amazonas","Luya","Lamud","010501","AMAZONAS","LUYA","LAMUD","01","05","01"]
[null,"01 Amazonas","05 Luya","02 Camporredondo","01","05","02","Amazonas","Luya","Camporredondo","010502","AMAZONAS","LUYA","CAMPORREDONDO","01","05","02"]
[null,"01 Amazonas","05 Luya","03 Cocabamba","01","05","03","Amazonas","Luya","Cocabamba","010503","AMAZONAS","LUYA","COCABAMBA","01","05","03"]
[null,"01 Amazonas","05 Luya","04 Colcamar","01","05","04","Amazonas","Luya","Colcamar","010504","AMAZONAS","LUYA","COLCAMAR","01","05","04"]
[null,"01 Amazonas","05 Luya","05 Conila","01","05","05","Amazonas","Luya","Conila","010505","AMAZONAS","LUYA","CONILA","01","05","05"]
[null,"01 Amazonas","05 Luya","06 Inguilpata","01","05","06","Amazonas","Luya","Inguilpata","010506","AMAZONAS","LUYA","INGUILPATA","01","05","06"]
[null,"01 Amazonas","05 Luya","07 Longuita","01","05","07","Amazonas","Luya","Longuita","010507","AMAZONAS","LUYA","LONGUITA","01","05","07"]
[null,"01 Amazonas","05 Luya","08 Lonya Chico","01","05","08","Amazonas","Luya","Lonya Chico","010508","AMAZONAS","LUYA","LONYA CHICO","01","05","08"]
[null,"01 Amazonas","05 Luya","09 Luya","01","05","09","Amazonas","Luya","Luya","010509","AMAZONAS","LUYA","LUYA","01","05","09"]
[null,"01 Amazonas","05 Luya","10 Luya Viejo","01","05","10","Amazonas","Luya","Luya Viejo","010510","AMAZONAS","LUYA","LUYA VIEJO","01","05","10"]
[null,"01 Amazonas","05 Luya","11 María","01","05","11","Amazonas","Luya","María","010511","AMAZONAS","LUYA","MARÍA","01","05","11"]
[null,"01 Amazonas","05 Luya","12 Ocalli","01","05","12","Amazonas","Luya","Ocalli","010512","AMAZONAS","LUYA","OCALLI","01","05","12"]
[null,"01 Amazonas","05 Luya","13 Ocumal","01","05","13","Amazonas","Luya","Ocumal","010513","AMAZONAS","LUYA","OCUMAL","01","05","13"]
[null,"01 Amazonas","05 Luya","14 Pisuquia","01","05","14","Amazonas","Luya","Pisuquia","010514","AMAZONAS","LUYA","PISUQUIA","01","05","14"]
[null,"01 Amazonas","05 Luya","15 Providencia","01","05","15","Amazonas","Luya","Providencia","010515","AMAZONAS","LUYA","PROVIDENCIA","01","05","15"]
[null,"01 Amazonas","05 Luya","16 San Cristóbal","01","05","16","Amazonas","Luya","San Cristóbal","010516","AMAZONAS","LUYA","SAN CRISTÓBAL","01","05","16"]
[null,"01 Amazonas","05 Luya","17 San Francisco de Yeso","01","05","17","Amazonas","Luya","San Francisco de Yeso","010517","AMAZONAS","LUYA","SAN FRANCISCO DE YESO","01","05","17"]
[null,"01 Amazonas","05 Luya","18 San Jerónimo","01","05","18","Amazonas","Luya","San Jerónimo","010518","AMAZONAS","LUYA","SAN JERÓNIMO","01","05","18"]
[null,"01 Amazonas","05 Luya","19 San Juan de Lopecancha","01","05","19","Amazonas","Luya","San Juan de Lopecancha","010519","AMAZONAS","LUYA","SAN JUAN DE LOPECANCHA","01","05","19"]
[null,"01 Amazonas","05 Luya","20 Santa Catalina","01","05","20","Amazonas","Luya","Santa Catalina","010520","AMAZONAS","LUYA","SANTA CATALINA","01","05","20"]
[null,"01 Amazonas","05 Luya","21 Santo Tomas","01","05","21","Amazonas","Luya","Santo Tomas","010521","AMAZONAS","LUYA","SANTO TOMAS","01","05","21"]
[null,"01 Amazonas","05 Luya","22 Tingo","01","05","22","Amazonas","Luya","Tingo","010522","AMAZONAS","LUYA","TINGO","01","05","22"]
[null,"01 Amazonas","05 Luya","23 Trita",{"$f":"+MID(B68,1,2)","v":"01"},"05","23","Amazonas","Luya","Trita",{"$f":"+CONCATENATE(E68,F68,G68)","v":"010523"},"AMAZONAS","LUYA","TRITA","01","05","23"]
[null,"01 Amazonas","06 Rodríguez de Mendoza","01 San Nicolás","01","06","01","Amazonas","Rodríguez de Mendoza","San Nicolás","010601","AMAZONAS","RODRÍGUEZ DE MENDOZA","SAN NICOLÁS","01","06","01"]
[null,"01 Amazonas","06 Rodríguez de Mendoza","02 Chirimoto","01","06","02","Amazonas","Rodríguez de Mendoza","Chirimoto","010602","AMAZONAS","RODRÍGUEZ DE MENDOZA","CHIRIMOTO","01","06","02"]
[null,"01 Amazonas","06 Rodríguez de Mendoza","03 Cochamal","01","06","03","Amazonas","Rodríguez de Mendoza","Cochamal","010603","AMAZONAS","RODRÍGUEZ DE MENDOZA","COCHAMAL","01","06","03"]
[null,"01 Amazonas","06 Rodríguez de Mendoza","04 Huambo","01","06","04","Amazonas","Rodríguez de Mendoza","Huambo","010604","AMAZONAS","RODRÍGUEZ DE MENDOZA","HUAMBO","01","06","04"]
[null,"01 Amazonas","06 Rodríguez de Mendoza","05 Limabamba","01","06","05","Amazonas","Rodríguez de Mendoza","Limabamba","010605","AMAZONAS","RODRÍGUEZ DE MENDOZA","LIMABAMBA","01","06","05"]
[null,"01 Amazonas","06 Rodríguez de Mendoza","06 Longar","01","06","06","Amazonas","Rodríguez de Mendoza","Longar","010606","AMAZONAS","RODRÍGUEZ DE MENDOZA","LONGAR","01","06","06"]
[null,"01 Amazonas","06 Rodríguez de Mendoza","07 Mariscal Benavides","01","06","07","Amazonas","Rodríguez de Mendoza","Mariscal Benavides","010607","AMAZONAS","RODRÍGUEZ DE MENDOZA","MARISCAL BENAVIDES","01","06","07"]
[null,"01 Amazonas","06 Rodríguez de Mendoza","08 Milpuc","01","06","08","Amazonas","Rodríguez de Mendoza","Milpuc","010608","AMAZONAS","RODRÍGUEZ DE MENDOZA","MILPUC","01","06","08"]
[null,"01 Amazonas","06 Rodríguez de Mendoza","09 Omia","01","06","09","Amazonas","Rodríguez de Mendoza","Omia","010609","AMAZONAS","RODRÍGUEZ DE MENDOZA","OMIA","01","06","09"]
[null,"01 Amazonas","06 Rodríguez de Mendoza","10 Santa Rosa","01","06","10","Amazonas","Rodríguez de Mendoza","Santa Rosa","010610","AMAZONAS","RODRÍGUEZ DE MENDOZA","SANTA ROSA","01","06","10"]
[null,"01 Amazonas","06 Rodríguez de Mendoza","11 Totora","01","06","11","Amazonas","Rodríguez de Mendoza","Totora","010611","AMAZONAS","RODRÍGUEZ DE MENDOZA","TOTORA","01","06","11"]
[null,"01 Amazonas","06 Rodríguez de Mendoza","12 Vista Alegre","01","06","12","Amazonas","Rodríguez de Mendoza","Vista Alegre","010612","AMAZONAS","RODRÍGUEZ DE MENDOZA","VISTA ALEGRE","01","06","12"]
[null,"01 Amazonas","07 Utcubamba","01 Bagua Grande","01","07","01","Amazonas","Utcubamba","Bagua Grande","010701","AMAZONAS","UTCUBAMBA","BAGUA GRANDE","01","07","01"]
[null,"01 Amazonas","07 Utcubamba","02 Cajaruro","01","07","02","Amazonas","Utcubamba","Cajaruro","010702","AMAZONAS","UTCUBAMBA","CAJARURO","01","07","02"]
[null,"01 Amazonas","07 Utcubamba","03 Cumba","01","07","03","Amazonas","Utcubamba","Cumba","010703","AMAZONAS","UTCUBAMBA","CUMBA","01","07","03"]
[null,"01 Amazonas","07 Utcubamba","04 El Milagro","01","07","04","Amazonas","Utcubamba","El Milagro","010704","AMAZONAS","UTCUBAMBA","EL MILAGRO","01","07","04"]
[null,"01 Amazonas","07 Utcubamba","05 Jamalca","01","07","05","Amazonas","Utcubamba","Jamalca","010705","AMAZONAS","UTCUBAMBA","JAMALCA","01","07","05"]
[null,"01 Amazonas","07 Utcubamba","06 Lonya Grande","01","07","06","Amazonas","Utcubamba","Lonya Grande","010706","AMAZONAS","UTCUBAMBA","LONYA GRANDE","01","07","06"]
[null,"01 Amazonas","07 Utcubamba","07 Yamon","01","07","07","Amazonas","Utcubamba","Yamon","010707","AMAZONAS","UTCUBAMBA","YAMON","01","07","07"]
[null,"02 Áncash","01 Huaraz","01 Huaraz","02","01","01","Áncash","Huaraz","Huaraz","020101","ÁNCASH","HUARAZ","HUARAZ","02","01","01"]
[null,"02 Áncash","01 Huaraz","02 Cochabamba","02","01","02","Áncash","Huaraz","Cochabamba","020102","ÁNCASH","HUARAZ","COCHABAMBA","02","01","02"]
[null,"02 Áncash","01 Huaraz","03 Colcabamba","02","01","03","Áncash","Huaraz","Colcabamba","020103","ÁNCASH","HUARAZ","COLCABAMBA","02","01","03"]
[null,"02 Áncash","01 Huaraz","04 Huanchay","02","01","04","Áncash","Huaraz","Huanchay","020104","ÁNCASH","HUARAZ","HUANCHAY","02","01","04"]
[null,"02 Áncash","01 Huaraz","05 Independencia","02","01","05","Áncash","Huaraz","Independencia","020105","ÁNCASH","HUARAZ","INDEPENDENCIA","02","01","05"]
[null,"02 Áncash","01 Huaraz","06 Jangas","02","01","06","Áncash","Huaraz","Jangas","020106","ÁNCASH","HUARAZ","JANGAS","02","01","06"]
[null,"02 Áncash","01 Huaraz","07 La Libertad","02","01","07","Áncash","Huaraz","La Libertad","020107","ÁNCASH","HUARAZ","LA LIBERTAD","02","01","07"]
[null,"02 Áncash","01 Huaraz","08 Olleros","02","01","08","Áncash","Huaraz","Olleros","020108","ÁNCASH","HUARAZ","OLLEROS","02","01","08"]
[null,"02 Áncash","01 Huaraz","09 Pampas Grande","02","01","09","Áncash","Huaraz","Pampas Grande","020109","ÁNCASH","HUARAZ","PAMPAS GRANDE","02","01","09"]
[null,"02 Áncash","01 Huaraz","10 Pariacoto","02","01","10","Áncash","Huaraz","Pariacoto","020110","ÁNCASH","HUARAZ","PARIACOTO","02","01","10"]
[null,"02 Áncash","01 Huaraz","11 Pira","02","01","11","Áncash","Huaraz","Pira","020111","ÁNCASH","HUARAZ","PIRA","02","01","11"]
[null,"02 Áncash","01 Huaraz","12 Tarica","02","01","12","Áncash","Huaraz","Tarica","020112","ÁNCASH","HUARAZ","TARICA","02","01","12"]
[null,"02 Áncash","02 Aija","01 Aija","02","02","01","Áncash","Aija","Aija","020201","ÁNCASH","AIJA","AIJA","02","02","01"]
[null,"02 Áncash","02 Aija","02 Coris","02","02","02","Áncash","Aija","Coris","020202","ÁNCASH","AIJA","CORIS","02","02","02"]
[null,"02 Áncash","02 Aija","03 Huacllan","02","02","03","Áncash","Aija","Huacllan","020203","ÁNCASH","AIJA","HUACLLAN","02","02","03"]
[null,"02 Áncash","02 Aija","04 La Merced","02","02","04","Áncash","Aija","La Merced","020204","ÁNCASH","AIJA","LA MERCED","02","02","04"]
[null,"02 Áncash","02 Aija","05 Succha","02","02","05","Áncash","Aija","Succha","020205","ÁNCASH","AIJA","SUCCHA","02","02","05"]
[null,"02 Áncash","03 Antonio Raymondi","01 Llamellin","02","03","01","Áncash","Antonio Raymondi","Llamellin","020301","ÁNCASH","ANTONIO RAYMONDI","LLAMELLIN","02","03","01"]
[null,"02 Áncash","03 Antonio Raymondi","02 Aczo","02","03","02","Áncash","Antonio Raymondi","Aczo","020302","ÁNCASH","ANTONIO RAYMONDI","ACZO","02","03","02"]
[null,"02 Áncash","03 Antonio Raymondi","03 Chaccho","02","03","03","Áncash","Antonio Raymondi","Chaccho","020303","ÁNCASH","ANTONIO RAYMONDI","CHACCHO","02","03","03"]
[null,"02 Áncash","03 Antonio Raymondi","04 Chingas","02","03","04","Áncash","Antonio Raymondi","Chingas","020304","ÁNCASH","ANTONIO RAYMONDI","CHINGAS","02","03","04"]
[null,"02 Áncash","03 Antonio Raymondi","05 Mirgas","02","03","05","Áncash","Antonio Raymondi","Mirgas","020305","ÁNCASH","ANTONIO RAYMONDI","MIRGAS","02","03","05"]
[null,"02 Áncash","03 Antonio Raymondi","06 San Juan de Rontoy","02","03","06","Áncash","Antonio Raymondi","San Juan de Rontoy","020306","ÁNCASH","ANTONIO RAYMONDI","SAN JUAN DE RONTOY","02","03","06"]
[null,"02 Áncash","04 Asunción","01 Chacas","02","04","01","Áncash","Asunción","Chacas","020401","ÁNCASH","ASUNCIÓN","CHACAS","02","04","01"]
[null,"02 Áncash","04 Asunción","02 Acochaca","02","04","02","Áncash","Asunción","Acochaca","020402","ÁNCASH","ASUNCIÓN","ACOCHACA","02","04","02"]
[null,"02 Áncash","05 Bolognesi","01 Chiquian","02","05","01","Áncash","Bolognesi","Chiquian","020501","ÁNCASH","BOLOGNESI","CHIQUIAN","02","05","01"]
[null,"02 Áncash","05 Bolognesi","02 Abelardo Pardo Lezameta","02","05","02","Áncash","Bolognesi","Abelardo Pardo Lezameta","020502","ÁNCASH","BOLOGNESI","ABELARDO PARDO LEZAMETA","02","05","02"]
[null,"02 Áncash","05 Bolognesi","03 Antonio Raymondi","02","05","03","Áncash","Bolognesi","Antonio Raymondi","020503","ÁNCASH","BOLOGNESI","ANTONIO RAYMONDI","02","05","03"]
[null,"02 Áncash","05 Bolognesi","04 Aquia","02","05","04","Áncash","Bolognesi","Aquia","020504","ÁNCASH","BOLOGNESI","AQUIA","02","05","04"]
[null,"02 Áncash","05 Bolognesi","05 Cajacay","02","05","05","Áncash","Bolognesi","Cajacay","020505","ÁNCASH","BOLOGNESI","CAJACAY","02","05","05"]
[null,"02 Áncash","05 Bolognesi","06 Canis","02","05","06","Áncash","Bolognesi","Canis","020506","ÁNCASH","BOLOGNESI","CANIS","02","05","06"]
[null,"02 Áncash","05 Bolognesi","07 Colquioc","02","05","07","Áncash","Bolognesi","Colquioc","020507","ÁNCASH","BOLOGNESI","COLQUIOC","02","05","07"]
[null,"02 Áncash","05 Bolognesi","08 Huallanca","02","05","08","Áncash","Bolognesi","Huallanca","020508","ÁNCASH","BOLOGNESI","HUALLANCA","02","05","08"]
[null,"02 Áncash","05 Bolognesi","09 Huasta","02","05","09","Áncash","Bolognesi","Huasta","020509","ÁNCASH","BOLOGNESI","HUASTA","02","05","09"]
[null,"02 Áncash","05 Bolognesi","10 Huayllacayan","02","05","10","Áncash","Bolognesi","Huayllacayan","020510","ÁNCASH","BOLOGNESI","HUAYLLACAYAN","02","05","10"]
[null,"02 Áncash","05 Bolognesi","11 La Primavera","02","05","11","Áncash","Bolognesi","La Primavera","020511","ÁNCASH","BOLOGNESI","LA PRIMAVERA","02","05","11"]
[null,"02 Áncash","05 Bolognesi","12 Mangas","02","05","12","Áncash","Bolognesi","Mangas","020512","ÁNCASH","BOLOGNESI","MANGAS","02","05","12"]
[null,"02 Áncash","05 Bolognesi","13 Pacllon","02","05","13","Áncash","Bolognesi","Pacllon","020513","ÁNCASH","BOLOGNESI","PACLLON","02","05","13"]
[null,"02 Áncash","05 Bolognesi","14 San Miguel de Corpanqui","02","05","14","Áncash","Bolognesi","San Miguel de Corpanqui","020514","ÁNCASH","BOLOGNESI","SAN MIGUEL DE CORPANQUI","02","05","14"]
[null,"02 Áncash","05 Bolognesi","15 Ticllos","02","05","15","Áncash","Bolognesi","Ticllos","020515","ÁNCASH","BOLOGNESI","TICLLOS","02","05","15"]
[null,"02 Áncash","06 Carhuaz","01 Carhuaz","02","06","01","Áncash","Carhuaz","Carhuaz","020601","ÁNCASH","CARHUAZ","CARHUAZ","02","06","01"]
[null,"02 Áncash","06 Carhuaz","02 Acopampa","02","06","02","Áncash","Carhuaz","Acopampa","020602","ÁNCASH","CARHUAZ","ACOPAMPA","02","06","02"]
[null,"02 Áncash","06 Carhuaz","03 Amashca","02","06","03","Áncash","Carhuaz","Amashca","020603","ÁNCASH","CARHUAZ","AMASHCA","02","06","03"]
[null,"02 Áncash","06 Carhuaz","04 Anta","02","06","04","Áncash","Carhuaz","Anta","020604","ÁNCASH","CARHUAZ","ANTA","02","06","04"]
[null,"02 Áncash","06 Carhuaz","05 Ataquero",{"$f":"+MID(B132,1,2)","v":"02"},"06","05","Áncash","Carhuaz","Ataquero",{"$f":"+CONCATENATE(E132,F132,G132)","v":"020605"},"ÁNCASH","CARHUAZ","ATAQUERO","02","06","05"]
[null,"02 Áncash","06 Carhuaz","06 Marcara","02","06","06","Áncash","Carhuaz","Marcara","020606","ÁNCASH","CARHUAZ","MARCARA","02","06","06"]
[null,"02 Áncash","06 Carhuaz","07 Pariahuanca","02","06","07","Áncash","Carhuaz","Pariahuanca","020607","ÁNCASH","CARHUAZ","PARIAHUANCA","02","06","07"]
[null,"02 Áncash","06 Carhuaz","08 San Miguel de Aco","02","06","08","Áncash","Carhuaz","San Miguel de Aco","020608","ÁNCASH","CARHUAZ","SAN MIGUEL DE ACO","02","06","08"]
[null,"02 Áncash","06 Carhuaz","09 Shilla","02","06","09","Áncash","Carhuaz","Shilla","020609","ÁNCASH","CARHUAZ","SHILLA","02","06","09"]
[null,"02 Áncash","06 Carhuaz","10 Tinco","02","06","10","Áncash","Carhuaz","Tinco","020610","ÁNCASH","CARHUAZ","TINCO","02","06","10"]
[null,"02 Áncash","06 Carhuaz","11 Yungar","02","06","11","Áncash","Carhuaz","Yungar","020611","ÁNCASH","CARHUAZ","YUNGAR","02","06","11"]
[null,"02 Áncash","07 Carlos Fermín Fitzcarrald","01 San Luis","02","07","01","Áncash","Carlos Fermín Fitzcarrald","San Luis","020701","ÁNCASH","CARLOS FERMÍN FITZCARRALD","SAN LUIS","02","07","01"]
[null,"02 Áncash","07 Carlos Fermín Fitzcarrald","02 San Nicolás","02","07","02","Áncash","Carlos Fermín Fitzcarrald","San Nicolás","020702","ÁNCASH","CARLOS FERMÍN FITZCARRALD","SAN NICOLÁS","02","07","02"]
[null,"02 Áncash","07 Carlos Fermín Fitzcarrald","03 Yauya","02","07","03","Áncash","Carlos Fermín Fitzcarrald","Yauya","020703","ÁNCASH","CARLOS FERMÍN FITZCARRALD","YAUYA","02","07","03"]
[null,"02 Áncash","08 Casma","01 Casma","02","08","01","Áncash","Casma","Casma","020801","ÁNCASH","CASMA","CASMA","02","08","01"]
[null,"02 Áncash","08 Casma","02 Buena Vista Alta","02","08","02","Áncash","Casma","Buena Vista Alta","020802","ÁNCASH","CASMA","BUENA VISTA ALTA","02","08","02"]
[null,"02 Áncash","08 Casma","03 Comandante Noel","02","08","03","Áncash","Casma","Comandante Noel","020803","ÁNCASH","CASMA","COMANDANTE NOEL","02","08","03"]
[null,"02 Áncash","08 Casma","04 Yautan","02","08","04","Áncash","Casma","Yautan","020804","ÁNCASH","CASMA","YAUTAN","02","08","04"]
[null,"02 Áncash","09 Corongo","01 Corongo","02","09","01","Áncash","Corongo","Corongo","020901","ÁNCASH","CORONGO","CORONGO","02","09","01"]
[null,"02 Áncash","09 Corongo","02 Aco","02","09","02","Áncash","Corongo","Aco","020902","ÁNCASH","CORONGO","ACO","02","09","02"]
[null,"02 Áncash","09 Corongo","03 Bambas","02","09","03","Áncash","Corongo","Bambas","020903","ÁNCASH","CORONGO","BAMBAS","02","09","03"]
[null,"02 Áncash","09 Corongo","04 Cusca","02","09","04","Áncash","Corongo","Cusca","020904","ÁNCASH","CORONGO","CUSCA","02","09","04"]
[null,"02 Áncash","09 Corongo","05 La Pampa","02","09","05","Áncash","Corongo","La Pampa","020905","ÁNCASH","CORONGO","LA PAMPA","02","09","05"]
[null,"02 Áncash","09 Corongo","06 Yanac","02","09","06","Áncash","Corongo","Yanac","020906","ÁNCASH","CORONGO","YANAC","02","09","06"]
[null,"02 Áncash","09 Corongo","07 Yupan","02","09","07","Áncash","Corongo","Yupan","020907","ÁNCASH","CORONGO","YUPAN","02","09","07"]
[null,"02 Áncash","10 Huari","01 Huari","02","10","01","Áncash","Huari","Huari","021001","ÁNCASH","HUARI","HUARI","02","10","01"]
[null,"02 Áncash","10 Huari","02 Anra","02","10","02","Áncash","Huari","Anra","021002","ÁNCASH","HUARI","ANRA","02","10","02"]
[null,"02 Áncash","10 Huari","03 Cajay","02","10","03","Áncash","Huari","Cajay","021003","ÁNCASH","HUARI","CAJAY","02","10","03"]
[null,"02 Áncash","10 Huari","04 Chavin de Huantar","02","10","04","Áncash","Huari","Chavin de Huantar","021004","ÁNCASH","HUARI","CHAVIN DE HUANTAR","02","10","04"]
[null,"02 Áncash","10 Huari","05 Huacachi","02","10","05","Áncash","Huari","Huacachi","021005","ÁNCASH","HUARI","HUACACHI","02","10","05"]
[null,"02 Áncash","10 Huari","06 Huacchis","02","10","06","Áncash","Huari","Huacchis","021006","ÁNCASH","HUARI","HUACCHIS","02","10","06"]
[null,"02 Áncash","10 Huari","07 Huachis","02","10","07","Áncash","Huari","Huachis","021007","ÁNCASH","HUARI","HUACHIS","02","10","07"]
[null,"02 Áncash","10 Huari","08 Huantar","02","10","08","Áncash","Huari","Huantar","021008","ÁNCASH","HUARI","HUANTAR","02","10","08"]
[null,"02 Áncash","10 Huari","09 Masin","02","10","09","Áncash","Huari","Masin","021009","ÁNCASH","HUARI","MASIN","02","10","09"]
[null,"02 Áncash","10 Huari","10 Paucas","02","10","10","Áncash","Huari","Paucas","021010","ÁNCASH","HUARI","PAUCAS","02","10","10"]
[null,"02 Áncash","10 Huari","11 Ponto","02","10","11","Áncash","Huari","Ponto","021011","ÁNCASH","HUARI","PONTO","02","10","11"]
[null,"02 Áncash","10 Huari","12 Rahuapampa","02","10","12","Áncash","Huari","Rahuapampa","021012","ÁNCASH","HUARI","RAHUAPAMPA","02","10","12"]
[null,"02 Áncash","10 Huari","13 Rapayan","02","10","13","Áncash","Huari","Rapayan","021013","ÁNCASH","HUARI","RAPAYAN","02","10","13"]
[null,"02 Áncash","10 Huari","14 San Marcos","02","10","14","Áncash","Huari","San Marcos","021014","ÁNCASH","HUARI","SAN MARCOS","02","10","14"]
[null,"02 Áncash","10 Huari","15 San Pedro de Chana","02","10","15","Áncash","Huari","San Pedro de Chana","021015","ÁNCASH","HUARI","SAN PEDRO DE CHANA","02","10","15"]
[null,"02 Áncash","10 Huari","16 Uco","02","10","16","Áncash","Huari","Uco","021016","ÁNCASH","HUARI","UCO","02","10","16"]
[null,"02 Áncash","11 Huarmey","01 Huarmey","02","11","01","Áncash","Huarmey","Huarmey","021101","ÁNCASH","HUARMEY","HUARMEY","02","11","01"]
[null,"02 Áncash","11 Huarmey","02 Cochapeti","02","11","02","Áncash","Huarmey","Cochapeti","021102","ÁNCASH","HUARMEY","COCHAPETI","02","11","02"]
[null,"02 Áncash","11 Huarmey","03 Culebras","02","11","03","Áncash","Huarmey","Culebras","021103","ÁNCASH","HUARMEY","CULEBRAS","02","11","03"]
[null,"02 Áncash","11 Huarmey","04 Huayan","02","11","04","Áncash","Huarmey","Huayan","021104","ÁNCASH","HUARMEY","HUAYAN","02","11","04"]
[null,"02 Áncash","11 Huarmey","05 Malvas","02","11","05","Áncash","Huarmey","Malvas","021105","ÁNCASH","HUARMEY","MALVAS","02","11","05"]
[null,"02 Áncash","12 Huaylas","01 Caraz","02","12","01","Áncash","Huaylas","Caraz","021201","ÁNCASH","HUAYLAS","CARAZ","02","12","01"]
[null,"02 Áncash","12 Huaylas","02 Huallanca","02","12","02","Áncash","Huaylas","Huallanca","021202","ÁNCASH","HUAYLAS","HUALLANCA","02","12","02"]
[null,"02 Áncash","12 Huaylas","03 Huata","02","12","03","Áncash","Huaylas","Huata","021203","ÁNCASH","HUAYLAS","HUATA","02","12","03"]
[null,"02 Áncash","12 Huaylas","04 Huaylas","02","12","04","Áncash","Huaylas","Huaylas","021204","ÁNCASH","HUAYLAS","HUAYLAS","02","12","04"]
[null,"02 Áncash","12 Huaylas","05 Mato","02","12","05","Áncash","Huaylas","Mato","021205","ÁNCASH","HUAYLAS","MATO","02","12","05"]
[null,"02 Áncash","12 Huaylas","06 Pamparomas","02","12","06","Áncash","Huaylas","Pamparomas","021206","ÁNCASH","HUAYLAS","PAMPAROMAS","02","12","06"]
[null,"02 Áncash","12 Huaylas","07 Pueblo Libre","02","12","07","Áncash","Huaylas","Pueblo Libre","021207","ÁNCASH","HUAYLAS","PUEBLO LIBRE","02","12","07"]
[null,"02 Áncash","12 Huaylas","08 Santa Cruz","02","12","08","Áncash","Huaylas","Santa Cruz","021208","ÁNCASH","HUAYLAS","SANTA CRUZ","02","12","08"]
[null,"02 Áncash","12 Huaylas","09 Santo Toribio","02","12","09","Áncash","Huaylas","Santo Toribio","021209","ÁNCASH","HUAYLAS","SANTO TORIBIO","02","12","09"]
[null,"02 Áncash","12 Huaylas","10 Yuracmarca","02","12","10","Áncash","Huaylas","Yuracmarca","021210","ÁNCASH","HUAYLAS","YURACMARCA","02","12","10"]
[null,"02 Áncash","13 Mariscal Luzuriaga","01 Piscobamba","02","13","01","Áncash","Mariscal Luzuriaga","Piscobamba","021301","ÁNCASH","MARISCAL LUZURIAGA","PISCOBAMBA","02","13","01"]
[null,"02 Áncash","13 Mariscal Luzuriaga","02 Casca","02","13","02","Áncash","Mariscal Luzuriaga","Casca","021302","ÁNCASH","MARISCAL LUZURIAGA","CASCA","02","13","02"]
[null,"02 Áncash","13 Mariscal Luzuriaga","03 Eleazar Guzmán Barron","02","13","03","Áncash","Mariscal Luzuriaga","Eleazar Guzmán Barron","021303","ÁNCASH","MARISCAL LUZURIAGA","ELEAZAR GUZMÁN BARRON","02","13","03"]
[null,"02 Áncash","13 Mariscal Luzuriaga","04 Fidel Olivas Escudero","02","13","04","Áncash","Mariscal Luzuriaga","Fidel Olivas Escudero","021304","ÁNCASH","MARISCAL LUZURIAGA","FIDEL OLIVAS ESCUDERO","02","13","04"]
[null,"02 Áncash","13 Mariscal Luzuriaga","05 Llama","02","13","05","Áncash","Mariscal Luzuriaga","Llama","021305","ÁNCASH","MARISCAL LUZURIAGA","LLAMA","02","13","05"]
[null,"02 Áncash","13 Mariscal Luzuriaga","06 Llumpa","02","13","06","Áncash","Mariscal Luzuriaga","Llumpa","021306","ÁNCASH","MARISCAL LUZURIAGA","LLUMPA","02","13","06"]
[null,"02 Áncash","13 Mariscal Luzuriaga","07 Lucma","02","13","07","Áncash","Mariscal Luzuriaga","Lucma","021307","ÁNCASH","MARISCAL LUZURIAGA","LUCMA","02","13","07"]
[null,"02 Áncash","13 Mariscal Luzuriaga","08 Musga","02","13","08","Áncash","Mariscal Luzuriaga","Musga","021308","ÁNCASH","MARISCAL LUZURIAGA","MUSGA","02","13","08"]
[null,"02 Áncash","14 Ocros","01 Ocros","02","14","01","Áncash","Ocros","Ocros","021401","ÁNCASH","OCROS","OCROS","02","14","01"]
[null,"02 Áncash","14 Ocros","02 Acas","02","14","02","Áncash","Ocros","Acas","021402","ÁNCASH","OCROS","ACAS","02","14","02"]
[null,"02 Áncash","14 Ocros","03 Cajamarquilla","02","14","03","Áncash","Ocros","Cajamarquilla","021403","ÁNCASH","OCROS","CAJAMARQUILLA","02","14","03"]
[null,"02 Áncash","14 Ocros","04 Carhuapampa","02","14","04","Áncash","Ocros","Carhuapampa","021404","ÁNCASH","OCROS","CARHUAPAMPA","02","14","04"]
[null,"02 Áncash","14 Ocros","05 Cochas",{"$f":"+MID(B196,1,2)","v":"02"},"14","05","Áncash","Ocros","Cochas",{"$f":"+CONCATENATE(E196,F196,G196)","v":"021405"},"ÁNCASH","OCROS","COCHAS","02","14","05"]
[null,"02 Áncash","14 Ocros","06 Congas","02","14","06","Áncash","Ocros","Congas","021406","ÁNCASH","OCROS","CONGAS","02","14","06"]
[null,"02 Áncash","14 Ocros","07 Llipa","02","14","07","Áncash","Ocros","Llipa","021407","ÁNCASH","OCROS","LLIPA","02","14","07"]
[null,"02 Áncash","14 Ocros","08 San Cristóbal de Rajan","02","14","08","Áncash","Ocros","San Cristóbal de Rajan","021408","ÁNCASH","OCROS","SAN CRISTÓBAL DE RAJAN","02","14","08"]
[null,"02 Áncash","14 Ocros","09 San Pedro","02","14","09","Áncash","Ocros","San Pedro","021409","ÁNCASH","OCROS","SAN PEDRO","02","14","09"]
[null,"02 Áncash","14 Ocros","10 Santiago de Chilcas","02","14","10","Áncash","Ocros","Santiago de Chilcas","021410","ÁNCASH","OCROS","SANTIAGO DE CHILCAS","02","14","10"]
[null,"02 Áncash","15 Pallasca","01 Cabana","02","15","01","Áncash","Pallasca","Cabana","021501","ÁNCASH","PALLASCA","CABANA","02","15","01"]
[null,"02 Áncash","15 Pallasca","02 Bolognesi","02","15","02","Áncash","Pallasca","Bolognesi","021502","ÁNCASH","PALLASCA","BOLOGNESI","02","15","02"]
[null,"02 Áncash","15 Pallasca","03 Conchucos","02","15","03","Áncash","Pallasca","Conchucos","021503","ÁNCASH","PALLASCA","CONCHUCOS","02","15","03"]
[null,"02 Áncash","15 Pallasca","04 Huacaschuque","02","15","04","Áncash","Pallasca","Huacaschuque","021504","ÁNCASH","PALLASCA","HUACASCHUQUE","02","15","04"]
[null,"02 Áncash","15 Pallasca","05 Huandoval","02","15","05","Áncash","Pallasca","Huandoval","021505","ÁNCASH","PALLASCA","HUANDOVAL","02","15","05"]
[null,"02 Áncash","15 Pallasca","06 Lacabamba","02","15","06","Áncash","Pallasca","Lacabamba","021506","ÁNCASH","PALLASCA","LACABAMBA","02","15","06"]
[null,"02 Áncash","15 Pallasca","07 Llapo","02","15","07","Áncash","Pallasca","Llapo","021507","ÁNCASH","PALLASCA","LLAPO","02","15","07"]
[null,"02 Áncash","15 Pallasca","08 Pallasca","02","15","08","Áncash","Pallasca","Pallasca","021508","ÁNCASH","PALLASCA","PALLASCA","02","15","08"]
[null,"02 Áncash","15 Pallasca","09 Pampas","02","15","09","Áncash","Pallasca","Pampas","021509","ÁNCASH","PALLASCA","PAMPAS","02","15","09"]
[null,"02 Áncash","15 Pallasca","10 Santa Rosa","02","15","10","Áncash","Pallasca","Santa Rosa","021510","ÁNCASH","PALLASCA","SANTA ROSA","02","15","10"]
[null,"02 Áncash","15 Pallasca","11 Tauca","02","15","11","Áncash","Pallasca","Tauca","021511","ÁNCASH","PALLASCA","TAUCA","02","15","11"]
[null,"02 Áncash","16 Pomabamba","01 Pomabamba","02","16","01","Áncash","Pomabamba","Pomabamba","021601","ÁNCASH","POMABAMBA","POMABAMBA","02","16","01"]
[null,"02 Áncash","16 Pomabamba","02 Huayllan","02","16","02","Áncash","Pomabamba","Huayllan","021602","ÁNCASH","POMABAMBA","HUAYLLAN","02","16","02"]
[null,"02 Áncash","16 Pomabamba","03 Parobamba","02","16","03","Áncash","Pomabamba","Parobamba","021603","ÁNCASH","POMABAMBA","PAROBAMBA","02","16","03"]
[null,"02 Áncash","16 Pomabamba","04 Quinuabamba","02","16","04","Áncash","Pomabamba","Quinuabamba","021604","ÁNCASH","POMABAMBA","QUINUABAMBA","02","16","04"]
[null,"02 Áncash","17 Recuay","01 Recuay","02","17","01","Áncash","Recuay","Recuay","021701","ÁNCASH","RECUAY","RECUAY","02","17","01"]
[null,"02 Áncash","17 Recuay","02 Catac","02","17","02","Áncash","Recuay","Catac","021702","ÁNCASH","RECUAY","CATAC","02","17","02"]
[null,"02 Áncash","17 Recuay","03 Cotaparaco","02","17","03","Áncash","Recuay","Cotaparaco","021703","ÁNCASH","RECUAY","COTAPARACO","02","17","03"]
[null,"02 Áncash","17 Recuay","04 Huayllapampa","02","17","04","Áncash","Recuay","Huayllapampa","021704","ÁNCASH","RECUAY","HUAYLLAPAMPA","02","17","04"]
[null,"02 Áncash","17 Recuay","05 Llacllin","02","17","05","Áncash","Recuay","Llacllin","021705","ÁNCASH","RECUAY","LLACLLIN","02","17","05"]
[null,"02 Áncash","17 Recuay","06 Marca","02","17","06","Áncash","Recuay","Marca","021706","ÁNCASH","RECUAY","MARCA","02","17","06"]
[null,"02 Áncash","17 Recuay","07 Pampas Chico","02","17","07","Áncash","Recuay","Pampas Chico","021707","ÁNCASH","RECUAY","PAMPAS CHICO","02","17","07"]
[null,"02 Áncash","17 Recuay","08 Pararin","02","17","08","Áncash","Recuay","Pararin","021708","ÁNCASH","RECUAY","PARARIN","02","17","08"]
[null,"02 Áncash","17 Recuay","09 Tapacocha","02","17","09","Áncash","Recuay","Tapacocha","021709","ÁNCASH","RECUAY","TAPACOCHA","02","17","09"]
[null,"02 Áncash","17 Recuay","10 Ticapampa","02","17","10","Áncash","Recuay","Ticapampa","021710","ÁNCASH","RECUAY","TICAPAMPA","02","17","10"]
[null,"02 Áncash","18 Santa","01 Chimbote","02","18","01","Áncash","Santa","Chimbote","021801","ÁNCASH","SANTA","CHIMBOTE","02","18","01"]
[null,"02 Áncash","18 Santa","02 Cáceres del Perú","02","18","02","Áncash","Santa","Cáceres del Perú","021802","ÁNCASH","SANTA","CÁCERES DEL PERÚ","02","18","02"]
[null,"02 Áncash","18 Santa","03 Coishco","02","18","03","Áncash","Santa","Coishco","021803","ÁNCASH","SANTA","COISHCO","02","18","03"]
[null,"02 Áncash","18 Santa","04 Macate","02","18","04","Áncash","Santa","Macate","021804","ÁNCASH","SANTA","MACATE","02","18","04"]
[null,"02 Áncash","18 Santa","05 Moro","02","18","05","Áncash","Santa","Moro","021805","ÁNCASH","SANTA","MORO","02","18","05"]
[null,"02 Áncash","18 Santa","06 Nepeña","02","18","06","Áncash","Santa","Nepeña","021806","ÁNCASH","SANTA","NEPEÑA","02","18","06"]
[null,"02 Áncash","18 Santa","07 Samanco","02","18","07","Áncash","Santa","Samanco","021807","ÁNCASH","SANTA","SAMANCO","02","18","07"]
[null,"02 Áncash","18 Santa","08 Santa","02","18","08","Áncash","Santa","Santa","021808","ÁNCASH","SANTA","SANTA","02","18","08"]
[null,"02 Áncash","18 Santa","09 Nuevo Chimbote","02","18","09","Áncash","Santa","Nuevo Chimbote","021809","ÁNCASH","SANTA","NUEVO CHIMBOTE","02","18","09"]
[null,"02 Áncash","19 Sihuas","01 Sihuas","02","19","01","Áncash","Sihuas","Sihuas","021901","ÁNCASH","SIHUAS","SIHUAS","02","19","01"]
[null,"02 Áncash","19 Sihuas","02 Acobamba","02","19","02","Áncash","Sihuas","Acobamba","021902","ÁNCASH","SIHUAS","ACOBAMBA","02","19","02"]
[null,"02 Áncash","19 Sihuas","03 Alfonso Ugarte","02","19","03","Áncash","Sihuas","Alfonso Ugarte","021903","ÁNCASH","SIHUAS","ALFONSO UGARTE","02","19","03"]
[null,"02 Áncash","19 Sihuas","04 Cashapampa","02","19","04","Áncash","Sihuas","Cashapampa","021904","ÁNCASH","SIHUAS","CASHAPAMPA","02","19","04"]
[null,"02 Áncash","19 Sihuas","05 Chingalpo","02","19","05","Áncash","Sihuas","Chingalpo","021905","ÁNCASH","SIHUAS","CHINGALPO","02","19","05"]
[null,"02 Áncash","19 Sihuas","06 Huayllabamba","02","19","06","Áncash","Sihuas","Huayllabamba","021906","ÁNCASH","SIHUAS","HUAYLLABAMBA","02","19","06"]
[null,"02 Áncash","19 Sihuas","07 Quiches","02","19","07","Áncash","Sihuas","Quiches","021907","ÁNCASH","SIHUAS","QUICHES","02","19","07"]
[null,"02 Áncash","19 Sihuas","08 Ragash","02","19","08","Áncash","Sihuas","Ragash","021908","ÁNCASH","SIHUAS","RAGASH","02","19","08"]
[null,"02 Áncash","19 Sihuas","09 San Juan","02","19","09","Áncash","Sihuas","San Juan","021909","ÁNCASH","SIHUAS","SAN JUAN","02","19","09"]
[null,"02 Áncash","19 Sihuas","10 Sicsibamba","02","19","10","Áncash","Sihuas","Sicsibamba","021910","ÁNCASH","SIHUAS","SICSIBAMBA","02","19","10"]
[null,"02 Áncash","20 Yungay","01 Yungay","02","20","01","Áncash","Yungay","Yungay","022001","ÁNCASH","YUNGAY","YUNGAY","02","20","01"]
[null,"02 Áncash","20 Yungay","02 Cascapara","02","20","02","Áncash","Yungay","Cascapara","022002","ÁNCASH","YUNGAY","CASCAPARA","02","20","02"]
[null,"02 Áncash","20 Yungay","03 Mancos","02","20","03","Áncash","Yungay","Mancos","022003","ÁNCASH","YUNGAY","MANCOS","02","20","03"]
[null,"02 Áncash","20 Yungay","04 Matacoto","02","20","04","Áncash","Yungay","Matacoto","022004","ÁNCASH","YUNGAY","MATACOTO","02","20","04"]
[null,"02 Áncash","20 Yungay","05 Quillo","02","20","05","Áncash","Yungay","Quillo","022005","ÁNCASH","YUNGAY","QUILLO","02","20","05"]
[null,"02 Áncash","20 Yungay","06 Ranrahirca","02","20","06","Áncash","Yungay","Ranrahirca","022006","ÁNCASH","YUNGAY","RANRAHIRCA","02","20","06"]
[null,"02 Áncash","20 Yungay","07 Shupluy","02","20","07","Áncash","Yungay","Shupluy","022007","ÁNCASH","YUNGAY","SHUPLUY","02","20","07"]
[null,"02 Áncash","20 Yungay","08 Yanama","02","20","08","Áncash","Yungay","Yanama","022008","ÁNCASH","YUNGAY","YANAMA","02","20","08"]
[null,"03 Apurímac","01 Abancay","01 Abancay","03","01","01","Apurímac","Abancay","Abancay","030101","APURÍMAC","ABANCAY","ABANCAY","03","01","01"]
[null,"03 Apurímac","01 Abancay","02 Chacoche","03","01","02","Apurímac","Abancay","Chacoche","030102","APURÍMAC","ABANCAY","CHACOCHE","03","01","02"]
[null,"03 Apurímac","01 Abancay","03 Circa","03","01","03","Apurímac","Abancay","Circa","030103","APURÍMAC","ABANCAY","CIRCA","03","01","03"]
[null,"03 Apurímac","01 Abancay","04 Curahuasi","03","01","04","Apurímac","Abancay","Curahuasi","030104","APURÍMAC","ABANCAY","CURAHUASI","03","01","04"]
[null,"03 Apurímac","01 Abancay","05 Huanipaca","03","01","05","Apurímac","Abancay","Huanipaca","030105","APURÍMAC","ABANCAY","HUANIPACA","03","01","05"]
[null,"03 Apurímac","01 Abancay","06 Lambrama","03","01","06","Apurímac","Abancay","Lambrama","030106","APURÍMAC","ABANCAY","LAMBRAMA","03","01","06"]
[null,"03 Apurímac","01 Abancay","07 Pichirhua",{"$f":"+MID(B260,1,2)","v":"03"},"01","07","Apurímac","Abancay","Pichirhua",{"$f":"+CONCATENATE(E260,F260,G260)","v":"030107"},"APURÍMAC","ABANCAY","PICHIRHUA","03","01","07"]
[null,"03 Apurímac","01 Abancay","08 San Pedro de Cachora","03","01","08","Apurímac","Abancay","San Pedro de Cachora","030108","APURÍMAC","ABANCAY","SAN PEDRO DE CACHORA","03","01","08"]
[null,"03 Apurímac","01 Abancay","09 Tamburco","03","01","09","Apurímac","Abancay","Tamburco","030109","APURÍMAC","ABANCAY","TAMBURCO","03","01","09"]
[null,"03 Apurímac","02 Andahuaylas","01 Andahuaylas","03","02","01","Apurímac","Andahuaylas","Andahuaylas","030201","APURÍMAC","ANDAHUAYLAS","ANDAHUAYLAS","03","02","01"]
[null,"03 Apurímac","02 Andahuaylas","02 Andarapa","03","02","02","Apurímac","Andahuaylas","Andarapa","030202","APURÍMAC","ANDAHUAYLAS","ANDARAPA","03","02","02"]
[null,"03 Apurímac","02 Andahuaylas","03 Chiara","03","02","03","Apurímac","Andahuaylas","Chiara","030203","APURÍMAC","ANDAHUAYLAS","CHIARA","03","02","03"]
[null,"03 Apurímac","02 Andahuaylas","04 Huancarama","03","02","04","Apurímac","Andahuaylas","Huancarama","030204","APURÍMAC","ANDAHUAYLAS","HUANCARAMA","03","02","04"]
[null,"03 Apurímac","02 Andahuaylas","05 Huancaray","03","02","05","Apurímac","Andahuaylas","Huancaray","030205","APURÍMAC","ANDAHUAYLAS","HUANCARAY","03","02","05"]
[null,"03 Apurímac","02 Andahuaylas","06 Huayana","03","02","06","Apurímac","Andahuaylas","Huayana","030206","APURÍMAC","ANDAHUAYLAS","HUAYANA","03","02","06"]
[null,"03 Apurímac","02 Andahuaylas","07 Kishuara","03","02","07","Apurímac","Andahuaylas","Kishuara","030207","APURÍMAC","ANDAHUAYLAS","KISHUARA","03","02","07"]
[null,"03 Apurímac","02 Andahuaylas","08 Pacobamba","03","02","08","Apurímac","Andahuaylas","Pacobamba","030208","APURÍMAC","ANDAHUAYLAS","PACOBAMBA","03","02","08"]
[null,"03 Apurímac","02 Andahuaylas","09 Pacucha","03","02","09","Apurímac","Andahuaylas","Pacucha","030209","APURÍMAC","ANDAHUAYLAS","PACUCHA","03","02","09"]
[null,"03 Apurímac","02 Andahuaylas","10 Pampachiri","03","02","10","Apurímac","Andahuaylas","Pampachiri","030210","APURÍMAC","ANDAHUAYLAS","PAMPACHIRI","03","02","10"]
[null,"03 Apurímac","02 Andahuaylas","11 Pomacocha","03","02","11","Apurímac","Andahuaylas","Pomacocha","030211","APURÍMAC","ANDAHUAYLAS","POMACOCHA","03","02","11"]
[null,"03 Apurímac","02 Andahuaylas","12 San Antonio de Cachi","03","02","12","Apurímac","Andahuaylas","San Antonio de Cachi","030212","APURÍMAC","ANDAHUAYLAS","SAN ANTONIO DE CACHI","03","02","12"]
[null,"03 Apurímac","02 Andahuaylas","13 San Jerónimo","03","02","13","Apurímac","Andahuaylas","San Jerónimo","030213","APURÍMAC","ANDAHUAYLAS","SAN JERÓNIMO","03","02","13"]
[null,"03 Apurímac","02 Andahuaylas","14 San Miguel de Chaccrampa","03","02","14","Apurímac","Andahuaylas","San Miguel de Chaccrampa","030214","APURÍMAC","ANDAHUAYLAS","SAN MIGUEL DE CHACCRAMPA","03","02","14"]
[null,"03 Apurímac","02 Andahuaylas","15 Santa María de Chicmo","03","02","15","Apurímac","Andahuaylas","Santa María de Chicmo","030215","APURÍMAC","ANDAHUAYLAS","SANTA MARÍA DE CHICMO","03","02","15"]
[null,"03 Apurímac","02 Andahuaylas","16 Talavera","03","02","16","Apurímac","Andahuaylas","Talavera","030216","APURÍMAC","ANDAHUAYLAS","TALAVERA","03","02","16"]
[null,"03 Apurímac","02 Andahuaylas","17 Tumay Huaraca","03","02","17","Apurímac","Andahuaylas","Tumay Huaraca","030217","APURÍMAC","ANDAHUAYLAS","TUMAY HUARACA","03","02","17"]
[null,"03 Apurímac","02 Andahuaylas","18 Turpo","03","02","18","Apurímac","Andahuaylas","Turpo","030218","APURÍMAC","ANDAHUAYLAS","TURPO","03","02","18"]
[null,"03 Apurímac","02 Andahuaylas","19 Kaquiabamba","03","02","19","Apurímac","Andahuaylas","Kaquiabamba","030219","APURÍMAC","ANDAHUAYLAS","KAQUIABAMBA","03","02","19"]
[null,"03 Apurímac","02 Andahuaylas","20 José María Arguedas","03","02","20","Apurímac","Andahuaylas","José María Arguedas","030220","APURÍMAC","ANDAHUAYLAS","JOSÉ MARÍA ARGUEDAS","03","02","20"]
[null,"03 Apurímac","03 Antabamba","01 Antabamba","03","03","01","Apurímac","Antabamba","Antabamba","030301","APURÍMAC","ANTABAMBA","ANTABAMBA","03","03","01"]
[null,"03 Apurímac","03 Antabamba","02 El Oro","03","03","02","Apurímac","Antabamba","El Oro","030302","APURÍMAC","ANTABAMBA","EL ORO","03","03","02"]
[null,"03 Apurímac","03 Antabamba","03 Huaquirca","03","03","03","Apurímac","Antabamba","Huaquirca","030303","APURÍMAC","ANTABAMBA","HUAQUIRCA","03","03","03"]
[null,"03 Apurímac","03 Antabamba","04 Juan Espinoza Medrano","03","03","04","Apurímac","Antabamba","Juan Espinoza Medrano","030304","APURÍMAC","ANTABAMBA","JUAN ESPINOZA MEDRANO","03","03","04"]
[null,"03 Apurímac","03 Antabamba","05 Oropesa","03","03","05","Apurímac","Antabamba","Oropesa","030305","APURÍMAC","ANTABAMBA","OROPESA","03","03","05"]
[null,"03 Apurímac","03 Antabamba","06 Pachaconas","03","03","06","Apurímac","Antabamba","Pachaconas","030306","APURÍMAC","ANTABAMBA","PACHACONAS","03","03","06"]
[null,"03 Apurímac","03 Antabamba","07 Sabaino","03","03","07","Apurímac","Antabamba","Sabaino","030307","APURÍMAC","ANTABAMBA","SABAINO","03","03","07"]
[null,"03 Apurímac","04 Aymaraes","01 Chalhuanca","03","04","01","Apurímac","Aymaraes","Chalhuanca","030401","APURÍMAC","AYMARAES","CHALHUANCA","03","04","01"]
[null,"03 Apurímac","04 Aymaraes","02 Capaya","03","04","02","Apurímac","Aymaraes","Capaya","030402","APURÍMAC","AYMARAES","CAPAYA","03","04","02"]
[null,"03 Apurímac","04 Aymaraes","03 Caraybamba","03","04","03","Apurímac","Aymaraes","Caraybamba","030403","APURÍMAC","AYMARAES","CARAYBAMBA","03","04","03"]
[null,"03 Apurímac","04 Aymaraes","04 Chapimarca","03","04","04","Apurímac","Aymaraes","Chapimarca","030404","APURÍMAC","AYMARAES","CHAPIMARCA","03","04","04"]
[null,"03 Apurímac","04 Aymaraes","05 Colcabamba","03","04","05","Apurímac","Aymaraes","Colcabamba","030405","APURÍMAC","AYMARAES","COLCABAMBA","03","04","05"]
[null,"03 Apurímac","04 Aymaraes","06 Cotaruse","03","04","06","Apurímac","Aymaraes","Cotaruse","030406","APURÍMAC","AYMARAES","COTARUSE","03","04","06"]
[null,"03 Apurímac","04 Aymaraes","07 Ihuayllo","03","04","07","Apurímac","Aymaraes","Ihuayllo","030407","APURÍMAC","AYMARAES","IHUAYLLO","03","04","07"]
[null,"03 Apurímac","04 Aymaraes","08 Justo Apu Sahuaraura","03","04","08","Apurímac","Aymaraes","Justo Apu Sahuaraura","030408","APURÍMAC","AYMARAES","JUSTO APU SAHUARAURA","03","04","08"]
[null,"03 Apurímac","04 Aymaraes","09 Lucre","03","04","09","Apurímac","Aymaraes","Lucre","030409","APURÍMAC","AYMARAES","LUCRE","03","04","09"]
[null,"03 Apurímac","04 Aymaraes","10 Pocohuanca","03","04","10","Apurímac","Aymaraes","Pocohuanca","030410","APURÍMAC","AYMARAES","POCOHUANCA","03","04","10"]
[null,"03 Apurímac","04 Aymaraes","11 San Juan de Chacña","03","04","11","Apurímac","Aymaraes","San Juan de Chacña","030411","APURÍMAC","AYMARAES","SAN JUAN DE CHACÑA","03","04","11"]
[null,"03 Apurímac","04 Aymaraes","12 Sañayca","03","04","12","Apurímac","Aymaraes","Sañayca","030412","APURÍMAC","AYMARAES","SAÑAYCA","03","04","12"]
[null,"03 Apurímac","04 Aymaraes","13 Soraya","03","04","13","Apurímac","Aymaraes","Soraya","030413","APURÍMAC","AYMARAES","SORAYA","03","04","13"]
[null,"03 Apurímac","04 Aymaraes","14 Tapairihua","03","04","14","Apurímac","Aymaraes","Tapairihua","030414","APURÍMAC","AYMARAES","TAPAIRIHUA","03","04","14"]
[null,"03 Apurímac","04 Aymaraes","15 Tintay","03","04","15","Apurímac","Aymaraes","Tintay","030415","APURÍMAC","AYMARAES","TINTAY","03","04","15"]
[null,"03 Apurímac","04 Aymaraes","16 Toraya","03","04","16","Apurímac","Aymaraes","Toraya","030416","APURÍMAC","AYMARAES","TORAYA","03","04","16"]
[null,"03 Apurímac","04 Aymaraes","17 Yanaca","03","04","17","Apurímac","Aymaraes","Yanaca","030417","APURÍMAC","AYMARAES","YANACA","03","04","17"]
[null,"03 Apurímac","05 Cotabambas","01 Tambobamba","03","05","01","Apurímac","Cotabambas","Tambobamba","030501","APURÍMAC","COTABAMBAS","TAMBOBAMBA","03","05","01"]
[null,"03 Apurímac","05 Cotabambas","02 Cotabambas","03","05","02","Apurímac","Cotabambas","Cotabambas","030502","APURÍMAC","COTABAMBAS","COTABAMBAS","03","05","02"]
[null,"03 Apurímac","05 Cotabambas","03 Coyllurqui","03","05","03","Apurímac","Cotabambas","Coyllurqui","030503","APURÍMAC","COTABAMBAS","COYLLURQUI","03","05","03"]
[null,"03 Apurímac","05 Cotabambas","04 Haquira","03","05","04","Apurímac","Cotabambas","Haquira","030504","APURÍMAC","COTABAMBAS","HAQUIRA","03","05","04"]
[null,"03 Apurímac","05 Cotabambas","05 Mara","03","05","05","Apurímac","Cotabambas","Mara","030505","APURÍMAC","COTABAMBAS","MARA","03","05","05"]
[null,"03 Apurímac","05 Cotabambas","06 Challhuahuacho","03","05","06","Apurímac","Cotabambas","Challhuahuacho","030506","APURÍMAC","COTABAMBAS","CHALLHUAHUACHO","03","05","06"]
[null,"03 Apurímac","06 Chincheros","01 Chincheros","03","06","01","Apurímac","Chincheros","Chincheros","030601","APURÍMAC","CHINCHEROS","CHINCHEROS","03","06","01"]
[null,"03 Apurímac","06 Chincheros","02 Anco_Huallo","03","06","02","Apurímac","Chincheros","Anco_Huallo","030602","APURÍMAC","CHINCHEROS","ANCO_HUALLO","03","06","02"]
[null,"03 Apurímac","06 Chincheros","03 Cocharcas","03","06","03","Apurímac","Chincheros","Cocharcas","030603","APURÍMAC","CHINCHEROS","COCHARCAS","03","06","03"]
[null,"03 Apurímac","06 Chincheros","04 Huaccana","03","06","04","Apurímac","Chincheros","Huaccana","030604","APURÍMAC","CHINCHEROS","HUACCANA","03","06","04"]
[null,"03 Apurímac","06 Chincheros","05 Ocobamba","03","06","05","Apurímac","Chincheros","Ocobamba","030605","APURÍMAC","CHINCHEROS","OCOBAMBA","03","06","05"]
[null,"03 Apurímac","06 Chincheros","06 Ongoy","03","06","06","Apurímac","Chincheros","Ongoy","030606","APURÍMAC","CHINCHEROS","ONGOY","03","06","06"]
[null,"03 Apurímac","06 Chincheros","07 Uranmarca","03","06","07","Apurímac","Chincheros","Uranmarca","030607","APURÍMAC","CHINCHEROS","URANMARCA","03","06","07"]
[null,"03 Apurímac","06 Chincheros","08 Ranracancha","03","06","08","Apurímac","Chincheros","Ranracancha","030608","APURÍMAC","CHINCHEROS","RANRACANCHA","03","06","08"]
[null,"03 Apurímac","06 Chincheros","09 Rocchacc","03","06","09","Apurímac","Chincheros","Rocchacc","030609","APURÍMAC","CHINCHEROS","ROCCHACC","03","06","09"]
[null,"03 Apurímac","06 Chincheros","10 El Porvenir","03","06","10","Apurímac","Chincheros","El Porvenir","030610","APURÍMAC","CHINCHEROS","EL PORVENIR","03","06","10"]
[null,"03 Apurímac","06 Chincheros","11 Los Chankas","03","06","11","Apurímac","Chincheros","Los Chankas","030611","APURÍMAC","CHINCHEROS","LOS CHANKAS","03","06","11"]
[null,"03 Apurímac","07 Grau","01 Chuquibambilla",{"$f":"+MID(B324,1,2)","v":"03"},"07","01","Apurímac","Grau","Chuquibambilla",{"$f":"+CONCATENATE(E324,F324,G324)","v":"030701"},"APURÍMAC","GRAU","CHUQUIBAMBILLA","03","07","01"]
[null,"03 Apurímac","07 Grau","02 Curpahuasi","03","07","02","Apurímac","Grau","Curpahuasi","030702","APURÍMAC","GRAU","CURPAHUASI","03","07","02"]
[null,"03 Apurímac","07 Grau","03 Gamarra","03","07","03","Apurímac","Grau","Gamarra","030703","APURÍMAC","GRAU","GAMARRA","03","07","03"]
[null,"03 Apurímac","07 Grau","04 Huayllati","03","07","04","Apurímac","Grau","Huayllati","030704","APURÍMAC","GRAU","HUAYLLATI","03","07","04"]
[null,"03 Apurímac","07 Grau","05 Mamara","03","07","05","Apurímac","Grau","Mamara","030705","APURÍMAC","GRAU","MAMARA","03","07","05"]
[null,"03 Apurímac","07 Grau","06 Micaela Bastidas","03","07","06","Apurímac","Grau","Micaela Bastidas","030706","APURÍMAC","GRAU","MICAELA BASTIDAS","03","07","06"]
[null,"03 Apurímac","07 Grau","07 Pataypampa","03","07","07","Apurímac","Grau","Pataypampa","030707","APURÍMAC","GRAU","PATAYPAMPA","03","07","07"]
[null,"03 Apurímac","07 Grau","08 Progreso","03","07","08","Apurímac","Grau","Progreso","030708","APURÍMAC","GRAU","PROGRESO","03","07","08"]
[null,"03 Apurímac","07 Grau","09 San Antonio","03","07","09","Apurímac","Grau","San Antonio","030709","APURÍMAC","GRAU","SAN ANTONIO","03","07","09"]
[null,"03 Apurímac","07 Grau","10 Santa Rosa","03","07","10","Apurímac","Grau","Santa Rosa","030710","APURÍMAC","GRAU","SANTA ROSA","03","07","10"]
[null,"03 Apurímac","07 Grau","11 Turpay","03","07","11","Apurímac","Grau","Turpay","030711","APURÍMAC","GRAU","TURPAY","03","07","11"]
[null,"03 Apurímac","07 Grau","12 Vilcabamba","03","07","12","Apurímac","Grau","Vilcabamba","030712","APURÍMAC","GRAU","VILCABAMBA","03","07","12"]
[null,"03 Apurímac","07 Grau","13 Virundo","03","07","13","Apurímac","Grau","Virundo","030713","APURÍMAC","GRAU","VIRUNDO","03","07","13"]
[null,"03 Apurímac","07 Grau","14 Curasco","03","07","14","Apurímac","Grau","Curasco","030714","APURÍMAC","GRAU","CURASCO","03","07","14"]
[null,"04 Arequipa","01 Arequipa","01 Arequipa","04","01","01","Arequipa","Arequipa","Arequipa","040101","AREQUIPA","AREQUIPA","AREQUIPA","04","01","01"]
[null,"04 Arequipa","01 Arequipa","02 Alto Selva Alegre","04","01","02","Arequipa","Arequipa","Alto Selva Alegre","040102","AREQUIPA","AREQUIPA","ALTO SELVA ALEGRE","04","01","02"]
[null,"04 Arequipa","01 Arequipa","03 Cayma","04","01","03","Arequipa","Arequipa","Cayma","040103","AREQUIPA","AREQUIPA","CAYMA","04","01","03"]
[null,"04 Arequipa","01 Arequipa","04 Cerro Colorado","04","01","04","Arequipa","Arequipa","Cerro Colorado","040104","AREQUIPA","AREQUIPA","CERRO COLORADO","04","01","04"]
[null,"04 Arequipa","01 Arequipa","05 Characato","04","01","05","Arequipa","Arequipa","Characato","040105","AREQUIPA","AREQUIPA","CHARACATO","04","01","05"]
[null,"04 Arequipa","01 Arequipa","06 Chiguata","04","01","06","Arequipa","Arequipa","Chiguata","040106","AREQUIPA","AREQUIPA","CHIGUATA","04","01","06"]
[null,"04 Arequipa","01 Arequipa","07 Jacobo Hunter","04","01","07","Arequipa","Arequipa","Jacobo Hunter","040107","AREQUIPA","AREQUIPA","JACOBO HUNTER","04","01","07"]
[null,"04 Arequipa","01 Arequipa","08 La Joya","04","01","08","Arequipa","Arequipa","La Joya","040108","AREQUIPA","AREQUIPA","LA JOYA","04","01","08"]
[null,"04 Arequipa","01 Arequipa","09 Mariano Melgar","04","01","09","Arequipa","Arequipa","Mariano Melgar","040109","AREQUIPA","AREQUIPA","MARIANO MELGAR","04","01","09"]
[null,"04 Arequipa","01 Arequipa","10 Miraflores","04","01","10","Arequipa","Arequipa","Miraflores","040110","AREQUIPA","AREQUIPA","MIRAFLORES","04","01","10"]
[null,"04 Arequipa","01 Arequipa","11 Mollebaya","04","01","11","Arequipa","Arequipa","Mollebaya","040111","AREQUIPA","AREQUIPA","MOLLEBAYA","04","01","11"]
[null,"04 Arequipa","01 Arequipa","12 Paucarpata","04","01","12","Arequipa","Arequipa","Paucarpata","040112","AREQUIPA","AREQUIPA","PAUCARPATA","04","01","12"]
[null,"04 Arequipa","01 Arequipa","13 Pocsi","04","01","13","Arequipa","Arequipa","Pocsi","040113","AREQUIPA","AREQUIPA","POCSI","04","01","13"]
[null,"04 Arequipa","01 Arequipa","14 Polobaya","04","01","14","Arequipa","Arequipa","Polobaya","040114","AREQUIPA","AREQUIPA","POLOBAYA","04","01","14"]
[null,"04 Arequipa","01 Arequipa","15 Quequeña","04","01","15","Arequipa","Arequipa","Quequeña","040115","AREQUIPA","AREQUIPA","QUEQUEÑA","04","01","15"]
[null,"04 Arequipa","01 Arequipa","16 Sabandia","04","01","16","Arequipa","Arequipa","Sabandia","040116","AREQUIPA","AREQUIPA","SABANDIA","04","01","16"]
[null,"04 Arequipa","01 Arequipa","17 Sachaca","04","01","17","Arequipa","Arequipa","Sachaca","040117","AREQUIPA","AREQUIPA","SACHACA","04","01","17"]
[null,"04 Arequipa","01 Arequipa","18 San Juan de Siguas","04","01","18","Arequipa","Arequipa","San Juan de Siguas","040118","AREQUIPA","AREQUIPA","SAN JUAN DE SIGUAS","04","01","18"]
[null,"04 Arequipa","01 Arequipa","19 San Juan de Tarucani","04","01","19","Arequipa","Arequipa","San Juan de Tarucani","040119","AREQUIPA","AREQUIPA","SAN JUAN DE TARUCANI","04","01","19"]
[null,"04 Arequipa","01 Arequipa","20 Santa Isabel de Siguas","04","01","20","Arequipa","Arequipa","Santa Isabel de Siguas","040120","AREQUIPA","AREQUIPA","SANTA ISABEL DE SIGUAS","04","01","20"]
[null,"04 Arequipa","01 Arequipa","21 Santa Rita de Siguas","04","01","21","Arequipa","Arequipa","Santa Rita de Siguas","040121","AREQUIPA","AREQUIPA","SANTA RITA DE SIGUAS","04","01","21"]
[null,"04 Arequipa","01 Arequipa","22 Socabaya","04","01","22","Arequipa","Arequipa","Socabaya","040122","AREQUIPA","AREQUIPA","SOCABAYA","04","01","22"]
[null,"04 Arequipa","01 Arequipa","23 Tiabaya","04","01","23","Arequipa","Arequipa","Tiabaya","040123","AREQUIPA","AREQUIPA","TIABAYA","04","01","23"]
[null,"04 Arequipa","01 Arequipa","24 Uchumayo","04","01","24","Arequipa","Arequipa","Uchumayo","040124","AREQUIPA","AREQUIPA","UCHUMAYO","04","01","24"]
[null,"04 Arequipa","01 Arequipa","25 Vitor","04","01","25","Arequipa","Arequipa","Vitor","040125","AREQUIPA","AREQUIPA","VITOR","04","01","25"]
[null,"04 Arequipa","01 Arequipa","26 Yanahuara","04","01","26","Arequipa","Arequipa","Yanahuara","040126","AREQUIPA","AREQUIPA","YANAHUARA","04","01","26"]
[null,"04 Arequipa","01 Arequipa","27 Yarabamba","04","01","27","Arequipa","Arequipa","Yarabamba","040127","AREQUIPA","AREQUIPA","YARABAMBA","04","01","27"]
[null,"04 Arequipa","01 Arequipa","28 Yura","04","01","28","Arequipa","Arequipa","Yura","040128","AREQUIPA","AREQUIPA","YURA","04","01","28"]
[null,"04 Arequipa","01 Arequipa","29 José Luis Bustamante Y Rivero","04","01","29","Arequipa","Arequipa","José Luis Bustamante Y Rivero","040129","AREQUIPA","AREQUIPA","JOSÉ LUIS BUSTAMANTE Y RIVERO","04","01","29"]
[null,"04 Arequipa","02 Camaná","01 Camaná","04","02","01","Arequipa","Camaná","Camaná","040201","AREQUIPA","CAMANÁ","CAMANÁ","04","02","01"]
[null,"04 Arequipa","02 Camaná","02 José María Quimper","04","02","02","Arequipa","Camaná","José María Quimper","040202","AREQUIPA","CAMANÁ","JOSÉ MARÍA QUIMPER","04","02","02"]
[null,"04 Arequipa","02 Camaná","03 Mariano Nicolás Valcárcel","04","02","03","Arequipa","Camaná","Mariano Nicolás Valcárcel","040203","AREQUIPA","CAMANÁ","MARIANO NICOLÁS VALCÁRCEL","04","02","03"]
[null,"04 Arequipa","02 Camaná","04 Mariscal Cáceres","04","02","04","Arequipa","Camaná","Mariscal Cáceres","040204","AREQUIPA","CAMANÁ","MARISCAL CÁCERES","04","02","04"]
[null,"04 Arequipa","02 Camaná","05 Nicolás de Pierola","04","02","05","Arequipa","Camaná","Nicolás de Pierola","040205","AREQUIPA","CAMANÁ","NICOLÁS DE PIEROLA","04","02","05"]
[null,"04 Arequipa","02 Camaná","06 Ocoña","04","02","06","Arequipa","Camaná","Ocoña","040206","AREQUIPA","CAMANÁ","OCOÑA","04","02","06"]
[null,"04 Arequipa","02 Camaná","07 Quilca","04","02","07","Arequipa","Camaná","Quilca","040207","AREQUIPA","CAMANÁ","QUILCA","04","02","07"]
[null,"04 Arequipa","02 Camaná","08 Samuel Pastor","04","02","08","Arequipa","Camaná","Samuel Pastor","040208","AREQUIPA","CAMANÁ","SAMUEL PASTOR","04","02","08"]
[null,"04 Arequipa","03 Caravelí","01 Caravelí","04","03","01","Arequipa","Caravelí","Caravelí","040301","AREQUIPA","CARAVELÍ","CARAVELÍ","04","03","01"]
[null,"04 Arequipa","03 Caravelí","02 Acarí","04","03","02","Arequipa","Caravelí","Acarí","040302","AREQUIPA","CARAVELÍ","ACARÍ","04","03","02"]
[null,"04 Arequipa","03 Caravelí","03 Atico","04","03","03","Arequipa","Caravelí","Atico","040303","AREQUIPA","CARAVELÍ","ATICO","04","03","03"]
[null,"04 Arequipa","03 Caravelí","04 Atiquipa","04","03","04","Arequipa","Caravelí","Atiquipa","040304","AREQUIPA","CARAVELÍ","ATIQUIPA","04","03","04"]
[null,"04 Arequipa","03 Caravelí","05 Bella Unión","04","03","05","Arequipa","Caravelí","Bella Unión","040305","AREQUIPA","CARAVELÍ","BELLA UNIÓN","04","03","05"]
[null,"04 Arequipa","03 Caravelí","06 Cahuacho","04","03","06","Arequipa","Caravelí","Cahuacho","040306","AREQUIPA","CARAVELÍ","CAHUACHO","04","03","06"]
[null,"04 Arequipa","03 Caravelí","07 Chala","04","03","07","Arequipa","Caravelí","Chala","040307","AREQUIPA","CARAVELÍ","CHALA","04","03","07"]
[null,"04 Arequipa","03 Caravelí","08 Chaparra","04","03","08","Arequipa","Caravelí","Chaparra","040308","AREQUIPA","CARAVELÍ","CHAPARRA","04","03","08"]
[null,"04 Arequipa","03 Caravelí","09 Huanuhuanu","04","03","09","Arequipa","Caravelí","Huanuhuanu","040309","AREQUIPA","CARAVELÍ","HUANUHUANU","04","03","09"]
[null,"04 Arequipa","03 Caravelí","10 Jaqui","04","03","10","Arequipa","Caravelí","Jaqui","040310","AREQUIPA","CARAVELÍ","JAQUI","04","03","10"]
[null,"04 Arequipa","03 Caravelí","11 Lomas","04","03","11","Arequipa","Caravelí","Lomas","040311","AREQUIPA","CARAVELÍ","LOMAS","04","03","11"]
[null,"04 Arequipa","03 Caravelí","12 Quicacha","04","03","12","Arequipa","Caravelí","Quicacha","040312","AREQUIPA","CARAVELÍ","QUICACHA","04","03","12"]
[null,"04 Arequipa","03 Caravelí","13 Yauca","04","03","13","Arequipa","Caravelí","Yauca","040313","AREQUIPA","CARAVELÍ","YAUCA","04","03","13"]
[null,"04 Arequipa","04 Castilla","01 Aplao",{"$f":"+MID(B388,1,2)","v":"04"},"04","01","Arequipa","Castilla","Aplao",{"$f":"+CONCATENATE(E388,F388,G388)","v":"040401"},"AREQUIPA","CASTILLA","APLAO","04","04","01"]
[null,"04 Arequipa","04 Castilla","02 Andagua","04","04","02","Arequipa","Castilla","Andagua","040402","AREQUIPA","CASTILLA","ANDAGUA","04","04","02"]
[null,"04 Arequipa","04 Castilla","03 Ayo","04","04","03","Arequipa","Castilla","Ayo","040403","AREQUIPA","CASTILLA","AYO","04","04","03"]
[null,"04 Arequipa","04 Castilla","04 Chachas","04","04","04","Arequipa","Castilla","Chachas","040404","AREQUIPA","CASTILLA","CHACHAS","04","04","04"]
[null,"04 Arequipa","04 Castilla","05 Chilcaymarca","04","04","05","Arequipa","Castilla","Chilcaymarca","040405","AREQUIPA","CASTILLA","CHILCAYMARCA","04","04","05"]
[null,"04 Arequipa","04 Castilla","06 Choco","04","04","06","Arequipa","Castilla","Choco","040406","AREQUIPA","CASTILLA","CHOCO","04","04","06"]
[null,"04 Arequipa","04 Castilla","07 Huancarqui","04","04","07","Arequipa","Castilla","Huancarqui","040407","AREQUIPA","CASTILLA","HUANCARQUI","04","04","07"]
[null,"04 Arequipa","04 Castilla","08 Machaguay","04","04","08","Arequipa","Castilla","Machaguay","040408","AREQUIPA","CASTILLA","MACHAGUAY","04","04","08"]
[null,"04 Arequipa","04 Castilla","09 Orcopampa","04","04","09","Arequipa","Castilla","Orcopampa","040409","AREQUIPA","CASTILLA","ORCOPAMPA","04","04","09"]
[null,"04 Arequipa","04 Castilla","10 Pampacolca","04","04","10","Arequipa","Castilla","Pampacolca","040410","AREQUIPA","CASTILLA","PAMPACOLCA","04","04","10"]
[null,"04 Arequipa","04 Castilla","11 Tipan","04","04","11","Arequipa","Castilla","Tipan","040411","AREQUIPA","CASTILLA","TIPAN","04","04","11"]
[null,"04 Arequipa","04 Castilla","12 Uñon","04","04","12","Arequipa","Castilla","Uñon","040412","AREQUIPA","CASTILLA","UÑON","04","04","12"]
[null,"04 Arequipa","04 Castilla","13 Uraca","04","04","13","Arequipa","Castilla","Uraca","040413","AREQUIPA","CASTILLA","URACA","04","04","13"]
[null,"04 Arequipa","04 Castilla","14 Viraco","04","04","14","Arequipa","Castilla","Viraco","040414","AREQUIPA","CASTILLA","VIRACO","04","04","14"]
[null,"04 Arequipa","05 Caylloma","01 Chivay","04","05","01","Arequipa","Caylloma","Chivay","040501","AREQUIPA","CAYLLOMA","CHIVAY","04","05","01"]
[null,"04 Arequipa","05 Caylloma","02 Achoma","04","05","02","Arequipa","Caylloma","Achoma","040502","AREQUIPA","CAYLLOMA","ACHOMA","04","05","02"]
[null,"04 Arequipa","05 Caylloma","03 Cabanaconde","04","05","03","Arequipa","Caylloma","Cabanaconde","040503","AREQUIPA","CAYLLOMA","CABANACONDE","04","05","03"]
[null,"04 Arequipa","05 Caylloma","04 Callalli","04","05","04","Arequipa","Caylloma","Callalli","040504","AREQUIPA","CAYLLOMA","CALLALLI","04","05","04"]
[null,"04 Arequipa","05 Caylloma","05 Caylloma","04","05","05","Arequipa","Caylloma","Caylloma","040505","AREQUIPA","CAYLLOMA","CAYLLOMA","04","05","05"]
[null,"04 Arequipa","05 Caylloma","06 Coporaque","04","05","06","Arequipa","Caylloma","Coporaque","040506","AREQUIPA","CAYLLOMA","COPORAQUE","04","05","06"]
[null,"04 Arequipa","05 Caylloma","07 Huambo","04","05","07","Arequipa","Caylloma","Huambo","040507","AREQUIPA","CAYLLOMA","HUAMBO","04","05","07"]
[null,"04 Arequipa","05 Caylloma","08 Huanca","04","05","08","Arequipa","Caylloma","Huanca","040508","AREQUIPA","CAYLLOMA","HUANCA","04","05","08"]
[null,"04 Arequipa","05 Caylloma","09 Ichupampa","04","05","09","Arequipa","Caylloma","Ichupampa","040509","AREQUIPA","CAYLLOMA","ICHUPAMPA","04","05","09"]
[null,"04 Arequipa","05 Caylloma","10 Lari","04","05","10","Arequipa","Caylloma","Lari","040510","AREQUIPA","CAYLLOMA","LARI","04","05","10"]
[null,"04 Arequipa","05 Caylloma","11 Lluta","04","05","11","Arequipa","Caylloma","Lluta","040511","AREQUIPA","CAYLLOMA","LLUTA","04","05","11"]
[null,"04 Arequipa","05 Caylloma","12 Maca","04","05","12","Arequipa","Caylloma","Maca","040512","AREQUIPA","CAYLLOMA","MACA","04","05","12"]
[null,"04 Arequipa","05 Caylloma","13 Madrigal","04","05","13","Arequipa","Caylloma","Madrigal","040513","AREQUIPA","CAYLLOMA","MADRIGAL","04","05","13"]
[null,"04 Arequipa","05 Caylloma","14 San Antonio de Chuca","04","05","14","Arequipa","Caylloma","San Antonio de Chuca","040514","AREQUIPA","CAYLLOMA","SAN ANTONIO DE CHUCA","04","05","14"]
[null,"04 Arequipa","05 Caylloma","15 Sibayo","04","05","15","Arequipa","Caylloma","Sibayo","040515","AREQUIPA","CAYLLOMA","SIBAYO","04","05","15"]
[null,"04 Arequipa","05 Caylloma","16 Tapay","04","05","16","Arequipa","Caylloma","Tapay","040516","AREQUIPA","CAYLLOMA","TAPAY","04","05","16"]
[null,"04 Arequipa","05 Caylloma","17 Tisco","04","05","17","Arequipa","Caylloma","Tisco","040517","AREQUIPA","CAYLLOMA","TISCO","04","05","17"]
[null,"04 Arequipa","05 Caylloma","18 Tuti","04","05","18","Arequipa","Caylloma","Tuti","040518","AREQUIPA","CAYLLOMA","TUTI","04","05","18"]
[null,"04 Arequipa","05 Caylloma","19 Yanque","04","05","19","Arequipa","Caylloma","Yanque","040519","AREQUIPA","CAYLLOMA","YANQUE","04","05","19"]
[null,"04 Arequipa","05 Caylloma","20 Majes","04","05","20","Arequipa","Caylloma","Majes","040520","AREQUIPA","CAYLLOMA","MAJES","04","05","20"]
[null,"04 Arequipa","06 Condesuyos","01 Chuquibamba","04","06","01","Arequipa","Condesuyos","Chuquibamba","040601","AREQUIPA","CONDESUYOS","CHUQUIBAMBA","04","06","01"]
[null,"04 Arequipa","06 Condesuyos","02 Andaray","04","06","02","Arequipa","Condesuyos","Andaray","040602","AREQUIPA","CONDESUYOS","ANDARAY","04","06","02"]
[null,"04 Arequipa","06 Condesuyos","03 Cayarani","04","06","03","Arequipa","Condesuyos","Cayarani","040603","AREQUIPA","CONDESUYOS","CAYARANI","04","06","03"]
[null,"04 Arequipa","06 Condesuyos","04 Chichas","04","06","04","Arequipa","Condesuyos","Chichas","040604","AREQUIPA","CONDESUYOS","CHICHAS","04","06","04"]
[null,"04 Arequipa","06 Condesuyos","05 Iray","04","06","05","Arequipa","Condesuyos","Iray","040605","AREQUIPA","CONDESUYOS","IRAY","04","06","05"]
[null,"04 Arequipa","06 Condesuyos","06 Río Grande","04","06","06","Arequipa","Condesuyos","Río Grande","040606","AREQUIPA","CONDESUYOS","RÍO GRANDE","04","06","06"]
[null,"04 Arequipa","06 Condesuyos","07 Salamanca","04","06","07","Arequipa","Condesuyos","Salamanca","040607","AREQUIPA","CONDESUYOS","SALAMANCA","04","06","07"]
[null,"04 Arequipa","06 Condesuyos","08 Yanaquihua","04","06","08","Arequipa","Condesuyos","Yanaquihua","040608","AREQUIPA","CONDESUYOS","YANAQUIHUA","04","06","08"]
[null,"04 Arequipa","07 Islay","01 Mollendo","04","07","01","Arequipa","Islay","Mollendo","040701","AREQUIPA","ISLAY","MOLLENDO","04","07","01"]
[null,"04 Arequipa","07 Islay","02 Cocachacra","04","07","02","Arequipa","Islay","Cocachacra","040702","AREQUIPA","ISLAY","COCACHACRA","04","07","02"]
[null,"04 Arequipa","07 Islay","03 Dean Valdivia","04","07","03","Arequipa","Islay","Dean Valdivia","040703","AREQUIPA","ISLAY","DEAN VALDIVIA","04","07","03"]
[null,"04 Arequipa","07 Islay","04 Islay","04","07","04","Arequipa","Islay","Islay","040704","AREQUIPA","ISLAY","ISLAY","04","07","04"]
[null,"04 Arequipa","07 Islay","05 Mejia","04","07","05","Arequipa","Islay","Mejia","040705","AREQUIPA","ISLAY","MEJIA","04","07","05"]
[null,"04 Arequipa","07 Islay","06 Punta de Bombón","04","07","06","Arequipa","Islay","Punta de Bombón","040706","AREQUIPA","ISLAY","PUNTA DE BOMBÓN","04","07","06"]
[null,"04 Arequipa","08 La Uniòn","01 Cotahuasi","04","08","01","Arequipa","La Uniòn","Cotahuasi","040801","AREQUIPA","LA UNIÒN","COTAHUASI","04","08","01"]
[null,"04 Arequipa","08 La Uniòn","02 Alca","04","08","02","Arequipa","La Uniòn","Alca","040802","AREQUIPA","LA UNIÒN","ALCA","04","08","02"]
[null,"04 Arequipa","08 La Uniòn","03 Charcana","04","08","03","Arequipa","La Uniòn","Charcana","040803","AREQUIPA","LA UNIÒN","CHARCANA","04","08","03"]
[null,"04 Arequipa","08 La Uniòn","04 Huaynacotas","04","08","04","Arequipa","La Uniòn","Huaynacotas","040804","AREQUIPA","LA UNIÒN","HUAYNACOTAS","04","08","04"]
[null,"04 Arequipa","08 La Uniòn","05 Pampamarca","04","08","05","Arequipa","La Uniòn","Pampamarca","040805","AREQUIPA","LA UNIÒN","PAMPAMARCA","04","08","05"]
[null,"04 Arequipa","08 La Uniòn","06 Puyca","04","08","06","Arequipa","La Uniòn","Puyca","040806","AREQUIPA","LA UNIÒN","PUYCA","04","08","06"]
[null,"04 Arequipa","08 La Uniòn","07 Quechualla","04","08","07","Arequipa","La Uniòn","Quechualla","040807","AREQUIPA","LA UNIÒN","QUECHUALLA","04","08","07"]
[null,"04 Arequipa","08 La Uniòn","08 Sayla","04","08","08","Arequipa","La Uniòn","Sayla","040808","AREQUIPA","LA UNIÒN","SAYLA","04","08","08"]
[null,"04 Arequipa","08 La Uniòn","09 Tauria","04","08","09","Arequipa","La Uniòn","Tauria","040809","AREQUIPA","LA UNIÒN","TAURIA","04","08","09"]
[null,"04 Arequipa","08 La Uniòn","10 Tomepampa","04","08","10","Arequipa","La Uniòn","Tomepampa","040810","AREQUIPA","LA UNIÒN","TOMEPAMPA","04","08","10"]
[null,"04 Arequipa","08 La Uniòn","11 Toro","04","08","11","Arequipa","La Uniòn","Toro","040811","AREQUIPA","LA UNIÒN","TORO","04","08","11"]
[null,"05 Ayacucho","01 Huamanga","01 Ayacucho","05","01","01","Ayacucho","Huamanga","Ayacucho","050101","AYACUCHO","HUAMANGA","AYACUCHO","05","01","01"]
[null,"05 Ayacucho","01 Huamanga","02 Acocro","05","01","02","Ayacucho","Huamanga","Acocro","050102","AYACUCHO","HUAMANGA","ACOCRO","05","01","02"]
[null,"05 Ayacucho","01 Huamanga","03 Acos Vinchos","05","01","03","Ayacucho","Huamanga","Acos Vinchos","050103","AYACUCHO","HUAMANGA","ACOS VINCHOS","05","01","03"]
[null,"05 Ayacucho","01 Huamanga","04 Carmen Alto","05","01","04","Ayacucho","Huamanga","Carmen Alto","050104","AYACUCHO","HUAMANGA","CARMEN ALTO","05","01","04"]
[null,"05 Ayacucho","01 Huamanga","05 Chiara","05","01","05","Ayacucho","Huamanga","Chiara","050105","AYACUCHO","HUAMANGA","CHIARA","05","01","05"]
[null,"05 Ayacucho","01 Huamanga","06 Ocros",{"$f":"+MID(B452,1,2)","v":"05"},"01","06","Ayacucho","Huamanga","Ocros",{"$f":"+CONCATENATE(E452,F452,G452)","v":"050106"},"AYACUCHO","HUAMANGA","OCROS","05","01","06"]
[null,"05 Ayacucho","01 Huamanga","07 Pacaycasa","05","01","07","Ayacucho","Huamanga","Pacaycasa","050107","AYACUCHO","HUAMANGA","PACAYCASA","05","01","07"]
[null,"05 Ayacucho","01 Huamanga","08 Quinua","05","01","08","Ayacucho","Huamanga","Quinua","050108","AYACUCHO","HUAMANGA","QUINUA","05","01","08"]
[null,"05 Ayacucho","01 Huamanga","09 San José de Ticllas","05","01","09","Ayacucho","Huamanga","San José de Ticllas","050109","AYACUCHO","HUAMANGA","SAN JOSÉ DE TICLLAS","05","01","09"]
[null,"05 Ayacucho","01 Huamanga","10 San Juan Bautista","05","01","10","Ayacucho","Huamanga","San Juan Bautista","050110","AYACUCHO","HUAMANGA","SAN JUAN BAUTISTA","05","01","10"]
[null,"05 Ayacucho","01 Huamanga","11 Santiago de Pischa","05","01","11","Ayacucho","Huamanga","Santiago de Pischa","050111","AYACUCHO","HUAMANGA","SANTIAGO DE PISCHA","05","01","11"]
[null,"05 Ayacucho","01 Huamanga","12 Socos","05","01","12","Ayacucho","Huamanga","Socos","050112","AYACUCHO","HUAMANGA","SOCOS","05","01","12"]
[null,"05 Ayacucho","01 Huamanga","13 Tambillo","05","01","13","Ayacucho","Huamanga","Tambillo","050113","AYACUCHO","HUAMANGA","TAMBILLO","05","01","13"]
[null,"05 Ayacucho","01 Huamanga","14 Vinchos","05","01","14","Ayacucho","Huamanga","Vinchos","050114","AYACUCHO","HUAMANGA","VINCHOS","05","01","14"]
[null,"05 Ayacucho","01 Huamanga","15 Jesús Nazareno","05","01","15","Ayacucho","Huamanga","Jesús Nazareno","050115","AYACUCHO","HUAMANGA","JESÚS NAZARENO","05","01","15"]
[null,"05 Ayacucho","01 Huamanga","16 Andrés Avelino Cáceres Dorregaray","05","01","16","Ayacucho","Huamanga","Andrés Avelino Cáceres Dorrega","050116","AYACUCHO","HUAMANGA","ANDRÉS AVELINO CÁCERES DORREGA","05","01","16"]
[null,"05 Ayacucho","02 Cangallo","01 Cangallo","05","02","01","Ayacucho","Cangallo","Cangallo","050201","AYACUCHO","CANGALLO","CANGALLO","05","02","01"]
[null,"05 Ayacucho","02 Cangallo","02 Chuschi","05","02","02","Ayacucho","Cangallo","Chuschi","050202","AYACUCHO","CANGALLO","CHUSCHI","05","02","02"]
[null,"05 Ayacucho","02 Cangallo","03 Los Morochucos","05","02","03","Ayacucho","Cangallo","Los Morochucos","050203","AYACUCHO","CANGALLO","LOS MOROCHUCOS","05","02","03"]
[null,"05 Ayacucho","02 Cangallo","04 María Parado de Bellido","05","02","04","Ayacucho","Cangallo","María Parado de Bellido","050204","AYACUCHO","CANGALLO","MARÍA PARADO DE BELLIDO","05","02","04"]
[null,"05 Ayacucho","02 Cangallo","05 Paras","05","02","05","Ayacucho","Cangallo","Paras","050205","AYACUCHO","CANGALLO","PARAS","05","02","05"]
[null,"05 Ayacucho","02 Cangallo","06 Totos","05","02","06","Ayacucho","Cangallo","Totos","050206","AYACUCHO","CANGALLO","TOTOS","05","02","06"]
[null,"05 Ayacucho","03 Huanca Sancos","01 Sancos","05","03","01","Ayacucho","Huanca Sancos","Sancos","050301","AYACUCHO","HUANCA SANCOS","SANCOS","05","03","01"]
[null,"05 Ayacucho","03 Huanca Sancos","02 Carapo","05","03","02","Ayacucho","Huanca Sancos","Carapo","050302","AYACUCHO","HUANCA SANCOS","CARAPO","05","03","02"]
[null,"05 Ayacucho","03 Huanca Sancos","03 Sacsamarca","05","03","03","Ayacucho","Huanca Sancos","Sacsamarca","050303","AYACUCHO","HUANCA SANCOS","SACSAMARCA","05","03","03"]
[null,"05 Ayacucho","03 Huanca Sancos","04 Santiago de Lucanamarca","05","03","04","Ayacucho","Huanca Sancos","Santiago de Lucanamarca","050304","AYACUCHO","HUANCA SANCOS","SANTIAGO DE LUCANAMARCA","05","03","04"]
[null,"05 Ayacucho","04 Huanta","01 Huanta","05","04","01","Ayacucho","Huanta","Huanta","050401","AYACUCHO","HUANTA","HUANTA","05","04","01"]
[null,"05 Ayacucho","04 Huanta","02 Ayahuanco","05","04","02","Ayacucho","Huanta","Ayahuanco","050402","AYACUCHO","HUANTA","AYAHUANCO","05","04","02"]
[null,"05 Ayacucho","04 Huanta","03 Huamanguilla","05","04","03","Ayacucho","Huanta","Huamanguilla","050403","AYACUCHO","HUANTA","HUAMANGUILLA","05","04","03"]
[null,"05 Ayacucho","04 Huanta","04 Iguain","05","04","04","Ayacucho","Huanta","Iguain","050404","AYACUCHO","HUANTA","IGUAIN","05","04","04"]
[null,"05 Ayacucho","04 Huanta","05 Luricocha","05","04","05","Ayacucho","Huanta","Luricocha","050405","AYACUCHO","HUANTA","LURICOCHA","05","04","05"]
[null,"05 Ayacucho","04 Huanta","06 Santillana","05","04","06","Ayacucho","Huanta","Santillana","050406","AYACUCHO","HUANTA","SANTILLANA","05","04","06"]
[null,"05 Ayacucho","04 Huanta","07 Sivia","05","04","07","Ayacucho","Huanta","Sivia","050407","AYACUCHO","HUANTA","SIVIA","05","04","07"]
[null,"05 Ayacucho","04 Huanta","08 Llochegua","05","04","08","Ayacucho","Huanta","Llochegua","050408","AYACUCHO","HUANTA","LLOCHEGUA","05","04","08"]
[null,"05 Ayacucho","04 Huanta","09 Canayre","05","04","09","Ayacucho","Huanta","Canayre","050409","AYACUCHO","HUANTA","CANAYRE","05","04","09"]
[null,"05 Ayacucho","04 Huanta","10 Uchuraccay","05","04","10","Ayacucho","Huanta","Uchuraccay","050410","AYACUCHO","HUANTA","UCHURACCAY","05","04","10"]
[null,"05 Ayacucho","04 Huanta","11 Pucacolpa","05","04","11","Ayacucho","Huanta","Pucacolpa","050411","AYACUCHO","HUANTA","PUCACOLPA","05","04","11"]
[null,"05 Ayacucho","04 Huanta","12 Chaca","05","04","12","Ayacucho","Huanta","Chaca","050412","AYACUCHO","HUANTA","CHACA","05","04","12"]
[null,"05 Ayacucho","05 La Mar","01 San Miguel","05","05","01","Ayacucho","La Mar","San Miguel","050501","AYACUCHO","LA MAR","SAN MIGUEL","05","05","01"]
[null,"05 Ayacucho","05 La Mar","02 Anco","05","05","02","Ayacucho","La Mar","Anco","050502","AYACUCHO","LA MAR","ANCO","05","05","02"]
[null,"05 Ayacucho","05 La Mar","03 Ayna","05","05","03","Ayacucho","La Mar","Ayna","050503","AYACUCHO","LA MAR","AYNA","05","05","03"]
[null,"05 Ayacucho","05 La Mar","04 Chilcas","05","05","04","Ayacucho","La Mar","Chilcas","050504","AYACUCHO","LA MAR","CHILCAS","05","05","04"]
[null,"05 Ayacucho","05 La Mar","05 Chungui","05","05","05","Ayacucho","La Mar","Chungui","050505","AYACUCHO","LA MAR","CHUNGUI","05","05","05"]
[null,"05 Ayacucho","05 La Mar","06 Luis Carranza","05","05","06","Ayacucho","La Mar","Luis Carranza","050506","AYACUCHO","LA MAR","LUIS CARRANZA","05","05","06"]
[null,"05 Ayacucho","05 La Mar","07 Santa Rosa","05","05","07","Ayacucho","La Mar","Santa Rosa","050507","AYACUCHO","LA MAR","SANTA ROSA","05","05","07"]
[null,"05 Ayacucho","05 La Mar","08 Tambo","05","05","08","Ayacucho","La Mar","Tambo","050508","AYACUCHO","LA MAR","TAMBO","05","05","08"]
[null,"05 Ayacucho","05 La Mar","09 Samugari","05","05","09","Ayacucho","La Mar","Samugari","050509","AYACUCHO","LA MAR","SAMUGARI","05","05","09"]
[null,"05 Ayacucho","05 La Mar","10 Anchihuay","05","05","10","Ayacucho","La Mar","Anchihuay","050510","AYACUCHO","LA MAR","ANCHIHUAY","05","05","10"]
[null,"05 Ayacucho","05 La Mar","11 Oronccoy","05","05","11","Ayacucho","La Mar","Oronccoy","050511","AYACUCHO","LA MAR","ORONCCOY","05","05","11"]
[null,"05 Ayacucho","06 Lucanas","01 Puquio","05","06","01","Ayacucho","Lucanas","Puquio","050601","AYACUCHO","LUCANAS","PUQUIO","05","06","01"]
[null,"05 Ayacucho","06 Lucanas","02 Aucara","05","06","02","Ayacucho","Lucanas","Aucara","050602","AYACUCHO","LUCANAS","AUCARA","05","06","02"]
[null,"05 Ayacucho","06 Lucanas","03 Cabana","05","06","03","Ayacucho","Lucanas","Cabana","050603","AYACUCHO","LUCANAS","CABANA","05","06","03"]
[null,"05 Ayacucho","06 Lucanas","04 Carmen Salcedo","05","06","04","Ayacucho","Lucanas","Carmen Salcedo","050604","AYACUCHO","LUCANAS","CARMEN SALCEDO","05","06","04"]
[null,"05 Ayacucho","06 Lucanas","05 Chaviña","05","06","05","Ayacucho","Lucanas","Chaviña","050605","AYACUCHO","LUCANAS","CHAVIÑA","05","06","05"]
[null,"05 Ayacucho","06 Lucanas","06 Chipao","05","06","06","Ayacucho","Lucanas","Chipao","050606","AYACUCHO","LUCANAS","CHIPAO","05","06","06"]
[null,"05 Ayacucho","06 Lucanas","07 Huac-Huas","05","06","07","Ayacucho","Lucanas","Huac-Huas","050607","AYACUCHO","LUCANAS","HUAC-HUAS","05","06","07"]
[null,"05 Ayacucho","06 Lucanas","08 Laramate","05","06","08","Ayacucho","Lucanas","Laramate","050608","AYACUCHO","LUCANAS","LARAMATE","05","06","08"]
[null,"05 Ayacucho","06 Lucanas","09 Leoncio Prado","05","06","09","Ayacucho","Lucanas","Leoncio Prado","050609","AYACUCHO","LUCANAS","LEONCIO PRADO","05","06","09"]
[null,"05 Ayacucho","06 Lucanas","10 Llauta","05","06","10","Ayacucho","Lucanas","Llauta","050610","AYACUCHO","LUCANAS","LLAUTA","05","06","10"]
[null,"05 Ayacucho","06 Lucanas","11 Lucanas","05","06","11","Ayacucho","Lucanas","Lucanas","050611","AYACUCHO","LUCANAS","LUCANAS","05","06","11"]
[null,"05 Ayacucho","06 Lucanas","12 Ocaña","05","06","12","Ayacucho","Lucanas","Ocaña","050612","AYACUCHO","LUCANAS","OCAÑA","05","06","12"]
[null,"05 Ayacucho","06 Lucanas","13 Otoca","05","06","13","Ayacucho","Lucanas","Otoca","050613","AYACUCHO","LUCANAS","OTOCA","05","06","13"]
[null,"05 Ayacucho","06 Lucanas","14 Saisa","05","06","14","Ayacucho","Lucanas","Saisa","050614","AYACUCHO","LUCANAS","SAISA","05","06","14"]
[null,"05 Ayacucho","06 Lucanas","15 San Cristóbal","05","06","15","Ayacucho","Lucanas","San Cristóbal","050615","AYACUCHO","LUCANAS","SAN CRISTÓBAL","05","06","15"]
[null,"05 Ayacucho","06 Lucanas","16 San Juan","05","06","16","Ayacucho","Lucanas","San Juan","050616","AYACUCHO","LUCANAS","SAN JUAN","05","06","16"]
[null,"05 Ayacucho","06 Lucanas","17 San Pedro","05","06","17","Ayacucho","Lucanas","San Pedro","050617","AYACUCHO","LUCANAS","SAN PEDRO","05","06","17"]
[null,"05 Ayacucho","06 Lucanas","18 San Pedro de Palco","05","06","18","Ayacucho","Lucanas","San Pedro de Palco","050618","AYACUCHO","LUCANAS","SAN PEDRO DE PALCO","05","06","18"]
[null,"05 Ayacucho","06 Lucanas","19 Sancos","05","06","19","Ayacucho","Lucanas","Sancos","050619","AYACUCHO","LUCANAS","SANCOS","05","06","19"]
[null,"05 Ayacucho","06 Lucanas","20 Santa Ana de Huaycahuacho","05","06","20","Ayacucho","Lucanas","Santa Ana de Huaycahuacho","050620","AYACUCHO","LUCANAS","SANTA ANA DE HUAYCAHUACHO","05","06","20"]
[null,"05 Ayacucho","06 Lucanas","21 Santa Lucia",{"$f":"+MID(B516,1,2)","v":"05"},"06","21","Ayacucho","Lucanas","Santa Lucia",{"$f":"+CONCATENATE(E516,F516,G516)","v":"050621"},"AYACUCHO","LUCANAS","SANTA LUCIA","05","06","21"]
[null,"05 Ayacucho","07 Parinacochas","01 Coracora","05","07","01","Ayacucho","Parinacochas","Coracora","050701","AYACUCHO","PARINACOCHAS","CORACORA","05","07","01"]
[null,"05 Ayacucho","07 Parinacochas","02 Chumpi","05","07","02","Ayacucho","Parinacochas","Chumpi","050702","AYACUCHO","PARINACOCHAS","CHUMPI","05","07","02"]
[null,"05 Ayacucho","07 Parinacochas","03 Coronel Castañeda","05","07","03","Ayacucho","Parinacochas","Coronel Castañeda","050703","AYACUCHO","PARINACOCHAS","CORONEL CASTAÑEDA","05","07","03"]
[null,"05 Ayacucho","07 Parinacochas","04 Pacapausa","05","07","04","Ayacucho","Parinacochas","Pacapausa","050704","AYACUCHO","PARINACOCHAS","PACAPAUSA","05","07","04"]
[null,"05 Ayacucho","07 Parinacochas","05 Pullo","05","07","05","Ayacucho","Parinacochas","Pullo","050705","AYACUCHO","PARINACOCHAS","PULLO","05","07","05"]
[null,"05 Ayacucho","07 Parinacochas","06 Puyusca","05","07","06","Ayacucho","Parinacochas","Puyusca","050706","AYACUCHO","PARINACOCHAS","PUYUSCA","05","07","06"]
[null,"05 Ayacucho","07 Parinacochas","07 San Francisco de Ravacayco","05","07","07","Ayacucho","Parinacochas","San Francisco de Ravacayco","050707","AYACUCHO","PARINACOCHAS","SAN FRANCISCO DE RAVACAYCO","05","07","07"]
[null,"05 Ayacucho","07 Parinacochas","08 Upahuacho","05","07","08","Ayacucho","Parinacochas","Upahuacho","050708","AYACUCHO","PARINACOCHAS","UPAHUACHO","05","07","08"]
[null,"05 Ayacucho","08 Pàucar del Sara Sara","01 Pausa","05","08","01","Ayacucho","Pàucar del Sara Sara","Pausa","050801","AYACUCHO","PÀUCAR DEL SARA SARA","PAUSA","05","08","01"]
[null,"05 Ayacucho","08 Pàucar del Sara Sara","02 Colta","05","08","02","Ayacucho","Pàucar del Sara Sara","Colta","050802","AYACUCHO","PÀUCAR DEL SARA SARA","COLTA","05","08","02"]
[null,"05 Ayacucho","08 Pàucar del Sara Sara","03 Corculla","05","08","03","Ayacucho","Pàucar del Sara Sara","Corculla","050803","AYACUCHO","PÀUCAR DEL SARA SARA","CORCULLA","05","08","03"]
[null,"05 Ayacucho","08 Pàucar del Sara Sara","04 Lampa","05","08","04","Ayacucho","Pàucar del Sara Sara","Lampa","050804","AYACUCHO","PÀUCAR DEL SARA SARA","LAMPA","05","08","04"]
[null,"05 Ayacucho","08 Pàucar del Sara Sara","05 Marcabamba","05","08","05","Ayacucho","Pàucar del Sara Sara","Marcabamba","050805","AYACUCHO","PÀUCAR DEL SARA SARA","MARCABAMBA","05","08","05"]
[null,"05 Ayacucho","08 Pàucar del Sara Sara","06 Oyolo","05","08","06","Ayacucho","Pàucar del Sara Sara","Oyolo","050806","AYACUCHO","PÀUCAR DEL SARA SARA","OYOLO","05","08","06"]
[null,"05 Ayacucho","08 Pàucar del Sara Sara","07 Pararca","05","08","07","Ayacucho","Pàucar del Sara Sara","Pararca","050807","AYACUCHO","PÀUCAR DEL SARA SARA","PARARCA","05","08","07"]
[null,"05 Ayacucho","08 Pàucar del Sara Sara","08 San Javier de Alpabamba","05","08","08","Ayacucho","Pàucar del Sara Sara","San Javier de Alpabamba","050808","AYACUCHO","PÀUCAR DEL SARA SARA","SAN JAVIER DE ALPABAMBA","05","08","08"]
[null,"05 Ayacucho","08 Pàucar del Sara Sara","09 San José de Ushua","05","08","09","Ayacucho","Pàucar del Sara Sara","San José de Ushua","050809","AYACUCHO","PÀUCAR DEL SARA SARA","SAN JOSÉ DE USHUA","05","08","09"]
[null,"05 Ayacucho","08 Pàucar del Sara Sara","10 Sara Sara","05","08","10","Ayacucho","Pàucar del Sara Sara","Sara Sara","050810","AYACUCHO","PÀUCAR DEL SARA SARA","SARA SARA","05","08","10"]
[null,"05 Ayacucho","09 Sucre","01 Querobamba","05","09","01","Ayacucho","Sucre","Querobamba","050901","AYACUCHO","SUCRE","QUEROBAMBA","05","09","01"]
[null,"05 Ayacucho","09 Sucre","02 Belén","05","09","02","Ayacucho","Sucre","Belén","050902","AYACUCHO","SUCRE","BELÉN","05","09","02"]
[null,"05 Ayacucho","09 Sucre","03 Chalcos","05","09","03","Ayacucho","Sucre","Chalcos","050903","AYACUCHO","SUCRE","CHALCOS","05","09","03"]
[null,"05 Ayacucho","09 Sucre","04 Chilcayoc","05","09","04","Ayacucho","Sucre","Chilcayoc","050904","AYACUCHO","SUCRE","CHILCAYOC","05","09","04"]
[null,"05 Ayacucho","09 Sucre","05 Huacaña","05","09","05","Ayacucho","Sucre","Huacaña","050905","AYACUCHO","SUCRE","HUACAÑA","05","09","05"]
[null,"05 Ayacucho","09 Sucre","06 Morcolla","05","09","06","Ayacucho","Sucre","Morcolla","050906","AYACUCHO","SUCRE","MORCOLLA","05","09","06"]
[null,"05 Ayacucho","09 Sucre","07 Paico","05","09","07","Ayacucho","Sucre","Paico","050907","AYACUCHO","SUCRE","PAICO","05","09","07"]
[null,"05 Ayacucho","09 Sucre","08 San Pedro de Larcay","05","09","08","Ayacucho","Sucre","San Pedro de Larcay","050908","AYACUCHO","SUCRE","SAN PEDRO DE LARCAY","05","09","08"]
[null,"05 Ayacucho","09 Sucre","09 San Salvador de Quije","05","09","09","Ayacucho","Sucre","San Salvador de Quije","050909","AYACUCHO","SUCRE","SAN SALVADOR DE QUIJE","05","09","09"]
[null,"05 Ayacucho","09 Sucre","10 Santiago de Paucaray","05","09","10","Ayacucho","Sucre","Santiago de Paucaray","050910","AYACUCHO","SUCRE","SANTIAGO DE PAUCARAY","05","09","10"]
[null,"05 Ayacucho","09 Sucre","11 Soras","05","09","11","Ayacucho","Sucre","Soras","050911","AYACUCHO","SUCRE","SORAS","05","09","11"]
[null,"05 Ayacucho","10 Víctor Fajardo","01 Huancapi","05","10","01","Ayacucho","Víctor Fajardo","Huancapi","051001","AYACUCHO","VÍCTOR FAJARDO","HUANCAPI","05","10","01"]
[null,"05 Ayacucho","10 Víctor Fajardo","02 Alcamenca","05","10","02","Ayacucho","Víctor Fajardo","Alcamenca","051002","AYACUCHO","VÍCTOR FAJARDO","ALCAMENCA","05","10","02"]
[null,"05 Ayacucho","10 Víctor Fajardo","03 Apongo","05","10","03","Ayacucho","Víctor Fajardo","Apongo","051003","AYACUCHO","VÍCTOR FAJARDO","APONGO","05","10","03"]
[null,"05 Ayacucho","10 Víctor Fajardo","04 Asquipata","05","10","04","Ayacucho","Víctor Fajardo","Asquipata","051004","AYACUCHO","VÍCTOR FAJARDO","ASQUIPATA","05","10","04"]
[null,"05 Ayacucho","10 Víctor Fajardo","05 Canaria","05","10","05","Ayacucho","Víctor Fajardo","Canaria","051005","AYACUCHO","VÍCTOR FAJARDO","CANARIA","05","10","05"]
[null,"05 Ayacucho","10 Víctor Fajardo","06 Cayara","05","10","06","Ayacucho","Víctor Fajardo","Cayara","051006","AYACUCHO","VÍCTOR FAJARDO","CAYARA","05","10","06"]
[null,"05 Ayacucho","10 Víctor Fajardo","07 Colca","05","10","07","Ayacucho","Víctor Fajardo","Colca","051007","AYACUCHO","VÍCTOR FAJARDO","COLCA","05","10","07"]
[null,"05 Ayacucho","10 Víctor Fajardo","08 Huamanquiquia","05","10","08","Ayacucho","Víctor Fajardo","Huamanquiquia","051008","AYACUCHO","VÍCTOR FAJARDO","HUAMANQUIQUIA","05","10","08"]
[null,"05 Ayacucho","10 Víctor Fajardo","09 Huancaraylla","05","10","09","Ayacucho","Víctor Fajardo","Huancaraylla","051009","AYACUCHO","VÍCTOR FAJARDO","HUANCARAYLLA","05","10","09"]
[null,"05 Ayacucho","10 Víctor Fajardo","10 Hualla","05","10","10","Ayacucho","Víctor Fajardo","Hualla","051010","AYACUCHO","VÍCTOR FAJARDO","HUALLA","05","10","10"]
[null,"05 Ayacucho","10 Víctor Fajardo","11 Sarhua","05","10","11","Ayacucho","Víctor Fajardo","Sarhua","051011","AYACUCHO","VÍCTOR FAJARDO","SARHUA","05","10","11"]
[null,"05 Ayacucho","10 Víctor Fajardo","12 Vilcanchos","05","10","12","Ayacucho","Víctor Fajardo","Vilcanchos","051012","AYACUCHO","VÍCTOR FAJARDO","VILCANCHOS","05","10","12"]
[null,"05 Ayacucho","11 Vilcas Huamán","01 Vilcas Huaman","05","11","01","Ayacucho","Vilcas Huamán","Vilcas Huaman","051101","AYACUCHO","VILCAS HUAMÁN","VILCAS HUAMAN","05","11","01"]
[null,"05 Ayacucho","11 Vilcas Huamán","02 Accomarca","05","11","02","Ayacucho","Vilcas Huamán","Accomarca","051102","AYACUCHO","VILCAS HUAMÁN","ACCOMARCA","05","11","02"]
[null,"05 Ayacucho","11 Vilcas Huamán","03 Carhuanca","05","11","03","Ayacucho","Vilcas Huamán","Carhuanca","051103","AYACUCHO","VILCAS HUAMÁN","CARHUANCA","05","11","03"]
[null,"05 Ayacucho","11 Vilcas Huamán","04 Concepción","05","11","04","Ayacucho","Vilcas Huamán","Concepción","051104","AYACUCHO","VILCAS HUAMÁN","CONCEPCIÓN","05","11","04"]
[null,"05 Ayacucho","11 Vilcas Huamán","05 Huambalpa","05","11","05","Ayacucho","Vilcas Huamán","Huambalpa","051105","AYACUCHO","VILCAS HUAMÁN","HUAMBALPA","05","11","05"]
[null,"05 Ayacucho","11 Vilcas Huamán","06 Independencia","05","11","06","Ayacucho","Vilcas Huamán","Independencia","051106","AYACUCHO","VILCAS HUAMÁN","INDEPENDENCIA","05","11","06"]
[null,"05 Ayacucho","11 Vilcas Huamán","07 Saurama","05","11","07","Ayacucho","Vilcas Huamán","Saurama","051107","AYACUCHO","VILCAS HUAMÁN","SAURAMA","05","11","07"]
[null,"05 Ayacucho","11 Vilcas Huamán","08 Vischongo","05","11","08","Ayacucho","Vilcas Huamán","Vischongo","051108","AYACUCHO","VILCAS HUAMÁN","VISCHONGO","05","11","08"]
[null,"06 Cajamarca","01 Cajamarca","01 Cajamarca","06","01","01","Cajamarca","Cajamarca","Cajamarca","060101","CAJAMARCA","CAJAMARCA","CAJAMARCA","06","01","01"]
[null,"06 Cajamarca","01 Cajamarca","02 Asunción","06","01","02","Cajamarca","Cajamarca","Asunción","060102","CAJAMARCA","CAJAMARCA","ASUNCIÓN","06","01","02"]
[null,"06 Cajamarca","01 Cajamarca","03 Chetilla","06","01","03","Cajamarca","Cajamarca","Chetilla","060103","CAJAMARCA","CAJAMARCA","CHETILLA","06","01","03"]
[null,"06 Cajamarca","01 Cajamarca","04 Cospan","06","01","04","Cajamarca","Cajamarca","Cospan","060104","CAJAMARCA","CAJAMARCA","COSPAN","06","01","04"]
[null,"06 Cajamarca","01 Cajamarca","05 Encañada","06","01","05","Cajamarca","Cajamarca","Encañada","060105","CAJAMARCA","CAJAMARCA","ENCAÑADA","06","01","05"]
[null,"06 Cajamarca","01 Cajamarca","06 Jesús","06","01","06","Cajamarca","Cajamarca","Jesús","060106","CAJAMARCA","CAJAMARCA","JESÚS","06","01","06"]
[null,"06 Cajamarca","01 Cajamarca","07 Llacanora","06","01","07","Cajamarca","Cajamarca","Llacanora","060107","CAJAMARCA","CAJAMARCA","LLACANORA","06","01","07"]
[null,"06 Cajamarca","01 Cajamarca","08 Los Baños del Inca","06","01","08","Cajamarca","Cajamarca","Los Baños del Inca","060108","CAJAMARCA","CAJAMARCA","LOS BAÑOS DEL INCA","06","01","08"]
[null,"06 Cajamarca","01 Cajamarca","09 Magdalena","06","01","09","Cajamarca","Cajamarca","Magdalena","060109","CAJAMARCA","CAJAMARCA","MAGDALENA","06","01","09"]
[null,"06 Cajamarca","01 Cajamarca","10 Matara","06","01","10","Cajamarca","Cajamarca","Matara","060110","CAJAMARCA","CAJAMARCA","MATARA","06","01","10"]
[null,"06 Cajamarca","01 Cajamarca","11 Namora","06","01","11","Cajamarca","Cajamarca","Namora","060111","CAJAMARCA","CAJAMARCA","NAMORA","06","01","11"]
[null,"06 Cajamarca","01 Cajamarca","12 San Juan","06","01","12","Cajamarca","Cajamarca","San Juan","060112","CAJAMARCA","CAJAMARCA","SAN JUAN","06","01","12"]
[null,"06 Cajamarca","02 Cajabamba","01 Cajabamba","06","02","01","Cajamarca","Cajabamba","Cajabamba","060201","CAJAMARCA","CAJABAMBA","CAJABAMBA","06","02","01"]
[null,"06 Cajamarca","02 Cajabamba","02 Cachachi","06","02","02","Cajamarca","Cajabamba","Cachachi","060202","CAJAMARCA","CAJABAMBA","CACHACHI","06","02","02"]
[null,"06 Cajamarca","02 Cajabamba","03 Condebamba",{"$f":"+MID(B580,1,2)","v":"06"},"02","03","Cajamarca","Cajabamba","Condebamba",{"$f":"+CONCATENATE(E580,F580,G580)","v":"060203"},"CAJAMARCA","CAJABAMBA","CONDEBAMBA","06","02","03"]
[null,"06 Cajamarca","02 Cajabamba","04 Sitacocha","06","02","04","Cajamarca","Cajabamba","Sitacocha","060204","CAJAMARCA","CAJABAMBA","SITACOCHA","06","02","04"]
[null,"06 Cajamarca","03 Celendín","01 Celendín","06","03","01","Cajamarca","Celendín","Celendín","060301","CAJAMARCA","CELENDÍN","CELENDÍN","06","03","01"]
[null,"06 Cajamarca","03 Celendín","02 Chumuch","06","03","02","Cajamarca","Celendín","Chumuch","060302","CAJAMARCA","CELENDÍN","CHUMUCH","06","03","02"]
[null,"06 Cajamarca","03 Celendín","03 Cortegana","06","03","03","Cajamarca","Celendín","Cortegana","060303","CAJAMARCA","CELENDÍN","CORTEGANA","06","03","03"]
[null,"06 Cajamarca","03 Celendín","04 Huasmin","06","03","04","Cajamarca","Celendín","Huasmin","060304","CAJAMARCA","CELENDÍN","HUASMIN","06","03","04"]
[null,"06 Cajamarca","03 Celendín","05 Jorge Chávez","06","03","05","Cajamarca","Celendín","Jorge Chávez","060305","CAJAMARCA","CELENDÍN","JORGE CHÁVEZ","06","03","05"]
[null,"06 Cajamarca","03 Celendín","06 José Gálvez","06","03","06","Cajamarca","Celendín","José Gálvez","060306","CAJAMARCA","CELENDÍN","JOSÉ GÁLVEZ","06","03","06"]
[null,"06 Cajamarca","03 Celendín","07 Miguel Iglesias","06","03","07","Cajamarca","Celendín","Miguel Iglesias","060307","CAJAMARCA","CELENDÍN","MIGUEL IGLESIAS","06","03","07"]
[null,"06 Cajamarca","03 Celendín","08 Oxamarca","06","03","08","Cajamarca","Celendín","Oxamarca","060308","CAJAMARCA","CELENDÍN","OXAMARCA","06","03","08"]
[null,"06 Cajamarca","03 Celendín","09 Sorochuco","06","03","09","Cajamarca","Celendín","Sorochuco","060309","CAJAMARCA","CELENDÍN","SOROCHUCO","06","03","09"]
[null,"06 Cajamarca","03 Celendín","10 Sucre","06","03","10","Cajamarca","Celendín","Sucre","060310","CAJAMARCA","CELENDÍN","SUCRE","06","03","10"]
[null,"06 Cajamarca","03 Celendín","11 Utco","06","03","11","Cajamarca","Celendín","Utco","060311","CAJAMARCA","CELENDÍN","UTCO","06","03","11"]
[null,"06 Cajamarca","03 Celendín","12 La Libertad de Pallan","06","03","12","Cajamarca","Celendín","La Libertad de Pallan","060312","CAJAMARCA","CELENDÍN","LA LIBERTAD DE PALLAN","06","03","12"]
[null,"06 Cajamarca","04 Chota","01 Chota","06","04","01","Cajamarca","Chota","Chota","060401","CAJAMARCA","CHOTA","CHOTA","06","04","01"]
[null,"06 Cajamarca","04 Chota","02 Anguia","06","04","02","Cajamarca","Chota","Anguia","060402","CAJAMARCA","CHOTA","ANGUIA","06","04","02"]
[null,"06 Cajamarca","04 Chota","03 Chadin","06","04","03","Cajamarca","Chota","Chadin","060403","CAJAMARCA","CHOTA","CHADIN","06","04","03"]
[null,"06 Cajamarca","04 Chota","04 Chiguirip","06","04","04","Cajamarca","Chota","Chiguirip","060404","CAJAMARCA","CHOTA","CHIGUIRIP","06","04","04"]
[null,"06 Cajamarca","04 Chota","05 Chimban","06","04","05","Cajamarca","Chota","Chimban","060405","CAJAMARCA","CHOTA","CHIMBAN","06","04","05"]
[null,"06 Cajamarca","04 Chota","06 Choropampa","06","04","06","Cajamarca","Chota","Choropampa","060406","CAJAMARCA","CHOTA","CHOROPAMPA","06","04","06"]
[null,"06 Cajamarca","04 Chota","07 Cochabamba","06","04","07","Cajamarca","Chota","Cochabamba","060407","CAJAMARCA","CHOTA","COCHABAMBA","06","04","07"]
[null,"06 Cajamarca","04 Chota","08 Conchan","06","04","08","Cajamarca","Chota","Conchan","060408","CAJAMARCA","CHOTA","CONCHAN","06","04","08"]
[null,"06 Cajamarca","04 Chota","09 Huambos","06","04","09","Cajamarca","Chota","Huambos","060409","CAJAMARCA","CHOTA","HUAMBOS","06","04","09"]
[null,"06 Cajamarca","04 Chota","10 Lajas","06","04","10","Cajamarca","Chota","Lajas","060410","CAJAMARCA","CHOTA","LAJAS","06","04","10"]
[null,"06 Cajamarca","04 Chota","11 Llama","06","04","11","Cajamarca","Chota","Llama","060411","CAJAMARCA","CHOTA","LLAMA","06","04","11"]
[null,"06 Cajamarca","04 Chota","12 Miracosta","06","04","12","Cajamarca","Chota","Miracosta","060412","CAJAMARCA","CHOTA","MIRACOSTA","06","04","12"]
[null,"06 Cajamarca","04 Chota","13 Paccha","06","04","13","Cajamarca","Chota","Paccha","060413","CAJAMARCA","CHOTA","PACCHA","06","04","13"]
[null,"06 Cajamarca","04 Chota","14 Pion","06","04","14","Cajamarca","Chota","Pion","060414","CAJAMARCA","CHOTA","PION","06","04","14"]
[null,"06 Cajamarca","04 Chota","15 Querocoto","06","04","15","Cajamarca","Chota","Querocoto","060415","CAJAMARCA","CHOTA","QUEROCOTO","06","04","15"]
[null,"06 Cajamarca","04 Chota","16 San Juan de Licupis","06","04","16","Cajamarca","Chota","San Juan de Licupis","060416","CAJAMARCA","CHOTA","SAN JUAN DE LICUPIS","06","04","16"]
[null,"06 Cajamarca","04 Chota","17 Tacabamba","06","04","17","Cajamarca","Chota","Tacabamba","060417","CAJAMARCA","CHOTA","TACABAMBA","06","04","17"]
[null,"06 Cajamarca","04 Chota","18 Tocmoche","06","04","18","Cajamarca","Chota","Tocmoche","060418","CAJAMARCA","CHOTA","TOCMOCHE","06","04","18"]
[null,"06 Cajamarca","04 Chota","19 Chalamarca","06","04","19","Cajamarca","Chota","Chalamarca","060419","CAJAMARCA","CHOTA","CHALAMARCA","06","04","19"]
[null,"06 Cajamarca","05 Contumazá","01 Contumaza","06","05","01","Cajamarca","Contumazá","Contumaza","060501","CAJAMARCA","CONTUMAZÁ","CONTUMAZA","06","05","01"]
[null,"06 Cajamarca","05 Contumazá","02 Chilete","06","05","02","Cajamarca","Contumazá","Chilete","060502","CAJAMARCA","CONTUMAZÁ","CHILETE","06","05","02"]
[null,"06 Cajamarca","05 Contumazá","03 Cupisnique","06","05","03","Cajamarca","Contumazá","Cupisnique","060503","CAJAMARCA","CONTUMAZÁ","CUPISNIQUE","06","05","03"]
[null,"06 Cajamarca","05 Contumazá","04 Guzmango","06","05","04","Cajamarca","Contumazá","Guzmango","060504","CAJAMARCA","CONTUMAZÁ","GUZMANGO","06","05","04"]
[null,"06 Cajamarca","05 Contumazá","05 San Benito","06","05","05","Cajamarca","Contumazá","San Benito","060505","CAJAMARCA","CONTUMAZÁ","SAN BENITO","06","05","05"]
[null,"06 Cajamarca","05 Contumazá","06 Santa Cruz de Toledo","06","05","06","Cajamarca","Contumazá","Santa Cruz de Toledo","060506","CAJAMARCA","CONTUMAZÁ","SANTA CRUZ DE TOLEDO","06","05","06"]
[null,"06 Cajamarca","05 Contumazá","07 Tantarica","06","05","07","Cajamarca","Contumazá","Tantarica","060507","CAJAMARCA","CONTUMAZÁ","TANTARICA","06","05","07"]
[null,"06 Cajamarca","05 Contumazá","08 Yonan","06","05","08","Cajamarca","Contumazá","Yonan","060508","CAJAMARCA","CONTUMAZÁ","YONAN","06","05","08"]
[null,"06 Cajamarca","06 Cutervo","01 Cutervo","06","06","01","Cajamarca","Cutervo","Cutervo","060601","CAJAMARCA","CUTERVO","CUTERVO","06","06","01"]
[null,"06 Cajamarca","06 Cutervo","02 Callayuc","06","06","02","Cajamarca","Cutervo","Callayuc","060602","CAJAMARCA","CUTERVO","CALLAYUC","06","06","02"]
[null,"06 Cajamarca","06 Cutervo","03 Choros","06","06","03","Cajamarca","Cutervo","Choros","060603","CAJAMARCA","CUTERVO","CHOROS","06","06","03"]
[null,"06 Cajamarca","06 Cutervo","04 Cujillo","06","06","04","Cajamarca","Cutervo","Cujillo","060604","CAJAMARCA","CUTERVO","CUJILLO","06","06","04"]
[null,"06 Cajamarca","06 Cutervo","05 La Ramada","06","06","05","Cajamarca","Cutervo","La Ramada","060605","CAJAMARCA","CUTERVO","LA RAMADA","06","06","05"]
[null,"06 Cajamarca","06 Cutervo","06 Pimpingos","06","06","06","Cajamarca","Cutervo","Pimpingos","060606","CAJAMARCA","CUTERVO","PIMPINGOS","06","06","06"]
[null,"06 Cajamarca","06 Cutervo","07 Querocotillo","06","06","07","Cajamarca","Cutervo","Querocotillo","060607","CAJAMARCA","CUTERVO","QUEROCOTILLO","06","06","07"]
[null,"06 Cajamarca","06 Cutervo","08 San Andrés de Cutervo","06","06","08","Cajamarca","Cutervo","San Andrés de Cutervo","060608","CAJAMARCA","CUTERVO","SAN ANDRÉS DE CUTERVO","06","06","08"]
[null,"06 Cajamarca","06 Cutervo","09 San Juan de Cutervo","06","06","09","Cajamarca","Cutervo","San Juan de Cutervo","060609","CAJAMARCA","CUTERVO","SAN JUAN DE CUTERVO","06","06","09"]
[null,"06 Cajamarca","06 Cutervo","10 San Luis de Lucma","06","06","10","Cajamarca","Cutervo","San Luis de Lucma","060610","CAJAMARCA","CUTERVO","SAN LUIS DE LUCMA","06","06","10"]
[null,"06 Cajamarca","06 Cutervo","11 Santa Cruz","06","06","11","Cajamarca","Cutervo","Santa Cruz","060611","CAJAMARCA","CUTERVO","SANTA CRUZ","06","06","11"]
[null,"06 Cajamarca","06 Cutervo","12 Santo Domingo de la Capilla","06","06","12","Cajamarca","Cutervo","Santo Domingo de la Capilla","060612","CAJAMARCA","CUTERVO","SANTO DOMINGO DE LA CAPILLA","06","06","12"]
[null,"06 Cajamarca","06 Cutervo","13 Santo Tomas","06","06","13","Cajamarca","Cutervo","Santo Tomas","060613","CAJAMARCA","CUTERVO","SANTO TOMAS","06","06","13"]
[null,"06 Cajamarca","06 Cutervo","14 Socota","06","06","14","Cajamarca","Cutervo","Socota","060614","CAJAMARCA","CUTERVO","SOCOTA","06","06","14"]
[null,"06 Cajamarca","06 Cutervo","15 Toribio Casanova","06","06","15","Cajamarca","Cutervo","Toribio Casanova","060615","CAJAMARCA","CUTERVO","TORIBIO CASANOVA","06","06","15"]
[null,"06 Cajamarca","07 Hualgayoc","01 Bambamarca","06","07","01","Cajamarca","Hualgayoc","Bambamarca","060701","CAJAMARCA","HUALGAYOC","BAMBAMARCA","06","07","01"]
[null,"06 Cajamarca","07 Hualgayoc","02 Chugur","06","07","02","Cajamarca","Hualgayoc","Chugur","060702","CAJAMARCA","HUALGAYOC","CHUGUR","06","07","02"]
[null,"06 Cajamarca","07 Hualgayoc","03 Hualgayoc","06","07","03","Cajamarca","Hualgayoc","Hualgayoc","060703","CAJAMARCA","HUALGAYOC","HUALGAYOC","06","07","03"]
[null,"06 Cajamarca","08 Jaén","01 Jaén","06","08","01","Cajamarca","Jaén","Jaén","060801","CAJAMARCA","JAÉN","JAÉN","06","08","01"]
[null,"06 Cajamarca","08 Jaén","02 Bellavista","06","08","02","Cajamarca","Jaén","Bellavista","060802","CAJAMARCA","JAÉN","BELLAVISTA","06","08","02"]
[null,"06 Cajamarca","08 Jaén","03 Chontali","06","08","03","Cajamarca","Jaén","Chontali","060803","CAJAMARCA","JAÉN","CHONTALI","06","08","03"]
[null,"06 Cajamarca","08 Jaén","04 Colasay","06","08","04","Cajamarca","Jaén","Colasay","060804","CAJAMARCA","JAÉN","COLASAY","06","08","04"]
[null,"06 Cajamarca","08 Jaén","05 Huabal","06","08","05","Cajamarca","Jaén","Huabal","060805","CAJAMARCA","JAÉN","HUABAL","06","08","05"]
[null,"06 Cajamarca","08 Jaén","06 Las Pirias",{"$f":"+MID(B644,1,2)","v":"06"},"08","06","Cajamarca","Jaén","Las Pirias",{"$f":"+CONCATENATE(E644,F644,G644)","v":"060806"},"CAJAMARCA","JAÉN","LAS PIRIAS","06","08","06"]
[null,"06 Cajamarca","08 Jaén","07 Pomahuaca","06","08","07","Cajamarca","Jaén","Pomahuaca","060807","CAJAMARCA","JAÉN","POMAHUACA","06","08","07"]
[null,"06 Cajamarca","08 Jaén","08 Pucara","06","08","08","Cajamarca","Jaén","Pucara","060808","CAJAMARCA","JAÉN","PUCARA","06","08","08"]
[null,"06 Cajamarca","08 Jaén","09 Sallique","06","08","09","Cajamarca","Jaén","Sallique","060809","CAJAMARCA","JAÉN","SALLIQUE","06","08","09"]
[null,"06 Cajamarca","08 Jaén","10 San Felipe","06","08","10","Cajamarca","Jaén","San Felipe","060810","CAJAMARCA","JAÉN","SAN FELIPE","06","08","10"]
[null,"06 Cajamarca","08 Jaén","11 San José del Alto","06","08","11","Cajamarca","Jaén","San José del Alto","060811","CAJAMARCA","JAÉN","SAN JOSÉ DEL ALTO","06","08","11"]
[null,"06 Cajamarca","08 Jaén","12 Santa Rosa","06","08","12","Cajamarca","Jaén","Santa Rosa","060812","CAJAMARCA","JAÉN","SANTA ROSA","06","08","12"]
[null,"06 Cajamarca","09 San Ignacio","01 San Ignacio","06","09","01","Cajamarca","San Ignacio","San Ignacio","060901","CAJAMARCA","SAN IGNACIO","SAN IGNACIO","06","09","01"]
[null,"06 Cajamarca","09 San Ignacio","02 Chirinos","06","09","02","Cajamarca","San Ignacio","Chirinos","060902","CAJAMARCA","SAN IGNACIO","CHIRINOS","06","09","02"]
[null,"06 Cajamarca","09 San Ignacio","03 Huarango","06","09","03","Cajamarca","San Ignacio","Huarango","060903","CAJAMARCA","SAN IGNACIO","HUARANGO","06","09","03"]
[null,"06 Cajamarca","09 San Ignacio","04 La Coipa","06","09","04","Cajamarca","San Ignacio","La Coipa","060904","CAJAMARCA","SAN IGNACIO","LA COIPA","06","09","04"]
[null,"06 Cajamarca","09 San Ignacio","05 Namballe","06","09","05","Cajamarca","San Ignacio","Namballe","060905","CAJAMARCA","SAN IGNACIO","NAMBALLE","06","09","05"]
[null,"06 Cajamarca","09 San Ignacio","06 San José de Lourdes","06","09","06","Cajamarca","San Ignacio","San José de Lourdes","060906","CAJAMARCA","SAN IGNACIO","SAN JOSÉ DE LOURDES","06","09","06"]
[null,"06 Cajamarca","09 San Ignacio","07 Tabaconas","06","09","07","Cajamarca","San Ignacio","Tabaconas","060907","CAJAMARCA","SAN IGNACIO","TABACONAS","06","09","07"]
[null,"06 Cajamarca","10 San Marcos","01 Pedro Gálvez","06","10","01","Cajamarca","San Marcos","Pedro Gálvez","061001","CAJAMARCA","SAN MARCOS","PEDRO GÁLVEZ","06","10","01"]
[null,"06 Cajamarca","10 San Marcos","02 Chancay","06","10","02","Cajamarca","San Marcos","Chancay","061002","CAJAMARCA","SAN MARCOS","CHANCAY","06","10","02"]
[null,"06 Cajamarca","10 San Marcos","03 Eduardo Villanueva","06","10","03","Cajamarca","San Marcos","Eduardo Villanueva","061003","CAJAMARCA","SAN MARCOS","EDUARDO VILLANUEVA","06","10","03"]
[null,"06 Cajamarca","10 San Marcos","04 Gregorio Pita","06","10","04","Cajamarca","San Marcos","Gregorio Pita","061004","CAJAMARCA","SAN MARCOS","GREGORIO PITA","06","10","04"]
[null,"06 Cajamarca","10 San Marcos","05 Ichocan","06","10","05","Cajamarca","San Marcos","Ichocan","061005","CAJAMARCA","SAN MARCOS","ICHOCAN","06","10","05"]
[null,"06 Cajamarca","10 San Marcos","06 José Manuel Quiroz","06","10","06","Cajamarca","San Marcos","José Manuel Quiroz","061006","CAJAMARCA","SAN MARCOS","JOSÉ MANUEL QUIROZ","06","10","06"]
[null,"06 Cajamarca","10 San Marcos","07 José Sabogal","06","10","07","Cajamarca","San Marcos","José Sabogal","061007","CAJAMARCA","SAN MARCOS","JOSÉ SABOGAL","06","10","07"]
[null,"06 Cajamarca","11 San Miguel","01 San Miguel","06","11","01","Cajamarca","San Miguel","San Miguel","061101","CAJAMARCA","SAN MIGUEL","SAN MIGUEL","06","11","01"]
[null,"06 Cajamarca","11 San Miguel","02 Bolívar","06","11","02","Cajamarca","San Miguel","Bolívar","061102","CAJAMARCA","SAN MIGUEL","BOLÍVAR","06","11","02"]
[null,"06 Cajamarca","11 San Miguel","03 Calquis","06","11","03","Cajamarca","San Miguel","Calquis","061103","CAJAMARCA","SAN MIGUEL","CALQUIS","06","11","03"]
[null,"06 Cajamarca","11 San Miguel","04 Catilluc","06","11","04","Cajamarca","San Miguel","Catilluc","061104","CAJAMARCA","SAN MIGUEL","CATILLUC","06","11","04"]
[null,"06 Cajamarca","11 San Miguel","05 El Prado","06","11","05","Cajamarca","San Miguel","El Prado","061105","CAJAMARCA","SAN MIGUEL","EL PRADO","06","11","05"]
[null,"06 Cajamarca","11 San Miguel","06 La Florida","06","11","06","Cajamarca","San Miguel","La Florida","061106","CAJAMARCA","SAN MIGUEL","LA FLORIDA","06","11","06"]
[null,"06 Cajamarca","11 San Miguel","07 Llapa","06","11","07","Cajamarca","San Miguel","Llapa","061107","CAJAMARCA","SAN MIGUEL","LLAPA","06","11","07"]
[null,"06 Cajamarca","11 San Miguel","08 Nanchoc","06","11","08","Cajamarca","San Miguel","Nanchoc","061108","CAJAMARCA","SAN MIGUEL","NANCHOC","06","11","08"]
[null,"06 Cajamarca","11 San Miguel","09 Niepos","06","11","09","Cajamarca","San Miguel","Niepos","061109","CAJAMARCA","SAN MIGUEL","NIEPOS","06","11","09"]
[null,"06 Cajamarca","11 San Miguel","10 San Gregorio","06","11","10","Cajamarca","San Miguel","San Gregorio","061110","CAJAMARCA","SAN MIGUEL","SAN GREGORIO","06","11","10"]
[null,"06 Cajamarca","11 San Miguel","11 San Silvestre de Cochan","06","11","11","Cajamarca","San Miguel","San Silvestre de Cochan","061111","CAJAMARCA","SAN MIGUEL","SAN SILVESTRE DE COCHAN","06","11","11"]
[null,"06 Cajamarca","11 San Miguel","12 Tongod","06","11","12","Cajamarca","San Miguel","Tongod","061112","CAJAMARCA","SAN MIGUEL","TONGOD","06","11","12"]
[null,"06 Cajamarca","11 San Miguel","13 Unión Agua Blanca","06","11","13","Cajamarca","San Miguel","Unión Agua Blanca","061113","CAJAMARCA","SAN MIGUEL","UNIÓN AGUA BLANCA","06","11","13"]
[null,"06 Cajamarca","12 San Pablo","01 San Pablo","06","12","01","Cajamarca","San Pablo","San Pablo","061201","CAJAMARCA","SAN PABLO","SAN PABLO","06","12","01"]
[null,"06 Cajamarca","12 San Pablo","02 San Bernardino","06","12","02","Cajamarca","San Pablo","San Bernardino","061202","CAJAMARCA","SAN PABLO","SAN BERNARDINO","06","12","02"]
[null,"06 Cajamarca","12 San Pablo","03 San Luis","06","12","03","Cajamarca","San Pablo","San Luis","061203","CAJAMARCA","SAN PABLO","SAN LUIS","06","12","03"]
[null,"06 Cajamarca","12 San Pablo","04 Tumbaden","06","12","04","Cajamarca","San Pablo","Tumbaden","061204","CAJAMARCA","SAN PABLO","TUMBADEN","06","12","04"]
[null,"06 Cajamarca","13 Santa Cruz","01 Santa Cruz","06","13","01","Cajamarca","Santa Cruz","Santa Cruz","061301","CAJAMARCA","SANTA CRUZ","SANTA CRUZ","06","13","01"]
[null,"06 Cajamarca","13 Santa Cruz","02 Andabamba","06","13","02","Cajamarca","Santa Cruz","Andabamba","061302","CAJAMARCA","SANTA CRUZ","ANDABAMBA","06","13","02"]
[null,"06 Cajamarca","13 Santa Cruz","03 Catache","06","13","03","Cajamarca","Santa Cruz","Catache","061303","CAJAMARCA","SANTA CRUZ","CATACHE","06","13","03"]
[null,"06 Cajamarca","13 Santa Cruz","04 Chancaybaños","06","13","04","Cajamarca","Santa Cruz","Chancaybaños","061304","CAJAMARCA","SANTA CRUZ","CHANCAYBAÑOS","06","13","04"]
[null,"06 Cajamarca","13 Santa Cruz","05 La Esperanza","06","13","05","Cajamarca","Santa Cruz","La Esperanza","061305","CAJAMARCA","SANTA CRUZ","LA ESPERANZA","06","13","05"]
[null,"06 Cajamarca","13 Santa Cruz","06 Ninabamba","06","13","06","Cajamarca","Santa Cruz","Ninabamba","061306","CAJAMARCA","SANTA CRUZ","NINABAMBA","06","13","06"]
[null,"06 Cajamarca","13 Santa Cruz","07 Pulan","06","13","07","Cajamarca","Santa Cruz","Pulan","061307","CAJAMARCA","SANTA CRUZ","PULAN","06","13","07"]
[null,"06 Cajamarca","13 Santa Cruz","08 Saucepampa","06","13","08","Cajamarca","Santa Cruz","Saucepampa","061308","CAJAMARCA","SANTA CRUZ","SAUCEPAMPA","06","13","08"]
[null,"06 Cajamarca","13 Santa Cruz","09 Sexi","06","13","09","Cajamarca","Santa Cruz","Sexi","061309","CAJAMARCA","SANTA CRUZ","SEXI","06","13","09"]
[null,"06 Cajamarca","13 Santa Cruz","10 Uticyacu","06","13","10","Cajamarca","Santa Cruz","Uticyacu","061310","CAJAMARCA","SANTA CRUZ","UTICYACU","06","13","10"]
[null,"06 Cajamarca","13 Santa Cruz","11 Yauyucan","06","13","11","Cajamarca","Santa Cruz","Yauyucan","061311","CAJAMARCA","SANTA CRUZ","YAUYUCAN","06","13","11"]
[null,"08 Cusco","01 Cusco","01 Cusco","08","01","01","Cusco","Cusco","Cusco","080101","CUSCO","CUSCO","CUSCO","08","01","01"]
[null,"08 Cusco","01 Cusco","02 Ccorca","08","01","02","Cusco","Cusco","Ccorca","080102","CUSCO","CUSCO","CCORCA","08","01","02"]
[null,"08 Cusco","01 Cusco","03 Poroy","08","01","03","Cusco","Cusco","Poroy","080103","CUSCO","CUSCO","POROY","08","01","03"]
[null,"08 Cusco","01 Cusco","04 San Jerónimo","08","01","04","Cusco","Cusco","San Jerónimo","080104","CUSCO","CUSCO","SAN JERÓNIMO","08","01","04"]
[null,"08 Cusco","01 Cusco","05 San Sebastian","08","01","05","Cusco","Cusco","San Sebastian","080105","CUSCO","CUSCO","SAN SEBASTIAN","08","01","05"]
[null,"08 Cusco","01 Cusco","06 Santiago","08","01","06","Cusco","Cusco","Santiago","080106","CUSCO","CUSCO","SANTIAGO","08","01","06"]
[null,"08 Cusco","01 Cusco","07 Saylla","08","01","07","Cusco","Cusco","Saylla","080107","CUSCO","CUSCO","SAYLLA","08","01","07"]
[null,"08 Cusco","01 Cusco","08 Wanchaq","08","01","08","Cusco","Cusco","Wanchaq","080108","CUSCO","CUSCO","WANCHAQ","08","01","08"]
[null,"08 Cusco","02 Acomayo","01 Acomayo","08","02","01","Cusco","Acomayo","Acomayo","080201","CUSCO","ACOMAYO","ACOMAYO","08","02","01"]
[null,"08 Cusco","02 Acomayo","02 Acopia","08","02","02","Cusco","Acomayo","Acopia","080202","CUSCO","ACOMAYO","ACOPIA","08","02","02"]
[null,"08 Cusco","02 Acomayo","03 Acos","08","02","03","Cusco","Acomayo","Acos","080203","CUSCO","ACOMAYO","ACOS","08","02","03"]
[null,"08 Cusco","02 Acomayo","04 Mosoc Llacta","08","02","04","Cusco","Acomayo","Mosoc Llacta","080204","CUSCO","ACOMAYO","MOSOC LLACTA","08","02","04"]
[null,"08 Cusco","02 Acomayo","05 Pomacanchi","08","02","05","Cusco","Acomayo","Pomacanchi","080205","CUSCO","ACOMAYO","POMACANCHI","08","02","05"]
[null,"08 Cusco","02 Acomayo","06 Rondocan","08","02","06","Cusco","Acomayo","Rondocan","080206","CUSCO","ACOMAYO","RONDOCAN","08","02","06"]
[null,"08 Cusco","02 Acomayo","07 Sangarara","08","02","07","Cusco","Acomayo","Sangarara","080207","CUSCO","ACOMAYO","SANGARARA","08","02","07"]
[null,"08 Cusco","03 Anta","01 Anta",{"$f":"+MID(B708,1,2)","v":"08"},"03","01","Cusco","Anta","Anta",{"$f":"+CONCATENATE(E708,F708,G708)","v":"080301"},"CUSCO","ANTA","ANTA","08","03","01"]
[null,"08 Cusco","03 Anta","02 Ancahuasi","08","03","02","Cusco","Anta","Ancahuasi","080302","CUSCO","ANTA","ANCAHUASI","08","03","02"]
[null,"08 Cusco","03 Anta","03 Cachimayo","08","03","03","Cusco","Anta","Cachimayo","080303","CUSCO","ANTA","CACHIMAYO","08","03","03"]
[null,"08 Cusco","03 Anta","04 Chinchaypujio","08","03","04","Cusco","Anta","Chinchaypujio","080304","CUSCO","ANTA","CHINCHAYPUJIO","08","03","04"]
[null,"08 Cusco","03 Anta","05 Huarocondo","08","03","05","Cusco","Anta","Huarocondo","080305","CUSCO","ANTA","HUAROCONDO","08","03","05"]
[null,"08 Cusco","03 Anta","06 Limatambo","08","03","06","Cusco","Anta","Limatambo","080306","CUSCO","ANTA","LIMATAMBO","08","03","06"]
[null,"08 Cusco","03 Anta","07 Mollepata","08","03","07","Cusco","Anta","Mollepata","080307","CUSCO","ANTA","MOLLEPATA","08","03","07"]
[null,"08 Cusco","03 Anta","08 Pucyura","08","03","08","Cusco","Anta","Pucyura","080308","CUSCO","ANTA","PUCYURA","08","03","08"]
[null,"08 Cusco","03 Anta","09 Zurite","08","03","09","Cusco","Anta","Zurite","080309","CUSCO","ANTA","ZURITE","08","03","09"]
[null,"08 Cusco","04 Calca","01 Calca","08","04","01","Cusco","Calca","Calca","080401","CUSCO","CALCA","CALCA","08","04","01"]
[null,"08 Cusco","04 Calca","02 Coya","08","04","02","Cusco","Calca","Coya","080402","CUSCO","CALCA","COYA","08","04","02"]
[null,"08 Cusco","04 Calca","03 Lamay","08","04","03","Cusco","Calca","Lamay","080403","CUSCO","CALCA","LAMAY","08","04","03"]
[null,"08 Cusco","04 Calca","04 Lares","08","04","04","Cusco","Calca","Lares","080404","CUSCO","CALCA","LARES","08","04","04"]
[null,"08 Cusco","04 Calca","05 Pisac","08","04","05","Cusco","Calca","Pisac","080405","CUSCO","CALCA","PISAC","08","04","05"]
[null,"08 Cusco","04 Calca","06 San Salvador","08","04","06","Cusco","Calca","San Salvador","080406","CUSCO","CALCA","SAN SALVADOR","08","04","06"]
[null,"08 Cusco","04 Calca","07 Taray","08","04","07","Cusco","Calca","Taray","080407","CUSCO","CALCA","TARAY","08","04","07"]
[null,"08 Cusco","04 Calca","08 Yanatile","08","04","08","Cusco","Calca","Yanatile","080408","CUSCO","CALCA","YANATILE","08","04","08"]
[null,"08 Cusco","05 Canas","01 Yanaoca","08","05","01","Cusco","Canas","Yanaoca","080501","CUSCO","CANAS","YANAOCA","08","05","01"]
[null,"08 Cusco","05 Canas","02 Checca","08","05","02","Cusco","Canas","Checca","080502","CUSCO","CANAS","CHECCA","08","05","02"]
[null,"08 Cusco","05 Canas","03 Kunturkanki","08","05","03","Cusco","Canas","Kunturkanki","080503","CUSCO","CANAS","KUNTURKANKI","08","05","03"]
[null,"08 Cusco","05 Canas","04 Langui","08","05","04","Cusco","Canas","Langui","080504","CUSCO","CANAS","LANGUI","08","05","04"]
[null,"08 Cusco","05 Canas","05 Layo","08","05","05","Cusco","Canas","Layo","080505","CUSCO","CANAS","LAYO","08","05","05"]
[null,"08 Cusco","05 Canas","06 Pampamarca","08","05","06","Cusco","Canas","Pampamarca","080506","CUSCO","CANAS","PAMPAMARCA","08","05","06"]
[null,"08 Cusco","05 Canas","07 Quehue","08","05","07","Cusco","Canas","Quehue","080507","CUSCO","CANAS","QUEHUE","08","05","07"]
[null,"08 Cusco","05 Canas","08 Tupac Amaru","08","05","08","Cusco","Canas","Tupac Amaru","080508","CUSCO","CANAS","TUPAC AMARU","08","05","08"]
[null,"08 Cusco","06 Canchis","01 Sicuani","08","06","01","Cusco","Canchis","Sicuani","080601","CUSCO","CANCHIS","SICUANI","08","06","01"]
[null,"08 Cusco","06 Canchis","02 Checacupe","08","06","02","Cusco","Canchis","Checacupe","080602","CUSCO","CANCHIS","CHECACUPE","08","06","02"]
[null,"08 Cusco","06 Canchis","03 Combapata","08","06","03","Cusco","Canchis","Combapata","080603","CUSCO","CANCHIS","COMBAPATA","08","06","03"]
[null,"08 Cusco","06 Canchis","04 Marangani","08","06","04","Cusco","Canchis","Marangani","080604","CUSCO","CANCHIS","MARANGANI","08","06","04"]
[null,"08 Cusco","06 Canchis","05 Pitumarca","08","06","05","Cusco","Canchis","Pitumarca","080605","CUSCO","CANCHIS","PITUMARCA","08","06","05"]
[null,"08 Cusco","06 Canchis","06 San Pablo","08","06","06","Cusco","Canchis","San Pablo","080606","CUSCO","CANCHIS","SAN PABLO","08","06","06"]
[null,"08 Cusco","06 Canchis","07 San Pedro","08","06","07","Cusco","Canchis","San Pedro","080607","CUSCO","CANCHIS","SAN PEDRO","08","06","07"]
[null,"08 Cusco","06 Canchis","08 Tinta","08","06","08","Cusco","Canchis","Tinta","080608","CUSCO","CANCHIS","TINTA","08","06","08"]
[null,"08 Cusco","07 Chumbivilcas","01 Santo Tomas","08","07","01","Cusco","Chumbivilcas","Santo Tomas","080701","CUSCO","CHUMBIVILCAS","SANTO TOMAS","08","07","01"]
[null,"08 Cusco","07 Chumbivilcas","02 Capacmarca","08","07","02","Cusco","Chumbivilcas","Capacmarca","080702","CUSCO","CHUMBIVILCAS","CAPACMARCA","08","07","02"]
[null,"08 Cusco","07 Chumbivilcas","03 Chamaca","08","07","03","Cusco","Chumbivilcas","Chamaca","080703","CUSCO","CHUMBIVILCAS","CHAMACA","08","07","03"]
[null,"08 Cusco","07 Chumbivilcas","04 Colquemarca","08","07","04","Cusco","Chumbivilcas","Colquemarca","080704","CUSCO","CHUMBIVILCAS","COLQUEMARCA","08","07","04"]
[null,"08 Cusco","07 Chumbivilcas","05 Livitaca","08","07","05","Cusco","Chumbivilcas","Livitaca","080705","CUSCO","CHUMBIVILCAS","LIVITACA","08","07","05"]
[null,"08 Cusco","07 Chumbivilcas","06 Llusco","08","07","06","Cusco","Chumbivilcas","Llusco","080706","CUSCO","CHUMBIVILCAS","LLUSCO","08","07","06"]
[null,"08 Cusco","07 Chumbivilcas","07 Quiñota","08","07","07","Cusco","Chumbivilcas","Quiñota","080707","CUSCO","CHUMBIVILCAS","QUIÑOTA","08","07","07"]
[null,"08 Cusco","07 Chumbivilcas","08 Velille","08","07","08","Cusco","Chumbivilcas","Velille","080708","CUSCO","CHUMBIVILCAS","VELILLE","08","07","08"]
[null,"08 Cusco","08 Espinar","01 Espinar","08","08","01","Cusco","Espinar","Espinar","080801","CUSCO","ESPINAR","ESPINAR","08","08","01"]
[null,"08 Cusco","08 Espinar","02 Condoroma","08","08","02","Cusco","Espinar","Condoroma","080802","CUSCO","ESPINAR","CONDOROMA","08","08","02"]
[null,"08 Cusco","08 Espinar","03 Coporaque","08","08","03","Cusco","Espinar","Coporaque","080803","CUSCO","ESPINAR","COPORAQUE","08","08","03"]
[null,"08 Cusco","08 Espinar","04 Ocoruro","08","08","04","Cusco","Espinar","Ocoruro","080804","CUSCO","ESPINAR","OCORURO","08","08","04"]
[null,"08 Cusco","08 Espinar","05 Pallpata","08","08","05","Cusco","Espinar","Pallpata","080805","CUSCO","ESPINAR","PALLPATA","08","08","05"]
[null,"08 Cusco","08 Espinar","06 Pichigua","08","08","06","Cusco","Espinar","Pichigua","080806","CUSCO","ESPINAR","PICHIGUA","08","08","06"]
[null,"08 Cusco","08 Espinar","07 Suyckutambo","08","08","07","Cusco","Espinar","Suyckutambo","080807","CUSCO","ESPINAR","SUYCKUTAMBO","08","08","07"]
[null,"08 Cusco","08 Espinar","08 Alto Pichigua","08","08","08","Cusco","Espinar","Alto Pichigua","080808","CUSCO","ESPINAR","ALTO PICHIGUA","08","08","08"]
[null,"08 Cusco","09 La Convención","01 Santa Ana","08","09","01","Cusco","La Convención","Santa Ana","080901","CUSCO","LA CONVENCIÓN","SANTA ANA","08","09","01"]
[null,"08 Cusco","09 La Convención","02 Echarate","08","09","02","Cusco","La Convención","Echarate","080902","CUSCO","LA CONVENCIÓN","ECHARATE","08","09","02"]
[null,"08 Cusco","09 La Convención","03 Huayopata","08","09","03","Cusco","La Convención","Huayopata","080903","CUSCO","LA CONVENCIÓN","HUAYOPATA","08","09","03"]
[null,"08 Cusco","09 La Convención","04 Maranura","08","09","04","Cusco","La Convención","Maranura","080904","CUSCO","LA CONVENCIÓN","MARANURA","08","09","04"]
[null,"08 Cusco","09 La Convención","05 Ocobamba","08","09","05","Cusco","La Convención","Ocobamba","080905","CUSCO","LA CONVENCIÓN","OCOBAMBA","08","09","05"]
[null,"08 Cusco","09 La Convención","06 Quellouno","08","09","06","Cusco","La Convención","Quellouno","080906","CUSCO","LA CONVENCIÓN","QUELLOUNO","08","09","06"]
[null,"08 Cusco","09 La Convención","07 Kimbiri","08","09","07","Cusco","La Convención","Kimbiri","080907","CUSCO","LA CONVENCIÓN","KIMBIRI","08","09","07"]
[null,"08 Cusco","09 La Convención","08 Santa Teresa","08","09","08","Cusco","La Convención","Santa Teresa","080908","CUSCO","LA CONVENCIÓN","SANTA TERESA","08","09","08"]
[null,"08 Cusco","09 La Convención","09 Vilcabamba","08","09","09","Cusco","La Convención","Vilcabamba","080909","CUSCO","LA CONVENCIÓN","VILCABAMBA","08","09","09"]
[null,"08 Cusco","09 La Convención","10 Pichari","08","09","10","Cusco","La Convención","Pichari","080910","CUSCO","LA CONVENCIÓN","PICHARI","08","09","10"]
[null,"08 Cusco","09 La Convención","11 Inkawasi","08","09","11","Cusco","La Convención","Inkawasi","080911","CUSCO","LA CONVENCIÓN","INKAWASI","08","09","11"]
[null,"08 Cusco","09 La Convención","12 Villa Virgen","08","09","12","Cusco","La Convención","Villa Virgen","080912","CUSCO","LA CONVENCIÓN","VILLA VIRGEN","08","09","12"]
[null,"08 Cusco","09 La Convención","13 Villa Kintiarina","08","09","13","Cusco","La Convención","Villa Kintiarina","080913","CUSCO","LA CONVENCIÓN","VILLA KINTIARINA","08","09","13"]
[null,"08 Cusco","09 La Convención","14 Megantoni","08","09","14","Cusco","La Convención","Megantoni","080914","CUSCO","LA CONVENCIÓN","MEGANTONI","08","09","14"]
[null,"08 Cusco","10 Paruro","01 Paruro","08","10","01","Cusco","Paruro","Paruro","081001","CUSCO","PARURO","PARURO","08","10","01"]
[null,"08 Cusco","10 Paruro","02 Accha",{"$f":"+MID(B772,1,2)","v":"08"},"10","02","Cusco","Paruro","Accha",{"$f":"+CONCATENATE(E772,F772,G772)","v":"081002"},"CUSCO","PARURO","ACCHA","08","10","02"]
[null,"08 Cusco","10 Paruro","03 Ccapi","08","10","03","Cusco","Paruro","Ccapi","081003","CUSCO","PARURO","CCAPI","08","10","03"]
[null,"08 Cusco","10 Paruro","04 Colcha","08","10","04","Cusco","Paruro","Colcha","081004","CUSCO","PARURO","COLCHA","08","10","04"]
[null,"08 Cusco","10 Paruro","05 Huanoquite","08","10","05","Cusco","Paruro","Huanoquite","081005","CUSCO","PARURO","HUANOQUITE","08","10","05"]
[null,"08 Cusco","10 Paruro","06 Omacha","08","10","06","Cusco","Paruro","Omacha","081006","CUSCO","PARURO","OMACHA","08","10","06"]
[null,"08 Cusco","10 Paruro","07 Paccaritambo","08","10","07","Cusco","Paruro","Paccaritambo","081007","CUSCO","PARURO","PACCARITAMBO","08","10","07"]
[null,"08 Cusco","10 Paruro","08 Pillpinto","08","10","08","Cusco","Paruro","Pillpinto","081008","CUSCO","PARURO","PILLPINTO","08","10","08"]
[null,"08 Cusco","10 Paruro","09 Yaurisque","08","10","09","Cusco","Paruro","Yaurisque","081009","CUSCO","PARURO","YAURISQUE","08","10","09"]
[null,"08 Cusco","11 Paucartambo","01 Paucartambo","08","11","01","Cusco","Paucartambo","Paucartambo","081101","CUSCO","PAUCARTAMBO","PAUCARTAMBO","08","11","01"]
[null,"08 Cusco","11 Paucartambo","02 Caicay","08","11","02","Cusco","Paucartambo","Caicay","081102","CUSCO","PAUCARTAMBO","CAICAY","08","11","02"]
[null,"08 Cusco","11 Paucartambo","03 Challabamba","08","11","03","Cusco","Paucartambo","Challabamba","081103","CUSCO","PAUCARTAMBO","CHALLABAMBA","08","11","03"]
[null,"08 Cusco","11 Paucartambo","04 Colquepata","08","11","04","Cusco","Paucartambo","Colquepata","081104","CUSCO","PAUCARTAMBO","COLQUEPATA","08","11","04"]
[null,"08 Cusco","11 Paucartambo","05 Huancarani","08","11","05","Cusco","Paucartambo","Huancarani","081105","CUSCO","PAUCARTAMBO","HUANCARANI","08","11","05"]
[null,"08 Cusco","11 Paucartambo","06 Kosñipata","08","11","06","Cusco","Paucartambo","Kosñipata","081106","CUSCO","PAUCARTAMBO","KOSÑIPATA","08","11","06"]
[null,"08 Cusco","12 Quispicanchi","01 Urcos","08","12","01","Cusco","Quispicanchi","Urcos","081201","CUSCO","QUISPICANCHI","URCOS","08","12","01"]
[null,"08 Cusco","12 Quispicanchi","02 Andahuaylillas","08","12","02","Cusco","Quispicanchi","Andahuaylillas","081202","CUSCO","QUISPICANCHI","ANDAHUAYLILLAS","08","12","02"]
[null,"08 Cusco","12 Quispicanchi","03 Camanti","08","12","03","Cusco","Quispicanchi","Camanti","081203","CUSCO","QUISPICANCHI","CAMANTI","08","12","03"]
[null,"08 Cusco","12 Quispicanchi","04 Ccarhuayo","08","12","04","Cusco","Quispicanchi","Ccarhuayo","081204","CUSCO","QUISPICANCHI","CCARHUAYO","08","12","04"]
[null,"08 Cusco","12 Quispicanchi","05 Ccatca","08","12","05","Cusco","Quispicanchi","Ccatca","081205","CUSCO","QUISPICANCHI","CCATCA","08","12","05"]
[null,"08 Cusco","12 Quispicanchi","06 Cusipata","08","12","06","Cusco","Quispicanchi","Cusipata","081206","CUSCO","QUISPICANCHI","CUSIPATA","08","12","06"]
[null,"08 Cusco","12 Quispicanchi","07 Huaro","08","12","07","Cusco","Quispicanchi","Huaro","081207","CUSCO","QUISPICANCHI","HUARO","08","12","07"]
[null,"08 Cusco","12 Quispicanchi","08 Lucre","08","12","08","Cusco","Quispicanchi","Lucre","081208","CUSCO","QUISPICANCHI","LUCRE","08","12","08"]
[null,"08 Cusco","12 Quispicanchi","09 Marcapata","08","12","09","Cusco","Quispicanchi","Marcapata","081209","CUSCO","QUISPICANCHI","MARCAPATA","08","12","09"]
[null,"08 Cusco","12 Quispicanchi","10 Ocongate","08","12","10","Cusco","Quispicanchi","Ocongate","081210","CUSCO","QUISPICANCHI","OCONGATE","08","12","10"]
[null,"08 Cusco","12 Quispicanchi","11 Oropesa","08","12","11","Cusco","Quispicanchi","Oropesa","081211","CUSCO","QUISPICANCHI","OROPESA","08","12","11"]
[null,"08 Cusco","12 Quispicanchi","12 Quiquijana","08","12","12","Cusco","Quispicanchi","Quiquijana","081212","CUSCO","QUISPICANCHI","QUIQUIJANA","08","12","12"]
[null,"08 Cusco","13 Urubamba","01 Urubamba","08","13","01","Cusco","Urubamba","Urubamba","081301","CUSCO","URUBAMBA","URUBAMBA","08","13","01"]
[null,"08 Cusco","13 Urubamba","02 Chinchero","08","13","02","Cusco","Urubamba","Chinchero","081302","CUSCO","URUBAMBA","CHINCHERO","08","13","02"]
[null,"08 Cusco","13 Urubamba","03 Huayllabamba","08","13","03","Cusco","Urubamba","Huayllabamba","081303","CUSCO","URUBAMBA","HUAYLLABAMBA","08","13","03"]
[null,"08 Cusco","13 Urubamba","04 Machupicchu","08","13","04","Cusco","Urubamba","Machupicchu","081304","CUSCO","URUBAMBA","MACHUPICCHU","08","13","04"]
[null,"08 Cusco","13 Urubamba","05 Maras","08","13","05","Cusco","Urubamba","Maras","081305","CUSCO","URUBAMBA","MARAS","08","13","05"]
[null,"08 Cusco","13 Urubamba","06 Ollantaytambo","08","13","06","Cusco","Urubamba","Ollantaytambo","081306","CUSCO","URUBAMBA","OLLANTAYTAMBO","08","13","06"]
[null,"08 Cusco","13 Urubamba","07 Yucay","08","13","07","Cusco","Urubamba","Yucay","081307","CUSCO","URUBAMBA","YUCAY","08","13","07"]
[null,"09 Huancavelica","01 Huancavelica","01 Huancavelica","09","01","01","Huancavelica","Huancavelica","Huancavelica","090101","HUANCAVELICA","HUANCAVELICA","HUANCAVELICA","09","01","01"]
[null,"09 Huancavelica","01 Huancavelica","02 Acobambilla","09","01","02","Huancavelica","Huancavelica","Acobambilla","090102","HUANCAVELICA","HUANCAVELICA","ACOBAMBILLA","09","01","02"]
[null,"09 Huancavelica","01 Huancavelica","03 Acoria","09","01","03","Huancavelica","Huancavelica","Acoria","090103","HUANCAVELICA","HUANCAVELICA","ACORIA","09","01","03"]
[null,"09 Huancavelica","01 Huancavelica","04 Conayca","09","01","04","Huancavelica","Huancavelica","Conayca","090104","HUANCAVELICA","HUANCAVELICA","CONAYCA","09","01","04"]
[null,"09 Huancavelica","01 Huancavelica","05 Cuenca","09","01","05","Huancavelica","Huancavelica","Cuenca","090105","HUANCAVELICA","HUANCAVELICA","CUENCA","09","01","05"]
[null,"09 Huancavelica","01 Huancavelica","06 Huachocolpa","09","01","06","Huancavelica","Huancavelica","Huachocolpa","090106","HUANCAVELICA","HUANCAVELICA","HUACHOCOLPA","09","01","06"]
[null,"09 Huancavelica","01 Huancavelica","07 Huayllahuara","09","01","07","Huancavelica","Huancavelica","Huayllahuara","090107","HUANCAVELICA","HUANCAVELICA","HUAYLLAHUARA","09","01","07"]
[null,"09 Huancavelica","01 Huancavelica","08 Izcuchaca","09","01","08","Huancavelica","Huancavelica","Izcuchaca","090108","HUANCAVELICA","HUANCAVELICA","IZCUCHACA","09","01","08"]
[null,"09 Huancavelica","01 Huancavelica","09 Laria","09","01","09","Huancavelica","Huancavelica","Laria","090109","HUANCAVELICA","HUANCAVELICA","LARIA","09","01","09"]
[null,"09 Huancavelica","01 Huancavelica","10 Manta","09","01","10","Huancavelica","Huancavelica","Manta","090110","HUANCAVELICA","HUANCAVELICA","MANTA","09","01","10"]
[null,"09 Huancavelica","01 Huancavelica","11 Mariscal Cáceres","09","01","11","Huancavelica","Huancavelica","Mariscal Cáceres","090111","HUANCAVELICA","HUANCAVELICA","MARISCAL CÁCERES","09","01","11"]
[null,"09 Huancavelica","01 Huancavelica","12 Moya","09","01","12","Huancavelica","Huancavelica","Moya","090112","HUANCAVELICA","HUANCAVELICA","MOYA","09","01","12"]
[null,"09 Huancavelica","01 Huancavelica","13 Nuevo Occoro","09","01","13","Huancavelica","Huancavelica","Nuevo Occoro","090113","HUANCAVELICA","HUANCAVELICA","NUEVO OCCORO","09","01","13"]
[null,"09 Huancavelica","01 Huancavelica","14 Palca","09","01","14","Huancavelica","Huancavelica","Palca","090114","HUANCAVELICA","HUANCAVELICA","PALCA","09","01","14"]
[null,"09 Huancavelica","01 Huancavelica","15 Pilchaca","09","01","15","Huancavelica","Huancavelica","Pilchaca","090115","HUANCAVELICA","HUANCAVELICA","PILCHACA","09","01","15"]
[null,"09 Huancavelica","01 Huancavelica","16 Vilca","09","01","16","Huancavelica","Huancavelica","Vilca","090116","HUANCAVELICA","HUANCAVELICA","VILCA","09","01","16"]
[null,"09 Huancavelica","01 Huancavelica","17 Yauli","09","01","17","Huancavelica","Huancavelica","Yauli","090117","HUANCAVELICA","HUANCAVELICA","YAULI","09","01","17"]
[null,"09 Huancavelica","01 Huancavelica","18 Ascensión","09","01","18","Huancavelica","Huancavelica","Ascensión","090118","HUANCAVELICA","HUANCAVELICA","ASCENSIÓN","09","01","18"]
[null,"09 Huancavelica","01 Huancavelica","19 Huando","09","01","19","Huancavelica","Huancavelica","Huando","090119","HUANCAVELICA","HUANCAVELICA","HUANDO","09","01","19"]
[null,"09 Huancavelica","02 Acobamba","01 Acobamba","09","02","01","Huancavelica","Acobamba","Acobamba","090201","HUANCAVELICA","ACOBAMBA","ACOBAMBA","09","02","01"]
[null,"09 Huancavelica","02 Acobamba","02 Andabamba","09","02","02","Huancavelica","Acobamba","Andabamba","090202","HUANCAVELICA","ACOBAMBA","ANDABAMBA","09","02","02"]
[null,"09 Huancavelica","02 Acobamba","03 Anta","09","02","03","Huancavelica","Acobamba","Anta","090203","HUANCAVELICA","ACOBAMBA","ANTA","09","02","03"]
[null,"09 Huancavelica","02 Acobamba","04 Caja","09","02","04","Huancavelica","Acobamba","Caja","090204","HUANCAVELICA","ACOBAMBA","CAJA","09","02","04"]
[null,"09 Huancavelica","02 Acobamba","05 Marcas","09","02","05","Huancavelica","Acobamba","Marcas","090205","HUANCAVELICA","ACOBAMBA","MARCAS","09","02","05"]
[null,"09 Huancavelica","02 Acobamba","06 Paucara","09","02","06","Huancavelica","Acobamba","Paucara","090206","HUANCAVELICA","ACOBAMBA","PAUCARA","09","02","06"]
[null,"09 Huancavelica","02 Acobamba","07 Pomacocha","09","02","07","Huancavelica","Acobamba","Pomacocha","090207","HUANCAVELICA","ACOBAMBA","POMACOCHA","09","02","07"]
[null,"09 Huancavelica","02 Acobamba","08 Rosario","09","02","08","Huancavelica","Acobamba","Rosario","090208","HUANCAVELICA","ACOBAMBA","ROSARIO","09","02","08"]
[null,"09 Huancavelica","03 Angaraes","01 Lircay","09","03","01","Huancavelica","Angaraes","Lircay","090301","HUANCAVELICA","ANGARAES","LIRCAY","09","03","01"]
[null,"09 Huancavelica","03 Angaraes","02 Anchonga","09","03","02","Huancavelica","Angaraes","Anchonga","090302","HUANCAVELICA","ANGARAES","ANCHONGA","09","03","02"]
[null,"09 Huancavelica","03 Angaraes","03 Callanmarca","09","03","03","Huancavelica","Angaraes","Callanmarca","090303","HUANCAVELICA","ANGARAES","CALLANMARCA","09","03","03"]
[null,"09 Huancavelica","03 Angaraes","04 Ccochaccasa","09","03","04","Huancavelica","Angaraes","Ccochaccasa","090304","HUANCAVELICA","ANGARAES","CCOCHACCASA","09","03","04"]
[null,"09 Huancavelica","03 Angaraes","05 Chincho",{"$f":"+MID(B836,1,2)","v":"09"},"03","05","Huancavelica","Angaraes","Chincho",{"$f":"+CONCATENATE(E836,F836,G836)","v":"090305"},"HUANCAVELICA","ANGARAES","CHINCHO","09","03","05"]
[null,"09 Huancavelica","03 Angaraes","06 Congalla","09","03","06","Huancavelica","Angaraes","Congalla","090306","HUANCAVELICA","ANGARAES","CONGALLA","09","03","06"]
[null,"09 Huancavelica","03 Angaraes","07 Huanca-Huanca","09","03","07","Huancavelica","Angaraes","Huanca-Huanca","090307","HUANCAVELICA","ANGARAES","HUANCA-HUANCA","09","03","07"]
[null,"09 Huancavelica","03 Angaraes","08 Huayllay Grande","09","03","08","Huancavelica","Angaraes","Huayllay Grande","090308","HUANCAVELICA","ANGARAES","HUAYLLAY GRANDE","09","03","08"]
[null,"09 Huancavelica","03 Angaraes","09 Julcamarca","09","03","09","Huancavelica","Angaraes","Julcamarca","090309","HUANCAVELICA","ANGARAES","JULCAMARCA","09","03","09"]
[null,"09 Huancavelica","03 Angaraes","10 San Antonio de Antaparco","09","03","10","Huancavelica","Angaraes","San Antonio de Antaparco","090310","HUANCAVELICA","ANGARAES","SAN ANTONIO DE ANTAPARCO","09","03","10"]
[null,"09 Huancavelica","03 Angaraes","11 Santo Tomas de Pata","09","03","11","Huancavelica","Angaraes","Santo Tomas de Pata","090311","HUANCAVELICA","ANGARAES","SANTO TOMAS DE PATA","09","03","11"]
[null,"09 Huancavelica","03 Angaraes","12 Secclla","09","03","12","Huancavelica","Angaraes","Secclla","090312","HUANCAVELICA","ANGARAES","SECCLLA","09","03","12"]
[null,"09 Huancavelica","04 Castrovirreyna","01 Castrovirreyna","09","04","01","Huancavelica","Castrovirreyna","Castrovirreyna","090401","HUANCAVELICA","CASTROVIRREYNA","CASTROVIRREYNA","09","04","01"]
[null,"09 Huancavelica","04 Castrovirreyna","02 Arma","09","04","02","Huancavelica","Castrovirreyna","Arma","090402","HUANCAVELICA","CASTROVIRREYNA","ARMA","09","04","02"]
[null,"09 Huancavelica","04 Castrovirreyna","03 Aurahua","09","04","03","Huancavelica","Castrovirreyna","Aurahua","090403","HUANCAVELICA","CASTROVIRREYNA","AURAHUA","09","04","03"]
[null,"09 Huancavelica","04 Castrovirreyna","04 Capillas","09","04","04","Huancavelica","Castrovirreyna","Capillas","090404","HUANCAVELICA","CASTROVIRREYNA","CAPILLAS","09","04","04"]
[null,"09 Huancavelica","04 Castrovirreyna","05 Chupamarca","09","04","05","Huancavelica","Castrovirreyna","Chupamarca","090405","HUANCAVELICA","CASTROVIRREYNA","CHUPAMARCA","09","04","05"]
[null,"09 Huancavelica","04 Castrovirreyna","06 Cocas","09","04","06","Huancavelica","Castrovirreyna","Cocas","090406","HUANCAVELICA","CASTROVIRREYNA","COCAS","09","04","06"]
[null,"09 Huancavelica","04 Castrovirreyna","07 Huachos","09","04","07","Huancavelica","Castrovirreyna","Huachos","090407","HUANCAVELICA","CASTROVIRREYNA","HUACHOS","09","04","07"]
[null,"09 Huancavelica","04 Castrovirreyna","08 Huamatambo","09","04","08","Huancavelica","Castrovirreyna","Huamatambo","090408","HUANCAVELICA","CASTROVIRREYNA","HUAMATAMBO","09","04","08"]
[null,"09 Huancavelica","04 Castrovirreyna","09 Mollepampa","09","04","09","Huancavelica","Castrovirreyna","Mollepampa","090409","HUANCAVELICA","CASTROVIRREYNA","MOLLEPAMPA","09","04","09"]
[null,"09 Huancavelica","04 Castrovirreyna","10 San Juan","09","04","10","Huancavelica","Castrovirreyna","San Juan","090410","HUANCAVELICA","CASTROVIRREYNA","SAN JUAN","09","04","10"]
[null,"09 Huancavelica","04 Castrovirreyna","11 Santa Ana","09","04","11","Huancavelica","Castrovirreyna","Santa Ana","090411","HUANCAVELICA","CASTROVIRREYNA","SANTA ANA","09","04","11"]
[null,"09 Huancavelica","04 Castrovirreyna","12 Tantara","09","04","12","Huancavelica","Castrovirreyna","Tantara","090412","HUANCAVELICA","CASTROVIRREYNA","TANTARA","09","04","12"]
[null,"09 Huancavelica","04 Castrovirreyna","13 Ticrapo","09","04","13","Huancavelica","Castrovirreyna","Ticrapo","090413","HUANCAVELICA","CASTROVIRREYNA","TICRAPO","09","04","13"]
[null,"09 Huancavelica","05 Churcampa","01 Churcampa","09","05","01","Huancavelica","Churcampa","Churcampa","090501","HUANCAVELICA","CHURCAMPA","CHURCAMPA","09","05","01"]
[null,"09 Huancavelica","05 Churcampa","02 Anco","09","05","02","Huancavelica","Churcampa","Anco","090502","HUANCAVELICA","CHURCAMPA","ANCO","09","05","02"]
[null,"09 Huancavelica","05 Churcampa","03 Chinchihuasi","09","05","03","Huancavelica","Churcampa","Chinchihuasi","090503","HUANCAVELICA","CHURCAMPA","CHINCHIHUASI","09","05","03"]
[null,"09 Huancavelica","05 Churcampa","04 El Carmen","09","05","04","Huancavelica","Churcampa","El Carmen","090504","HUANCAVELICA","CHURCAMPA","EL CARMEN","09","05","04"]
[null,"09 Huancavelica","05 Churcampa","05 La Merced","09","05","05","Huancavelica","Churcampa","La Merced","090505","HUANCAVELICA","CHURCAMPA","LA MERCED","09","05","05"]
[null,"09 Huancavelica","05 Churcampa","06 Locroja","09","05","06","Huancavelica","Churcampa","Locroja","090506","HUANCAVELICA","CHURCAMPA","LOCROJA","09","05","06"]
[null,"09 Huancavelica","05 Churcampa","07 Paucarbamba","09","05","07","Huancavelica","Churcampa","Paucarbamba","090507","HUANCAVELICA","CHURCAMPA","PAUCARBAMBA","09","05","07"]
[null,"09 Huancavelica","05 Churcampa","08 San Miguel de Mayocc","09","05","08","Huancavelica","Churcampa","San Miguel de Mayocc","090508","HUANCAVELICA","CHURCAMPA","SAN MIGUEL DE MAYOCC","09","05","08"]
[null,"09 Huancavelica","05 Churcampa","09 San Pedro de Coris","09","05","09","Huancavelica","Churcampa","San Pedro de Coris","090509","HUANCAVELICA","CHURCAMPA","SAN PEDRO DE CORIS","09","05","09"]
[null,"09 Huancavelica","05 Churcampa","10 Pachamarca","09","05","10","Huancavelica","Churcampa","Pachamarca","090510","HUANCAVELICA","CHURCAMPA","PACHAMARCA","09","05","10"]
[null,"09 Huancavelica","05 Churcampa","11 Cosme","09","05","11","Huancavelica","Churcampa","Cosme","090511","HUANCAVELICA","CHURCAMPA","COSME","09","05","11"]
[null,"09 Huancavelica","06 Huaytará","01 Huaytara","09","06","01","Huancavelica","Huaytará","Huaytara","090601","HUANCAVELICA","HUAYTARÁ","HUAYTARA","09","06","01"]
[null,"09 Huancavelica","06 Huaytará","02 Ayavi","09","06","02","Huancavelica","Huaytará","Ayavi","090602","HUANCAVELICA","HUAYTARÁ","AYAVI","09","06","02"]
[null,"09 Huancavelica","06 Huaytará","03 Córdova","09","06","03","Huancavelica","Huaytará","Córdova","090603","HUANCAVELICA","HUAYTARÁ","CÓRDOVA","09","06","03"]
[null,"09 Huancavelica","06 Huaytará","04 Huayacundo Arma","09","06","04","Huancavelica","Huaytará","Huayacundo Arma","090604","HUANCAVELICA","HUAYTARÁ","HUAYACUNDO ARMA","09","06","04"]
[null,"09 Huancavelica","06 Huaytará","05 Laramarca","09","06","05","Huancavelica","Huaytará","Laramarca","090605","HUANCAVELICA","HUAYTARÁ","LARAMARCA","09","06","05"]
[null,"09 Huancavelica","06 Huaytará","06 Ocoyo","09","06","06","Huancavelica","Huaytará","Ocoyo","090606","HUANCAVELICA","HUAYTARÁ","OCOYO","09","06","06"]
[null,"09 Huancavelica","06 Huaytará","07 Pilpichaca","09","06","07","Huancavelica","Huaytará","Pilpichaca","090607","HUANCAVELICA","HUAYTARÁ","PILPICHACA","09","06","07"]
[null,"09 Huancavelica","06 Huaytará","08 Querco","09","06","08","Huancavelica","Huaytará","Querco","090608","HUANCAVELICA","HUAYTARÁ","QUERCO","09","06","08"]
[null,"09 Huancavelica","06 Huaytará","09 Quito-Arma","09","06","09","Huancavelica","Huaytará","Quito-Arma","090609","HUANCAVELICA","HUAYTARÁ","QUITO-ARMA","09","06","09"]
[null,"09 Huancavelica","06 Huaytará","10 San Antonio de Cusicancha","09","06","10","Huancavelica","Huaytará","San Antonio de Cusicancha","090610","HUANCAVELICA","HUAYTARÁ","SAN ANTONIO DE CUSICANCHA","09","06","10"]
[null,"09 Huancavelica","06 Huaytará","11 San Francisco de Sangayaico","09","06","11","Huancavelica","Huaytará","San Francisco de Sangayaico","090611","HUANCAVELICA","HUAYTARÁ","SAN FRANCISCO DE SANGAYAICO","09","06","11"]
[null,"09 Huancavelica","06 Huaytará","12 San Isidro","09","06","12","Huancavelica","Huaytará","San Isidro","090612","HUANCAVELICA","HUAYTARÁ","SAN ISIDRO","09","06","12"]
[null,"09 Huancavelica","06 Huaytará","13 Santiago de Chocorvos","09","06","13","Huancavelica","Huaytará","Santiago de Chocorvos","090613","HUANCAVELICA","HUAYTARÁ","SANTIAGO DE CHOCORVOS","09","06","13"]
[null,"09 Huancavelica","06 Huaytará","14 Santiago de Quirahuara","09","06","14","Huancavelica","Huaytará","Santiago de Quirahuara","090614","HUANCAVELICA","HUAYTARÁ","SANTIAGO DE QUIRAHUARA","09","06","14"]
[null,"09 Huancavelica","06 Huaytará","15 Santo Domingo de Capillas","09","06","15","Huancavelica","Huaytará","Santo Domingo de Capillas","090615","HUANCAVELICA","HUAYTARÁ","SANTO DOMINGO DE CAPILLAS","09","06","15"]
[null,"09 Huancavelica","06 Huaytará","16 Tambo","09","06","16","Huancavelica","Huaytará","Tambo","090616","HUANCAVELICA","HUAYTARÁ","TAMBO","09","06","16"]
[null,"09 Huancavelica","07 Tayacaja","01 Pampas","09","07","01","Huancavelica","Tayacaja","Pampas","090701","HUANCAVELICA","TAYACAJA","PAMPAS","09","07","01"]
[null,"09 Huancavelica","07 Tayacaja","02 Acostambo","09","07","02","Huancavelica","Tayacaja","Acostambo","090702","HUANCAVELICA","TAYACAJA","ACOSTAMBO","09","07","02"]
[null,"09 Huancavelica","07 Tayacaja","03 Acraquia","09","07","03","Huancavelica","Tayacaja","Acraquia","090703","HUANCAVELICA","TAYACAJA","ACRAQUIA","09","07","03"]
[null,"09 Huancavelica","07 Tayacaja","04 Ahuaycha","09","07","04","Huancavelica","Tayacaja","Ahuaycha","090704","HUANCAVELICA","TAYACAJA","AHUAYCHA","09","07","04"]
[null,"09 Huancavelica","07 Tayacaja","05 Colcabamba","09","07","05","Huancavelica","Tayacaja","Colcabamba","090705","HUANCAVELICA","TAYACAJA","COLCABAMBA","09","07","05"]
[null,"09 Huancavelica","07 Tayacaja","06 Daniel Hernández","09","07","06","Huancavelica","Tayacaja","Daniel Hernández","090706","HUANCAVELICA","TAYACAJA","DANIEL HERNÁNDEZ","09","07","06"]
[null,"09 Huancavelica","07 Tayacaja","07 Huachocolpa","09","07","07","Huancavelica","Tayacaja","Huachocolpa","090707","HUANCAVELICA","TAYACAJA","HUACHOCOLPA","09","07","07"]
[null,"09 Huancavelica","07 Tayacaja","09 Huaribamba","09","07","09","Huancavelica","Tayacaja","Huaribamba","090709","HUANCAVELICA","TAYACAJA","HUARIBAMBA","09","07","09"]
[null,"09 Huancavelica","07 Tayacaja","10 Ñahuimpuquio","09","07","10","Huancavelica","Tayacaja","Ñahuimpuquio","090710","HUANCAVELICA","TAYACAJA","ÑAHUIMPUQUIO","09","07","10"]
[null,"09 Huancavelica","07 Tayacaja","11 Pazos","09","07","11","Huancavelica","Tayacaja","Pazos","090711","HUANCAVELICA","TAYACAJA","PAZOS","09","07","11"]
[null,"09 Huancavelica","07 Tayacaja","13 Quishuar","09","07","13","Huancavelica","Tayacaja","Quishuar","090713","HUANCAVELICA","TAYACAJA","QUISHUAR","09","07","13"]
[null,"09 Huancavelica","07 Tayacaja","14 Salcabamba","09","07","14","Huancavelica","Tayacaja","Salcabamba","090714","HUANCAVELICA","TAYACAJA","SALCABAMBA","09","07","14"]
[null,"09 Huancavelica","07 Tayacaja","15 Salcahuasi","09","07","15","Huancavelica","Tayacaja","Salcahuasi","090715","HUANCAVELICA","TAYACAJA","SALCAHUASI","09","07","15"]
[null,"09 Huancavelica","07 Tayacaja","16 San Marcos de Rocchac","09","07","16","Huancavelica","Tayacaja","San Marcos de Rocchac","090716","HUANCAVELICA","TAYACAJA","SAN MARCOS DE ROCCHAC","09","07","16"]
[null,"09 Huancavelica","07 Tayacaja","17 Surcubamba","09","07","17","Huancavelica","Tayacaja","Surcubamba","090717","HUANCAVELICA","TAYACAJA","SURCUBAMBA","09","07","17"]
[null,"09 Huancavelica","07 Tayacaja","18 Tintay Puncu","09","07","18","Huancavelica","Tayacaja","Tintay Puncu","090718","HUANCAVELICA","TAYACAJA","TINTAY PUNCU","09","07","18"]
[null,"09 Huancavelica","07 Tayacaja","19 Quichuas",{"$f":"+MID(B900,1,2)","v":"09"},"07","19","Huancavelica","Tayacaja","Quichuas",{"$f":"+CONCATENATE(E900,F900,G900)","v":"090719"},"HUANCAVELICA","TAYACAJA","QUICHUAS","09","07","19"]
[null,"09 Huancavelica","07 Tayacaja","20 Andaymarca","09","07","20","Huancavelica","Tayacaja","Andaymarca","090720","HUANCAVELICA","TAYACAJA","ANDAYMARCA","09","07","20"]
[null,"09 Huancavelica","07 Tayacaja","21 Roble","09","07","21","Huancavelica","Tayacaja","Roble","090721","HUANCAVELICA","TAYACAJA","ROBLE","09","07","21"]
[null,"09 Huancavelica","07 Tayacaja","22 Pichos","09","07","22","Huancavelica","Tayacaja","Pichos","090722","HUANCAVELICA","TAYACAJA","PICHOS","09","07","22"]
[null,"09 Huancavelica","07 Tayacaja","23 Santiago de Tucuma","09","07","23","Huancavelica","Tayacaja","Santiago de Tucuma","090723","HUANCAVELICA","TAYACAJA","SANTIAGO DE TUCUMA","09","07","23"]
[null,"10 Huánuco","01 Huánuco","01 Huanuco","10","01","01","Huánuco","Huánuco","Huanuco","100101","HUÁNUCO","HUÁNUCO","HUANUCO","10","01","01"]
[null,"10 Huánuco","01 Huánuco","02 Amarilis","10","01","02","Huánuco","Huánuco","Amarilis","100102","HUÁNUCO","HUÁNUCO","AMARILIS","10","01","02"]
[null,"10 Huánuco","01 Huánuco","03 Chinchao","10","01","03","Huánuco","Huánuco","Chinchao","100103","HUÁNUCO","HUÁNUCO","CHINCHAO","10","01","03"]
[null,"10 Huánuco","01 Huánuco","04 Churubamba","10","01","04","Huánuco","Huánuco","Churubamba","100104","HUÁNUCO","HUÁNUCO","CHURUBAMBA","10","01","04"]
[null,"10 Huánuco","01 Huánuco","05 Margos","10","01","05","Huánuco","Huánuco","Margos","100105","HUÁNUCO","HUÁNUCO","MARGOS","10","01","05"]
[null,"10 Huánuco","01 Huánuco","06 Quisqui (Kichki)","10","01","06","Huánuco","Huánuco","Quisqui (Kichki)","100106","HUÁNUCO","HUÁNUCO","QUISQUI (KICHKI)","10","01","06"]
[null,"10 Huánuco","01 Huánuco","07 San Francisco de Cayran","10","01","07","Huánuco","Huánuco","San Francisco de Cayran","100107","HUÁNUCO","HUÁNUCO","SAN FRANCISCO DE CAYRAN","10","01","07"]
[null,"10 Huánuco","01 Huánuco","08 San Pedro de Chaulan","10","01","08","Huánuco","Huánuco","San Pedro de Chaulan","100108","HUÁNUCO","HUÁNUCO","SAN PEDRO DE CHAULAN","10","01","08"]
[null,"10 Huánuco","01 Huánuco","09 Santa María del Valle","10","01","09","Huánuco","Huánuco","Santa María del Valle","100109","HUÁNUCO","HUÁNUCO","SANTA MARÍA DEL VALLE","10","01","09"]
[null,"10 Huánuco","01 Huánuco","10 Yarumayo","10","01","10","Huánuco","Huánuco","Yarumayo","100110","HUÁNUCO","HUÁNUCO","YARUMAYO","10","01","10"]
[null,"10 Huánuco","01 Huánuco","11 Pillco Marca","10","01","11","Huánuco","Huánuco","Pillco Marca","100111","HUÁNUCO","HUÁNUCO","PILLCO MARCA","10","01","11"]
[null,"10 Huánuco","01 Huánuco","12 Yacus","10","01","12","Huánuco","Huánuco","Yacus","100112","HUÁNUCO","HUÁNUCO","YACUS","10","01","12"]
[null,"10 Huánuco","01 Huánuco","13 San Pablo de Pillao","10","01","13","Huánuco","Huánuco","San Pablo de Pillao","100113","HUÁNUCO","HUÁNUCO","SAN PABLO DE PILLAO","10","01","13"]
[null,"10 Huánuco","02 Ambo","01 Ambo","10","02","01","Huánuco","Ambo","Ambo","100201","HUÁNUCO","AMBO","AMBO","10","02","01"]
[null,"10 Huánuco","02 Ambo","02 Cayna","10","02","02","Huánuco","Ambo","Cayna","100202","HUÁNUCO","AMBO","CAYNA","10","02","02"]
[null,"10 Huánuco","02 Ambo","03 Colpas","10","02","03","Huánuco","Ambo","Colpas","100203","HUÁNUCO","AMBO","COLPAS","10","02","03"]
[null,"10 Huánuco","02 Ambo","04 Conchamarca","10","02","04","Huánuco","Ambo","Conchamarca","100204","HUÁNUCO","AMBO","CONCHAMARCA","10","02","04"]
[null,"10 Huánuco","02 Ambo","05 Huacar","10","02","05","Huánuco","Ambo","Huacar","100205","HUÁNUCO","AMBO","HUACAR","10","02","05"]
[null,"10 Huánuco","02 Ambo","06 San Francisco","10","02","06","Huánuco","Ambo","San Francisco","100206","HUÁNUCO","AMBO","SAN FRANCISCO","10","02","06"]
[null,"10 Huánuco","02 Ambo","07 San Rafael","10","02","07","Huánuco","Ambo","San Rafael","100207","HUÁNUCO","AMBO","SAN RAFAEL","10","02","07"]
[null,"10 Huánuco","02 Ambo","08 Tomay Kichwa","10","02","08","Huánuco","Ambo","Tomay Kichwa","100208","HUÁNUCO","AMBO","TOMAY KICHWA","10","02","08"]
[null,"10 Huánuco","03 Dos de Mayo","01 La Unión","10","03","01","Huánuco","Dos de Mayo","La Unión","100301","HUÁNUCO","DOS DE MAYO","LA UNIÓN","10","03","01"]
[null,"10 Huánuco","03 Dos de Mayo","07 Chuquis","10","03","07","Huánuco","Dos de Mayo","Chuquis","100307","HUÁNUCO","DOS DE MAYO","CHUQUIS","10","03","07"]
[null,"10 Huánuco","03 Dos de Mayo","11 Marías","10","03","11","Huánuco","Dos de Mayo","Marías","100311","HUÁNUCO","DOS DE MAYO","MARÍAS","10","03","11"]
[null,"10 Huánuco","03 Dos de Mayo","13 Pachas","10","03","13","Huánuco","Dos de Mayo","Pachas","100313","HUÁNUCO","DOS DE MAYO","PACHAS","10","03","13"]
[null,"10 Huánuco","03 Dos de Mayo","16 Quivilla","10","03","16","Huánuco","Dos de Mayo","Quivilla","100316","HUÁNUCO","DOS DE MAYO","QUIVILLA","10","03","16"]
[null,"10 Huánuco","03 Dos de Mayo","17 Ripan","10","03","17","Huánuco","Dos de Mayo","Ripan","100317","HUÁNUCO","DOS DE MAYO","RIPAN","10","03","17"]
[null,"10 Huánuco","03 Dos de Mayo","21 Shunqui","10","03","21","Huánuco","Dos de Mayo","Shunqui","100321","HUÁNUCO","DOS DE MAYO","SHUNQUI","10","03","21"]
[null,"10 Huánuco","03 Dos de Mayo","22 Sillapata","10","03","22","Huánuco","Dos de Mayo","Sillapata","100322","HUÁNUCO","DOS DE MAYO","SILLAPATA","10","03","22"]
[null,"10 Huánuco","03 Dos de Mayo","23 Yanas","10","03","23","Huánuco","Dos de Mayo","Yanas","100323","HUÁNUCO","DOS DE MAYO","YANAS","10","03","23"]
[null,"10 Huánuco","04 Huacaybamba","01 Huacaybamba","10","04","01","Huánuco","Huacaybamba","Huacaybamba","100401","HUÁNUCO","HUACAYBAMBA","HUACAYBAMBA","10","04","01"]
[null,"10 Huánuco","04 Huacaybamba","02 Canchabamba","10","04","02","Huánuco","Huacaybamba","Canchabamba","100402","HUÁNUCO","HUACAYBAMBA","CANCHABAMBA","10","04","02"]
[null,"10 Huánuco","04 Huacaybamba","03 Cochabamba","10","04","03","Huánuco","Huacaybamba","Cochabamba","100403","HUÁNUCO","HUACAYBAMBA","COCHABAMBA","10","04","03"]
[null,"10 Huánuco","04 Huacaybamba","04 Pinra","10","04","04","Huánuco","Huacaybamba","Pinra","100404","HUÁNUCO","HUACAYBAMBA","PINRA","10","04","04"]
[null,"10 Huánuco","05 Huamalíes","01 Llata","10","05","01","Huánuco","Huamalíes","Llata","100501","HUÁNUCO","HUAMALÍES","LLATA","10","05","01"]
[null,"10 Huánuco","05 Huamalíes","02 Arancay","10","05","02","Huánuco","Huamalíes","Arancay","100502","HUÁNUCO","HUAMALÍES","ARANCAY","10","05","02"]
[null,"10 Huánuco","05 Huamalíes","03 Chavín de Pariarca","10","05","03","Huánuco","Huamalíes","Chavín de Pariarca","100503","HUÁNUCO","HUAMALÍES","CHAVÍN DE PARIARCA","10","05","03"]
[null,"10 Huánuco","05 Huamalíes","04 Jacas Grande","10","05","04","Huánuco","Huamalíes","Jacas Grande","100504","HUÁNUCO","HUAMALÍES","JACAS GRANDE","10","05","04"]
[null,"10 Huánuco","05 Huamalíes","05 Jircan","10","05","05","Huánuco","Huamalíes","Jircan","100505","HUÁNUCO","HUAMALÍES","JIRCAN","10","05","05"]
[null,"10 Huánuco","05 Huamalíes","06 Miraflores","10","05","06","Huánuco","Huamalíes","Miraflores","100506","HUÁNUCO","HUAMALÍES","MIRAFLORES","10","05","06"]
[null,"10 Huánuco","05 Huamalíes","07 Monzón","10","05","07","Huánuco","Huamalíes","Monzón","100507","HUÁNUCO","HUAMALÍES","MONZÓN","10","05","07"]
[null,"10 Huánuco","05 Huamalíes","08 Punchao","10","05","08","Huánuco","Huamalíes","Punchao","100508","HUÁNUCO","HUAMALÍES","PUNCHAO","10","05","08"]
[null,"10 Huánuco","05 Huamalíes","09 Puños","10","05","09","Huánuco","Huamalíes","Puños","100509","HUÁNUCO","HUAMALÍES","PUÑOS","10","05","09"]
[null,"10 Huánuco","05 Huamalíes","10 Singa","10","05","10","Huánuco","Huamalíes","Singa","100510","HUÁNUCO","HUAMALÍES","SINGA","10","05","10"]
[null,"10 Huánuco","05 Huamalíes","11 Tantamayo","10","05","11","Huánuco","Huamalíes","Tantamayo","100511","HUÁNUCO","HUAMALÍES","TANTAMAYO","10","05","11"]
[null,"10 Huánuco","06 Leoncio Prado","01 Rupa-Rupa","10","06","01","Huánuco","Leoncio Prado","Rupa-Rupa","100601","HUÁNUCO","LEONCIO PRADO","RUPA-RUPA","10","06","01"]
[null,"10 Huánuco","06 Leoncio Prado","02 Daniel Alomía Robles","10","06","02","Huánuco","Leoncio Prado","Daniel Alomía Robles","100602","HUÁNUCO","LEONCIO PRADO","DANIEL ALOMÍA ROBLES","10","06","02"]
[null,"10 Huánuco","06 Leoncio Prado","03 Hermílio Valdizan","10","06","03","Huánuco","Leoncio Prado","Hermílio Valdizan","100603","HUÁNUCO","LEONCIO PRADO","HERMÍLIO VALDIZAN","10","06","03"]
[null,"10 Huánuco","06 Leoncio Prado","04 José Crespo y Castillo","10","06","04","Huánuco","Leoncio Prado","José Crespo y Castillo","100604","HUÁNUCO","LEONCIO PRADO","JOSÉ CRESPO Y CASTILLO","10","06","04"]
[null,"10 Huánuco","06 Leoncio Prado","05 Luyando","10","06","05","Huánuco","Leoncio Prado","Luyando","100605","HUÁNUCO","LEONCIO PRADO","LUYANDO","10","06","05"]
[null,"10 Huánuco","06 Leoncio Prado","06 Mariano Damaso Beraun","10","06","06","Huánuco","Leoncio Prado","Mariano Damaso Beraun","100606","HUÁNUCO","LEONCIO PRADO","MARIANO DAMASO BERAUN","10","06","06"]
[null,"10 Huánuco","06 Leoncio Prado","07 Pucayacu","10","06","07","Huánuco","Leoncio Prado","Pucayacu","100607","HUÁNUCO","LEONCIO PRADO","PUCAYACU","10","06","07"]
[null,"10 Huánuco","06 Leoncio Prado","08 Castillo Grande","10","06","08","Huánuco","Leoncio Prado","Castillo Grande","100608","HUÁNUCO","LEONCIO PRADO","CASTILLO GRANDE","10","06","08"]
[null,"10 Huánuco","06 Leoncio Prado","09 Pueblo Nuevo","10","06","09","Huánuco","Leoncio Prado","Pueblo Nuevo","100609","HUÁNUCO","LEONCIO PRADO","PUEBLO NUEVO","10","06","09"]
[null,"10 Huánuco","06 Leoncio Prado","10 Santo Domingo de Anda","10","06","10","Huánuco","Leoncio Prado","Santo Domingo de Anda","100610","HUÁNUCO","LEONCIO PRADO","SANTO DOMINGO DE ANDA","10","06","10"]
[null,"10 Huánuco","07 Marañón","01 Huacrachuco","10","07","01","Huánuco","Marañón","Huacrachuco","100701","HUÁNUCO","MARAÑÓN","HUACRACHUCO","10","07","01"]
[null,"10 Huánuco","07 Marañón","02 Cholon","10","07","02","Huánuco","Marañón","Cholon","100702","HUÁNUCO","MARAÑÓN","CHOLON","10","07","02"]
[null,"10 Huánuco","07 Marañón","03 San Buenaventura","10","07","03","Huánuco","Marañón","San Buenaventura","100703","HUÁNUCO","MARAÑÓN","SAN BUENAVENTURA","10","07","03"]
[null,"10 Huánuco","07 Marañón","04 La Morada","10","07","04","Huánuco","Marañón","La Morada","100704","HUÁNUCO","MARAÑÓN","LA MORADA","10","07","04"]
[null,"10 Huánuco","07 Marañón","05 Santa Rosa de Alto Yanajanca",{"$f":"+MID(B964,1,2)","v":"10"},"07","05","Huánuco","Marañón","Santa Rosa de Alto Yanajanca",{"$f":"+CONCATENATE(E964,F964,G964)","v":"100705"},"HUÁNUCO","MARAÑÓN","SANTA ROSA DE ALTO YANAJANCA","10","07","05"]
[null,"10 Huánuco","08 Pachitea","01 Panao","10","08","01","Huánuco","Pachitea","Panao","100801","HUÁNUCO","PACHITEA","PANAO","10","08","01"]
[null,"10 Huánuco","08 Pachitea","02 Chaglla","10","08","02","Huánuco","Pachitea","Chaglla","100802","HUÁNUCO","PACHITEA","CHAGLLA","10","08","02"]
[null,"10 Huánuco","08 Pachitea","03 Molino","10","08","03","Huánuco","Pachitea","Molino","100803","HUÁNUCO","PACHITEA","MOLINO","10","08","03"]
[null,"10 Huánuco","08 Pachitea","04 Umari","10","08","04","Huánuco","Pachitea","Umari","100804","HUÁNUCO","PACHITEA","UMARI","10","08","04"]
[null,"10 Huánuco","09 Puerto Inca","01 Puerto Inca","10","09","01","Huánuco","Puerto Inca","Puerto Inca","100901","HUÁNUCO","PUERTO INCA","PUERTO INCA","10","09","01"]
[null,"10 Huánuco","09 Puerto Inca","02 Codo del Pozuzo","10","09","02","Huánuco","Puerto Inca","Codo del Pozuzo","100902","HUÁNUCO","PUERTO INCA","CODO DEL POZUZO","10","09","02"]
[null,"10 Huánuco","09 Puerto Inca","03 Honoria","10","09","03","Huánuco","Puerto Inca","Honoria","100903","HUÁNUCO","PUERTO INCA","HONORIA","10","09","03"]
[null,"10 Huánuco","09 Puerto Inca","04 Tournavista","10","09","04","Huánuco","Puerto Inca","Tournavista","100904","HUÁNUCO","PUERTO INCA","TOURNAVISTA","10","09","04"]
[null,"10 Huánuco","09 Puerto Inca","05 Yuyapichis","10","09","05","Huánuco","Puerto Inca","Yuyapichis","100905","HUÁNUCO","PUERTO INCA","YUYAPICHIS","10","09","05"]
[null,"10 Huánuco","10 Lauricocha ","01 Jesús","10","10","01","Huánuco","Lauricocha ","Jesús","101001","HUÁNUCO","LAURICOCHA","JESÚS","10","10","01"]
[null,"10 Huánuco","10 Lauricocha ","02 Baños","10","10","02","Huánuco","Lauricocha ","Baños","101002","HUÁNUCO","LAURICOCHA","BAÑOS","10","10","02"]
[null,"10 Huánuco","10 Lauricocha ","03 Jivia","10","10","03","Huánuco","Lauricocha ","Jivia","101003","HUÁNUCO","LAURICOCHA","JIVIA","10","10","03"]
[null,"10 Huánuco","10 Lauricocha ","04 Queropalca","10","10","04","Huánuco","Lauricocha ","Queropalca","101004","HUÁNUCO","LAURICOCHA","QUEROPALCA","10","10","04"]
[null,"10 Huánuco","10 Lauricocha ","05 Rondos","10","10","05","Huánuco","Lauricocha ","Rondos","101005","HUÁNUCO","LAURICOCHA","RONDOS","10","10","05"]
[null,"10 Huánuco","10 Lauricocha ","06 San Francisco de Asís","10","10","06","Huánuco","Lauricocha ","San Francisco de Asís","101006","HUÁNUCO","LAURICOCHA","SAN FRANCISCO DE ASÍS","10","10","06"]
[null,"10 Huánuco","10 Lauricocha ","07 San Miguel de Cauri","10","10","07","Huánuco","Lauricocha ","San Miguel de Cauri","101007","HUÁNUCO","LAURICOCHA","SAN MIGUEL DE CAURI","10","10","07"]
[null,"10 Huánuco","11 Yarowilca ","01 Chavinillo","10","11","01","Huánuco","Yarowilca ","Chavinillo","101101","HUÁNUCO","YAROWILCA","CHAVINILLO","10","11","01"]
[null,"10 Huánuco","11 Yarowilca ","02 Cahuac","10","11","02","Huánuco","Yarowilca ","Cahuac","101102","HUÁNUCO","YAROWILCA","CAHUAC","10","11","02"]
[null,"10 Huánuco","11 Yarowilca ","03 Chacabamba","10","11","03","Huánuco","Yarowilca ","Chacabamba","101103","HUÁNUCO","YAROWILCA","CHACABAMBA","10","11","03"]
[null,"10 Huánuco","11 Yarowilca ","04 Aparicio Pomares","10","11","04","Huánuco","Yarowilca ","Aparicio Pomares","101104","HUÁNUCO","YAROWILCA","APARICIO POMARES","10","11","04"]
[null,"10 Huánuco","11 Yarowilca ","05 Jacas Chico","10","11","05","Huánuco","Yarowilca ","Jacas Chico","101105","HUÁNUCO","YAROWILCA","JACAS CHICO","10","11","05"]
[null,"10 Huánuco","11 Yarowilca ","06 Obas","10","11","06","Huánuco","Yarowilca ","Obas","101106","HUÁNUCO","YAROWILCA","OBAS","10","11","06"]
[null,"10 Huánuco","11 Yarowilca ","07 Pampamarca","10","11","07","Huánuco","Yarowilca ","Pampamarca","101107","HUÁNUCO","YAROWILCA","PAMPAMARCA","10","11","07"]
[null,"10 Huánuco","11 Yarowilca ","08 Choras","10","11","08","Huánuco","Yarowilca ","Choras","101108","HUÁNUCO","YAROWILCA","CHORAS","10","11","08"]
[null,"11 Ica","01 Ica ","01 Ica","11","01","01","Ica","Ica ","Ica","110101","ICA","ICA","ICA","11","01","01"]
[null,"11 Ica","01 Ica ","02 La Tinguiña","11","01","02","Ica","Ica ","La Tinguiña","110102","ICA","ICA","LA TINGUIÑA","11","01","02"]
[null,"11 Ica","01 Ica ","03 Los Aquijes","11","01","03","Ica","Ica ","Los Aquijes","110103","ICA","ICA","LOS AQUIJES","11","01","03"]
[null,"11 Ica","01 Ica ","04 Ocucaje","11","01","04","Ica","Ica ","Ocucaje","110104","ICA","ICA","OCUCAJE","11","01","04"]
[null,"11 Ica","01 Ica ","05 Pachacutec","11","01","05","Ica","Ica ","Pachacutec","110105","ICA","ICA","PACHACUTEC","11","01","05"]
[null,"11 Ica","01 Ica ","06 Parcona","11","01","06","Ica","Ica ","Parcona","110106","ICA","ICA","PARCONA","11","01","06"]
[null,"11 Ica","01 Ica ","07 Pueblo Nuevo","11","01","07","Ica","Ica ","Pueblo Nuevo","110107","ICA","ICA","PUEBLO NUEVO","11","01","07"]
[null,"11 Ica","01 Ica ","08 Salas","11","01","08","Ica","Ica ","Salas","110108","ICA","ICA","SALAS","11","01","08"]
[null,"11 Ica","01 Ica ","09 San José de Los Molinos","11","01","09","Ica","Ica ","San José de Los Molinos","110109","ICA","ICA","SAN JOSÉ DE LOS MOLINOS","11","01","09"]
[null,"11 Ica","01 Ica ","10 San Juan Bautista","11","01","10","Ica","Ica ","San Juan Bautista","110110","ICA","ICA","SAN JUAN BAUTISTA","11","01","10"]
[null,"11 Ica","01 Ica ","11 Santiago","11","01","11","Ica","Ica ","Santiago","110111","ICA","ICA","SANTIAGO","11","01","11"]
[null,"11 Ica","01 Ica ","12 Subtanjalla","11","01","12","Ica","Ica ","Subtanjalla","110112","ICA","ICA","SUBTANJALLA","11","01","12"]
[null,"11 Ica","01 Ica ","13 Tate","11","01","13","Ica","Ica ","Tate","110113","ICA","ICA","TATE","11","01","13"]
[null,"11 Ica","01 Ica ","14 Yauca del Rosario","11","01","14","Ica","Ica ","Yauca del Rosario","110114","ICA","ICA","YAUCA DEL ROSARIO","11","01","14"]
[null,"11 Ica","02 Chincha ","01 Chincha Alta","11","02","01","Ica","Chincha ","Chincha Alta","110201","ICA","CHINCHA","CHINCHA ALTA","11","02","01"]
[null,"11 Ica","02 Chincha ","02 Alto Laran","11","02","02","Ica","Chincha ","Alto Laran","110202","ICA","CHINCHA","ALTO LARAN","11","02","02"]
[null,"11 Ica","02 Chincha ","03 Chavin","11","02","03","Ica","Chincha ","Chavin","110203","ICA","CHINCHA","CHAVIN","11","02","03"]
[null,"11 Ica","02 Chincha ","04 Chincha Baja","11","02","04","Ica","Chincha ","Chincha Baja","110204","ICA","CHINCHA","CHINCHA BAJA","11","02","04"]
[null,"11 Ica","02 Chincha ","05 El Carmen","11","02","05","Ica","Chincha ","El Carmen","110205","ICA","CHINCHA","EL CARMEN","11","02","05"]
[null,"11 Ica","02 Chincha ","06 Grocio Prado","11","02","06","Ica","Chincha ","Grocio Prado","110206","ICA","CHINCHA","GROCIO PRADO","11","02","06"]
[null,"11 Ica","02 Chincha ","07 Pueblo Nuevo","11","02","07","Ica","Chincha ","Pueblo Nuevo","110207","ICA","CHINCHA","PUEBLO NUEVO","11","02","07"]
[null,"11 Ica","02 Chincha ","08 San Juan de Yanac","11","02","08","Ica","Chincha ","San Juan de Yanac","110208","ICA","CHINCHA","SAN JUAN DE YANAC","11","02","08"]
[null,"11 Ica","02 Chincha ","09 San Pedro de Huacarpana","11","02","09","Ica","Chincha ","San Pedro de Huacarpana","110209","ICA","CHINCHA","SAN PEDRO DE HUACARPANA","11","02","09"]
[null,"11 Ica","02 Chincha ","10 Sunampe","11","02","10","Ica","Chincha ","Sunampe","110210","ICA","CHINCHA","SUNAMPE","11","02","10"]
[null,"11 Ica","02 Chincha ","11 Tambo de Mora","11","02","11","Ica","Chincha ","Tambo de Mora","110211","ICA","CHINCHA","TAMBO DE MORA","11","02","11"]
[null,"11 Ica","03 Nasca ","01 Nasca","11","03","01","Ica","Nasca ","Nasca","110301","ICA","NASCA","NASCA","11","03","01"]
[null,"11 Ica","03 Nasca ","02 Changuillo","11","03","02","Ica","Nasca ","Changuillo","110302","ICA","NASCA","CHANGUILLO","11","03","02"]
[null,"11 Ica","03 Nasca ","03 El Ingenio","11","03","03","Ica","Nasca ","El Ingenio","110303","ICA","NASCA","EL INGENIO","11","03","03"]
[null,"11 Ica","03 Nasca ","04 Marcona","11","03","04","Ica","Nasca ","Marcona","110304","ICA","NASCA","MARCONA","11","03","04"]
[null,"11 Ica","03 Nasca ","05 Vista Alegre","11","03","05","Ica","Nasca ","Vista Alegre","110305","ICA","NASCA","VISTA ALEGRE","11","03","05"]
[null,"11 Ica","04 Palpa ","01 Palpa","11","04","01","Ica","Palpa ","Palpa","110401","ICA","PALPA","PALPA","11","04","01"]
[null,"11 Ica","04 Palpa ","02 Llipata","11","04","02","Ica","Palpa ","Llipata","110402","ICA","PALPA","LLIPATA","11","04","02"]
[null,"11 Ica","04 Palpa ","03 Río Grande","11","04","03","Ica","Palpa ","Río Grande","110403","ICA","PALPA","RÍO GRANDE","11","04","03"]
[null,"11 Ica","04 Palpa ","04 Santa Cruz","11","04","04","Ica","Palpa ","Santa Cruz","110404","ICA","PALPA","SANTA CRUZ","11","04","04"]
[null,"11 Ica","04 Palpa ","05 Tibillo","11","04","05","Ica","Palpa ","Tibillo","110405","ICA","PALPA","TIBILLO","11","04","05"]
[null,"11 Ica","05 Pisco ","01 Pisco","11","05","01","Ica","Pisco ","Pisco","110501","ICA","PISCO","PISCO","11","05","01"]
[null,"11 Ica","05 Pisco ","02 Huancano","11","05","02","Ica","Pisco ","Huancano","110502","ICA","PISCO","HUANCANO","11","05","02"]
[null,"11 Ica","05 Pisco ","03 Humay","11","05","03","Ica","Pisco ","Humay","110503","ICA","PISCO","HUMAY","11","05","03"]
[null,"11 Ica","05 Pisco ","04 Independencia","11","05","04","Ica","Pisco ","Independencia","110504","ICA","PISCO","INDEPENDENCIA","11","05","04"]
[null,"11 Ica","05 Pisco ","05 Paracas",{"$f":"+MID(B1028,1,2)","v":"11"},"05","05","Ica","Pisco ","Paracas",{"$f":"+CONCATENATE(E1028,F1028,G1028)","v":"110505"},"ICA","PISCO","PARACAS","11","05","05"]
[null,"11 Ica","05 Pisco ","06 San Andrés","11","05","06","Ica","Pisco ","San Andrés","110506","ICA","PISCO","SAN ANDRÉS","11","05","06"]
[null,"11 Ica","05 Pisco ","07 San Clemente","11","05","07","Ica","Pisco ","San Clemente","110507","ICA","PISCO","SAN CLEMENTE","11","05","07"]
[null,"11 Ica","05 Pisco ","08 Tupac Amaru Inca","11","05","08","Ica","Pisco ","Tupac Amaru Inca","110508","ICA","PISCO","TUPAC AMARU INCA","11","05","08"]
[null,"12 Junín","01 Huancayo ","01 Huancayo","12","01","01","Junín","Huancayo ","Huancayo","120101","JUNÍN","HUANCAYO","HUANCAYO","12","01","01"]
[null,"12 Junín","01 Huancayo ","04 Carhuacallanga","12","01","04","Junín","Huancayo ","Carhuacallanga","120104","JUNÍN","HUANCAYO","CARHUACALLANGA","12","01","04"]
[null,"12 Junín","01 Huancayo ","05 Chacapampa","12","01","05","Junín","Huancayo ","Chacapampa","120105","JUNÍN","HUANCAYO","CHACAPAMPA","12","01","05"]
[null,"12 Junín","01 Huancayo ","06 Chicche","12","01","06","Junín","Huancayo ","Chicche","120106","JUNÍN","HUANCAYO","CHICCHE","12","01","06"]
[null,"12 Junín","01 Huancayo ","07 Chilca","12","01","07","Junín","Huancayo ","Chilca","120107","JUNÍN","HUANCAYO","CHILCA","12","01","07"]
[null,"12 Junín","01 Huancayo ","08 Chongos Alto","12","01","08","Junín","Huancayo ","Chongos Alto","120108","JUNÍN","HUANCAYO","CHONGOS ALTO","12","01","08"]
[null,"12 Junín","01 Huancayo ","11 Chupuro","12","01","11","Junín","Huancayo ","Chupuro","120111","JUNÍN","HUANCAYO","CHUPURO","12","01","11"]
[null,"12 Junín","01 Huancayo ","12 Colca","12","01","12","Junín","Huancayo ","Colca","120112","JUNÍN","HUANCAYO","COLCA","12","01","12"]
[null,"12 Junín","01 Huancayo ","13 Cullhuas","12","01","13","Junín","Huancayo ","Cullhuas","120113","JUNÍN","HUANCAYO","CULLHUAS","12","01","13"]
[null,"12 Junín","01 Huancayo ","14 El Tambo","12","01","14","Junín","Huancayo ","El Tambo","120114","JUNÍN","HUANCAYO","EL TAMBO","12","01","14"]
[null,"12 Junín","01 Huancayo ","16 Huacrapuquio","12","01","16","Junín","Huancayo ","Huacrapuquio","120116","JUNÍN","HUANCAYO","HUACRAPUQUIO","12","01","16"]
[null,"12 Junín","01 Huancayo ","17 Hualhuas","12","01","17","Junín","Huancayo ","Hualhuas","120117","JUNÍN","HUANCAYO","HUALHUAS","12","01","17"]
[null,"12 Junín","01 Huancayo ","19 Huancan","12","01","19","Junín","Huancayo ","Huancan","120119","JUNÍN","HUANCAYO","HUANCAN","12","01","19"]
[null,"12 Junín","01 Huancayo ","20 Huasicancha","12","01","20","Junín","Huancayo ","Huasicancha","120120","JUNÍN","HUANCAYO","HUASICANCHA","12","01","20"]
[null,"12 Junín","01 Huancayo ","21 Huayucachi","12","01","21","Junín","Huancayo ","Huayucachi","120121","JUNÍN","HUANCAYO","HUAYUCACHI","12","01","21"]
[null,"12 Junín","01 Huancayo ","22 Ingenio","12","01","22","Junín","Huancayo ","Ingenio","120122","JUNÍN","HUANCAYO","INGENIO","12","01","22"]
[null,"12 Junín","01 Huancayo ","24 Pariahuanca","12","01","24","Junín","Huancayo ","Pariahuanca","120124","JUNÍN","HUANCAYO","PARIAHUANCA","12","01","24"]
[null,"12 Junín","01 Huancayo ","25 Pilcomayo","12","01","25","Junín","Huancayo ","Pilcomayo","120125","JUNÍN","HUANCAYO","PILCOMAYO","12","01","25"]
[null,"12 Junín","01 Huancayo ","26 Pucara","12","01","26","Junín","Huancayo ","Pucara","120126","JUNÍN","HUANCAYO","PUCARA","12","01","26"]
[null,"12 Junín","01 Huancayo ","27 Quichuay","12","01","27","Junín","Huancayo ","Quichuay","120127","JUNÍN","HUANCAYO","QUICHUAY","12","01","27"]
[null,"12 Junín","01 Huancayo ","28 Quilcas","12","01","28","Junín","Huancayo ","Quilcas","120128","JUNÍN","HUANCAYO","QUILCAS","12","01","28"]
[null,"12 Junín","01 Huancayo ","29 San Agustín","12","01","29","Junín","Huancayo ","San Agustín","120129","JUNÍN","HUANCAYO","SAN AGUSTÍN","12","01","29"]
[null,"12 Junín","01 Huancayo ","30 San Jerónimo de Tunan","12","01","30","Junín","Huancayo ","San Jerónimo de Tunan","120130","JUNÍN","HUANCAYO","SAN JERÓNIMO DE TUNAN","12","01","30"]
[null,"12 Junín","01 Huancayo ","32 Saño","12","01","32","Junín","Huancayo ","Saño","120132","JUNÍN","HUANCAYO","SAÑO","12","01","32"]
[null,"12 Junín","01 Huancayo ","33 Sapallanga","12","01","33","Junín","Huancayo ","Sapallanga","120133","JUNÍN","HUANCAYO","SAPALLANGA","12","01","33"]
[null,"12 Junín","01 Huancayo ","34 Sicaya","12","01","34","Junín","Huancayo ","Sicaya","120134","JUNÍN","HUANCAYO","SICAYA","12","01","34"]
[null,"12 Junín","01 Huancayo ","35 Santo Domingo de Acobamba","12","01","35","Junín","Huancayo ","Santo Domingo de Acobamba","120135","JUNÍN","HUANCAYO","SANTO DOMINGO DE ACOBAMBA","12","01","35"]
[null,"12 Junín","01 Huancayo ","36 Viques","12","01","36","Junín","Huancayo ","Viques","120136","JUNÍN","HUANCAYO","VIQUES","12","01","36"]
[null,"12 Junín","02 Concepción ","01 Concepción","12","02","01","Junín","Concepción ","Concepción","120201","JUNÍN","CONCEPCIÓN","CONCEPCIÓN","12","02","01"]
[null,"12 Junín","02 Concepción ","02 Aco","12","02","02","Junín","Concepción ","Aco","120202","JUNÍN","CONCEPCIÓN","ACO","12","02","02"]
[null,"12 Junín","02 Concepción ","03 Andamarca","12","02","03","Junín","Concepción ","Andamarca","120203","JUNÍN","CONCEPCIÓN","ANDAMARCA","12","02","03"]
[null,"12 Junín","02 Concepción ","04 Chambara","12","02","04","Junín","Concepción ","Chambara","120204","JUNÍN","CONCEPCIÓN","CHAMBARA","12","02","04"]
[null,"12 Junín","02 Concepción ","05 Cochas","12","02","05","Junín","Concepción ","Cochas","120205","JUNÍN","CONCEPCIÓN","COCHAS","12","02","05"]
[null,"12 Junín","02 Concepción ","06 Comas","12","02","06","Junín","Concepción ","Comas","120206","JUNÍN","CONCEPCIÓN","COMAS","12","02","06"]
[null,"12 Junín","02 Concepción ","07 Heroínas Toledo","12","02","07","Junín","Concepción ","Heroínas Toledo","120207","JUNÍN","CONCEPCIÓN","HEROÍNAS TOLEDO","12","02","07"]
[null,"12 Junín","02 Concepción ","08 Manzanares","12","02","08","Junín","Concepción ","Manzanares","120208","JUNÍN","CONCEPCIÓN","MANZANARES","12","02","08"]
[null,"12 Junín","02 Concepción ","09 Mariscal Castilla","12","02","09","Junín","Concepción ","Mariscal Castilla","120209","JUNÍN","CONCEPCIÓN","MARISCAL CASTILLA","12","02","09"]
[null,"12 Junín","02 Concepción ","10 Matahuasi","12","02","10","Junín","Concepción ","Matahuasi","120210","JUNÍN","CONCEPCIÓN","MATAHUASI","12","02","10"]
[null,"12 Junín","02 Concepción ","11 Mito","12","02","11","Junín","Concepción ","Mito","120211","JUNÍN","CONCEPCIÓN","MITO","12","02","11"]
[null,"12 Junín","02 Concepción ","12 Nueve de Julio","12","02","12","Junín","Concepción ","Nueve de Julio","120212","JUNÍN","CONCEPCIÓN","NUEVE DE JULIO","12","02","12"]
[null,"12 Junín","02 Concepción ","13 Orcotuna","12","02","13","Junín","Concepción ","Orcotuna","120213","JUNÍN","CONCEPCIÓN","ORCOTUNA","12","02","13"]
[null,"12 Junín","02 Concepción ","14 San José de Quero","12","02","14","Junín","Concepción ","San José de Quero","120214","JUNÍN","CONCEPCIÓN","SAN JOSÉ DE QUERO","12","02","14"]
[null,"12 Junín","02 Concepción ","15 Santa Rosa de Ocopa","12","02","15","Junín","Concepción ","Santa Rosa de Ocopa","120215","JUNÍN","CONCEPCIÓN","SANTA ROSA DE OCOPA","12","02","15"]
[null,"12 Junín","03 Chanchamayo ","01 Chanchamayo","12","03","01","Junín","Chanchamayo ","Chanchamayo","120301","JUNÍN","CHANCHAMAYO","CHANCHAMAYO","12","03","01"]
[null,"12 Junín","03 Chanchamayo ","02 Perene","12","03","02","Junín","Chanchamayo ","Perene","120302","JUNÍN","CHANCHAMAYO","PERENE","12","03","02"]
[null,"12 Junín","03 Chanchamayo ","03 Pichanaqui","12","03","03","Junín","Chanchamayo ","Pichanaqui","120303","JUNÍN","CHANCHAMAYO","PICHANAQUI","12","03","03"]
[null,"12 Junín","03 Chanchamayo ","04 San Luis de Shuaro","12","03","04","Junín","Chanchamayo ","San Luis de Shuaro","120304","JUNÍN","CHANCHAMAYO","SAN LUIS DE SHUARO","12","03","04"]
[null,"12 Junín","03 Chanchamayo ","05 San Ramón","12","03","05","Junín","Chanchamayo ","San Ramón","120305","JUNÍN","CHANCHAMAYO","SAN RAMÓN","12","03","05"]
[null,"12 Junín","03 Chanchamayo ","06 Vitoc","12","03","06","Junín","Chanchamayo ","Vitoc","120306","JUNÍN","CHANCHAMAYO","VITOC","12","03","06"]
[null,"12 Junín","04 Jauja ","01 Jauja","12","04","01","Junín","Jauja ","Jauja","120401","JUNÍN","JAUJA","JAUJA","12","04","01"]
[null,"12 Junín","04 Jauja ","02 Acolla","12","04","02","Junín","Jauja ","Acolla","120402","JUNÍN","JAUJA","ACOLLA","12","04","02"]
[null,"12 Junín","04 Jauja ","03 Apata","12","04","03","Junín","Jauja ","Apata","120403","JUNÍN","JAUJA","APATA","12","04","03"]
[null,"12 Junín","04 Jauja ","04 Ataura","12","04","04","Junín","Jauja ","Ataura","120404","JUNÍN","JAUJA","ATAURA","12","04","04"]
[null,"12 Junín","04 Jauja ","05 Canchayllo","12","04","05","Junín","Jauja ","Canchayllo","120405","JUNÍN","JAUJA","CANCHAYLLO","12","04","05"]
[null,"12 Junín","04 Jauja ","06 Curicaca","12","04","06","Junín","Jauja ","Curicaca","120406","JUNÍN","JAUJA","CURICACA","12","04","06"]
[null,"12 Junín","04 Jauja ","07 El Mantaro","12","04","07","Junín","Jauja ","El Mantaro","120407","JUNÍN","JAUJA","EL MANTARO","12","04","07"]
[null,"12 Junín","04 Jauja ","08 Huamali","12","04","08","Junín","Jauja ","Huamali","120408","JUNÍN","JAUJA","HUAMALI","12","04","08"]
[null,"12 Junín","04 Jauja ","09 Huaripampa","12","04","09","Junín","Jauja ","Huaripampa","120409","JUNÍN","JAUJA","HUARIPAMPA","12","04","09"]
[null,"12 Junín","04 Jauja ","10 Huertas","12","04","10","Junín","Jauja ","Huertas","120410","JUNÍN","JAUJA","HUERTAS","12","04","10"]
[null,"12 Junín","04 Jauja ","11 Janjaillo","12","04","11","Junín","Jauja ","Janjaillo","120411","JUNÍN","JAUJA","JANJAILLO","12","04","11"]
[null,"12 Junín","04 Jauja ","12 Julcán",{"$f":"+MID(B1092,1,2)","v":"12"},"04","12","Junín","Jauja ","Julcán",{"$f":"+CONCATENATE(E1092,F1092,G1092)","v":"120412"},"JUNÍN","JAUJA","JULCÁN","12","04","12"]
[null,"12 Junín","04 Jauja ","13 Leonor Ordóñez","12","04","13","Junín","Jauja ","Leonor Ordóñez","120413","JUNÍN","JAUJA","LEONOR ORDÓÑEZ","12","04","13"]
[null,"12 Junín","04 Jauja ","14 Llocllapampa","12","04","14","Junín","Jauja ","Llocllapampa","120414","JUNÍN","JAUJA","LLOCLLAPAMPA","12","04","14"]
[null,"12 Junín","04 Jauja ","15 Marco","12","04","15","Junín","Jauja ","Marco","120415","JUNÍN","JAUJA","MARCO","12","04","15"]
[null,"12 Junín","04 Jauja ","16 Masma","12","04","16","Junín","Jauja ","Masma","120416","JUNÍN","JAUJA","MASMA","12","04","16"]
[null,"12 Junín","04 Jauja ","17 Masma Chicche","12","04","17","Junín","Jauja ","Masma Chicche","120417","JUNÍN","JAUJA","MASMA CHICCHE","12","04","17"]
[null,"12 Junín","04 Jauja ","18 Molinos","12","04","18","Junín","Jauja ","Molinos","120418","JUNÍN","JAUJA","MOLINOS","12","04","18"]
[null,"12 Junín","04 Jauja ","19 Monobamba","12","04","19","Junín","Jauja ","Monobamba","120419","JUNÍN","JAUJA","MONOBAMBA","12","04","19"]
[null,"12 Junín","04 Jauja ","20 Muqui","12","04","20","Junín","Jauja ","Muqui","120420","JUNÍN","JAUJA","MUQUI","12","04","20"]
[null,"12 Junín","04 Jauja ","21 Muquiyauyo","12","04","21","Junín","Jauja ","Muquiyauyo","120421","JUNÍN","JAUJA","MUQUIYAUYO","12","04","21"]
[null,"12 Junín","04 Jauja ","22 Paca","12","04","22","Junín","Jauja ","Paca","120422","JUNÍN","JAUJA","PACA","12","04","22"]
[null,"12 Junín","04 Jauja ","23 Paccha","12","04","23","Junín","Jauja ","Paccha","120423","JUNÍN","JAUJA","PACCHA","12","04","23"]
[null,"12 Junín","04 Jauja ","24 Pancan","12","04","24","Junín","Jauja ","Pancan","120424","JUNÍN","JAUJA","PANCAN","12","04","24"]
[null,"12 Junín","04 Jauja ","25 Parco","12","04","25","Junín","Jauja ","Parco","120425","JUNÍN","JAUJA","PARCO","12","04","25"]
[null,"12 Junín","04 Jauja ","26 Pomacancha","12","04","26","Junín","Jauja ","Pomacancha","120426","JUNÍN","JAUJA","POMACANCHA","12","04","26"]
[null,"12 Junín","04 Jauja ","27 Ricran","12","04","27","Junín","Jauja ","Ricran","120427","JUNÍN","JAUJA","RICRAN","12","04","27"]
[null,"12 Junín","04 Jauja ","28 San Lorenzo","12","04","28","Junín","Jauja ","San Lorenzo","120428","JUNÍN","JAUJA","SAN LORENZO","12","04","28"]
[null,"12 Junín","04 Jauja ","29 San Pedro de Chunan","12","04","29","Junín","Jauja ","San Pedro de Chunan","120429","JUNÍN","JAUJA","SAN PEDRO DE CHUNAN","12","04","29"]
[null,"12 Junín","04 Jauja ","30 Sausa","12","04","30","Junín","Jauja ","Sausa","120430","JUNÍN","JAUJA","SAUSA","12","04","30"]
[null,"12 Junín","04 Jauja ","31 Sincos","12","04","31","Junín","Jauja ","Sincos","120431","JUNÍN","JAUJA","SINCOS","12","04","31"]
[null,"12 Junín","04 Jauja ","32 Tunan Marca","12","04","32","Junín","Jauja ","Tunan Marca","120432","JUNÍN","JAUJA","TUNAN MARCA","12","04","32"]
[null,"12 Junín","04 Jauja ","33 Yauli","12","04","33","Junín","Jauja ","Yauli","120433","JUNÍN","JAUJA","YAULI","12","04","33"]
[null,"12 Junín","04 Jauja ","34 Yauyos","12","04","34","Junín","Jauja ","Yauyos","120434","JUNÍN","JAUJA","YAUYOS","12","04","34"]
[null,"12 Junín","05 Junín ","01 Junin","12","05","01","Junín","Junín ","Junin","120501","JUNÍN","JUNÍN","JUNIN","12","05","01"]
[null,"12 Junín","05 Junín ","02 Carhuamayo","12","05","02","Junín","Junín ","Carhuamayo","120502","JUNÍN","JUNÍN","CARHUAMAYO","12","05","02"]
[null,"12 Junín","05 Junín ","03 Ondores","12","05","03","Junín","Junín ","Ondores","120503","JUNÍN","JUNÍN","ONDORES","12","05","03"]
[null,"12 Junín","05 Junín ","04 Ulcumayo","12","05","04","Junín","Junín ","Ulcumayo","120504","JUNÍN","JUNÍN","ULCUMAYO","12","05","04"]
[null,"12 Junín","06 Satipo ","01 Satipo","12","06","01","Junín","Satipo ","Satipo","120601","JUNÍN","SATIPO","SATIPO","12","06","01"]
[null,"12 Junín","06 Satipo ","02 Coviriali","12","06","02","Junín","Satipo ","Coviriali","120602","JUNÍN","SATIPO","COVIRIALI","12","06","02"]
[null,"12 Junín","06 Satipo ","03 Llaylla","12","06","03","Junín","Satipo ","Llaylla","120603","JUNÍN","SATIPO","LLAYLLA","12","06","03"]
[null,"12 Junín","06 Satipo ","04 Mazamari","12","06","04","Junín","Satipo ","Mazamari","120604","JUNÍN","SATIPO","MAZAMARI","12","06","04"]
[null,"12 Junín","06 Satipo ","05 Pampa Hermosa","12","06","05","Junín","Satipo ","Pampa Hermosa","120605","JUNÍN","SATIPO","PAMPA HERMOSA","12","06","05"]
[null,"12 Junín","06 Satipo ","06 Pangoa","12","06","06","Junín","Satipo ","Pangoa","120606","JUNÍN","SATIPO","PANGOA","12","06","06"]
[null,"12 Junín","06 Satipo ","07 Río Negro","12","06","07","Junín","Satipo ","Río Negro","120607","JUNÍN","SATIPO","RÍO NEGRO","12","06","07"]
[null,"12 Junín","06 Satipo ","08 Río Tambo","12","06","08","Junín","Satipo ","Río Tambo","120608","JUNÍN","SATIPO","RÍO TAMBO","12","06","08"]
[null,"12 Junín","06 Satipo ","09 Vizcatan del Ene","12","06","09","Junín","Satipo ","Vizcatan del Ene","120609","JUNÍN","SATIPO","VIZCATAN DEL ENE","12","06","09"]
[null,"12 Junín","07 Tarma ","01 Tarma","12","07","01","Junín","Tarma ","Tarma","120701","JUNÍN","TARMA","TARMA","12","07","01"]
[null,"12 Junín","07 Tarma ","02 Acobamba","12","07","02","Junín","Tarma ","Acobamba","120702","JUNÍN","TARMA","ACOBAMBA","12","07","02"]
[null,"12 Junín","07 Tarma ","03 Huaricolca","12","07","03","Junín","Tarma ","Huaricolca","120703","JUNÍN","TARMA","HUARICOLCA","12","07","03"]
[null,"12 Junín","07 Tarma ","04 Huasahuasi","12","07","04","Junín","Tarma ","Huasahuasi","120704","JUNÍN","TARMA","HUASAHUASI","12","07","04"]
[null,"12 Junín","07 Tarma ","05 La Unión","12","07","05","Junín","Tarma ","La Unión","120705","JUNÍN","TARMA","LA UNIÓN","12","07","05"]
[null,"12 Junín","07 Tarma ","06 Palca","12","07","06","Junín","Tarma ","Palca","120706","JUNÍN","TARMA","PALCA","12","07","06"]
[null,"12 Junín","07 Tarma ","07 Palcamayo","12","07","07","Junín","Tarma ","Palcamayo","120707","JUNÍN","TARMA","PALCAMAYO","12","07","07"]
[null,"12 Junín","07 Tarma ","08 San Pedro de Cajas","12","07","08","Junín","Tarma ","San Pedro de Cajas","120708","JUNÍN","TARMA","SAN PEDRO DE CAJAS","12","07","08"]
[null,"12 Junín","07 Tarma ","09 Tapo","12","07","09","Junín","Tarma ","Tapo","120709","JUNÍN","TARMA","TAPO","12","07","09"]
[null,"12 Junín","08 Yauli ","01 La Oroya","12","08","01","Junín","Yauli ","La Oroya","120801","JUNÍN","YAULI","LA OROYA","12","08","01"]
[null,"12 Junín","08 Yauli ","02 Chacapalpa","12","08","02","Junín","Yauli ","Chacapalpa","120802","JUNÍN","YAULI","CHACAPALPA","12","08","02"]
[null,"12 Junín","08 Yauli ","03 Huay-Huay","12","08","03","Junín","Yauli ","Huay-Huay","120803","JUNÍN","YAULI","HUAY-HUAY","12","08","03"]
[null,"12 Junín","08 Yauli ","04 Marcapomacocha","12","08","04","Junín","Yauli ","Marcapomacocha","120804","JUNÍN","YAULI","MARCAPOMACOCHA","12","08","04"]
[null,"12 Junín","08 Yauli ","05 Morococha","12","08","05","Junín","Yauli ","Morococha","120805","JUNÍN","YAULI","MOROCOCHA","12","08","05"]
[null,"12 Junín","08 Yauli ","06 Paccha","12","08","06","Junín","Yauli ","Paccha","120806","JUNÍN","YAULI","PACCHA","12","08","06"]
[null,"12 Junín","08 Yauli ","07 Santa Bárbara de Carhuacayan","12","08","07","Junín","Yauli ","Santa Bárbara de Carhuacayan","120807","JUNÍN","YAULI","SANTA BÁRBARA DE CARHUACAYAN","12","08","07"]
[null,"12 Junín","08 Yauli ","08 Santa Rosa de Sacco","12","08","08","Junín","Yauli ","Santa Rosa de Sacco","120808","JUNÍN","YAULI","SANTA ROSA DE SACCO","12","08","08"]
[null,"12 Junín","08 Yauli ","09 Suitucancha","12","08","09","Junín","Yauli ","Suitucancha","120809","JUNÍN","YAULI","SUITUCANCHA","12","08","09"]
[null,"12 Junín","08 Yauli ","10 Yauli","12","08","10","Junín","Yauli ","Yauli","120810","JUNÍN","YAULI","YAULI","12","08","10"]
[null,"12 Junín","09 Chupaca ","01 Chupaca","12","09","01","Junín","Chupaca ","Chupaca","120901","JUNÍN","CHUPACA","CHUPACA","12","09","01"]
[null,"12 Junín","09 Chupaca ","02 Ahuac","12","09","02","Junín","Chupaca ","Ahuac","120902","JUNÍN","CHUPACA","AHUAC","12","09","02"]
[null,"12 Junín","09 Chupaca ","03 Chongos Bajo","12","09","03","Junín","Chupaca ","Chongos Bajo","120903","JUNÍN","CHUPACA","CHONGOS BAJO","12","09","03"]
[null,"12 Junín","09 Chupaca ","04 Huachac","12","09","04","Junín","Chupaca ","Huachac","120904","JUNÍN","CHUPACA","HUACHAC","12","09","04"]
[null,"12 Junín","09 Chupaca ","05 Huamancaca Chico","12","09","05","Junín","Chupaca ","Huamancaca Chico","120905","JUNÍN","CHUPACA","HUAMANCACA CHICO","12","09","05"]
[null,"12 Junín","09 Chupaca ","06 San Juan de Iscos","12","09","06","Junín","Chupaca ","San Juan de Iscos","120906","JUNÍN","CHUPACA","SAN JUAN DE ISCOS","12","09","06"]
[null,"12 Junín","09 Chupaca ","07 San Juan de Jarpa","12","09","07","Junín","Chupaca ","San Juan de Jarpa","120907","JUNÍN","CHUPACA","SAN JUAN DE JARPA","12","09","07"]
[null,"12 Junín","09 Chupaca ","08 Tres de Diciembre","12","09","08","Junín","Chupaca ","Tres de Diciembre","120908","JUNÍN","CHUPACA","TRES DE DICIEMBRE","12","09","08"]
[null,"12 Junín","09 Chupaca ","09 Yanacancha","12","09","09","Junín","Chupaca ","Yanacancha","120909","JUNÍN","CHUPACA","YANACANCHA","12","09","09"]
[null,"13 La Libertad","01 Trujillo ","01 Trujillo",{"$f":"+MID(B1156,1,2)","v":"13"},"01","01","La Libertad","Trujillo ","Trujillo",{"$f":"+CONCATENATE(E1156,F1156,G1156)","v":"130101"},"LA LIBERTAD","TRUJILLO","TRUJILLO","13","01","01"]
[null,"13 La Libertad","01 Trujillo ","02 El Porvenir","13","01","02","La Libertad","Trujillo ","El Porvenir","130102","LA LIBERTAD","TRUJILLO","EL PORVENIR","13","01","02"]
[null,"13 La Libertad","01 Trujillo ","03 Florencia de Mora","13","01","03","La Libertad","Trujillo ","Florencia de Mora","130103","LA LIBERTAD","TRUJILLO","FLORENCIA DE MORA","13","01","03"]
[null,"13 La Libertad","01 Trujillo ","04 Huanchaco","13","01","04","La Libertad","Trujillo ","Huanchaco","130104","LA LIBERTAD","TRUJILLO","HUANCHACO","13","01","04"]
[null,"13 La Libertad","01 Trujillo ","05 La Esperanza","13","01","05","La Libertad","Trujillo ","La Esperanza","130105","LA LIBERTAD","TRUJILLO","LA ESPERANZA","13","01","05"]
[null,"13 La Libertad","01 Trujillo ","06 Laredo","13","01","06","La Libertad","Trujillo ","Laredo","130106","LA LIBERTAD","TRUJILLO","LAREDO","13","01","06"]
[null,"13 La Libertad","01 Trujillo ","07 Moche","13","01","07","La Libertad","Trujillo ","Moche","130107","LA LIBERTAD","TRUJILLO","MOCHE","13","01","07"]
[null,"13 La Libertad","01 Trujillo ","08 Poroto","13","01","08","La Libertad","Trujillo ","Poroto","130108","LA LIBERTAD","TRUJILLO","POROTO","13","01","08"]
[null,"13 La Libertad","01 Trujillo ","09 Salaverry","13","01","09","La Libertad","Trujillo ","Salaverry","130109","LA LIBERTAD","TRUJILLO","SALAVERRY","13","01","09"]
[null,"13 La Libertad","01 Trujillo ","10 Simbal","13","01","10","La Libertad","Trujillo ","Simbal","130110","LA LIBERTAD","TRUJILLO","SIMBAL","13","01","10"]
[null,"13 La Libertad","01 Trujillo ","11 Victor Larco Herrera","13","01","11","La Libertad","Trujillo ","Victor Larco Herrera","130111","LA LIBERTAD","TRUJILLO","VICTOR LARCO HERRERA","13","01","11"]
[null,"13 La Libertad","02 Ascope ","01 Ascope","13","02","01","La Libertad","Ascope ","Ascope","130201","LA LIBERTAD","ASCOPE","ASCOPE","13","02","01"]
[null,"13 La Libertad","02 Ascope ","02 Chicama","13","02","02","La Libertad","Ascope ","Chicama","130202","LA LIBERTAD","ASCOPE","CHICAMA","13","02","02"]
[null,"13 La Libertad","02 Ascope ","03 Chocope","13","02","03","La Libertad","Ascope ","Chocope","130203","LA LIBERTAD","ASCOPE","CHOCOPE","13","02","03"]
[null,"13 La Libertad","02 Ascope ","04 Magdalena de Cao","13","02","04","La Libertad","Ascope ","Magdalena de Cao","130204","LA LIBERTAD","ASCOPE","MAGDALENA DE CAO","13","02","04"]
[null,"13 La Libertad","02 Ascope ","05 Paijan","13","02","05","La Libertad","Ascope ","Paijan","130205","LA LIBERTAD","ASCOPE","PAIJAN","13","02","05"]
[null,"13 La Libertad","02 Ascope ","06 Rázuri","13","02","06","La Libertad","Ascope ","Rázuri","130206","LA LIBERTAD","ASCOPE","RÁZURI","13","02","06"]
[null,"13 La Libertad","02 Ascope ","07 Santiago de Cao","13","02","07","La Libertad","Ascope ","Santiago de Cao","130207","LA LIBERTAD","ASCOPE","SANTIAGO DE CAO","13","02","07"]
[null,"13 La Libertad","02 Ascope ","08 Casa Grande","13","02","08","La Libertad","Ascope ","Casa Grande","130208","LA LIBERTAD","ASCOPE","CASA GRANDE","13","02","08"]
[null,"13 La Libertad","03 Bolívar ","01 Bolívar","13","03","01","La Libertad","Bolívar ","Bolívar","130301","LA LIBERTAD","BOLÍVAR","BOLÍVAR","13","03","01"]
[null,"13 La Libertad","03 Bolívar ","02 Bambamarca","13","03","02","La Libertad","Bolívar ","Bambamarca","130302","LA LIBERTAD","BOLÍVAR","BAMBAMARCA","13","03","02"]
[null,"13 La Libertad","03 Bolívar ","03 Condormarca","13","03","03","La Libertad","Bolívar ","Condormarca","130303","LA LIBERTAD","BOLÍVAR","CONDORMARCA","13","03","03"]
[null,"13 La Libertad","03 Bolívar ","04 Longotea","13","03","04","La Libertad","Bolívar ","Longotea","130304","LA LIBERTAD","BOLÍVAR","LONGOTEA","13","03","04"]
[null,"13 La Libertad","03 Bolívar ","05 Uchumarca","13","03","05","La Libertad","Bolívar ","Uchumarca","130305","LA LIBERTAD","BOLÍVAR","UCHUMARCA","13","03","05"]
[null,"13 La Libertad","03 Bolívar ","06 Ucuncha","13","03","06","La Libertad","Bolívar ","Ucuncha","130306","LA LIBERTAD","BOLÍVAR","UCUNCHA","13","03","06"]
[null,"13 La Libertad","04 Chepén ","01 Chepen","13","04","01","La Libertad","Chepén ","Chepen","130401","LA LIBERTAD","CHEPÉN","CHEPEN","13","04","01"]
[null,"13 La Libertad","04 Chepén ","02 Pacanga","13","04","02","La Libertad","Chepén ","Pacanga","130402","LA LIBERTAD","CHEPÉN","PACANGA","13","04","02"]
[null,"13 La Libertad","04 Chepén ","03 Pueblo Nuevo","13","04","03","La Libertad","Chepén ","Pueblo Nuevo","130403","LA LIBERTAD","CHEPÉN","PUEBLO NUEVO","13","04","03"]
[null,"13 La Libertad","05 Julcán ","01 Julcan","13","05","01","La Libertad","Julcán ","Julcan","130501","LA LIBERTAD","JULCÁN","JULCAN","13","05","01"]
[null,"13 La Libertad","05 Julcán ","02 Calamarca","13","05","02","La Libertad","Julcán ","Calamarca","130502","LA LIBERTAD","JULCÁN","CALAMARCA","13","05","02"]
[null,"13 La Libertad","05 Julcán ","03 Carabamba","13","05","03","La Libertad","Julcán ","Carabamba","130503","LA LIBERTAD","JULCÁN","CARABAMBA","13","05","03"]
[null,"13 La Libertad","05 Julcán ","04 Huaso","13","05","04","La Libertad","Julcán ","Huaso","130504","LA LIBERTAD","JULCÁN","HUASO","13","05","04"]
[null,"13 La Libertad","06 Otuzco ","01 Otuzco","13","06","01","La Libertad","Otuzco ","Otuzco","130601","LA LIBERTAD","OTUZCO","OTUZCO","13","06","01"]
[null,"13 La Libertad","06 Otuzco ","02 Agallpampa","13","06","02","La Libertad","Otuzco ","Agallpampa","130602","LA LIBERTAD","OTUZCO","AGALLPAMPA","13","06","02"]
[null,"13 La Libertad","06 Otuzco ","04 Charat","13","06","04","La Libertad","Otuzco ","Charat","130604","LA LIBERTAD","OTUZCO","CHARAT","13","06","04"]
[null,"13 La Libertad","06 Otuzco ","05 Huaranchal","13","06","05","La Libertad","Otuzco ","Huaranchal","130605","LA LIBERTAD","OTUZCO","HUARANCHAL","13","06","05"]
[null,"13 La Libertad","06 Otuzco ","06 La Cuesta","13","06","06","La Libertad","Otuzco ","La Cuesta","130606","LA LIBERTAD","OTUZCO","LA CUESTA","13","06","06"]
[null,"13 La Libertad","06 Otuzco ","08 Mache","13","06","08","La Libertad","Otuzco ","Mache","130608","LA LIBERTAD","OTUZCO","MACHE","13","06","08"]
[null,"13 La Libertad","06 Otuzco ","10 Paranday","13","06","10","La Libertad","Otuzco ","Paranday","130610","LA LIBERTAD","OTUZCO","PARANDAY","13","06","10"]
[null,"13 La Libertad","06 Otuzco ","11 Salpo","13","06","11","La Libertad","Otuzco ","Salpo","130611","LA LIBERTAD","OTUZCO","SALPO","13","06","11"]
[null,"13 La Libertad","06 Otuzco ","13 Sinsicap","13","06","13","La Libertad","Otuzco ","Sinsicap","130613","LA LIBERTAD","OTUZCO","SINSICAP","13","06","13"]
[null,"13 La Libertad","06 Otuzco ","14 Usquil","13","06","14","La Libertad","Otuzco ","Usquil","130614","LA LIBERTAD","OTUZCO","USQUIL","13","06","14"]
[null,"13 La Libertad","07 Pacasmayo ","01 San Pedro de Lloc","13","07","01","La Libertad","Pacasmayo ","San Pedro de Lloc","130701","LA LIBERTAD","PACASMAYO","SAN PEDRO DE LLOC","13","07","01"]
[null,"13 La Libertad","07 Pacasmayo ","02 Guadalupe","13","07","02","La Libertad","Pacasmayo ","Guadalupe","130702","LA LIBERTAD","PACASMAYO","GUADALUPE","13","07","02"]
[null,"13 La Libertad","07 Pacasmayo ","03 Jequetepeque","13","07","03","La Libertad","Pacasmayo ","Jequetepeque","130703","LA LIBERTAD","PACASMAYO","JEQUETEPEQUE","13","07","03"]
[null,"13 La Libertad","07 Pacasmayo ","04 Pacasmayo","13","07","04","La Libertad","Pacasmayo ","Pacasmayo","130704","LA LIBERTAD","PACASMAYO","PACASMAYO","13","07","04"]
[null,"13 La Libertad","07 Pacasmayo ","05 San José","13","07","05","La Libertad","Pacasmayo ","San José","130705","LA LIBERTAD","PACASMAYO","SAN JOSÉ","13","07","05"]
[null,"13 La Libertad","08 Pataz ","01 Tayabamba","13","08","01","La Libertad","Pataz ","Tayabamba","130801","LA LIBERTAD","PATAZ","TAYABAMBA","13","08","01"]
[null,"13 La Libertad","08 Pataz ","02 Buldibuyo","13","08","02","La Libertad","Pataz ","Buldibuyo","130802","LA LIBERTAD","PATAZ","BULDIBUYO","13","08","02"]
[null,"13 La Libertad","08 Pataz ","03 Chillia","13","08","03","La Libertad","Pataz ","Chillia","130803","LA LIBERTAD","PATAZ","CHILLIA","13","08","03"]
[null,"13 La Libertad","08 Pataz ","04 Huancaspata","13","08","04","La Libertad","Pataz ","Huancaspata","130804","LA LIBERTAD","PATAZ","HUANCASPATA","13","08","04"]
[null,"13 La Libertad","08 Pataz ","05 Huaylillas","13","08","05","La Libertad","Pataz ","Huaylillas","130805","LA LIBERTAD","PATAZ","HUAYLILLAS","13","08","05"]
[null,"13 La Libertad","08 Pataz ","06 Huayo","13","08","06","La Libertad","Pataz ","Huayo","130806","LA LIBERTAD","PATAZ","HUAYO","13","08","06"]
[null,"13 La Libertad","08 Pataz ","07 Ongon","13","08","07","La Libertad","Pataz ","Ongon","130807","LA LIBERTAD","PATAZ","ONGON","13","08","07"]
[null,"13 La Libertad","08 Pataz ","08 Parcoy","13","08","08","La Libertad","Pataz ","Parcoy","130808","LA LIBERTAD","PATAZ","PARCOY","13","08","08"]
[null,"13 La Libertad","08 Pataz ","09 Pataz","13","08","09","La Libertad","Pataz ","Pataz","130809","LA LIBERTAD","PATAZ","PATAZ","13","08","09"]
[null,"13 La Libertad","08 Pataz ","10 Pias","13","08","10","La Libertad","Pataz ","Pias","130810","LA LIBERTAD","PATAZ","PIAS","13","08","10"]
[null,"13 La Libertad","08 Pataz ","11 Santiago de Challas","13","08","11","La Libertad","Pataz ","Santiago de Challas","130811","LA LIBERTAD","PATAZ","SANTIAGO DE CHALLAS","13","08","11"]
[null,"13 La Libertad","08 Pataz ","12 Taurija","13","08","12","La Libertad","Pataz ","Taurija","130812","LA LIBERTAD","PATAZ","TAURIJA","13","08","12"]
[null,"13 La Libertad","08 Pataz ","13 Urpay","13","08","13","La Libertad","Pataz ","Urpay","130813","LA LIBERTAD","PATAZ","URPAY","13","08","13"]
[null,"13 La Libertad","09 Sánchez Carrión ","01 Huamachuco","13","09","01","La Libertad","Sánchez Carrión ","Huamachuco","130901","LA LIBERTAD","SÁNCHEZ CARRIÓN","HUAMACHUCO","13","09","01"]
[null,"13 La Libertad","09 Sánchez Carrión ","02 Chugay","13","09","02","La Libertad","Sánchez Carrión ","Chugay","130902","LA LIBERTAD","SÁNCHEZ CARRIÓN","CHUGAY","13","09","02"]
[null,"13 La Libertad","09 Sánchez Carrión ","03 Cochorco","13","09","03","La Libertad","Sánchez Carrión ","Cochorco","130903","LA LIBERTAD","SÁNCHEZ CARRIÓN","COCHORCO","13","09","03"]
[null,"13 La Libertad","09 Sánchez Carrión ","04 Curgos","13","09","04","La Libertad","Sánchez Carrión ","Curgos","130904","LA LIBERTAD","SÁNCHEZ CARRIÓN","CURGOS","13","09","04"]
[null,"13 La Libertad","09 Sánchez Carrión ","05 Marcabal",{"$f":"+MID(B1220,1,2)","v":"13"},"09","05","La Libertad","Sánchez Carrión ","Marcabal",{"$f":"+CONCATENATE(E1220,F1220,G1220)","v":"130905"},"LA LIBERTAD","SÁNCHEZ CARRIÓN","MARCABAL","13","09","05"]
[null,"13 La Libertad","09 Sánchez Carrión ","06 Sanagoran","13","09","06","La Libertad","Sánchez Carrión ","Sanagoran","130906","LA LIBERTAD","SÁNCHEZ CARRIÓN","SANAGORAN","13","09","06"]
[null,"13 La Libertad","09 Sánchez Carrión ","07 Sarin","13","09","07","La Libertad","Sánchez Carrión ","Sarin","130907","LA LIBERTAD","SÁNCHEZ CARRIÓN","SARIN","13","09","07"]
[null,"13 La Libertad","09 Sánchez Carrión ","08 Sartimbamba","13","09","08","La Libertad","Sánchez Carrión ","Sartimbamba","130908","LA LIBERTAD","SÁNCHEZ CARRIÓN","SARTIMBAMBA","13","09","08"]
[null,"13 La Libertad","10 Santiago de Chuco ","01 Santiago de Chuco","13","10","01","La Libertad","Santiago de Chuco ","Santiago de Chuco","131001","LA LIBERTAD","SANTIAGO DE CHUCO","SANTIAGO DE CHUCO","13","10","01"]
[null,"13 La Libertad","10 Santiago de Chuco ","02 Angasmarca","13","10","02","La Libertad","Santiago de Chuco ","Angasmarca","131002","LA LIBERTAD","SANTIAGO DE CHUCO","ANGASMARCA","13","10","02"]
[null,"13 La Libertad","10 Santiago de Chuco ","03 Cachicadan","13","10","03","La Libertad","Santiago de Chuco ","Cachicadan","131003","LA LIBERTAD","SANTIAGO DE CHUCO","CACHICADAN","13","10","03"]
[null,"13 La Libertad","10 Santiago de Chuco ","04 Mollebamba","13","10","04","La Libertad","Santiago de Chuco ","Mollebamba","131004","LA LIBERTAD","SANTIAGO DE CHUCO","MOLLEBAMBA","13","10","04"]
[null,"13 La Libertad","10 Santiago de Chuco ","05 Mollepata","13","10","05","La Libertad","Santiago de Chuco ","Mollepata","131005","LA LIBERTAD","SANTIAGO DE CHUCO","MOLLEPATA","13","10","05"]
[null,"13 La Libertad","10 Santiago de Chuco ","06 Quiruvilca","13","10","06","La Libertad","Santiago de Chuco ","Quiruvilca","131006","LA LIBERTAD","SANTIAGO DE CHUCO","QUIRUVILCA","13","10","06"]
[null,"13 La Libertad","10 Santiago de Chuco ","07 Santa Cruz de Chuca","13","10","07","La Libertad","Santiago de Chuco ","Santa Cruz de Chuca","131007","LA LIBERTAD","SANTIAGO DE CHUCO","SANTA CRUZ DE CHUCA","13","10","07"]
[null,"13 La Libertad","10 Santiago de Chuco ","08 Sitabamba","13","10","08","La Libertad","Santiago de Chuco ","Sitabamba","131008","LA LIBERTAD","SANTIAGO DE CHUCO","SITABAMBA","13","10","08"]
[null,"13 La Libertad","11 Gran Chimú ","01 Cascas","13","11","01","La Libertad","Gran Chimú ","Cascas","131101","LA LIBERTAD","GRAN CHIMÚ","CASCAS","13","11","01"]
[null,"13 La Libertad","11 Gran Chimú ","02 Lucma","13","11","02","La Libertad","Gran Chimú ","Lucma","131102","LA LIBERTAD","GRAN CHIMÚ","LUCMA","13","11","02"]
[null,"13 La Libertad","11 Gran Chimú ","03 Marmot","13","11","03","La Libertad","Gran Chimú ","Marmot","131103","LA LIBERTAD","GRAN CHIMÚ","MARMOT","13","11","03"]
[null,"13 La Libertad","11 Gran Chimú ","04 Sayapullo","13","11","04","La Libertad","Gran Chimú ","Sayapullo","131104","LA LIBERTAD","GRAN CHIMÚ","SAYAPULLO","13","11","04"]
[null,"13 La Libertad","12 Virú ","01 Viru","13","12","01","La Libertad","Virú ","Viru","131201","LA LIBERTAD","VIRÚ","VIRU","13","12","01"]
[null,"13 La Libertad","12 Virú ","02 Chao","13","12","02","La Libertad","Virú ","Chao","131202","LA LIBERTAD","VIRÚ","CHAO","13","12","02"]
[null,"13 La Libertad","12 Virú ","03 Guadalupito","13","12","03","La Libertad","Virú ","Guadalupito","131203","LA LIBERTAD","VIRÚ","GUADALUPITO","13","12","03"]
[null,"14 Lambayeque","01 Chiclayo ","01 Chiclayo","14","01","01","Lambayeque","Chiclayo ","Chiclayo","140101","LAMBAYEQUE","CHICLAYO","CHICLAYO","14","01","01"]
[null,"14 Lambayeque","01 Chiclayo ","02 Chongoyape","14","01","02","Lambayeque","Chiclayo ","Chongoyape","140102","LAMBAYEQUE","CHICLAYO","CHONGOYAPE","14","01","02"]
[null,"14 Lambayeque","01 Chiclayo ","03 Eten","14","01","03","Lambayeque","Chiclayo ","Eten","140103","LAMBAYEQUE","CHICLAYO","ETEN","14","01","03"]
[null,"14 Lambayeque","01 Chiclayo ","04 Eten Puerto","14","01","04","Lambayeque","Chiclayo ","Eten Puerto","140104","LAMBAYEQUE","CHICLAYO","ETEN PUERTO","14","01","04"]
[null,"14 Lambayeque","01 Chiclayo ","05 José Leonardo Ortiz","14","01","05","Lambayeque","Chiclayo ","José Leonardo Ortiz","140105","LAMBAYEQUE","CHICLAYO","JOSÉ LEONARDO ORTIZ","14","01","05"]
[null,"14 Lambayeque","01 Chiclayo ","06 La Victoria","14","01","06","Lambayeque","Chiclayo ","La Victoria","140106","LAMBAYEQUE","CHICLAYO","LA VICTORIA","14","01","06"]
[null,"14 Lambayeque","01 Chiclayo ","07 Lagunas","14","01","07","Lambayeque","Chiclayo ","Lagunas","140107","LAMBAYEQUE","CHICLAYO","LAGUNAS","14","01","07"]
[null,"14 Lambayeque","01 Chiclayo ","08 Monsefu","14","01","08","Lambayeque","Chiclayo ","Monsefu","140108","LAMBAYEQUE","CHICLAYO","MONSEFU","14","01","08"]
[null,"14 Lambayeque","01 Chiclayo ","09 Nueva Arica","14","01","09","Lambayeque","Chiclayo ","Nueva Arica","140109","LAMBAYEQUE","CHICLAYO","NUEVA ARICA","14","01","09"]
[null,"14 Lambayeque","01 Chiclayo ","10 Oyotun","14","01","10","Lambayeque","Chiclayo ","Oyotun","140110","LAMBAYEQUE","CHICLAYO","OYOTUN","14","01","10"]
[null,"14 Lambayeque","01 Chiclayo ","11 Picsi","14","01","11","Lambayeque","Chiclayo ","Picsi","140111","LAMBAYEQUE","CHICLAYO","PICSI","14","01","11"]
[null,"14 Lambayeque","01 Chiclayo ","12 Pimentel","14","01","12","Lambayeque","Chiclayo ","Pimentel","140112","LAMBAYEQUE","CHICLAYO","PIMENTEL","14","01","12"]
[null,"14 Lambayeque","01 Chiclayo ","13 Reque","14","01","13","Lambayeque","Chiclayo ","Reque","140113","LAMBAYEQUE","CHICLAYO","REQUE","14","01","13"]
[null,"14 Lambayeque","01 Chiclayo ","14 Santa Rosa","14","01","14","Lambayeque","Chiclayo ","Santa Rosa","140114","LAMBAYEQUE","CHICLAYO","SANTA ROSA","14","01","14"]
[null,"14 Lambayeque","01 Chiclayo ","15 Saña","14","01","15","Lambayeque","Chiclayo ","Saña","140115","LAMBAYEQUE","CHICLAYO","SAÑA","14","01","15"]
[null,"14 Lambayeque","01 Chiclayo ","16 Cayalti","14","01","16","Lambayeque","Chiclayo ","Cayalti","140116","LAMBAYEQUE","CHICLAYO","CAYALTI","14","01","16"]
[null,"14 Lambayeque","01 Chiclayo ","17 Patapo","14","01","17","Lambayeque","Chiclayo ","Patapo","140117","LAMBAYEQUE","CHICLAYO","PATAPO","14","01","17"]
[null,"14 Lambayeque","01 Chiclayo ","18 Pomalca","14","01","18","Lambayeque","Chiclayo ","Pomalca","140118","LAMBAYEQUE","CHICLAYO","POMALCA","14","01","18"]
[null,"14 Lambayeque","01 Chiclayo ","19 Pucala","14","01","19","Lambayeque","Chiclayo ","Pucala","140119","LAMBAYEQUE","CHICLAYO","PUCALA","14","01","19"]
[null,"14 Lambayeque","01 Chiclayo ","20 Tuman","14","01","20","Lambayeque","Chiclayo ","Tuman","140120","LAMBAYEQUE","CHICLAYO","TUMAN","14","01","20"]
[null,"14 Lambayeque","02 Ferreñafe ","01 Ferreñafe","14","02","01","Lambayeque","Ferreñafe ","Ferreñafe","140201","LAMBAYEQUE","FERREÑAFE","FERREÑAFE","14","02","01"]
[null,"14 Lambayeque","02 Ferreñafe ","02 Cañaris","14","02","02","Lambayeque","Ferreñafe ","Cañaris","140202","LAMBAYEQUE","FERREÑAFE","CAÑARIS","14","02","02"]
[null,"14 Lambayeque","02 Ferreñafe ","03 Incahuasi","14","02","03","Lambayeque","Ferreñafe ","Incahuasi","140203","LAMBAYEQUE","FERREÑAFE","INCAHUASI","14","02","03"]
[null,"14 Lambayeque","02 Ferreñafe ","04 Manuel Antonio Mesones Muro","14","02","04","Lambayeque","Ferreñafe ","Manuel Antonio Mesones Muro","140204","LAMBAYEQUE","FERREÑAFE","MANUEL ANTONIO MESONES MURO","14","02","04"]
[null,"14 Lambayeque","02 Ferreñafe ","05 Pitipo","14","02","05","Lambayeque","Ferreñafe ","Pitipo","140205","LAMBAYEQUE","FERREÑAFE","PITIPO","14","02","05"]
[null,"14 Lambayeque","02 Ferreñafe ","06 Pueblo Nuevo","14","02","06","Lambayeque","Ferreñafe ","Pueblo Nuevo","140206","LAMBAYEQUE","FERREÑAFE","PUEBLO NUEVO","14","02","06"]
[null,"14 Lambayeque","03 Lambayeque ","01 Lambayeque","14","03","01","Lambayeque","Lambayeque ","Lambayeque","140301","LAMBAYEQUE","LAMBAYEQUE","LAMBAYEQUE","14","03","01"]
[null,"14 Lambayeque","03 Lambayeque ","02 Chochope","14","03","02","Lambayeque","Lambayeque ","Chochope","140302","LAMBAYEQUE","LAMBAYEQUE","CHOCHOPE","14","03","02"]
[null,"14 Lambayeque","03 Lambayeque ","03 Illimo","14","03","03","Lambayeque","Lambayeque ","Illimo","140303","LAMBAYEQUE","LAMBAYEQUE","ILLIMO","14","03","03"]
[null,"14 Lambayeque","03 Lambayeque ","04 Jayanca","14","03","04","Lambayeque","Lambayeque ","Jayanca","140304","LAMBAYEQUE","LAMBAYEQUE","JAYANCA","14","03","04"]
[null,"14 Lambayeque","03 Lambayeque ","05 Mochumi","14","03","05","Lambayeque","Lambayeque ","Mochumi","140305","LAMBAYEQUE","LAMBAYEQUE","MOCHUMI","14","03","05"]
[null,"14 Lambayeque","03 Lambayeque ","06 Morrope","14","03","06","Lambayeque","Lambayeque ","Morrope","140306","LAMBAYEQUE","LAMBAYEQUE","MORROPE","14","03","06"]
[null,"14 Lambayeque","03 Lambayeque ","07 Motupe","14","03","07","Lambayeque","Lambayeque ","Motupe","140307","LAMBAYEQUE","LAMBAYEQUE","MOTUPE","14","03","07"]
[null,"14 Lambayeque","03 Lambayeque ","08 Olmos","14","03","08","Lambayeque","Lambayeque ","Olmos","140308","LAMBAYEQUE","LAMBAYEQUE","OLMOS","14","03","08"]
[null,"14 Lambayeque","03 Lambayeque ","09 Pacora","14","03","09","Lambayeque","Lambayeque ","Pacora","140309","LAMBAYEQUE","LAMBAYEQUE","PACORA","14","03","09"]
[null,"14 Lambayeque","03 Lambayeque ","10 Salas","14","03","10","Lambayeque","Lambayeque ","Salas","140310","LAMBAYEQUE","LAMBAYEQUE","SALAS","14","03","10"]
[null,"14 Lambayeque","03 Lambayeque ","11 San José","14","03","11","Lambayeque","Lambayeque ","San José","140311","LAMBAYEQUE","LAMBAYEQUE","SAN JOSÉ","14","03","11"]
[null,"14 Lambayeque","03 Lambayeque ","12 Tucume","14","03","12","Lambayeque","Lambayeque ","Tucume","140312","LAMBAYEQUE","LAMBAYEQUE","TUCUME","14","03","12"]
[null,"07 Callao","01 Prov. Const. del Callao","01 Callao","07","01","01","Callao","Prov. Const. del Callao","Callao","070101","LIMA","CALLAO","CALLAO","07","01","01"]
[null,"07 Callao","01 Prov. Const. del Callao","02 Bellavista","07","01","02","Callao","Prov. Const. del Callao","Bellavista","070102","LIMA","CALLAO","BELLAVISTA","07","01","02"]
[null,"07 Callao","01 Prov. Const. del Callao","03 Carmen de la Legua Reynoso","07","01","03","Callao","Prov. Const. del Callao","Carmen de la Legua Reynoso","070103","LIMA","CALLAO","CARMEN DE LA LEGUA REYNOSO","07","01","03"]
[null,"07 Callao","01 Prov. Const. del Callao","04 La Perla","07","01","04","Callao","Prov. Const. del Callao","La Perla","070104","LIMA","CALLAO","LA PERLA","07","01","04"]
[null,"07 Callao","01 Prov. Const. del Callao","05 La Punta","07","01","05","Callao","Prov. Const. del Callao","La Punta","070105","LIMA","CALLAO","LA PUNTA","07","01","05"]
[null,"07 Callao","01 Prov. Const. del Callao","06 Ventanilla","07","01","06","Callao","Prov. Const. del Callao","Ventanilla","070106","LIMA","CALLAO","VENTANILLA","07","01","06"]
[null,"07 Callao","01 Prov. Const. del Callao","07 Mi Perú","07","01","07","Callao","Prov. Const. del Callao","Mi Perú","070107","LIMA","CALLAO","MI PERÚ","07","01","07"]
[null,"15 Lima","01 Lima ","01 Lima",{"$f":"+MID(B1284,1,2)","v":"15"},"01","01","Lima","Lima ","Lima",{"$f":"+CONCATENATE(E1284,F1284,G1284)","v":"150101"},"LIMA","LIMA","LIMA","15","01","01"]
[null,"15 Lima","01 Lima ","02 Ancón","15","01","02","Lima","Lima ","Ancón","150102","LIMA","LIMA","ANCÓN","15","01","02"]
[null,"15 Lima","01 Lima ","03 Ate","15","01","03","Lima","Lima ","Ate","150103","LIMA","LIMA","ATE","15","01","03"]
[null,"15 Lima","01 Lima ","04 Barranco","15","01","04","Lima","Lima ","Barranco","150104","LIMA","LIMA","BARRANCO","15","01","04"]
[null,"15 Lima","01 Lima ","05 Breña","15","01","05","Lima","Lima ","Breña","150105","LIMA","LIMA","BREÑA","15","01","05"]
[null,"15 Lima","01 Lima ","06 Carabayllo","15","01","06","Lima","Lima ","Carabayllo","150106","LIMA","LIMA","CARABAYLLO","15","01","06"]
[null,"15 Lima","01 Lima ","07 Chaclacayo","15","01","07","Lima","Lima ","Chaclacayo","150107","LIMA","LIMA","CHACLACAYO","15","01","07"]
[null,"15 Lima","01 Lima ","08 Chorrillos","15","01","08","Lima","Lima ","Chorrillos","150108","LIMA","LIMA","CHORRILLOS","15","01","08"]
[null,"15 Lima","01 Lima ","09 Cieneguilla","15","01","09","Lima","Lima ","Cieneguilla","150109","LIMA","LIMA","CIENEGUILLA","15","01","09"]
[null,"15 Lima","01 Lima ","10 Comas","15","01","10","Lima","Lima ","Comas","150110","LIMA","LIMA","COMAS","15","01","10"]
[null,"15 Lima","01 Lima ","11 El Agustino","15","01","11","Lima","Lima ","El Agustino","150111","LIMA","LIMA","EL AGUSTINO","15","01","11"]
[null,"15 Lima","01 Lima ","12 Independencia","15","01","12","Lima","Lima ","Independencia","150112","LIMA","LIMA","INDEPENDENCIA","15","01","12"]
[null,"15 Lima","01 Lima ","13 Jesús María","15","01","13","Lima","Lima ","Jesús María","150113","LIMA","LIMA","JESÚS MARÍA","15","01","13"]
[null,"15 Lima","01 Lima ","14 La Molina","15","01","14","Lima","Lima ","La Molina","150114","LIMA","LIMA","LA MOLINA","15","01","14"]
[null,"15 Lima","01 Lima ","15 La Victoria","15","01","15","Lima","Lima ","La Victoria","150115","LIMA","LIMA","LA VICTORIA","15","01","15"]
[null,"15 Lima","01 Lima ","16 Lince","15","01","16","Lima","Lima ","Lince","150116","LIMA","LIMA","LINCE","15","01","16"]
[null,"15 Lima","01 Lima ","17 Los Olivos","15","01","17","Lima","Lima ","Los Olivos","150117","LIMA","LIMA","LOS OLIVOS","15","01","17"]
[null,"15 Lima","01 Lima ","18 Lurigancho","15","01","18","Lima","Lima ","Lurigancho","150118","LIMA","LIMA","LURIGANCHO","15","01","18"]
[null,"15 Lima","01 Lima ","19 Lurin","15","01","19","Lima","Lima ","Lurin","150119","LIMA","LIMA","LURIN","15","01","19"]
[null,"15 Lima","01 Lima ","20 Magdalena del Mar","15","01","20","Lima","Lima ","Magdalena del Mar","150120","LIMA","LIMA","MAGDALENA DEL MAR","15","01","20"]
[null,"15 Lima","01 Lima ","21 Pueblo Libre","15","01","21","Lima","Lima ","Pueblo Libre","150121","LIMA","LIMA","PUEBLO LIBRE","15","01","21"]
[null,"15 Lima","01 Lima ","22 Miraflores","15","01","22","Lima","Lima ","Miraflores","150122","LIMA","LIMA","MIRAFLORES","15","01","22"]
[null,"15 Lima","01 Lima ","23 Pachacamac","15","01","23","Lima","Lima ","Pachacamac","150123","LIMA","LIMA","PACHACAMAC","15","01","23"]
[null,"15 Lima","01 Lima ","24 Pucusana","15","01","24","Lima","Lima ","Pucusana","150124","LIMA","LIMA","PUCUSANA","15","01","24"]
[null,"15 Lima","01 Lima ","25 Puente Piedra","15","01","25","Lima","Lima ","Puente Piedra","150125","LIMA","LIMA","PUENTE PIEDRA","15","01","25"]
[null,"15 Lima","01 Lima ","26 Punta Hermosa","15","01","26","Lima","Lima ","Punta Hermosa","150126","LIMA","LIMA","PUNTA HERMOSA","15","01","26"]
[null,"15 Lima","01 Lima ","27 Punta Negra","15","01","27","Lima","Lima ","Punta Negra","150127","LIMA","LIMA","PUNTA NEGRA","15","01","27"]
[null,"15 Lima","01 Lima ","28 Rímac","15","01","28","Lima","Lima ","Rímac","150128","LIMA","LIMA","RÍMAC","15","01","28"]
[null,"15 Lima","01 Lima ","29 San Bartolo","15","01","29","Lima","Lima ","San Bartolo","150129","LIMA","LIMA","SAN BARTOLO","15","01","29"]
[null,"15 Lima","01 Lima ","30 San Borja","15","01","30","Lima","Lima ","San Borja","150130","LIMA","LIMA","SAN BORJA","15","01","30"]
[null,"15 Lima","01 Lima ","31 San Isidro","15","01","31","Lima","Lima ","San Isidro","150131","LIMA","LIMA","SAN ISIDRO","15","01","31"]
[null,"15 Lima","01 Lima ","32 San Juan de Lurigancho","15","01","32","Lima","Lima ","San Juan de Lurigancho","150132","LIMA","LIMA","SAN JUAN DE LURIGANCHO","15","01","32"]
[null,"15 Lima","01 Lima ","33 San Juan de Miraflores","15","01","33","Lima","Lima ","San Juan de Miraflores","150133","LIMA","LIMA","SAN JUAN DE MIRAFLORES","15","01","33"]
[null,"15 Lima","01 Lima ","34 San Luis","15","01","34","Lima","Lima ","San Luis","150134","LIMA","LIMA","SAN LUIS","15","01","34"]
[null,"15 Lima","01 Lima ","35 San Martín de Porres","15","01","35","Lima","Lima ","San Martín de Porres","150135","LIMA","LIMA","SAN MARTÍN DE PORRES","15","01","35"]
[null,"15 Lima","01 Lima ","36 San Miguel","15","01","36","Lima","Lima ","San Miguel","150136","LIMA","LIMA","SAN MIGUEL","15","01","36"]
[null,"15 Lima","01 Lima ","37 Santa Anita","15","01","37","Lima","Lima ","Santa Anita","150137","LIMA","LIMA","SANTA ANITA","15","01","37"]
[null,"15 Lima","01 Lima ","38 Santa María del Mar","15","01","38","Lima","Lima ","Santa María del Mar","150138","LIMA","LIMA","SANTA MARÍA DEL MAR","15","01","38"]
[null,"15 Lima","01 Lima ","39 Santa Rosa","15","01","39","Lima","Lima ","Santa Rosa","150139","LIMA","LIMA","SANTA ROSA","15","01","39"]
[null,"15 Lima","01 Lima ","40 Santiago de Surco","15","01","40","Lima","Lima ","Santiago de Surco","150140","LIMA","LIMA","SANTIAGO DE SURCO","15","01","40"]
[null,"15 Lima","01 Lima ","41 Surquillo","15","01","41","Lima","Lima ","Surquillo","150141","LIMA","LIMA","SURQUILLO","15","01","41"]
[null,"15 Lima","01 Lima ","42 Villa El Salvador","15","01","42","Lima","Lima ","Villa El Salvador","150142","LIMA","LIMA","VILLA EL SALVADOR","15","01","42"]
[null,"15 Lima","01 Lima ","43 Villa María del Triunfo","15","01","43","Lima","Lima ","Villa María del Triunfo","150143","LIMA","LIMA","VILLA MARÍA DEL TRIUNFO","15","01","43"]
[null,"15 Lima","02 Barranca ","01 Barranca","15","02","01","Lima","Barranca ","Barranca","150201","LIMA","BARRANCA","BARRANCA","15","02","01"]
[null,"15 Lima","02 Barranca ","02 Paramonga","15","02","02","Lima","Barranca ","Paramonga","150202","LIMA","BARRANCA","PARAMONGA","15","02","02"]
[null,"15 Lima","02 Barranca ","03 Pativilca","15","02","03","Lima","Barranca ","Pativilca","150203","LIMA","BARRANCA","PATIVILCA","15","02","03"]
[null,"15 Lima","02 Barranca ","04 Supe","15","02","04","Lima","Barranca ","Supe","150204","LIMA","BARRANCA","SUPE","15","02","04"]
[null,"15 Lima","02 Barranca ","05 Supe Puerto","15","02","05","Lima","Barranca ","Supe Puerto","150205","LIMA","BARRANCA","SUPE PUERTO","15","02","05"]
[null,"15 Lima","03 Cajatambo ","01 Cajatambo","15","03","01","Lima","Cajatambo ","Cajatambo","150301","LIMA","CAJATAMBO","CAJATAMBO","15","03","01"]
[null,"15 Lima","03 Cajatambo ","02 Copa","15","03","02","Lima","Cajatambo ","Copa","150302","LIMA","CAJATAMBO","COPA","15","03","02"]
[null,"15 Lima","03 Cajatambo ","03 Gorgor","15","03","03","Lima","Cajatambo ","Gorgor","150303","LIMA","CAJATAMBO","GORGOR","15","03","03"]
[null,"15 Lima","03 Cajatambo ","04 Huancapon","15","03","04","Lima","Cajatambo ","Huancapon","150304","LIMA","CAJATAMBO","HUANCAPON","15","03","04"]
[null,"15 Lima","03 Cajatambo ","05 Manas","15","03","05","Lima","Cajatambo ","Manas","150305","LIMA","CAJATAMBO","MANAS","15","03","05"]
[null,"15 Lima","04 Canta ","01 Canta","15","04","01","Lima","Canta ","Canta","150401","LIMA","CANTA","CANTA","15","04","01"]
[null,"15 Lima","04 Canta ","02 Arahuay","15","04","02","Lima","Canta ","Arahuay","150402","LIMA","CANTA","ARAHUAY","15","04","02"]
[null,"15 Lima","04 Canta ","03 Huamantanga","15","04","03","Lima","Canta ","Huamantanga","150403","LIMA","CANTA","HUAMANTANGA","15","04","03"]
[null,"15 Lima","04 Canta ","04 Huaros","15","04","04","Lima","Canta ","Huaros","150404","LIMA","CANTA","HUAROS","15","04","04"]
[null,"15 Lima","04 Canta ","05 Lachaqui","15","04","05","Lima","Canta ","Lachaqui","150405","LIMA","CANTA","LACHAQUI","15","04","05"]
[null,"15 Lima","04 Canta ","06 San Buenaventura","15","04","06","Lima","Canta ","San Buenaventura","150406","LIMA","CANTA","SAN BUENAVENTURA","15","04","06"]
[null,"15 Lima","04 Canta ","07 Santa Rosa de Quives","15","04","07","Lima","Canta ","Santa Rosa de Quives","150407","LIMA","CANTA","SANTA ROSA DE QUIVES","15","04","07"]
[null,"15 Lima","05 Cañete ","01 San Vicente de Cañete","15","05","01","Lima","Cañete ","San Vicente de Cañete","150501","LIMA","CAÑETE","SAN VICENTE DE CAÑETE","15","05","01"]
[null,"15 Lima","05 Cañete ","02 Asia","15","05","02","Lima","Cañete ","Asia","150502","LIMA","CAÑETE","ASIA","15","05","02"]
[null,"15 Lima","05 Cañete ","03 Calango","15","05","03","Lima","Cañete ","Calango","150503","LIMA","CAÑETE","CALANGO","15","05","03"]
[null,"15 Lima","05 Cañete ","04 Cerro Azul","15","05","04","Lima","Cañete ","Cerro Azul","150504","LIMA","CAÑETE","CERRO AZUL","15","05","04"]
[null,"15 Lima","05 Cañete ","05 Chilca",{"$f":"+MID(B1348,1,2)","v":"15"},"05","05","Lima","Cañete ","Chilca",{"$f":"+CONCATENATE(E1348,F1348,G1348)","v":"150505"},"LIMA","CAÑETE","CHILCA","15","05","05"]
[null,"15 Lima","05 Cañete ","06 Coayllo","15","05","06","Lima","Cañete ","Coayllo","150506","LIMA","CAÑETE","COAYLLO","15","05","06"]
[null,"15 Lima","05 Cañete ","07 Imperial","15","05","07","Lima","Cañete ","Imperial","150507","LIMA","CAÑETE","IMPERIAL","15","05","07"]
[null,"15 Lima","05 Cañete ","08 Lunahuana","15","05","08","Lima","Cañete ","Lunahuana","150508","LIMA","CAÑETE","LUNAHUANA","15","05","08"]
[null,"15 Lima","05 Cañete ","09 Mala","15","05","09","Lima","Cañete ","Mala","150509","LIMA","CAÑETE","MALA","15","05","09"]
[null,"15 Lima","05 Cañete ","10 Nuevo Imperial","15","05","10","Lima","Cañete ","Nuevo Imperial","150510","LIMA","CAÑETE","NUEVO IMPERIAL","15","05","10"]
[null,"15 Lima","05 Cañete ","11 Pacaran","15","05","11","Lima","Cañete ","Pacaran","150511","LIMA","CAÑETE","PACARAN","15","05","11"]
[null,"15 Lima","05 Cañete ","12 Quilmana","15","05","12","Lima","Cañete ","Quilmana","150512","LIMA","CAÑETE","QUILMANA","15","05","12"]
[null,"15 Lima","05 Cañete ","13 San Antonio","15","05","13","Lima","Cañete ","San Antonio","150513","LIMA","CAÑETE","SAN ANTONIO","15","05","13"]
[null,"15 Lima","05 Cañete ","14 San Luis","15","05","14","Lima","Cañete ","San Luis","150514","LIMA","CAÑETE","SAN LUIS","15","05","14"]
[null,"15 Lima","05 Cañete ","15 Santa Cruz de Flores","15","05","15","Lima","Cañete ","Santa Cruz de Flores","150515","LIMA","CAÑETE","SANTA CRUZ DE FLORES","15","05","15"]
[null,"15 Lima","05 Cañete ","16 Zúñiga","15","05","16","Lima","Cañete ","Zúñiga","150516","LIMA","CAÑETE","ZÚÑIGA","15","05","16"]
[null,"15 Lima","06 Huaral ","01 Huaral","15","06","01","Lima","Huaral ","Huaral","150601","LIMA","HUARAL","HUARAL","15","06","01"]
[null,"15 Lima","06 Huaral ","02 Atavillos Alto","15","06","02","Lima","Huaral ","Atavillos Alto","150602","LIMA","HUARAL","ATAVILLOS ALTO","15","06","02"]
[null,"15 Lima","06 Huaral ","03 Atavillos Bajo","15","06","03","Lima","Huaral ","Atavillos Bajo","150603","LIMA","HUARAL","ATAVILLOS BAJO","15","06","03"]
[null,"15 Lima","06 Huaral ","04 Aucallama","15","06","04","Lima","Huaral ","Aucallama","150604","LIMA","HUARAL","AUCALLAMA","15","06","04"]
[null,"15 Lima","06 Huaral ","05 Chancay","15","06","05","Lima","Huaral ","Chancay","150605","LIMA","HUARAL","CHANCAY","15","06","05"]
[null,"15 Lima","06 Huaral ","06 Ihuari","15","06","06","Lima","Huaral ","Ihuari","150606","LIMA","HUARAL","IHUARI","15","06","06"]
[null,"15 Lima","06 Huaral ","07 Lampian","15","06","07","Lima","Huaral ","Lampian","150607","LIMA","HUARAL","LAMPIAN","15","06","07"]
[null,"15 Lima","06 Huaral ","08 Pacaraos","15","06","08","Lima","Huaral ","Pacaraos","150608","LIMA","HUARAL","PACARAOS","15","06","08"]
[null,"15 Lima","06 Huaral ","09 San Miguel de Acos","15","06","09","Lima","Huaral ","San Miguel de Acos","150609","LIMA","HUARAL","SAN MIGUEL DE ACOS","15","06","09"]
[null,"15 Lima","06 Huaral ","10 Santa Cruz de Andamarca","15","06","10","Lima","Huaral ","Santa Cruz de Andamarca","150610","LIMA","HUARAL","SANTA CRUZ DE ANDAMARCA","15","06","10"]
[null,"15 Lima","06 Huaral ","11 Sumbilca","15","06","11","Lima","Huaral ","Sumbilca","150611","LIMA","HUARAL","SUMBILCA","15","06","11"]
[null,"15 Lima","06 Huaral ","12 Veintisiete de Noviembre","15","06","12","Lima","Huaral ","Veintisiete de Noviembre","150612","LIMA","HUARAL","VEINTISIETE DE NOVIEMBRE","15","06","12"]
[null,"15 Lima","07 Huarochirí ","01 Matucana","15","07","01","Lima","Huarochirí ","Matucana","150701","LIMA","HUAROCHIRÍ","MATUCANA","15","07","01"]
[null,"15 Lima","07 Huarochirí ","02 Antioquia","15","07","02","Lima","Huarochirí ","Antioquia","150702","LIMA","HUAROCHIRÍ","ANTIOQUIA","15","07","02"]
[null,"15 Lima","07 Huarochirí ","03 Callahuanca","15","07","03","Lima","Huarochirí ","Callahuanca","150703","LIMA","HUAROCHIRÍ","CALLAHUANCA","15","07","03"]
[null,"15 Lima","07 Huarochirí ","04 Carampoma","15","07","04","Lima","Huarochirí ","Carampoma","150704","LIMA","HUAROCHIRÍ","CARAMPOMA","15","07","04"]
[null,"15 Lima","07 Huarochirí ","05 Chicla","15","07","05","Lima","Huarochirí ","Chicla","150705","LIMA","HUAROCHIRÍ","CHICLA","15","07","05"]
[null,"15 Lima","07 Huarochirí ","06 Cuenca","15","07","06","Lima","Huarochirí ","Cuenca","150706","LIMA","HUAROCHIRÍ","CUENCA","15","07","06"]
[null,"15 Lima","07 Huarochirí ","07 Huachupampa","15","07","07","Lima","Huarochirí ","Huachupampa","150707","LIMA","HUAROCHIRÍ","HUACHUPAMPA","15","07","07"]
[null,"15 Lima","07 Huarochirí ","08 Huanza","15","07","08","Lima","Huarochirí ","Huanza","150708","LIMA","HUAROCHIRÍ","HUANZA","15","07","08"]
[null,"15 Lima","07 Huarochirí ","09 Huarochiri","15","07","09","Lima","Huarochirí ","Huarochiri","150709","LIMA","HUAROCHIRÍ","HUAROCHIRI","15","07","09"]
[null,"15 Lima","07 Huarochirí ","10 Lahuaytambo","15","07","10","Lima","Huarochirí ","Lahuaytambo","150710","LIMA","HUAROCHIRÍ","LAHUAYTAMBO","15","07","10"]
[null,"15 Lima","07 Huarochirí ","11 Langa","15","07","11","Lima","Huarochirí ","Langa","150711","LIMA","HUAROCHIRÍ","LANGA","15","07","11"]
[null,"15 Lima","07 Huarochirí ","12 Laraos","15","07","12","Lima","Huarochirí ","Laraos","150712","LIMA","HUAROCHIRÍ","LARAOS","15","07","12"]
[null,"15 Lima","07 Huarochirí ","13 Mariatana","15","07","13","Lima","Huarochirí ","Mariatana","150713","LIMA","HUAROCHIRÍ","MARIATANA","15","07","13"]
[null,"15 Lima","07 Huarochirí ","14 Ricardo Palma","15","07","14","Lima","Huarochirí ","Ricardo Palma","150714","LIMA","HUAROCHIRÍ","RICARDO PALMA","15","07","14"]
[null,"15 Lima","07 Huarochirí ","15 San Andrés de Tupicocha","15","07","15","Lima","Huarochirí ","San Andrés de Tupicocha","150715","LIMA","HUAROCHIRÍ","SAN ANDRÉS DE TUPICOCHA","15","07","15"]
[null,"15 Lima","07 Huarochirí ","16 San Antonio","15","07","16","Lima","Huarochirí ","San Antonio","150716","LIMA","HUAROCHIRÍ","SAN ANTONIO","15","07","16"]
[null,"15 Lima","07 Huarochirí ","17 San Bartolomé","15","07","17","Lima","Huarochirí ","San Bartolomé","150717","LIMA","HUAROCHIRÍ","SAN BARTOLOMÉ","15","07","17"]
[null,"15 Lima","07 Huarochirí ","18 San Damian","15","07","18","Lima","Huarochirí ","San Damian","150718","LIMA","HUAROCHIRÍ","SAN DAMIAN","15","07","18"]
[null,"15 Lima","07 Huarochirí ","19 San Juan de Iris","15","07","19","Lima","Huarochirí ","San Juan de Iris","150719","LIMA","HUAROCHIRÍ","SAN JUAN DE IRIS","15","07","19"]
[null,"15 Lima","07 Huarochirí ","20 San Juan de Tantaranche","15","07","20","Lima","Huarochirí ","San Juan de Tantaranche","150720","LIMA","HUAROCHIRÍ","SAN JUAN DE TANTARANCHE","15","07","20"]
[null,"15 Lima","07 Huarochirí ","21 San Lorenzo de Quinti","15","07","21","Lima","Huarochirí ","San Lorenzo de Quinti","150721","LIMA","HUAROCHIRÍ","SAN LORENZO DE QUINTI","15","07","21"]
[null,"15 Lima","07 Huarochirí ","22 San Mateo","15","07","22","Lima","Huarochirí ","San Mateo","150722","LIMA","HUAROCHIRÍ","SAN MATEO","15","07","22"]
[null,"15 Lima","07 Huarochirí ","23 San Mateo de Otao","15","07","23","Lima","Huarochirí ","San Mateo de Otao","150723","LIMA","HUAROCHIRÍ","SAN MATEO DE OTAO","15","07","23"]
[null,"15 Lima","07 Huarochirí ","24 San Pedro de Casta","15","07","24","Lima","Huarochirí ","San Pedro de Casta","150724","LIMA","HUAROCHIRÍ","SAN PEDRO DE CASTA","15","07","24"]
[null,"15 Lima","07 Huarochirí ","25 San Pedro de Huancayre","15","07","25","Lima","Huarochirí ","San Pedro de Huancayre","150725","LIMA","HUAROCHIRÍ","SAN PEDRO DE HUANCAYRE","15","07","25"]
[null,"15 Lima","07 Huarochirí ","26 Sangallaya","15","07","26","Lima","Huarochirí ","Sangallaya","150726","LIMA","HUAROCHIRÍ","SANGALLAYA","15","07","26"]
[null,"15 Lima","07 Huarochirí ","27 Santa Cruz de Cocachacra","15","07","27","Lima","Huarochirí ","Santa Cruz de Cocachacra","150727","LIMA","HUAROCHIRÍ","SANTA CRUZ DE COCACHACRA","15","07","27"]
[null,"15 Lima","07 Huarochirí ","28 Santa Eulalia","15","07","28","Lima","Huarochirí ","Santa Eulalia","150728","LIMA","HUAROCHIRÍ","SANTA EULALIA","15","07","28"]
[null,"15 Lima","07 Huarochirí ","29 Santiago de Anchucaya","15","07","29","Lima","Huarochirí ","Santiago de Anchucaya","150729","LIMA","HUAROCHIRÍ","SANTIAGO DE ANCHUCAYA","15","07","29"]
[null,"15 Lima","07 Huarochirí ","30 Santiago de Tuna","15","07","30","Lima","Huarochirí ","Santiago de Tuna","150730","LIMA","HUAROCHIRÍ","SANTIAGO DE TUNA","15","07","30"]
[null,"15 Lima","07 Huarochirí ","31 Santo Domingo de Los Olleros","15","07","31","Lima","Huarochirí ","Santo Domingo de Los Olleros","150731","LIMA","HUAROCHIRÍ","SANTO DOMINGO DE LOS OLLEROS","15","07","31"]
[null,"15 Lima","07 Huarochirí ","32 Surco","15","07","32","Lima","Huarochirí ","Surco","150732","LIMA","HUAROCHIRÍ","SURCO","15","07","32"]
[null,"15 Lima","08 Huaura ","01 Huacho","15","08","01","Lima","Huaura ","Huacho","150801","LIMA","HUAURA","HUACHO","15","08","01"]
[null,"15 Lima","08 Huaura ","02 Ambar","15","08","02","Lima","Huaura ","Ambar","150802","LIMA","HUAURA","AMBAR","15","08","02"]
[null,"15 Lima","08 Huaura ","03 Caleta de Carquin","15","08","03","Lima","Huaura ","Caleta de Carquin","150803","LIMA","HUAURA","CALETA DE CARQUIN","15","08","03"]
[null,"15 Lima","08 Huaura ","04 Checras","15","08","04","Lima","Huaura ","Checras","150804","LIMA","HUAURA","CHECRAS","15","08","04"]
[null,"15 Lima","08 Huaura ","05 Hualmay","15","08","05","Lima","Huaura ","Hualmay","150805","LIMA","HUAURA","HUALMAY","15","08","05"]
[null,"15 Lima","08 Huaura ","06 Huaura","15","08","06","Lima","Huaura ","Huaura","150806","LIMA","HUAURA","HUAURA","15","08","06"]
[null,"15 Lima","08 Huaura ","07 Leoncio Prado","15","08","07","Lima","Huaura ","Leoncio Prado","150807","LIMA","HUAURA","LEONCIO PRADO","15","08","07"]
[null,"15 Lima","08 Huaura ","08 Paccho","15","08","08","Lima","Huaura ","Paccho","150808","LIMA","HUAURA","PACCHO","15","08","08"]
[null,"15 Lima","08 Huaura ","09 Santa Leonor",{"$f":"+MID(B1412,1,2)","v":"15"},"08","09","Lima","Huaura ","Santa Leonor",{"$f":"+CONCATENATE(E1412,F1412,G1412)","v":"150809"},"LIMA","HUAURA","SANTA LEONOR","15","08","09"]
[null,"15 Lima","08 Huaura ","10 Santa María","15","08","10","Lima","Huaura ","Santa María","150810","LIMA","HUAURA","SANTA MARÍA","15","08","10"]
[null,"15 Lima","08 Huaura ","11 Sayan","15","08","11","Lima","Huaura ","Sayan","150811","LIMA","HUAURA","SAYAN","15","08","11"]
[null,"15 Lima","08 Huaura ","12 Vegueta","15","08","12","Lima","Huaura ","Vegueta","150812","LIMA","HUAURA","VEGUETA","15","08","12"]
[null,"15 Lima","09 Oyón ","01 Oyon","15","09","01","Lima","Oyón ","Oyon","150901","LIMA","OYÓN","OYON","15","09","01"]
[null,"15 Lima","09 Oyón ","02 Andajes","15","09","02","Lima","Oyón ","Andajes","150902","LIMA","OYÓN","ANDAJES","15","09","02"]
[null,"15 Lima","09 Oyón ","03 Caujul","15","09","03","Lima","Oyón ","Caujul","150903","LIMA","OYÓN","CAUJUL","15","09","03"]
[null,"15 Lima","09 Oyón ","04 Cochamarca","15","09","04","Lima","Oyón ","Cochamarca","150904","LIMA","OYÓN","COCHAMARCA","15","09","04"]
[null,"15 Lima","09 Oyón ","05 Navan","15","09","05","Lima","Oyón ","Navan","150905","LIMA","OYÓN","NAVAN","15","09","05"]
[null,"15 Lima","09 Oyón ","06 Pachangara","15","09","06","Lima","Oyón ","Pachangara","150906","LIMA","OYÓN","PACHANGARA","15","09","06"]
[null,"15 Lima","10 Yauyos ","01 Yauyos","15","10","01","Lima","Yauyos ","Yauyos","151001","LIMA","YAUYOS","YAUYOS","15","10","01"]
[null,"15 Lima","10 Yauyos ","02 Alis","15","10","02","Lima","Yauyos ","Alis","151002","LIMA","YAUYOS","ALIS","15","10","02"]
[null,"15 Lima","10 Yauyos ","03 Allauca","15","10","03","Lima","Yauyos ","Allauca","151003","LIMA","YAUYOS","ALLAUCA","15","10","03"]
[null,"15 Lima","10 Yauyos ","04 Ayaviri","15","10","04","Lima","Yauyos ","Ayaviri","151004","LIMA","YAUYOS","AYAVIRI","15","10","04"]
[null,"15 Lima","10 Yauyos ","05 Azángaro","15","10","05","Lima","Yauyos ","Azángaro","151005","LIMA","YAUYOS","AZÁNGARO","15","10","05"]
[null,"15 Lima","10 Yauyos ","06 Cacra","15","10","06","Lima","Yauyos ","Cacra","151006","LIMA","YAUYOS","CACRA","15","10","06"]
[null,"15 Lima","10 Yauyos ","07 Carania","15","10","07","Lima","Yauyos ","Carania","151007","LIMA","YAUYOS","CARANIA","15","10","07"]
[null,"15 Lima","10 Yauyos ","08 Catahuasi","15","10","08","Lima","Yauyos ","Catahuasi","151008","LIMA","YAUYOS","CATAHUASI","15","10","08"]
[null,"15 Lima","10 Yauyos ","09 Chocos","15","10","09","Lima","Yauyos ","Chocos","151009","LIMA","YAUYOS","CHOCOS","15","10","09"]
[null,"15 Lima","10 Yauyos ","10 Cochas","15","10","10","Lima","Yauyos ","Cochas","151010","LIMA","YAUYOS","COCHAS","15","10","10"]
[null,"15 Lima","10 Yauyos ","11 Colonia","15","10","11","Lima","Yauyos ","Colonia","151011","LIMA","YAUYOS","COLONIA","15","10","11"]
[null,"15 Lima","10 Yauyos ","12 Hongos","15","10","12","Lima","Yauyos ","Hongos","151012","LIMA","YAUYOS","HONGOS","15","10","12"]
[null,"15 Lima","10 Yauyos ","13 Huampara","15","10","13","Lima","Yauyos ","Huampara","151013","LIMA","YAUYOS","HUAMPARA","15","10","13"]
[null,"15 Lima","10 Yauyos ","14 Huancaya","15","10","14","Lima","Yauyos ","Huancaya","151014","LIMA","YAUYOS","HUANCAYA","15","10","14"]
[null,"15 Lima","10 Yauyos ","15 Huangascar","15","10","15","Lima","Yauyos ","Huangascar","151015","LIMA","YAUYOS","HUANGASCAR","15","10","15"]
[null,"15 Lima","10 Yauyos ","16 Huantan","15","10","16","Lima","Yauyos ","Huantan","151016","LIMA","YAUYOS","HUANTAN","15","10","16"]
[null,"15 Lima","10 Yauyos ","17 Huañec","15","10","17","Lima","Yauyos ","Huañec","151017","LIMA","YAUYOS","HUAÑEC","15","10","17"]
[null,"15 Lima","10 Yauyos ","18 Laraos","15","10","18","Lima","Yauyos ","Laraos","151018","LIMA","YAUYOS","LARAOS","15","10","18"]
[null,"15 Lima","10 Yauyos ","19 Lincha","15","10","19","Lima","Yauyos ","Lincha","151019","LIMA","YAUYOS","LINCHA","15","10","19"]
[null,"15 Lima","10 Yauyos ","20 Madean","15","10","20","Lima","Yauyos ","Madean","151020","LIMA","YAUYOS","MADEAN","15","10","20"]
[null,"15 Lima","10 Yauyos ","21 Miraflores","15","10","21","Lima","Yauyos ","Miraflores","151021","LIMA","YAUYOS","MIRAFLORES","15","10","21"]
[null,"15 Lima","10 Yauyos ","22 Omas","15","10","22","Lima","Yauyos ","Omas","151022","LIMA","YAUYOS","OMAS","15","10","22"]
[null,"15 Lima","10 Yauyos ","23 Putinza","15","10","23","Lima","Yauyos ","Putinza","151023","LIMA","YAUYOS","PUTINZA","15","10","23"]
[null,"15 Lima","10 Yauyos ","24 Quinches","15","10","24","Lima","Yauyos ","Quinches","151024","LIMA","YAUYOS","QUINCHES","15","10","24"]
[null,"15 Lima","10 Yauyos ","25 Quinocay","15","10","25","Lima","Yauyos ","Quinocay","151025","LIMA","YAUYOS","QUINOCAY","15","10","25"]
[null,"15 Lima","10 Yauyos ","26 San Joaquín","15","10","26","Lima","Yauyos ","San Joaquín","151026","LIMA","YAUYOS","SAN JOAQUÍN","15","10","26"]
[null,"15 Lima","10 Yauyos ","27 San Pedro de Pilas","15","10","27","Lima","Yauyos ","San Pedro de Pilas","151027","LIMA","YAUYOS","SAN PEDRO DE PILAS","15","10","27"]
[null,"15 Lima","10 Yauyos ","28 Tanta","15","10","28","Lima","Yauyos ","Tanta","151028","LIMA","YAUYOS","TANTA","15","10","28"]
[null,"15 Lima","10 Yauyos ","29 Tauripampa","15","10","29","Lima","Yauyos ","Tauripampa","151029","LIMA","YAUYOS","TAURIPAMPA","15","10","29"]
[null,"15 Lima","10 Yauyos ","30 Tomas","15","10","30","Lima","Yauyos ","Tomas","151030","LIMA","YAUYOS","TOMAS","15","10","30"]
[null,"15 Lima","10 Yauyos ","31 Tupe","15","10","31","Lima","Yauyos ","Tupe","151031","LIMA","YAUYOS","TUPE","15","10","31"]
[null,"15 Lima","10 Yauyos ","32 Viñac","15","10","32","Lima","Yauyos ","Viñac","151032","LIMA","YAUYOS","VIÑAC","15","10","32"]
[null,"15 Lima","10 Yauyos ","33 Vitis","15","10","33","Lima","Yauyos ","Vitis","151033","LIMA","YAUYOS","VITIS","15","10","33"]
[null,"16 Loreto","01 Maynas ","01 Iquitos","16","01","01","Loreto","Maynas ","Iquitos","160101","LORETO","MAYNAS","IQUITOS","16","01","01"]
[null,"16 Loreto","01 Maynas ","02 Alto Nanay","16","01","02","Loreto","Maynas ","Alto Nanay","160102","LORETO","MAYNAS","ALTO NANAY","16","01","02"]
[null,"16 Loreto","01 Maynas ","03 Fernando Lores","16","01","03","Loreto","Maynas ","Fernando Lores","160103","LORETO","MAYNAS","FERNANDO LORES","16","01","03"]
[null,"16 Loreto","01 Maynas ","04 Indiana","16","01","04","Loreto","Maynas ","Indiana","160104","LORETO","MAYNAS","INDIANA","16","01","04"]
[null,"16 Loreto","01 Maynas ","05 Las Amazonas","16","01","05","Loreto","Maynas ","Las Amazonas","160105","LORETO","MAYNAS","LAS AMAZONAS","16","01","05"]
[null,"16 Loreto","01 Maynas ","06 Mazan","16","01","06","Loreto","Maynas ","Mazan","160106","LORETO","MAYNAS","MAZAN","16","01","06"]
[null,"16 Loreto","01 Maynas ","07 Napo","16","01","07","Loreto","Maynas ","Napo","160107","LORETO","MAYNAS","NAPO","16","01","07"]
[null,"16 Loreto","01 Maynas ","08 Punchana","16","01","08","Loreto","Maynas ","Punchana","160108","LORETO","MAYNAS","PUNCHANA","16","01","08"]
[null,"16 Loreto","01 Maynas ","10 Torres Causana","16","01","10","Loreto","Maynas ","Torres Causana","160110","LORETO","MAYNAS","TORRES CAUSANA","16","01","10"]
[null,"16 Loreto","01 Maynas ","12 Belén","16","01","12","Loreto","Maynas ","Belén","160112","LORETO","MAYNAS","BELÉN","16","01","12"]
[null,"16 Loreto","01 Maynas ","13 San Juan Bautista","16","01","13","Loreto","Maynas ","San Juan Bautista","160113","LORETO","MAYNAS","SAN JUAN BAUTISTA","16","01","13"]
[null,"16 Loreto","02 Alto Amazonas ","01 Yurimaguas","16","02","01","Loreto","Alto Amazonas ","Yurimaguas","160201","LORETO","ALTO AMAZONAS","YURIMAGUAS","16","02","01"]
[null,"16 Loreto","02 Alto Amazonas ","02 Balsapuerto","16","02","02","Loreto","Alto Amazonas ","Balsapuerto","160202","LORETO","ALTO AMAZONAS","BALSAPUERTO","16","02","02"]
[null,"16 Loreto","02 Alto Amazonas ","05 Jeberos","16","02","05","Loreto","Alto Amazonas ","Jeberos","160205","LORETO","ALTO AMAZONAS","JEBEROS","16","02","05"]
[null,"16 Loreto","02 Alto Amazonas ","06 Lagunas","16","02","06","Loreto","Alto Amazonas ","Lagunas","160206","LORETO","ALTO AMAZONAS","LAGUNAS","16","02","06"]
[null,"16 Loreto","02 Alto Amazonas ","10 Santa Cruz","16","02","10","Loreto","Alto Amazonas ","Santa Cruz","160210","LORETO","ALTO AMAZONAS","SANTA CRUZ","16","02","10"]
[null,"16 Loreto","02 Alto Amazonas ","11 Teniente Cesar López Rojas","16","02","11","Loreto","Alto Amazonas ","Teniente Cesar López Rojas","160211","LORETO","ALTO AMAZONAS","TENIENTE CESAR LÓPEZ ROJAS","16","02","11"]
[null,"16 Loreto","03 Loreto ","01 Nauta","16","03","01","Loreto","Loreto ","Nauta","160301","LORETO","LORETO","NAUTA","16","03","01"]
[null,"16 Loreto","03 Loreto ","02 Parinari","16","03","02","Loreto","Loreto ","Parinari","160302","LORETO","LORETO","PARINARI","16","03","02"]
[null,"16 Loreto","03 Loreto ","03 Tigre","16","03","03","Loreto","Loreto ","Tigre","160303","LORETO","LORETO","TIGRE","16","03","03"]
[null,"16 Loreto","03 Loreto ","04 Trompeteros","16","03","04","Loreto","Loreto ","Trompeteros","160304","LORETO","LORETO","TROMPETEROS","16","03","04"]
[null,"16 Loreto","03 Loreto ","05 Urarinas",{"$f":"+MID(B1476,1,2)","v":"16"},"03","05","Loreto","Loreto ","Urarinas",{"$f":"+CONCATENATE(E1476,F1476,G1476)","v":"160305"},"LORETO","LORETO","URARINAS","16","03","05"]
[null,"16 Loreto","04 Mariscal Ramón Castilla ","01 Ramón Castilla","16","04","01","Loreto","Mariscal Ramón Castilla ","Ramón Castilla","160401","LORETO","MARISCAL RAMÓN CASTILLA","RAMÓN CASTILLA","16","04","01"]
[null,"16 Loreto","04 Mariscal Ramón Castilla ","02 Pebas","16","04","02","Loreto","Mariscal Ramón Castilla ","Pebas","160402","LORETO","MARISCAL RAMÓN CASTILLA","PEBAS","16","04","02"]
[null,"16 Loreto","04 Mariscal Ramón Castilla ","03 Yavari","16","04","03","Loreto","Mariscal Ramón Castilla ","Yavari","160403","LORETO","MARISCAL RAMÓN CASTILLA","YAVARI","16","04","03"]
[null,"16 Loreto","04 Mariscal Ramón Castilla ","04 San Pablo","16","04","04","Loreto","Mariscal Ramón Castilla ","San Pablo","160404","LORETO","MARISCAL RAMÓN CASTILLA","SAN PABLO","16","04","04"]
[null,"16 Loreto","05 Requena ","01 Requena","16","05","01","Loreto","Requena ","Requena","160501","LORETO","REQUENA","REQUENA","16","05","01"]
[null,"16 Loreto","05 Requena ","02 Alto Tapiche","16","05","02","Loreto","Requena ","Alto Tapiche","160502","LORETO","REQUENA","ALTO TAPICHE","16","05","02"]
[null,"16 Loreto","05 Requena ","03 Capelo","16","05","03","Loreto","Requena ","Capelo","160503","LORETO","REQUENA","CAPELO","16","05","03"]
[null,"16 Loreto","05 Requena ","04 Emilio San Martín","16","05","04","Loreto","Requena ","Emilio San Martín","160504","LORETO","REQUENA","EMILIO SAN MARTÍN","16","05","04"]
[null,"16 Loreto","05 Requena ","05 Maquia","16","05","05","Loreto","Requena ","Maquia","160505","LORETO","REQUENA","MAQUIA","16","05","05"]
[null,"16 Loreto","05 Requena ","06 Puinahua","16","05","06","Loreto","Requena ","Puinahua","160506","LORETO","REQUENA","PUINAHUA","16","05","06"]
[null,"16 Loreto","05 Requena ","07 Saquena","16","05","07","Loreto","Requena ","Saquena","160507","LORETO","REQUENA","SAQUENA","16","05","07"]
[null,"16 Loreto","05 Requena ","08 Soplin","16","05","08","Loreto","Requena ","Soplin","160508","LORETO","REQUENA","SOPLIN","16","05","08"]
[null,"16 Loreto","05 Requena ","09 Tapiche","16","05","09","Loreto","Requena ","Tapiche","160509","LORETO","REQUENA","TAPICHE","16","05","09"]
[null,"16 Loreto","05 Requena ","10 Jenaro Herrera","16","05","10","Loreto","Requena ","Jenaro Herrera","160510","LORETO","REQUENA","JENARO HERRERA","16","05","10"]
[null,"16 Loreto","05 Requena ","11 Yaquerana","16","05","11","Loreto","Requena ","Yaquerana","160511","LORETO","REQUENA","YAQUERANA","16","05","11"]
[null,"16 Loreto","06 Ucayali ","01 Contamana","16","06","01","Loreto","Ucayali ","Contamana","160601","LORETO","UCAYALI","CONTAMANA","16","06","01"]
[null,"16 Loreto","06 Ucayali ","02 Inahuaya","16","06","02","Loreto","Ucayali ","Inahuaya","160602","LORETO","UCAYALI","INAHUAYA","16","06","02"]
[null,"16 Loreto","06 Ucayali ","03 Padre Márquez","16","06","03","Loreto","Ucayali ","Padre Márquez","160603","LORETO","UCAYALI","PADRE MÁRQUEZ","16","06","03"]
[null,"16 Loreto","06 Ucayali ","04 Pampa Hermosa","16","06","04","Loreto","Ucayali ","Pampa Hermosa","160604","LORETO","UCAYALI","PAMPA HERMOSA","16","06","04"]
[null,"16 Loreto","06 Ucayali ","05 Sarayacu","16","06","05","Loreto","Ucayali ","Sarayacu","160605","LORETO","UCAYALI","SARAYACU","16","06","05"]
[null,"16 Loreto","06 Ucayali ","06 Vargas Guerra","16","06","06","Loreto","Ucayali ","Vargas Guerra","160606","LORETO","UCAYALI","VARGAS GUERRA","16","06","06"]
[null,"16 Loreto","07 Datem del Marañón ","01 Barranca","16","07","01","Loreto","Datem del Marañón ","Barranca","160701","LORETO","DATEM DEL MARAÑÓN","BARRANCA","16","07","01"]
[null,"16 Loreto","07 Datem del Marañón ","02 Cahuapanas","16","07","02","Loreto","Datem del Marañón ","Cahuapanas","160702","LORETO","DATEM DEL MARAÑÓN","CAHUAPANAS","16","07","02"]
[null,"16 Loreto","07 Datem del Marañón ","03 Manseriche","16","07","03","Loreto","Datem del Marañón ","Manseriche","160703","LORETO","DATEM DEL MARAÑÓN","MANSERICHE","16","07","03"]
[null,"16 Loreto","07 Datem del Marañón ","04 Morona","16","07","04","Loreto","Datem del Marañón ","Morona","160704","LORETO","DATEM DEL MARAÑÓN","MORONA","16","07","04"]
[null,"16 Loreto","07 Datem del Marañón ","05 Pastaza","16","07","05","Loreto","Datem del Marañón ","Pastaza","160705","LORETO","DATEM DEL MARAÑÓN","PASTAZA","16","07","05"]
[null,"16 Loreto","07 Datem del Marañón ","06 Andoas","16","07","06","Loreto","Datem del Marañón ","Andoas","160706","LORETO","DATEM DEL MARAÑÓN","ANDOAS","16","07","06"]
[null,"16 Loreto","08 Putumayo","01 Putumayo","16","08","01","Loreto","Putumayo","Putumayo","160801","LORETO","PUTUMAYO","PUTUMAYO","16","08","01"]
[null,"16 Loreto","08 Putumayo","02 Rosa Panduro","16","08","02","Loreto","Putumayo","Rosa Panduro","160802","LORETO","PUTUMAYO","ROSA PANDURO","16","08","02"]
[null,"16 Loreto","08 Putumayo","03 Teniente Manuel Clavero","16","08","03","Loreto","Putumayo","Teniente Manuel Clavero","160803","LORETO","PUTUMAYO","TENIENTE MANUEL CLAVERO","16","08","03"]
[null,"16 Loreto","08 Putumayo","04 Yaguas","16","08","04","Loreto","Putumayo","Yaguas","160804","LORETO","PUTUMAYO","YAGUAS","16","08","04"]
[null,"17 Madre de Dios","01 Tambopata ","01 Tambopata","17","01","01","Madre de Dios","Tambopata ","Tambopata","170101","MADRE DE DIOS","TAMBOPATA","TAMBOPATA","17","01","01"]
[null,"17 Madre de Dios","01 Tambopata ","02 Inambari","17","01","02","Madre de Dios","Tambopata ","Inambari","170102","MADRE DE DIOS","TAMBOPATA","INAMBARI","17","01","02"]
[null,"17 Madre de Dios","01 Tambopata ","03 Las Piedras","17","01","03","Madre de Dios","Tambopata ","Las Piedras","170103","MADRE DE DIOS","TAMBOPATA","LAS PIEDRAS","17","01","03"]
[null,"17 Madre de Dios","01 Tambopata ","04 Laberinto","17","01","04","Madre de Dios","Tambopata ","Laberinto","170104","MADRE DE DIOS","TAMBOPATA","LABERINTO","17","01","04"]
[null,"17 Madre de Dios","02 Manu ","01 Manu","17","02","01","Madre de Dios","Manu ","Manu","170201","MADRE DE DIOS","MANU","MANU","17","02","01"]
[null,"17 Madre de Dios","02 Manu ","02 Fitzcarrald","17","02","02","Madre de Dios","Manu ","Fitzcarrald","170202","MADRE DE DIOS","MANU","FITZCARRALD","17","02","02"]
[null,"17 Madre de Dios","02 Manu ","03 Madre de Dios","17","02","03","Madre de Dios","Manu ","Madre de Dios","170203","MADRE DE DIOS","MANU","MADRE DE DIOS","17","02","03"]
[null,"17 Madre de Dios","02 Manu ","04 Huepetuhe","17","02","04","Madre de Dios","Manu ","Huepetuhe","170204","MADRE DE DIOS","MANU","HUEPETUHE","17","02","04"]
[null,"17 Madre de Dios","03 Tahuamanu ","01 Iñapari","17","03","01","Madre de Dios","Tahuamanu ","Iñapari","170301","MADRE DE DIOS","TAHUAMANU","IÑAPARI","17","03","01"]
[null,"17 Madre de Dios","03 Tahuamanu ","02 Iberia","17","03","02","Madre de Dios","Tahuamanu ","Iberia","170302","MADRE DE DIOS","TAHUAMANU","IBERIA","17","03","02"]
[null,"17 Madre de Dios","03 Tahuamanu ","03 Tahuamanu","17","03","03","Madre de Dios","Tahuamanu ","Tahuamanu","170303","MADRE DE DIOS","TAHUAMANU","TAHUAMANU","17","03","03"]
[null,"18 Moquegua","01 Mariscal Nieto ","01 Moquegua","18","01","01","Moquegua","Mariscal Nieto ","Moquegua","180101","MOQUEGUA","MARISCAL NIETO","MOQUEGUA","18","01","01"]
[null,"18 Moquegua","01 Mariscal Nieto ","02 Carumas","18","01","02","Moquegua","Mariscal Nieto ","Carumas","180102","MOQUEGUA","MARISCAL NIETO","CARUMAS","18","01","02"]
[null,"18 Moquegua","01 Mariscal Nieto ","03 Cuchumbaya","18","01","03","Moquegua","Mariscal Nieto ","Cuchumbaya","180103","MOQUEGUA","MARISCAL NIETO","CUCHUMBAYA","18","01","03"]
[null,"18 Moquegua","01 Mariscal Nieto ","04 Samegua","18","01","04","Moquegua","Mariscal Nieto ","Samegua","180104","MOQUEGUA","MARISCAL NIETO","SAMEGUA","18","01","04"]
[null,"18 Moquegua","01 Mariscal Nieto ","05 San Cristóbal","18","01","05","Moquegua","Mariscal Nieto ","San Cristóbal","180105","MOQUEGUA","MARISCAL NIETO","SAN CRISTÓBAL","18","01","05"]
[null,"18 Moquegua","01 Mariscal Nieto ","06 Torata","18","01","06","Moquegua","Mariscal Nieto ","Torata","180106","MOQUEGUA","MARISCAL NIETO","TORATA","18","01","06"]
[null,"18 Moquegua","02 General Sánchez Cerro ","01 Omate","18","02","01","Moquegua","General Sánchez Cerro ","Omate","180201","MOQUEGUA","GENERAL SÁNCHEZ CERRO","OMATE","18","02","01"]
[null,"18 Moquegua","02 General Sánchez Cerro ","02 Chojata","18","02","02","Moquegua","General Sánchez Cerro ","Chojata","180202","MOQUEGUA","GENERAL SÁNCHEZ CERRO","CHOJATA","18","02","02"]
[null,"18 Moquegua","02 General Sánchez Cerro ","03 Coalaque","18","02","03","Moquegua","General Sánchez Cerro ","Coalaque","180203","MOQUEGUA","GENERAL SÁNCHEZ CERRO","COALAQUE","18","02","03"]
[null,"18 Moquegua","02 General Sánchez Cerro ","04 Ichuña","18","02","04","Moquegua","General Sánchez Cerro ","Ichuña","180204","MOQUEGUA","GENERAL SÁNCHEZ CERRO","ICHUÑA","18","02","04"]
[null,"18 Moquegua","02 General Sánchez Cerro ","05 La Capilla","18","02","05","Moquegua","General Sánchez Cerro ","La Capilla","180205","MOQUEGUA","GENERAL SÁNCHEZ CERRO","LA CAPILLA","18","02","05"]
[null,"18 Moquegua","02 General Sánchez Cerro ","06 Lloque","18","02","06","Moquegua","General Sánchez Cerro ","Lloque","180206","MOQUEGUA","GENERAL SÁNCHEZ CERRO","LLOQUE","18","02","06"]
[null,"18 Moquegua","02 General Sánchez Cerro ","07 Matalaque","18","02","07","Moquegua","General Sánchez Cerro ","Matalaque","180207","MOQUEGUA","GENERAL SÁNCHEZ CERRO","MATALAQUE","18","02","07"]
[null,"18 Moquegua","02 General Sánchez Cerro ","08 Puquina","18","02","08","Moquegua","General Sánchez Cerro ","Puquina","180208","MOQUEGUA","GENERAL SÁNCHEZ CERRO","PUQUINA","18","02","08"]
[null,"18 Moquegua","02 General Sánchez Cerro ","09 Quinistaquillas","18","02","09","Moquegua","General Sánchez Cerro ","Quinistaquillas","180209","MOQUEGUA","GENERAL SÁNCHEZ CERRO","QUINISTAQUILLAS","18","02","09"]
[null,"18 Moquegua","02 General Sánchez Cerro ","10 Ubinas","18","02","10","Moquegua","General Sánchez Cerro ","Ubinas","180210","MOQUEGUA","GENERAL SÁNCHEZ CERRO","UBINAS","18","02","10"]
[null,"18 Moquegua","02 General Sánchez Cerro ","11 Yunga","18","02","11","Moquegua","General Sánchez Cerro ","Yunga","180211","MOQUEGUA","GENERAL SÁNCHEZ CERRO","YUNGA","18","02","11"]
[null,"18 Moquegua","03 Ilo ","01 Ilo","18","03","01","Moquegua","Ilo ","Ilo","180301","MOQUEGUA","ILO","ILO","18","03","01"]
[null,"18 Moquegua","03 Ilo ","02 El Algarrobal","18","03","02","Moquegua","Ilo ","El Algarrobal","180302","MOQUEGUA","ILO","EL ALGARROBAL","18","03","02"]
[null,"18 Moquegua","03 Ilo ","03 Pacocha","18","03","03","Moquegua","Ilo ","Pacocha","180303","MOQUEGUA","ILO","PACOCHA","18","03","03"]
[null,"19 Pasco","01 Pasco ","01 Chaupimarca","19","01","01","Pasco","Pasco ","Chaupimarca","190101","PASCO","PASCO","CHAUPIMARCA","19","01","01"]
[null,"19 Pasco","01 Pasco ","02 Huachon",{"$f":"+MID(B1540,1,2)","v":"19"},"01","02","Pasco","Pasco ","Huachon",{"$f":"+CONCATENATE(E1540,F1540,G1540)","v":"190102"},"PASCO","PASCO","HUACHON","19","01","02"]
[null,"19 Pasco","01 Pasco ","03 Huariaca","19","01","03","Pasco","Pasco ","Huariaca","190103","PASCO","PASCO","HUARIACA","19","01","03"]
[null,"19 Pasco","01 Pasco ","04 Huayllay","19","01","04","Pasco","Pasco ","Huayllay","190104","PASCO","PASCO","HUAYLLAY","19","01","04"]
[null,"19 Pasco","01 Pasco ","05 Ninacaca","19","01","05","Pasco","Pasco ","Ninacaca","190105","PASCO","PASCO","NINACACA","19","01","05"]
[null,"19 Pasco","01 Pasco ","06 Pallanchacra","19","01","06","Pasco","Pasco ","Pallanchacra","190106","PASCO","PASCO","PALLANCHACRA","19","01","06"]
[null,"19 Pasco","01 Pasco ","07 Paucartambo","19","01","07","Pasco","Pasco ","Paucartambo","190107","PASCO","PASCO","PAUCARTAMBO","19","01","07"]
[null,"19 Pasco","01 Pasco ","08 San Francisco de Asís de Yarusyacan","19","01","08","Pasco","Pasco ","San Francisco de Asís de Yarus","190108","PASCO","PASCO","SAN FRANCISCO DE ASÍS DE YARUS","19","01","08"]
[null,"19 Pasco","01 Pasco ","09 Simon Bolívar","19","01","09","Pasco","Pasco ","Simon Bolívar","190109","PASCO","PASCO","SIMON BOLÍVAR","19","01","09"]
[null,"19 Pasco","01 Pasco ","10 Ticlacayan","19","01","10","Pasco","Pasco ","Ticlacayan","190110","PASCO","PASCO","TICLACAYAN","19","01","10"]
[null,"19 Pasco","01 Pasco ","11 Tinyahuarco","19","01","11","Pasco","Pasco ","Tinyahuarco","190111","PASCO","PASCO","TINYAHUARCO","19","01","11"]
[null,"19 Pasco","01 Pasco ","12 Vicco","19","01","12","Pasco","Pasco ","Vicco","190112","PASCO","PASCO","VICCO","19","01","12"]
[null,"19 Pasco","01 Pasco ","13 Yanacancha","19","01","13","Pasco","Pasco ","Yanacancha","190113","PASCO","PASCO","YANACANCHA","19","01","13"]
[null,"19 Pasco","02 Daniel Alcides Carrión ","01 Yanahuanca","19","02","01","Pasco","Daniel Alcides Carrión ","Yanahuanca","190201","PASCO","DANIEL ALCIDES CARRIÓN","YANAHUANCA","19","02","01"]
[null,"19 Pasco","02 Daniel Alcides Carrión ","02 Chacayan","19","02","02","Pasco","Daniel Alcides Carrión ","Chacayan","190202","PASCO","DANIEL ALCIDES CARRIÓN","CHACAYAN","19","02","02"]
[null,"19 Pasco","02 Daniel Alcides Carrión ","03 Goyllarisquizga","19","02","03","Pasco","Daniel Alcides Carrión ","Goyllarisquizga","190203","PASCO","DANIEL ALCIDES CARRIÓN","GOYLLARISQUIZGA","19","02","03"]
[null,"19 Pasco","02 Daniel Alcides Carrión ","04 Paucar","19","02","04","Pasco","Daniel Alcides Carrión ","Paucar","190204","PASCO","DANIEL ALCIDES CARRIÓN","PAUCAR","19","02","04"]
[null,"19 Pasco","02 Daniel Alcides Carrión ","05 San Pedro de Pillao","19","02","05","Pasco","Daniel Alcides Carrión ","San Pedro de Pillao","190205","PASCO","DANIEL ALCIDES CARRIÓN","SAN PEDRO DE PILLAO","19","02","05"]
[null,"19 Pasco","02 Daniel Alcides Carrión ","06 Santa Ana de Tusi","19","02","06","Pasco","Daniel Alcides Carrión ","Santa Ana de Tusi","190206","PASCO","DANIEL ALCIDES CARRIÓN","SANTA ANA DE TUSI","19","02","06"]
[null,"19 Pasco","02 Daniel Alcides Carrión ","07 Tapuc","19","02","07","Pasco","Daniel Alcides Carrión ","Tapuc","190207","PASCO","DANIEL ALCIDES CARRIÓN","TAPUC","19","02","07"]
[null,"19 Pasco","02 Daniel Alcides Carrión ","08 Vilcabamba","19","02","08","Pasco","Daniel Alcides Carrión ","Vilcabamba","190208","PASCO","DANIEL ALCIDES CARRIÓN","VILCABAMBA","19","02","08"]
[null,"19 Pasco","03 Oxapampa ","01 Oxapampa","19","03","01","Pasco","Oxapampa ","Oxapampa","190301","PASCO","OXAPAMPA","OXAPAMPA","19","03","01"]
[null,"19 Pasco","03 Oxapampa ","02 Chontabamba","19","03","02","Pasco","Oxapampa ","Chontabamba","190302","PASCO","OXAPAMPA","CHONTABAMBA","19","03","02"]
[null,"19 Pasco","03 Oxapampa ","03 Huancabamba","19","03","03","Pasco","Oxapampa ","Huancabamba","190303","PASCO","OXAPAMPA","HUANCABAMBA","19","03","03"]
[null,"19 Pasco","03 Oxapampa ","04 Palcazu","19","03","04","Pasco","Oxapampa ","Palcazu","190304","PASCO","OXAPAMPA","PALCAZU","19","03","04"]
[null,"19 Pasco","03 Oxapampa ","05 Pozuzo","19","03","05","Pasco","Oxapampa ","Pozuzo","190305","PASCO","OXAPAMPA","POZUZO","19","03","05"]
[null,"19 Pasco","03 Oxapampa ","06 Puerto Bermúdez","19","03","06","Pasco","Oxapampa ","Puerto Bermúdez","190306","PASCO","OXAPAMPA","PUERTO BERMÚDEZ","19","03","06"]
[null,"19 Pasco","03 Oxapampa ","07 Villa Rica","19","03","07","Pasco","Oxapampa ","Villa Rica","190307","PASCO","OXAPAMPA","VILLA RICA","19","03","07"]
[null,"19 Pasco","03 Oxapampa ","08 Constitución","19","03","08","Pasco","Oxapampa ","Constitución","190308","PASCO","OXAPAMPA","CONSTITUCIÓN","19","03","08"]
[null,"20 Piura","01 Piura ","01 Piura","20","01","01","Piura","Piura ","Piura","200101","PIURA","PIURA","PIURA","20","01","01"]
[null,"20 Piura","01 Piura ","04 Castilla","20","01","04","Piura","Piura ","Castilla","200104","PIURA","PIURA","CASTILLA","20","01","04"]
[null,"20 Piura","01 Piura ","05 Catacaos","20","01","05","Piura","Piura ","Catacaos","200105","PIURA","PIURA","CATACAOS","20","01","05"]
[null,"20 Piura","01 Piura ","07 Cura Mori","20","01","07","Piura","Piura ","Cura Mori","200107","PIURA","PIURA","CURA MORI","20","01","07"]
[null,"20 Piura","01 Piura ","08 El Tallan","20","01","08","Piura","Piura ","El Tallan","200108","PIURA","PIURA","EL TALLAN","20","01","08"]
[null,"20 Piura","01 Piura ","09 La Arena","20","01","09","Piura","Piura ","La Arena","200109","PIURA","PIURA","LA ARENA","20","01","09"]
[null,"20 Piura","01 Piura ","10 La Unión","20","01","10","Piura","Piura ","La Unión","200110","PIURA","PIURA","LA UNIÓN","20","01","10"]
[null,"20 Piura","01 Piura ","11 Las Lomas","20","01","11","Piura","Piura ","Las Lomas","200111","PIURA","PIURA","LAS LOMAS","20","01","11"]
[null,"20 Piura","01 Piura ","14 Tambo Grande","20","01","14","Piura","Piura ","Tambo Grande","200114","PIURA","PIURA","TAMBO GRANDE","20","01","14"]
[null,"20 Piura","01 Piura ","15 Veintiseis de Octubre","20","01","15","Piura","Piura ","Veintiseis de Octubre","200115","PIURA","PIURA","VEINTISEIS DE OCTUBRE","20","01","15"]
[null,"20 Piura","02 Ayabaca ","01 Ayabaca","20","02","01","Piura","Ayabaca ","Ayabaca","200201","PIURA","AYABACA","AYABACA","20","02","01"]
[null,"20 Piura","02 Ayabaca ","02 Frias","20","02","02","Piura","Ayabaca ","Frias","200202","PIURA","AYABACA","FRIAS","20","02","02"]
[null,"20 Piura","02 Ayabaca ","03 Jilili","20","02","03","Piura","Ayabaca ","Jilili","200203","PIURA","AYABACA","JILILI","20","02","03"]
[null,"20 Piura","02 Ayabaca ","04 Lagunas","20","02","04","Piura","Ayabaca ","Lagunas","200204","PIURA","AYABACA","LAGUNAS","20","02","04"]
[null,"20 Piura","02 Ayabaca ","05 Montero","20","02","05","Piura","Ayabaca ","Montero","200205","PIURA","AYABACA","MONTERO","20","02","05"]
[null,"20 Piura","02 Ayabaca ","06 Pacaipampa","20","02","06","Piura","Ayabaca ","Pacaipampa","200206","PIURA","AYABACA","PACAIPAMPA","20","02","06"]
[null,"20 Piura","02 Ayabaca ","07 Paimas","20","02","07","Piura","Ayabaca ","Paimas","200207","PIURA","AYABACA","PAIMAS","20","02","07"]
[null,"20 Piura","02 Ayabaca ","08 Sapillica","20","02","08","Piura","Ayabaca ","Sapillica","200208","PIURA","AYABACA","SAPILLICA","20","02","08"]
[null,"20 Piura","02 Ayabaca ","09 Sicchez","20","02","09","Piura","Ayabaca ","Sicchez","200209","PIURA","AYABACA","SICCHEZ","20","02","09"]
[null,"20 Piura","02 Ayabaca ","10 Suyo","20","02","10","Piura","Ayabaca ","Suyo","200210","PIURA","AYABACA","SUYO","20","02","10"]
[null,"20 Piura","03 Huancabamba ","01 Huancabamba","20","03","01","Piura","Huancabamba ","Huancabamba","200301","PIURA","HUANCABAMBA","HUANCABAMBA","20","03","01"]
[null,"20 Piura","03 Huancabamba ","02 Canchaque","20","03","02","Piura","Huancabamba ","Canchaque","200302","PIURA","HUANCABAMBA","CANCHAQUE","20","03","02"]
[null,"20 Piura","03 Huancabamba ","03 El Carmen de la Frontera","20","03","03","Piura","Huancabamba ","El Carmen de la Frontera","200303","PIURA","HUANCABAMBA","EL CARMEN DE LA FRONTERA","20","03","03"]
[null,"20 Piura","03 Huancabamba ","04 Huarmaca","20","03","04","Piura","Huancabamba ","Huarmaca","200304","PIURA","HUANCABAMBA","HUARMACA","20","03","04"]
[null,"20 Piura","03 Huancabamba ","05 Lalaquiz","20","03","05","Piura","Huancabamba ","Lalaquiz","200305","PIURA","HUANCABAMBA","LALAQUIZ","20","03","05"]
[null,"20 Piura","03 Huancabamba ","06 San Miguel de El Faique","20","03","06","Piura","Huancabamba ","San Miguel de El Faique","200306","PIURA","HUANCABAMBA","SAN MIGUEL DE EL FAIQUE","20","03","06"]
[null,"20 Piura","03 Huancabamba ","07 Sondor","20","03","07","Piura","Huancabamba ","Sondor","200307","PIURA","HUANCABAMBA","SONDOR","20","03","07"]
[null,"20 Piura","03 Huancabamba ","08 Sondorillo","20","03","08","Piura","Huancabamba ","Sondorillo","200308","PIURA","HUANCABAMBA","SONDORILLO","20","03","08"]
[null,"20 Piura","04 Morropón ","01 Chulucanas","20","04","01","Piura","Morropón ","Chulucanas","200401","PIURA","MORROPÓN","CHULUCANAS","20","04","01"]
[null,"20 Piura","04 Morropón ","02 Buenos Aires","20","04","02","Piura","Morropón ","Buenos Aires","200402","PIURA","MORROPÓN","BUENOS AIRES","20","04","02"]
[null,"20 Piura","04 Morropón ","03 Chalaco","20","04","03","Piura","Morropón ","Chalaco","200403","PIURA","MORROPÓN","CHALACO","20","04","03"]
[null,"20 Piura","04 Morropón ","04 La Matanza","20","04","04","Piura","Morropón ","La Matanza","200404","PIURA","MORROPÓN","LA MATANZA","20","04","04"]
[null,"20 Piura","04 Morropón ","05 Morropon","20","04","05","Piura","Morropón ","Morropon","200405","PIURA","MORROPÓN","MORROPON","20","04","05"]
[null,"20 Piura","04 Morropón ","06 Salitral","20","04","06","Piura","Morropón ","Salitral","200406","PIURA","MORROPÓN","SALITRAL","20","04","06"]
[null,"20 Piura","04 Morropón ","07 San Juan de Bigote","20","04","07","Piura","Morropón ","San Juan de Bigote","200407","PIURA","MORROPÓN","SAN JUAN DE BIGOTE","20","04","07"]
[null,"20 Piura","04 Morropón ","08 Santa Catalina de Mossa","20","04","08","Piura","Morropón ","Santa Catalina de Mossa","200408","PIURA","MORROPÓN","SANTA CATALINA DE MOSSA","20","04","08"]
[null,"20 Piura","04 Morropón ","09 Santo Domingo",{"$f":"+MID(B1604,1,2)","v":"20"},"04","09","Piura","Morropón ","Santo Domingo",{"$f":"+CONCATENATE(E1604,F1604,G1604)","v":"200409"},"PIURA","MORROPÓN","SANTO DOMINGO","20","04","09"]
[null,"20 Piura","04 Morropón ","10 Yamango","20","04","10","Piura","Morropón ","Yamango","200410","PIURA","MORROPÓN","YAMANGO","20","04","10"]
[null,"20 Piura","05 Paita ","01 Paita","20","05","01","Piura","Paita ","Paita","200501","PIURA","PAITA","PAITA","20","05","01"]
[null,"20 Piura","05 Paita ","02 Amotape","20","05","02","Piura","Paita ","Amotape","200502","PIURA","PAITA","AMOTAPE","20","05","02"]
[null,"20 Piura","05 Paita ","03 Arenal","20","05","03","Piura","Paita ","Arenal","200503","PIURA","PAITA","ARENAL","20","05","03"]
[null,"20 Piura","05 Paita ","04 Colan","20","05","04","Piura","Paita ","Colan","200504","PIURA","PAITA","COLAN","20","05","04"]
[null,"20 Piura","05 Paita ","05 La Huaca","20","05","05","Piura","Paita ","La Huaca","200505","PIURA","PAITA","LA HUACA","20","05","05"]
[null,"20 Piura","05 Paita ","06 Tamarindo","20","05","06","Piura","Paita ","Tamarindo","200506","PIURA","PAITA","TAMARINDO","20","05","06"]
[null,"20 Piura","05 Paita ","07 Vichayal","20","05","07","Piura","Paita ","Vichayal","200507","PIURA","PAITA","VICHAYAL","20","05","07"]
[null,"20 Piura","06 Sullana ","01 Sullana","20","06","01","Piura","Sullana ","Sullana","200601","PIURA","SULLANA","SULLANA","20","06","01"]
[null,"20 Piura","06 Sullana ","02 Bellavista","20","06","02","Piura","Sullana ","Bellavista","200602","PIURA","SULLANA","BELLAVISTA","20","06","02"]
[null,"20 Piura","06 Sullana ","03 Ignacio Escudero","20","06","03","Piura","Sullana ","Ignacio Escudero","200603","PIURA","SULLANA","IGNACIO ESCUDERO","20","06","03"]
[null,"20 Piura","06 Sullana ","04 Lancones","20","06","04","Piura","Sullana ","Lancones","200604","PIURA","SULLANA","LANCONES","20","06","04"]
[null,"20 Piura","06 Sullana ","05 Marcavelica","20","06","05","Piura","Sullana ","Marcavelica","200605","PIURA","SULLANA","MARCAVELICA","20","06","05"]
[null,"20 Piura","06 Sullana ","06 Miguel Checa","20","06","06","Piura","Sullana ","Miguel Checa","200606","PIURA","SULLANA","MIGUEL CHECA","20","06","06"]
[null,"20 Piura","06 Sullana ","07 Querecotillo","20","06","07","Piura","Sullana ","Querecotillo","200607","PIURA","SULLANA","QUERECOTILLO","20","06","07"]
[null,"20 Piura","06 Sullana ","08 Salitral","20","06","08","Piura","Sullana ","Salitral","200608","PIURA","SULLANA","SALITRAL","20","06","08"]
[null,"20 Piura","07 Talara ","01 Pariñas","20","07","01","Piura","Talara ","Pariñas","200701","PIURA","TALARA","PARIÑAS","20","07","01"]
[null,"20 Piura","07 Talara ","02 El Alto","20","07","02","Piura","Talara ","El Alto","200702","PIURA","TALARA","EL ALTO","20","07","02"]
[null,"20 Piura","07 Talara ","03 La Brea","20","07","03","Piura","Talara ","La Brea","200703","PIURA","TALARA","LA BREA","20","07","03"]
[null,"20 Piura","07 Talara ","04 Lobitos","20","07","04","Piura","Talara ","Lobitos","200704","PIURA","TALARA","LOBITOS","20","07","04"]
[null,"20 Piura","07 Talara ","05 Los Organos","20","07","05","Piura","Talara ","Los Organos","200705","PIURA","TALARA","LOS ORGANOS","20","07","05"]
[null,"20 Piura","07 Talara ","06 Mancora","20","07","06","Piura","Talara ","Mancora","200706","PIURA","TALARA","MANCORA","20","07","06"]
[null,"20 Piura","08 Sechura ","01 Sechura","20","08","01","Piura","Sechura ","Sechura","200801","PIURA","SECHURA","SECHURA","20","08","01"]
[null,"20 Piura","08 Sechura ","02 Bellavista de la Unión","20","08","02","Piura","Sechura ","Bellavista de la Unión","200802","PIURA","SECHURA","BELLAVISTA DE LA UNIÓN","20","08","02"]
[null,"20 Piura","08 Sechura ","03 Bernal","20","08","03","Piura","Sechura ","Bernal","200803","PIURA","SECHURA","BERNAL","20","08","03"]
[null,"20 Piura","08 Sechura ","04 Cristo Nos Valga","20","08","04","Piura","Sechura ","Cristo Nos Valga","200804","PIURA","SECHURA","CRISTO NOS VALGA","20","08","04"]
[null,"20 Piura","08 Sechura ","05 Vice","20","08","05","Piura","Sechura ","Vice","200805","PIURA","SECHURA","VICE","20","08","05"]
[null,"20 Piura","08 Sechura ","06 Rinconada Llicuar","20","08","06","Piura","Sechura ","Rinconada Llicuar","200806","PIURA","SECHURA","RINCONADA LLICUAR","20","08","06"]
[null,"21 Puno","01 Puno ","01 Puno","21","01","01","Puno","Puno ","Puno","210101","PUNO","PUNO","PUNO","21","01","01"]
[null,"21 Puno","01 Puno ","02 Acora","21","01","02","Puno","Puno ","Acora","210102","PUNO","PUNO","ACORA","21","01","02"]
[null,"21 Puno","01 Puno ","03 Amantani","21","01","03","Puno","Puno ","Amantani","210103","PUNO","PUNO","AMANTANI","21","01","03"]
[null,"21 Puno","01 Puno ","04 Atuncolla","21","01","04","Puno","Puno ","Atuncolla","210104","PUNO","PUNO","ATUNCOLLA","21","01","04"]
[null,"21 Puno","01 Puno ","05 Capachica","21","01","05","Puno","Puno ","Capachica","210105","PUNO","PUNO","CAPACHICA","21","01","05"]
[null,"21 Puno","01 Puno ","06 Chucuito","21","01","06","Puno","Puno ","Chucuito","210106","PUNO","PUNO","CHUCUITO","21","01","06"]
[null,"21 Puno","01 Puno ","07 Coata","21","01","07","Puno","Puno ","Coata","210107","PUNO","PUNO","COATA","21","01","07"]
[null,"21 Puno","01 Puno ","08 Huata","21","01","08","Puno","Puno ","Huata","210108","PUNO","PUNO","HUATA","21","01","08"]
[null,"21 Puno","01 Puno ","09 Mañazo","21","01","09","Puno","Puno ","Mañazo","210109","PUNO","PUNO","MAÑAZO","21","01","09"]
[null,"21 Puno","01 Puno ","10 Paucarcolla","21","01","10","Puno","Puno ","Paucarcolla","210110","PUNO","PUNO","PAUCARCOLLA","21","01","10"]
[null,"21 Puno","01 Puno ","11 Pichacani","21","01","11","Puno","Puno ","Pichacani","210111","PUNO","PUNO","PICHACANI","21","01","11"]
[null,"21 Puno","01 Puno ","12 Plateria","21","01","12","Puno","Puno ","Plateria","210112","PUNO","PUNO","PLATERIA","21","01","12"]
[null,"21 Puno","01 Puno ","13 San Antonio","21","01","13","Puno","Puno ","San Antonio","210113","PUNO","PUNO","SAN ANTONIO","21","01","13"]
[null,"21 Puno","01 Puno ","14 Tiquillaca","21","01","14","Puno","Puno ","Tiquillaca","210114","PUNO","PUNO","TIQUILLACA","21","01","14"]
[null,"21 Puno","01 Puno ","15 Vilque","21","01","15","Puno","Puno ","Vilque","210115","PUNO","PUNO","VILQUE","21","01","15"]
[null,"21 Puno","02 Azángaro ","01 Azángaro","21","02","01","Puno","Azángaro ","Azángaro","210201","PUNO","AZÁNGARO","AZÁNGARO","21","02","01"]
[null,"21 Puno","02 Azángaro ","02 Achaya","21","02","02","Puno","Azángaro ","Achaya","210202","PUNO","AZÁNGARO","ACHAYA","21","02","02"]
[null,"21 Puno","02 Azángaro ","03 Arapa","21","02","03","Puno","Azángaro ","Arapa","210203","PUNO","AZÁNGARO","ARAPA","21","02","03"]
[null,"21 Puno","02 Azángaro ","04 Asillo","21","02","04","Puno","Azángaro ","Asillo","210204","PUNO","AZÁNGARO","ASILLO","21","02","04"]
[null,"21 Puno","02 Azángaro ","05 Caminaca","21","02","05","Puno","Azángaro ","Caminaca","210205","PUNO","AZÁNGARO","CAMINACA","21","02","05"]
[null,"21 Puno","02 Azángaro ","06 Chupa","21","02","06","Puno","Azángaro ","Chupa","210206","PUNO","AZÁNGARO","CHUPA","21","02","06"]
[null,"21 Puno","02 Azángaro ","07 José Domingo Choquehuanca","21","02","07","Puno","Azángaro ","José Domingo Choquehuanca","210207","PUNO","AZÁNGARO","JOSÉ DOMINGO CHOQUEHUANCA","21","02","07"]
[null,"21 Puno","02 Azángaro ","08 Muñani","21","02","08","Puno","Azángaro ","Muñani","210208","PUNO","AZÁNGARO","MUÑANI","21","02","08"]
[null,"21 Puno","02 Azángaro ","09 Potoni","21","02","09","Puno","Azángaro ","Potoni","210209","PUNO","AZÁNGARO","POTONI","21","02","09"]
[null,"21 Puno","02 Azángaro ","10 Saman","21","02","10","Puno","Azángaro ","Saman","210210","PUNO","AZÁNGARO","SAMAN","21","02","10"]
[null,"21 Puno","02 Azángaro ","11 San Anton","21","02","11","Puno","Azángaro ","San Anton","210211","PUNO","AZÁNGARO","SAN ANTON","21","02","11"]
[null,"21 Puno","02 Azángaro ","12 San José","21","02","12","Puno","Azángaro ","San José","210212","PUNO","AZÁNGARO","SAN JOSÉ","21","02","12"]
[null,"21 Puno","02 Azángaro ","13 San Juan de Salinas","21","02","13","Puno","Azángaro ","San Juan de Salinas","210213","PUNO","AZÁNGARO","SAN JUAN DE SALINAS","21","02","13"]
[null,"21 Puno","02 Azángaro ","14 Santiago de Pupuja","21","02","14","Puno","Azángaro ","Santiago de Pupuja","210214","PUNO","AZÁNGARO","SANTIAGO DE PUPUJA","21","02","14"]
[null,"21 Puno","02 Azángaro ","15 Tirapata","21","02","15","Puno","Azángaro ","Tirapata","210215","PUNO","AZÁNGARO","TIRAPATA","21","02","15"]
[null,"21 Puno","03 Carabaya ","01 Macusani","21","03","01","Puno","Carabaya ","Macusani","210301","PUNO","CARABAYA","MACUSANI","21","03","01"]
[null,"21 Puno","03 Carabaya ","02 Ajoyani","21","03","02","Puno","Carabaya ","Ajoyani","210302","PUNO","CARABAYA","AJOYANI","21","03","02"]
[null,"21 Puno","03 Carabaya ","03 Ayapata","21","03","03","Puno","Carabaya ","Ayapata","210303","PUNO","CARABAYA","AYAPATA","21","03","03"]
[null,"21 Puno","03 Carabaya ","04 Coasa","21","03","04","Puno","Carabaya ","Coasa","210304","PUNO","CARABAYA","COASA","21","03","04"]
[null,"21 Puno","03 Carabaya ","05 Corani","21","03","05","Puno","Carabaya ","Corani","210305","PUNO","CARABAYA","CORANI","21","03","05"]
[null,"21 Puno","03 Carabaya ","06 Crucero",{"$f":"+MID(B1668,1,2)","v":"21"},"03","06","Puno","Carabaya ","Crucero",{"$f":"+CONCATENATE(E1668,F1668,G1668)","v":"210306"},"PUNO","CARABAYA","CRUCERO","21","03","06"]
[null,"21 Puno","03 Carabaya ","07 Ituata","21","03","07","Puno","Carabaya ","Ituata","210307","PUNO","CARABAYA","ITUATA","21","03","07"]
[null,"21 Puno","03 Carabaya ","08 Ollachea","21","03","08","Puno","Carabaya ","Ollachea","210308","PUNO","CARABAYA","OLLACHEA","21","03","08"]
[null,"21 Puno","03 Carabaya ","09 San Gaban","21","03","09","Puno","Carabaya ","San Gaban","210309","PUNO","CARABAYA","SAN GABAN","21","03","09"]
[null,"21 Puno","03 Carabaya ","10 Usicayos","21","03","10","Puno","Carabaya ","Usicayos","210310","PUNO","CARABAYA","USICAYOS","21","03","10"]
[null,"21 Puno","04 Chucuito ","01 Juli","21","04","01","Puno","Chucuito ","Juli","210401","PUNO","CHUCUITO","JULI","21","04","01"]
[null,"21 Puno","04 Chucuito ","02 Desaguadero","21","04","02","Puno","Chucuito ","Desaguadero","210402","PUNO","CHUCUITO","DESAGUADERO","21","04","02"]
[null,"21 Puno","04 Chucuito ","03 Huacullani","21","04","03","Puno","Chucuito ","Huacullani","210403","PUNO","CHUCUITO","HUACULLANI","21","04","03"]
[null,"21 Puno","04 Chucuito ","04 Kelluyo","21","04","04","Puno","Chucuito ","Kelluyo","210404","PUNO","CHUCUITO","KELLUYO","21","04","04"]
[null,"21 Puno","04 Chucuito ","05 Pisacoma","21","04","05","Puno","Chucuito ","Pisacoma","210405","PUNO","CHUCUITO","PISACOMA","21","04","05"]
[null,"21 Puno","04 Chucuito ","06 Pomata","21","04","06","Puno","Chucuito ","Pomata","210406","PUNO","CHUCUITO","POMATA","21","04","06"]
[null,"21 Puno","04 Chucuito ","07 Zepita","21","04","07","Puno","Chucuito ","Zepita","210407","PUNO","CHUCUITO","ZEPITA","21","04","07"]
[null,"21 Puno","05 El Collao ","01 Ilave","21","05","01","Puno","El Collao ","Ilave","210501","PUNO","EL COLLAO","ILAVE","21","05","01"]
[null,"21 Puno","05 El Collao ","02 Capazo","21","05","02","Puno","El Collao ","Capazo","210502","PUNO","EL COLLAO","CAPAZO","21","05","02"]
[null,"21 Puno","05 El Collao ","03 Pilcuyo","21","05","03","Puno","El Collao ","Pilcuyo","210503","PUNO","EL COLLAO","PILCUYO","21","05","03"]
[null,"21 Puno","05 El Collao ","04 Santa Rosa","21","05","04","Puno","El Collao ","Santa Rosa","210504","PUNO","EL COLLAO","SANTA ROSA","21","05","04"]
[null,"21 Puno","05 El Collao ","05 Conduriri","21","05","05","Puno","El Collao ","Conduriri","210505","PUNO","EL COLLAO","CONDURIRI","21","05","05"]
[null,"21 Puno","06 Huancané ","01 Huancane","21","06","01","Puno","Huancané ","Huancane","210601","PUNO","HUANCANÉ","HUANCANE","21","06","01"]
[null,"21 Puno","06 Huancané ","02 Cojata","21","06","02","Puno","Huancané ","Cojata","210602","PUNO","HUANCANÉ","COJATA","21","06","02"]
[null,"21 Puno","06 Huancané ","03 Huatasani","21","06","03","Puno","Huancané ","Huatasani","210603","PUNO","HUANCANÉ","HUATASANI","21","06","03"]
[null,"21 Puno","06 Huancané ","04 Inchupalla","21","06","04","Puno","Huancané ","Inchupalla","210604","PUNO","HUANCANÉ","INCHUPALLA","21","06","04"]
[null,"21 Puno","06 Huancané ","05 Pusi","21","06","05","Puno","Huancané ","Pusi","210605","PUNO","HUANCANÉ","PUSI","21","06","05"]
[null,"21 Puno","06 Huancané ","06 Rosaspata","21","06","06","Puno","Huancané ","Rosaspata","210606","PUNO","HUANCANÉ","ROSASPATA","21","06","06"]
[null,"21 Puno","06 Huancané ","07 Taraco","21","06","07","Puno","Huancané ","Taraco","210607","PUNO","HUANCANÉ","TARACO","21","06","07"]
[null,"21 Puno","06 Huancané ","08 Vilque Chico","21","06","08","Puno","Huancané ","Vilque Chico","210608","PUNO","HUANCANÉ","VILQUE CHICO","21","06","08"]
[null,"21 Puno","07 Lampa ","01 Lampa","21","07","01","Puno","Lampa ","Lampa","210701","PUNO","LAMPA","LAMPA","21","07","01"]
[null,"21 Puno","07 Lampa ","02 Cabanilla","21","07","02","Puno","Lampa ","Cabanilla","210702","PUNO","LAMPA","CABANILLA","21","07","02"]
[null,"21 Puno","07 Lampa ","03 Calapuja","21","07","03","Puno","Lampa ","Calapuja","210703","PUNO","LAMPA","CALAPUJA","21","07","03"]
[null,"21 Puno","07 Lampa ","04 Nicasio","21","07","04","Puno","Lampa ","Nicasio","210704","PUNO","LAMPA","NICASIO","21","07","04"]
[null,"21 Puno","07 Lampa ","05 Ocuviri","21","07","05","Puno","Lampa ","Ocuviri","210705","PUNO","LAMPA","OCUVIRI","21","07","05"]
[null,"21 Puno","07 Lampa ","06 Palca","21","07","06","Puno","Lampa ","Palca","210706","PUNO","LAMPA","PALCA","21","07","06"]
[null,"21 Puno","07 Lampa ","07 Paratia","21","07","07","Puno","Lampa ","Paratia","210707","PUNO","LAMPA","PARATIA","21","07","07"]
[null,"21 Puno","07 Lampa ","08 Pucara","21","07","08","Puno","Lampa ","Pucara","210708","PUNO","LAMPA","PUCARA","21","07","08"]
[null,"21 Puno","07 Lampa ","09 Santa Lucia","21","07","09","Puno","Lampa ","Santa Lucia","210709","PUNO","LAMPA","SANTA LUCIA","21","07","09"]
[null,"21 Puno","07 Lampa ","10 Vilavila","21","07","10","Puno","Lampa ","Vilavila","210710","PUNO","LAMPA","VILAVILA","21","07","10"]
[null,"21 Puno","08 Melgar ","01 Ayaviri","21","08","01","Puno","Melgar ","Ayaviri","210801","PUNO","MELGAR","AYAVIRI","21","08","01"]
[null,"21 Puno","08 Melgar ","02 Antauta","21","08","02","Puno","Melgar ","Antauta","210802","PUNO","MELGAR","ANTAUTA","21","08","02"]
[null,"21 Puno","08 Melgar ","03 Cupi","21","08","03","Puno","Melgar ","Cupi","210803","PUNO","MELGAR","CUPI","21","08","03"]
[null,"21 Puno","08 Melgar ","04 Llalli","21","08","04","Puno","Melgar ","Llalli","210804","PUNO","MELGAR","LLALLI","21","08","04"]
[null,"21 Puno","08 Melgar ","05 Macari","21","08","05","Puno","Melgar ","Macari","210805","PUNO","MELGAR","MACARI","21","08","05"]
[null,"21 Puno","08 Melgar ","06 Nuñoa","21","08","06","Puno","Melgar ","Nuñoa","210806","PUNO","MELGAR","NUÑOA","21","08","06"]
[null,"21 Puno","08 Melgar ","07 Orurillo","21","08","07","Puno","Melgar ","Orurillo","210807","PUNO","MELGAR","ORURILLO","21","08","07"]
[null,"21 Puno","08 Melgar ","08 Santa Rosa","21","08","08","Puno","Melgar ","Santa Rosa","210808","PUNO","MELGAR","SANTA ROSA","21","08","08"]
[null,"21 Puno","08 Melgar ","09 Umachiri","21","08","09","Puno","Melgar ","Umachiri","210809","PUNO","MELGAR","UMACHIRI","21","08","09"]
[null,"21 Puno","09 Moho ","01 Moho","21","09","01","Puno","Moho ","Moho","210901","PUNO","MOHO","MOHO","21","09","01"]
[null,"21 Puno","09 Moho ","02 Conima","21","09","02","Puno","Moho ","Conima","210902","PUNO","MOHO","CONIMA","21","09","02"]
[null,"21 Puno","09 Moho ","03 Huayrapata","21","09","03","Puno","Moho ","Huayrapata","210903","PUNO","MOHO","HUAYRAPATA","21","09","03"]
[null,"21 Puno","09 Moho ","04 Tilali","21","09","04","Puno","Moho ","Tilali","210904","PUNO","MOHO","TILALI","21","09","04"]
[null,"21 Puno","10 San Antonio de Putina ","01 Putina","21","10","01","Puno","San Antonio de Putina ","Putina","211001","PUNO","SAN ANTONIO DE PUTINA","PUTINA","21","10","01"]
[null,"21 Puno","10 San Antonio de Putina ","02 Ananea","21","10","02","Puno","San Antonio de Putina ","Ananea","211002","PUNO","SAN ANTONIO DE PUTINA","ANANEA","21","10","02"]
[null,"21 Puno","10 San Antonio de Putina ","03 Pedro Vilca Apaza","21","10","03","Puno","San Antonio de Putina ","Pedro Vilca Apaza","211003","PUNO","SAN ANTONIO DE PUTINA","PEDRO VILCA APAZA","21","10","03"]
[null,"21 Puno","10 San Antonio de Putina ","04 Quilcapuncu","21","10","04","Puno","San Antonio de Putina ","Quilcapuncu","211004","PUNO","SAN ANTONIO DE PUTINA","QUILCAPUNCU","21","10","04"]
[null,"21 Puno","10 San Antonio de Putina ","05 Sina","21","10","05","Puno","San Antonio de Putina ","Sina","211005","PUNO","SAN ANTONIO DE PUTINA","SINA","21","10","05"]
[null,"21 Puno","11 San Román ","01 Juliaca","21","11","01","Puno","San Román ","Juliaca","211101","PUNO","SAN ROMÁN","JULIACA","21","11","01"]
[null,"21 Puno","11 San Román ","02 Cabana","21","11","02","Puno","San Román ","Cabana","211102","PUNO","SAN ROMÁN","CABANA","21","11","02"]
[null,"21 Puno","11 San Román ","03 Cabanillas","21","11","03","Puno","San Román ","Cabanillas","211103","PUNO","SAN ROMÁN","CABANILLAS","21","11","03"]
[null,"21 Puno","11 San Román ","04 Caracoto","21","11","04","Puno","San Román ","Caracoto","211104","PUNO","SAN ROMÁN","CARACOTO","21","11","04"]
[null,"21 Puno","11 San Román ","05 San Miguel","21","11","05","Puno","San Román ","San Miguel","211105","PUNO","SAN ROMÁN","SAN MIGUEL","21","11","05"]
[null,"21 Puno","12 Sandia ","01 Sandia","21","12","01","Puno","Sandia ","Sandia","211201","PUNO","SANDIA","SANDIA","21","12","01"]
[null,"21 Puno","12 Sandia ","02 Cuyocuyo","21","12","02","Puno","Sandia ","Cuyocuyo","211202","PUNO","SANDIA","CUYOCUYO","21","12","02"]
[null,"21 Puno","12 Sandia ","03 Limbani","21","12","03","Puno","Sandia ","Limbani","211203","PUNO","SANDIA","LIMBANI","21","12","03"]
[null,"21 Puno","12 Sandia ","04 Patambuco","21","12","04","Puno","Sandia ","Patambuco","211204","PUNO","SANDIA","PATAMBUCO","21","12","04"]
[null,"21 Puno","12 Sandia ","05 Phara","21","12","05","Puno","Sandia ","Phara","211205","PUNO","SANDIA","PHARA","21","12","05"]
[null,"21 Puno","12 Sandia ","06 Quiaca","21","12","06","Puno","Sandia ","Quiaca","211206","PUNO","SANDIA","QUIACA","21","12","06"]
[null,"21 Puno","12 Sandia ","07 San Juan del Oro",{"$f":"+MID(B1732,1,2)","v":"21"},"12","07","Puno","Sandia ","San Juan del Oro",{"$f":"+CONCATENATE(E1732,F1732,G1732)","v":"211207"},"PUNO","SANDIA","SAN JUAN DEL ORO","21","12","07"]
[null,"21 Puno","12 Sandia ","08 Yanahuaya","21","12","08","Puno","Sandia ","Yanahuaya","211208","PUNO","SANDIA","YANAHUAYA","21","12","08"]
[null,"21 Puno","12 Sandia ","09 Alto Inambari","21","12","09","Puno","Sandia ","Alto Inambari","211209","PUNO","SANDIA","ALTO INAMBARI","21","12","09"]
[null,"21 Puno","12 Sandia ","10 San Pedro de Putina Punco","21","12","10","Puno","Sandia ","San Pedro de Putina Punco","211210","PUNO","SANDIA","SAN PEDRO DE PUTINA PUNCO","21","12","10"]
[null,"21 Puno","13 Yunguyo ","01 Yunguyo","21","13","01","Puno","Yunguyo ","Yunguyo","211301","PUNO","YUNGUYO","YUNGUYO","21","13","01"]
[null,"21 Puno","13 Yunguyo ","02 Anapia","21","13","02","Puno","Yunguyo ","Anapia","211302","PUNO","YUNGUYO","ANAPIA","21","13","02"]
[null,"21 Puno","13 Yunguyo ","03 Copani","21","13","03","Puno","Yunguyo ","Copani","211303","PUNO","YUNGUYO","COPANI","21","13","03"]
[null,"21 Puno","13 Yunguyo ","04 Cuturapi","21","13","04","Puno","Yunguyo ","Cuturapi","211304","PUNO","YUNGUYO","CUTURAPI","21","13","04"]
[null,"21 Puno","13 Yunguyo ","05 Ollaraya","21","13","05","Puno","Yunguyo ","Ollaraya","211305","PUNO","YUNGUYO","OLLARAYA","21","13","05"]
[null,"21 Puno","13 Yunguyo ","06 Tinicachi","21","13","06","Puno","Yunguyo ","Tinicachi","211306","PUNO","YUNGUYO","TINICACHI","21","13","06"]
[null,"21 Puno","13 Yunguyo ","07 Unicachi","21","13","07","Puno","Yunguyo ","Unicachi","211307","PUNO","YUNGUYO","UNICACHI","21","13","07"]
[null,"22 San Martín","01 Moyobamba ","01 Moyobamba","22","01","01","San Martín","Moyobamba ","Moyobamba","220101","SAN MARTÍN","MOYOBAMBA","MOYOBAMBA","22","01","01"]
[null,"22 San Martín","01 Moyobamba ","02 Calzada","22","01","02","San Martín","Moyobamba ","Calzada","220102","SAN MARTÍN","MOYOBAMBA","CALZADA","22","01","02"]
[null,"22 San Martín","01 Moyobamba ","03 Habana","22","01","03","San Martín","Moyobamba ","Habana","220103","SAN MARTÍN","MOYOBAMBA","HABANA","22","01","03"]
[null,"22 San Martín","01 Moyobamba ","04 Jepelacio","22","01","04","San Martín","Moyobamba ","Jepelacio","220104","SAN MARTÍN","MOYOBAMBA","JEPELACIO","22","01","04"]
[null,"22 San Martín","01 Moyobamba ","05 Soritor","22","01","05","San Martín","Moyobamba ","Soritor","220105","SAN MARTÍN","MOYOBAMBA","SORITOR","22","01","05"]
[null,"22 San Martín","01 Moyobamba ","06 Yantalo","22","01","06","San Martín","Moyobamba ","Yantalo","220106","SAN MARTÍN","MOYOBAMBA","YANTALO","22","01","06"]
[null,"22 San Martín","02 Bellavista ","01 Bellavista","22","02","01","San Martín","Bellavista ","Bellavista","220201","SAN MARTÍN","BELLAVISTA","BELLAVISTA","22","02","01"]
[null,"22 San Martín","02 Bellavista ","02 Alto Biavo","22","02","02","San Martín","Bellavista ","Alto Biavo","220202","SAN MARTÍN","BELLAVISTA","ALTO BIAVO","22","02","02"]
[null,"22 San Martín","02 Bellavista ","03 Bajo Biavo","22","02","03","San Martín","Bellavista ","Bajo Biavo","220203","SAN MARTÍN","BELLAVISTA","BAJO BIAVO","22","02","03"]
[null,"22 San Martín","02 Bellavista ","04 Huallaga","22","02","04","San Martín","Bellavista ","Huallaga","220204","SAN MARTÍN","BELLAVISTA","HUALLAGA","22","02","04"]
[null,"22 San Martín","02 Bellavista ","05 San Pablo","22","02","05","San Martín","Bellavista ","San Pablo","220205","SAN MARTÍN","BELLAVISTA","SAN PABLO","22","02","05"]
[null,"22 San Martín","02 Bellavista ","06 San Rafael","22","02","06","San Martín","Bellavista ","San Rafael","220206","SAN MARTÍN","BELLAVISTA","SAN RAFAEL","22","02","06"]
[null,"22 San Martín","03 El Dorado ","01 San José de Sisa","22","03","01","San Martín","El Dorado ","San José de Sisa","220301","SAN MARTÍN","EL DORADO","SAN JOSÉ DE SISA","22","03","01"]
[null,"22 San Martín","03 El Dorado ","02 Agua Blanca","22","03","02","San Martín","El Dorado ","Agua Blanca","220302","SAN MARTÍN","EL DORADO","AGUA BLANCA","22","03","02"]
[null,"22 San Martín","03 El Dorado ","03 San Martín","22","03","03","San Martín","El Dorado ","San Martín","220303","SAN MARTÍN","EL DORADO","SAN MARTÍN","22","03","03"]
[null,"22 San Martín","03 El Dorado ","04 Santa Rosa","22","03","04","San Martín","El Dorado ","Santa Rosa","220304","SAN MARTÍN","EL DORADO","SANTA ROSA","22","03","04"]
[null,"22 San Martín","03 El Dorado ","05 Shatoja","22","03","05","San Martín","El Dorado ","Shatoja","220305","SAN MARTÍN","EL DORADO","SHATOJA","22","03","05"]
[null,"22 San Martín","04 Huallaga ","01 Saposoa","22","04","01","San Martín","Huallaga ","Saposoa","220401","SAN MARTÍN","HUALLAGA","SAPOSOA","22","04","01"]
[null,"22 San Martín","04 Huallaga ","02 Alto Saposoa","22","04","02","San Martín","Huallaga ","Alto Saposoa","220402","SAN MARTÍN","HUALLAGA","ALTO SAPOSOA","22","04","02"]
[null,"22 San Martín","04 Huallaga ","03 El Eslabón","22","04","03","San Martín","Huallaga ","El Eslabón","220403","SAN MARTÍN","HUALLAGA","EL ESLABÓN","22","04","03"]
[null,"22 San Martín","04 Huallaga ","04 Piscoyacu","22","04","04","San Martín","Huallaga ","Piscoyacu","220404","SAN MARTÍN","HUALLAGA","PISCOYACU","22","04","04"]
[null,"22 San Martín","04 Huallaga ","05 Sacanche","22","04","05","San Martín","Huallaga ","Sacanche","220405","SAN MARTÍN","HUALLAGA","SACANCHE","22","04","05"]
[null,"22 San Martín","04 Huallaga ","06 Tingo de Saposoa","22","04","06","San Martín","Huallaga ","Tingo de Saposoa","220406","SAN MARTÍN","HUALLAGA","TINGO DE SAPOSOA","22","04","06"]
[null,"22 San Martín","05 Lamas ","01 Lamas","22","05","01","San Martín","Lamas ","Lamas","220501","SAN MARTÍN","LAMAS","LAMAS","22","05","01"]
[null,"22 San Martín","05 Lamas ","02 Alonso de Alvarado","22","05","02","San Martín","Lamas ","Alonso de Alvarado","220502","SAN MARTÍN","LAMAS","ALONSO DE ALVARADO","22","05","02"]
[null,"22 San Martín","05 Lamas ","03 Barranquita","22","05","03","San Martín","Lamas ","Barranquita","220503","SAN MARTÍN","LAMAS","BARRANQUITA","22","05","03"]
[null,"22 San Martín","05 Lamas ","04 Caynarachi","22","05","04","San Martín","Lamas ","Caynarachi","220504","SAN MARTÍN","LAMAS","CAYNARACHI","22","05","04"]
[null,"22 San Martín","05 Lamas ","05 Cuñumbuqui","22","05","05","San Martín","Lamas ","Cuñumbuqui","220505","SAN MARTÍN","LAMAS","CUÑUMBUQUI","22","05","05"]
[null,"22 San Martín","05 Lamas ","06 Pinto Recodo","22","05","06","San Martín","Lamas ","Pinto Recodo","220506","SAN MARTÍN","LAMAS","PINTO RECODO","22","05","06"]
[null,"22 San Martín","05 Lamas ","07 Rumisapa","22","05","07","San Martín","Lamas ","Rumisapa","220507","SAN MARTÍN","LAMAS","RUMISAPA","22","05","07"]
[null,"22 San Martín","05 Lamas ","08 San Roque de Cumbaza","22","05","08","San Martín","Lamas ","San Roque de Cumbaza","220508","SAN MARTÍN","LAMAS","SAN ROQUE DE CUMBAZA","22","05","08"]
[null,"22 San Martín","05 Lamas ","09 Shanao","22","05","09","San Martín","Lamas ","Shanao","220509","SAN MARTÍN","LAMAS","SHANAO","22","05","09"]
[null,"22 San Martín","05 Lamas ","10 Tabalosos","22","05","10","San Martín","Lamas ","Tabalosos","220510","SAN MARTÍN","LAMAS","TABALOSOS","22","05","10"]
[null,"22 San Martín","05 Lamas ","11 Zapatero","22","05","11","San Martín","Lamas ","Zapatero","220511","SAN MARTÍN","LAMAS","ZAPATERO","22","05","11"]
[null,"22 San Martín","06 Mariscal Cáceres ","01 Juanjuí","22","06","01","San Martín","Mariscal Cáceres ","Juanjuí","220601","SAN MARTÍN","MARISCAL CÁCERES","JUANJUÍ","22","06","01"]
[null,"22 San Martín","06 Mariscal Cáceres ","02 Campanilla","22","06","02","San Martín","Mariscal Cáceres ","Campanilla","220602","SAN MARTÍN","MARISCAL CÁCERES","CAMPANILLA","22","06","02"]
[null,"22 San Martín","06 Mariscal Cáceres ","03 Huicungo","22","06","03","San Martín","Mariscal Cáceres ","Huicungo","220603","SAN MARTÍN","MARISCAL CÁCERES","HUICUNGO","22","06","03"]
[null,"22 San Martín","06 Mariscal Cáceres ","04 Pachiza","22","06","04","San Martín","Mariscal Cáceres ","Pachiza","220604","SAN MARTÍN","MARISCAL CÁCERES","PACHIZA","22","06","04"]
[null,"22 San Martín","06 Mariscal Cáceres ","05 Pajarillo","22","06","05","San Martín","Mariscal Cáceres ","Pajarillo","220605","SAN MARTÍN","MARISCAL CÁCERES","PAJARILLO","22","06","05"]
[null,"22 San Martín","07 Picota ","01 Picota","22","07","01","San Martín","Picota ","Picota","220701","SAN MARTÍN","PICOTA","PICOTA","22","07","01"]
[null,"22 San Martín","07 Picota ","02 Buenos Aires","22","07","02","San Martín","Picota ","Buenos Aires","220702","SAN MARTÍN","PICOTA","BUENOS AIRES","22","07","02"]
[null,"22 San Martín","07 Picota ","03 Caspisapa","22","07","03","San Martín","Picota ","Caspisapa","220703","SAN MARTÍN","PICOTA","CASPISAPA","22","07","03"]
[null,"22 San Martín","07 Picota ","04 Pilluana","22","07","04","San Martín","Picota ","Pilluana","220704","SAN MARTÍN","PICOTA","PILLUANA","22","07","04"]
[null,"22 San Martín","07 Picota ","05 Pucacaca","22","07","05","San Martín","Picota ","Pucacaca","220705","SAN MARTÍN","PICOTA","PUCACACA","22","07","05"]
[null,"22 San Martín","07 Picota ","06 San Cristóbal","22","07","06","San Martín","Picota ","San Cristóbal","220706","SAN MARTÍN","PICOTA","SAN CRISTÓBAL","22","07","06"]
[null,"22 San Martín","07 Picota ","07 San Hilarión","22","07","07","San Martín","Picota ","San Hilarión","220707","SAN MARTÍN","PICOTA","SAN HILARIÓN","22","07","07"]
[null,"22 San Martín","07 Picota ","08 Shamboyacu","22","07","08","San Martín","Picota ","Shamboyacu","220708","SAN MARTÍN","PICOTA","SHAMBOYACU","22","07","08"]
[null,"22 San Martín","07 Picota ","09 Tingo de Ponasa","22","07","09","San Martín","Picota ","Tingo de Ponasa","220709","SAN MARTÍN","PICOTA","TINGO DE PONASA","22","07","09"]
[null,"22 San Martín","07 Picota ","10 Tres Unidos","22","07","10","San Martín","Picota ","Tres Unidos","220710","SAN MARTÍN","PICOTA","TRES UNIDOS","22","07","10"]
[null,"22 San Martín","08 Rioja ","01 Rioja","22","08","01","San Martín","Rioja ","Rioja","220801","SAN MARTÍN","RIOJA","RIOJA","22","08","01"]
[null,"22 San Martín","08 Rioja ","02 Awajun","22","08","02","San Martín","Rioja ","Awajun","220802","SAN MARTÍN","RIOJA","AWAJUN","22","08","02"]
[null,"22 San Martín","08 Rioja ","03 Elías Soplin Vargas","22","08","03","San Martín","Rioja ","Elías Soplin Vargas","220803","SAN MARTÍN","RIOJA","ELÍAS SOPLIN VARGAS","22","08","03"]
[null,"22 San Martín","08 Rioja ","04 Nueva Cajamarca","22","08","04","San Martín","Rioja ","Nueva Cajamarca","220804","SAN MARTÍN","RIOJA","NUEVA CAJAMARCA","22","08","04"]
[null,"22 San Martín","08 Rioja ","05 Pardo Miguel",{"$f":"+MID(B1796,1,2)","v":"22"},"08","05","San Martín","Rioja ","Pardo Miguel",{"$f":"+CONCATENATE(E1796,F1796,G1796)","v":"220805"},"SAN MARTÍN","RIOJA","PARDO MIGUEL","22","08","05"]
[null,"22 San Martín","08 Rioja ","06 Posic","22","08","06","San Martín","Rioja ","Posic","220806","SAN MARTÍN","RIOJA","POSIC","22","08","06"]
[null,"22 San Martín","08 Rioja ","07 San Fernando","22","08","07","San Martín","Rioja ","San Fernando","220807","SAN MARTÍN","RIOJA","SAN FERNANDO","22","08","07"]
[null,"22 San Martín","08 Rioja ","08 Yorongos","22","08","08","San Martín","Rioja ","Yorongos","220808","SAN MARTÍN","RIOJA","YORONGOS","22","08","08"]
[null,"22 San Martín","08 Rioja ","09 Yuracyacu","22","08","09","San Martín","Rioja ","Yuracyacu","220809","SAN MARTÍN","RIOJA","YURACYACU","22","08","09"]
[null,"22 San Martín","09 San Martín ","01 Tarapoto","22","09","01","San Martín","San Martín ","Tarapoto","220901","SAN MARTÍN","SAN MARTÍN","TARAPOTO","22","09","01"]
[null,"22 San Martín","09 San Martín ","02 Alberto Leveau","22","09","02","San Martín","San Martín ","Alberto Leveau","220902","SAN MARTÍN","SAN MARTÍN","ALBERTO LEVEAU","22","09","02"]
[null,"22 San Martín","09 San Martín ","03 Cacatachi","22","09","03","San Martín","San Martín ","Cacatachi","220903","SAN MARTÍN","SAN MARTÍN","CACATACHI","22","09","03"]
[null,"22 San Martín","09 San Martín ","04 Chazuta","22","09","04","San Martín","San Martín ","Chazuta","220904","SAN MARTÍN","SAN MARTÍN","CHAZUTA","22","09","04"]
[null,"22 San Martín","09 San Martín ","05 Chipurana","22","09","05","San Martín","San Martín ","Chipurana","220905","SAN MARTÍN","SAN MARTÍN","CHIPURANA","22","09","05"]
[null,"22 San Martín","09 San Martín ","06 El Porvenir","22","09","06","San Martín","San Martín ","El Porvenir","220906","SAN MARTÍN","SAN MARTÍN","EL PORVENIR","22","09","06"]
[null,"22 San Martín","09 San Martín ","07 Huimbayoc","22","09","07","San Martín","San Martín ","Huimbayoc","220907","SAN MARTÍN","SAN MARTÍN","HUIMBAYOC","22","09","07"]
[null,"22 San Martín","09 San Martín ","08 Juan Guerra","22","09","08","San Martín","San Martín ","Juan Guerra","220908","SAN MARTÍN","SAN MARTÍN","JUAN GUERRA","22","09","08"]
[null,"22 San Martín","09 San Martín ","09 La Banda de Shilcayo","22","09","09","San Martín","San Martín ","La Banda de Shilcayo","220909","SAN MARTÍN","SAN MARTÍN","LA BANDA DE SHILCAYO","22","09","09"]
[null,"22 San Martín","09 San Martín ","10 Morales","22","09","10","San Martín","San Martín ","Morales","220910","SAN MARTÍN","SAN MARTÍN","MORALES","22","09","10"]
[null,"22 San Martín","09 San Martín ","11 Papaplaya","22","09","11","San Martín","San Martín ","Papaplaya","220911","SAN MARTÍN","SAN MARTÍN","PAPAPLAYA","22","09","11"]
[null,"22 San Martín","09 San Martín ","12 San Antonio","22","09","12","San Martín","San Martín ","San Antonio","220912","SAN MARTÍN","SAN MARTÍN","SAN ANTONIO","22","09","12"]
[null,"22 San Martín","09 San Martín ","13 Sauce","22","09","13","San Martín","San Martín ","Sauce","220913","SAN MARTÍN","SAN MARTÍN","SAUCE","22","09","13"]
[null,"22 San Martín","09 San Martín ","14 Shapaja","22","09","14","San Martín","San Martín ","Shapaja","220914","SAN MARTÍN","SAN MARTÍN","SHAPAJA","22","09","14"]
[null,"22 San Martín","10 Tocache ","01 Tocache","22","10","01","San Martín","Tocache ","Tocache","221001","SAN MARTÍN","TOCACHE","TOCACHE","22","10","01"]
[null,"22 San Martín","10 Tocache ","02 Nuevo Progreso","22","10","02","San Martín","Tocache ","Nuevo Progreso","221002","SAN MARTÍN","TOCACHE","NUEVO PROGRESO","22","10","02"]
[null,"22 San Martín","10 Tocache ","03 Polvora","22","10","03","San Martín","Tocache ","Polvora","221003","SAN MARTÍN","TOCACHE","POLVORA","22","10","03"]
[null,"22 San Martín","10 Tocache ","04 Shunte","22","10","04","San Martín","Tocache ","Shunte","221004","SAN MARTÍN","TOCACHE","SHUNTE","22","10","04"]
[null,"22 San Martín","10 Tocache ","05 Uchiza","22","10","05","San Martín","Tocache ","Uchiza","221005","SAN MARTÍN","TOCACHE","UCHIZA","22","10","05"]
[null,"23 Tacna","01 Tacna ","01 Tacna","23","01","01","Tacna","Tacna ","Tacna","230101","TACNA","TACNA","TACNA","23","01","01"]
[null,"23 Tacna","01 Tacna ","02 Alto de la Alianza","23","01","02","Tacna","Tacna ","Alto de la Alianza","230102","TACNA","TACNA","ALTO DE LA ALIANZA","23","01","02"]
[null,"23 Tacna","01 Tacna ","03 Calana","23","01","03","Tacna","Tacna ","Calana","230103","TACNA","TACNA","CALANA","23","01","03"]
[null,"23 Tacna","01 Tacna ","04 Ciudad Nueva","23","01","04","Tacna","Tacna ","Ciudad Nueva","230104","TACNA","TACNA","CIUDAD NUEVA","23","01","04"]
[null,"23 Tacna","01 Tacna ","05 Inclan","23","01","05","Tacna","Tacna ","Inclan","230105","TACNA","TACNA","INCLAN","23","01","05"]
[null,"23 Tacna","01 Tacna ","06 Pachia","23","01","06","Tacna","Tacna ","Pachia","230106","TACNA","TACNA","PACHIA","23","01","06"]
[null,"23 Tacna","01 Tacna ","07 Palca","23","01","07","Tacna","Tacna ","Palca","230107","TACNA","TACNA","PALCA","23","01","07"]
[null,"23 Tacna","01 Tacna ","08 Pocollay","23","01","08","Tacna","Tacna ","Pocollay","230108","TACNA","TACNA","POCOLLAY","23","01","08"]
[null,"23 Tacna","01 Tacna ","09 Sama","23","01","09","Tacna","Tacna ","Sama","230109","TACNA","TACNA","SAMA","23","01","09"]
[null,"23 Tacna","01 Tacna ","10 Coronel Gregorio Albarracín Lanchipa","23","01","10","Tacna","Tacna ","Coronel Gregorio Albarracín La","230110","TACNA","TACNA","CORONEL GREGORIO ALBARRACÍN LA","23","01","10"]
[null,"23 Tacna","01 Tacna ","11 La Yarada los Palos","23","01","11","Tacna","Tacna ","La Yarada los Palos","230111","TACNA","TACNA","LA YARADA LOS PALOS","23","01","11"]
[null,"23 Tacna","02 Candarave ","01 Candarave","23","02","01","Tacna","Candarave ","Candarave","230201","TACNA","CANDARAVE","CANDARAVE","23","02","01"]
[null,"23 Tacna","02 Candarave ","02 Cairani","23","02","02","Tacna","Candarave ","Cairani","230202","TACNA","CANDARAVE","CAIRANI","23","02","02"]
[null,"23 Tacna","02 Candarave ","03 Camilaca","23","02","03","Tacna","Candarave ","Camilaca","230203","TACNA","CANDARAVE","CAMILACA","23","02","03"]
[null,"23 Tacna","02 Candarave ","04 Curibaya","23","02","04","Tacna","Candarave ","Curibaya","230204","TACNA","CANDARAVE","CURIBAYA","23","02","04"]
[null,"23 Tacna","02 Candarave ","05 Huanuara","23","02","05","Tacna","Candarave ","Huanuara","230205","TACNA","CANDARAVE","HUANUARA","23","02","05"]
[null,"23 Tacna","02 Candarave ","06 Quilahuani","23","02","06","Tacna","Candarave ","Quilahuani","230206","TACNA","CANDARAVE","QUILAHUANI","23","02","06"]
[null,"23 Tacna","03 Jorge Basadre ","01 Locumba","23","03","01","Tacna","Jorge Basadre ","Locumba","230301","TACNA","JORGE BASADRE","LOCUMBA","23","03","01"]
[null,"23 Tacna","03 Jorge Basadre ","02 Ilabaya","23","03","02","Tacna","Jorge Basadre ","Ilabaya","230302","TACNA","JORGE BASADRE","ILABAYA","23","03","02"]
[null,"23 Tacna","03 Jorge Basadre ","03 Ite","23","03","03","Tacna","Jorge Basadre ","Ite","230303","TACNA","JORGE BASADRE","ITE","23","03","03"]
[null,"23 Tacna","04 Tarata ","01 Tarata","23","04","01","Tacna","Tarata ","Tarata","230401","TACNA","TARATA","TARATA","23","04","01"]
[null,"23 Tacna","04 Tarata ","02 Héroes Albarracín","23","04","02","Tacna","Tarata ","Héroes Albarracín","230402","TACNA","TARATA","HÉROES ALBARRACÍN","23","04","02"]
[null,"23 Tacna","04 Tarata ","03 Estique","23","04","03","Tacna","Tarata ","Estique","230403","TACNA","TARATA","ESTIQUE","23","04","03"]
[null,"23 Tacna","04 Tarata ","04 Estique-Pampa","23","04","04","Tacna","Tarata ","Estique-Pampa","230404","TACNA","TARATA","ESTIQUE-PAMPA","23","04","04"]
[null,"23 Tacna","04 Tarata ","05 Sitajara","23","04","05","Tacna","Tarata ","Sitajara","230405","TACNA","TARATA","SITAJARA","23","04","05"]
[null,"23 Tacna","04 Tarata ","06 Susapaya","23","04","06","Tacna","Tarata ","Susapaya","230406","TACNA","TARATA","SUSAPAYA","23","04","06"]
[null,"23 Tacna","04 Tarata ","07 Tarucachi","23","04","07","Tacna","Tarata ","Tarucachi","230407","TACNA","TARATA","TARUCACHI","23","04","07"]
[null,"23 Tacna","04 Tarata ","08 Ticaco","23","04","08","Tacna","Tarata ","Ticaco","230408","TACNA","TARATA","TICACO","23","04","08"]
[null,"24 Tumbes","01 Tumbes ","01 Tumbes","24","01","01","Tumbes","Tumbes ","Tumbes","240101","TUMBES","TUMBES","TUMBES","24","01","01"]
[null,"24 Tumbes","01 Tumbes ","02 Corrales","24","01","02","Tumbes","Tumbes ","Corrales","240102","TUMBES","TUMBES","CORRALES","24","01","02"]
[null,"24 Tumbes","01 Tumbes ","03 La Cruz","24","01","03","Tumbes","Tumbes ","La Cruz","240103","TUMBES","TUMBES","LA CRUZ","24","01","03"]
[null,"24 Tumbes","01 Tumbes ","04 Pampas de Hospital","24","01","04","Tumbes","Tumbes ","Pampas de Hospital","240104","TUMBES","TUMBES","PAMPAS DE HOSPITAL","24","01","04"]
[null,"24 Tumbes","01 Tumbes ","05 San Jacinto","24","01","05","Tumbes","Tumbes ","San Jacinto","240105","TUMBES","TUMBES","SAN JACINTO","24","01","05"]
[null,"24 Tumbes","01 Tumbes ","06 San Juan de la Virgen","24","01","06","Tumbes","Tumbes ","San Juan de la Virgen","240106","TUMBES","TUMBES","SAN JUAN DE LA VIRGEN","24","01","06"]
[null,"24 Tumbes","02 Contralmirante Villar ","01 Zorritos","24","02","01","Tumbes","Contralmirante Villar ","Zorritos","240201","TUMBES","CONTRALMIRANTE VILLAR","ZORRITOS","24","02","01"]
[null,"24 Tumbes","02 Contralmirante Villar ","02 Casitas","24","02","02","Tumbes","Contralmirante Villar ","Casitas","240202","TUMBES","CONTRALMIRANTE VILLAR","CASITAS","24","02","02"]
[null,"24 Tumbes","02 Contralmirante Villar ","03 Canoas de Punta Sal","24","02","03","Tumbes","Contralmirante Villar ","Canoas de Punta Sal","240203","TUMBES","CONTRALMIRANTE VILLAR","CANOAS DE PUNTA SAL","24","02","03"]
[null,"24 Tumbes","03 Zarumilla ","01 Zarumilla","24","03","01","Tumbes","Zarumilla ","Zarumilla","240301","TUMBES","ZARUMILLA","ZARUMILLA","24","03","01"]
[null,"24 Tumbes","03 Zarumilla ","02 Aguas Verdes","24","03","02","Tumbes","Zarumilla ","Aguas Verdes","240302","TUMBES","ZARUMILLA","AGUAS VERDES","24","03","02"]
[null,"24 Tumbes","03 Zarumilla ","03 Matapalo","24","03","03","Tumbes","Zarumilla ","Matapalo","240303","TUMBES","ZARUMILLA","MATAPALO","24","03","03"]
[null,"24 Tumbes","03 Zarumilla ","04 Papayal",{"$f":"+MID(B1860,1,2)","v":"24"},"03","04","Tumbes","Zarumilla ","Papayal",{"$f":"+CONCATENATE(E1860,F1860,G1860)","v":"240304"},"TUMBES","ZARUMILLA","PAPAYAL","24","03","04"]
[null,"25 Ucayali","01 Coronel Portillo ","01 Calleria","25","01","01","Ucayali","Coronel Portillo ","Calleria","250101","UCAYALI","CORONEL PORTILLO","CALLERIA","25","01","01"]
[null,"25 Ucayali","01 Coronel Portillo ","02 Campoverde","25","01","02","Ucayali","Coronel Portillo ","Campoverde","250102","UCAYALI","CORONEL PORTILLO","CAMPOVERDE","25","01","02"]
[null,"25 Ucayali","01 Coronel Portillo ","03 Iparia","25","01","03","Ucayali","Coronel Portillo ","Iparia","250103","UCAYALI","CORONEL PORTILLO","IPARIA","25","01","03"]
[null,"25 Ucayali","01 Coronel Portillo ","04 Masisea","25","01","04","Ucayali","Coronel Portillo ","Masisea","250104","UCAYALI","CORONEL PORTILLO","MASISEA","25","01","04"]
[null,"25 Ucayali","01 Coronel Portillo ","05 Yarinacocha","25","01","05","Ucayali","Coronel Portillo ","Yarinacocha","250105","UCAYALI","CORONEL PORTILLO","YARINACOCHA","25","01","05"]
[null,"25 Ucayali","01 Coronel Portillo ","06 Nueva Requena","25","01","06","Ucayali","Coronel Portillo ","Nueva Requena","250106","UCAYALI","CORONEL PORTILLO","NUEVA REQUENA","25","01","06"]
[null,"25 Ucayali","01 Coronel Portillo ","07 Manantay","25","01","07","Ucayali","Coronel Portillo ","Manantay","250107","UCAYALI","CORONEL PORTILLO","MANANTAY","25","01","07"]
[null,"25 Ucayali","02 Atalaya ","01 Raymondi","25","02","01","Ucayali","Atalaya ","Raymondi","250201","UCAYALI","ATALAYA","RAYMONDI","25","02","01"]
[null,"25 Ucayali","02 Atalaya ","02 Sepahua","25","02","02","Ucayali","Atalaya ","Sepahua","250202","UCAYALI","ATALAYA","SEPAHUA","25","02","02"]
[null,"25 Ucayali","02 Atalaya ","03 Tahuania","25","02","03","Ucayali","Atalaya ","Tahuania","250203","UCAYALI","ATALAYA","TAHUANIA","25","02","03"]
[null,"25 Ucayali","02 Atalaya ","04 Yurua","25","02","04","Ucayali","Atalaya ","Yurua","250204","UCAYALI","ATALAYA","YURUA","25","02","04"]
[null,"25 Ucayali","03 Padre Abad ","01 Padre Abad","25","03","01","Ucayali","Padre Abad ","Padre Abad","250301","UCAYALI","PADRE ABAD","PADRE ABAD","25","03","01"]
[null,"25 Ucayali","03 Padre Abad ","02 Irazola","25","03","02","Ucayali","Padre Abad ","Irazola","250302","UCAYALI","PADRE ABAD","IRAZOLA","25","03","02"]
[null,"25 Ucayali","03 Padre Abad ","03 Curimana","25","03","03","Ucayali","Padre Abad ","Curimana","250303","UCAYALI","PADRE ABAD","CURIMANA","25","03","03"]
[null,"25 Ucayali","03 Padre Abad ","04 Neshuya","25","03","04","Ucayali","Padre Abad ","Neshuya","250304","UCAYALI","PADRE ABAD","NESHUYA","25","03","04"]
[null,"25 Ucayali","03 Padre Abad ","05 Alexander Von Humboldt","25","03","05","Ucayali","Padre Abad ","Alexander Von Humboldt","250305","UCAYALI","PADRE ABAD","ALEXANDER VON HUMBOLDT","25","03","05"]
[null,"25 Ucayali","04 Purús","01 Purus","25","04","01","Ucayali","Purús","Purus","250401","UCAYALI","PURÚS","PURUS","25","04","01"]

{"sheet":"Afiliación débito","index":36,"n_rows":94,"n_cols":41,"rows_kept":94,"cut":false,"hidden":true,"merged":[[49,26,49,38],[13,26,13,28],[23,26,23,38],[34,2,34,3],[34,5,34,8],[43,2,45,37],[16,35,16,37],[14,5,14,38],[93,2,111,37],[89,2,91,37],[92,3,92,9],[60,2,60,3],[60,5,60,8],[76,2,77,37],[79,2,80,37],[82,2,84,37],[86,2,87,37]]}
[null,null,null,null,null,null,null,null,null,null,null,null,null,null,null,null,null,null,null,null,null,null,null,null,null,null,null,null,null,null,null,null,null,null,null,null,null,null,null,null,"Ir a Panel"]
[]
[]
[]
[]
[]
[]
[]
[]
[]
[]
[]
[]
[null,null,"Modalidad de Pago"]
[null,null,"Contratante"]
[]
[null,null,"Tipo de documento",null,null,null,null,"x",null,null,null,"Número",null,null,null,null,null,null,null,null,null,null,null,null,null,"Fecha",null,"15","12","20",null,"Importe máximo",null,null,null,200]
[null,null,null,null,null,null,null,null,null,null,null,null,null,null,null,null,null,null,null,null,null,null,null,null,null,null,null,"dd/","mm/","aa"]
[]
[null,null,"Producto: Seguro de Hogar"]
[]
[null,null,"Formato de pago del depósito inicial (*)"]
[]
[null,null,"A) TARJETA DE CRÉDITO"]
[]
[null,null,"Entidad",null,null,null,null,null,null,null,null,"VISA",null,null,null,null,null,"MASTERCARD",null,null,null,null,null,null,null,"AMEX"]
[]
[null,null,"Número de tarjeta"]
[]
[]
[]
[null,null,"Fecha de Vencimiento"]
[]
[null,null,null,null,"/",null,null,null,null,null,null,null,null,"Importe",null,null,null,null,null,null,"."]
[null,null,"mes",null,null,"año"]
[]
[null,null,"B) ABONO EN EFECTIVO EN LA CUENTA DE PACÍFICO SEGUROS"]
[null,null,"(En las cuentas que a continuación se indican solo deberá abonarse el monto del depósito inicial)"]
[]
[]
[]
[null,null,"Autorización de débito automático para cobranzas futuras"]
[]
[null,null,"Como Titular de la cuenta bancaria y/o tarjeta de crédito o débito indicada en el presente formato por el presente autorizo a Pacífico Seguros, con RUC 20332970411, sin requerir de visto ni confirmación posterior, a realizar los cargos automáticos de las primas que resulten de la contratación de la(s) póliza(s) solicitada(s) en la cuenta bancaria y/o tarjeta de crédito o débito indicada en la solicitud. La presente autorización, para la realización de los cargos automáticos de las primas, se mantendrá vigente y se podrán seguir realizando dichos cobros/cargos, incluso en los casos en que la póliza y/o certificado de seguros, según corresponda, haya sido resuelta o se haya extinguido por falta de pago de la prima, y podrá seguir utilizándose como medio de pago válido de las primas que se encuentren pendientes de pago y/o cobro, por las coberturas otorgadas antes de la fecha de resolución o extinción. Asimismo, ante pérdida, robo o renovación de la tarjeta de crédito/débito, se extiende la presente autorización a la nueva tarjeta emitida por el Banco, en caso éste lo notifique a Pacífico Seguros. Si no se efectúa dicha comunicación, Pacífico Seguros no será responsable por la falta de cargo de la(s) prima(s), pudiendo quedar suspendida(s) la(s) cobertura(s) de/los seguro(s), siguiendo el procedimiento establecido en las Condiciones Generales."]
[]
[]
[]
[null,null,null,null,null,null,null,null,null,null,null,"Acepto",null,null,null,null,null,"No acepto"]
[]
[null,null,"A) TARJETA DE CRÉDITO"]
[]
[null,null,"Entidad",null,null,null,null,null,null,null,null,"VISA",null,null,null,null,null,"MASTERCARD",null,null,null,null,null,null,null,"AMEX"]
[]
[null,null,"Número de tarjeta"]
[]
[]
[]
[null,null,"Fecha de Vencimiento"]
[]
[null,null,null,null,"/",null,null,null,null,null,null,null,null,"Importe",null,null,null,null,null,null,"."]
[null,null,"mes",null,null,"año"]
[]
[null,null,"Nota: Para las tarjetas Ripley Visa, se debe marcar VISA. Para las tarjetas Ripley Mastercard, se debe marcar Mastercard."]
[]
[null,null,"B) CUENTA BANCARIA"]
[]
[null,null,"N° de Cuenta",null,null,null,null,null,null,null,"D","C"]
[null,null,null,null,null,null,null,null,null,null,null,null,null,null,null,null,null,null,null,null,null,null,null,null,"Moneda:",null,null,"Soles",null,null,null,null,"Dólares"]
[null,null,null,null,null,null,null,null,null,null,9,10,null,12,13,14]
[]
[null,null,"BCP Cta. Cte. de Ahorros (14)",null,null,null,null,null,null,null,null,null,"Interbank Cta. Corriente (13)",null,null,null,null,null,null,null,null,null,null,null,"Scotiabank Cta. Ahorros (12)"]
[]
[null,null,"BCP Cta. Corriente (13)",null,null,null,null,null,null,null,null,null,"Interbank Cta. De Ahorros (13)",null,null,null,null,null,null,null,null,null,null,null,"Continental Cta. Corriente Nuevo (20)"]
[]
[null,null,"BCP Cta. Maestro (13)",null,null,null,null,null,null,null,null,null,"Scotiabank Cta. Corriente (12)",null,null,null,null,null,null,null,null,null,null,null,"Continental Cta. Ahorro Nuevo (20)"]
[]
[null,null,"Nota: En caso de haber elegido una Cuenta Bancaria, favor llenar en “N° de Cuenta” hasta el número indicado en el paréntesis correspondiente. Para cuentas del Continental, los digitos de control van en los casilleros 9 y 10."]
[]
[]
[null,null,"LA ACEPTACIÓN DEL CONTRATANTE AUTORIZA A PACÍFICO SEGUROS CARGARLE EN SU TARJETA DE CRÉDITO O CUENTA, DE ESTAR ÉSTAS VENCIDAS HASTA 3 CUOTAS."]
[]
[]
[null,null,"(*) El depósito inicial será imputado a la(s) prima(s) de seguro en caso se apruebe(n) su(s) solicitud(es) de seguro. En caso de rechazo, la Compañía reembolsará al Solicitante el importe total del depósito inicial en la Cuenta Bancaria declarada para el Débito Automático para Cobranzas Futuras o extornará a la Tarjeta de Crédito de la cual se realizó el cargo del depósito inicial."]
[]
[]
[]
[null,null,"PACÍFICO SEGUROS NO AUTORIZA A SU PERSONAL A RECIBIR SUMA ALGUNA DE DINERO EN FORMA PERSONAL. En este sentido, no se hace responsable por cualquier monto entregado al asesor o cualquier funcionario."]
[]
[]
[null,null,"EL CARGO EN TARJETA DE CRÉDITO SE EFECTUARÁ en moneda nacional de acuerdo al tipo de cambio del día de operación. Pacífico Seguros emitirá Facturas o boletas de venta. VISANET y Mastercard quedan excluidas de toda responsabilidad por la continuidad, cantidad y calidad de los bienes y/o servicios que Pacíficos Seguros se obliga a brindar al Usuario."]
[]
[]
[]
[null,null,"El Contratante declara conocer que ESTÁ PROHIBIDO BRINDAR EL CÓDIGO DE SEGURIDAD (CVV) O COPIA DEL REVERSO DE SU TARJETA y reconoce que Pacífico Seguros no será responsable en caso haga caso omiso de esta prohibición. Si el número de tarjeta y el código de seguridad aparecen en la misma cara de la tarjeta, el Titular deberá tapar dicha información. PACÍFICO SEGUROS NUNCA SOLICITARÁ EL CÓDIGO DE SEGURIDAD DE SU TARJETA. Mediante la suscripción del presente documento, el Contratante autoriza a Pacífico Seguros a cargarle en su tarjeta de crédito o cuenta bancaria señalada, en un lapso de 30 días, el importe de hasta 3 cuotas de la prima pactada, en caso de encontrarse vencidas las mismas. El débito automático procederá en la medida en que la cuenta disponga de fondos líquidos disponibles para efectuar la totalidad del abono. Se deja expresa constancia que el Contratante podrá solicitar la suspensión del débito automático por cualquier medio de comunicación pactado con Pacífico Seguros, o también a través de una comunicación escrita dirigida a la Entidad Financiera emisora de la cuenta o tarjeta de crédito. Pacífico Seguros no autoriza a su personal a recibir suma alguna de dinero por concepto de prima seguro en forma personal. En ese sentido, Pacífico Seguros no asume responsabilidad alguna por cualquier monto que el cliente decida entregar al asesor o a cualquier otro funcionario a pesar de conocer esta prohibición. El cargo en tarjetas de crédito o cuenta bancaria se realizará en la misma moneda de la(s) póliza(s) contratada(s). Las tarjetas de crédito o débito emitidas fuera del país, están sujetas a un recargo por parte de la entidad emisora. La aceptación de la presente solicitud está sujeta a verificación de firmas y datos. Esta autorización será válida para la póliza vigente y para futuras renovaciones. (*) El depósito inicial será imputado a la(s) prima(s) de seguro en caso se apruebe(n) su(s) solicitud(es) de seguro. En caso de rechazo, la Compañía reembolsará al Solicitante el importe total del depósito inicial en la cuenta bancaria declarada para el débito automático para cobranzas futuras o extornará a la tarjeta de crédito de la cual se realizó el cargo del depósito inicial. Pacífico Seguros emitirá facturas o boletas de venta. VISANET y Mastercard quedan excluidas de toda responsabilidad por la continuidad, cantidad y calidad de los bienes y/o servicios que Pacífico Seguros se obliga a brindar al Usuario."]